{"text_format":"3","workbook":"xlsx","n_sheets":15,"sheets":["Welcome","Company_Information","Lists","Regulated_Operation_Limits","Deviation_Limits","Description_of_Changes","Certification","HAP_ID","CMS_Info","Summary_Report_Limit","Summary_Report_CPMS","CMS_Detail","Limits_Detail","Revisions","Worksheet Map"],"not_rendered":{"images":1,"macros":1,"defined_names":5},"read":"whole","date_system":"1900"}

{"sheet":"Welcome","index":0,"n_rows":16,"n_cols":2,"rows_kept":16}
["DO NOT REMOVE OR EDIT INFORMATION IN ROWS 1 THROUGH 5\nFOR INTERNAL USE ONLY"]
["Template Name","63.5765(d) Semiannual Compliance Report (Spreadsheet Template)"]
["CitationID","63.5765(d)"]
["Template Version","ICR Draft"]
["Last Updated Date",{"v":45601,"d":"4560100.00%"}]
["Blank","OMB No.: 2060-0546 Form 5900-717"]
[null,"For further Paperwork Reduction Act information see: \nhttps://www.epa.gov/electronic-reporting-air-emissions/paperwork-reduction-act-pra-cedri-and-ert"]
["Blank","40 CFR Part 63, Subpart VVVV National Emission Standards for Hazardous Air Pollutants: Boat Manufacturing - §63.5765(d) Semiannual Compliance Report "]
[null,"Instructions for Spreadsheet Template\n\nPurpose:\nThis spreadsheet template was designed by the U.S. EPA to facilitate Semiannual Compliance reporting for facilities subject under the 40 CFR part 63, subpart VVVV National Emission Standard for Hazardous Air Pollutants: Boat Manufacturing.  \n"]
[null,"Electronic reporting:\nElectronic submission of Semiannual Compliance Reports through the EPA's Compliance and Emissions Data Reporting Interface (CEDRI) is required under §63.5765(g). CEDRI is accessed through the EPA's Central Data Exchange (https://cdx.epa.gov).\n"]
["Blank","The CEDRI spreadsheet template upload feature allows you to submit data in a single report for a single company or multiple companies, as well as multiple sites, using this EPA provided Excel workbook.  Data for each company must be entered into the worksheet labeled \"Company Information\" in this Excel workbook.  Each row in the \"Company Information\" worksheet includes the data for a single company. The Company Record No. will be used to match the information on each tab to the appropriate company. \n\nFor each facility record found in the \"Company Information\" worksheet, you may reference a single file attachment that includes additional information. "]
[null,"IMPORTANT: The spreadsheet must be uploaded into CEDRI as a single ZIP file, which must include this Excel workbook and any related attachments that were referenced in the workbook (i.e., additional information file found in the \"Company Information\" worksheet).\n\nNote: If you are uploading file attachments for your report, the uploaded files may be in any format (e.g., zip, docx, PDF). If you would like to include an Excel file(s) as an attachment, you must first zip the excel file(s) into a separate ZIP file to the master ZIP file that will be uploaded into CEDRI.\n"]
[null,"Once all data have been entered in the worksheet, combine this Excel workbook and all attachment files (including any ZIP file containing separate excel file(s), if applicable) into a single ZIP file for upload to CEDRI.\n\nPlease ensure your report includes all of the required data elements found in the listed citations below for this spreadsheet upload submission."]
[null,"Do not submit information you claim as confidential business information (CBI) to EPA via CEDRI. EPA will make all the information submitted through this form via CEDRI available to the public without further notice to you. Anything submitted using CEDRI cannot later be claimed to be CBI. Furthermore, under CAA section 114(c) emissions data is not entitled to confidential treatment and requires EPA to make emissions data available to the public. Thus, emissions data will not be protected as CBI and will be made publicly available."]
[null,"Do not submit information you claim as confidential business information (CBI) to EPA via CEDRI. EPA will make all the information submitted through CEDRI available to the public without further notice to you. Anything submitted using CEDRI cannot later be claimed to be CBI. Furthermore, under CAA section 114(c) emissions data is not entitled to confidential treatment and requires EPA to make emissions data available to the public. Thus, emissions data will not be protected as CBI and will be made publicly available.\n\nAlthough we do not expect persons to assert a claim of CBI, if persons wish to assert a CBI claim, you must submit the report via CEDRI with the CBI omitted and mail a complete report, including any information claimed to be CBI, to EPA on a compact disc, flash drive, or other commonly used electronic storage media via U.S. postal service. You must mark the outside of the digital storage media as CBI and then identify electronically within the digital storage media the specific information that is claimed as CBI. Mail the media to the address in the referencing federal regulation. If no address is specified, mail the media to:\n\nU.S. EPA/OAQPS/CORE CBI Office Attention: Group Leader,\nMeasurement Policy Group MD C404-02\n4930 Old Page Rd\nDurham, North Carolina 27703"]
["Blank","Template Navigation and Tabs to Complete:\nGray Tabs:  The gray tab (Company_Information) contain general information that is likely to be unchanged from report to report.  After completing the gray tab, the workbook may be saved as a site specific template to use in subsequent reports to limit subsequent data entry.  \n\nGreen Tabs:  Green tabs (Description_of_Changes, Regulated_Operation Limits, Deviation_Limits, and Certification) are to be completed as necessary to complete the Semiannual report.   Some cells are linked to previous tabs or are calculations dependent upon data entry.  \n\nBlue Tabs:  Blue tabs are to be completed for the Excess Emissions Report.  The excess emissions report is required for facilities with an add-on control device. The HAP_ID, CMS_Info, and Summary_Report tabs are required for all sources with add-on control. The Summary_Report Tab may be completed by filling out the CMS_Detail and Limit_Detail tabs  and using the included formula to complete the cells, or the sums may be calculated separately and input by the user.  The calculations in the Summary_Report tab, aside from the percentage of operating time calculation are not protected and may be written over by the user for manual data entry.    \n\nWithin the tabs, example rows are colored light red (rows 14 through 23), and the XML tags (row 13) are colored green.  These rows are locked; no data entry is made in these rows. Some cells have dynamic dropdown menus dependant on entry on other tabs, these will be blank until the appropriate data is completed. "]

{"sheet":"Company_Information","index":1,"n_rows":33,"n_cols":15,"rows_kept":33}
[null,"DO NOT REMOVE OR EDIT INFORMATION IN ROWS 1 THROUGH 5\nFOR INTERNAL USE ONLY"]
[null,"Template Name",{"$f":"+Welcome!B2","v":"63.5765(d) Semiannual Compliance Report (Spreadsheet Template)"}]
[null,"CitationID",{"$f":"+Welcome!B3","v":"63.5765(d)"}]
[null,"Template Version",{"$f":"+Welcome!B4","v":"ICR Draft"}]
[null,"Last Updated Date",{"$f":"+Welcome!B5","v":{"v":45601,"d":"4560100.00%"}}]
[]
[null,"40 CFR Part 63, Subpart VVVV National Emission Standards for Hazardous Air Pollutants: Boat Manufacturing - §63.5765(d)  Semiannual Compliance Report Spreadsheet Template"]
[null,"\n"]
[]
[]
[null,null,"SITE INFORMATION",{"$nulls":7},"REPORTING PERIOD",null,null,"ADDITIONAL INFORMATION"]
[null,"Company Record No.\n(Field value will automatically generate if a value is not entered)","Company Name \n(§63.5764(c)(1) & \n§63.10(e)(3)(vi)(A))","Address \n(§63.5764(c)(1) & \n§63.10(e)(3)(vi)(A))","Address 2 ","City\n(§63.5764(c)(1) & \n§63.10(e)(3)(vi)(A))","County","State\n Abbreviation\n(§63.5764(c)(1) & \n§63.10(e)(3)(vi)(A))","Zip Code\n(§63.5764(c)(1) & \n§63.10(e)(3)(vi)(A))","Responsible Agency Facility ID \n(State Facility Identifier)","Date of Report\n(§63.5764(c)(3) & \n§63.10(e)(3)(vi)(M))","Beginning Date of Reporting Period \n(§63.5764(c)(3) & \n§63.10(e)(3)(vi)(A))","Ending Date of\n Reporting Period\n(§63.5764(c)(3) & \n§63.10(e)(3)(vi)(A))","Please enter any additional information.","Enter associated file name reference. "]
[null,"RecordId","CompanyName","AddressLine1","AddressLine2","CityName","CountyName","StateName","ZIPCode","StateFacId","ReportDate","PeriodStartDate","PeriodEndDate","AddInfo","AddFile"]
[null,"e.g.: 1","e.g.: ABC Company","e.g.: 123 Main Street","e.g.: Suite 100","e.g.: Brooklyn","e.g.: Kings","e.g.: NY","e.g.: 11221","e.g.: 9145555555","e.g.: 7/15/2017","e.g.: 01/01/2017","e.g.: 6/30/2017","e.g.:","e.g.: addlinfo.zip "]
[null,"e.g.:","e.g.:","e.g.:","e.g.:","e.g.:","e.g.:","e.g.:","e.g.:","e.g.:","e.g.:","e.g.:","e.g.:","e.g.:","e.g.:"]
[null,"e.g.:","e.g.:","e.g.:","e.g.:","e.g.:","e.g.:","e.g.:","e.g.:","e.g.:","e.g.:","e.g.:","e.g.:","e.g.:","e.g.:"]
[null,"e.g.:","e.g.:","e.g.:","e.g.:","e.g.:","e.g.:","e.g.:","e.g.:","e.g.:","e.g.:","e.g.:","e.g.:","e.g.:","e.g.:"]
[null,"e.g.:","e.g.:","e.g.:","e.g.:","e.g.:","e.g.:","e.g.:","e.g.:","e.g.:","e.g.:","e.g.:","e.g.:","e.g.:","e.g.:"]
[null,"e.g.:","e.g.:","e.g.:","e.g.:","e.g.:","e.g.:","e.g.:","e.g.:","e.g.:","e.g.:","e.g.:","e.g.:","e.g.:","e.g.:"]
[null,"e.g.:","e.g.:","e.g.:","e.g.:","e.g.:","e.g.:","e.g.:","e.g.:","e.g.:","e.g.:","e.g.:","e.g.:","e.g.:","e.g.:"]
[null,"e.g.:","e.g.:","e.g.:","e.g.:","e.g.:","e.g.:","e.g.:","e.g.:","e.g.:","e.g.:","e.g.:","e.g.:","e.g.:","e.g.:"]
[null,"e.g.:","e.g.:","e.g.:","e.g.:","e.g.:","e.g.:","e.g.:","e.g.:","e.g.:","e.g.:","e.g.:","e.g.:","e.g.:","e.g.:"]
[null,"e.g.:","e.g.:","e.g.:","e.g.:","e.g.:","e.g.:","e.g.:","e.g.:","e.g.:","e.g.:","e.g.:","e.g.:","e.g.:","e.g.:"]
[null,{"$f":"IF(C24=\"\",\"\",MAX(B$23:$B23)+1)","v":""}]
[null,{"$f":"IF(C25=\"\",\"\",MAX(B$23:$B24)+1)","v":""}]
[null,{"$f":"IF(C26=\"\",\"\",MAX(B$23:$B25)+1)","v":""}]
[null,{"$f":"IF(C27=\"\",\"\",MAX(B$23:$B26)+1)","v":""}]
[null,{"$f":"IF(C28=\"\",\"\",MAX(B$23:$B27)+1)","v":""}]
[null,{"$f":"IF(C29=\"\",\"\",MAX(B$23:$B28)+1)","v":""}]
[null,{"$f":"IF(C30=\"\",\"\",MAX(B$23:$B29)+1)","v":""}]
[null,{"$f":"IF(C31=\"\",\"\",MAX(B$23:$B30)+1)","v":""}]
[null,{"$f":"IF(C32=\"\",\"\",MAX(B$23:$B31)+1)","v":""}]
[null,{"$f":"IF(C33=\"\",\"\",MAX(B$23:$B32)+1)","v":""}]

{"sheet":"Lists","index":2,"n_rows":500,"n_cols":19,"rows_kept":500,"hidden":true}
["Num","Units","Unitlist",null,"ApplicationMethods",null,"Num","Company","Companylist",null,"CMSCauseslist",null,"Num","CEM Name","CEMID",null,"Operating Limits",null,"States"]
[{"$f":"+IF(B2=\"\",\"\",MAX(A1:A$1)+1)","v":""},{"$f":"IF(+Regulated_Operation_Limits!C24=\"\",\"\",IF(COUNTIF(Regulated_Operation_Limits!$C24:$C$100,Regulated_Operation_Limits!C24)=1,Regulated_Operation_Limits!C24,\"\"))","v":""},{"$f":"+IFERROR(INDEX($B$2:$B$501,MATCH(ROW()-ROW($C$1),$A$2:$A$501,0)),\"\")","v":""},null,"Atomized (Spray)",null,{"$f":"+IF(H2=\"\",\"\",MAX(G1:G$1)+1)","v":""},{"$f":"IF(Company_Information!C24=\"\",\"\",Company_Information!B24)","v":""},{"$f":"+IFERROR(INDEX($H$2:$H$11,MATCH(ROW()-ROW($I$1),$G$2:$G$11,0)),\"\")","v":""},null,"Monitoring Equipment Malfunctions",null,{"$f":"+IF(N2=\"\",\"\",MAX(M1:M$1)+1)","v":""},{"$f":"+IF(+CMS_Info!D24=\"\",\"\",IF(COUNTIF(CMS_Info!$D24:$D$500,CMS_Info!D24)=1,CMS_Info!D24,\"\"))","v":""},{"$f":"+IFERROR(INDEX($N$2:$N$501,MATCH(ROW()-ROW($O$1),$M$2:$M$501,0)),\"\")","v":""},null,"Organic HAP Emissions",null,"AK"]
[{"$f":"+IF(B3=\"\",\"\",MAX(A$1:A2)+1)","v":""},{"$f":"IF(+Regulated_Operation_Limits!C25=\"\",\"\",IF(COUNTIF(Regulated_Operation_Limits!$C25:$C$100,Regulated_Operation_Limits!C25)=1,Regulated_Operation_Limits!C25,\"\"))","v":""},{"$f":"+IFERROR(INDEX($B$2:$B$501,MATCH(ROW()-ROW($C$1),$A$2:$A$501,0)),\"\")","v":""},null,"Atomized, plus vacuum bagging with roll-out",null,{"$f":"+IF(H3=\"\",\"\",MAX(G$1:G2)+1)","v":""},{"$f":"IF(Company_Information!C25=\"\",\"\",Company_Information!B25)","v":""},"",null,"Nonmonitoring Equipment Malfunctions",null,{"$f":"+IF(N3=\"\",\"\",MAX(M$1:M2)+1)","v":""},{"$f":"+IF(+CMS_Info!D25=\"\",\"\",IF(COUNTIF(CMS_Info!$D25:$D$500,CMS_Info!D25)=1,CMS_Info!D25,\"\"))","v":""},{"$f":"+IFERROR(INDEX($N$2:$N$501,MATCH(ROW()-ROW($O$1),$M$2:$M$501,0)),\"\")","v":""},null,"Average Combustion Temperature",null,"AL"]
[{"$f":"+IF(B4=\"\",\"\",MAX(A$1:A3)+1)","v":""},{"$f":"IF(+Regulated_Operation_Limits!C26=\"\",\"\",IF(COUNTIF(Regulated_Operation_Limits!$C26:$C$100,Regulated_Operation_Limits!C26)=1,Regulated_Operation_Limits!C26,\"\"))","v":""},"",null,"Atomized, plus vacuum bagging without roll-out",null,{"$f":"+IF(H4=\"\",\"\",MAX(G$1:G3)+1)","v":""},{"$f":"IF(Company_Information!C26=\"\",\"\",Company_Information!B26)","v":""},"",null,"Quality Assurance/Quality Control Calibrations",null,{"$f":"+IF(N4=\"\",\"\",MAX(M$1:M3)+1)","v":""},{"$f":"+IF(+CMS_Info!D26=\"\",\"\",IF(COUNTIF(CMS_Info!$D26:$D$500,CMS_Info!D26)=1,CMS_Info!D26,\"\"))","v":""},"",null,"Other Approved Operating Limit",null,"AR"]
[{"$f":"+IF(B5=\"\",\"\",MAX(A$1:A4)+1)","v":""},{"$f":"IF(+Regulated_Operation_Limits!C27=\"\",\"\",IF(COUNTIF(Regulated_Operation_Limits!$C27:$C$100,Regulated_Operation_Limits!C27)=1,Regulated_Operation_Limits!C27,\"\"))","v":""},"",null,"Nonatomized (Nonspray)",null,{"$f":"+IF(H5=\"\",\"\",MAX(G$1:G4)+1)","v":""},{"$f":"IF(Company_Information!C27=\"\",\"\",Company_Information!B27)","v":""},"",null,"Other Known Causes",null,{"$f":"+IF(N5=\"\",\"\",MAX(M$1:M4)+1)","v":""},{"$f":"+IF(+CMS_Info!D27=\"\",\"\",IF(COUNTIF(CMS_Info!$D27:$D$500,CMS_Info!D27)=1,CMS_Info!D27,\"\"))","v":""},"",null,"PTE Air Flow Direction",null,"AS"]
[{"$f":"+IF(B6=\"\",\"\",MAX(A$1:A5)+1)","v":""},{"$f":"IF(+Regulated_Operation_Limits!C28=\"\",\"\",IF(COUNTIF(Regulated_Operation_Limits!$C28:$C$100,Regulated_Operation_Limits!C28)=1,Regulated_Operation_Limits!C28,\"\"))","v":""},"",null,"Nonatomized , plus vacuum bagging with roll-out",null,{"$f":"+IF(H6=\"\",\"\",MAX(G$1:G5)+1)","v":""},{"$f":"IF(Company_Information!C28=\"\",\"\",Company_Information!B28)","v":""},"",null,"Other Unknown Causes",null,{"$f":"+IF(N6=\"\",\"\",MAX(M$1:M5)+1)","v":""},{"$f":"+IF(+CMS_Info!D28=\"\",\"\",IF(COUNTIF(CMS_Info!$D28:$D$500,CMS_Info!D28)=1,CMS_Info!D28,\"\"))","v":""},"",null,"PTE Facial Velocity",null,"AZ"]
[{"$f":"+IF(B7=\"\",\"\",MAX(A$1:A6)+1)","v":""},{"$f":"IF(+Regulated_Operation_Limits!C29=\"\",\"\",IF(COUNTIF(Regulated_Operation_Limits!$C29:$C$100,Regulated_Operation_Limits!C29)=1,Regulated_Operation_Limits!C29,\"\"))","v":""},"",null,"Nonatomized, plus vacuum bagging without roll-out",null,{"$f":"+IF(H7=\"\",\"\",MAX(G$1:G6)+1)","v":""},{"$f":"IF(Company_Information!C29=\"\",\"\",Company_Information!B29)","v":""},"",{"$nulls":3},{"$f":"+IF(N7=\"\",\"\",MAX(M$1:M6)+1)","v":""},{"$f":"+IF(+CMS_Info!D29=\"\",\"\",IF(COUNTIF(CMS_Info!$D29:$D$500,CMS_Info!D29)=1,CMS_Info!D29,\"\"))","v":""},"",null,"PTE Pressure Drop Across Enclosure",null,"CA"]
[{"$f":"+IF(B8=\"\",\"\",MAX(A$1:A7)+1)","v":""},{"$f":"IF(+Regulated_Operation_Limits!C30=\"\",\"\",IF(COUNTIF(Regulated_Operation_Limits!$C30:$C$100,Regulated_Operation_Limits!C30)=1,Regulated_Operation_Limits!C30,\"\"))","v":""},"",null,"Any Method",null,{"$f":"+IF(H8=\"\",\"\",MAX(G$1:G7)+1)","v":""},{"$f":"IF(Company_Information!C30=\"\",\"\",Company_Information!B30)","v":""},"",{"$nulls":3},{"$f":"+IF(N8=\"\",\"\",MAX(M$1:M7)+1)","v":""},{"$f":"+IF(+CMS_Info!D30=\"\",\"\",IF(COUNTIF(CMS_Info!$D30:$D$500,CMS_Info!D30)=1,CMS_Info!D30,\"\"))","v":""},"",null,"Non-PTE gas flow rate",null,"CO"]
[{"$f":"+IF(B9=\"\",\"\",MAX(A$1:A8)+1)","v":""},{"$f":"IF(+Regulated_Operation_Limits!C31=\"\",\"\",IF(COUNTIF(Regulated_Operation_Limits!$C31:$C$100,Regulated_Operation_Limits!C31)=1,Regulated_Operation_Limits!C31,\"\"))","v":""},"",{"$nulls":3},{"$f":"+IF(H9=\"\",\"\",MAX(G$1:G8)+1)","v":""},{"$f":"IF(Company_Information!C31=\"\",\"\",Company_Information!B31)","v":""},"",{"$nulls":3},{"$f":"+IF(N9=\"\",\"\",MAX(M$1:M8)+1)","v":""},{"$f":"+IF(+CMS_Info!D31=\"\",\"\",IF(COUNTIF(CMS_Info!$D31:$D$500,CMS_Info!D31)=1,CMS_Info!D31,\"\"))","v":""},"",null,"Non-PTE Duct Static Pressure",null,"CT"]
[{"$f":"+IF(B10=\"\",\"\",MAX(A$1:A9)+1)","v":""},{"$f":"IF(+Regulated_Operation_Limits!C32=\"\",\"\",IF(COUNTIF(Regulated_Operation_Limits!$C32:$C$100,Regulated_Operation_Limits!C32)=1,Regulated_Operation_Limits!C32,\"\"))","v":""},"",{"$nulls":3},{"$f":"+IF(H10=\"\",\"\",MAX(G$1:G9)+1)","v":""},{"$f":"IF(Company_Information!C32=\"\",\"\",Company_Information!B32)","v":""},"",{"$nulls":3},{"$f":"+IF(N10=\"\",\"\",MAX(M$1:M9)+1)","v":""},{"$f":"+IF(+CMS_Info!D32=\"\",\"\",IF(COUNTIF(CMS_Info!$D32:$D$500,CMS_Info!D32)=1,CMS_Info!D32,\"\"))","v":""},"",null,"Non-PTE Pressure Drop Across Opening",null,"DC"]
[{"$f":"+IF(B11=\"\",\"\",MAX(A$1:A10)+1)","v":""},{"$f":"IF(+Regulated_Operation_Limits!C33=\"\",\"\",IF(COUNTIF(Regulated_Operation_Limits!$C33:$C$100,Regulated_Operation_Limits!C33)=1,Regulated_Operation_Limits!C33,\"\"))","v":""},"",{"$nulls":3},{"$f":"+IF(H11=\"\",\"\",MAX(G$1:G10)+1)","v":""},{"$f":"IF(Company_Information!C33=\"\",\"\",Company_Information!B33)","v":""},"",{"$nulls":3},{"$f":"+IF(N11=\"\",\"\",MAX(M$1:M10)+1)","v":""},{"$f":"+IF(+CMS_Info!D33=\"\",\"\",IF(COUNTIF(CMS_Info!$D33:$D$500,CMS_Info!D33)=1,CMS_Info!D33,\"\"))","v":""},"",{"$nulls":3},"DE"]
[{"$f":"+IF(B12=\"\",\"\",MAX(A$1:A11)+1)","v":""},{"$f":"IF(+Regulated_Operation_Limits!C34=\"\",\"\",IF(COUNTIF(Regulated_Operation_Limits!$C34:$C$100,Regulated_Operation_Limits!C34)=1,Regulated_Operation_Limits!C34,\"\"))","v":""},"",{"$nulls":9},{"$f":"+IF(N12=\"\",\"\",MAX(M$1:M11)+1)","v":""},{"$f":"+IF(+CMS_Info!D34=\"\",\"\",IF(COUNTIF(CMS_Info!$D34:$D$500,CMS_Info!D34)=1,CMS_Info!D34,\"\"))","v":""},"",{"$nulls":3},"FL"]
[{"$f":"+IF(B13=\"\",\"\",MAX(A$1:A12)+1)","v":""},{"$f":"IF(+Regulated_Operation_Limits!C35=\"\",\"\",IF(COUNTIF(Regulated_Operation_Limits!$C35:$C$100,Regulated_Operation_Limits!C35)=1,Regulated_Operation_Limits!C35,\"\"))","v":""},"",{"$nulls":9},{"$f":"+IF(N13=\"\",\"\",MAX(M$1:M12)+1)","v":""},{"$f":"+IF(+CMS_Info!D35=\"\",\"\",IF(COUNTIF(CMS_Info!$D35:$D$500,CMS_Info!D35)=1,CMS_Info!D35,\"\"))","v":""},"",{"$nulls":3},"GA"]
[{"$f":"+IF(B14=\"\",\"\",MAX(A$1:A13)+1)","v":""},{"$f":"IF(+Regulated_Operation_Limits!C36=\"\",\"\",IF(COUNTIF(Regulated_Operation_Limits!$C36:$C$100,Regulated_Operation_Limits!C36)=1,Regulated_Operation_Limits!C36,\"\"))","v":""},"",{"$nulls":9},{"$f":"+IF(N14=\"\",\"\",MAX(M$1:M13)+1)","v":""},{"$f":"+IF(+CMS_Info!D36=\"\",\"\",IF(COUNTIF(CMS_Info!$D36:$D$500,CMS_Info!D36)=1,CMS_Info!D36,\"\"))","v":""},"",{"$nulls":3},"GU"]
[{"$f":"+IF(B15=\"\",\"\",MAX(A$1:A14)+1)","v":""},{"$f":"IF(+Regulated_Operation_Limits!C37=\"\",\"\",IF(COUNTIF(Regulated_Operation_Limits!$C37:$C$100,Regulated_Operation_Limits!C37)=1,Regulated_Operation_Limits!C37,\"\"))","v":""},"",{"$nulls":9},{"$f":"+IF(N15=\"\",\"\",MAX(M$1:M14)+1)","v":""},{"$f":"+IF(+CMS_Info!D37=\"\",\"\",IF(COUNTIF(CMS_Info!$D37:$D$500,CMS_Info!D37)=1,CMS_Info!D37,\"\"))","v":""},"",{"$nulls":3},"HI"]
[{"$f":"+IF(B16=\"\",\"\",MAX(A$1:A15)+1)","v":""},{"$f":"IF(+Regulated_Operation_Limits!C38=\"\",\"\",IF(COUNTIF(Regulated_Operation_Limits!$C38:$C$100,Regulated_Operation_Limits!C38)=1,Regulated_Operation_Limits!C38,\"\"))","v":""},"",{"$nulls":9},{"$f":"+IF(N16=\"\",\"\",MAX(M$1:M15)+1)","v":""},{"$f":"+IF(+CMS_Info!D38=\"\",\"\",IF(COUNTIF(CMS_Info!$D38:$D$500,CMS_Info!D38)=1,CMS_Info!D38,\"\"))","v":""},"",{"$nulls":3},"IA"]
[{"$f":"+IF(B17=\"\",\"\",MAX(A$1:A16)+1)","v":""},{"$f":"IF(+Regulated_Operation_Limits!C39=\"\",\"\",IF(COUNTIF(Regulated_Operation_Limits!$C39:$C$100,Regulated_Operation_Limits!C39)=1,Regulated_Operation_Limits!C39,\"\"))","v":""},"",{"$nulls":9},{"$f":"+IF(N17=\"\",\"\",MAX(M$1:M16)+1)","v":""},{"$f":"+IF(+CMS_Info!D39=\"\",\"\",IF(COUNTIF(CMS_Info!$D39:$D$500,CMS_Info!D39)=1,CMS_Info!D39,\"\"))","v":""},"",{"$nulls":3},"ID"]
[{"$f":"+IF(B18=\"\",\"\",MAX(A$1:A17)+1)","v":""},{"$f":"IF(+Regulated_Operation_Limits!C40=\"\",\"\",IF(COUNTIF(Regulated_Operation_Limits!$C40:$C$100,Regulated_Operation_Limits!C40)=1,Regulated_Operation_Limits!C40,\"\"))","v":""},"",{"$nulls":9},{"$f":"+IF(N18=\"\",\"\",MAX(M$1:M17)+1)","v":""},{"$f":"+IF(+CMS_Info!D40=\"\",\"\",IF(COUNTIF(CMS_Info!$D40:$D$500,CMS_Info!D40)=1,CMS_Info!D40,\"\"))","v":""},"",{"$nulls":3},"IL"]
[{"$f":"+IF(B19=\"\",\"\",MAX(A$1:A18)+1)","v":""},{"$f":"IF(+Regulated_Operation_Limits!C41=\"\",\"\",IF(COUNTIF(Regulated_Operation_Limits!$C41:$C$100,Regulated_Operation_Limits!C41)=1,Regulated_Operation_Limits!C41,\"\"))","v":""},"",{"$nulls":9},{"$f":"+IF(N19=\"\",\"\",MAX(M$1:M18)+1)","v":""},{"$f":"+IF(+CMS_Info!D41=\"\",\"\",IF(COUNTIF(CMS_Info!$D41:$D$500,CMS_Info!D41)=1,CMS_Info!D41,\"\"))","v":""},"",{"$nulls":3},"IN"]
[{"$f":"+IF(B20=\"\",\"\",MAX(A$1:A19)+1)","v":""},{"$f":"IF(+Regulated_Operation_Limits!C42=\"\",\"\",IF(COUNTIF(Regulated_Operation_Limits!$C42:$C$100,Regulated_Operation_Limits!C42)=1,Regulated_Operation_Limits!C42,\"\"))","v":""},"",{"$nulls":9},{"$f":"+IF(N20=\"\",\"\",MAX(M$1:M19)+1)","v":""},{"$f":"+IF(+CMS_Info!D42=\"\",\"\",IF(COUNTIF(CMS_Info!$D42:$D$500,CMS_Info!D42)=1,CMS_Info!D42,\"\"))","v":""},"",{"$nulls":3},"KS"]
[{"$f":"+IF(B21=\"\",\"\",MAX(A$1:A20)+1)","v":""},{"$f":"IF(+Regulated_Operation_Limits!C43=\"\",\"\",IF(COUNTIF(Regulated_Operation_Limits!$C43:$C$100,Regulated_Operation_Limits!C43)=1,Regulated_Operation_Limits!C43,\"\"))","v":""},"",{"$nulls":9},{"$f":"+IF(N21=\"\",\"\",MAX(M$1:M20)+1)","v":""},{"$f":"+IF(+CMS_Info!D43=\"\",\"\",IF(COUNTIF(CMS_Info!$D43:$D$500,CMS_Info!D43)=1,CMS_Info!D43,\"\"))","v":""},"",{"$nulls":3},"KY"]
[{"$f":"+IF(B22=\"\",\"\",MAX(A$1:A21)+1)","v":""},{"$f":"IF(+Regulated_Operation_Limits!C44=\"\",\"\",IF(COUNTIF(Regulated_Operation_Limits!$C44:$C$100,Regulated_Operation_Limits!C44)=1,Regulated_Operation_Limits!C44,\"\"))","v":""},"",{"$nulls":9},{"$f":"+IF(N22=\"\",\"\",MAX(M$1:M21)+1)","v":""},{"$f":"+IF(+CMS_Info!D44=\"\",\"\",IF(COUNTIF(CMS_Info!$D44:$D$500,CMS_Info!D44)=1,CMS_Info!D44,\"\"))","v":""},"",{"$nulls":3},"LA"]
[{"$f":"+IF(B23=\"\",\"\",MAX(A$1:A22)+1)","v":""},{"$f":"IF(+Regulated_Operation_Limits!C45=\"\",\"\",IF(COUNTIF(Regulated_Operation_Limits!$C45:$C$100,Regulated_Operation_Limits!C45)=1,Regulated_Operation_Limits!C45,\"\"))","v":""},"",{"$nulls":9},{"$f":"+IF(N23=\"\",\"\",MAX(M$1:M22)+1)","v":""},{"$f":"+IF(+CMS_Info!D45=\"\",\"\",IF(COUNTIF(CMS_Info!$D45:$D$500,CMS_Info!D45)=1,CMS_Info!D45,\"\"))","v":""},"",{"$nulls":3},"MA"]
[{"$f":"+IF(B24=\"\",\"\",MAX(A$1:A23)+1)","v":""},{"$f":"IF(+Regulated_Operation_Limits!C46=\"\",\"\",IF(COUNTIF(Regulated_Operation_Limits!$C46:$C$100,Regulated_Operation_Limits!C46)=1,Regulated_Operation_Limits!C46,\"\"))","v":""},"",{"$nulls":9},{"$f":"+IF(N24=\"\",\"\",MAX(M$1:M23)+1)","v":""},{"$f":"+IF(+CMS_Info!D46=\"\",\"\",IF(COUNTIF(CMS_Info!$D46:$D$500,CMS_Info!D46)=1,CMS_Info!D46,\"\"))","v":""},"",{"$nulls":3},"MD"]
[{"$f":"+IF(B25=\"\",\"\",MAX(A$1:A24)+1)","v":""},{"$f":"IF(+Regulated_Operation_Limits!C47=\"\",\"\",IF(COUNTIF(Regulated_Operation_Limits!$C47:$C$100,Regulated_Operation_Limits!C47)=1,Regulated_Operation_Limits!C47,\"\"))","v":""},"",{"$nulls":9},{"$f":"+IF(N25=\"\",\"\",MAX(M$1:M24)+1)","v":""},{"$f":"+IF(+CMS_Info!D47=\"\",\"\",IF(COUNTIF(CMS_Info!$D47:$D$500,CMS_Info!D47)=1,CMS_Info!D47,\"\"))","v":""},"",{"$nulls":3},"ME"]
[{"$f":"+IF(B26=\"\",\"\",MAX(A$1:A25)+1)","v":""},{"$f":"IF(+Regulated_Operation_Limits!C48=\"\",\"\",IF(COUNTIF(Regulated_Operation_Limits!$C48:$C$100,Regulated_Operation_Limits!C48)=1,Regulated_Operation_Limits!C48,\"\"))","v":""},"",{"$nulls":9},{"$f":"+IF(N26=\"\",\"\",MAX(M$1:M25)+1)","v":""},{"$f":"+IF(+CMS_Info!D48=\"\",\"\",IF(COUNTIF(CMS_Info!$D48:$D$500,CMS_Info!D48)=1,CMS_Info!D48,\"\"))","v":""},"",{"$nulls":3},"MI"]
[{"$f":"+IF(B27=\"\",\"\",MAX(A$1:A26)+1)","v":""},{"$f":"IF(+Regulated_Operation_Limits!C49=\"\",\"\",IF(COUNTIF(Regulated_Operation_Limits!$C49:$C$100,Regulated_Operation_Limits!C49)=1,Regulated_Operation_Limits!C49,\"\"))","v":""},"",{"$nulls":9},{"$f":"+IF(N27=\"\",\"\",MAX(M$1:M26)+1)","v":""},{"$f":"+IF(+CMS_Info!D49=\"\",\"\",IF(COUNTIF(CMS_Info!$D49:$D$500,CMS_Info!D49)=1,CMS_Info!D49,\"\"))","v":""},"",{"$nulls":3},"MN"]
[{"$f":"+IF(B28=\"\",\"\",MAX(A$1:A27)+1)","v":""},{"$f":"IF(+Regulated_Operation_Limits!C50=\"\",\"\",IF(COUNTIF(Regulated_Operation_Limits!$C50:$C$100,Regulated_Operation_Limits!C50)=1,Regulated_Operation_Limits!C50,\"\"))","v":""},"",{"$nulls":9},{"$f":"+IF(N28=\"\",\"\",MAX(M$1:M27)+1)","v":""},{"$f":"+IF(+CMS_Info!D50=\"\",\"\",IF(COUNTIF(CMS_Info!$D50:$D$500,CMS_Info!D50)=1,CMS_Info!D50,\"\"))","v":""},"",{"$nulls":3},"MO"]
[{"$f":"+IF(B29=\"\",\"\",MAX(A$1:A28)+1)","v":""},{"$f":"IF(+Regulated_Operation_Limits!C51=\"\",\"\",IF(COUNTIF(Regulated_Operation_Limits!$C51:$C$100,Regulated_Operation_Limits!C51)=1,Regulated_Operation_Limits!C51,\"\"))","v":""},"",{"$nulls":9},{"$f":"+IF(N29=\"\",\"\",MAX(M$1:M28)+1)","v":""},{"$f":"+IF(+CMS_Info!D51=\"\",\"\",IF(COUNTIF(CMS_Info!$D51:$D$500,CMS_Info!D51)=1,CMS_Info!D51,\"\"))","v":""},"",{"$nulls":3},"MP"]
[{"$f":"+IF(B30=\"\",\"\",MAX(A$1:A29)+1)","v":""},{"$f":"IF(+Regulated_Operation_Limits!C52=\"\",\"\",IF(COUNTIF(Regulated_Operation_Limits!$C52:$C$100,Regulated_Operation_Limits!C52)=1,Regulated_Operation_Limits!C52,\"\"))","v":""},"",{"$nulls":9},{"$f":"+IF(N30=\"\",\"\",MAX(M$1:M29)+1)","v":""},{"$f":"+IF(+CMS_Info!D52=\"\",\"\",IF(COUNTIF(CMS_Info!$D52:$D$500,CMS_Info!D52)=1,CMS_Info!D52,\"\"))","v":""},"",{"$nulls":3},"MS"]
[{"$f":"+IF(B31=\"\",\"\",MAX(A$1:A30)+1)","v":""},{"$f":"IF(+Regulated_Operation_Limits!C53=\"\",\"\",IF(COUNTIF(Regulated_Operation_Limits!$C53:$C$100,Regulated_Operation_Limits!C53)=1,Regulated_Operation_Limits!C53,\"\"))","v":""},"",{"$nulls":9},{"$f":"+IF(N31=\"\",\"\",MAX(M$1:M30)+1)","v":""},{"$f":"+IF(+CMS_Info!D53=\"\",\"\",IF(COUNTIF(CMS_Info!$D53:$D$500,CMS_Info!D53)=1,CMS_Info!D53,\"\"))","v":""},"",{"$nulls":3},"MT"]
[{"$f":"+IF(B32=\"\",\"\",MAX(A$1:A31)+1)","v":""},{"$f":"IF(+Regulated_Operation_Limits!C54=\"\",\"\",IF(COUNTIF(Regulated_Operation_Limits!$C54:$C$100,Regulated_Operation_Limits!C54)=1,Regulated_Operation_Limits!C54,\"\"))","v":""},"",{"$nulls":9},{"$f":"+IF(N32=\"\",\"\",MAX(M$1:M31)+1)","v":""},{"$f":"+IF(+CMS_Info!D54=\"\",\"\",IF(COUNTIF(CMS_Info!$D54:$D$500,CMS_Info!D54)=1,CMS_Info!D54,\"\"))","v":""},"",{"$nulls":3},"NC"]
[{"$f":"+IF(B33=\"\",\"\",MAX(A$1:A32)+1)","v":""},{"$f":"IF(+Regulated_Operation_Limits!C55=\"\",\"\",IF(COUNTIF(Regulated_Operation_Limits!$C55:$C$100,Regulated_Operation_Limits!C55)=1,Regulated_Operation_Limits!C55,\"\"))","v":""},"",{"$nulls":9},{"$f":"+IF(N33=\"\",\"\",MAX(M$1:M32)+1)","v":""},{"$f":"+IF(+CMS_Info!D55=\"\",\"\",IF(COUNTIF(CMS_Info!$D55:$D$500,CMS_Info!D55)=1,CMS_Info!D55,\"\"))","v":""},"",{"$nulls":3},"ND"]
[{"$f":"+IF(B34=\"\",\"\",MAX(A$1:A33)+1)","v":""},{"$f":"IF(+Regulated_Operation_Limits!C56=\"\",\"\",IF(COUNTIF(Regulated_Operation_Limits!$C56:$C$100,Regulated_Operation_Limits!C56)=1,Regulated_Operation_Limits!C56,\"\"))","v":""},"",{"$nulls":9},{"$f":"+IF(N34=\"\",\"\",MAX(M$1:M33)+1)","v":""},{"$f":"+IF(+CMS_Info!D56=\"\",\"\",IF(COUNTIF(CMS_Info!$D56:$D$500,CMS_Info!D56)=1,CMS_Info!D56,\"\"))","v":""},"",{"$nulls":3},"NE"]
[{"$f":"+IF(B35=\"\",\"\",MAX(A$1:A34)+1)","v":""},{"$f":"IF(+Regulated_Operation_Limits!C57=\"\",\"\",IF(COUNTIF(Regulated_Operation_Limits!$C57:$C$100,Regulated_Operation_Limits!C57)=1,Regulated_Operation_Limits!C57,\"\"))","v":""},"",{"$nulls":9},{"$f":"+IF(N35=\"\",\"\",MAX(M$1:M34)+1)","v":""},{"$f":"+IF(+CMS_Info!D57=\"\",\"\",IF(COUNTIF(CMS_Info!$D57:$D$500,CMS_Info!D57)=1,CMS_Info!D57,\"\"))","v":""},"",{"$nulls":3},"NH"]
[{"$f":"+IF(B36=\"\",\"\",MAX(A$1:A35)+1)","v":""},{"$f":"IF(+Regulated_Operation_Limits!C58=\"\",\"\",IF(COUNTIF(Regulated_Operation_Limits!$C58:$C$100,Regulated_Operation_Limits!C58)=1,Regulated_Operation_Limits!C58,\"\"))","v":""},"",{"$nulls":9},{"$f":"+IF(N36=\"\",\"\",MAX(M$1:M35)+1)","v":""},{"$f":"+IF(+CMS_Info!D58=\"\",\"\",IF(COUNTIF(CMS_Info!$D58:$D$500,CMS_Info!D58)=1,CMS_Info!D58,\"\"))","v":""},"",{"$nulls":3},"NJ"]
[{"$f":"+IF(B37=\"\",\"\",MAX(A$1:A36)+1)","v":""},{"$f":"IF(+Regulated_Operation_Limits!C59=\"\",\"\",IF(COUNTIF(Regulated_Operation_Limits!$C59:$C$100,Regulated_Operation_Limits!C59)=1,Regulated_Operation_Limits!C59,\"\"))","v":""},"",{"$nulls":9},{"$f":"+IF(N37=\"\",\"\",MAX(M$1:M36)+1)","v":""},{"$f":"+IF(+CMS_Info!D59=\"\",\"\",IF(COUNTIF(CMS_Info!$D59:$D$500,CMS_Info!D59)=1,CMS_Info!D59,\"\"))","v":""},"",{"$nulls":3},"NM"]
[{"$f":"+IF(B38=\"\",\"\",MAX(A$1:A37)+1)","v":""},{"$f":"IF(+Regulated_Operation_Limits!C60=\"\",\"\",IF(COUNTIF(Regulated_Operation_Limits!$C60:$C$100,Regulated_Operation_Limits!C60)=1,Regulated_Operation_Limits!C60,\"\"))","v":""},"",{"$nulls":9},{"$f":"+IF(N38=\"\",\"\",MAX(M$1:M37)+1)","v":""},{"$f":"+IF(+CMS_Info!D60=\"\",\"\",IF(COUNTIF(CMS_Info!$D60:$D$500,CMS_Info!D60)=1,CMS_Info!D60,\"\"))","v":""},"",{"$nulls":3},"NV"]
[{"$f":"+IF(B39=\"\",\"\",MAX(A$1:A38)+1)","v":""},{"$f":"IF(+Regulated_Operation_Limits!C61=\"\",\"\",IF(COUNTIF(Regulated_Operation_Limits!$C61:$C$100,Regulated_Operation_Limits!C61)=1,Regulated_Operation_Limits!C61,\"\"))","v":""},"",{"$nulls":9},{"$f":"+IF(N39=\"\",\"\",MAX(M$1:M38)+1)","v":""},{"$f":"+IF(+CMS_Info!D61=\"\",\"\",IF(COUNTIF(CMS_Info!$D61:$D$500,CMS_Info!D61)=1,CMS_Info!D61,\"\"))","v":""},"",{"$nulls":3},"NY"]
[{"$f":"+IF(B40=\"\",\"\",MAX(A$1:A39)+1)","v":""},{"$f":"IF(+Regulated_Operation_Limits!C62=\"\",\"\",IF(COUNTIF(Regulated_Operation_Limits!$C62:$C$100,Regulated_Operation_Limits!C62)=1,Regulated_Operation_Limits!C62,\"\"))","v":""},"",{"$nulls":9},{"$f":"+IF(N40=\"\",\"\",MAX(M$1:M39)+1)","v":""},{"$f":"+IF(+CMS_Info!D62=\"\",\"\",IF(COUNTIF(CMS_Info!$D62:$D$500,CMS_Info!D62)=1,CMS_Info!D62,\"\"))","v":""},"",{"$nulls":3},"OH"]
[{"$f":"+IF(B41=\"\",\"\",MAX(A$1:A40)+1)","v":""},{"$f":"IF(+Regulated_Operation_Limits!C63=\"\",\"\",IF(COUNTIF(Regulated_Operation_Limits!$C63:$C$100,Regulated_Operation_Limits!C63)=1,Regulated_Operation_Limits!C63,\"\"))","v":""},"",{"$nulls":9},{"$f":"+IF(N41=\"\",\"\",MAX(M$1:M40)+1)","v":""},{"$f":"+IF(+CMS_Info!D63=\"\",\"\",IF(COUNTIF(CMS_Info!$D63:$D$500,CMS_Info!D63)=1,CMS_Info!D63,\"\"))","v":""},"",{"$nulls":3},"OK"]
[{"$f":"+IF(B42=\"\",\"\",MAX(A$1:A41)+1)","v":""},{"$f":"IF(+Regulated_Operation_Limits!C64=\"\",\"\",IF(COUNTIF(Regulated_Operation_Limits!$C64:$C$100,Regulated_Operation_Limits!C64)=1,Regulated_Operation_Limits!C64,\"\"))","v":""},"",{"$nulls":9},{"$f":"+IF(N42=\"\",\"\",MAX(M$1:M41)+1)","v":""},{"$f":"+IF(+CMS_Info!D64=\"\",\"\",IF(COUNTIF(CMS_Info!$D64:$D$500,CMS_Info!D64)=1,CMS_Info!D64,\"\"))","v":""},"",{"$nulls":3},"OR"]
[{"$f":"+IF(B43=\"\",\"\",MAX(A$1:A42)+1)","v":""},{"$f":"IF(+Regulated_Operation_Limits!C65=\"\",\"\",IF(COUNTIF(Regulated_Operation_Limits!$C65:$C$100,Regulated_Operation_Limits!C65)=1,Regulated_Operation_Limits!C65,\"\"))","v":""},"",{"$nulls":9},{"$f":"+IF(N43=\"\",\"\",MAX(M$1:M42)+1)","v":""},{"$f":"+IF(+CMS_Info!D65=\"\",\"\",IF(COUNTIF(CMS_Info!$D65:$D$500,CMS_Info!D65)=1,CMS_Info!D65,\"\"))","v":""},"",{"$nulls":3},"PA"]
[{"$f":"+IF(B44=\"\",\"\",MAX(A$1:A43)+1)","v":""},{"$f":"IF(+Regulated_Operation_Limits!C66=\"\",\"\",IF(COUNTIF(Regulated_Operation_Limits!$C66:$C$100,Regulated_Operation_Limits!C66)=1,Regulated_Operation_Limits!C66,\"\"))","v":""},"",{"$nulls":9},{"$f":"+IF(N44=\"\",\"\",MAX(M$1:M43)+1)","v":""},{"$f":"+IF(+CMS_Info!D66=\"\",\"\",IF(COUNTIF(CMS_Info!$D66:$D$500,CMS_Info!D66)=1,CMS_Info!D66,\"\"))","v":""},"",{"$nulls":3},"PR"]
[{"$f":"+IF(B45=\"\",\"\",MAX(A$1:A44)+1)","v":""},{"$f":"IF(+Regulated_Operation_Limits!C67=\"\",\"\",IF(COUNTIF(Regulated_Operation_Limits!$C67:$C$100,Regulated_Operation_Limits!C67)=1,Regulated_Operation_Limits!C67,\"\"))","v":""},"",{"$nulls":9},{"$f":"+IF(N45=\"\",\"\",MAX(M$1:M44)+1)","v":""},{"$f":"+IF(+CMS_Info!D67=\"\",\"\",IF(COUNTIF(CMS_Info!$D67:$D$500,CMS_Info!D67)=1,CMS_Info!D67,\"\"))","v":""},"",{"$nulls":3},"RI"]
[{"$f":"+IF(B46=\"\",\"\",MAX(A$1:A45)+1)","v":""},{"$f":"IF(+Regulated_Operation_Limits!C68=\"\",\"\",IF(COUNTIF(Regulated_Operation_Limits!$C68:$C$100,Regulated_Operation_Limits!C68)=1,Regulated_Operation_Limits!C68,\"\"))","v":""},"",{"$nulls":9},{"$f":"+IF(N46=\"\",\"\",MAX(M$1:M45)+1)","v":""},{"$f":"+IF(+CMS_Info!D68=\"\",\"\",IF(COUNTIF(CMS_Info!$D68:$D$500,CMS_Info!D68)=1,CMS_Info!D68,\"\"))","v":""},"",{"$nulls":3},"SC"]
[{"$f":"+IF(B47=\"\",\"\",MAX(A$1:A46)+1)","v":""},{"$f":"IF(+Regulated_Operation_Limits!C69=\"\",\"\",IF(COUNTIF(Regulated_Operation_Limits!$C69:$C$100,Regulated_Operation_Limits!C69)=1,Regulated_Operation_Limits!C69,\"\"))","v":""},"",{"$nulls":9},{"$f":"+IF(N47=\"\",\"\",MAX(M$1:M46)+1)","v":""},{"$f":"+IF(+CMS_Info!D69=\"\",\"\",IF(COUNTIF(CMS_Info!$D69:$D$500,CMS_Info!D69)=1,CMS_Info!D69,\"\"))","v":""},"",{"$nulls":3},"SD"]
[{"$f":"+IF(B48=\"\",\"\",MAX(A$1:A47)+1)","v":""},{"$f":"IF(+Regulated_Operation_Limits!C70=\"\",\"\",IF(COUNTIF(Regulated_Operation_Limits!$C70:$C$100,Regulated_Operation_Limits!C70)=1,Regulated_Operation_Limits!C70,\"\"))","v":""},"",{"$nulls":9},{"$f":"+IF(N48=\"\",\"\",MAX(M$1:M47)+1)","v":""},{"$f":"+IF(+CMS_Info!D70=\"\",\"\",IF(COUNTIF(CMS_Info!$D70:$D$500,CMS_Info!D70)=1,CMS_Info!D70,\"\"))","v":""},"",{"$nulls":3},"TN"]
[{"$f":"+IF(B49=\"\",\"\",MAX(A$1:A48)+1)","v":""},{"$f":"IF(+Regulated_Operation_Limits!C71=\"\",\"\",IF(COUNTIF(Regulated_Operation_Limits!$C71:$C$100,Regulated_Operation_Limits!C71)=1,Regulated_Operation_Limits!C71,\"\"))","v":""},"",{"$nulls":9},{"$f":"+IF(N49=\"\",\"\",MAX(M$1:M48)+1)","v":""},{"$f":"+IF(+CMS_Info!D71=\"\",\"\",IF(COUNTIF(CMS_Info!$D71:$D$500,CMS_Info!D71)=1,CMS_Info!D71,\"\"))","v":""},"",{"$nulls":3},"TX"]
[{"$f":"+IF(B50=\"\",\"\",MAX(A$1:A49)+1)","v":""},{"$f":"IF(+Regulated_Operation_Limits!C72=\"\",\"\",IF(COUNTIF(Regulated_Operation_Limits!$C72:$C$100,Regulated_Operation_Limits!C72)=1,Regulated_Operation_Limits!C72,\"\"))","v":""},"",{"$nulls":9},{"$f":"+IF(N50=\"\",\"\",MAX(M$1:M49)+1)","v":""},{"$f":"+IF(+CMS_Info!D72=\"\",\"\",IF(COUNTIF(CMS_Info!$D72:$D$500,CMS_Info!D72)=1,CMS_Info!D72,\"\"))","v":""},"",{"$nulls":3},"UT"]
[{"$f":"+IF(B51=\"\",\"\",MAX(A$1:A50)+1)","v":""},{"$f":"IF(+Regulated_Operation_Limits!C73=\"\",\"\",IF(COUNTIF(Regulated_Operation_Limits!$C73:$C$100,Regulated_Operation_Limits!C73)=1,Regulated_Operation_Limits!C73,\"\"))","v":""},"",{"$nulls":9},{"$f":"+IF(N51=\"\",\"\",MAX(M$1:M50)+1)","v":""},{"$f":"+IF(+CMS_Info!D73=\"\",\"\",IF(COUNTIF(CMS_Info!$D73:$D$500,CMS_Info!D73)=1,CMS_Info!D73,\"\"))","v":""},"",{"$nulls":3},"VA"]
[{"$f":"+IF(B52=\"\",\"\",MAX(A$1:A51)+1)","v":""},{"$f":"IF(+Regulated_Operation_Limits!C74=\"\",\"\",IF(COUNTIF(Regulated_Operation_Limits!$C74:$C$100,Regulated_Operation_Limits!C74)=1,Regulated_Operation_Limits!C74,\"\"))","v":""},"",{"$nulls":9},{"$f":"+IF(N52=\"\",\"\",MAX(M$1:M51)+1)","v":""},{"$f":"+IF(+CMS_Info!D74=\"\",\"\",IF(COUNTIF(CMS_Info!$D74:$D$500,CMS_Info!D74)=1,CMS_Info!D74,\"\"))","v":""},"",{"$nulls":3},"VI"]
[{"$f":"+IF(B53=\"\",\"\",MAX(A$1:A52)+1)","v":""},{"$f":"IF(+Regulated_Operation_Limits!C75=\"\",\"\",IF(COUNTIF(Regulated_Operation_Limits!$C75:$C$100,Regulated_Operation_Limits!C75)=1,Regulated_Operation_Limits!C75,\"\"))","v":""},"",{"$nulls":9},{"$f":"+IF(N53=\"\",\"\",MAX(M$1:M52)+1)","v":""},{"$f":"+IF(+CMS_Info!D75=\"\",\"\",IF(COUNTIF(CMS_Info!$D75:$D$500,CMS_Info!D75)=1,CMS_Info!D75,\"\"))","v":""},"",{"$nulls":3},"VT"]
[{"$f":"+IF(B54=\"\",\"\",MAX(A$1:A53)+1)","v":""},{"$f":"IF(+Regulated_Operation_Limits!C76=\"\",\"\",IF(COUNTIF(Regulated_Operation_Limits!$C76:$C$100,Regulated_Operation_Limits!C76)=1,Regulated_Operation_Limits!C76,\"\"))","v":""},"",{"$nulls":9},{"$f":"+IF(N54=\"\",\"\",MAX(M$1:M53)+1)","v":""},{"$f":"+IF(+CMS_Info!D76=\"\",\"\",IF(COUNTIF(CMS_Info!$D76:$D$500,CMS_Info!D76)=1,CMS_Info!D76,\"\"))","v":""},"",{"$nulls":3},"WA"]
[{"$f":"+IF(B55=\"\",\"\",MAX(A$1:A54)+1)","v":""},{"$f":"IF(+Regulated_Operation_Limits!C77=\"\",\"\",IF(COUNTIF(Regulated_Operation_Limits!$C77:$C$100,Regulated_Operation_Limits!C77)=1,Regulated_Operation_Limits!C77,\"\"))","v":""},"",{"$nulls":9},{"$f":"+IF(N55=\"\",\"\",MAX(M$1:M54)+1)","v":""},{"$f":"+IF(+CMS_Info!D77=\"\",\"\",IF(COUNTIF(CMS_Info!$D77:$D$500,CMS_Info!D77)=1,CMS_Info!D77,\"\"))","v":""},"",{"$nulls":3},"WI"]
[{"$f":"+IF(B56=\"\",\"\",MAX(A$1:A55)+1)","v":""},{"$f":"IF(+Regulated_Operation_Limits!C78=\"\",\"\",IF(COUNTIF(Regulated_Operation_Limits!$C78:$C$100,Regulated_Operation_Limits!C78)=1,Regulated_Operation_Limits!C78,\"\"))","v":""},"",{"$nulls":9},{"$f":"+IF(N56=\"\",\"\",MAX(M$1:M55)+1)","v":""},{"$f":"+IF(+CMS_Info!D78=\"\",\"\",IF(COUNTIF(CMS_Info!$D78:$D$500,CMS_Info!D78)=1,CMS_Info!D78,\"\"))","v":""},"",{"$nulls":3},"WV"]
[{"$f":"+IF(B57=\"\",\"\",MAX(A$1:A56)+1)","v":""},{"$f":"IF(+Regulated_Operation_Limits!C79=\"\",\"\",IF(COUNTIF(Regulated_Operation_Limits!$C79:$C$100,Regulated_Operation_Limits!C79)=1,Regulated_Operation_Limits!C79,\"\"))","v":""},"",{"$nulls":9},{"$f":"+IF(N57=\"\",\"\",MAX(M$1:M56)+1)","v":""},{"$f":"+IF(+CMS_Info!D79=\"\",\"\",IF(COUNTIF(CMS_Info!$D79:$D$500,CMS_Info!D79)=1,CMS_Info!D79,\"\"))","v":""},"",{"$nulls":3},"WY"]
[{"$f":"+IF(B58=\"\",\"\",MAX(A$1:A57)+1)","v":""},{"$f":"IF(+Regulated_Operation_Limits!C80=\"\",\"\",IF(COUNTIF(Regulated_Operation_Limits!$C80:$C$100,Regulated_Operation_Limits!C80)=1,Regulated_Operation_Limits!C80,\"\"))","v":""},"",{"$nulls":9},{"$f":"+IF(N58=\"\",\"\",MAX(M$1:M57)+1)","v":""},{"$f":"+IF(+CMS_Info!D80=\"\",\"\",IF(COUNTIF(CMS_Info!$D80:$D$500,CMS_Info!D80)=1,CMS_Info!D80,\"\"))","v":""},""]
[{"$f":"+IF(B59=\"\",\"\",MAX(A$1:A58)+1)","v":""},{"$f":"IF(+Regulated_Operation_Limits!C81=\"\",\"\",IF(COUNTIF(Regulated_Operation_Limits!$C81:$C$100,Regulated_Operation_Limits!C81)=1,Regulated_Operation_Limits!C81,\"\"))","v":""},"",{"$nulls":9},{"$f":"+IF(N59=\"\",\"\",MAX(M$1:M58)+1)","v":""},{"$f":"+IF(+CMS_Info!D81=\"\",\"\",IF(COUNTIF(CMS_Info!$D81:$D$500,CMS_Info!D81)=1,CMS_Info!D81,\"\"))","v":""},""]
[{"$f":"+IF(B60=\"\",\"\",MAX(A$1:A59)+1)","v":""},{"$f":"IF(+Regulated_Operation_Limits!C82=\"\",\"\",IF(COUNTIF(Regulated_Operation_Limits!$C82:$C$100,Regulated_Operation_Limits!C82)=1,Regulated_Operation_Limits!C82,\"\"))","v":""},"",{"$nulls":9},{"$f":"+IF(N60=\"\",\"\",MAX(M$1:M59)+1)","v":""},{"$f":"+IF(+CMS_Info!D82=\"\",\"\",IF(COUNTIF(CMS_Info!$D82:$D$500,CMS_Info!D82)=1,CMS_Info!D82,\"\"))","v":""},""]
[{"$f":"+IF(B61=\"\",\"\",MAX(A$1:A60)+1)","v":""},{"$f":"IF(+Regulated_Operation_Limits!C83=\"\",\"\",IF(COUNTIF(Regulated_Operation_Limits!$C83:$C$100,Regulated_Operation_Limits!C83)=1,Regulated_Operation_Limits!C83,\"\"))","v":""},"",{"$nulls":9},{"$f":"+IF(N61=\"\",\"\",MAX(M$1:M60)+1)","v":""},{"$f":"+IF(+CMS_Info!D83=\"\",\"\",IF(COUNTIF(CMS_Info!$D83:$D$500,CMS_Info!D83)=1,CMS_Info!D83,\"\"))","v":""},""]
[{"$f":"+IF(B62=\"\",\"\",MAX(A$1:A61)+1)","v":""},{"$f":"IF(+Regulated_Operation_Limits!C84=\"\",\"\",IF(COUNTIF(Regulated_Operation_Limits!$C84:$C$100,Regulated_Operation_Limits!C84)=1,Regulated_Operation_Limits!C84,\"\"))","v":""},"",{"$nulls":9},{"$f":"+IF(N62=\"\",\"\",MAX(M$1:M61)+1)","v":""},{"$f":"+IF(+CMS_Info!D84=\"\",\"\",IF(COUNTIF(CMS_Info!$D84:$D$500,CMS_Info!D84)=1,CMS_Info!D84,\"\"))","v":""},""]
[{"$f":"+IF(B63=\"\",\"\",MAX(A$1:A62)+1)","v":""},{"$f":"IF(+Regulated_Operation_Limits!C85=\"\",\"\",IF(COUNTIF(Regulated_Operation_Limits!$C85:$C$100,Regulated_Operation_Limits!C85)=1,Regulated_Operation_Limits!C85,\"\"))","v":""},"",{"$nulls":9},{"$f":"+IF(N63=\"\",\"\",MAX(M$1:M62)+1)","v":""},{"$f":"+IF(+CMS_Info!D85=\"\",\"\",IF(COUNTIF(CMS_Info!$D85:$D$500,CMS_Info!D85)=1,CMS_Info!D85,\"\"))","v":""},""]
[{"$f":"+IF(B64=\"\",\"\",MAX(A$1:A63)+1)","v":""},{"$f":"IF(+Regulated_Operation_Limits!C86=\"\",\"\",IF(COUNTIF(Regulated_Operation_Limits!$C86:$C$100,Regulated_Operation_Limits!C86)=1,Regulated_Operation_Limits!C86,\"\"))","v":""},"",{"$nulls":9},{"$f":"+IF(N64=\"\",\"\",MAX(M$1:M63)+1)","v":""},{"$f":"+IF(+CMS_Info!D86=\"\",\"\",IF(COUNTIF(CMS_Info!$D86:$D$500,CMS_Info!D86)=1,CMS_Info!D86,\"\"))","v":""},""]
[{"$f":"+IF(B65=\"\",\"\",MAX(A$1:A64)+1)","v":""},{"$f":"IF(+Regulated_Operation_Limits!C87=\"\",\"\",IF(COUNTIF(Regulated_Operation_Limits!$C87:$C$100,Regulated_Operation_Limits!C87)=1,Regulated_Operation_Limits!C87,\"\"))","v":""},"",{"$nulls":9},{"$f":"+IF(N65=\"\",\"\",MAX(M$1:M64)+1)","v":""},{"$f":"+IF(+CMS_Info!D87=\"\",\"\",IF(COUNTIF(CMS_Info!$D87:$D$500,CMS_Info!D87)=1,CMS_Info!D87,\"\"))","v":""},""]
[{"$f":"+IF(B66=\"\",\"\",MAX(A$1:A65)+1)","v":""},{"$f":"IF(+Regulated_Operation_Limits!C88=\"\",\"\",IF(COUNTIF(Regulated_Operation_Limits!$C88:$C$100,Regulated_Operation_Limits!C88)=1,Regulated_Operation_Limits!C88,\"\"))","v":""},{"$f":"+IFERROR(INDEX($B$2:$B$501,MATCH(ROW()-ROW($C$1),$A$2:$A$501,0)),\"\")","v":""},{"$nulls":9},{"$f":"+IF(N66=\"\",\"\",MAX(M$1:M65)+1)","v":""},{"$f":"+IF(+CMS_Info!D88=\"\",\"\",IF(COUNTIF(CMS_Info!$D88:$D$500,CMS_Info!D88)=1,CMS_Info!D88,\"\"))","v":""},{"$f":"+IFERROR(INDEX($N$2:$N$501,MATCH(ROW()-ROW($O$1),$M$2:$M$501,0)),\"\")","v":""}]
[{"$f":"+IF(B67=\"\",\"\",MAX(A$1:A66)+1)","v":""},{"$f":"IF(+Regulated_Operation_Limits!C89=\"\",\"\",IF(COUNTIF(Regulated_Operation_Limits!$C89:$C$100,Regulated_Operation_Limits!C89)=1,Regulated_Operation_Limits!C89,\"\"))","v":""},"",{"$nulls":9},{"$f":"+IF(N67=\"\",\"\",MAX(M$1:M66)+1)","v":""},{"$f":"+IF(+CMS_Info!D89=\"\",\"\",IF(COUNTIF(CMS_Info!$D89:$D$500,CMS_Info!D89)=1,CMS_Info!D89,\"\"))","v":""},""]
[{"$f":"+IF(B68=\"\",\"\",MAX(A$1:A67)+1)","v":""},{"$f":"IF(+Regulated_Operation_Limits!C90=\"\",\"\",IF(COUNTIF(Regulated_Operation_Limits!$C90:$C$100,Regulated_Operation_Limits!C90)=1,Regulated_Operation_Limits!C90,\"\"))","v":""},"",{"$nulls":9},{"$f":"+IF(N68=\"\",\"\",MAX(M$1:M67)+1)","v":""},{"$f":"+IF(+CMS_Info!D90=\"\",\"\",IF(COUNTIF(CMS_Info!$D90:$D$500,CMS_Info!D90)=1,CMS_Info!D90,\"\"))","v":""},""]
[{"$f":"+IF(B69=\"\",\"\",MAX(A$1:A68)+1)","v":""},{"$f":"IF(+Regulated_Operation_Limits!C91=\"\",\"\",IF(COUNTIF(Regulated_Operation_Limits!$C91:$C$100,Regulated_Operation_Limits!C91)=1,Regulated_Operation_Limits!C91,\"\"))","v":""},"",{"$nulls":9},{"$f":"+IF(N69=\"\",\"\",MAX(M$1:M68)+1)","v":""},{"$f":"+IF(+CMS_Info!D91=\"\",\"\",IF(COUNTIF(CMS_Info!$D91:$D$500,CMS_Info!D91)=1,CMS_Info!D91,\"\"))","v":""},""]
[{"$f":"+IF(B70=\"\",\"\",MAX(A$1:A69)+1)","v":""},{"$f":"IF(+Regulated_Operation_Limits!C92=\"\",\"\",IF(COUNTIF(Regulated_Operation_Limits!$C92:$C$100,Regulated_Operation_Limits!C92)=1,Regulated_Operation_Limits!C92,\"\"))","v":""},"",{"$nulls":9},{"$f":"+IF(N70=\"\",\"\",MAX(M$1:M69)+1)","v":""},{"$f":"+IF(+CMS_Info!D92=\"\",\"\",IF(COUNTIF(CMS_Info!$D92:$D$500,CMS_Info!D92)=1,CMS_Info!D92,\"\"))","v":""},""]
[{"$f":"+IF(B71=\"\",\"\",MAX(A$1:A70)+1)","v":""},{"$f":"IF(+Regulated_Operation_Limits!C93=\"\",\"\",IF(COUNTIF(Regulated_Operation_Limits!$C93:$C$100,Regulated_Operation_Limits!C93)=1,Regulated_Operation_Limits!C93,\"\"))","v":""},"",{"$nulls":9},{"$f":"+IF(N71=\"\",\"\",MAX(M$1:M70)+1)","v":""},{"$f":"+IF(+CMS_Info!D93=\"\",\"\",IF(COUNTIF(CMS_Info!$D93:$D$500,CMS_Info!D93)=1,CMS_Info!D93,\"\"))","v":""},""]
[{"$f":"+IF(B72=\"\",\"\",MAX(A$1:A71)+1)","v":""},{"$f":"IF(+Regulated_Operation_Limits!C94=\"\",\"\",IF(COUNTIF(Regulated_Operation_Limits!$C94:$C$100,Regulated_Operation_Limits!C94)=1,Regulated_Operation_Limits!C94,\"\"))","v":""},"",{"$nulls":9},{"$f":"+IF(N72=\"\",\"\",MAX(M$1:M71)+1)","v":""},{"$f":"+IF(+CMS_Info!D94=\"\",\"\",IF(COUNTIF(CMS_Info!$D94:$D$500,CMS_Info!D94)=1,CMS_Info!D94,\"\"))","v":""},""]
[{"$f":"+IF(B73=\"\",\"\",MAX(A$1:A72)+1)","v":""},{"$f":"IF(+Regulated_Operation_Limits!C95=\"\",\"\",IF(COUNTIF(Regulated_Operation_Limits!$C95:$C$100,Regulated_Operation_Limits!C95)=1,Regulated_Operation_Limits!C95,\"\"))","v":""},"",{"$nulls":9},{"$f":"+IF(N73=\"\",\"\",MAX(M$1:M72)+1)","v":""},{"$f":"+IF(+CMS_Info!D95=\"\",\"\",IF(COUNTIF(CMS_Info!$D95:$D$500,CMS_Info!D95)=1,CMS_Info!D95,\"\"))","v":""},""]
[{"$f":"+IF(B74=\"\",\"\",MAX(A$1:A73)+1)","v":""},{"$f":"IF(+Regulated_Operation_Limits!C96=\"\",\"\",IF(COUNTIF(Regulated_Operation_Limits!$C96:$C$100,Regulated_Operation_Limits!C96)=1,Regulated_Operation_Limits!C96,\"\"))","v":""},"",{"$nulls":9},{"$f":"+IF(N74=\"\",\"\",MAX(M$1:M73)+1)","v":""},{"$f":"+IF(+CMS_Info!D96=\"\",\"\",IF(COUNTIF(CMS_Info!$D96:$D$500,CMS_Info!D96)=1,CMS_Info!D96,\"\"))","v":""},""]
[{"$f":"+IF(B75=\"\",\"\",MAX(A$1:A74)+1)","v":""},{"$f":"IF(+Regulated_Operation_Limits!C97=\"\",\"\",IF(COUNTIF(Regulated_Operation_Limits!$C97:$C$100,Regulated_Operation_Limits!C97)=1,Regulated_Operation_Limits!C97,\"\"))","v":""},"",{"$nulls":9},{"$f":"+IF(N75=\"\",\"\",MAX(M$1:M74)+1)","v":""},{"$f":"+IF(+CMS_Info!D97=\"\",\"\",IF(COUNTIF(CMS_Info!$D97:$D$500,CMS_Info!D97)=1,CMS_Info!D97,\"\"))","v":""},""]
[{"$f":"+IF(B76=\"\",\"\",MAX(A$1:A75)+1)","v":""},{"$f":"IF(+Regulated_Operation_Limits!C98=\"\",\"\",IF(COUNTIF(Regulated_Operation_Limits!$C98:$C$100,Regulated_Operation_Limits!C98)=1,Regulated_Operation_Limits!C98,\"\"))","v":""},"",{"$nulls":9},{"$f":"+IF(N76=\"\",\"\",MAX(M$1:M75)+1)","v":""},{"$f":"+IF(+CMS_Info!D98=\"\",\"\",IF(COUNTIF(CMS_Info!$D98:$D$500,CMS_Info!D98)=1,CMS_Info!D98,\"\"))","v":""},""]
[{"$f":"+IF(B77=\"\",\"\",MAX(A$1:A76)+1)","v":""},{"$f":"IF(+Regulated_Operation_Limits!C99=\"\",\"\",IF(COUNTIF(Regulated_Operation_Limits!$C99:$C$100,Regulated_Operation_Limits!C99)=1,Regulated_Operation_Limits!C99,\"\"))","v":""},"",{"$nulls":9},{"$f":"+IF(N77=\"\",\"\",MAX(M$1:M76)+1)","v":""},{"$f":"+IF(+CMS_Info!D99=\"\",\"\",IF(COUNTIF(CMS_Info!$D99:$D$500,CMS_Info!D99)=1,CMS_Info!D99,\"\"))","v":""},""]
[{"$f":"+IF(B78=\"\",\"\",MAX(A$1:A77)+1)","v":""},{"$f":"IF(+Regulated_Operation_Limits!C100=\"\",\"\",IF(COUNTIF(Regulated_Operation_Limits!$C100:$C$100,Regulated_Operation_Limits!C100)=1,Regulated_Operation_Limits!C100,\"\"))","v":""},"",{"$nulls":9},{"$f":"+IF(N78=\"\",\"\",MAX(M$1:M77)+1)","v":""},{"$f":"+IF(+CMS_Info!D100=\"\",\"\",IF(COUNTIF(CMS_Info!$D100:$D$500,CMS_Info!D100)=1,CMS_Info!D100,\"\"))","v":""},""]
[{"$f":"+IF(B79=\"\",\"\",MAX(A$1:A78)+1)","v":""},{"$f":"IF(+Regulated_Operation_Limits!C101=\"\",\"\",IF(COUNTIF(Regulated_Operation_Limits!$C$100:$C101,Regulated_Operation_Limits!C101)=1,Regulated_Operation_Limits!C101,\"\"))","v":""},"",{"$nulls":9},{"$f":"+IF(N79=\"\",\"\",MAX(M$1:M78)+1)","v":""},{"$f":"+IF(+CMS_Info!D101=\"\",\"\",IF(COUNTIF(CMS_Info!$D101:$D$500,CMS_Info!D101)=1,CMS_Info!D101,\"\"))","v":""},""]
[{"$f":"+IF(B80=\"\",\"\",MAX(A$1:A79)+1)","v":""},{"$f":"IF(+Regulated_Operation_Limits!C102=\"\",\"\",IF(COUNTIF(Regulated_Operation_Limits!$C$100:$C102,Regulated_Operation_Limits!C102)=1,Regulated_Operation_Limits!C102,\"\"))","v":""},"",{"$nulls":9},{"$f":"+IF(N80=\"\",\"\",MAX(M$1:M79)+1)","v":""},{"$f":"+IF(+CMS_Info!D102=\"\",\"\",IF(COUNTIF(CMS_Info!$D102:$D$500,CMS_Info!D102)=1,CMS_Info!D102,\"\"))","v":""},""]
[{"$f":"+IF(B81=\"\",\"\",MAX(A$1:A80)+1)","v":""},{"$f":"IF(+Regulated_Operation_Limits!C103=\"\",\"\",IF(COUNTIF(Regulated_Operation_Limits!$C$100:$C103,Regulated_Operation_Limits!C103)=1,Regulated_Operation_Limits!C103,\"\"))","v":""},"",{"$nulls":9},{"$f":"+IF(N81=\"\",\"\",MAX(M$1:M80)+1)","v":""},{"$f":"+IF(+CMS_Info!D103=\"\",\"\",IF(COUNTIF(CMS_Info!$D103:$D$500,CMS_Info!D103)=1,CMS_Info!D103,\"\"))","v":""},""]
[{"$f":"+IF(B82=\"\",\"\",MAX(A$1:A81)+1)","v":""},{"$f":"IF(+Regulated_Operation_Limits!C104=\"\",\"\",IF(COUNTIF(Regulated_Operation_Limits!$C$100:$C104,Regulated_Operation_Limits!C104)=1,Regulated_Operation_Limits!C104,\"\"))","v":""},"",{"$nulls":9},{"$f":"+IF(N82=\"\",\"\",MAX(M$1:M81)+1)","v":""},{"$f":"+IF(+CMS_Info!D104=\"\",\"\",IF(COUNTIF(CMS_Info!$D104:$D$500,CMS_Info!D104)=1,CMS_Info!D104,\"\"))","v":""},""]
[{"$f":"+IF(B83=\"\",\"\",MAX(A$1:A82)+1)","v":""},{"$f":"IF(+Regulated_Operation_Limits!C105=\"\",\"\",IF(COUNTIF(Regulated_Operation_Limits!$C$100:$C105,Regulated_Operation_Limits!C105)=1,Regulated_Operation_Limits!C105,\"\"))","v":""},"",{"$nulls":9},{"$f":"+IF(N83=\"\",\"\",MAX(M$1:M82)+1)","v":""},{"$f":"+IF(+CMS_Info!D105=\"\",\"\",IF(COUNTIF(CMS_Info!$D105:$D$500,CMS_Info!D105)=1,CMS_Info!D105,\"\"))","v":""},""]
[{"$f":"+IF(B84=\"\",\"\",MAX(A$1:A83)+1)","v":""},{"$f":"IF(+Regulated_Operation_Limits!C106=\"\",\"\",IF(COUNTIF(Regulated_Operation_Limits!$C$100:$C106,Regulated_Operation_Limits!C106)=1,Regulated_Operation_Limits!C106,\"\"))","v":""},"",{"$nulls":9},{"$f":"+IF(N84=\"\",\"\",MAX(M$1:M83)+1)","v":""},{"$f":"+IF(+CMS_Info!D106=\"\",\"\",IF(COUNTIF(CMS_Info!$D106:$D$500,CMS_Info!D106)=1,CMS_Info!D106,\"\"))","v":""},""]
[{"$f":"+IF(B85=\"\",\"\",MAX(A$1:A84)+1)","v":""},{"$f":"IF(+Regulated_Operation_Limits!C107=\"\",\"\",IF(COUNTIF(Regulated_Operation_Limits!$C$100:$C107,Regulated_Operation_Limits!C107)=1,Regulated_Operation_Limits!C107,\"\"))","v":""},"",{"$nulls":9},{"$f":"+IF(N85=\"\",\"\",MAX(M$1:M84)+1)","v":""},{"$f":"+IF(+CMS_Info!D107=\"\",\"\",IF(COUNTIF(CMS_Info!$D107:$D$500,CMS_Info!D107)=1,CMS_Info!D107,\"\"))","v":""},""]
[{"$f":"+IF(B86=\"\",\"\",MAX(A$1:A85)+1)","v":""},{"$f":"IF(+Regulated_Operation_Limits!C108=\"\",\"\",IF(COUNTIF(Regulated_Operation_Limits!$C$100:$C108,Regulated_Operation_Limits!C108)=1,Regulated_Operation_Limits!C108,\"\"))","v":""},"",{"$nulls":9},{"$f":"+IF(N86=\"\",\"\",MAX(M$1:M85)+1)","v":""},{"$f":"+IF(+CMS_Info!D108=\"\",\"\",IF(COUNTIF(CMS_Info!$D108:$D$500,CMS_Info!D108)=1,CMS_Info!D108,\"\"))","v":""},""]
[{"$f":"+IF(B87=\"\",\"\",MAX(A$1:A86)+1)","v":""},{"$f":"IF(+Regulated_Operation_Limits!C109=\"\",\"\",IF(COUNTIF(Regulated_Operation_Limits!$C$100:$C109,Regulated_Operation_Limits!C109)=1,Regulated_Operation_Limits!C109,\"\"))","v":""},"",{"$nulls":9},{"$f":"+IF(N87=\"\",\"\",MAX(M$1:M86)+1)","v":""},{"$f":"+IF(+CMS_Info!D109=\"\",\"\",IF(COUNTIF(CMS_Info!$D109:$D$500,CMS_Info!D109)=1,CMS_Info!D109,\"\"))","v":""},""]
[{"$f":"+IF(B88=\"\",\"\",MAX(A$1:A87)+1)","v":""},{"$f":"IF(+Regulated_Operation_Limits!C110=\"\",\"\",IF(COUNTIF(Regulated_Operation_Limits!$C$100:$C110,Regulated_Operation_Limits!C110)=1,Regulated_Operation_Limits!C110,\"\"))","v":""},"",{"$nulls":9},{"$f":"+IF(N88=\"\",\"\",MAX(M$1:M87)+1)","v":""},{"$f":"+IF(+CMS_Info!D110=\"\",\"\",IF(COUNTIF(CMS_Info!$D110:$D$500,CMS_Info!D110)=1,CMS_Info!D110,\"\"))","v":""},""]
[{"$f":"+IF(B89=\"\",\"\",MAX(A$1:A88)+1)","v":""},{"$f":"IF(+Regulated_Operation_Limits!C111=\"\",\"\",IF(COUNTIF(Regulated_Operation_Limits!$C$100:$C111,Regulated_Operation_Limits!C111)=1,Regulated_Operation_Limits!C111,\"\"))","v":""},"",{"$nulls":9},{"$f":"+IF(N89=\"\",\"\",MAX(M$1:M88)+1)","v":""},{"$f":"+IF(+CMS_Info!D111=\"\",\"\",IF(COUNTIF(CMS_Info!$D111:$D$500,CMS_Info!D111)=1,CMS_Info!D111,\"\"))","v":""},""]
[{"$f":"+IF(B90=\"\",\"\",MAX(A$1:A89)+1)","v":""},{"$f":"IF(+Regulated_Operation_Limits!C112=\"\",\"\",IF(COUNTIF(Regulated_Operation_Limits!$C$100:$C112,Regulated_Operation_Limits!C112)=1,Regulated_Operation_Limits!C112,\"\"))","v":""},"",{"$nulls":9},{"$f":"+IF(N90=\"\",\"\",MAX(M$1:M89)+1)","v":""},{"$f":"+IF(+CMS_Info!D112=\"\",\"\",IF(COUNTIF(CMS_Info!$D112:$D$500,CMS_Info!D112)=1,CMS_Info!D112,\"\"))","v":""},""]
[{"$f":"+IF(B91=\"\",\"\",MAX(A$1:A90)+1)","v":""},{"$f":"IF(+Regulated_Operation_Limits!C113=\"\",\"\",IF(COUNTIF(Regulated_Operation_Limits!$C$100:$C113,Regulated_Operation_Limits!C113)=1,Regulated_Operation_Limits!C113,\"\"))","v":""},"",{"$nulls":9},{"$f":"+IF(N91=\"\",\"\",MAX(M$1:M90)+1)","v":""},{"$f":"+IF(+CMS_Info!D113=\"\",\"\",IF(COUNTIF(CMS_Info!$D113:$D$500,CMS_Info!D113)=1,CMS_Info!D113,\"\"))","v":""},""]
[{"$f":"+IF(B92=\"\",\"\",MAX(A$1:A91)+1)","v":""},{"$f":"IF(+Regulated_Operation_Limits!C114=\"\",\"\",IF(COUNTIF(Regulated_Operation_Limits!$C$100:$C114,Regulated_Operation_Limits!C114)=1,Regulated_Operation_Limits!C114,\"\"))","v":""},"",{"$nulls":9},{"$f":"+IF(N92=\"\",\"\",MAX(M$1:M91)+1)","v":""},{"$f":"+IF(+CMS_Info!D114=\"\",\"\",IF(COUNTIF(CMS_Info!$D114:$D$500,CMS_Info!D114)=1,CMS_Info!D114,\"\"))","v":""},""]
[{"$f":"+IF(B93=\"\",\"\",MAX(A$1:A92)+1)","v":""},{"$f":"IF(+Regulated_Operation_Limits!C115=\"\",\"\",IF(COUNTIF(Regulated_Operation_Limits!$C$100:$C115,Regulated_Operation_Limits!C115)=1,Regulated_Operation_Limits!C115,\"\"))","v":""},"",{"$nulls":9},{"$f":"+IF(N93=\"\",\"\",MAX(M$1:M92)+1)","v":""},{"$f":"+IF(+CMS_Info!D115=\"\",\"\",IF(COUNTIF(CMS_Info!$D115:$D$500,CMS_Info!D115)=1,CMS_Info!D115,\"\"))","v":""},""]
[{"$f":"+IF(B94=\"\",\"\",MAX(A$1:A93)+1)","v":""},{"$f":"IF(+Regulated_Operation_Limits!C116=\"\",\"\",IF(COUNTIF(Regulated_Operation_Limits!$C$100:$C116,Regulated_Operation_Limits!C116)=1,Regulated_Operation_Limits!C116,\"\"))","v":""},"",{"$nulls":9},{"$f":"+IF(N94=\"\",\"\",MAX(M$1:M93)+1)","v":""},{"$f":"+IF(+CMS_Info!D116=\"\",\"\",IF(COUNTIF(CMS_Info!$D116:$D$500,CMS_Info!D116)=1,CMS_Info!D116,\"\"))","v":""},""]
[{"$f":"+IF(B95=\"\",\"\",MAX(A$1:A94)+1)","v":""},{"$f":"IF(+Regulated_Operation_Limits!C117=\"\",\"\",IF(COUNTIF(Regulated_Operation_Limits!$C$100:$C117,Regulated_Operation_Limits!C117)=1,Regulated_Operation_Limits!C117,\"\"))","v":""},"",{"$nulls":9},{"$f":"+IF(N95=\"\",\"\",MAX(M$1:M94)+1)","v":""},{"$f":"+IF(+CMS_Info!D117=\"\",\"\",IF(COUNTIF(CMS_Info!$D117:$D$500,CMS_Info!D117)=1,CMS_Info!D117,\"\"))","v":""},""]
[{"$f":"+IF(B96=\"\",\"\",MAX(A$1:A95)+1)","v":""},{"$f":"IF(+Regulated_Operation_Limits!C118=\"\",\"\",IF(COUNTIF(Regulated_Operation_Limits!$C$100:$C118,Regulated_Operation_Limits!C118)=1,Regulated_Operation_Limits!C118,\"\"))","v":""},"",{"$nulls":9},{"$f":"+IF(N96=\"\",\"\",MAX(M$1:M95)+1)","v":""},{"$f":"+IF(+CMS_Info!D118=\"\",\"\",IF(COUNTIF(CMS_Info!$D118:$D$500,CMS_Info!D118)=1,CMS_Info!D118,\"\"))","v":""},""]
[{"$f":"+IF(B97=\"\",\"\",MAX(A$1:A96)+1)","v":""},{"$f":"IF(+Regulated_Operation_Limits!C119=\"\",\"\",IF(COUNTIF(Regulated_Operation_Limits!$C$100:$C119,Regulated_Operation_Limits!C119)=1,Regulated_Operation_Limits!C119,\"\"))","v":""},"",{"$nulls":9},{"$f":"+IF(N97=\"\",\"\",MAX(M$1:M96)+1)","v":""},{"$f":"+IF(+CMS_Info!D119=\"\",\"\",IF(COUNTIF(CMS_Info!$D119:$D$500,CMS_Info!D119)=1,CMS_Info!D119,\"\"))","v":""},""]
[{"$f":"+IF(B98=\"\",\"\",MAX(A$1:A97)+1)","v":""},{"$f":"IF(+Regulated_Operation_Limits!C120=\"\",\"\",IF(COUNTIF(Regulated_Operation_Limits!$C$100:$C120,Regulated_Operation_Limits!C120)=1,Regulated_Operation_Limits!C120,\"\"))","v":""},"",{"$nulls":9},{"$f":"+IF(N98=\"\",\"\",MAX(M$1:M97)+1)","v":""},{"$f":"+IF(+CMS_Info!D120=\"\",\"\",IF(COUNTIF(CMS_Info!$D120:$D$500,CMS_Info!D120)=1,CMS_Info!D120,\"\"))","v":""},""]
[{"$f":"+IF(B99=\"\",\"\",MAX(A$1:A98)+1)","v":""},{"$f":"IF(+Regulated_Operation_Limits!C121=\"\",\"\",IF(COUNTIF(Regulated_Operation_Limits!$C$100:$C121,Regulated_Operation_Limits!C121)=1,Regulated_Operation_Limits!C121,\"\"))","v":""},"",{"$nulls":9},{"$f":"+IF(N99=\"\",\"\",MAX(M$1:M98)+1)","v":""},{"$f":"+IF(+CMS_Info!D121=\"\",\"\",IF(COUNTIF(CMS_Info!$D121:$D$500,CMS_Info!D121)=1,CMS_Info!D121,\"\"))","v":""},""]
[{"$f":"+IF(B100=\"\",\"\",MAX(A$1:A99)+1)","v":""},{"$f":"IF(+Regulated_Operation_Limits!C122=\"\",\"\",IF(COUNTIF(Regulated_Operation_Limits!$C$100:$C122,Regulated_Operation_Limits!C122)=1,Regulated_Operation_Limits!C122,\"\"))","v":""},"",{"$nulls":9},{"$f":"+IF(N100=\"\",\"\",MAX(M$1:M99)+1)","v":""},{"$f":"+IF(+CMS_Info!D122=\"\",\"\",IF(COUNTIF(CMS_Info!$D122:$D$500,CMS_Info!D122)=1,CMS_Info!D122,\"\"))","v":""},""]
[{"$f":"+IF(B101=\"\",\"\",MAX(A$1:A100)+1)","v":""},{"$f":"IF(+Regulated_Operation_Limits!C123=\"\",\"\",IF(COUNTIF(Regulated_Operation_Limits!$C$100:$C123,Regulated_Operation_Limits!C123)=1,Regulated_Operation_Limits!C123,\"\"))","v":""},"",{"$nulls":9},{"$f":"+IF(N101=\"\",\"\",MAX(M$1:M100)+1)","v":""},{"$f":"+IF(+CMS_Info!D123=\"\",\"\",IF(COUNTIF(CMS_Info!$D123:$D$500,CMS_Info!D123)=1,CMS_Info!D123,\"\"))","v":""},""]
[{"$f":"+IF(B102=\"\",\"\",MAX(A$1:A101)+1)","v":""},{"$f":"IF(+Regulated_Operation_Limits!C124=\"\",\"\",IF(COUNTIF(Regulated_Operation_Limits!$C$100:$C124,Regulated_Operation_Limits!C124)=1,Regulated_Operation_Limits!C124,\"\"))","v":""},"",{"$nulls":9},{"$f":"+IF(N102=\"\",\"\",MAX(M$1:M101)+1)","v":""},{"$f":"+IF(+CMS_Info!D124=\"\",\"\",IF(COUNTIF(CMS_Info!$D124:$D$500,CMS_Info!D124)=1,CMS_Info!D124,\"\"))","v":""},""]
[{"$f":"+IF(B103=\"\",\"\",MAX(A$1:A102)+1)","v":""},{"$f":"IF(+Regulated_Operation_Limits!C125=\"\",\"\",IF(COUNTIF(Regulated_Operation_Limits!$C$100:$C125,Regulated_Operation_Limits!C125)=1,Regulated_Operation_Limits!C125,\"\"))","v":""},"",{"$nulls":9},{"$f":"+IF(N103=\"\",\"\",MAX(M$1:M102)+1)","v":""},{"$f":"+IF(+CMS_Info!D125=\"\",\"\",IF(COUNTIF(CMS_Info!$D125:$D$500,CMS_Info!D125)=1,CMS_Info!D125,\"\"))","v":""},""]
[{"$f":"+IF(B104=\"\",\"\",MAX(A$1:A103)+1)","v":""},{"$f":"IF(+Regulated_Operation_Limits!C126=\"\",\"\",IF(COUNTIF(Regulated_Operation_Limits!$C$100:$C126,Regulated_Operation_Limits!C126)=1,Regulated_Operation_Limits!C126,\"\"))","v":""},"",{"$nulls":9},{"$f":"+IF(N104=\"\",\"\",MAX(M$1:M103)+1)","v":""},{"$f":"+IF(+CMS_Info!D126=\"\",\"\",IF(COUNTIF(CMS_Info!$D126:$D$500,CMS_Info!D126)=1,CMS_Info!D126,\"\"))","v":""},""]
[{"$f":"+IF(B105=\"\",\"\",MAX(A$1:A104)+1)","v":""},{"$f":"IF(+Regulated_Operation_Limits!C127=\"\",\"\",IF(COUNTIF(Regulated_Operation_Limits!$C$100:$C127,Regulated_Operation_Limits!C127)=1,Regulated_Operation_Limits!C127,\"\"))","v":""},"",{"$nulls":9},{"$f":"+IF(N105=\"\",\"\",MAX(M$1:M104)+1)","v":""},{"$f":"+IF(+CMS_Info!D127=\"\",\"\",IF(COUNTIF(CMS_Info!$D127:$D$500,CMS_Info!D127)=1,CMS_Info!D127,\"\"))","v":""},""]
[{"$f":"+IF(B106=\"\",\"\",MAX(A$1:A105)+1)","v":""},{"$f":"IF(+Regulated_Operation_Limits!C128=\"\",\"\",IF(COUNTIF(Regulated_Operation_Limits!$C$100:$C128,Regulated_Operation_Limits!C128)=1,Regulated_Operation_Limits!C128,\"\"))","v":""},"",{"$nulls":9},{"$f":"+IF(N106=\"\",\"\",MAX(M$1:M105)+1)","v":""},{"$f":"+IF(+CMS_Info!D128=\"\",\"\",IF(COUNTIF(CMS_Info!$D128:$D$500,CMS_Info!D128)=1,CMS_Info!D128,\"\"))","v":""},""]
[{"$f":"+IF(B107=\"\",\"\",MAX(A$1:A106)+1)","v":""},{"$f":"IF(+Regulated_Operation_Limits!C129=\"\",\"\",IF(COUNTIF(Regulated_Operation_Limits!$C$100:$C129,Regulated_Operation_Limits!C129)=1,Regulated_Operation_Limits!C129,\"\"))","v":""},"",{"$nulls":9},{"$f":"+IF(N107=\"\",\"\",MAX(M$1:M106)+1)","v":""},{"$f":"+IF(+CMS_Info!D129=\"\",\"\",IF(COUNTIF(CMS_Info!$D129:$D$500,CMS_Info!D129)=1,CMS_Info!D129,\"\"))","v":""},""]
[{"$f":"+IF(B108=\"\",\"\",MAX(A$1:A107)+1)","v":""},{"$f":"IF(+Regulated_Operation_Limits!C130=\"\",\"\",IF(COUNTIF(Regulated_Operation_Limits!$C$100:$C130,Regulated_Operation_Limits!C130)=1,Regulated_Operation_Limits!C130,\"\"))","v":""},"",{"$nulls":9},{"$f":"+IF(N108=\"\",\"\",MAX(M$1:M107)+1)","v":""},{"$f":"+IF(+CMS_Info!D130=\"\",\"\",IF(COUNTIF(CMS_Info!$D130:$D$500,CMS_Info!D130)=1,CMS_Info!D130,\"\"))","v":""},""]
[{"$f":"+IF(B109=\"\",\"\",MAX(A$1:A108)+1)","v":""},{"$f":"IF(+Regulated_Operation_Limits!C131=\"\",\"\",IF(COUNTIF(Regulated_Operation_Limits!$C$100:$C131,Regulated_Operation_Limits!C131)=1,Regulated_Operation_Limits!C131,\"\"))","v":""},"",{"$nulls":9},{"$f":"+IF(N109=\"\",\"\",MAX(M$1:M108)+1)","v":""},{"$f":"+IF(+CMS_Info!D131=\"\",\"\",IF(COUNTIF(CMS_Info!$D131:$D$500,CMS_Info!D131)=1,CMS_Info!D131,\"\"))","v":""},""]
[{"$f":"+IF(B110=\"\",\"\",MAX(A$1:A109)+1)","v":""},{"$f":"IF(+Regulated_Operation_Limits!C132=\"\",\"\",IF(COUNTIF(Regulated_Operation_Limits!$C$100:$C132,Regulated_Operation_Limits!C132)=1,Regulated_Operation_Limits!C132,\"\"))","v":""},"",{"$nulls":9},{"$f":"+IF(N110=\"\",\"\",MAX(M$1:M109)+1)","v":""},{"$f":"+IF(+CMS_Info!D132=\"\",\"\",IF(COUNTIF(CMS_Info!$D132:$D$500,CMS_Info!D132)=1,CMS_Info!D132,\"\"))","v":""},""]
[{"$f":"+IF(B111=\"\",\"\",MAX(A$1:A110)+1)","v":""},{"$f":"IF(+Regulated_Operation_Limits!C133=\"\",\"\",IF(COUNTIF(Regulated_Operation_Limits!$C$100:$C133,Regulated_Operation_Limits!C133)=1,Regulated_Operation_Limits!C133,\"\"))","v":""},"",{"$nulls":9},{"$f":"+IF(N111=\"\",\"\",MAX(M$1:M110)+1)","v":""},{"$f":"+IF(+CMS_Info!D133=\"\",\"\",IF(COUNTIF(CMS_Info!$D133:$D$500,CMS_Info!D133)=1,CMS_Info!D133,\"\"))","v":""},""]
[{"$f":"+IF(B112=\"\",\"\",MAX(A$1:A111)+1)","v":""},{"$f":"IF(+Regulated_Operation_Limits!C134=\"\",\"\",IF(COUNTIF(Regulated_Operation_Limits!$C$100:$C134,Regulated_Operation_Limits!C134)=1,Regulated_Operation_Limits!C134,\"\"))","v":""},"",{"$nulls":9},{"$f":"+IF(N112=\"\",\"\",MAX(M$1:M111)+1)","v":""},{"$f":"+IF(+CMS_Info!D134=\"\",\"\",IF(COUNTIF(CMS_Info!$D134:$D$500,CMS_Info!D134)=1,CMS_Info!D134,\"\"))","v":""},""]
[{"$f":"+IF(B113=\"\",\"\",MAX(A$1:A112)+1)","v":""},{"$f":"IF(+Regulated_Operation_Limits!C135=\"\",\"\",IF(COUNTIF(Regulated_Operation_Limits!$C$100:$C135,Regulated_Operation_Limits!C135)=1,Regulated_Operation_Limits!C135,\"\"))","v":""},"",{"$nulls":9},{"$f":"+IF(N113=\"\",\"\",MAX(M$1:M112)+1)","v":""},{"$f":"+IF(+CMS_Info!D135=\"\",\"\",IF(COUNTIF(CMS_Info!$D135:$D$500,CMS_Info!D135)=1,CMS_Info!D135,\"\"))","v":""},""]
[{"$f":"+IF(B114=\"\",\"\",MAX(A$1:A113)+1)","v":""},{"$f":"IF(+Regulated_Operation_Limits!C136=\"\",\"\",IF(COUNTIF(Regulated_Operation_Limits!$C$100:$C136,Regulated_Operation_Limits!C136)=1,Regulated_Operation_Limits!C136,\"\"))","v":""},"",{"$nulls":9},{"$f":"+IF(N114=\"\",\"\",MAX(M$1:M113)+1)","v":""},{"$f":"+IF(+CMS_Info!D136=\"\",\"\",IF(COUNTIF(CMS_Info!$D136:$D$500,CMS_Info!D136)=1,CMS_Info!D136,\"\"))","v":""},""]
[{"$f":"+IF(B115=\"\",\"\",MAX(A$1:A114)+1)","v":""},{"$f":"IF(+Regulated_Operation_Limits!C137=\"\",\"\",IF(COUNTIF(Regulated_Operation_Limits!$C$100:$C137,Regulated_Operation_Limits!C137)=1,Regulated_Operation_Limits!C137,\"\"))","v":""},"",{"$nulls":9},{"$f":"+IF(N115=\"\",\"\",MAX(M$1:M114)+1)","v":""},{"$f":"+IF(+CMS_Info!D137=\"\",\"\",IF(COUNTIF(CMS_Info!$D137:$D$500,CMS_Info!D137)=1,CMS_Info!D137,\"\"))","v":""},""]
[{"$f":"+IF(B116=\"\",\"\",MAX(A$1:A115)+1)","v":""},{"$f":"IF(+Regulated_Operation_Limits!C138=\"\",\"\",IF(COUNTIF(Regulated_Operation_Limits!$C$100:$C138,Regulated_Operation_Limits!C138)=1,Regulated_Operation_Limits!C138,\"\"))","v":""},"",{"$nulls":9},{"$f":"+IF(N116=\"\",\"\",MAX(M$1:M115)+1)","v":""},{"$f":"+IF(+CMS_Info!D138=\"\",\"\",IF(COUNTIF(CMS_Info!$D138:$D$500,CMS_Info!D138)=1,CMS_Info!D138,\"\"))","v":""},""]
[{"$f":"+IF(B117=\"\",\"\",MAX(A$1:A116)+1)","v":""},{"$f":"IF(+Regulated_Operation_Limits!C139=\"\",\"\",IF(COUNTIF(Regulated_Operation_Limits!$C$100:$C139,Regulated_Operation_Limits!C139)=1,Regulated_Operation_Limits!C139,\"\"))","v":""},"",{"$nulls":9},{"$f":"+IF(N117=\"\",\"\",MAX(M$1:M116)+1)","v":""},{"$f":"+IF(+CMS_Info!D139=\"\",\"\",IF(COUNTIF(CMS_Info!$D139:$D$500,CMS_Info!D139)=1,CMS_Info!D139,\"\"))","v":""},""]
[{"$f":"+IF(B118=\"\",\"\",MAX(A$1:A117)+1)","v":""},{"$f":"IF(+Regulated_Operation_Limits!C140=\"\",\"\",IF(COUNTIF(Regulated_Operation_Limits!$C$100:$C140,Regulated_Operation_Limits!C140)=1,Regulated_Operation_Limits!C140,\"\"))","v":""},"",{"$nulls":9},{"$f":"+IF(N118=\"\",\"\",MAX(M$1:M117)+1)","v":""},{"$f":"+IF(+CMS_Info!D140=\"\",\"\",IF(COUNTIF(CMS_Info!$D140:$D$500,CMS_Info!D140)=1,CMS_Info!D140,\"\"))","v":""},""]
[{"$f":"+IF(B119=\"\",\"\",MAX(A$1:A118)+1)","v":""},{"$f":"IF(+Regulated_Operation_Limits!C141=\"\",\"\",IF(COUNTIF(Regulated_Operation_Limits!$C$100:$C141,Regulated_Operation_Limits!C141)=1,Regulated_Operation_Limits!C141,\"\"))","v":""},"",{"$nulls":9},{"$f":"+IF(N119=\"\",\"\",MAX(M$1:M118)+1)","v":""},{"$f":"+IF(+CMS_Info!D141=\"\",\"\",IF(COUNTIF(CMS_Info!$D141:$D$500,CMS_Info!D141)=1,CMS_Info!D141,\"\"))","v":""},""]
[{"$f":"+IF(B120=\"\",\"\",MAX(A$1:A119)+1)","v":""},{"$f":"IF(+Regulated_Operation_Limits!C142=\"\",\"\",IF(COUNTIF(Regulated_Operation_Limits!$C$100:$C142,Regulated_Operation_Limits!C142)=1,Regulated_Operation_Limits!C142,\"\"))","v":""},"",{"$nulls":9},{"$f":"+IF(N120=\"\",\"\",MAX(M$1:M119)+1)","v":""},{"$f":"+IF(+CMS_Info!D142=\"\",\"\",IF(COUNTIF(CMS_Info!$D142:$D$500,CMS_Info!D142)=1,CMS_Info!D142,\"\"))","v":""},""]
[{"$f":"+IF(B121=\"\",\"\",MAX(A$1:A120)+1)","v":""},{"$f":"IF(+Regulated_Operation_Limits!C143=\"\",\"\",IF(COUNTIF(Regulated_Operation_Limits!$C$100:$C143,Regulated_Operation_Limits!C143)=1,Regulated_Operation_Limits!C143,\"\"))","v":""},"",{"$nulls":9},{"$f":"+IF(N121=\"\",\"\",MAX(M$1:M120)+1)","v":""},{"$f":"+IF(+CMS_Info!D143=\"\",\"\",IF(COUNTIF(CMS_Info!$D143:$D$500,CMS_Info!D143)=1,CMS_Info!D143,\"\"))","v":""},""]
[{"$f":"+IF(B122=\"\",\"\",MAX(A$1:A121)+1)","v":""},{"$f":"IF(+Regulated_Operation_Limits!C144=\"\",\"\",IF(COUNTIF(Regulated_Operation_Limits!$C$100:$C144,Regulated_Operation_Limits!C144)=1,Regulated_Operation_Limits!C144,\"\"))","v":""},"",{"$nulls":9},{"$f":"+IF(N122=\"\",\"\",MAX(M$1:M121)+1)","v":""},{"$f":"+IF(+CMS_Info!D144=\"\",\"\",IF(COUNTIF(CMS_Info!$D144:$D$500,CMS_Info!D144)=1,CMS_Info!D144,\"\"))","v":""},""]
[{"$f":"+IF(B123=\"\",\"\",MAX(A$1:A122)+1)","v":""},{"$f":"IF(+Regulated_Operation_Limits!C145=\"\",\"\",IF(COUNTIF(Regulated_Operation_Limits!$C$100:$C145,Regulated_Operation_Limits!C145)=1,Regulated_Operation_Limits!C145,\"\"))","v":""},"",{"$nulls":9},{"$f":"+IF(N123=\"\",\"\",MAX(M$1:M122)+1)","v":""},{"$f":"+IF(+CMS_Info!D145=\"\",\"\",IF(COUNTIF(CMS_Info!$D145:$D$500,CMS_Info!D145)=1,CMS_Info!D145,\"\"))","v":""},""]
[{"$f":"+IF(B124=\"\",\"\",MAX(A$1:A123)+1)","v":""},{"$f":"IF(+Regulated_Operation_Limits!C146=\"\",\"\",IF(COUNTIF(Regulated_Operation_Limits!$C$100:$C146,Regulated_Operation_Limits!C146)=1,Regulated_Operation_Limits!C146,\"\"))","v":""},"",{"$nulls":9},{"$f":"+IF(N124=\"\",\"\",MAX(M$1:M123)+1)","v":""},{"$f":"+IF(+CMS_Info!D146=\"\",\"\",IF(COUNTIF(CMS_Info!$D146:$D$500,CMS_Info!D146)=1,CMS_Info!D146,\"\"))","v":""},""]
[{"$f":"+IF(B125=\"\",\"\",MAX(A$1:A124)+1)","v":""},{"$f":"IF(+Regulated_Operation_Limits!C147=\"\",\"\",IF(COUNTIF(Regulated_Operation_Limits!$C$100:$C147,Regulated_Operation_Limits!C147)=1,Regulated_Operation_Limits!C147,\"\"))","v":""},"",{"$nulls":9},{"$f":"+IF(N125=\"\",\"\",MAX(M$1:M124)+1)","v":""},{"$f":"+IF(+CMS_Info!D147=\"\",\"\",IF(COUNTIF(CMS_Info!$D147:$D$500,CMS_Info!D147)=1,CMS_Info!D147,\"\"))","v":""},""]
[{"$f":"+IF(B126=\"\",\"\",MAX(A$1:A125)+1)","v":""},{"$f":"IF(+Regulated_Operation_Limits!C148=\"\",\"\",IF(COUNTIF(Regulated_Operation_Limits!$C$100:$C148,Regulated_Operation_Limits!C148)=1,Regulated_Operation_Limits!C148,\"\"))","v":""},"",{"$nulls":9},{"$f":"+IF(N126=\"\",\"\",MAX(M$1:M125)+1)","v":""},{"$f":"+IF(+CMS_Info!D148=\"\",\"\",IF(COUNTIF(CMS_Info!$D148:$D$500,CMS_Info!D148)=1,CMS_Info!D148,\"\"))","v":""},""]
[{"$f":"+IF(B127=\"\",\"\",MAX(A$1:A126)+1)","v":""},{"$f":"IF(+Regulated_Operation_Limits!C149=\"\",\"\",IF(COUNTIF(Regulated_Operation_Limits!$C$100:$C149,Regulated_Operation_Limits!C149)=1,Regulated_Operation_Limits!C149,\"\"))","v":""},"",{"$nulls":9},{"$f":"+IF(N127=\"\",\"\",MAX(M$1:M126)+1)","v":""},{"$f":"+IF(+CMS_Info!D149=\"\",\"\",IF(COUNTIF(CMS_Info!$D149:$D$500,CMS_Info!D149)=1,CMS_Info!D149,\"\"))","v":""},""]
[{"$f":"+IF(B128=\"\",\"\",MAX(A$1:A127)+1)","v":""},{"$f":"IF(+Regulated_Operation_Limits!C150=\"\",\"\",IF(COUNTIF(Regulated_Operation_Limits!$C$100:$C150,Regulated_Operation_Limits!C150)=1,Regulated_Operation_Limits!C150,\"\"))","v":""},"",{"$nulls":9},{"$f":"+IF(N128=\"\",\"\",MAX(M$1:M127)+1)","v":""},{"$f":"+IF(+CMS_Info!D150=\"\",\"\",IF(COUNTIF(CMS_Info!$D150:$D$500,CMS_Info!D150)=1,CMS_Info!D150,\"\"))","v":""},""]
[{"$f":"+IF(B129=\"\",\"\",MAX(A$1:A128)+1)","v":""},{"$f":"IF(+Regulated_Operation_Limits!C151=\"\",\"\",IF(COUNTIF(Regulated_Operation_Limits!$C$100:$C151,Regulated_Operation_Limits!C151)=1,Regulated_Operation_Limits!C151,\"\"))","v":""},"",{"$nulls":9},{"$f":"+IF(N129=\"\",\"\",MAX(M$1:M128)+1)","v":""},{"$f":"+IF(+CMS_Info!D151=\"\",\"\",IF(COUNTIF(CMS_Info!$D151:$D$500,CMS_Info!D151)=1,CMS_Info!D151,\"\"))","v":""},""]
[{"$f":"+IF(B130=\"\",\"\",MAX(A$1:A129)+1)","v":""},{"$f":"IF(+Regulated_Operation_Limits!C152=\"\",\"\",IF(COUNTIF(Regulated_Operation_Limits!$C$100:$C152,Regulated_Operation_Limits!C152)=1,Regulated_Operation_Limits!C152,\"\"))","v":""},{"$f":"+IFERROR(INDEX($B$2:$B$501,MATCH(ROW()-ROW($C$1),$A$2:$A$501,0)),\"\")","v":""},{"$nulls":9},{"$f":"+IF(N130=\"\",\"\",MAX(M$1:M129)+1)","v":""},{"$f":"+IF(+CMS_Info!D152=\"\",\"\",IF(COUNTIF(CMS_Info!$D152:$D$500,CMS_Info!D152)=1,CMS_Info!D152,\"\"))","v":""},{"$f":"+IFERROR(INDEX($N$2:$N$501,MATCH(ROW()-ROW($O$1),$M$2:$M$501,0)),\"\")","v":""}]
[{"$f":"+IF(B131=\"\",\"\",MAX(A$1:A130)+1)","v":""},{"$f":"IF(+Regulated_Operation_Limits!C153=\"\",\"\",IF(COUNTIF(Regulated_Operation_Limits!$C$100:$C153,Regulated_Operation_Limits!C153)=1,Regulated_Operation_Limits!C153,\"\"))","v":""},"",{"$nulls":9},{"$f":"+IF(N131=\"\",\"\",MAX(M$1:M130)+1)","v":""},{"$f":"+IF(+CMS_Info!D153=\"\",\"\",IF(COUNTIF(CMS_Info!$D153:$D$500,CMS_Info!D153)=1,CMS_Info!D153,\"\"))","v":""},""]
[{"$f":"+IF(B132=\"\",\"\",MAX(A$1:A131)+1)","v":""},{"$f":"IF(+Regulated_Operation_Limits!C154=\"\",\"\",IF(COUNTIF(Regulated_Operation_Limits!$C$100:$C154,Regulated_Operation_Limits!C154)=1,Regulated_Operation_Limits!C154,\"\"))","v":""},"",{"$nulls":9},{"$f":"+IF(N132=\"\",\"\",MAX(M$1:M131)+1)","v":""},{"$f":"+IF(+CMS_Info!D154=\"\",\"\",IF(COUNTIF(CMS_Info!$D154:$D$500,CMS_Info!D154)=1,CMS_Info!D154,\"\"))","v":""},""]
[{"$f":"+IF(B133=\"\",\"\",MAX(A$1:A132)+1)","v":""},{"$f":"IF(+Regulated_Operation_Limits!C155=\"\",\"\",IF(COUNTIF(Regulated_Operation_Limits!$C$100:$C155,Regulated_Operation_Limits!C155)=1,Regulated_Operation_Limits!C155,\"\"))","v":""},"",{"$nulls":9},{"$f":"+IF(N133=\"\",\"\",MAX(M$1:M132)+1)","v":""},{"$f":"+IF(+CMS_Info!D155=\"\",\"\",IF(COUNTIF(CMS_Info!$D155:$D$500,CMS_Info!D155)=1,CMS_Info!D155,\"\"))","v":""},""]
[{"$f":"+IF(B134=\"\",\"\",MAX(A$1:A133)+1)","v":""},{"$f":"IF(+Regulated_Operation_Limits!C156=\"\",\"\",IF(COUNTIF(Regulated_Operation_Limits!$C$100:$C156,Regulated_Operation_Limits!C156)=1,Regulated_Operation_Limits!C156,\"\"))","v":""},"",{"$nulls":9},{"$f":"+IF(N134=\"\",\"\",MAX(M$1:M133)+1)","v":""},{"$f":"+IF(+CMS_Info!D156=\"\",\"\",IF(COUNTIF(CMS_Info!$D156:$D$500,CMS_Info!D156)=1,CMS_Info!D156,\"\"))","v":""},""]
[{"$f":"+IF(B135=\"\",\"\",MAX(A$1:A134)+1)","v":""},{"$f":"IF(+Regulated_Operation_Limits!C157=\"\",\"\",IF(COUNTIF(Regulated_Operation_Limits!$C$100:$C157,Regulated_Operation_Limits!C157)=1,Regulated_Operation_Limits!C157,\"\"))","v":""},"",{"$nulls":9},{"$f":"+IF(N135=\"\",\"\",MAX(M$1:M134)+1)","v":""},{"$f":"+IF(+CMS_Info!D157=\"\",\"\",IF(COUNTIF(CMS_Info!$D157:$D$500,CMS_Info!D157)=1,CMS_Info!D157,\"\"))","v":""},""]
[{"$f":"+IF(B136=\"\",\"\",MAX(A$1:A135)+1)","v":""},{"$f":"IF(+Regulated_Operation_Limits!C158=\"\",\"\",IF(COUNTIF(Regulated_Operation_Limits!$C$100:$C158,Regulated_Operation_Limits!C158)=1,Regulated_Operation_Limits!C158,\"\"))","v":""},"",{"$nulls":9},{"$f":"+IF(N136=\"\",\"\",MAX(M$1:M135)+1)","v":""},{"$f":"+IF(+CMS_Info!D158=\"\",\"\",IF(COUNTIF(CMS_Info!$D158:$D$500,CMS_Info!D158)=1,CMS_Info!D158,\"\"))","v":""},""]
[{"$f":"+IF(B137=\"\",\"\",MAX(A$1:A136)+1)","v":""},{"$f":"IF(+Regulated_Operation_Limits!C159=\"\",\"\",IF(COUNTIF(Regulated_Operation_Limits!$C$100:$C159,Regulated_Operation_Limits!C159)=1,Regulated_Operation_Limits!C159,\"\"))","v":""},"",{"$nulls":9},{"$f":"+IF(N137=\"\",\"\",MAX(M$1:M136)+1)","v":""},{"$f":"+IF(+CMS_Info!D159=\"\",\"\",IF(COUNTIF(CMS_Info!$D159:$D$500,CMS_Info!D159)=1,CMS_Info!D159,\"\"))","v":""},""]
[{"$f":"+IF(B138=\"\",\"\",MAX(A$1:A137)+1)","v":""},{"$f":"IF(+Regulated_Operation_Limits!C160=\"\",\"\",IF(COUNTIF(Regulated_Operation_Limits!$C$100:$C160,Regulated_Operation_Limits!C160)=1,Regulated_Operation_Limits!C160,\"\"))","v":""},"",{"$nulls":9},{"$f":"+IF(N138=\"\",\"\",MAX(M$1:M137)+1)","v":""},{"$f":"+IF(+CMS_Info!D160=\"\",\"\",IF(COUNTIF(CMS_Info!$D160:$D$500,CMS_Info!D160)=1,CMS_Info!D160,\"\"))","v":""},""]
[{"$f":"+IF(B139=\"\",\"\",MAX(A$1:A138)+1)","v":""},{"$f":"IF(+Regulated_Operation_Limits!C161=\"\",\"\",IF(COUNTIF(Regulated_Operation_Limits!$C$100:$C161,Regulated_Operation_Limits!C161)=1,Regulated_Operation_Limits!C161,\"\"))","v":""},"",{"$nulls":9},{"$f":"+IF(N139=\"\",\"\",MAX(M$1:M138)+1)","v":""},{"$f":"+IF(+CMS_Info!D161=\"\",\"\",IF(COUNTIF(CMS_Info!$D161:$D$500,CMS_Info!D161)=1,CMS_Info!D161,\"\"))","v":""},""]
[{"$f":"+IF(B140=\"\",\"\",MAX(A$1:A139)+1)","v":""},{"$f":"IF(+Regulated_Operation_Limits!C162=\"\",\"\",IF(COUNTIF(Regulated_Operation_Limits!$C$100:$C162,Regulated_Operation_Limits!C162)=1,Regulated_Operation_Limits!C162,\"\"))","v":""},"",{"$nulls":9},{"$f":"+IF(N140=\"\",\"\",MAX(M$1:M139)+1)","v":""},{"$f":"+IF(+CMS_Info!D162=\"\",\"\",IF(COUNTIF(CMS_Info!$D162:$D$500,CMS_Info!D162)=1,CMS_Info!D162,\"\"))","v":""},""]
[{"$f":"+IF(B141=\"\",\"\",MAX(A$1:A140)+1)","v":""},{"$f":"IF(+Regulated_Operation_Limits!C163=\"\",\"\",IF(COUNTIF(Regulated_Operation_Limits!$C$100:$C163,Regulated_Operation_Limits!C163)=1,Regulated_Operation_Limits!C163,\"\"))","v":""},"",{"$nulls":9},{"$f":"+IF(N141=\"\",\"\",MAX(M$1:M140)+1)","v":""},{"$f":"+IF(+CMS_Info!D163=\"\",\"\",IF(COUNTIF(CMS_Info!$D163:$D$500,CMS_Info!D163)=1,CMS_Info!D163,\"\"))","v":""},""]
[{"$f":"+IF(B142=\"\",\"\",MAX(A$1:A141)+1)","v":""},{"$f":"IF(+Regulated_Operation_Limits!C164=\"\",\"\",IF(COUNTIF(Regulated_Operation_Limits!$C$100:$C164,Regulated_Operation_Limits!C164)=1,Regulated_Operation_Limits!C164,\"\"))","v":""},"",{"$nulls":9},{"$f":"+IF(N142=\"\",\"\",MAX(M$1:M141)+1)","v":""},{"$f":"+IF(+CMS_Info!D164=\"\",\"\",IF(COUNTIF(CMS_Info!$D164:$D$500,CMS_Info!D164)=1,CMS_Info!D164,\"\"))","v":""},""]
[{"$f":"+IF(B143=\"\",\"\",MAX(A$1:A142)+1)","v":""},{"$f":"IF(+Regulated_Operation_Limits!C165=\"\",\"\",IF(COUNTIF(Regulated_Operation_Limits!$C$100:$C165,Regulated_Operation_Limits!C165)=1,Regulated_Operation_Limits!C165,\"\"))","v":""},"",{"$nulls":9},{"$f":"+IF(N143=\"\",\"\",MAX(M$1:M142)+1)","v":""},{"$f":"+IF(+CMS_Info!D165=\"\",\"\",IF(COUNTIF(CMS_Info!$D165:$D$500,CMS_Info!D165)=1,CMS_Info!D165,\"\"))","v":""},""]
[{"$f":"+IF(B144=\"\",\"\",MAX(A$1:A143)+1)","v":""},{"$f":"IF(+Regulated_Operation_Limits!C166=\"\",\"\",IF(COUNTIF(Regulated_Operation_Limits!$C$100:$C166,Regulated_Operation_Limits!C166)=1,Regulated_Operation_Limits!C166,\"\"))","v":""},"",{"$nulls":9},{"$f":"+IF(N144=\"\",\"\",MAX(M$1:M143)+1)","v":""},{"$f":"+IF(+CMS_Info!D166=\"\",\"\",IF(COUNTIF(CMS_Info!$D166:$D$500,CMS_Info!D166)=1,CMS_Info!D166,\"\"))","v":""},""]
[{"$f":"+IF(B145=\"\",\"\",MAX(A$1:A144)+1)","v":""},{"$f":"IF(+Regulated_Operation_Limits!C167=\"\",\"\",IF(COUNTIF(Regulated_Operation_Limits!$C$100:$C167,Regulated_Operation_Limits!C167)=1,Regulated_Operation_Limits!C167,\"\"))","v":""},"",{"$nulls":9},{"$f":"+IF(N145=\"\",\"\",MAX(M$1:M144)+1)","v":""},{"$f":"+IF(+CMS_Info!D167=\"\",\"\",IF(COUNTIF(CMS_Info!$D167:$D$500,CMS_Info!D167)=1,CMS_Info!D167,\"\"))","v":""},""]
[{"$f":"+IF(B146=\"\",\"\",MAX(A$1:A145)+1)","v":""},{"$f":"IF(+Regulated_Operation_Limits!C168=\"\",\"\",IF(COUNTIF(Regulated_Operation_Limits!$C$100:$C168,Regulated_Operation_Limits!C168)=1,Regulated_Operation_Limits!C168,\"\"))","v":""},"",{"$nulls":9},{"$f":"+IF(N146=\"\",\"\",MAX(M$1:M145)+1)","v":""},{"$f":"+IF(+CMS_Info!D168=\"\",\"\",IF(COUNTIF(CMS_Info!$D168:$D$500,CMS_Info!D168)=1,CMS_Info!D168,\"\"))","v":""},""]
[{"$f":"+IF(B147=\"\",\"\",MAX(A$1:A146)+1)","v":""},{"$f":"IF(+Regulated_Operation_Limits!C169=\"\",\"\",IF(COUNTIF(Regulated_Operation_Limits!$C$100:$C169,Regulated_Operation_Limits!C169)=1,Regulated_Operation_Limits!C169,\"\"))","v":""},"",{"$nulls":9},{"$f":"+IF(N147=\"\",\"\",MAX(M$1:M146)+1)","v":""},{"$f":"+IF(+CMS_Info!D169=\"\",\"\",IF(COUNTIF(CMS_Info!$D169:$D$500,CMS_Info!D169)=1,CMS_Info!D169,\"\"))","v":""},""]
[{"$f":"+IF(B148=\"\",\"\",MAX(A$1:A147)+1)","v":""},{"$f":"IF(+Regulated_Operation_Limits!C170=\"\",\"\",IF(COUNTIF(Regulated_Operation_Limits!$C$100:$C170,Regulated_Operation_Limits!C170)=1,Regulated_Operation_Limits!C170,\"\"))","v":""},"",{"$nulls":9},{"$f":"+IF(N148=\"\",\"\",MAX(M$1:M147)+1)","v":""},{"$f":"+IF(+CMS_Info!D170=\"\",\"\",IF(COUNTIF(CMS_Info!$D170:$D$500,CMS_Info!D170)=1,CMS_Info!D170,\"\"))","v":""},""]
[{"$f":"+IF(B149=\"\",\"\",MAX(A$1:A148)+1)","v":""},{"$f":"IF(+Regulated_Operation_Limits!C171=\"\",\"\",IF(COUNTIF(Regulated_Operation_Limits!$C$100:$C171,Regulated_Operation_Limits!C171)=1,Regulated_Operation_Limits!C171,\"\"))","v":""},"",{"$nulls":9},{"$f":"+IF(N149=\"\",\"\",MAX(M$1:M148)+1)","v":""},{"$f":"+IF(+CMS_Info!D171=\"\",\"\",IF(COUNTIF(CMS_Info!$D171:$D$500,CMS_Info!D171)=1,CMS_Info!D171,\"\"))","v":""},""]
[{"$f":"+IF(B150=\"\",\"\",MAX(A$1:A149)+1)","v":""},{"$f":"IF(+Regulated_Operation_Limits!C172=\"\",\"\",IF(COUNTIF(Regulated_Operation_Limits!$C$100:$C172,Regulated_Operation_Limits!C172)=1,Regulated_Operation_Limits!C172,\"\"))","v":""},"",{"$nulls":9},{"$f":"+IF(N150=\"\",\"\",MAX(M$1:M149)+1)","v":""},{"$f":"+IF(+CMS_Info!D172=\"\",\"\",IF(COUNTIF(CMS_Info!$D172:$D$500,CMS_Info!D172)=1,CMS_Info!D172,\"\"))","v":""},""]
[{"$f":"+IF(B151=\"\",\"\",MAX(A$1:A150)+1)","v":""},{"$f":"IF(+Regulated_Operation_Limits!C173=\"\",\"\",IF(COUNTIF(Regulated_Operation_Limits!$C$100:$C173,Regulated_Operation_Limits!C173)=1,Regulated_Operation_Limits!C173,\"\"))","v":""},"",{"$nulls":9},{"$f":"+IF(N151=\"\",\"\",MAX(M$1:M150)+1)","v":""},{"$f":"+IF(+CMS_Info!D173=\"\",\"\",IF(COUNTIF(CMS_Info!$D173:$D$500,CMS_Info!D173)=1,CMS_Info!D173,\"\"))","v":""},""]
[{"$f":"+IF(B152=\"\",\"\",MAX(A$1:A151)+1)","v":""},{"$f":"IF(+Regulated_Operation_Limits!C174=\"\",\"\",IF(COUNTIF(Regulated_Operation_Limits!$C$100:$C174,Regulated_Operation_Limits!C174)=1,Regulated_Operation_Limits!C174,\"\"))","v":""},"",{"$nulls":9},{"$f":"+IF(N152=\"\",\"\",MAX(M$1:M151)+1)","v":""},{"$f":"+IF(+CMS_Info!D174=\"\",\"\",IF(COUNTIF(CMS_Info!$D174:$D$500,CMS_Info!D174)=1,CMS_Info!D174,\"\"))","v":""},""]
[{"$f":"+IF(B153=\"\",\"\",MAX(A$1:A152)+1)","v":""},{"$f":"IF(+Regulated_Operation_Limits!C175=\"\",\"\",IF(COUNTIF(Regulated_Operation_Limits!$C$100:$C175,Regulated_Operation_Limits!C175)=1,Regulated_Operation_Limits!C175,\"\"))","v":""},"",{"$nulls":9},{"$f":"+IF(N153=\"\",\"\",MAX(M$1:M152)+1)","v":""},{"$f":"+IF(+CMS_Info!D175=\"\",\"\",IF(COUNTIF(CMS_Info!$D175:$D$500,CMS_Info!D175)=1,CMS_Info!D175,\"\"))","v":""},""]
[{"$f":"+IF(B154=\"\",\"\",MAX(A$1:A153)+1)","v":""},{"$f":"IF(+Regulated_Operation_Limits!C176=\"\",\"\",IF(COUNTIF(Regulated_Operation_Limits!$C$100:$C176,Regulated_Operation_Limits!C176)=1,Regulated_Operation_Limits!C176,\"\"))","v":""},"",{"$nulls":9},{"$f":"+IF(N154=\"\",\"\",MAX(M$1:M153)+1)","v":""},{"$f":"+IF(+CMS_Info!D176=\"\",\"\",IF(COUNTIF(CMS_Info!$D176:$D$500,CMS_Info!D176)=1,CMS_Info!D176,\"\"))","v":""},""]
[{"$f":"+IF(B155=\"\",\"\",MAX(A$1:A154)+1)","v":""},{"$f":"IF(+Regulated_Operation_Limits!C177=\"\",\"\",IF(COUNTIF(Regulated_Operation_Limits!$C$100:$C177,Regulated_Operation_Limits!C177)=1,Regulated_Operation_Limits!C177,\"\"))","v":""},"",{"$nulls":9},{"$f":"+IF(N155=\"\",\"\",MAX(M$1:M154)+1)","v":""},{"$f":"+IF(+CMS_Info!D177=\"\",\"\",IF(COUNTIF(CMS_Info!$D177:$D$500,CMS_Info!D177)=1,CMS_Info!D177,\"\"))","v":""},""]
[{"$f":"+IF(B156=\"\",\"\",MAX(A$1:A155)+1)","v":""},{"$f":"IF(+Regulated_Operation_Limits!C178=\"\",\"\",IF(COUNTIF(Regulated_Operation_Limits!$C$100:$C178,Regulated_Operation_Limits!C178)=1,Regulated_Operation_Limits!C178,\"\"))","v":""},"",{"$nulls":9},{"$f":"+IF(N156=\"\",\"\",MAX(M$1:M155)+1)","v":""},{"$f":"+IF(+CMS_Info!D178=\"\",\"\",IF(COUNTIF(CMS_Info!$D178:$D$500,CMS_Info!D178)=1,CMS_Info!D178,\"\"))","v":""},""]
[{"$f":"+IF(B157=\"\",\"\",MAX(A$1:A156)+1)","v":""},{"$f":"IF(+Regulated_Operation_Limits!C179=\"\",\"\",IF(COUNTIF(Regulated_Operation_Limits!$C$100:$C179,Regulated_Operation_Limits!C179)=1,Regulated_Operation_Limits!C179,\"\"))","v":""},"",{"$nulls":9},{"$f":"+IF(N157=\"\",\"\",MAX(M$1:M156)+1)","v":""},{"$f":"+IF(+CMS_Info!D179=\"\",\"\",IF(COUNTIF(CMS_Info!$D179:$D$500,CMS_Info!D179)=1,CMS_Info!D179,\"\"))","v":""},""]
[{"$f":"+IF(B158=\"\",\"\",MAX(A$1:A157)+1)","v":""},{"$f":"IF(+Regulated_Operation_Limits!C180=\"\",\"\",IF(COUNTIF(Regulated_Operation_Limits!$C$100:$C180,Regulated_Operation_Limits!C180)=1,Regulated_Operation_Limits!C180,\"\"))","v":""},"",{"$nulls":9},{"$f":"+IF(N158=\"\",\"\",MAX(M$1:M157)+1)","v":""},{"$f":"+IF(+CMS_Info!D180=\"\",\"\",IF(COUNTIF(CMS_Info!$D180:$D$500,CMS_Info!D180)=1,CMS_Info!D180,\"\"))","v":""},""]
[{"$f":"+IF(B159=\"\",\"\",MAX(A$1:A158)+1)","v":""},{"$f":"IF(+Regulated_Operation_Limits!C181=\"\",\"\",IF(COUNTIF(Regulated_Operation_Limits!$C$100:$C181,Regulated_Operation_Limits!C181)=1,Regulated_Operation_Limits!C181,\"\"))","v":""},"",{"$nulls":9},{"$f":"+IF(N159=\"\",\"\",MAX(M$1:M158)+1)","v":""},{"$f":"+IF(+CMS_Info!D181=\"\",\"\",IF(COUNTIF(CMS_Info!$D181:$D$500,CMS_Info!D181)=1,CMS_Info!D181,\"\"))","v":""},""]
[{"$f":"+IF(B160=\"\",\"\",MAX(A$1:A159)+1)","v":""},{"$f":"IF(+Regulated_Operation_Limits!C182=\"\",\"\",IF(COUNTIF(Regulated_Operation_Limits!$C$100:$C182,Regulated_Operation_Limits!C182)=1,Regulated_Operation_Limits!C182,\"\"))","v":""},"",{"$nulls":9},{"$f":"+IF(N160=\"\",\"\",MAX(M$1:M159)+1)","v":""},{"$f":"+IF(+CMS_Info!D182=\"\",\"\",IF(COUNTIF(CMS_Info!$D182:$D$500,CMS_Info!D182)=1,CMS_Info!D182,\"\"))","v":""},""]
[{"$f":"+IF(B161=\"\",\"\",MAX(A$1:A160)+1)","v":""},{"$f":"IF(+Regulated_Operation_Limits!C183=\"\",\"\",IF(COUNTIF(Regulated_Operation_Limits!$C$100:$C183,Regulated_Operation_Limits!C183)=1,Regulated_Operation_Limits!C183,\"\"))","v":""},"",{"$nulls":9},{"$f":"+IF(N161=\"\",\"\",MAX(M$1:M160)+1)","v":""},{"$f":"+IF(+CMS_Info!D183=\"\",\"\",IF(COUNTIF(CMS_Info!$D183:$D$500,CMS_Info!D183)=1,CMS_Info!D183,\"\"))","v":""},""]
[{"$f":"+IF(B162=\"\",\"\",MAX(A$1:A161)+1)","v":""},{"$f":"IF(+Regulated_Operation_Limits!C184=\"\",\"\",IF(COUNTIF(Regulated_Operation_Limits!$C$100:$C184,Regulated_Operation_Limits!C184)=1,Regulated_Operation_Limits!C184,\"\"))","v":""},"",{"$nulls":9},{"$f":"+IF(N162=\"\",\"\",MAX(M$1:M161)+1)","v":""},{"$f":"+IF(+CMS_Info!D184=\"\",\"\",IF(COUNTIF(CMS_Info!$D184:$D$500,CMS_Info!D184)=1,CMS_Info!D184,\"\"))","v":""},""]
[{"$f":"+IF(B163=\"\",\"\",MAX(A$1:A162)+1)","v":""},{"$f":"IF(+Regulated_Operation_Limits!C185=\"\",\"\",IF(COUNTIF(Regulated_Operation_Limits!$C$100:$C185,Regulated_Operation_Limits!C185)=1,Regulated_Operation_Limits!C185,\"\"))","v":""},"",{"$nulls":9},{"$f":"+IF(N163=\"\",\"\",MAX(M$1:M162)+1)","v":""},{"$f":"+IF(+CMS_Info!D185=\"\",\"\",IF(COUNTIF(CMS_Info!$D185:$D$500,CMS_Info!D185)=1,CMS_Info!D185,\"\"))","v":""},""]
[{"$f":"+IF(B164=\"\",\"\",MAX(A$1:A163)+1)","v":""},{"$f":"IF(+Regulated_Operation_Limits!C186=\"\",\"\",IF(COUNTIF(Regulated_Operation_Limits!$C$100:$C186,Regulated_Operation_Limits!C186)=1,Regulated_Operation_Limits!C186,\"\"))","v":""},"",{"$nulls":9},{"$f":"+IF(N164=\"\",\"\",MAX(M$1:M163)+1)","v":""},{"$f":"+IF(+CMS_Info!D186=\"\",\"\",IF(COUNTIF(CMS_Info!$D186:$D$500,CMS_Info!D186)=1,CMS_Info!D186,\"\"))","v":""},""]
[{"$f":"+IF(B165=\"\",\"\",MAX(A$1:A164)+1)","v":""},{"$f":"IF(+Regulated_Operation_Limits!C187=\"\",\"\",IF(COUNTIF(Regulated_Operation_Limits!$C$100:$C187,Regulated_Operation_Limits!C187)=1,Regulated_Operation_Limits!C187,\"\"))","v":""},"",{"$nulls":9},{"$f":"+IF(N165=\"\",\"\",MAX(M$1:M164)+1)","v":""},{"$f":"+IF(+CMS_Info!D187=\"\",\"\",IF(COUNTIF(CMS_Info!$D187:$D$500,CMS_Info!D187)=1,CMS_Info!D187,\"\"))","v":""},""]
[{"$f":"+IF(B166=\"\",\"\",MAX(A$1:A165)+1)","v":""},{"$f":"IF(+Regulated_Operation_Limits!C188=\"\",\"\",IF(COUNTIF(Regulated_Operation_Limits!$C$100:$C188,Regulated_Operation_Limits!C188)=1,Regulated_Operation_Limits!C188,\"\"))","v":""},"",{"$nulls":9},{"$f":"+IF(N166=\"\",\"\",MAX(M$1:M165)+1)","v":""},{"$f":"+IF(+CMS_Info!D188=\"\",\"\",IF(COUNTIF(CMS_Info!$D188:$D$500,CMS_Info!D188)=1,CMS_Info!D188,\"\"))","v":""},""]
[{"$f":"+IF(B167=\"\",\"\",MAX(A$1:A166)+1)","v":""},{"$f":"IF(+Regulated_Operation_Limits!C189=\"\",\"\",IF(COUNTIF(Regulated_Operation_Limits!$C$100:$C189,Regulated_Operation_Limits!C189)=1,Regulated_Operation_Limits!C189,\"\"))","v":""},"",{"$nulls":9},{"$f":"+IF(N167=\"\",\"\",MAX(M$1:M166)+1)","v":""},{"$f":"+IF(+CMS_Info!D189=\"\",\"\",IF(COUNTIF(CMS_Info!$D189:$D$500,CMS_Info!D189)=1,CMS_Info!D189,\"\"))","v":""},""]
[{"$f":"+IF(B168=\"\",\"\",MAX(A$1:A167)+1)","v":""},{"$f":"IF(+Regulated_Operation_Limits!C190=\"\",\"\",IF(COUNTIF(Regulated_Operation_Limits!$C$100:$C190,Regulated_Operation_Limits!C190)=1,Regulated_Operation_Limits!C190,\"\"))","v":""},"",{"$nulls":9},{"$f":"+IF(N168=\"\",\"\",MAX(M$1:M167)+1)","v":""},{"$f":"+IF(+CMS_Info!D190=\"\",\"\",IF(COUNTIF(CMS_Info!$D190:$D$500,CMS_Info!D190)=1,CMS_Info!D190,\"\"))","v":""},""]
[{"$f":"+IF(B169=\"\",\"\",MAX(A$1:A168)+1)","v":""},{"$f":"IF(+Regulated_Operation_Limits!C191=\"\",\"\",IF(COUNTIF(Regulated_Operation_Limits!$C$100:$C191,Regulated_Operation_Limits!C191)=1,Regulated_Operation_Limits!C191,\"\"))","v":""},"",{"$nulls":9},{"$f":"+IF(N169=\"\",\"\",MAX(M$1:M168)+1)","v":""},{"$f":"+IF(+CMS_Info!D191=\"\",\"\",IF(COUNTIF(CMS_Info!$D191:$D$500,CMS_Info!D191)=1,CMS_Info!D191,\"\"))","v":""},""]
[{"$f":"+IF(B170=\"\",\"\",MAX(A$1:A169)+1)","v":""},{"$f":"IF(+Regulated_Operation_Limits!C192=\"\",\"\",IF(COUNTIF(Regulated_Operation_Limits!$C$100:$C192,Regulated_Operation_Limits!C192)=1,Regulated_Operation_Limits!C192,\"\"))","v":""},"",{"$nulls":9},{"$f":"+IF(N170=\"\",\"\",MAX(M$1:M169)+1)","v":""},{"$f":"+IF(+CMS_Info!D192=\"\",\"\",IF(COUNTIF(CMS_Info!$D192:$D$500,CMS_Info!D192)=1,CMS_Info!D192,\"\"))","v":""},""]
[{"$f":"+IF(B171=\"\",\"\",MAX(A$1:A170)+1)","v":""},{"$f":"IF(+Regulated_Operation_Limits!C193=\"\",\"\",IF(COUNTIF(Regulated_Operation_Limits!$C$100:$C193,Regulated_Operation_Limits!C193)=1,Regulated_Operation_Limits!C193,\"\"))","v":""},"",{"$nulls":9},{"$f":"+IF(N171=\"\",\"\",MAX(M$1:M170)+1)","v":""},{"$f":"+IF(+CMS_Info!D193=\"\",\"\",IF(COUNTIF(CMS_Info!$D193:$D$500,CMS_Info!D193)=1,CMS_Info!D193,\"\"))","v":""},""]
[{"$f":"+IF(B172=\"\",\"\",MAX(A$1:A171)+1)","v":""},{"$f":"IF(+Regulated_Operation_Limits!C194=\"\",\"\",IF(COUNTIF(Regulated_Operation_Limits!$C$100:$C194,Regulated_Operation_Limits!C194)=1,Regulated_Operation_Limits!C194,\"\"))","v":""},"",{"$nulls":9},{"$f":"+IF(N172=\"\",\"\",MAX(M$1:M171)+1)","v":""},{"$f":"+IF(+CMS_Info!D194=\"\",\"\",IF(COUNTIF(CMS_Info!$D194:$D$500,CMS_Info!D194)=1,CMS_Info!D194,\"\"))","v":""},""]
[{"$f":"+IF(B173=\"\",\"\",MAX(A$1:A172)+1)","v":""},{"$f":"IF(+Regulated_Operation_Limits!C195=\"\",\"\",IF(COUNTIF(Regulated_Operation_Limits!$C$100:$C195,Regulated_Operation_Limits!C195)=1,Regulated_Operation_Limits!C195,\"\"))","v":""},"",{"$nulls":9},{"$f":"+IF(N173=\"\",\"\",MAX(M$1:M172)+1)","v":""},{"$f":"+IF(+CMS_Info!D195=\"\",\"\",IF(COUNTIF(CMS_Info!$D195:$D$500,CMS_Info!D195)=1,CMS_Info!D195,\"\"))","v":""},""]
[{"$f":"+IF(B174=\"\",\"\",MAX(A$1:A173)+1)","v":""},{"$f":"IF(+Regulated_Operation_Limits!C196=\"\",\"\",IF(COUNTIF(Regulated_Operation_Limits!$C$100:$C196,Regulated_Operation_Limits!C196)=1,Regulated_Operation_Limits!C196,\"\"))","v":""},"",{"$nulls":9},{"$f":"+IF(N174=\"\",\"\",MAX(M$1:M173)+1)","v":""},{"$f":"+IF(+CMS_Info!D196=\"\",\"\",IF(COUNTIF(CMS_Info!$D196:$D$500,CMS_Info!D196)=1,CMS_Info!D196,\"\"))","v":""},""]
[{"$f":"+IF(B175=\"\",\"\",MAX(A$1:A174)+1)","v":""},{"$f":"IF(+Regulated_Operation_Limits!C197=\"\",\"\",IF(COUNTIF(Regulated_Operation_Limits!$C$100:$C197,Regulated_Operation_Limits!C197)=1,Regulated_Operation_Limits!C197,\"\"))","v":""},"",{"$nulls":9},{"$f":"+IF(N175=\"\",\"\",MAX(M$1:M174)+1)","v":""},{"$f":"+IF(+CMS_Info!D197=\"\",\"\",IF(COUNTIF(CMS_Info!$D197:$D$500,CMS_Info!D197)=1,CMS_Info!D197,\"\"))","v":""},""]
[{"$f":"+IF(B176=\"\",\"\",MAX(A$1:A175)+1)","v":""},{"$f":"IF(+Regulated_Operation_Limits!C198=\"\",\"\",IF(COUNTIF(Regulated_Operation_Limits!$C$100:$C198,Regulated_Operation_Limits!C198)=1,Regulated_Operation_Limits!C198,\"\"))","v":""},"",{"$nulls":9},{"$f":"+IF(N176=\"\",\"\",MAX(M$1:M175)+1)","v":""},{"$f":"+IF(+CMS_Info!D198=\"\",\"\",IF(COUNTIF(CMS_Info!$D198:$D$500,CMS_Info!D198)=1,CMS_Info!D198,\"\"))","v":""},""]
[{"$f":"+IF(B177=\"\",\"\",MAX(A$1:A176)+1)","v":""},{"$f":"IF(+Regulated_Operation_Limits!C199=\"\",\"\",IF(COUNTIF(Regulated_Operation_Limits!$C$100:$C199,Regulated_Operation_Limits!C199)=1,Regulated_Operation_Limits!C199,\"\"))","v":""},"",{"$nulls":9},{"$f":"+IF(N177=\"\",\"\",MAX(M$1:M176)+1)","v":""},{"$f":"+IF(+CMS_Info!D199=\"\",\"\",IF(COUNTIF(CMS_Info!$D199:$D$500,CMS_Info!D199)=1,CMS_Info!D199,\"\"))","v":""},""]
[{"$f":"+IF(B178=\"\",\"\",MAX(A$1:A177)+1)","v":""},{"$f":"IF(+Regulated_Operation_Limits!C200=\"\",\"\",IF(COUNTIF(Regulated_Operation_Limits!$C$100:$C200,Regulated_Operation_Limits!C200)=1,Regulated_Operation_Limits!C200,\"\"))","v":""},"",{"$nulls":9},{"$f":"+IF(N178=\"\",\"\",MAX(M$1:M177)+1)","v":""},{"$f":"+IF(+CMS_Info!D200=\"\",\"\",IF(COUNTIF(CMS_Info!$D200:$D$500,CMS_Info!D200)=1,CMS_Info!D200,\"\"))","v":""},""]
[{"$f":"+IF(B179=\"\",\"\",MAX(A$1:A178)+1)","v":""},{"$f":"IF(+Regulated_Operation_Limits!C201=\"\",\"\",IF(COUNTIF(Regulated_Operation_Limits!$C$100:$C201,Regulated_Operation_Limits!C201)=1,Regulated_Operation_Limits!C201,\"\"))","v":""},"",{"$nulls":9},{"$f":"+IF(N179=\"\",\"\",MAX(M$1:M178)+1)","v":""},{"$f":"+IF(+CMS_Info!D201=\"\",\"\",IF(COUNTIF(CMS_Info!$D201:$D$500,CMS_Info!D201)=1,CMS_Info!D201,\"\"))","v":""},""]
[{"$f":"+IF(B180=\"\",\"\",MAX(A$1:A179)+1)","v":""},{"$f":"IF(+Regulated_Operation_Limits!C202=\"\",\"\",IF(COUNTIF(Regulated_Operation_Limits!$C$100:$C202,Regulated_Operation_Limits!C202)=1,Regulated_Operation_Limits!C202,\"\"))","v":""},"",{"$nulls":9},{"$f":"+IF(N180=\"\",\"\",MAX(M$1:M179)+1)","v":""},{"$f":"+IF(+CMS_Info!D202=\"\",\"\",IF(COUNTIF(CMS_Info!$D202:$D$500,CMS_Info!D202)=1,CMS_Info!D202,\"\"))","v":""},""]
[{"$f":"+IF(B181=\"\",\"\",MAX(A$1:A180)+1)","v":""},{"$f":"IF(+Regulated_Operation_Limits!C203=\"\",\"\",IF(COUNTIF(Regulated_Operation_Limits!$C$100:$C203,Regulated_Operation_Limits!C203)=1,Regulated_Operation_Limits!C203,\"\"))","v":""},"",{"$nulls":9},{"$f":"+IF(N181=\"\",\"\",MAX(M$1:M180)+1)","v":""},{"$f":"+IF(+CMS_Info!D203=\"\",\"\",IF(COUNTIF(CMS_Info!$D203:$D$500,CMS_Info!D203)=1,CMS_Info!D203,\"\"))","v":""},""]
[{"$f":"+IF(B182=\"\",\"\",MAX(A$1:A181)+1)","v":""},{"$f":"IF(+Regulated_Operation_Limits!C204=\"\",\"\",IF(COUNTIF(Regulated_Operation_Limits!$C$100:$C204,Regulated_Operation_Limits!C204)=1,Regulated_Operation_Limits!C204,\"\"))","v":""},"",{"$nulls":9},{"$f":"+IF(N182=\"\",\"\",MAX(M$1:M181)+1)","v":""},{"$f":"+IF(+CMS_Info!D204=\"\",\"\",IF(COUNTIF(CMS_Info!$D204:$D$500,CMS_Info!D204)=1,CMS_Info!D204,\"\"))","v":""},""]
[{"$f":"+IF(B183=\"\",\"\",MAX(A$1:A182)+1)","v":""},{"$f":"IF(+Regulated_Operation_Limits!C205=\"\",\"\",IF(COUNTIF(Regulated_Operation_Limits!$C$100:$C205,Regulated_Operation_Limits!C205)=1,Regulated_Operation_Limits!C205,\"\"))","v":""},"",{"$nulls":9},{"$f":"+IF(N183=\"\",\"\",MAX(M$1:M182)+1)","v":""},{"$f":"+IF(+CMS_Info!D205=\"\",\"\",IF(COUNTIF(CMS_Info!$D205:$D$500,CMS_Info!D205)=1,CMS_Info!D205,\"\"))","v":""},""]
[{"$f":"+IF(B184=\"\",\"\",MAX(A$1:A183)+1)","v":""},{"$f":"IF(+Regulated_Operation_Limits!C206=\"\",\"\",IF(COUNTIF(Regulated_Operation_Limits!$C$100:$C206,Regulated_Operation_Limits!C206)=1,Regulated_Operation_Limits!C206,\"\"))","v":""},"",{"$nulls":9},{"$f":"+IF(N184=\"\",\"\",MAX(M$1:M183)+1)","v":""},{"$f":"+IF(+CMS_Info!D206=\"\",\"\",IF(COUNTIF(CMS_Info!$D206:$D$500,CMS_Info!D206)=1,CMS_Info!D206,\"\"))","v":""},""]
[{"$f":"+IF(B185=\"\",\"\",MAX(A$1:A184)+1)","v":""},{"$f":"IF(+Regulated_Operation_Limits!C207=\"\",\"\",IF(COUNTIF(Regulated_Operation_Limits!$C$100:$C207,Regulated_Operation_Limits!C207)=1,Regulated_Operation_Limits!C207,\"\"))","v":""},"",{"$nulls":9},{"$f":"+IF(N185=\"\",\"\",MAX(M$1:M184)+1)","v":""},{"$f":"+IF(+CMS_Info!D207=\"\",\"\",IF(COUNTIF(CMS_Info!$D207:$D$500,CMS_Info!D207)=1,CMS_Info!D207,\"\"))","v":""},""]
[{"$f":"+IF(B186=\"\",\"\",MAX(A$1:A185)+1)","v":""},{"$f":"IF(+Regulated_Operation_Limits!C208=\"\",\"\",IF(COUNTIF(Regulated_Operation_Limits!$C$100:$C208,Regulated_Operation_Limits!C208)=1,Regulated_Operation_Limits!C208,\"\"))","v":""},"",{"$nulls":9},{"$f":"+IF(N186=\"\",\"\",MAX(M$1:M185)+1)","v":""},{"$f":"+IF(+CMS_Info!D208=\"\",\"\",IF(COUNTIF(CMS_Info!$D208:$D$500,CMS_Info!D208)=1,CMS_Info!D208,\"\"))","v":""},""]
[{"$f":"+IF(B187=\"\",\"\",MAX(A$1:A186)+1)","v":""},{"$f":"IF(+Regulated_Operation_Limits!C209=\"\",\"\",IF(COUNTIF(Regulated_Operation_Limits!$C$100:$C209,Regulated_Operation_Limits!C209)=1,Regulated_Operation_Limits!C209,\"\"))","v":""},"",{"$nulls":9},{"$f":"+IF(N187=\"\",\"\",MAX(M$1:M186)+1)","v":""},{"$f":"+IF(+CMS_Info!D209=\"\",\"\",IF(COUNTIF(CMS_Info!$D209:$D$500,CMS_Info!D209)=1,CMS_Info!D209,\"\"))","v":""},""]
[{"$f":"+IF(B188=\"\",\"\",MAX(A$1:A187)+1)","v":""},{"$f":"IF(+Regulated_Operation_Limits!C210=\"\",\"\",IF(COUNTIF(Regulated_Operation_Limits!$C$100:$C210,Regulated_Operation_Limits!C210)=1,Regulated_Operation_Limits!C210,\"\"))","v":""},"",{"$nulls":9},{"$f":"+IF(N188=\"\",\"\",MAX(M$1:M187)+1)","v":""},{"$f":"+IF(+CMS_Info!D210=\"\",\"\",IF(COUNTIF(CMS_Info!$D210:$D$500,CMS_Info!D210)=1,CMS_Info!D210,\"\"))","v":""},""]
[{"$f":"+IF(B189=\"\",\"\",MAX(A$1:A188)+1)","v":""},{"$f":"IF(+Regulated_Operation_Limits!C211=\"\",\"\",IF(COUNTIF(Regulated_Operation_Limits!$C$100:$C211,Regulated_Operation_Limits!C211)=1,Regulated_Operation_Limits!C211,\"\"))","v":""},"",{"$nulls":9},{"$f":"+IF(N189=\"\",\"\",MAX(M$1:M188)+1)","v":""},{"$f":"+IF(+CMS_Info!D211=\"\",\"\",IF(COUNTIF(CMS_Info!$D211:$D$500,CMS_Info!D211)=1,CMS_Info!D211,\"\"))","v":""},""]
[{"$f":"+IF(B190=\"\",\"\",MAX(A$1:A189)+1)","v":""},{"$f":"IF(+Regulated_Operation_Limits!C212=\"\",\"\",IF(COUNTIF(Regulated_Operation_Limits!$C$100:$C212,Regulated_Operation_Limits!C212)=1,Regulated_Operation_Limits!C212,\"\"))","v":""},"",{"$nulls":9},{"$f":"+IF(N190=\"\",\"\",MAX(M$1:M189)+1)","v":""},{"$f":"+IF(+CMS_Info!D212=\"\",\"\",IF(COUNTIF(CMS_Info!$D212:$D$500,CMS_Info!D212)=1,CMS_Info!D212,\"\"))","v":""},""]
[{"$f":"+IF(B191=\"\",\"\",MAX(A$1:A190)+1)","v":""},{"$f":"IF(+Regulated_Operation_Limits!C213=\"\",\"\",IF(COUNTIF(Regulated_Operation_Limits!$C$100:$C213,Regulated_Operation_Limits!C213)=1,Regulated_Operation_Limits!C213,\"\"))","v":""},"",{"$nulls":9},{"$f":"+IF(N191=\"\",\"\",MAX(M$1:M190)+1)","v":""},{"$f":"+IF(+CMS_Info!D213=\"\",\"\",IF(COUNTIF(CMS_Info!$D213:$D$500,CMS_Info!D213)=1,CMS_Info!D213,\"\"))","v":""},""]
[{"$f":"+IF(B192=\"\",\"\",MAX(A$1:A191)+1)","v":""},{"$f":"IF(+Regulated_Operation_Limits!C214=\"\",\"\",IF(COUNTIF(Regulated_Operation_Limits!$C$100:$C214,Regulated_Operation_Limits!C214)=1,Regulated_Operation_Limits!C214,\"\"))","v":""},"",{"$nulls":9},{"$f":"+IF(N192=\"\",\"\",MAX(M$1:M191)+1)","v":""},{"$f":"+IF(+CMS_Info!D214=\"\",\"\",IF(COUNTIF(CMS_Info!$D214:$D$500,CMS_Info!D214)=1,CMS_Info!D214,\"\"))","v":""},""]
[{"$f":"+IF(B193=\"\",\"\",MAX(A$1:A192)+1)","v":""},{"$f":"IF(+Regulated_Operation_Limits!C215=\"\",\"\",IF(COUNTIF(Regulated_Operation_Limits!$C$100:$C215,Regulated_Operation_Limits!C215)=1,Regulated_Operation_Limits!C215,\"\"))","v":""},"",{"$nulls":9},{"$f":"+IF(N193=\"\",\"\",MAX(M$1:M192)+1)","v":""},{"$f":"+IF(+CMS_Info!D215=\"\",\"\",IF(COUNTIF(CMS_Info!$D215:$D$500,CMS_Info!D215)=1,CMS_Info!D215,\"\"))","v":""},""]
[{"$f":"+IF(B194=\"\",\"\",MAX(A$1:A193)+1)","v":""},{"$f":"IF(+Regulated_Operation_Limits!C216=\"\",\"\",IF(COUNTIF(Regulated_Operation_Limits!$C$100:$C216,Regulated_Operation_Limits!C216)=1,Regulated_Operation_Limits!C216,\"\"))","v":""},{"$f":"+IFERROR(INDEX($B$2:$B$501,MATCH(ROW()-ROW($C$1),$A$2:$A$501,0)),\"\")","v":""},{"$nulls":9},{"$f":"+IF(N194=\"\",\"\",MAX(M$1:M193)+1)","v":""},{"$f":"+IF(+CMS_Info!D216=\"\",\"\",IF(COUNTIF(CMS_Info!$D216:$D$500,CMS_Info!D216)=1,CMS_Info!D216,\"\"))","v":""},{"$f":"+IFERROR(INDEX($N$2:$N$501,MATCH(ROW()-ROW($O$1),$M$2:$M$501,0)),\"\")","v":""}]
[{"$f":"+IF(B195=\"\",\"\",MAX(A$1:A194)+1)","v":""},{"$f":"IF(+Regulated_Operation_Limits!C217=\"\",\"\",IF(COUNTIF(Regulated_Operation_Limits!$C$100:$C217,Regulated_Operation_Limits!C217)=1,Regulated_Operation_Limits!C217,\"\"))","v":""},"",{"$nulls":9},{"$f":"+IF(N195=\"\",\"\",MAX(M$1:M194)+1)","v":""},{"$f":"+IF(+CMS_Info!D217=\"\",\"\",IF(COUNTIF(CMS_Info!$D217:$D$500,CMS_Info!D217)=1,CMS_Info!D217,\"\"))","v":""},""]
[{"$f":"+IF(B196=\"\",\"\",MAX(A$1:A195)+1)","v":""},{"$f":"IF(+Regulated_Operation_Limits!C218=\"\",\"\",IF(COUNTIF(Regulated_Operation_Limits!$C$100:$C218,Regulated_Operation_Limits!C218)=1,Regulated_Operation_Limits!C218,\"\"))","v":""},"",{"$nulls":9},{"$f":"+IF(N196=\"\",\"\",MAX(M$1:M195)+1)","v":""},{"$f":"+IF(+CMS_Info!D218=\"\",\"\",IF(COUNTIF(CMS_Info!$D218:$D$500,CMS_Info!D218)=1,CMS_Info!D218,\"\"))","v":""},""]
[{"$f":"+IF(B197=\"\",\"\",MAX(A$1:A196)+1)","v":""},{"$f":"IF(+Regulated_Operation_Limits!C219=\"\",\"\",IF(COUNTIF(Regulated_Operation_Limits!$C$100:$C219,Regulated_Operation_Limits!C219)=1,Regulated_Operation_Limits!C219,\"\"))","v":""},"",{"$nulls":9},{"$f":"+IF(N197=\"\",\"\",MAX(M$1:M196)+1)","v":""},{"$f":"+IF(+CMS_Info!D219=\"\",\"\",IF(COUNTIF(CMS_Info!$D219:$D$500,CMS_Info!D219)=1,CMS_Info!D219,\"\"))","v":""},""]
[{"$f":"+IF(B198=\"\",\"\",MAX(A$1:A197)+1)","v":""},{"$f":"IF(+Regulated_Operation_Limits!C220=\"\",\"\",IF(COUNTIF(Regulated_Operation_Limits!$C$100:$C220,Regulated_Operation_Limits!C220)=1,Regulated_Operation_Limits!C220,\"\"))","v":""},"",{"$nulls":9},{"$f":"+IF(N198=\"\",\"\",MAX(M$1:M197)+1)","v":""},{"$f":"+IF(+CMS_Info!D220=\"\",\"\",IF(COUNTIF(CMS_Info!$D220:$D$500,CMS_Info!D220)=1,CMS_Info!D220,\"\"))","v":""},""]
[{"$f":"+IF(B199=\"\",\"\",MAX(A$1:A198)+1)","v":""},{"$f":"IF(+Regulated_Operation_Limits!C221=\"\",\"\",IF(COUNTIF(Regulated_Operation_Limits!$C$100:$C221,Regulated_Operation_Limits!C221)=1,Regulated_Operation_Limits!C221,\"\"))","v":""},"",{"$nulls":9},{"$f":"+IF(N199=\"\",\"\",MAX(M$1:M198)+1)","v":""},{"$f":"+IF(+CMS_Info!D221=\"\",\"\",IF(COUNTIF(CMS_Info!$D221:$D$500,CMS_Info!D221)=1,CMS_Info!D221,\"\"))","v":""},""]
[{"$f":"+IF(B200=\"\",\"\",MAX(A$1:A199)+1)","v":""},{"$f":"IF(+Regulated_Operation_Limits!C222=\"\",\"\",IF(COUNTIF(Regulated_Operation_Limits!$C$100:$C222,Regulated_Operation_Limits!C222)=1,Regulated_Operation_Limits!C222,\"\"))","v":""},"",{"$nulls":9},{"$f":"+IF(N200=\"\",\"\",MAX(M$1:M199)+1)","v":""},{"$f":"+IF(+CMS_Info!D222=\"\",\"\",IF(COUNTIF(CMS_Info!$D222:$D$500,CMS_Info!D222)=1,CMS_Info!D222,\"\"))","v":""},""]
[{"$f":"+IF(B201=\"\",\"\",MAX(A$1:A200)+1)","v":""},{"$f":"IF(+Regulated_Operation_Limits!C223=\"\",\"\",IF(COUNTIF(Regulated_Operation_Limits!$C$100:$C223,Regulated_Operation_Limits!C223)=1,Regulated_Operation_Limits!C223,\"\"))","v":""},"",{"$nulls":9},{"$f":"+IF(N201=\"\",\"\",MAX(M$1:M200)+1)","v":""},{"$f":"+IF(+CMS_Info!D223=\"\",\"\",IF(COUNTIF(CMS_Info!$D223:$D$500,CMS_Info!D223)=1,CMS_Info!D223,\"\"))","v":""},""]
[{"$f":"+IF(B202=\"\",\"\",MAX(A$1:A201)+1)","v":""},{"$f":"IF(+Regulated_Operation_Limits!C224=\"\",\"\",IF(COUNTIF(Regulated_Operation_Limits!$C$100:$C224,Regulated_Operation_Limits!C224)=1,Regulated_Operation_Limits!C224,\"\"))","v":""},"",{"$nulls":9},{"$f":"+IF(N202=\"\",\"\",MAX(M$1:M201)+1)","v":""},{"$f":"+IF(+CMS_Info!D224=\"\",\"\",IF(COUNTIF(CMS_Info!$D224:$D$500,CMS_Info!D224)=1,CMS_Info!D224,\"\"))","v":""},""]
[{"$f":"+IF(B203=\"\",\"\",MAX(A$1:A202)+1)","v":""},{"$f":"IF(+Regulated_Operation_Limits!C225=\"\",\"\",IF(COUNTIF(Regulated_Operation_Limits!$C$100:$C225,Regulated_Operation_Limits!C225)=1,Regulated_Operation_Limits!C225,\"\"))","v":""},"",{"$nulls":9},{"$f":"+IF(N203=\"\",\"\",MAX(M$1:M202)+1)","v":""},{"$f":"+IF(+CMS_Info!D225=\"\",\"\",IF(COUNTIF(CMS_Info!$D225:$D$500,CMS_Info!D225)=1,CMS_Info!D225,\"\"))","v":""},""]
[{"$f":"+IF(B204=\"\",\"\",MAX(A$1:A203)+1)","v":""},{"$f":"IF(+Regulated_Operation_Limits!C226=\"\",\"\",IF(COUNTIF(Regulated_Operation_Limits!$C$100:$C226,Regulated_Operation_Limits!C226)=1,Regulated_Operation_Limits!C226,\"\"))","v":""},"",{"$nulls":9},{"$f":"+IF(N204=\"\",\"\",MAX(M$1:M203)+1)","v":""},{"$f":"+IF(+CMS_Info!D226=\"\",\"\",IF(COUNTIF(CMS_Info!$D226:$D$500,CMS_Info!D226)=1,CMS_Info!D226,\"\"))","v":""},""]
[{"$f":"+IF(B205=\"\",\"\",MAX(A$1:A204)+1)","v":""},{"$f":"IF(+Regulated_Operation_Limits!C227=\"\",\"\",IF(COUNTIF(Regulated_Operation_Limits!$C$100:$C227,Regulated_Operation_Limits!C227)=1,Regulated_Operation_Limits!C227,\"\"))","v":""},"",{"$nulls":9},{"$f":"+IF(N205=\"\",\"\",MAX(M$1:M204)+1)","v":""},{"$f":"+IF(+CMS_Info!D227=\"\",\"\",IF(COUNTIF(CMS_Info!$D227:$D$500,CMS_Info!D227)=1,CMS_Info!D227,\"\"))","v":""},""]
[{"$f":"+IF(B206=\"\",\"\",MAX(A$1:A205)+1)","v":""},{"$f":"IF(+Regulated_Operation_Limits!C228=\"\",\"\",IF(COUNTIF(Regulated_Operation_Limits!$C$100:$C228,Regulated_Operation_Limits!C228)=1,Regulated_Operation_Limits!C228,\"\"))","v":""},"",{"$nulls":9},{"$f":"+IF(N206=\"\",\"\",MAX(M$1:M205)+1)","v":""},{"$f":"+IF(+CMS_Info!D228=\"\",\"\",IF(COUNTIF(CMS_Info!$D228:$D$500,CMS_Info!D228)=1,CMS_Info!D228,\"\"))","v":""},""]
[{"$f":"+IF(B207=\"\",\"\",MAX(A$1:A206)+1)","v":""},{"$f":"IF(+Regulated_Operation_Limits!C229=\"\",\"\",IF(COUNTIF(Regulated_Operation_Limits!$C$100:$C229,Regulated_Operation_Limits!C229)=1,Regulated_Operation_Limits!C229,\"\"))","v":""},"",{"$nulls":9},{"$f":"+IF(N207=\"\",\"\",MAX(M$1:M206)+1)","v":""},{"$f":"+IF(+CMS_Info!D229=\"\",\"\",IF(COUNTIF(CMS_Info!$D229:$D$500,CMS_Info!D229)=1,CMS_Info!D229,\"\"))","v":""},""]
[{"$f":"+IF(B208=\"\",\"\",MAX(A$1:A207)+1)","v":""},{"$f":"IF(+Regulated_Operation_Limits!C230=\"\",\"\",IF(COUNTIF(Regulated_Operation_Limits!$C$100:$C230,Regulated_Operation_Limits!C230)=1,Regulated_Operation_Limits!C230,\"\"))","v":""},"",{"$nulls":9},{"$f":"+IF(N208=\"\",\"\",MAX(M$1:M207)+1)","v":""},{"$f":"+IF(+CMS_Info!D230=\"\",\"\",IF(COUNTIF(CMS_Info!$D230:$D$500,CMS_Info!D230)=1,CMS_Info!D230,\"\"))","v":""},""]
[{"$f":"+IF(B209=\"\",\"\",MAX(A$1:A208)+1)","v":""},{"$f":"IF(+Regulated_Operation_Limits!C231=\"\",\"\",IF(COUNTIF(Regulated_Operation_Limits!$C$100:$C231,Regulated_Operation_Limits!C231)=1,Regulated_Operation_Limits!C231,\"\"))","v":""},"",{"$nulls":9},{"$f":"+IF(N209=\"\",\"\",MAX(M$1:M208)+1)","v":""},{"$f":"+IF(+CMS_Info!D231=\"\",\"\",IF(COUNTIF(CMS_Info!$D231:$D$500,CMS_Info!D231)=1,CMS_Info!D231,\"\"))","v":""},""]
[{"$f":"+IF(B210=\"\",\"\",MAX(A$1:A209)+1)","v":""},{"$f":"IF(+Regulated_Operation_Limits!C232=\"\",\"\",IF(COUNTIF(Regulated_Operation_Limits!$C$100:$C232,Regulated_Operation_Limits!C232)=1,Regulated_Operation_Limits!C232,\"\"))","v":""},"",{"$nulls":9},{"$f":"+IF(N210=\"\",\"\",MAX(M$1:M209)+1)","v":""},{"$f":"+IF(+CMS_Info!D232=\"\",\"\",IF(COUNTIF(CMS_Info!$D232:$D$500,CMS_Info!D232)=1,CMS_Info!D232,\"\"))","v":""},""]
[{"$f":"+IF(B211=\"\",\"\",MAX(A$1:A210)+1)","v":""},{"$f":"IF(+Regulated_Operation_Limits!C233=\"\",\"\",IF(COUNTIF(Regulated_Operation_Limits!$C$100:$C233,Regulated_Operation_Limits!C233)=1,Regulated_Operation_Limits!C233,\"\"))","v":""},"",{"$nulls":9},{"$f":"+IF(N211=\"\",\"\",MAX(M$1:M210)+1)","v":""},{"$f":"+IF(+CMS_Info!D233=\"\",\"\",IF(COUNTIF(CMS_Info!$D233:$D$500,CMS_Info!D233)=1,CMS_Info!D233,\"\"))","v":""},""]
[{"$f":"+IF(B212=\"\",\"\",MAX(A$1:A211)+1)","v":""},{"$f":"IF(+Regulated_Operation_Limits!C234=\"\",\"\",IF(COUNTIF(Regulated_Operation_Limits!$C$100:$C234,Regulated_Operation_Limits!C234)=1,Regulated_Operation_Limits!C234,\"\"))","v":""},"",{"$nulls":9},{"$f":"+IF(N212=\"\",\"\",MAX(M$1:M211)+1)","v":""},{"$f":"+IF(+CMS_Info!D234=\"\",\"\",IF(COUNTIF(CMS_Info!$D234:$D$500,CMS_Info!D234)=1,CMS_Info!D234,\"\"))","v":""},""]
[{"$f":"+IF(B213=\"\",\"\",MAX(A$1:A212)+1)","v":""},{"$f":"IF(+Regulated_Operation_Limits!C235=\"\",\"\",IF(COUNTIF(Regulated_Operation_Limits!$C$100:$C235,Regulated_Operation_Limits!C235)=1,Regulated_Operation_Limits!C235,\"\"))","v":""},"",{"$nulls":9},{"$f":"+IF(N213=\"\",\"\",MAX(M$1:M212)+1)","v":""},{"$f":"+IF(+CMS_Info!D235=\"\",\"\",IF(COUNTIF(CMS_Info!$D235:$D$500,CMS_Info!D235)=1,CMS_Info!D235,\"\"))","v":""},""]
[{"$f":"+IF(B214=\"\",\"\",MAX(A$1:A213)+1)","v":""},{"$f":"IF(+Regulated_Operation_Limits!C236=\"\",\"\",IF(COUNTIF(Regulated_Operation_Limits!$C$100:$C236,Regulated_Operation_Limits!C236)=1,Regulated_Operation_Limits!C236,\"\"))","v":""},"",{"$nulls":9},{"$f":"+IF(N214=\"\",\"\",MAX(M$1:M213)+1)","v":""},{"$f":"+IF(+CMS_Info!D236=\"\",\"\",IF(COUNTIF(CMS_Info!$D236:$D$500,CMS_Info!D236)=1,CMS_Info!D236,\"\"))","v":""},""]
[{"$f":"+IF(B215=\"\",\"\",MAX(A$1:A214)+1)","v":""},{"$f":"IF(+Regulated_Operation_Limits!C237=\"\",\"\",IF(COUNTIF(Regulated_Operation_Limits!$C$100:$C237,Regulated_Operation_Limits!C237)=1,Regulated_Operation_Limits!C237,\"\"))","v":""},"",{"$nulls":9},{"$f":"+IF(N215=\"\",\"\",MAX(M$1:M214)+1)","v":""},{"$f":"+IF(+CMS_Info!D237=\"\",\"\",IF(COUNTIF(CMS_Info!$D237:$D$500,CMS_Info!D237)=1,CMS_Info!D237,\"\"))","v":""},""]
[{"$f":"+IF(B216=\"\",\"\",MAX(A$1:A215)+1)","v":""},{"$f":"IF(+Regulated_Operation_Limits!C238=\"\",\"\",IF(COUNTIF(Regulated_Operation_Limits!$C$100:$C238,Regulated_Operation_Limits!C238)=1,Regulated_Operation_Limits!C238,\"\"))","v":""},"",{"$nulls":9},{"$f":"+IF(N216=\"\",\"\",MAX(M$1:M215)+1)","v":""},{"$f":"+IF(+CMS_Info!D238=\"\",\"\",IF(COUNTIF(CMS_Info!$D238:$D$500,CMS_Info!D238)=1,CMS_Info!D238,\"\"))","v":""},""]
[{"$f":"+IF(B217=\"\",\"\",MAX(A$1:A216)+1)","v":""},{"$f":"IF(+Regulated_Operation_Limits!C239=\"\",\"\",IF(COUNTIF(Regulated_Operation_Limits!$C$100:$C239,Regulated_Operation_Limits!C239)=1,Regulated_Operation_Limits!C239,\"\"))","v":""},"",{"$nulls":9},{"$f":"+IF(N217=\"\",\"\",MAX(M$1:M216)+1)","v":""},{"$f":"+IF(+CMS_Info!D239=\"\",\"\",IF(COUNTIF(CMS_Info!$D239:$D$500,CMS_Info!D239)=1,CMS_Info!D239,\"\"))","v":""},""]
[{"$f":"+IF(B218=\"\",\"\",MAX(A$1:A217)+1)","v":""},{"$f":"IF(+Regulated_Operation_Limits!C240=\"\",\"\",IF(COUNTIF(Regulated_Operation_Limits!$C$100:$C240,Regulated_Operation_Limits!C240)=1,Regulated_Operation_Limits!C240,\"\"))","v":""},"",{"$nulls":9},{"$f":"+IF(N218=\"\",\"\",MAX(M$1:M217)+1)","v":""},{"$f":"+IF(+CMS_Info!D240=\"\",\"\",IF(COUNTIF(CMS_Info!$D240:$D$500,CMS_Info!D240)=1,CMS_Info!D240,\"\"))","v":""},""]
[{"$f":"+IF(B219=\"\",\"\",MAX(A$1:A218)+1)","v":""},{"$f":"IF(+Regulated_Operation_Limits!C241=\"\",\"\",IF(COUNTIF(Regulated_Operation_Limits!$C$100:$C241,Regulated_Operation_Limits!C241)=1,Regulated_Operation_Limits!C241,\"\"))","v":""},"",{"$nulls":9},{"$f":"+IF(N219=\"\",\"\",MAX(M$1:M218)+1)","v":""},{"$f":"+IF(+CMS_Info!D241=\"\",\"\",IF(COUNTIF(CMS_Info!$D241:$D$500,CMS_Info!D241)=1,CMS_Info!D241,\"\"))","v":""},""]
[{"$f":"+IF(B220=\"\",\"\",MAX(A$1:A219)+1)","v":""},{"$f":"IF(+Regulated_Operation_Limits!C242=\"\",\"\",IF(COUNTIF(Regulated_Operation_Limits!$C$100:$C242,Regulated_Operation_Limits!C242)=1,Regulated_Operation_Limits!C242,\"\"))","v":""},"",{"$nulls":9},{"$f":"+IF(N220=\"\",\"\",MAX(M$1:M219)+1)","v":""},{"$f":"+IF(+CMS_Info!D242=\"\",\"\",IF(COUNTIF(CMS_Info!$D242:$D$500,CMS_Info!D242)=1,CMS_Info!D242,\"\"))","v":""},""]
[{"$f":"+IF(B221=\"\",\"\",MAX(A$1:A220)+1)","v":""},{"$f":"IF(+Regulated_Operation_Limits!C243=\"\",\"\",IF(COUNTIF(Regulated_Operation_Limits!$C$100:$C243,Regulated_Operation_Limits!C243)=1,Regulated_Operation_Limits!C243,\"\"))","v":""},"",{"$nulls":9},{"$f":"+IF(N221=\"\",\"\",MAX(M$1:M220)+1)","v":""},{"$f":"+IF(+CMS_Info!D243=\"\",\"\",IF(COUNTIF(CMS_Info!$D243:$D$500,CMS_Info!D243)=1,CMS_Info!D243,\"\"))","v":""},""]
[{"$f":"+IF(B222=\"\",\"\",MAX(A$1:A221)+1)","v":""},{"$f":"IF(+Regulated_Operation_Limits!C244=\"\",\"\",IF(COUNTIF(Regulated_Operation_Limits!$C$100:$C244,Regulated_Operation_Limits!C244)=1,Regulated_Operation_Limits!C244,\"\"))","v":""},"",{"$nulls":9},{"$f":"+IF(N222=\"\",\"\",MAX(M$1:M221)+1)","v":""},{"$f":"+IF(+CMS_Info!D244=\"\",\"\",IF(COUNTIF(CMS_Info!$D244:$D$500,CMS_Info!D244)=1,CMS_Info!D244,\"\"))","v":""},""]
[{"$f":"+IF(B223=\"\",\"\",MAX(A$1:A222)+1)","v":""},{"$f":"IF(+Regulated_Operation_Limits!C245=\"\",\"\",IF(COUNTIF(Regulated_Operation_Limits!$C$100:$C245,Regulated_Operation_Limits!C245)=1,Regulated_Operation_Limits!C245,\"\"))","v":""},"",{"$nulls":9},{"$f":"+IF(N223=\"\",\"\",MAX(M$1:M222)+1)","v":""},{"$f":"+IF(+CMS_Info!D245=\"\",\"\",IF(COUNTIF(CMS_Info!$D245:$D$500,CMS_Info!D245)=1,CMS_Info!D245,\"\"))","v":""},""]
[{"$f":"+IF(B224=\"\",\"\",MAX(A$1:A223)+1)","v":""},{"$f":"IF(+Regulated_Operation_Limits!C246=\"\",\"\",IF(COUNTIF(Regulated_Operation_Limits!$C$100:$C246,Regulated_Operation_Limits!C246)=1,Regulated_Operation_Limits!C246,\"\"))","v":""},"",{"$nulls":9},{"$f":"+IF(N224=\"\",\"\",MAX(M$1:M223)+1)","v":""},{"$f":"+IF(+CMS_Info!D246=\"\",\"\",IF(COUNTIF(CMS_Info!$D246:$D$500,CMS_Info!D246)=1,CMS_Info!D246,\"\"))","v":""},""]
[{"$f":"+IF(B225=\"\",\"\",MAX(A$1:A224)+1)","v":""},{"$f":"IF(+Regulated_Operation_Limits!C247=\"\",\"\",IF(COUNTIF(Regulated_Operation_Limits!$C$100:$C247,Regulated_Operation_Limits!C247)=1,Regulated_Operation_Limits!C247,\"\"))","v":""},"",{"$nulls":9},{"$f":"+IF(N225=\"\",\"\",MAX(M$1:M224)+1)","v":""},{"$f":"+IF(+CMS_Info!D247=\"\",\"\",IF(COUNTIF(CMS_Info!$D247:$D$500,CMS_Info!D247)=1,CMS_Info!D247,\"\"))","v":""},""]
[{"$f":"+IF(B226=\"\",\"\",MAX(A$1:A225)+1)","v":""},{"$f":"IF(+Regulated_Operation_Limits!C248=\"\",\"\",IF(COUNTIF(Regulated_Operation_Limits!$C$100:$C248,Regulated_Operation_Limits!C248)=1,Regulated_Operation_Limits!C248,\"\"))","v":""},"",{"$nulls":9},{"$f":"+IF(N226=\"\",\"\",MAX(M$1:M225)+1)","v":""},{"$f":"+IF(+CMS_Info!D248=\"\",\"\",IF(COUNTIF(CMS_Info!$D248:$D$500,CMS_Info!D248)=1,CMS_Info!D248,\"\"))","v":""},""]
[{"$f":"+IF(B227=\"\",\"\",MAX(A$1:A226)+1)","v":""},{"$f":"IF(+Regulated_Operation_Limits!C249=\"\",\"\",IF(COUNTIF(Regulated_Operation_Limits!$C$100:$C249,Regulated_Operation_Limits!C249)=1,Regulated_Operation_Limits!C249,\"\"))","v":""},"",{"$nulls":9},{"$f":"+IF(N227=\"\",\"\",MAX(M$1:M226)+1)","v":""},{"$f":"+IF(+CMS_Info!D249=\"\",\"\",IF(COUNTIF(CMS_Info!$D249:$D$500,CMS_Info!D249)=1,CMS_Info!D249,\"\"))","v":""},""]
[{"$f":"+IF(B228=\"\",\"\",MAX(A$1:A227)+1)","v":""},{"$f":"IF(+Regulated_Operation_Limits!C250=\"\",\"\",IF(COUNTIF(Regulated_Operation_Limits!$C$100:$C250,Regulated_Operation_Limits!C250)=1,Regulated_Operation_Limits!C250,\"\"))","v":""},"",{"$nulls":9},{"$f":"+IF(N228=\"\",\"\",MAX(M$1:M227)+1)","v":""},{"$f":"+IF(+CMS_Info!D250=\"\",\"\",IF(COUNTIF(CMS_Info!$D250:$D$500,CMS_Info!D250)=1,CMS_Info!D250,\"\"))","v":""},""]
[{"$f":"+IF(B229=\"\",\"\",MAX(A$1:A228)+1)","v":""},{"$f":"IF(+Regulated_Operation_Limits!C251=\"\",\"\",IF(COUNTIF(Regulated_Operation_Limits!$C$100:$C251,Regulated_Operation_Limits!C251)=1,Regulated_Operation_Limits!C251,\"\"))","v":""},"",{"$nulls":9},{"$f":"+IF(N229=\"\",\"\",MAX(M$1:M228)+1)","v":""},{"$f":"+IF(+CMS_Info!D251=\"\",\"\",IF(COUNTIF(CMS_Info!$D251:$D$500,CMS_Info!D251)=1,CMS_Info!D251,\"\"))","v":""},""]
[{"$f":"+IF(B230=\"\",\"\",MAX(A$1:A229)+1)","v":""},{"$f":"IF(+Regulated_Operation_Limits!C252=\"\",\"\",IF(COUNTIF(Regulated_Operation_Limits!$C$100:$C252,Regulated_Operation_Limits!C252)=1,Regulated_Operation_Limits!C252,\"\"))","v":""},"",{"$nulls":9},{"$f":"+IF(N230=\"\",\"\",MAX(M$1:M229)+1)","v":""},{"$f":"+IF(+CMS_Info!D252=\"\",\"\",IF(COUNTIF(CMS_Info!$D252:$D$500,CMS_Info!D252)=1,CMS_Info!D252,\"\"))","v":""},""]
[{"$f":"+IF(B231=\"\",\"\",MAX(A$1:A230)+1)","v":""},{"$f":"IF(+Regulated_Operation_Limits!C253=\"\",\"\",IF(COUNTIF(Regulated_Operation_Limits!$C$100:$C253,Regulated_Operation_Limits!C253)=1,Regulated_Operation_Limits!C253,\"\"))","v":""},"",{"$nulls":9},{"$f":"+IF(N231=\"\",\"\",MAX(M$1:M230)+1)","v":""},{"$f":"+IF(+CMS_Info!D253=\"\",\"\",IF(COUNTIF(CMS_Info!$D253:$D$500,CMS_Info!D253)=1,CMS_Info!D253,\"\"))","v":""},""]
[{"$f":"+IF(B232=\"\",\"\",MAX(A$1:A231)+1)","v":""},{"$f":"IF(+Regulated_Operation_Limits!C254=\"\",\"\",IF(COUNTIF(Regulated_Operation_Limits!$C$100:$C254,Regulated_Operation_Limits!C254)=1,Regulated_Operation_Limits!C254,\"\"))","v":""},"",{"$nulls":9},{"$f":"+IF(N232=\"\",\"\",MAX(M$1:M231)+1)","v":""},{"$f":"+IF(+CMS_Info!D254=\"\",\"\",IF(COUNTIF(CMS_Info!$D254:$D$500,CMS_Info!D254)=1,CMS_Info!D254,\"\"))","v":""},""]
[{"$f":"+IF(B233=\"\",\"\",MAX(A$1:A232)+1)","v":""},{"$f":"IF(+Regulated_Operation_Limits!C255=\"\",\"\",IF(COUNTIF(Regulated_Operation_Limits!$C$100:$C255,Regulated_Operation_Limits!C255)=1,Regulated_Operation_Limits!C255,\"\"))","v":""},"",{"$nulls":9},{"$f":"+IF(N233=\"\",\"\",MAX(M$1:M232)+1)","v":""},{"$f":"+IF(+CMS_Info!D255=\"\",\"\",IF(COUNTIF(CMS_Info!$D255:$D$500,CMS_Info!D255)=1,CMS_Info!D255,\"\"))","v":""},""]
[{"$f":"+IF(B234=\"\",\"\",MAX(A$1:A233)+1)","v":""},{"$f":"IF(+Regulated_Operation_Limits!C256=\"\",\"\",IF(COUNTIF(Regulated_Operation_Limits!$C$100:$C256,Regulated_Operation_Limits!C256)=1,Regulated_Operation_Limits!C256,\"\"))","v":""},"",{"$nulls":9},{"$f":"+IF(N234=\"\",\"\",MAX(M$1:M233)+1)","v":""},{"$f":"+IF(+CMS_Info!D256=\"\",\"\",IF(COUNTIF(CMS_Info!$D256:$D$500,CMS_Info!D256)=1,CMS_Info!D256,\"\"))","v":""},""]
[{"$f":"+IF(B235=\"\",\"\",MAX(A$1:A234)+1)","v":""},{"$f":"IF(+Regulated_Operation_Limits!C257=\"\",\"\",IF(COUNTIF(Regulated_Operation_Limits!$C$100:$C257,Regulated_Operation_Limits!C257)=1,Regulated_Operation_Limits!C257,\"\"))","v":""},"",{"$nulls":9},{"$f":"+IF(N235=\"\",\"\",MAX(M$1:M234)+1)","v":""},{"$f":"+IF(+CMS_Info!D257=\"\",\"\",IF(COUNTIF(CMS_Info!$D257:$D$500,CMS_Info!D257)=1,CMS_Info!D257,\"\"))","v":""},""]
[{"$f":"+IF(B236=\"\",\"\",MAX(A$1:A235)+1)","v":""},{"$f":"IF(+Regulated_Operation_Limits!C258=\"\",\"\",IF(COUNTIF(Regulated_Operation_Limits!$C$100:$C258,Regulated_Operation_Limits!C258)=1,Regulated_Operation_Limits!C258,\"\"))","v":""},"",{"$nulls":9},{"$f":"+IF(N236=\"\",\"\",MAX(M$1:M235)+1)","v":""},{"$f":"+IF(+CMS_Info!D258=\"\",\"\",IF(COUNTIF(CMS_Info!$D258:$D$500,CMS_Info!D258)=1,CMS_Info!D258,\"\"))","v":""},""]
[{"$f":"+IF(B237=\"\",\"\",MAX(A$1:A236)+1)","v":""},{"$f":"IF(+Regulated_Operation_Limits!C259=\"\",\"\",IF(COUNTIF(Regulated_Operation_Limits!$C$100:$C259,Regulated_Operation_Limits!C259)=1,Regulated_Operation_Limits!C259,\"\"))","v":""},"",{"$nulls":9},{"$f":"+IF(N237=\"\",\"\",MAX(M$1:M236)+1)","v":""},{"$f":"+IF(+CMS_Info!D259=\"\",\"\",IF(COUNTIF(CMS_Info!$D259:$D$500,CMS_Info!D259)=1,CMS_Info!D259,\"\"))","v":""},""]
[{"$f":"+IF(B238=\"\",\"\",MAX(A$1:A237)+1)","v":""},{"$f":"IF(+Regulated_Operation_Limits!C260=\"\",\"\",IF(COUNTIF(Regulated_Operation_Limits!$C$100:$C260,Regulated_Operation_Limits!C260)=1,Regulated_Operation_Limits!C260,\"\"))","v":""},"",{"$nulls":9},{"$f":"+IF(N238=\"\",\"\",MAX(M$1:M237)+1)","v":""},{"$f":"+IF(+CMS_Info!D260=\"\",\"\",IF(COUNTIF(CMS_Info!$D260:$D$500,CMS_Info!D260)=1,CMS_Info!D260,\"\"))","v":""},""]
[{"$f":"+IF(B239=\"\",\"\",MAX(A$1:A238)+1)","v":""},{"$f":"IF(+Regulated_Operation_Limits!C261=\"\",\"\",IF(COUNTIF(Regulated_Operation_Limits!$C$100:$C261,Regulated_Operation_Limits!C261)=1,Regulated_Operation_Limits!C261,\"\"))","v":""},"",{"$nulls":9},{"$f":"+IF(N239=\"\",\"\",MAX(M$1:M238)+1)","v":""},{"$f":"+IF(+CMS_Info!D261=\"\",\"\",IF(COUNTIF(CMS_Info!$D261:$D$500,CMS_Info!D261)=1,CMS_Info!D261,\"\"))","v":""},""]
[{"$f":"+IF(B240=\"\",\"\",MAX(A$1:A239)+1)","v":""},{"$f":"IF(+Regulated_Operation_Limits!C262=\"\",\"\",IF(COUNTIF(Regulated_Operation_Limits!$C$100:$C262,Regulated_Operation_Limits!C262)=1,Regulated_Operation_Limits!C262,\"\"))","v":""},"",{"$nulls":9},{"$f":"+IF(N240=\"\",\"\",MAX(M$1:M239)+1)","v":""},{"$f":"+IF(+CMS_Info!D262=\"\",\"\",IF(COUNTIF(CMS_Info!$D262:$D$500,CMS_Info!D262)=1,CMS_Info!D262,\"\"))","v":""},""]
[{"$f":"+IF(B241=\"\",\"\",MAX(A$1:A240)+1)","v":""},{"$f":"IF(+Regulated_Operation_Limits!C263=\"\",\"\",IF(COUNTIF(Regulated_Operation_Limits!$C$100:$C263,Regulated_Operation_Limits!C263)=1,Regulated_Operation_Limits!C263,\"\"))","v":""},"",{"$nulls":9},{"$f":"+IF(N241=\"\",\"\",MAX(M$1:M240)+1)","v":""},{"$f":"+IF(+CMS_Info!D263=\"\",\"\",IF(COUNTIF(CMS_Info!$D263:$D$500,CMS_Info!D263)=1,CMS_Info!D263,\"\"))","v":""},""]
[{"$f":"+IF(B242=\"\",\"\",MAX(A$1:A241)+1)","v":""},{"$f":"IF(+Regulated_Operation_Limits!C264=\"\",\"\",IF(COUNTIF(Regulated_Operation_Limits!$C$100:$C264,Regulated_Operation_Limits!C264)=1,Regulated_Operation_Limits!C264,\"\"))","v":""},"",{"$nulls":9},{"$f":"+IF(N242=\"\",\"\",MAX(M$1:M241)+1)","v":""},{"$f":"+IF(+CMS_Info!D264=\"\",\"\",IF(COUNTIF(CMS_Info!$D264:$D$500,CMS_Info!D264)=1,CMS_Info!D264,\"\"))","v":""},""]
[{"$f":"+IF(B243=\"\",\"\",MAX(A$1:A242)+1)","v":""},{"$f":"IF(+Regulated_Operation_Limits!C265=\"\",\"\",IF(COUNTIF(Regulated_Operation_Limits!$C$100:$C265,Regulated_Operation_Limits!C265)=1,Regulated_Operation_Limits!C265,\"\"))","v":""},"",{"$nulls":9},{"$f":"+IF(N243=\"\",\"\",MAX(M$1:M242)+1)","v":""},{"$f":"+IF(+CMS_Info!D265=\"\",\"\",IF(COUNTIF(CMS_Info!$D265:$D$500,CMS_Info!D265)=1,CMS_Info!D265,\"\"))","v":""},""]
[{"$f":"+IF(B244=\"\",\"\",MAX(A$1:A243)+1)","v":""},{"$f":"IF(+Regulated_Operation_Limits!C266=\"\",\"\",IF(COUNTIF(Regulated_Operation_Limits!$C$100:$C266,Regulated_Operation_Limits!C266)=1,Regulated_Operation_Limits!C266,\"\"))","v":""},"",{"$nulls":9},{"$f":"+IF(N244=\"\",\"\",MAX(M$1:M243)+1)","v":""},{"$f":"+IF(+CMS_Info!D266=\"\",\"\",IF(COUNTIF(CMS_Info!$D266:$D$500,CMS_Info!D266)=1,CMS_Info!D266,\"\"))","v":""},""]
[{"$f":"+IF(B245=\"\",\"\",MAX(A$1:A244)+1)","v":""},{"$f":"IF(+Regulated_Operation_Limits!C267=\"\",\"\",IF(COUNTIF(Regulated_Operation_Limits!$C$100:$C267,Regulated_Operation_Limits!C267)=1,Regulated_Operation_Limits!C267,\"\"))","v":""},"",{"$nulls":9},{"$f":"+IF(N245=\"\",\"\",MAX(M$1:M244)+1)","v":""},{"$f":"+IF(+CMS_Info!D267=\"\",\"\",IF(COUNTIF(CMS_Info!$D267:$D$500,CMS_Info!D267)=1,CMS_Info!D267,\"\"))","v":""},""]
[{"$f":"+IF(B246=\"\",\"\",MAX(A$1:A245)+1)","v":""},{"$f":"IF(+Regulated_Operation_Limits!C268=\"\",\"\",IF(COUNTIF(Regulated_Operation_Limits!$C$100:$C268,Regulated_Operation_Limits!C268)=1,Regulated_Operation_Limits!C268,\"\"))","v":""},"",{"$nulls":9},{"$f":"+IF(N246=\"\",\"\",MAX(M$1:M245)+1)","v":""},{"$f":"+IF(+CMS_Info!D268=\"\",\"\",IF(COUNTIF(CMS_Info!$D268:$D$500,CMS_Info!D268)=1,CMS_Info!D268,\"\"))","v":""},""]
[{"$f":"+IF(B247=\"\",\"\",MAX(A$1:A246)+1)","v":""},{"$f":"IF(+Regulated_Operation_Limits!C269=\"\",\"\",IF(COUNTIF(Regulated_Operation_Limits!$C$100:$C269,Regulated_Operation_Limits!C269)=1,Regulated_Operation_Limits!C269,\"\"))","v":""},"",{"$nulls":9},{"$f":"+IF(N247=\"\",\"\",MAX(M$1:M246)+1)","v":""},{"$f":"+IF(+CMS_Info!D269=\"\",\"\",IF(COUNTIF(CMS_Info!$D269:$D$500,CMS_Info!D269)=1,CMS_Info!D269,\"\"))","v":""},""]
[{"$f":"+IF(B248=\"\",\"\",MAX(A$1:A247)+1)","v":""},{"$f":"IF(+Regulated_Operation_Limits!C270=\"\",\"\",IF(COUNTIF(Regulated_Operation_Limits!$C$100:$C270,Regulated_Operation_Limits!C270)=1,Regulated_Operation_Limits!C270,\"\"))","v":""},"",{"$nulls":9},{"$f":"+IF(N248=\"\",\"\",MAX(M$1:M247)+1)","v":""},{"$f":"+IF(+CMS_Info!D270=\"\",\"\",IF(COUNTIF(CMS_Info!$D270:$D$500,CMS_Info!D270)=1,CMS_Info!D270,\"\"))","v":""},""]
[{"$f":"+IF(B249=\"\",\"\",MAX(A$1:A248)+1)","v":""},{"$f":"IF(+Regulated_Operation_Limits!C271=\"\",\"\",IF(COUNTIF(Regulated_Operation_Limits!$C$100:$C271,Regulated_Operation_Limits!C271)=1,Regulated_Operation_Limits!C271,\"\"))","v":""},"",{"$nulls":9},{"$f":"+IF(N249=\"\",\"\",MAX(M$1:M248)+1)","v":""},{"$f":"+IF(+CMS_Info!D271=\"\",\"\",IF(COUNTIF(CMS_Info!$D271:$D$500,CMS_Info!D271)=1,CMS_Info!D271,\"\"))","v":""},""]
[{"$f":"+IF(B250=\"\",\"\",MAX(A$1:A249)+1)","v":""},{"$f":"IF(+Regulated_Operation_Limits!C272=\"\",\"\",IF(COUNTIF(Regulated_Operation_Limits!$C$100:$C272,Regulated_Operation_Limits!C272)=1,Regulated_Operation_Limits!C272,\"\"))","v":""},"",{"$nulls":9},{"$f":"+IF(N250=\"\",\"\",MAX(M$1:M249)+1)","v":""},{"$f":"+IF(+CMS_Info!D272=\"\",\"\",IF(COUNTIF(CMS_Info!$D272:$D$500,CMS_Info!D272)=1,CMS_Info!D272,\"\"))","v":""},""]
[{"$f":"+IF(B251=\"\",\"\",MAX(A$1:A250)+1)","v":""},{"$f":"IF(+Regulated_Operation_Limits!C273=\"\",\"\",IF(COUNTIF(Regulated_Operation_Limits!$C$100:$C273,Regulated_Operation_Limits!C273)=1,Regulated_Operation_Limits!C273,\"\"))","v":""},"",{"$nulls":9},{"$f":"+IF(N251=\"\",\"\",MAX(M$1:M250)+1)","v":""},{"$f":"+IF(+CMS_Info!D273=\"\",\"\",IF(COUNTIF(CMS_Info!$D273:$D$500,CMS_Info!D273)=1,CMS_Info!D273,\"\"))","v":""},""]
[{"$f":"+IF(B252=\"\",\"\",MAX(A$1:A251)+1)","v":""},{"$f":"IF(+Regulated_Operation_Limits!C274=\"\",\"\",IF(COUNTIF(Regulated_Operation_Limits!$C$100:$C274,Regulated_Operation_Limits!C274)=1,Regulated_Operation_Limits!C274,\"\"))","v":""},"",{"$nulls":9},{"$f":"+IF(N252=\"\",\"\",MAX(M$1:M251)+1)","v":""},{"$f":"+IF(+CMS_Info!D274=\"\",\"\",IF(COUNTIF(CMS_Info!$D274:$D$500,CMS_Info!D274)=1,CMS_Info!D274,\"\"))","v":""},""]
[{"$f":"+IF(B253=\"\",\"\",MAX(A$1:A252)+1)","v":""},{"$f":"IF(+Regulated_Operation_Limits!C275=\"\",\"\",IF(COUNTIF(Regulated_Operation_Limits!$C$100:$C275,Regulated_Operation_Limits!C275)=1,Regulated_Operation_Limits!C275,\"\"))","v":""},"",{"$nulls":9},{"$f":"+IF(N253=\"\",\"\",MAX(M$1:M252)+1)","v":""},{"$f":"+IF(+CMS_Info!D275=\"\",\"\",IF(COUNTIF(CMS_Info!$D275:$D$500,CMS_Info!D275)=1,CMS_Info!D275,\"\"))","v":""},""]
[{"$f":"+IF(B254=\"\",\"\",MAX(A$1:A253)+1)","v":""},{"$f":"IF(+Regulated_Operation_Limits!C276=\"\",\"\",IF(COUNTIF(Regulated_Operation_Limits!$C$100:$C276,Regulated_Operation_Limits!C276)=1,Regulated_Operation_Limits!C276,\"\"))","v":""},"",{"$nulls":9},{"$f":"+IF(N254=\"\",\"\",MAX(M$1:M253)+1)","v":""},{"$f":"+IF(+CMS_Info!D276=\"\",\"\",IF(COUNTIF(CMS_Info!$D276:$D$500,CMS_Info!D276)=1,CMS_Info!D276,\"\"))","v":""},""]
[{"$f":"+IF(B255=\"\",\"\",MAX(A$1:A254)+1)","v":""},{"$f":"IF(+Regulated_Operation_Limits!C277=\"\",\"\",IF(COUNTIF(Regulated_Operation_Limits!$C$100:$C277,Regulated_Operation_Limits!C277)=1,Regulated_Operation_Limits!C277,\"\"))","v":""},"",{"$nulls":9},{"$f":"+IF(N255=\"\",\"\",MAX(M$1:M254)+1)","v":""},{"$f":"+IF(+CMS_Info!D277=\"\",\"\",IF(COUNTIF(CMS_Info!$D277:$D$500,CMS_Info!D277)=1,CMS_Info!D277,\"\"))","v":""},""]
[{"$f":"+IF(B256=\"\",\"\",MAX(A$1:A255)+1)","v":""},{"$f":"IF(+Regulated_Operation_Limits!C278=\"\",\"\",IF(COUNTIF(Regulated_Operation_Limits!$C$100:$C278,Regulated_Operation_Limits!C278)=1,Regulated_Operation_Limits!C278,\"\"))","v":""},"",{"$nulls":9},{"$f":"+IF(N256=\"\",\"\",MAX(M$1:M255)+1)","v":""},{"$f":"+IF(+CMS_Info!D278=\"\",\"\",IF(COUNTIF(CMS_Info!$D278:$D$500,CMS_Info!D278)=1,CMS_Info!D278,\"\"))","v":""},""]
[{"$f":"+IF(B257=\"\",\"\",MAX(A$1:A256)+1)","v":""},{"$f":"IF(+Regulated_Operation_Limits!C279=\"\",\"\",IF(COUNTIF(Regulated_Operation_Limits!$C$100:$C279,Regulated_Operation_Limits!C279)=1,Regulated_Operation_Limits!C279,\"\"))","v":""},"",{"$nulls":9},{"$f":"+IF(N257=\"\",\"\",MAX(M$1:M256)+1)","v":""},{"$f":"+IF(+CMS_Info!D279=\"\",\"\",IF(COUNTIF(CMS_Info!$D279:$D$500,CMS_Info!D279)=1,CMS_Info!D279,\"\"))","v":""},""]
[{"$f":"+IF(B258=\"\",\"\",MAX(A$1:A257)+1)","v":""},{"$f":"IF(+Regulated_Operation_Limits!C280=\"\",\"\",IF(COUNTIF(Regulated_Operation_Limits!$C$100:$C280,Regulated_Operation_Limits!C280)=1,Regulated_Operation_Limits!C280,\"\"))","v":""},{"$f":"+IFERROR(INDEX($B$2:$B$501,MATCH(ROW()-ROW($C$1),$A$2:$A$501,0)),\"\")","v":""},{"$nulls":9},{"$f":"+IF(N258=\"\",\"\",MAX(M$1:M257)+1)","v":""},{"$f":"+IF(+CMS_Info!D280=\"\",\"\",IF(COUNTIF(CMS_Info!$D280:$D$500,CMS_Info!D280)=1,CMS_Info!D280,\"\"))","v":""},{"$f":"+IFERROR(INDEX($N$2:$N$501,MATCH(ROW()-ROW($O$1),$M$2:$M$501,0)),\"\")","v":""}]
[{"$f":"+IF(B259=\"\",\"\",MAX(A$1:A258)+1)","v":""},{"$f":"IF(+Regulated_Operation_Limits!C281=\"\",\"\",IF(COUNTIF(Regulated_Operation_Limits!$C$100:$C281,Regulated_Operation_Limits!C281)=1,Regulated_Operation_Limits!C281,\"\"))","v":""},"",{"$nulls":9},{"$f":"+IF(N259=\"\",\"\",MAX(M$1:M258)+1)","v":""},{"$f":"+IF(+CMS_Info!D281=\"\",\"\",IF(COUNTIF(CMS_Info!$D281:$D$500,CMS_Info!D281)=1,CMS_Info!D281,\"\"))","v":""},""]
[{"$f":"+IF(B260=\"\",\"\",MAX(A$1:A259)+1)","v":""},{"$f":"IF(+Regulated_Operation_Limits!C282=\"\",\"\",IF(COUNTIF(Regulated_Operation_Limits!$C$100:$C282,Regulated_Operation_Limits!C282)=1,Regulated_Operation_Limits!C282,\"\"))","v":""},"",{"$nulls":9},{"$f":"+IF(N260=\"\",\"\",MAX(M$1:M259)+1)","v":""},{"$f":"+IF(+CMS_Info!D282=\"\",\"\",IF(COUNTIF(CMS_Info!$D282:$D$500,CMS_Info!D282)=1,CMS_Info!D282,\"\"))","v":""},""]
[{"$f":"+IF(B261=\"\",\"\",MAX(A$1:A260)+1)","v":""},{"$f":"IF(+Regulated_Operation_Limits!C283=\"\",\"\",IF(COUNTIF(Regulated_Operation_Limits!$C$100:$C283,Regulated_Operation_Limits!C283)=1,Regulated_Operation_Limits!C283,\"\"))","v":""},"",{"$nulls":9},{"$f":"+IF(N261=\"\",\"\",MAX(M$1:M260)+1)","v":""},{"$f":"+IF(+CMS_Info!D283=\"\",\"\",IF(COUNTIF(CMS_Info!$D283:$D$500,CMS_Info!D283)=1,CMS_Info!D283,\"\"))","v":""},""]
[{"$f":"+IF(B262=\"\",\"\",MAX(A$1:A261)+1)","v":""},{"$f":"IF(+Regulated_Operation_Limits!C284=\"\",\"\",IF(COUNTIF(Regulated_Operation_Limits!$C$100:$C284,Regulated_Operation_Limits!C284)=1,Regulated_Operation_Limits!C284,\"\"))","v":""},"",{"$nulls":9},{"$f":"+IF(N262=\"\",\"\",MAX(M$1:M261)+1)","v":""},{"$f":"+IF(+CMS_Info!D284=\"\",\"\",IF(COUNTIF(CMS_Info!$D284:$D$500,CMS_Info!D284)=1,CMS_Info!D284,\"\"))","v":""},""]
[{"$f":"+IF(B263=\"\",\"\",MAX(A$1:A262)+1)","v":""},{"$f":"IF(+Regulated_Operation_Limits!C285=\"\",\"\",IF(COUNTIF(Regulated_Operation_Limits!$C$100:$C285,Regulated_Operation_Limits!C285)=1,Regulated_Operation_Limits!C285,\"\"))","v":""},"",{"$nulls":9},{"$f":"+IF(N263=\"\",\"\",MAX(M$1:M262)+1)","v":""},{"$f":"+IF(+CMS_Info!D285=\"\",\"\",IF(COUNTIF(CMS_Info!$D285:$D$500,CMS_Info!D285)=1,CMS_Info!D285,\"\"))","v":""},""]
[{"$f":"+IF(B264=\"\",\"\",MAX(A$1:A263)+1)","v":""},{"$f":"IF(+Regulated_Operation_Limits!C286=\"\",\"\",IF(COUNTIF(Regulated_Operation_Limits!$C$100:$C286,Regulated_Operation_Limits!C286)=1,Regulated_Operation_Limits!C286,\"\"))","v":""},"",{"$nulls":9},{"$f":"+IF(N264=\"\",\"\",MAX(M$1:M263)+1)","v":""},{"$f":"+IF(+CMS_Info!D286=\"\",\"\",IF(COUNTIF(CMS_Info!$D286:$D$500,CMS_Info!D286)=1,CMS_Info!D286,\"\"))","v":""},""]
[{"$f":"+IF(B265=\"\",\"\",MAX(A$1:A264)+1)","v":""},{"$f":"IF(+Regulated_Operation_Limits!C287=\"\",\"\",IF(COUNTIF(Regulated_Operation_Limits!$C$100:$C287,Regulated_Operation_Limits!C287)=1,Regulated_Operation_Limits!C287,\"\"))","v":""},"",{"$nulls":9},{"$f":"+IF(N265=\"\",\"\",MAX(M$1:M264)+1)","v":""},{"$f":"+IF(+CMS_Info!D287=\"\",\"\",IF(COUNTIF(CMS_Info!$D287:$D$500,CMS_Info!D287)=1,CMS_Info!D287,\"\"))","v":""},""]
[{"$f":"+IF(B266=\"\",\"\",MAX(A$1:A265)+1)","v":""},{"$f":"IF(+Regulated_Operation_Limits!C288=\"\",\"\",IF(COUNTIF(Regulated_Operation_Limits!$C$100:$C288,Regulated_Operation_Limits!C288)=1,Regulated_Operation_Limits!C288,\"\"))","v":""},"",{"$nulls":9},{"$f":"+IF(N266=\"\",\"\",MAX(M$1:M265)+1)","v":""},{"$f":"+IF(+CMS_Info!D288=\"\",\"\",IF(COUNTIF(CMS_Info!$D288:$D$500,CMS_Info!D288)=1,CMS_Info!D288,\"\"))","v":""},""]
[{"$f":"+IF(B267=\"\",\"\",MAX(A$1:A266)+1)","v":""},{"$f":"IF(+Regulated_Operation_Limits!C289=\"\",\"\",IF(COUNTIF(Regulated_Operation_Limits!$C$100:$C289,Regulated_Operation_Limits!C289)=1,Regulated_Operation_Limits!C289,\"\"))","v":""},"",{"$nulls":9},{"$f":"+IF(N267=\"\",\"\",MAX(M$1:M266)+1)","v":""},{"$f":"+IF(+CMS_Info!D289=\"\",\"\",IF(COUNTIF(CMS_Info!$D289:$D$500,CMS_Info!D289)=1,CMS_Info!D289,\"\"))","v":""},""]
[{"$f":"+IF(B268=\"\",\"\",MAX(A$1:A267)+1)","v":""},{"$f":"IF(+Regulated_Operation_Limits!C290=\"\",\"\",IF(COUNTIF(Regulated_Operation_Limits!$C$100:$C290,Regulated_Operation_Limits!C290)=1,Regulated_Operation_Limits!C290,\"\"))","v":""},"",{"$nulls":9},{"$f":"+IF(N268=\"\",\"\",MAX(M$1:M267)+1)","v":""},{"$f":"+IF(+CMS_Info!D290=\"\",\"\",IF(COUNTIF(CMS_Info!$D290:$D$500,CMS_Info!D290)=1,CMS_Info!D290,\"\"))","v":""},""]
[{"$f":"+IF(B269=\"\",\"\",MAX(A$1:A268)+1)","v":""},{"$f":"IF(+Regulated_Operation_Limits!C291=\"\",\"\",IF(COUNTIF(Regulated_Operation_Limits!$C$100:$C291,Regulated_Operation_Limits!C291)=1,Regulated_Operation_Limits!C291,\"\"))","v":""},"",{"$nulls":9},{"$f":"+IF(N269=\"\",\"\",MAX(M$1:M268)+1)","v":""},{"$f":"+IF(+CMS_Info!D291=\"\",\"\",IF(COUNTIF(CMS_Info!$D291:$D$500,CMS_Info!D291)=1,CMS_Info!D291,\"\"))","v":""},""]
[{"$f":"+IF(B270=\"\",\"\",MAX(A$1:A269)+1)","v":""},{"$f":"IF(+Regulated_Operation_Limits!C292=\"\",\"\",IF(COUNTIF(Regulated_Operation_Limits!$C$100:$C292,Regulated_Operation_Limits!C292)=1,Regulated_Operation_Limits!C292,\"\"))","v":""},"",{"$nulls":9},{"$f":"+IF(N270=\"\",\"\",MAX(M$1:M269)+1)","v":""},{"$f":"+IF(+CMS_Info!D292=\"\",\"\",IF(COUNTIF(CMS_Info!$D292:$D$500,CMS_Info!D292)=1,CMS_Info!D292,\"\"))","v":""},""]
[{"$f":"+IF(B271=\"\",\"\",MAX(A$1:A270)+1)","v":""},{"$f":"IF(+Regulated_Operation_Limits!C293=\"\",\"\",IF(COUNTIF(Regulated_Operation_Limits!$C$100:$C293,Regulated_Operation_Limits!C293)=1,Regulated_Operation_Limits!C293,\"\"))","v":""},"",{"$nulls":9},{"$f":"+IF(N271=\"\",\"\",MAX(M$1:M270)+1)","v":""},{"$f":"+IF(+CMS_Info!D293=\"\",\"\",IF(COUNTIF(CMS_Info!$D293:$D$500,CMS_Info!D293)=1,CMS_Info!D293,\"\"))","v":""},""]
[{"$f":"+IF(B272=\"\",\"\",MAX(A$1:A271)+1)","v":""},{"$f":"IF(+Regulated_Operation_Limits!C294=\"\",\"\",IF(COUNTIF(Regulated_Operation_Limits!$C$100:$C294,Regulated_Operation_Limits!C294)=1,Regulated_Operation_Limits!C294,\"\"))","v":""},"",{"$nulls":9},{"$f":"+IF(N272=\"\",\"\",MAX(M$1:M271)+1)","v":""},{"$f":"+IF(+CMS_Info!D294=\"\",\"\",IF(COUNTIF(CMS_Info!$D294:$D$500,CMS_Info!D294)=1,CMS_Info!D294,\"\"))","v":""},""]
[{"$f":"+IF(B273=\"\",\"\",MAX(A$1:A272)+1)","v":""},{"$f":"IF(+Regulated_Operation_Limits!C295=\"\",\"\",IF(COUNTIF(Regulated_Operation_Limits!$C$100:$C295,Regulated_Operation_Limits!C295)=1,Regulated_Operation_Limits!C295,\"\"))","v":""},"",{"$nulls":9},{"$f":"+IF(N273=\"\",\"\",MAX(M$1:M272)+1)","v":""},{"$f":"+IF(+CMS_Info!D295=\"\",\"\",IF(COUNTIF(CMS_Info!$D295:$D$500,CMS_Info!D295)=1,CMS_Info!D295,\"\"))","v":""},""]
[{"$f":"+IF(B274=\"\",\"\",MAX(A$1:A273)+1)","v":""},{"$f":"IF(+Regulated_Operation_Limits!C296=\"\",\"\",IF(COUNTIF(Regulated_Operation_Limits!$C$100:$C296,Regulated_Operation_Limits!C296)=1,Regulated_Operation_Limits!C296,\"\"))","v":""},"",{"$nulls":9},{"$f":"+IF(N274=\"\",\"\",MAX(M$1:M273)+1)","v":""},{"$f":"+IF(+CMS_Info!D296=\"\",\"\",IF(COUNTIF(CMS_Info!$D296:$D$500,CMS_Info!D296)=1,CMS_Info!D296,\"\"))","v":""},""]
[{"$f":"+IF(B275=\"\",\"\",MAX(A$1:A274)+1)","v":""},{"$f":"IF(+Regulated_Operation_Limits!C297=\"\",\"\",IF(COUNTIF(Regulated_Operation_Limits!$C$100:$C297,Regulated_Operation_Limits!C297)=1,Regulated_Operation_Limits!C297,\"\"))","v":""},"",{"$nulls":9},{"$f":"+IF(N275=\"\",\"\",MAX(M$1:M274)+1)","v":""},{"$f":"+IF(+CMS_Info!D297=\"\",\"\",IF(COUNTIF(CMS_Info!$D297:$D$500,CMS_Info!D297)=1,CMS_Info!D297,\"\"))","v":""},""]
[{"$f":"+IF(B276=\"\",\"\",MAX(A$1:A275)+1)","v":""},{"$f":"IF(+Regulated_Operation_Limits!C298=\"\",\"\",IF(COUNTIF(Regulated_Operation_Limits!$C$100:$C298,Regulated_Operation_Limits!C298)=1,Regulated_Operation_Limits!C298,\"\"))","v":""},"",{"$nulls":9},{"$f":"+IF(N276=\"\",\"\",MAX(M$1:M275)+1)","v":""},{"$f":"+IF(+CMS_Info!D298=\"\",\"\",IF(COUNTIF(CMS_Info!$D298:$D$500,CMS_Info!D298)=1,CMS_Info!D298,\"\"))","v":""},""]
[{"$f":"+IF(B277=\"\",\"\",MAX(A$1:A276)+1)","v":""},{"$f":"IF(+Regulated_Operation_Limits!C299=\"\",\"\",IF(COUNTIF(Regulated_Operation_Limits!$C$100:$C299,Regulated_Operation_Limits!C299)=1,Regulated_Operation_Limits!C299,\"\"))","v":""},"",{"$nulls":9},{"$f":"+IF(N277=\"\",\"\",MAX(M$1:M276)+1)","v":""},{"$f":"+IF(+CMS_Info!D299=\"\",\"\",IF(COUNTIF(CMS_Info!$D299:$D$500,CMS_Info!D299)=1,CMS_Info!D299,\"\"))","v":""},""]
[{"$f":"+IF(B278=\"\",\"\",MAX(A$1:A277)+1)","v":""},{"$f":"IF(+Regulated_Operation_Limits!C300=\"\",\"\",IF(COUNTIF(Regulated_Operation_Limits!$C$100:$C300,Regulated_Operation_Limits!C300)=1,Regulated_Operation_Limits!C300,\"\"))","v":""},"",{"$nulls":9},{"$f":"+IF(N278=\"\",\"\",MAX(M$1:M277)+1)","v":""},{"$f":"+IF(+CMS_Info!D300=\"\",\"\",IF(COUNTIF(CMS_Info!$D300:$D$500,CMS_Info!D300)=1,CMS_Info!D300,\"\"))","v":""},""]
[{"$f":"+IF(B279=\"\",\"\",MAX(A$1:A278)+1)","v":""},{"$f":"IF(+Regulated_Operation_Limits!C301=\"\",\"\",IF(COUNTIF(Regulated_Operation_Limits!$C$100:$C301,Regulated_Operation_Limits!C301)=1,Regulated_Operation_Limits!C301,\"\"))","v":""},"",{"$nulls":9},{"$f":"+IF(N279=\"\",\"\",MAX(M$1:M278)+1)","v":""},{"$f":"+IF(+CMS_Info!D301=\"\",\"\",IF(COUNTIF(CMS_Info!$D301:$D$500,CMS_Info!D301)=1,CMS_Info!D301,\"\"))","v":""},""]
[{"$f":"+IF(B280=\"\",\"\",MAX(A$1:A279)+1)","v":""},{"$f":"IF(+Regulated_Operation_Limits!C302=\"\",\"\",IF(COUNTIF(Regulated_Operation_Limits!$C$100:$C302,Regulated_Operation_Limits!C302)=1,Regulated_Operation_Limits!C302,\"\"))","v":""},"",{"$nulls":9},{"$f":"+IF(N280=\"\",\"\",MAX(M$1:M279)+1)","v":""},{"$f":"+IF(+CMS_Info!D302=\"\",\"\",IF(COUNTIF(CMS_Info!$D302:$D$500,CMS_Info!D302)=1,CMS_Info!D302,\"\"))","v":""},""]
[{"$f":"+IF(B281=\"\",\"\",MAX(A$1:A280)+1)","v":""},{"$f":"IF(+Regulated_Operation_Limits!C303=\"\",\"\",IF(COUNTIF(Regulated_Operation_Limits!$C$100:$C303,Regulated_Operation_Limits!C303)=1,Regulated_Operation_Limits!C303,\"\"))","v":""},"",{"$nulls":9},{"$f":"+IF(N281=\"\",\"\",MAX(M$1:M280)+1)","v":""},{"$f":"+IF(+CMS_Info!D303=\"\",\"\",IF(COUNTIF(CMS_Info!$D303:$D$500,CMS_Info!D303)=1,CMS_Info!D303,\"\"))","v":""},""]
[{"$f":"+IF(B282=\"\",\"\",MAX(A$1:A281)+1)","v":""},{"$f":"IF(+Regulated_Operation_Limits!C304=\"\",\"\",IF(COUNTIF(Regulated_Operation_Limits!$C$100:$C304,Regulated_Operation_Limits!C304)=1,Regulated_Operation_Limits!C304,\"\"))","v":""},"",{"$nulls":9},{"$f":"+IF(N282=\"\",\"\",MAX(M$1:M281)+1)","v":""},{"$f":"+IF(+CMS_Info!D304=\"\",\"\",IF(COUNTIF(CMS_Info!$D304:$D$500,CMS_Info!D304)=1,CMS_Info!D304,\"\"))","v":""},""]
[{"$f":"+IF(B283=\"\",\"\",MAX(A$1:A282)+1)","v":""},{"$f":"IF(+Regulated_Operation_Limits!C305=\"\",\"\",IF(COUNTIF(Regulated_Operation_Limits!$C$100:$C305,Regulated_Operation_Limits!C305)=1,Regulated_Operation_Limits!C305,\"\"))","v":""},"",{"$nulls":9},{"$f":"+IF(N283=\"\",\"\",MAX(M$1:M282)+1)","v":""},{"$f":"+IF(+CMS_Info!D305=\"\",\"\",IF(COUNTIF(CMS_Info!$D305:$D$500,CMS_Info!D305)=1,CMS_Info!D305,\"\"))","v":""},""]
[{"$f":"+IF(B284=\"\",\"\",MAX(A$1:A283)+1)","v":""},{"$f":"IF(+Regulated_Operation_Limits!C306=\"\",\"\",IF(COUNTIF(Regulated_Operation_Limits!$C$100:$C306,Regulated_Operation_Limits!C306)=1,Regulated_Operation_Limits!C306,\"\"))","v":""},"",{"$nulls":9},{"$f":"+IF(N284=\"\",\"\",MAX(M$1:M283)+1)","v":""},{"$f":"+IF(+CMS_Info!D306=\"\",\"\",IF(COUNTIF(CMS_Info!$D306:$D$500,CMS_Info!D306)=1,CMS_Info!D306,\"\"))","v":""},""]
[{"$f":"+IF(B285=\"\",\"\",MAX(A$1:A284)+1)","v":""},{"$f":"IF(+Regulated_Operation_Limits!C307=\"\",\"\",IF(COUNTIF(Regulated_Operation_Limits!$C$100:$C307,Regulated_Operation_Limits!C307)=1,Regulated_Operation_Limits!C307,\"\"))","v":""},"",{"$nulls":9},{"$f":"+IF(N285=\"\",\"\",MAX(M$1:M284)+1)","v":""},{"$f":"+IF(+CMS_Info!D307=\"\",\"\",IF(COUNTIF(CMS_Info!$D307:$D$500,CMS_Info!D307)=1,CMS_Info!D307,\"\"))","v":""},""]
[{"$f":"+IF(B286=\"\",\"\",MAX(A$1:A285)+1)","v":""},{"$f":"IF(+Regulated_Operation_Limits!C308=\"\",\"\",IF(COUNTIF(Regulated_Operation_Limits!$C$100:$C308,Regulated_Operation_Limits!C308)=1,Regulated_Operation_Limits!C308,\"\"))","v":""},"",{"$nulls":9},{"$f":"+IF(N286=\"\",\"\",MAX(M$1:M285)+1)","v":""},{"$f":"+IF(+CMS_Info!D308=\"\",\"\",IF(COUNTIF(CMS_Info!$D308:$D$500,CMS_Info!D308)=1,CMS_Info!D308,\"\"))","v":""},""]
[{"$f":"+IF(B287=\"\",\"\",MAX(A$1:A286)+1)","v":""},{"$f":"IF(+Regulated_Operation_Limits!C309=\"\",\"\",IF(COUNTIF(Regulated_Operation_Limits!$C$100:$C309,Regulated_Operation_Limits!C309)=1,Regulated_Operation_Limits!C309,\"\"))","v":""},"",{"$nulls":9},{"$f":"+IF(N287=\"\",\"\",MAX(M$1:M286)+1)","v":""},{"$f":"+IF(+CMS_Info!D309=\"\",\"\",IF(COUNTIF(CMS_Info!$D309:$D$500,CMS_Info!D309)=1,CMS_Info!D309,\"\"))","v":""},""]
[{"$f":"+IF(B288=\"\",\"\",MAX(A$1:A287)+1)","v":""},{"$f":"IF(+Regulated_Operation_Limits!C310=\"\",\"\",IF(COUNTIF(Regulated_Operation_Limits!$C$100:$C310,Regulated_Operation_Limits!C310)=1,Regulated_Operation_Limits!C310,\"\"))","v":""},"",{"$nulls":9},{"$f":"+IF(N288=\"\",\"\",MAX(M$1:M287)+1)","v":""},{"$f":"+IF(+CMS_Info!D310=\"\",\"\",IF(COUNTIF(CMS_Info!$D310:$D$500,CMS_Info!D310)=1,CMS_Info!D310,\"\"))","v":""},""]
[{"$f":"+IF(B289=\"\",\"\",MAX(A$1:A288)+1)","v":""},{"$f":"IF(+Regulated_Operation_Limits!C311=\"\",\"\",IF(COUNTIF(Regulated_Operation_Limits!$C$100:$C311,Regulated_Operation_Limits!C311)=1,Regulated_Operation_Limits!C311,\"\"))","v":""},"",{"$nulls":9},{"$f":"+IF(N289=\"\",\"\",MAX(M$1:M288)+1)","v":""},{"$f":"+IF(+CMS_Info!D311=\"\",\"\",IF(COUNTIF(CMS_Info!$D311:$D$500,CMS_Info!D311)=1,CMS_Info!D311,\"\"))","v":""},""]
[{"$f":"+IF(B290=\"\",\"\",MAX(A$1:A289)+1)","v":""},{"$f":"IF(+Regulated_Operation_Limits!C312=\"\",\"\",IF(COUNTIF(Regulated_Operation_Limits!$C$100:$C312,Regulated_Operation_Limits!C312)=1,Regulated_Operation_Limits!C312,\"\"))","v":""},"",{"$nulls":9},{"$f":"+IF(N290=\"\",\"\",MAX(M$1:M289)+1)","v":""},{"$f":"+IF(+CMS_Info!D312=\"\",\"\",IF(COUNTIF(CMS_Info!$D312:$D$500,CMS_Info!D312)=1,CMS_Info!D312,\"\"))","v":""},""]
[{"$f":"+IF(B291=\"\",\"\",MAX(A$1:A290)+1)","v":""},{"$f":"IF(+Regulated_Operation_Limits!C313=\"\",\"\",IF(COUNTIF(Regulated_Operation_Limits!$C$100:$C313,Regulated_Operation_Limits!C313)=1,Regulated_Operation_Limits!C313,\"\"))","v":""},"",{"$nulls":9},{"$f":"+IF(N291=\"\",\"\",MAX(M$1:M290)+1)","v":""},{"$f":"+IF(+CMS_Info!D313=\"\",\"\",IF(COUNTIF(CMS_Info!$D313:$D$500,CMS_Info!D313)=1,CMS_Info!D313,\"\"))","v":""},""]
[{"$f":"+IF(B292=\"\",\"\",MAX(A$1:A291)+1)","v":""},{"$f":"IF(+Regulated_Operation_Limits!C314=\"\",\"\",IF(COUNTIF(Regulated_Operation_Limits!$C$100:$C314,Regulated_Operation_Limits!C314)=1,Regulated_Operation_Limits!C314,\"\"))","v":""},"",{"$nulls":9},{"$f":"+IF(N292=\"\",\"\",MAX(M$1:M291)+1)","v":""},{"$f":"+IF(+CMS_Info!D314=\"\",\"\",IF(COUNTIF(CMS_Info!$D314:$D$500,CMS_Info!D314)=1,CMS_Info!D314,\"\"))","v":""},""]
[{"$f":"+IF(B293=\"\",\"\",MAX(A$1:A292)+1)","v":""},{"$f":"IF(+Regulated_Operation_Limits!C315=\"\",\"\",IF(COUNTIF(Regulated_Operation_Limits!$C$100:$C315,Regulated_Operation_Limits!C315)=1,Regulated_Operation_Limits!C315,\"\"))","v":""},"",{"$nulls":9},{"$f":"+IF(N293=\"\",\"\",MAX(M$1:M292)+1)","v":""},{"$f":"+IF(+CMS_Info!D315=\"\",\"\",IF(COUNTIF(CMS_Info!$D315:$D$500,CMS_Info!D315)=1,CMS_Info!D315,\"\"))","v":""},""]
[{"$f":"+IF(B294=\"\",\"\",MAX(A$1:A293)+1)","v":""},{"$f":"IF(+Regulated_Operation_Limits!C316=\"\",\"\",IF(COUNTIF(Regulated_Operation_Limits!$C$100:$C316,Regulated_Operation_Limits!C316)=1,Regulated_Operation_Limits!C316,\"\"))","v":""},"",{"$nulls":9},{"$f":"+IF(N294=\"\",\"\",MAX(M$1:M293)+1)","v":""},{"$f":"+IF(+CMS_Info!D316=\"\",\"\",IF(COUNTIF(CMS_Info!$D316:$D$500,CMS_Info!D316)=1,CMS_Info!D316,\"\"))","v":""},""]
[{"$f":"+IF(B295=\"\",\"\",MAX(A$1:A294)+1)","v":""},{"$f":"IF(+Regulated_Operation_Limits!C317=\"\",\"\",IF(COUNTIF(Regulated_Operation_Limits!$C$100:$C317,Regulated_Operation_Limits!C317)=1,Regulated_Operation_Limits!C317,\"\"))","v":""},"",{"$nulls":9},{"$f":"+IF(N295=\"\",\"\",MAX(M$1:M294)+1)","v":""},{"$f":"+IF(+CMS_Info!D317=\"\",\"\",IF(COUNTIF(CMS_Info!$D317:$D$500,CMS_Info!D317)=1,CMS_Info!D317,\"\"))","v":""},""]
[{"$f":"+IF(B296=\"\",\"\",MAX(A$1:A295)+1)","v":""},{"$f":"IF(+Regulated_Operation_Limits!C318=\"\",\"\",IF(COUNTIF(Regulated_Operation_Limits!$C$100:$C318,Regulated_Operation_Limits!C318)=1,Regulated_Operation_Limits!C318,\"\"))","v":""},"",{"$nulls":9},{"$f":"+IF(N296=\"\",\"\",MAX(M$1:M295)+1)","v":""},{"$f":"+IF(+CMS_Info!D318=\"\",\"\",IF(COUNTIF(CMS_Info!$D318:$D$500,CMS_Info!D318)=1,CMS_Info!D318,\"\"))","v":""},""]
[{"$f":"+IF(B297=\"\",\"\",MAX(A$1:A296)+1)","v":""},{"$f":"IF(+Regulated_Operation_Limits!C319=\"\",\"\",IF(COUNTIF(Regulated_Operation_Limits!$C$100:$C319,Regulated_Operation_Limits!C319)=1,Regulated_Operation_Limits!C319,\"\"))","v":""},"",{"$nulls":9},{"$f":"+IF(N297=\"\",\"\",MAX(M$1:M296)+1)","v":""},{"$f":"+IF(+CMS_Info!D319=\"\",\"\",IF(COUNTIF(CMS_Info!$D319:$D$500,CMS_Info!D319)=1,CMS_Info!D319,\"\"))","v":""},""]
[{"$f":"+IF(B298=\"\",\"\",MAX(A$1:A297)+1)","v":""},{"$f":"IF(+Regulated_Operation_Limits!C320=\"\",\"\",IF(COUNTIF(Regulated_Operation_Limits!$C$100:$C320,Regulated_Operation_Limits!C320)=1,Regulated_Operation_Limits!C320,\"\"))","v":""},"",{"$nulls":9},{"$f":"+IF(N298=\"\",\"\",MAX(M$1:M297)+1)","v":""},{"$f":"+IF(+CMS_Info!D320=\"\",\"\",IF(COUNTIF(CMS_Info!$D320:$D$500,CMS_Info!D320)=1,CMS_Info!D320,\"\"))","v":""},""]
[{"$f":"+IF(B299=\"\",\"\",MAX(A$1:A298)+1)","v":""},{"$f":"IF(+Regulated_Operation_Limits!C321=\"\",\"\",IF(COUNTIF(Regulated_Operation_Limits!$C$100:$C321,Regulated_Operation_Limits!C321)=1,Regulated_Operation_Limits!C321,\"\"))","v":""},"",{"$nulls":9},{"$f":"+IF(N299=\"\",\"\",MAX(M$1:M298)+1)","v":""},{"$f":"+IF(+CMS_Info!D321=\"\",\"\",IF(COUNTIF(CMS_Info!$D321:$D$500,CMS_Info!D321)=1,CMS_Info!D321,\"\"))","v":""},""]
[{"$f":"+IF(B300=\"\",\"\",MAX(A$1:A299)+1)","v":""},{"$f":"IF(+Regulated_Operation_Limits!C322=\"\",\"\",IF(COUNTIF(Regulated_Operation_Limits!$C$100:$C322,Regulated_Operation_Limits!C322)=1,Regulated_Operation_Limits!C322,\"\"))","v":""},"",{"$nulls":9},{"$f":"+IF(N300=\"\",\"\",MAX(M$1:M299)+1)","v":""},{"$f":"+IF(+CMS_Info!D322=\"\",\"\",IF(COUNTIF(CMS_Info!$D322:$D$500,CMS_Info!D322)=1,CMS_Info!D322,\"\"))","v":""},""]
[{"$f":"+IF(B301=\"\",\"\",MAX(A$1:A300)+1)","v":""},{"$f":"IF(+Regulated_Operation_Limits!C323=\"\",\"\",IF(COUNTIF(Regulated_Operation_Limits!$C$100:$C323,Regulated_Operation_Limits!C323)=1,Regulated_Operation_Limits!C323,\"\"))","v":""},"",{"$nulls":9},{"$f":"+IF(N301=\"\",\"\",MAX(M$1:M300)+1)","v":""},{"$f":"+IF(+CMS_Info!D323=\"\",\"\",IF(COUNTIF(CMS_Info!$D323:$D$500,CMS_Info!D323)=1,CMS_Info!D323,\"\"))","v":""},""]
[{"$f":"+IF(B302=\"\",\"\",MAX(A$1:A301)+1)","v":""},{"$f":"IF(+Regulated_Operation_Limits!C324=\"\",\"\",IF(COUNTIF(Regulated_Operation_Limits!$C$100:$C324,Regulated_Operation_Limits!C324)=1,Regulated_Operation_Limits!C324,\"\"))","v":""},"",{"$nulls":9},{"$f":"+IF(N302=\"\",\"\",MAX(M$1:M301)+1)","v":""},{"$f":"+IF(+CMS_Info!D324=\"\",\"\",IF(COUNTIF(CMS_Info!$D324:$D$500,CMS_Info!D324)=1,CMS_Info!D324,\"\"))","v":""},""]
[{"$f":"+IF(B303=\"\",\"\",MAX(A$1:A302)+1)","v":""},{"$f":"IF(+Regulated_Operation_Limits!C325=\"\",\"\",IF(COUNTIF(Regulated_Operation_Limits!$C$100:$C325,Regulated_Operation_Limits!C325)=1,Regulated_Operation_Limits!C325,\"\"))","v":""},"",{"$nulls":9},{"$f":"+IF(N303=\"\",\"\",MAX(M$1:M302)+1)","v":""},{"$f":"+IF(+CMS_Info!D325=\"\",\"\",IF(COUNTIF(CMS_Info!$D325:$D$500,CMS_Info!D325)=1,CMS_Info!D325,\"\"))","v":""},""]
[{"$f":"+IF(B304=\"\",\"\",MAX(A$1:A303)+1)","v":""},{"$f":"IF(+Regulated_Operation_Limits!C326=\"\",\"\",IF(COUNTIF(Regulated_Operation_Limits!$C$100:$C326,Regulated_Operation_Limits!C326)=1,Regulated_Operation_Limits!C326,\"\"))","v":""},"",{"$nulls":9},{"$f":"+IF(N304=\"\",\"\",MAX(M$1:M303)+1)","v":""},{"$f":"+IF(+CMS_Info!D326=\"\",\"\",IF(COUNTIF(CMS_Info!$D326:$D$500,CMS_Info!D326)=1,CMS_Info!D326,\"\"))","v":""},""]
[{"$f":"+IF(B305=\"\",\"\",MAX(A$1:A304)+1)","v":""},{"$f":"IF(+Regulated_Operation_Limits!C327=\"\",\"\",IF(COUNTIF(Regulated_Operation_Limits!$C$100:$C327,Regulated_Operation_Limits!C327)=1,Regulated_Operation_Limits!C327,\"\"))","v":""},"",{"$nulls":9},{"$f":"+IF(N305=\"\",\"\",MAX(M$1:M304)+1)","v":""},{"$f":"+IF(+CMS_Info!D327=\"\",\"\",IF(COUNTIF(CMS_Info!$D327:$D$500,CMS_Info!D327)=1,CMS_Info!D327,\"\"))","v":""},""]
[{"$f":"+IF(B306=\"\",\"\",MAX(A$1:A305)+1)","v":""},{"$f":"IF(+Regulated_Operation_Limits!C328=\"\",\"\",IF(COUNTIF(Regulated_Operation_Limits!$C$100:$C328,Regulated_Operation_Limits!C328)=1,Regulated_Operation_Limits!C328,\"\"))","v":""},"",{"$nulls":9},{"$f":"+IF(N306=\"\",\"\",MAX(M$1:M305)+1)","v":""},{"$f":"+IF(+CMS_Info!D328=\"\",\"\",IF(COUNTIF(CMS_Info!$D328:$D$500,CMS_Info!D328)=1,CMS_Info!D328,\"\"))","v":""},""]
[{"$f":"+IF(B307=\"\",\"\",MAX(A$1:A306)+1)","v":""},{"$f":"IF(+Regulated_Operation_Limits!C329=\"\",\"\",IF(COUNTIF(Regulated_Operation_Limits!$C$100:$C329,Regulated_Operation_Limits!C329)=1,Regulated_Operation_Limits!C329,\"\"))","v":""},"",{"$nulls":9},{"$f":"+IF(N307=\"\",\"\",MAX(M$1:M306)+1)","v":""},{"$f":"+IF(+CMS_Info!D329=\"\",\"\",IF(COUNTIF(CMS_Info!$D329:$D$500,CMS_Info!D329)=1,CMS_Info!D329,\"\"))","v":""},""]
[{"$f":"+IF(B308=\"\",\"\",MAX(A$1:A307)+1)","v":""},{"$f":"IF(+Regulated_Operation_Limits!C330=\"\",\"\",IF(COUNTIF(Regulated_Operation_Limits!$C$100:$C330,Regulated_Operation_Limits!C330)=1,Regulated_Operation_Limits!C330,\"\"))","v":""},"",{"$nulls":9},{"$f":"+IF(N308=\"\",\"\",MAX(M$1:M307)+1)","v":""},{"$f":"+IF(+CMS_Info!D330=\"\",\"\",IF(COUNTIF(CMS_Info!$D330:$D$500,CMS_Info!D330)=1,CMS_Info!D330,\"\"))","v":""},""]
[{"$f":"+IF(B309=\"\",\"\",MAX(A$1:A308)+1)","v":""},{"$f":"IF(+Regulated_Operation_Limits!C331=\"\",\"\",IF(COUNTIF(Regulated_Operation_Limits!$C$100:$C331,Regulated_Operation_Limits!C331)=1,Regulated_Operation_Limits!C331,\"\"))","v":""},"",{"$nulls":9},{"$f":"+IF(N309=\"\",\"\",MAX(M$1:M308)+1)","v":""},{"$f":"+IF(+CMS_Info!D331=\"\",\"\",IF(COUNTIF(CMS_Info!$D331:$D$500,CMS_Info!D331)=1,CMS_Info!D331,\"\"))","v":""},""]
[{"$f":"+IF(B310=\"\",\"\",MAX(A$1:A309)+1)","v":""},{"$f":"IF(+Regulated_Operation_Limits!C332=\"\",\"\",IF(COUNTIF(Regulated_Operation_Limits!$C$100:$C332,Regulated_Operation_Limits!C332)=1,Regulated_Operation_Limits!C332,\"\"))","v":""},"",{"$nulls":9},{"$f":"+IF(N310=\"\",\"\",MAX(M$1:M309)+1)","v":""},{"$f":"+IF(+CMS_Info!D332=\"\",\"\",IF(COUNTIF(CMS_Info!$D332:$D$500,CMS_Info!D332)=1,CMS_Info!D332,\"\"))","v":""},""]
[{"$f":"+IF(B311=\"\",\"\",MAX(A$1:A310)+1)","v":""},{"$f":"IF(+Regulated_Operation_Limits!C333=\"\",\"\",IF(COUNTIF(Regulated_Operation_Limits!$C$100:$C333,Regulated_Operation_Limits!C333)=1,Regulated_Operation_Limits!C333,\"\"))","v":""},"",{"$nulls":9},{"$f":"+IF(N311=\"\",\"\",MAX(M$1:M310)+1)","v":""},{"$f":"+IF(+CMS_Info!D333=\"\",\"\",IF(COUNTIF(CMS_Info!$D333:$D$500,CMS_Info!D333)=1,CMS_Info!D333,\"\"))","v":""},""]
[{"$f":"+IF(B312=\"\",\"\",MAX(A$1:A311)+1)","v":""},{"$f":"IF(+Regulated_Operation_Limits!C334=\"\",\"\",IF(COUNTIF(Regulated_Operation_Limits!$C$100:$C334,Regulated_Operation_Limits!C334)=1,Regulated_Operation_Limits!C334,\"\"))","v":""},"",{"$nulls":9},{"$f":"+IF(N312=\"\",\"\",MAX(M$1:M311)+1)","v":""},{"$f":"+IF(+CMS_Info!D334=\"\",\"\",IF(COUNTIF(CMS_Info!$D334:$D$500,CMS_Info!D334)=1,CMS_Info!D334,\"\"))","v":""},""]
[{"$f":"+IF(B313=\"\",\"\",MAX(A$1:A312)+1)","v":""},{"$f":"IF(+Regulated_Operation_Limits!C335=\"\",\"\",IF(COUNTIF(Regulated_Operation_Limits!$C$100:$C335,Regulated_Operation_Limits!C335)=1,Regulated_Operation_Limits!C335,\"\"))","v":""},"",{"$nulls":9},{"$f":"+IF(N313=\"\",\"\",MAX(M$1:M312)+1)","v":""},{"$f":"+IF(+CMS_Info!D335=\"\",\"\",IF(COUNTIF(CMS_Info!$D335:$D$500,CMS_Info!D335)=1,CMS_Info!D335,\"\"))","v":""},""]
[{"$f":"+IF(B314=\"\",\"\",MAX(A$1:A313)+1)","v":""},{"$f":"IF(+Regulated_Operation_Limits!C336=\"\",\"\",IF(COUNTIF(Regulated_Operation_Limits!$C$100:$C336,Regulated_Operation_Limits!C336)=1,Regulated_Operation_Limits!C336,\"\"))","v":""},"",{"$nulls":9},{"$f":"+IF(N314=\"\",\"\",MAX(M$1:M313)+1)","v":""},{"$f":"+IF(+CMS_Info!D336=\"\",\"\",IF(COUNTIF(CMS_Info!$D336:$D$500,CMS_Info!D336)=1,CMS_Info!D336,\"\"))","v":""},""]
[{"$f":"+IF(B315=\"\",\"\",MAX(A$1:A314)+1)","v":""},{"$f":"IF(+Regulated_Operation_Limits!C337=\"\",\"\",IF(COUNTIF(Regulated_Operation_Limits!$C$100:$C337,Regulated_Operation_Limits!C337)=1,Regulated_Operation_Limits!C337,\"\"))","v":""},"",{"$nulls":9},{"$f":"+IF(N315=\"\",\"\",MAX(M$1:M314)+1)","v":""},{"$f":"+IF(+CMS_Info!D337=\"\",\"\",IF(COUNTIF(CMS_Info!$D337:$D$500,CMS_Info!D337)=1,CMS_Info!D337,\"\"))","v":""},""]
[{"$f":"+IF(B316=\"\",\"\",MAX(A$1:A315)+1)","v":""},{"$f":"IF(+Regulated_Operation_Limits!C338=\"\",\"\",IF(COUNTIF(Regulated_Operation_Limits!$C$100:$C338,Regulated_Operation_Limits!C338)=1,Regulated_Operation_Limits!C338,\"\"))","v":""},"",{"$nulls":9},{"$f":"+IF(N316=\"\",\"\",MAX(M$1:M315)+1)","v":""},{"$f":"+IF(+CMS_Info!D338=\"\",\"\",IF(COUNTIF(CMS_Info!$D338:$D$500,CMS_Info!D338)=1,CMS_Info!D338,\"\"))","v":""},""]
[{"$f":"+IF(B317=\"\",\"\",MAX(A$1:A316)+1)","v":""},{"$f":"IF(+Regulated_Operation_Limits!C339=\"\",\"\",IF(COUNTIF(Regulated_Operation_Limits!$C$100:$C339,Regulated_Operation_Limits!C339)=1,Regulated_Operation_Limits!C339,\"\"))","v":""},"",{"$nulls":9},{"$f":"+IF(N317=\"\",\"\",MAX(M$1:M316)+1)","v":""},{"$f":"+IF(+CMS_Info!D339=\"\",\"\",IF(COUNTIF(CMS_Info!$D339:$D$500,CMS_Info!D339)=1,CMS_Info!D339,\"\"))","v":""},""]
[{"$f":"+IF(B318=\"\",\"\",MAX(A$1:A317)+1)","v":""},{"$f":"IF(+Regulated_Operation_Limits!C340=\"\",\"\",IF(COUNTIF(Regulated_Operation_Limits!$C$100:$C340,Regulated_Operation_Limits!C340)=1,Regulated_Operation_Limits!C340,\"\"))","v":""},"",{"$nulls":9},{"$f":"+IF(N318=\"\",\"\",MAX(M$1:M317)+1)","v":""},{"$f":"+IF(+CMS_Info!D340=\"\",\"\",IF(COUNTIF(CMS_Info!$D340:$D$500,CMS_Info!D340)=1,CMS_Info!D340,\"\"))","v":""},""]
[{"$f":"+IF(B319=\"\",\"\",MAX(A$1:A318)+1)","v":""},{"$f":"IF(+Regulated_Operation_Limits!C341=\"\",\"\",IF(COUNTIF(Regulated_Operation_Limits!$C$100:$C341,Regulated_Operation_Limits!C341)=1,Regulated_Operation_Limits!C341,\"\"))","v":""},"",{"$nulls":9},{"$f":"+IF(N319=\"\",\"\",MAX(M$1:M318)+1)","v":""},{"$f":"+IF(+CMS_Info!D341=\"\",\"\",IF(COUNTIF(CMS_Info!$D341:$D$500,CMS_Info!D341)=1,CMS_Info!D341,\"\"))","v":""},""]
[{"$f":"+IF(B320=\"\",\"\",MAX(A$1:A319)+1)","v":""},{"$f":"IF(+Regulated_Operation_Limits!C342=\"\",\"\",IF(COUNTIF(Regulated_Operation_Limits!$C$100:$C342,Regulated_Operation_Limits!C342)=1,Regulated_Operation_Limits!C342,\"\"))","v":""},"",{"$nulls":9},{"$f":"+IF(N320=\"\",\"\",MAX(M$1:M319)+1)","v":""},{"$f":"+IF(+CMS_Info!D342=\"\",\"\",IF(COUNTIF(CMS_Info!$D342:$D$500,CMS_Info!D342)=1,CMS_Info!D342,\"\"))","v":""},""]
[{"$f":"+IF(B321=\"\",\"\",MAX(A$1:A320)+1)","v":""},{"$f":"IF(+Regulated_Operation_Limits!C343=\"\",\"\",IF(COUNTIF(Regulated_Operation_Limits!$C$100:$C343,Regulated_Operation_Limits!C343)=1,Regulated_Operation_Limits!C343,\"\"))","v":""},"",{"$nulls":9},{"$f":"+IF(N321=\"\",\"\",MAX(M$1:M320)+1)","v":""},{"$f":"+IF(+CMS_Info!D343=\"\",\"\",IF(COUNTIF(CMS_Info!$D343:$D$500,CMS_Info!D343)=1,CMS_Info!D343,\"\"))","v":""},""]
[{"$f":"+IF(B322=\"\",\"\",MAX(A$1:A321)+1)","v":""},{"$f":"IF(+Regulated_Operation_Limits!C344=\"\",\"\",IF(COUNTIF(Regulated_Operation_Limits!$C$100:$C344,Regulated_Operation_Limits!C344)=1,Regulated_Operation_Limits!C344,\"\"))","v":""},{"$f":"+IFERROR(INDEX($B$2:$B$501,MATCH(ROW()-ROW($C$1),$A$2:$A$501,0)),\"\")","v":""},{"$nulls":9},{"$f":"+IF(N322=\"\",\"\",MAX(M$1:M321)+1)","v":""},{"$f":"+IF(+CMS_Info!D344=\"\",\"\",IF(COUNTIF(CMS_Info!$D344:$D$500,CMS_Info!D344)=1,CMS_Info!D344,\"\"))","v":""},{"$f":"+IFERROR(INDEX($N$2:$N$501,MATCH(ROW()-ROW($O$1),$M$2:$M$501,0)),\"\")","v":""}]
[{"$f":"+IF(B323=\"\",\"\",MAX(A$1:A322)+1)","v":""},{"$f":"IF(+Regulated_Operation_Limits!C345=\"\",\"\",IF(COUNTIF(Regulated_Operation_Limits!$C$100:$C345,Regulated_Operation_Limits!C345)=1,Regulated_Operation_Limits!C345,\"\"))","v":""},"",{"$nulls":9},{"$f":"+IF(N323=\"\",\"\",MAX(M$1:M322)+1)","v":""},{"$f":"+IF(+CMS_Info!D345=\"\",\"\",IF(COUNTIF(CMS_Info!$D345:$D$500,CMS_Info!D345)=1,CMS_Info!D345,\"\"))","v":""},""]
[{"$f":"+IF(B324=\"\",\"\",MAX(A$1:A323)+1)","v":""},{"$f":"IF(+Regulated_Operation_Limits!C346=\"\",\"\",IF(COUNTIF(Regulated_Operation_Limits!$C$100:$C346,Regulated_Operation_Limits!C346)=1,Regulated_Operation_Limits!C346,\"\"))","v":""},"",{"$nulls":9},{"$f":"+IF(N324=\"\",\"\",MAX(M$1:M323)+1)","v":""},{"$f":"+IF(+CMS_Info!D346=\"\",\"\",IF(COUNTIF(CMS_Info!$D346:$D$500,CMS_Info!D346)=1,CMS_Info!D346,\"\"))","v":""},""]
[{"$f":"+IF(B325=\"\",\"\",MAX(A$1:A324)+1)","v":""},{"$f":"IF(+Regulated_Operation_Limits!C347=\"\",\"\",IF(COUNTIF(Regulated_Operation_Limits!$C$100:$C347,Regulated_Operation_Limits!C347)=1,Regulated_Operation_Limits!C347,\"\"))","v":""},"",{"$nulls":9},{"$f":"+IF(N325=\"\",\"\",MAX(M$1:M324)+1)","v":""},{"$f":"+IF(+CMS_Info!D347=\"\",\"\",IF(COUNTIF(CMS_Info!$D347:$D$500,CMS_Info!D347)=1,CMS_Info!D347,\"\"))","v":""},""]
[{"$f":"+IF(B326=\"\",\"\",MAX(A$1:A325)+1)","v":""},{"$f":"IF(+Regulated_Operation_Limits!C348=\"\",\"\",IF(COUNTIF(Regulated_Operation_Limits!$C$100:$C348,Regulated_Operation_Limits!C348)=1,Regulated_Operation_Limits!C348,\"\"))","v":""},"",{"$nulls":9},{"$f":"+IF(N326=\"\",\"\",MAX(M$1:M325)+1)","v":""},{"$f":"+IF(+CMS_Info!D348=\"\",\"\",IF(COUNTIF(CMS_Info!$D348:$D$500,CMS_Info!D348)=1,CMS_Info!D348,\"\"))","v":""},""]
[{"$f":"+IF(B327=\"\",\"\",MAX(A$1:A326)+1)","v":""},{"$f":"IF(+Regulated_Operation_Limits!C349=\"\",\"\",IF(COUNTIF(Regulated_Operation_Limits!$C$100:$C349,Regulated_Operation_Limits!C349)=1,Regulated_Operation_Limits!C349,\"\"))","v":""},"",{"$nulls":9},{"$f":"+IF(N327=\"\",\"\",MAX(M$1:M326)+1)","v":""},{"$f":"+IF(+CMS_Info!D349=\"\",\"\",IF(COUNTIF(CMS_Info!$D349:$D$500,CMS_Info!D349)=1,CMS_Info!D349,\"\"))","v":""},""]
[{"$f":"+IF(B328=\"\",\"\",MAX(A$1:A327)+1)","v":""},{"$f":"IF(+Regulated_Operation_Limits!C350=\"\",\"\",IF(COUNTIF(Regulated_Operation_Limits!$C$100:$C350,Regulated_Operation_Limits!C350)=1,Regulated_Operation_Limits!C350,\"\"))","v":""},"",{"$nulls":9},{"$f":"+IF(N328=\"\",\"\",MAX(M$1:M327)+1)","v":""},{"$f":"+IF(+CMS_Info!D350=\"\",\"\",IF(COUNTIF(CMS_Info!$D350:$D$500,CMS_Info!D350)=1,CMS_Info!D350,\"\"))","v":""},""]
[{"$f":"+IF(B329=\"\",\"\",MAX(A$1:A328)+1)","v":""},{"$f":"IF(+Regulated_Operation_Limits!C351=\"\",\"\",IF(COUNTIF(Regulated_Operation_Limits!$C$100:$C351,Regulated_Operation_Limits!C351)=1,Regulated_Operation_Limits!C351,\"\"))","v":""},"",{"$nulls":9},{"$f":"+IF(N329=\"\",\"\",MAX(M$1:M328)+1)","v":""},{"$f":"+IF(+CMS_Info!D351=\"\",\"\",IF(COUNTIF(CMS_Info!$D351:$D$500,CMS_Info!D351)=1,CMS_Info!D351,\"\"))","v":""},""]
[{"$f":"+IF(B330=\"\",\"\",MAX(A$1:A329)+1)","v":""},{"$f":"IF(+Regulated_Operation_Limits!C352=\"\",\"\",IF(COUNTIF(Regulated_Operation_Limits!$C$100:$C352,Regulated_Operation_Limits!C352)=1,Regulated_Operation_Limits!C352,\"\"))","v":""},"",{"$nulls":9},{"$f":"+IF(N330=\"\",\"\",MAX(M$1:M329)+1)","v":""},{"$f":"+IF(+CMS_Info!D352=\"\",\"\",IF(COUNTIF(CMS_Info!$D352:$D$500,CMS_Info!D352)=1,CMS_Info!D352,\"\"))","v":""},""]
[{"$f":"+IF(B331=\"\",\"\",MAX(A$1:A330)+1)","v":""},{"$f":"IF(+Regulated_Operation_Limits!C353=\"\",\"\",IF(COUNTIF(Regulated_Operation_Limits!$C$100:$C353,Regulated_Operation_Limits!C353)=1,Regulated_Operation_Limits!C353,\"\"))","v":""},"",{"$nulls":9},{"$f":"+IF(N331=\"\",\"\",MAX(M$1:M330)+1)","v":""},{"$f":"+IF(+CMS_Info!D353=\"\",\"\",IF(COUNTIF(CMS_Info!$D353:$D$500,CMS_Info!D353)=1,CMS_Info!D353,\"\"))","v":""},""]
[{"$f":"+IF(B332=\"\",\"\",MAX(A$1:A331)+1)","v":""},{"$f":"IF(+Regulated_Operation_Limits!C354=\"\",\"\",IF(COUNTIF(Regulated_Operation_Limits!$C$100:$C354,Regulated_Operation_Limits!C354)=1,Regulated_Operation_Limits!C354,\"\"))","v":""},"",{"$nulls":9},{"$f":"+IF(N332=\"\",\"\",MAX(M$1:M331)+1)","v":""},{"$f":"+IF(+CMS_Info!D354=\"\",\"\",IF(COUNTIF(CMS_Info!$D354:$D$500,CMS_Info!D354)=1,CMS_Info!D354,\"\"))","v":""},""]
[{"$f":"+IF(B333=\"\",\"\",MAX(A$1:A332)+1)","v":""},{"$f":"IF(+Regulated_Operation_Limits!C355=\"\",\"\",IF(COUNTIF(Regulated_Operation_Limits!$C$100:$C355,Regulated_Operation_Limits!C355)=1,Regulated_Operation_Limits!C355,\"\"))","v":""},"",{"$nulls":9},{"$f":"+IF(N333=\"\",\"\",MAX(M$1:M332)+1)","v":""},{"$f":"+IF(+CMS_Info!D355=\"\",\"\",IF(COUNTIF(CMS_Info!$D355:$D$500,CMS_Info!D355)=1,CMS_Info!D355,\"\"))","v":""},""]
[{"$f":"+IF(B334=\"\",\"\",MAX(A$1:A333)+1)","v":""},{"$f":"IF(+Regulated_Operation_Limits!C356=\"\",\"\",IF(COUNTIF(Regulated_Operation_Limits!$C$100:$C356,Regulated_Operation_Limits!C356)=1,Regulated_Operation_Limits!C356,\"\"))","v":""},"",{"$nulls":9},{"$f":"+IF(N334=\"\",\"\",MAX(M$1:M333)+1)","v":""},{"$f":"+IF(+CMS_Info!D356=\"\",\"\",IF(COUNTIF(CMS_Info!$D356:$D$500,CMS_Info!D356)=1,CMS_Info!D356,\"\"))","v":""},""]
[{"$f":"+IF(B335=\"\",\"\",MAX(A$1:A334)+1)","v":""},{"$f":"IF(+Regulated_Operation_Limits!C357=\"\",\"\",IF(COUNTIF(Regulated_Operation_Limits!$C$100:$C357,Regulated_Operation_Limits!C357)=1,Regulated_Operation_Limits!C357,\"\"))","v":""},"",{"$nulls":9},{"$f":"+IF(N335=\"\",\"\",MAX(M$1:M334)+1)","v":""},{"$f":"+IF(+CMS_Info!D357=\"\",\"\",IF(COUNTIF(CMS_Info!$D357:$D$500,CMS_Info!D357)=1,CMS_Info!D357,\"\"))","v":""},""]
[{"$f":"+IF(B336=\"\",\"\",MAX(A$1:A335)+1)","v":""},{"$f":"IF(+Regulated_Operation_Limits!C358=\"\",\"\",IF(COUNTIF(Regulated_Operation_Limits!$C$100:$C358,Regulated_Operation_Limits!C358)=1,Regulated_Operation_Limits!C358,\"\"))","v":""},"",{"$nulls":9},{"$f":"+IF(N336=\"\",\"\",MAX(M$1:M335)+1)","v":""},{"$f":"+IF(+CMS_Info!D358=\"\",\"\",IF(COUNTIF(CMS_Info!$D358:$D$500,CMS_Info!D358)=1,CMS_Info!D358,\"\"))","v":""},""]
[{"$f":"+IF(B337=\"\",\"\",MAX(A$1:A336)+1)","v":""},{"$f":"IF(+Regulated_Operation_Limits!C359=\"\",\"\",IF(COUNTIF(Regulated_Operation_Limits!$C$100:$C359,Regulated_Operation_Limits!C359)=1,Regulated_Operation_Limits!C359,\"\"))","v":""},"",{"$nulls":9},{"$f":"+IF(N337=\"\",\"\",MAX(M$1:M336)+1)","v":""},{"$f":"+IF(+CMS_Info!D359=\"\",\"\",IF(COUNTIF(CMS_Info!$D359:$D$500,CMS_Info!D359)=1,CMS_Info!D359,\"\"))","v":""},""]
[{"$f":"+IF(B338=\"\",\"\",MAX(A$1:A337)+1)","v":""},{"$f":"IF(+Regulated_Operation_Limits!C360=\"\",\"\",IF(COUNTIF(Regulated_Operation_Limits!$C$100:$C360,Regulated_Operation_Limits!C360)=1,Regulated_Operation_Limits!C360,\"\"))","v":""},"",{"$nulls":9},{"$f":"+IF(N338=\"\",\"\",MAX(M$1:M337)+1)","v":""},{"$f":"+IF(+CMS_Info!D360=\"\",\"\",IF(COUNTIF(CMS_Info!$D360:$D$500,CMS_Info!D360)=1,CMS_Info!D360,\"\"))","v":""},""]
[{"$f":"+IF(B339=\"\",\"\",MAX(A$1:A338)+1)","v":""},{"$f":"IF(+Regulated_Operation_Limits!C361=\"\",\"\",IF(COUNTIF(Regulated_Operation_Limits!$C$100:$C361,Regulated_Operation_Limits!C361)=1,Regulated_Operation_Limits!C361,\"\"))","v":""},"",{"$nulls":9},{"$f":"+IF(N339=\"\",\"\",MAX(M$1:M338)+1)","v":""},{"$f":"+IF(+CMS_Info!D361=\"\",\"\",IF(COUNTIF(CMS_Info!$D361:$D$500,CMS_Info!D361)=1,CMS_Info!D361,\"\"))","v":""},""]
[{"$f":"+IF(B340=\"\",\"\",MAX(A$1:A339)+1)","v":""},{"$f":"IF(+Regulated_Operation_Limits!C362=\"\",\"\",IF(COUNTIF(Regulated_Operation_Limits!$C$100:$C362,Regulated_Operation_Limits!C362)=1,Regulated_Operation_Limits!C362,\"\"))","v":""},"",{"$nulls":9},{"$f":"+IF(N340=\"\",\"\",MAX(M$1:M339)+1)","v":""},{"$f":"+IF(+CMS_Info!D362=\"\",\"\",IF(COUNTIF(CMS_Info!$D362:$D$500,CMS_Info!D362)=1,CMS_Info!D362,\"\"))","v":""},""]
[{"$f":"+IF(B341=\"\",\"\",MAX(A$1:A340)+1)","v":""},{"$f":"IF(+Regulated_Operation_Limits!C363=\"\",\"\",IF(COUNTIF(Regulated_Operation_Limits!$C$100:$C363,Regulated_Operation_Limits!C363)=1,Regulated_Operation_Limits!C363,\"\"))","v":""},"",{"$nulls":9},{"$f":"+IF(N341=\"\",\"\",MAX(M$1:M340)+1)","v":""},{"$f":"+IF(+CMS_Info!D363=\"\",\"\",IF(COUNTIF(CMS_Info!$D363:$D$500,CMS_Info!D363)=1,CMS_Info!D363,\"\"))","v":""},""]
[{"$f":"+IF(B342=\"\",\"\",MAX(A$1:A341)+1)","v":""},{"$f":"IF(+Regulated_Operation_Limits!C364=\"\",\"\",IF(COUNTIF(Regulated_Operation_Limits!$C$100:$C364,Regulated_Operation_Limits!C364)=1,Regulated_Operation_Limits!C364,\"\"))","v":""},"",{"$nulls":9},{"$f":"+IF(N342=\"\",\"\",MAX(M$1:M341)+1)","v":""},{"$f":"+IF(+CMS_Info!D364=\"\",\"\",IF(COUNTIF(CMS_Info!$D364:$D$500,CMS_Info!D364)=1,CMS_Info!D364,\"\"))","v":""},""]
[{"$f":"+IF(B343=\"\",\"\",MAX(A$1:A342)+1)","v":""},{"$f":"IF(+Regulated_Operation_Limits!C365=\"\",\"\",IF(COUNTIF(Regulated_Operation_Limits!$C$100:$C365,Regulated_Operation_Limits!C365)=1,Regulated_Operation_Limits!C365,\"\"))","v":""},"",{"$nulls":9},{"$f":"+IF(N343=\"\",\"\",MAX(M$1:M342)+1)","v":""},{"$f":"+IF(+CMS_Info!D365=\"\",\"\",IF(COUNTIF(CMS_Info!$D365:$D$500,CMS_Info!D365)=1,CMS_Info!D365,\"\"))","v":""},""]
[{"$f":"+IF(B344=\"\",\"\",MAX(A$1:A343)+1)","v":""},{"$f":"IF(+Regulated_Operation_Limits!C366=\"\",\"\",IF(COUNTIF(Regulated_Operation_Limits!$C$100:$C366,Regulated_Operation_Limits!C366)=1,Regulated_Operation_Limits!C366,\"\"))","v":""},"",{"$nulls":9},{"$f":"+IF(N344=\"\",\"\",MAX(M$1:M343)+1)","v":""},{"$f":"+IF(+CMS_Info!D366=\"\",\"\",IF(COUNTIF(CMS_Info!$D366:$D$500,CMS_Info!D366)=1,CMS_Info!D366,\"\"))","v":""},""]
[{"$f":"+IF(B345=\"\",\"\",MAX(A$1:A344)+1)","v":""},{"$f":"IF(+Regulated_Operation_Limits!C367=\"\",\"\",IF(COUNTIF(Regulated_Operation_Limits!$C$100:$C367,Regulated_Operation_Limits!C367)=1,Regulated_Operation_Limits!C367,\"\"))","v":""},"",{"$nulls":9},{"$f":"+IF(N345=\"\",\"\",MAX(M$1:M344)+1)","v":""},{"$f":"+IF(+CMS_Info!D367=\"\",\"\",IF(COUNTIF(CMS_Info!$D367:$D$500,CMS_Info!D367)=1,CMS_Info!D367,\"\"))","v":""},""]
[{"$f":"+IF(B346=\"\",\"\",MAX(A$1:A345)+1)","v":""},{"$f":"IF(+Regulated_Operation_Limits!C368=\"\",\"\",IF(COUNTIF(Regulated_Operation_Limits!$C$100:$C368,Regulated_Operation_Limits!C368)=1,Regulated_Operation_Limits!C368,\"\"))","v":""},"",{"$nulls":9},{"$f":"+IF(N346=\"\",\"\",MAX(M$1:M345)+1)","v":""},{"$f":"+IF(+CMS_Info!D368=\"\",\"\",IF(COUNTIF(CMS_Info!$D368:$D$500,CMS_Info!D368)=1,CMS_Info!D368,\"\"))","v":""},""]
[{"$f":"+IF(B347=\"\",\"\",MAX(A$1:A346)+1)","v":""},{"$f":"IF(+Regulated_Operation_Limits!C369=\"\",\"\",IF(COUNTIF(Regulated_Operation_Limits!$C$100:$C369,Regulated_Operation_Limits!C369)=1,Regulated_Operation_Limits!C369,\"\"))","v":""},"",{"$nulls":9},{"$f":"+IF(N347=\"\",\"\",MAX(M$1:M346)+1)","v":""},{"$f":"+IF(+CMS_Info!D369=\"\",\"\",IF(COUNTIF(CMS_Info!$D369:$D$500,CMS_Info!D369)=1,CMS_Info!D369,\"\"))","v":""},""]
[{"$f":"+IF(B348=\"\",\"\",MAX(A$1:A347)+1)","v":""},{"$f":"IF(+Regulated_Operation_Limits!C370=\"\",\"\",IF(COUNTIF(Regulated_Operation_Limits!$C$100:$C370,Regulated_Operation_Limits!C370)=1,Regulated_Operation_Limits!C370,\"\"))","v":""},"",{"$nulls":9},{"$f":"+IF(N348=\"\",\"\",MAX(M$1:M347)+1)","v":""},{"$f":"+IF(+CMS_Info!D370=\"\",\"\",IF(COUNTIF(CMS_Info!$D370:$D$500,CMS_Info!D370)=1,CMS_Info!D370,\"\"))","v":""},""]
[{"$f":"+IF(B349=\"\",\"\",MAX(A$1:A348)+1)","v":""},{"$f":"IF(+Regulated_Operation_Limits!C371=\"\",\"\",IF(COUNTIF(Regulated_Operation_Limits!$C$100:$C371,Regulated_Operation_Limits!C371)=1,Regulated_Operation_Limits!C371,\"\"))","v":""},"",{"$nulls":9},{"$f":"+IF(N349=\"\",\"\",MAX(M$1:M348)+1)","v":""},{"$f":"+IF(+CMS_Info!D371=\"\",\"\",IF(COUNTIF(CMS_Info!$D371:$D$500,CMS_Info!D371)=1,CMS_Info!D371,\"\"))","v":""},""]
[{"$f":"+IF(B350=\"\",\"\",MAX(A$1:A349)+1)","v":""},{"$f":"IF(+Regulated_Operation_Limits!C372=\"\",\"\",IF(COUNTIF(Regulated_Operation_Limits!$C$100:$C372,Regulated_Operation_Limits!C372)=1,Regulated_Operation_Limits!C372,\"\"))","v":""},"",{"$nulls":9},{"$f":"+IF(N350=\"\",\"\",MAX(M$1:M349)+1)","v":""},{"$f":"+IF(+CMS_Info!D372=\"\",\"\",IF(COUNTIF(CMS_Info!$D372:$D$500,CMS_Info!D372)=1,CMS_Info!D372,\"\"))","v":""},""]
[{"$f":"+IF(B351=\"\",\"\",MAX(A$1:A350)+1)","v":""},{"$f":"IF(+Regulated_Operation_Limits!C373=\"\",\"\",IF(COUNTIF(Regulated_Operation_Limits!$C$100:$C373,Regulated_Operation_Limits!C373)=1,Regulated_Operation_Limits!C373,\"\"))","v":""},"",{"$nulls":9},{"$f":"+IF(N351=\"\",\"\",MAX(M$1:M350)+1)","v":""},{"$f":"+IF(+CMS_Info!D373=\"\",\"\",IF(COUNTIF(CMS_Info!$D373:$D$500,CMS_Info!D373)=1,CMS_Info!D373,\"\"))","v":""},""]
[{"$f":"+IF(B352=\"\",\"\",MAX(A$1:A351)+1)","v":""},{"$f":"IF(+Regulated_Operation_Limits!C374=\"\",\"\",IF(COUNTIF(Regulated_Operation_Limits!$C$100:$C374,Regulated_Operation_Limits!C374)=1,Regulated_Operation_Limits!C374,\"\"))","v":""},"",{"$nulls":9},{"$f":"+IF(N352=\"\",\"\",MAX(M$1:M351)+1)","v":""},{"$f":"+IF(+CMS_Info!D374=\"\",\"\",IF(COUNTIF(CMS_Info!$D374:$D$500,CMS_Info!D374)=1,CMS_Info!D374,\"\"))","v":""},""]
[{"$f":"+IF(B353=\"\",\"\",MAX(A$1:A352)+1)","v":""},{"$f":"IF(+Regulated_Operation_Limits!C375=\"\",\"\",IF(COUNTIF(Regulated_Operation_Limits!$C$100:$C375,Regulated_Operation_Limits!C375)=1,Regulated_Operation_Limits!C375,\"\"))","v":""},"",{"$nulls":9},{"$f":"+IF(N353=\"\",\"\",MAX(M$1:M352)+1)","v":""},{"$f":"+IF(+CMS_Info!D375=\"\",\"\",IF(COUNTIF(CMS_Info!$D375:$D$500,CMS_Info!D375)=1,CMS_Info!D375,\"\"))","v":""},""]
[{"$f":"+IF(B354=\"\",\"\",MAX(A$1:A353)+1)","v":""},{"$f":"IF(+Regulated_Operation_Limits!C376=\"\",\"\",IF(COUNTIF(Regulated_Operation_Limits!$C$100:$C376,Regulated_Operation_Limits!C376)=1,Regulated_Operation_Limits!C376,\"\"))","v":""},"",{"$nulls":9},{"$f":"+IF(N354=\"\",\"\",MAX(M$1:M353)+1)","v":""},{"$f":"+IF(+CMS_Info!D376=\"\",\"\",IF(COUNTIF(CMS_Info!$D376:$D$500,CMS_Info!D376)=1,CMS_Info!D376,\"\"))","v":""},""]
[{"$f":"+IF(B355=\"\",\"\",MAX(A$1:A354)+1)","v":""},{"$f":"IF(+Regulated_Operation_Limits!C377=\"\",\"\",IF(COUNTIF(Regulated_Operation_Limits!$C$100:$C377,Regulated_Operation_Limits!C377)=1,Regulated_Operation_Limits!C377,\"\"))","v":""},"",{"$nulls":9},{"$f":"+IF(N355=\"\",\"\",MAX(M$1:M354)+1)","v":""},{"$f":"+IF(+CMS_Info!D377=\"\",\"\",IF(COUNTIF(CMS_Info!$D377:$D$500,CMS_Info!D377)=1,CMS_Info!D377,\"\"))","v":""},""]
[{"$f":"+IF(B356=\"\",\"\",MAX(A$1:A355)+1)","v":""},{"$f":"IF(+Regulated_Operation_Limits!C378=\"\",\"\",IF(COUNTIF(Regulated_Operation_Limits!$C$100:$C378,Regulated_Operation_Limits!C378)=1,Regulated_Operation_Limits!C378,\"\"))","v":""},"",{"$nulls":9},{"$f":"+IF(N356=\"\",\"\",MAX(M$1:M355)+1)","v":""},{"$f":"+IF(+CMS_Info!D378=\"\",\"\",IF(COUNTIF(CMS_Info!$D378:$D$500,CMS_Info!D378)=1,CMS_Info!D378,\"\"))","v":""},""]
[{"$f":"+IF(B357=\"\",\"\",MAX(A$1:A356)+1)","v":""},{"$f":"IF(+Regulated_Operation_Limits!C379=\"\",\"\",IF(COUNTIF(Regulated_Operation_Limits!$C$100:$C379,Regulated_Operation_Limits!C379)=1,Regulated_Operation_Limits!C379,\"\"))","v":""},"",{"$nulls":9},{"$f":"+IF(N357=\"\",\"\",MAX(M$1:M356)+1)","v":""},{"$f":"+IF(+CMS_Info!D379=\"\",\"\",IF(COUNTIF(CMS_Info!$D379:$D$500,CMS_Info!D379)=1,CMS_Info!D379,\"\"))","v":""},""]
[{"$f":"+IF(B358=\"\",\"\",MAX(A$1:A357)+1)","v":""},{"$f":"IF(+Regulated_Operation_Limits!C380=\"\",\"\",IF(COUNTIF(Regulated_Operation_Limits!$C$100:$C380,Regulated_Operation_Limits!C380)=1,Regulated_Operation_Limits!C380,\"\"))","v":""},"",{"$nulls":9},{"$f":"+IF(N358=\"\",\"\",MAX(M$1:M357)+1)","v":""},{"$f":"+IF(+CMS_Info!D380=\"\",\"\",IF(COUNTIF(CMS_Info!$D380:$D$500,CMS_Info!D380)=1,CMS_Info!D380,\"\"))","v":""},""]
[{"$f":"+IF(B359=\"\",\"\",MAX(A$1:A358)+1)","v":""},{"$f":"IF(+Regulated_Operation_Limits!C381=\"\",\"\",IF(COUNTIF(Regulated_Operation_Limits!$C$100:$C381,Regulated_Operation_Limits!C381)=1,Regulated_Operation_Limits!C381,\"\"))","v":""},"",{"$nulls":9},{"$f":"+IF(N359=\"\",\"\",MAX(M$1:M358)+1)","v":""},{"$f":"+IF(+CMS_Info!D381=\"\",\"\",IF(COUNTIF(CMS_Info!$D381:$D$500,CMS_Info!D381)=1,CMS_Info!D381,\"\"))","v":""},""]
[{"$f":"+IF(B360=\"\",\"\",MAX(A$1:A359)+1)","v":""},{"$f":"IF(+Regulated_Operation_Limits!C382=\"\",\"\",IF(COUNTIF(Regulated_Operation_Limits!$C$100:$C382,Regulated_Operation_Limits!C382)=1,Regulated_Operation_Limits!C382,\"\"))","v":""},"",{"$nulls":9},{"$f":"+IF(N360=\"\",\"\",MAX(M$1:M359)+1)","v":""},{"$f":"+IF(+CMS_Info!D382=\"\",\"\",IF(COUNTIF(CMS_Info!$D382:$D$500,CMS_Info!D382)=1,CMS_Info!D382,\"\"))","v":""},""]
[{"$f":"+IF(B361=\"\",\"\",MAX(A$1:A360)+1)","v":""},{"$f":"IF(+Regulated_Operation_Limits!C383=\"\",\"\",IF(COUNTIF(Regulated_Operation_Limits!$C$100:$C383,Regulated_Operation_Limits!C383)=1,Regulated_Operation_Limits!C383,\"\"))","v":""},"",{"$nulls":9},{"$f":"+IF(N361=\"\",\"\",MAX(M$1:M360)+1)","v":""},{"$f":"+IF(+CMS_Info!D383=\"\",\"\",IF(COUNTIF(CMS_Info!$D383:$D$500,CMS_Info!D383)=1,CMS_Info!D383,\"\"))","v":""},""]
[{"$f":"+IF(B362=\"\",\"\",MAX(A$1:A361)+1)","v":""},{"$f":"IF(+Regulated_Operation_Limits!C384=\"\",\"\",IF(COUNTIF(Regulated_Operation_Limits!$C$100:$C384,Regulated_Operation_Limits!C384)=1,Regulated_Operation_Limits!C384,\"\"))","v":""},"",{"$nulls":9},{"$f":"+IF(N362=\"\",\"\",MAX(M$1:M361)+1)","v":""},{"$f":"+IF(+CMS_Info!D384=\"\",\"\",IF(COUNTIF(CMS_Info!$D384:$D$500,CMS_Info!D384)=1,CMS_Info!D384,\"\"))","v":""},""]
[{"$f":"+IF(B363=\"\",\"\",MAX(A$1:A362)+1)","v":""},{"$f":"IF(+Regulated_Operation_Limits!C385=\"\",\"\",IF(COUNTIF(Regulated_Operation_Limits!$C$100:$C385,Regulated_Operation_Limits!C385)=1,Regulated_Operation_Limits!C385,\"\"))","v":""},"",{"$nulls":9},{"$f":"+IF(N363=\"\",\"\",MAX(M$1:M362)+1)","v":""},{"$f":"+IF(+CMS_Info!D385=\"\",\"\",IF(COUNTIF(CMS_Info!$D385:$D$500,CMS_Info!D385)=1,CMS_Info!D385,\"\"))","v":""},""]
[{"$f":"+IF(B364=\"\",\"\",MAX(A$1:A363)+1)","v":""},{"$f":"IF(+Regulated_Operation_Limits!C386=\"\",\"\",IF(COUNTIF(Regulated_Operation_Limits!$C$100:$C386,Regulated_Operation_Limits!C386)=1,Regulated_Operation_Limits!C386,\"\"))","v":""},"",{"$nulls":9},{"$f":"+IF(N364=\"\",\"\",MAX(M$1:M363)+1)","v":""},{"$f":"+IF(+CMS_Info!D386=\"\",\"\",IF(COUNTIF(CMS_Info!$D386:$D$500,CMS_Info!D386)=1,CMS_Info!D386,\"\"))","v":""},""]
[{"$f":"+IF(B365=\"\",\"\",MAX(A$1:A364)+1)","v":""},{"$f":"IF(+Regulated_Operation_Limits!C387=\"\",\"\",IF(COUNTIF(Regulated_Operation_Limits!$C$100:$C387,Regulated_Operation_Limits!C387)=1,Regulated_Operation_Limits!C387,\"\"))","v":""},"",{"$nulls":9},{"$f":"+IF(N365=\"\",\"\",MAX(M$1:M364)+1)","v":""},{"$f":"+IF(+CMS_Info!D387=\"\",\"\",IF(COUNTIF(CMS_Info!$D387:$D$500,CMS_Info!D387)=1,CMS_Info!D387,\"\"))","v":""},""]
[{"$f":"+IF(B366=\"\",\"\",MAX(A$1:A365)+1)","v":""},{"$f":"IF(+Regulated_Operation_Limits!C388=\"\",\"\",IF(COUNTIF(Regulated_Operation_Limits!$C$100:$C388,Regulated_Operation_Limits!C388)=1,Regulated_Operation_Limits!C388,\"\"))","v":""},"",{"$nulls":9},{"$f":"+IF(N366=\"\",\"\",MAX(M$1:M365)+1)","v":""},{"$f":"+IF(+CMS_Info!D388=\"\",\"\",IF(COUNTIF(CMS_Info!$D388:$D$500,CMS_Info!D388)=1,CMS_Info!D388,\"\"))","v":""},""]
[{"$f":"+IF(B367=\"\",\"\",MAX(A$1:A366)+1)","v":""},{"$f":"IF(+Regulated_Operation_Limits!C389=\"\",\"\",IF(COUNTIF(Regulated_Operation_Limits!$C$100:$C389,Regulated_Operation_Limits!C389)=1,Regulated_Operation_Limits!C389,\"\"))","v":""},"",{"$nulls":9},{"$f":"+IF(N367=\"\",\"\",MAX(M$1:M366)+1)","v":""},{"$f":"+IF(+CMS_Info!D389=\"\",\"\",IF(COUNTIF(CMS_Info!$D389:$D$500,CMS_Info!D389)=1,CMS_Info!D389,\"\"))","v":""},""]
[{"$f":"+IF(B368=\"\",\"\",MAX(A$1:A367)+1)","v":""},{"$f":"IF(+Regulated_Operation_Limits!C390=\"\",\"\",IF(COUNTIF(Regulated_Operation_Limits!$C$100:$C390,Regulated_Operation_Limits!C390)=1,Regulated_Operation_Limits!C390,\"\"))","v":""},"",{"$nulls":9},{"$f":"+IF(N368=\"\",\"\",MAX(M$1:M367)+1)","v":""},{"$f":"+IF(+CMS_Info!D390=\"\",\"\",IF(COUNTIF(CMS_Info!$D390:$D$500,CMS_Info!D390)=1,CMS_Info!D390,\"\"))","v":""},""]
[{"$f":"+IF(B369=\"\",\"\",MAX(A$1:A368)+1)","v":""},{"$f":"IF(+Regulated_Operation_Limits!C391=\"\",\"\",IF(COUNTIF(Regulated_Operation_Limits!$C$100:$C391,Regulated_Operation_Limits!C391)=1,Regulated_Operation_Limits!C391,\"\"))","v":""},"",{"$nulls":9},{"$f":"+IF(N369=\"\",\"\",MAX(M$1:M368)+1)","v":""},{"$f":"+IF(+CMS_Info!D391=\"\",\"\",IF(COUNTIF(CMS_Info!$D391:$D$500,CMS_Info!D391)=1,CMS_Info!D391,\"\"))","v":""},""]
[{"$f":"+IF(B370=\"\",\"\",MAX(A$1:A369)+1)","v":""},{"$f":"IF(+Regulated_Operation_Limits!C392=\"\",\"\",IF(COUNTIF(Regulated_Operation_Limits!$C$100:$C392,Regulated_Operation_Limits!C392)=1,Regulated_Operation_Limits!C392,\"\"))","v":""},"",{"$nulls":9},{"$f":"+IF(N370=\"\",\"\",MAX(M$1:M369)+1)","v":""},{"$f":"+IF(+CMS_Info!D392=\"\",\"\",IF(COUNTIF(CMS_Info!$D392:$D$500,CMS_Info!D392)=1,CMS_Info!D392,\"\"))","v":""},""]
[{"$f":"+IF(B371=\"\",\"\",MAX(A$1:A370)+1)","v":""},{"$f":"IF(+Regulated_Operation_Limits!C393=\"\",\"\",IF(COUNTIF(Regulated_Operation_Limits!$C$100:$C393,Regulated_Operation_Limits!C393)=1,Regulated_Operation_Limits!C393,\"\"))","v":""},"",{"$nulls":9},{"$f":"+IF(N371=\"\",\"\",MAX(M$1:M370)+1)","v":""},{"$f":"+IF(+CMS_Info!D393=\"\",\"\",IF(COUNTIF(CMS_Info!$D393:$D$500,CMS_Info!D393)=1,CMS_Info!D393,\"\"))","v":""},""]
[{"$f":"+IF(B372=\"\",\"\",MAX(A$1:A371)+1)","v":""},{"$f":"IF(+Regulated_Operation_Limits!C394=\"\",\"\",IF(COUNTIF(Regulated_Operation_Limits!$C$100:$C394,Regulated_Operation_Limits!C394)=1,Regulated_Operation_Limits!C394,\"\"))","v":""},"",{"$nulls":9},{"$f":"+IF(N372=\"\",\"\",MAX(M$1:M371)+1)","v":""},{"$f":"+IF(+CMS_Info!D394=\"\",\"\",IF(COUNTIF(CMS_Info!$D394:$D$500,CMS_Info!D394)=1,CMS_Info!D394,\"\"))","v":""},""]
[{"$f":"+IF(B373=\"\",\"\",MAX(A$1:A372)+1)","v":""},{"$f":"IF(+Regulated_Operation_Limits!C395=\"\",\"\",IF(COUNTIF(Regulated_Operation_Limits!$C$100:$C395,Regulated_Operation_Limits!C395)=1,Regulated_Operation_Limits!C395,\"\"))","v":""},"",{"$nulls":9},{"$f":"+IF(N373=\"\",\"\",MAX(M$1:M372)+1)","v":""},{"$f":"+IF(+CMS_Info!D395=\"\",\"\",IF(COUNTIF(CMS_Info!$D395:$D$500,CMS_Info!D395)=1,CMS_Info!D395,\"\"))","v":""},""]
[{"$f":"+IF(B374=\"\",\"\",MAX(A$1:A373)+1)","v":""},{"$f":"IF(+Regulated_Operation_Limits!C396=\"\",\"\",IF(COUNTIF(Regulated_Operation_Limits!$C$100:$C396,Regulated_Operation_Limits!C396)=1,Regulated_Operation_Limits!C396,\"\"))","v":""},"",{"$nulls":9},{"$f":"+IF(N374=\"\",\"\",MAX(M$1:M373)+1)","v":""},{"$f":"+IF(+CMS_Info!D396=\"\",\"\",IF(COUNTIF(CMS_Info!$D396:$D$500,CMS_Info!D396)=1,CMS_Info!D396,\"\"))","v":""},""]
[{"$f":"+IF(B375=\"\",\"\",MAX(A$1:A374)+1)","v":""},{"$f":"IF(+Regulated_Operation_Limits!C397=\"\",\"\",IF(COUNTIF(Regulated_Operation_Limits!$C$100:$C397,Regulated_Operation_Limits!C397)=1,Regulated_Operation_Limits!C397,\"\"))","v":""},"",{"$nulls":9},{"$f":"+IF(N375=\"\",\"\",MAX(M$1:M374)+1)","v":""},{"$f":"+IF(+CMS_Info!D397=\"\",\"\",IF(COUNTIF(CMS_Info!$D397:$D$500,CMS_Info!D397)=1,CMS_Info!D397,\"\"))","v":""},""]
[{"$f":"+IF(B376=\"\",\"\",MAX(A$1:A375)+1)","v":""},{"$f":"IF(+Regulated_Operation_Limits!C398=\"\",\"\",IF(COUNTIF(Regulated_Operation_Limits!$C$100:$C398,Regulated_Operation_Limits!C398)=1,Regulated_Operation_Limits!C398,\"\"))","v":""},"",{"$nulls":9},{"$f":"+IF(N376=\"\",\"\",MAX(M$1:M375)+1)","v":""},{"$f":"+IF(+CMS_Info!D398=\"\",\"\",IF(COUNTIF(CMS_Info!$D398:$D$500,CMS_Info!D398)=1,CMS_Info!D398,\"\"))","v":""},""]
[{"$f":"+IF(B377=\"\",\"\",MAX(A$1:A376)+1)","v":""},{"$f":"IF(+Regulated_Operation_Limits!C399=\"\",\"\",IF(COUNTIF(Regulated_Operation_Limits!$C$100:$C399,Regulated_Operation_Limits!C399)=1,Regulated_Operation_Limits!C399,\"\"))","v":""},"",{"$nulls":9},{"$f":"+IF(N377=\"\",\"\",MAX(M$1:M376)+1)","v":""},{"$f":"+IF(+CMS_Info!D399=\"\",\"\",IF(COUNTIF(CMS_Info!$D399:$D$500,CMS_Info!D399)=1,CMS_Info!D399,\"\"))","v":""},""]
[{"$f":"+IF(B378=\"\",\"\",MAX(A$1:A377)+1)","v":""},{"$f":"IF(+Regulated_Operation_Limits!C400=\"\",\"\",IF(COUNTIF(Regulated_Operation_Limits!$C$100:$C400,Regulated_Operation_Limits!C400)=1,Regulated_Operation_Limits!C400,\"\"))","v":""},"",{"$nulls":9},{"$f":"+IF(N378=\"\",\"\",MAX(M$1:M377)+1)","v":""},{"$f":"+IF(+CMS_Info!D400=\"\",\"\",IF(COUNTIF(CMS_Info!$D400:$D$500,CMS_Info!D400)=1,CMS_Info!D400,\"\"))","v":""},""]
[{"$f":"+IF(B379=\"\",\"\",MAX(A$1:A378)+1)","v":""},{"$f":"IF(+Regulated_Operation_Limits!C401=\"\",\"\",IF(COUNTIF(Regulated_Operation_Limits!$C$100:$C401,Regulated_Operation_Limits!C401)=1,Regulated_Operation_Limits!C401,\"\"))","v":""},"",{"$nulls":9},{"$f":"+IF(N379=\"\",\"\",MAX(M$1:M378)+1)","v":""},{"$f":"+IF(+CMS_Info!D401=\"\",\"\",IF(COUNTIF(CMS_Info!$D401:$D$500,CMS_Info!D401)=1,CMS_Info!D401,\"\"))","v":""},""]
[{"$f":"+IF(B380=\"\",\"\",MAX(A$1:A379)+1)","v":""},{"$f":"IF(+Regulated_Operation_Limits!C402=\"\",\"\",IF(COUNTIF(Regulated_Operation_Limits!$C$100:$C402,Regulated_Operation_Limits!C402)=1,Regulated_Operation_Limits!C402,\"\"))","v":""},"",{"$nulls":9},{"$f":"+IF(N380=\"\",\"\",MAX(M$1:M379)+1)","v":""},{"$f":"+IF(+CMS_Info!D402=\"\",\"\",IF(COUNTIF(CMS_Info!$D402:$D$500,CMS_Info!D402)=1,CMS_Info!D402,\"\"))","v":""},""]
[{"$f":"+IF(B381=\"\",\"\",MAX(A$1:A380)+1)","v":""},{"$f":"IF(+Regulated_Operation_Limits!C403=\"\",\"\",IF(COUNTIF(Regulated_Operation_Limits!$C$100:$C403,Regulated_Operation_Limits!C403)=1,Regulated_Operation_Limits!C403,\"\"))","v":""},"",{"$nulls":9},{"$f":"+IF(N381=\"\",\"\",MAX(M$1:M380)+1)","v":""},{"$f":"+IF(+CMS_Info!D403=\"\",\"\",IF(COUNTIF(CMS_Info!$D403:$D$500,CMS_Info!D403)=1,CMS_Info!D403,\"\"))","v":""},""]
[{"$f":"+IF(B382=\"\",\"\",MAX(A$1:A381)+1)","v":""},{"$f":"IF(+Regulated_Operation_Limits!C404=\"\",\"\",IF(COUNTIF(Regulated_Operation_Limits!$C$100:$C404,Regulated_Operation_Limits!C404)=1,Regulated_Operation_Limits!C404,\"\"))","v":""},"",{"$nulls":9},{"$f":"+IF(N382=\"\",\"\",MAX(M$1:M381)+1)","v":""},{"$f":"+IF(+CMS_Info!D404=\"\",\"\",IF(COUNTIF(CMS_Info!$D404:$D$500,CMS_Info!D404)=1,CMS_Info!D404,\"\"))","v":""},""]
[{"$f":"+IF(B383=\"\",\"\",MAX(A$1:A382)+1)","v":""},{"$f":"IF(+Regulated_Operation_Limits!C405=\"\",\"\",IF(COUNTIF(Regulated_Operation_Limits!$C$100:$C405,Regulated_Operation_Limits!C405)=1,Regulated_Operation_Limits!C405,\"\"))","v":""},"",{"$nulls":9},{"$f":"+IF(N383=\"\",\"\",MAX(M$1:M382)+1)","v":""},{"$f":"+IF(+CMS_Info!D405=\"\",\"\",IF(COUNTIF(CMS_Info!$D405:$D$500,CMS_Info!D405)=1,CMS_Info!D405,\"\"))","v":""},""]
[{"$f":"+IF(B384=\"\",\"\",MAX(A$1:A383)+1)","v":""},{"$f":"IF(+Regulated_Operation_Limits!C406=\"\",\"\",IF(COUNTIF(Regulated_Operation_Limits!$C$100:$C406,Regulated_Operation_Limits!C406)=1,Regulated_Operation_Limits!C406,\"\"))","v":""},"",{"$nulls":9},{"$f":"+IF(N384=\"\",\"\",MAX(M$1:M383)+1)","v":""},{"$f":"+IF(+CMS_Info!D406=\"\",\"\",IF(COUNTIF(CMS_Info!$D406:$D$500,CMS_Info!D406)=1,CMS_Info!D406,\"\"))","v":""},""]
[{"$f":"+IF(B385=\"\",\"\",MAX(A$1:A384)+1)","v":""},{"$f":"IF(+Regulated_Operation_Limits!C407=\"\",\"\",IF(COUNTIF(Regulated_Operation_Limits!$C$100:$C407,Regulated_Operation_Limits!C407)=1,Regulated_Operation_Limits!C407,\"\"))","v":""},"",{"$nulls":9},{"$f":"+IF(N385=\"\",\"\",MAX(M$1:M384)+1)","v":""},{"$f":"+IF(+CMS_Info!D407=\"\",\"\",IF(COUNTIF(CMS_Info!$D407:$D$500,CMS_Info!D407)=1,CMS_Info!D407,\"\"))","v":""},""]
[{"$f":"+IF(B386=\"\",\"\",MAX(A$1:A385)+1)","v":""},{"$f":"IF(+Regulated_Operation_Limits!C408=\"\",\"\",IF(COUNTIF(Regulated_Operation_Limits!$C$100:$C408,Regulated_Operation_Limits!C408)=1,Regulated_Operation_Limits!C408,\"\"))","v":""},{"$f":"+IFERROR(INDEX($B$2:$B$501,MATCH(ROW()-ROW($C$1),$A$2:$A$501,0)),\"\")","v":""},{"$nulls":9},{"$f":"+IF(N386=\"\",\"\",MAX(M$1:M385)+1)","v":""},{"$f":"+IF(+CMS_Info!D408=\"\",\"\",IF(COUNTIF(CMS_Info!$D408:$D$500,CMS_Info!D408)=1,CMS_Info!D408,\"\"))","v":""},{"$f":"+IFERROR(INDEX($N$2:$N$501,MATCH(ROW()-ROW($O$1),$M$2:$M$501,0)),\"\")","v":""}]
[{"$f":"+IF(B387=\"\",\"\",MAX(A$1:A386)+1)","v":""},{"$f":"IF(+Regulated_Operation_Limits!C409=\"\",\"\",IF(COUNTIF(Regulated_Operation_Limits!$C$100:$C409,Regulated_Operation_Limits!C409)=1,Regulated_Operation_Limits!C409,\"\"))","v":""},"",{"$nulls":9},{"$f":"+IF(N387=\"\",\"\",MAX(M$1:M386)+1)","v":""},{"$f":"+IF(+CMS_Info!D409=\"\",\"\",IF(COUNTIF(CMS_Info!$D409:$D$500,CMS_Info!D409)=1,CMS_Info!D409,\"\"))","v":""},""]
[{"$f":"+IF(B388=\"\",\"\",MAX(A$1:A387)+1)","v":""},{"$f":"IF(+Regulated_Operation_Limits!C410=\"\",\"\",IF(COUNTIF(Regulated_Operation_Limits!$C$100:$C410,Regulated_Operation_Limits!C410)=1,Regulated_Operation_Limits!C410,\"\"))","v":""},"",{"$nulls":9},{"$f":"+IF(N388=\"\",\"\",MAX(M$1:M387)+1)","v":""},{"$f":"+IF(+CMS_Info!D410=\"\",\"\",IF(COUNTIF(CMS_Info!$D410:$D$500,CMS_Info!D410)=1,CMS_Info!D410,\"\"))","v":""},""]
[{"$f":"+IF(B389=\"\",\"\",MAX(A$1:A388)+1)","v":""},{"$f":"IF(+Regulated_Operation_Limits!C411=\"\",\"\",IF(COUNTIF(Regulated_Operation_Limits!$C$100:$C411,Regulated_Operation_Limits!C411)=1,Regulated_Operation_Limits!C411,\"\"))","v":""},"",{"$nulls":9},{"$f":"+IF(N389=\"\",\"\",MAX(M$1:M388)+1)","v":""},{"$f":"+IF(+CMS_Info!D411=\"\",\"\",IF(COUNTIF(CMS_Info!$D411:$D$500,CMS_Info!D411)=1,CMS_Info!D411,\"\"))","v":""},""]
[{"$f":"+IF(B390=\"\",\"\",MAX(A$1:A389)+1)","v":""},{"$f":"IF(+Regulated_Operation_Limits!C412=\"\",\"\",IF(COUNTIF(Regulated_Operation_Limits!$C$100:$C412,Regulated_Operation_Limits!C412)=1,Regulated_Operation_Limits!C412,\"\"))","v":""},"",{"$nulls":9},{"$f":"+IF(N390=\"\",\"\",MAX(M$1:M389)+1)","v":""},{"$f":"+IF(+CMS_Info!D412=\"\",\"\",IF(COUNTIF(CMS_Info!$D412:$D$500,CMS_Info!D412)=1,CMS_Info!D412,\"\"))","v":""},""]
[{"$f":"+IF(B391=\"\",\"\",MAX(A$1:A390)+1)","v":""},{"$f":"IF(+Regulated_Operation_Limits!C413=\"\",\"\",IF(COUNTIF(Regulated_Operation_Limits!$C$100:$C413,Regulated_Operation_Limits!C413)=1,Regulated_Operation_Limits!C413,\"\"))","v":""},"",{"$nulls":9},{"$f":"+IF(N391=\"\",\"\",MAX(M$1:M390)+1)","v":""},{"$f":"+IF(+CMS_Info!D413=\"\",\"\",IF(COUNTIF(CMS_Info!$D413:$D$500,CMS_Info!D413)=1,CMS_Info!D413,\"\"))","v":""},""]
[{"$f":"+IF(B392=\"\",\"\",MAX(A$1:A391)+1)","v":""},{"$f":"IF(+Regulated_Operation_Limits!C414=\"\",\"\",IF(COUNTIF(Regulated_Operation_Limits!$C$100:$C414,Regulated_Operation_Limits!C414)=1,Regulated_Operation_Limits!C414,\"\"))","v":""},"",{"$nulls":9},{"$f":"+IF(N392=\"\",\"\",MAX(M$1:M391)+1)","v":""},{"$f":"+IF(+CMS_Info!D414=\"\",\"\",IF(COUNTIF(CMS_Info!$D414:$D$500,CMS_Info!D414)=1,CMS_Info!D414,\"\"))","v":""},""]
[{"$f":"+IF(B393=\"\",\"\",MAX(A$1:A392)+1)","v":""},{"$f":"IF(+Regulated_Operation_Limits!C415=\"\",\"\",IF(COUNTIF(Regulated_Operation_Limits!$C$100:$C415,Regulated_Operation_Limits!C415)=1,Regulated_Operation_Limits!C415,\"\"))","v":""},"",{"$nulls":9},{"$f":"+IF(N393=\"\",\"\",MAX(M$1:M392)+1)","v":""},{"$f":"+IF(+CMS_Info!D415=\"\",\"\",IF(COUNTIF(CMS_Info!$D415:$D$500,CMS_Info!D415)=1,CMS_Info!D415,\"\"))","v":""},""]
[{"$f":"+IF(B394=\"\",\"\",MAX(A$1:A393)+1)","v":""},{"$f":"IF(+Regulated_Operation_Limits!C416=\"\",\"\",IF(COUNTIF(Regulated_Operation_Limits!$C$100:$C416,Regulated_Operation_Limits!C416)=1,Regulated_Operation_Limits!C416,\"\"))","v":""},"",{"$nulls":9},{"$f":"+IF(N394=\"\",\"\",MAX(M$1:M393)+1)","v":""},{"$f":"+IF(+CMS_Info!D416=\"\",\"\",IF(COUNTIF(CMS_Info!$D416:$D$500,CMS_Info!D416)=1,CMS_Info!D416,\"\"))","v":""},""]
[{"$f":"+IF(B395=\"\",\"\",MAX(A$1:A394)+1)","v":""},{"$f":"IF(+Regulated_Operation_Limits!C417=\"\",\"\",IF(COUNTIF(Regulated_Operation_Limits!$C$100:$C417,Regulated_Operation_Limits!C417)=1,Regulated_Operation_Limits!C417,\"\"))","v":""},"",{"$nulls":9},{"$f":"+IF(N395=\"\",\"\",MAX(M$1:M394)+1)","v":""},{"$f":"+IF(+CMS_Info!D417=\"\",\"\",IF(COUNTIF(CMS_Info!$D417:$D$500,CMS_Info!D417)=1,CMS_Info!D417,\"\"))","v":""},""]
[{"$f":"+IF(B396=\"\",\"\",MAX(A$1:A395)+1)","v":""},{"$f":"IF(+Regulated_Operation_Limits!C418=\"\",\"\",IF(COUNTIF(Regulated_Operation_Limits!$C$100:$C418,Regulated_Operation_Limits!C418)=1,Regulated_Operation_Limits!C418,\"\"))","v":""},"",{"$nulls":9},{"$f":"+IF(N396=\"\",\"\",MAX(M$1:M395)+1)","v":""},{"$f":"+IF(+CMS_Info!D418=\"\",\"\",IF(COUNTIF(CMS_Info!$D418:$D$500,CMS_Info!D418)=1,CMS_Info!D418,\"\"))","v":""},""]
[{"$f":"+IF(B397=\"\",\"\",MAX(A$1:A396)+1)","v":""},{"$f":"IF(+Regulated_Operation_Limits!C419=\"\",\"\",IF(COUNTIF(Regulated_Operation_Limits!$C$100:$C419,Regulated_Operation_Limits!C419)=1,Regulated_Operation_Limits!C419,\"\"))","v":""},"",{"$nulls":9},{"$f":"+IF(N397=\"\",\"\",MAX(M$1:M396)+1)","v":""},{"$f":"+IF(+CMS_Info!D419=\"\",\"\",IF(COUNTIF(CMS_Info!$D419:$D$500,CMS_Info!D419)=1,CMS_Info!D419,\"\"))","v":""},""]
[{"$f":"+IF(B398=\"\",\"\",MAX(A$1:A397)+1)","v":""},{"$f":"IF(+Regulated_Operation_Limits!C420=\"\",\"\",IF(COUNTIF(Regulated_Operation_Limits!$C$100:$C420,Regulated_Operation_Limits!C420)=1,Regulated_Operation_Limits!C420,\"\"))","v":""},"",{"$nulls":9},{"$f":"+IF(N398=\"\",\"\",MAX(M$1:M397)+1)","v":""},{"$f":"+IF(+CMS_Info!D420=\"\",\"\",IF(COUNTIF(CMS_Info!$D420:$D$500,CMS_Info!D420)=1,CMS_Info!D420,\"\"))","v":""},""]
[{"$f":"+IF(B399=\"\",\"\",MAX(A$1:A398)+1)","v":""},{"$f":"IF(+Regulated_Operation_Limits!C421=\"\",\"\",IF(COUNTIF(Regulated_Operation_Limits!$C$100:$C421,Regulated_Operation_Limits!C421)=1,Regulated_Operation_Limits!C421,\"\"))","v":""},"",{"$nulls":9},{"$f":"+IF(N399=\"\",\"\",MAX(M$1:M398)+1)","v":""},{"$f":"+IF(+CMS_Info!D421=\"\",\"\",IF(COUNTIF(CMS_Info!$D421:$D$500,CMS_Info!D421)=1,CMS_Info!D421,\"\"))","v":""},""]
[{"$f":"+IF(B400=\"\",\"\",MAX(A$1:A399)+1)","v":""},{"$f":"IF(+Regulated_Operation_Limits!C422=\"\",\"\",IF(COUNTIF(Regulated_Operation_Limits!$C$100:$C422,Regulated_Operation_Limits!C422)=1,Regulated_Operation_Limits!C422,\"\"))","v":""},"",{"$nulls":9},{"$f":"+IF(N400=\"\",\"\",MAX(M$1:M399)+1)","v":""},{"$f":"+IF(+CMS_Info!D422=\"\",\"\",IF(COUNTIF(CMS_Info!$D422:$D$500,CMS_Info!D422)=1,CMS_Info!D422,\"\"))","v":""},""]
[{"$f":"+IF(B401=\"\",\"\",MAX(A$1:A400)+1)","v":""},{"$f":"IF(+Regulated_Operation_Limits!C423=\"\",\"\",IF(COUNTIF(Regulated_Operation_Limits!$C$100:$C423,Regulated_Operation_Limits!C423)=1,Regulated_Operation_Limits!C423,\"\"))","v":""},"",{"$nulls":9},{"$f":"+IF(N401=\"\",\"\",MAX(M$1:M400)+1)","v":""},{"$f":"+IF(+CMS_Info!D423=\"\",\"\",IF(COUNTIF(CMS_Info!$D423:$D$500,CMS_Info!D423)=1,CMS_Info!D423,\"\"))","v":""},""]
[{"$f":"+IF(B402=\"\",\"\",MAX(A$1:A401)+1)","v":""},{"$f":"IF(+Regulated_Operation_Limits!C424=\"\",\"\",IF(COUNTIF(Regulated_Operation_Limits!$C$100:$C424,Regulated_Operation_Limits!C424)=1,Regulated_Operation_Limits!C424,\"\"))","v":""},"",{"$nulls":9},{"$f":"+IF(N402=\"\",\"\",MAX(M$1:M401)+1)","v":""},{"$f":"+IF(+CMS_Info!D424=\"\",\"\",IF(COUNTIF(CMS_Info!$D424:$D$500,CMS_Info!D424)=1,CMS_Info!D424,\"\"))","v":""},""]
[{"$f":"+IF(B403=\"\",\"\",MAX(A$1:A402)+1)","v":""},{"$f":"IF(+Regulated_Operation_Limits!C425=\"\",\"\",IF(COUNTIF(Regulated_Operation_Limits!$C$100:$C425,Regulated_Operation_Limits!C425)=1,Regulated_Operation_Limits!C425,\"\"))","v":""},"",{"$nulls":9},{"$f":"+IF(N403=\"\",\"\",MAX(M$1:M402)+1)","v":""},{"$f":"+IF(+CMS_Info!D425=\"\",\"\",IF(COUNTIF(CMS_Info!$D425:$D$500,CMS_Info!D425)=1,CMS_Info!D425,\"\"))","v":""},""]
[{"$f":"+IF(B404=\"\",\"\",MAX(A$1:A403)+1)","v":""},{"$f":"IF(+Regulated_Operation_Limits!C426=\"\",\"\",IF(COUNTIF(Regulated_Operation_Limits!$C$100:$C426,Regulated_Operation_Limits!C426)=1,Regulated_Operation_Limits!C426,\"\"))","v":""},"",{"$nulls":9},{"$f":"+IF(N404=\"\",\"\",MAX(M$1:M403)+1)","v":""},{"$f":"+IF(+CMS_Info!D426=\"\",\"\",IF(COUNTIF(CMS_Info!$D426:$D$500,CMS_Info!D426)=1,CMS_Info!D426,\"\"))","v":""},""]
[{"$f":"+IF(B405=\"\",\"\",MAX(A$1:A404)+1)","v":""},{"$f":"IF(+Regulated_Operation_Limits!C427=\"\",\"\",IF(COUNTIF(Regulated_Operation_Limits!$C$100:$C427,Regulated_Operation_Limits!C427)=1,Regulated_Operation_Limits!C427,\"\"))","v":""},"",{"$nulls":9},{"$f":"+IF(N405=\"\",\"\",MAX(M$1:M404)+1)","v":""},{"$f":"+IF(+CMS_Info!D427=\"\",\"\",IF(COUNTIF(CMS_Info!$D427:$D$500,CMS_Info!D427)=1,CMS_Info!D427,\"\"))","v":""},""]
[{"$f":"+IF(B406=\"\",\"\",MAX(A$1:A405)+1)","v":""},{"$f":"IF(+Regulated_Operation_Limits!C428=\"\",\"\",IF(COUNTIF(Regulated_Operation_Limits!$C$100:$C428,Regulated_Operation_Limits!C428)=1,Regulated_Operation_Limits!C428,\"\"))","v":""},"",{"$nulls":9},{"$f":"+IF(N406=\"\",\"\",MAX(M$1:M405)+1)","v":""},{"$f":"+IF(+CMS_Info!D428=\"\",\"\",IF(COUNTIF(CMS_Info!$D428:$D$500,CMS_Info!D428)=1,CMS_Info!D428,\"\"))","v":""},""]
[{"$f":"+IF(B407=\"\",\"\",MAX(A$1:A406)+1)","v":""},{"$f":"IF(+Regulated_Operation_Limits!C429=\"\",\"\",IF(COUNTIF(Regulated_Operation_Limits!$C$100:$C429,Regulated_Operation_Limits!C429)=1,Regulated_Operation_Limits!C429,\"\"))","v":""},"",{"$nulls":9},{"$f":"+IF(N407=\"\",\"\",MAX(M$1:M406)+1)","v":""},{"$f":"+IF(+CMS_Info!D429=\"\",\"\",IF(COUNTIF(CMS_Info!$D429:$D$500,CMS_Info!D429)=1,CMS_Info!D429,\"\"))","v":""},""]
[{"$f":"+IF(B408=\"\",\"\",MAX(A$1:A407)+1)","v":""},{"$f":"IF(+Regulated_Operation_Limits!C430=\"\",\"\",IF(COUNTIF(Regulated_Operation_Limits!$C$100:$C430,Regulated_Operation_Limits!C430)=1,Regulated_Operation_Limits!C430,\"\"))","v":""},"",{"$nulls":9},{"$f":"+IF(N408=\"\",\"\",MAX(M$1:M407)+1)","v":""},{"$f":"+IF(+CMS_Info!D430=\"\",\"\",IF(COUNTIF(CMS_Info!$D430:$D$500,CMS_Info!D430)=1,CMS_Info!D430,\"\"))","v":""},""]
[{"$f":"+IF(B409=\"\",\"\",MAX(A$1:A408)+1)","v":""},{"$f":"IF(+Regulated_Operation_Limits!C431=\"\",\"\",IF(COUNTIF(Regulated_Operation_Limits!$C$100:$C431,Regulated_Operation_Limits!C431)=1,Regulated_Operation_Limits!C431,\"\"))","v":""},"",{"$nulls":9},{"$f":"+IF(N409=\"\",\"\",MAX(M$1:M408)+1)","v":""},{"$f":"+IF(+CMS_Info!D431=\"\",\"\",IF(COUNTIF(CMS_Info!$D431:$D$500,CMS_Info!D431)=1,CMS_Info!D431,\"\"))","v":""},""]
[{"$f":"+IF(B410=\"\",\"\",MAX(A$1:A409)+1)","v":""},{"$f":"IF(+Regulated_Operation_Limits!C432=\"\",\"\",IF(COUNTIF(Regulated_Operation_Limits!$C$100:$C432,Regulated_Operation_Limits!C432)=1,Regulated_Operation_Limits!C432,\"\"))","v":""},"",{"$nulls":9},{"$f":"+IF(N410=\"\",\"\",MAX(M$1:M409)+1)","v":""},{"$f":"+IF(+CMS_Info!D432=\"\",\"\",IF(COUNTIF(CMS_Info!$D432:$D$500,CMS_Info!D432)=1,CMS_Info!D432,\"\"))","v":""},""]
[{"$f":"+IF(B411=\"\",\"\",MAX(A$1:A410)+1)","v":""},{"$f":"IF(+Regulated_Operation_Limits!C433=\"\",\"\",IF(COUNTIF(Regulated_Operation_Limits!$C$100:$C433,Regulated_Operation_Limits!C433)=1,Regulated_Operation_Limits!C433,\"\"))","v":""},"",{"$nulls":9},{"$f":"+IF(N411=\"\",\"\",MAX(M$1:M410)+1)","v":""},{"$f":"+IF(+CMS_Info!D433=\"\",\"\",IF(COUNTIF(CMS_Info!$D433:$D$500,CMS_Info!D433)=1,CMS_Info!D433,\"\"))","v":""},""]
[{"$f":"+IF(B412=\"\",\"\",MAX(A$1:A411)+1)","v":""},{"$f":"IF(+Regulated_Operation_Limits!C434=\"\",\"\",IF(COUNTIF(Regulated_Operation_Limits!$C$100:$C434,Regulated_Operation_Limits!C434)=1,Regulated_Operation_Limits!C434,\"\"))","v":""},"",{"$nulls":9},{"$f":"+IF(N412=\"\",\"\",MAX(M$1:M411)+1)","v":""},{"$f":"+IF(+CMS_Info!D434=\"\",\"\",IF(COUNTIF(CMS_Info!$D434:$D$500,CMS_Info!D434)=1,CMS_Info!D434,\"\"))","v":""},""]
[{"$f":"+IF(B413=\"\",\"\",MAX(A$1:A412)+1)","v":""},{"$f":"IF(+Regulated_Operation_Limits!C435=\"\",\"\",IF(COUNTIF(Regulated_Operation_Limits!$C$100:$C435,Regulated_Operation_Limits!C435)=1,Regulated_Operation_Limits!C435,\"\"))","v":""},"",{"$nulls":9},{"$f":"+IF(N413=\"\",\"\",MAX(M$1:M412)+1)","v":""},{"$f":"+IF(+CMS_Info!D435=\"\",\"\",IF(COUNTIF(CMS_Info!$D435:$D$500,CMS_Info!D435)=1,CMS_Info!D435,\"\"))","v":""},""]
[{"$f":"+IF(B414=\"\",\"\",MAX(A$1:A413)+1)","v":""},{"$f":"IF(+Regulated_Operation_Limits!C436=\"\",\"\",IF(COUNTIF(Regulated_Operation_Limits!$C$100:$C436,Regulated_Operation_Limits!C436)=1,Regulated_Operation_Limits!C436,\"\"))","v":""},"",{"$nulls":9},{"$f":"+IF(N414=\"\",\"\",MAX(M$1:M413)+1)","v":""},{"$f":"+IF(+CMS_Info!D436=\"\",\"\",IF(COUNTIF(CMS_Info!$D436:$D$500,CMS_Info!D436)=1,CMS_Info!D436,\"\"))","v":""},""]
[{"$f":"+IF(B415=\"\",\"\",MAX(A$1:A414)+1)","v":""},{"$f":"IF(+Regulated_Operation_Limits!C437=\"\",\"\",IF(COUNTIF(Regulated_Operation_Limits!$C$100:$C437,Regulated_Operation_Limits!C437)=1,Regulated_Operation_Limits!C437,\"\"))","v":""},"",{"$nulls":9},{"$f":"+IF(N415=\"\",\"\",MAX(M$1:M414)+1)","v":""},{"$f":"+IF(+CMS_Info!D437=\"\",\"\",IF(COUNTIF(CMS_Info!$D437:$D$500,CMS_Info!D437)=1,CMS_Info!D437,\"\"))","v":""},""]
[{"$f":"+IF(B416=\"\",\"\",MAX(A$1:A415)+1)","v":""},{"$f":"IF(+Regulated_Operation_Limits!C438=\"\",\"\",IF(COUNTIF(Regulated_Operation_Limits!$C$100:$C438,Regulated_Operation_Limits!C438)=1,Regulated_Operation_Limits!C438,\"\"))","v":""},"",{"$nulls":9},{"$f":"+IF(N416=\"\",\"\",MAX(M$1:M415)+1)","v":""},{"$f":"+IF(+CMS_Info!D438=\"\",\"\",IF(COUNTIF(CMS_Info!$D438:$D$500,CMS_Info!D438)=1,CMS_Info!D438,\"\"))","v":""},""]
[{"$f":"+IF(B417=\"\",\"\",MAX(A$1:A416)+1)","v":""},{"$f":"IF(+Regulated_Operation_Limits!C439=\"\",\"\",IF(COUNTIF(Regulated_Operation_Limits!$C$100:$C439,Regulated_Operation_Limits!C439)=1,Regulated_Operation_Limits!C439,\"\"))","v":""},"",{"$nulls":9},{"$f":"+IF(N417=\"\",\"\",MAX(M$1:M416)+1)","v":""},{"$f":"+IF(+CMS_Info!D439=\"\",\"\",IF(COUNTIF(CMS_Info!$D439:$D$500,CMS_Info!D439)=1,CMS_Info!D439,\"\"))","v":""},""]
[{"$f":"+IF(B418=\"\",\"\",MAX(A$1:A417)+1)","v":""},{"$f":"IF(+Regulated_Operation_Limits!C440=\"\",\"\",IF(COUNTIF(Regulated_Operation_Limits!$C$100:$C440,Regulated_Operation_Limits!C440)=1,Regulated_Operation_Limits!C440,\"\"))","v":""},"",{"$nulls":9},{"$f":"+IF(N418=\"\",\"\",MAX(M$1:M417)+1)","v":""},{"$f":"+IF(+CMS_Info!D440=\"\",\"\",IF(COUNTIF(CMS_Info!$D440:$D$500,CMS_Info!D440)=1,CMS_Info!D440,\"\"))","v":""},""]
[{"$f":"+IF(B419=\"\",\"\",MAX(A$1:A418)+1)","v":""},{"$f":"IF(+Regulated_Operation_Limits!C441=\"\",\"\",IF(COUNTIF(Regulated_Operation_Limits!$C$100:$C441,Regulated_Operation_Limits!C441)=1,Regulated_Operation_Limits!C441,\"\"))","v":""},"",{"$nulls":9},{"$f":"+IF(N419=\"\",\"\",MAX(M$1:M418)+1)","v":""},{"$f":"+IF(+CMS_Info!D441=\"\",\"\",IF(COUNTIF(CMS_Info!$D441:$D$500,CMS_Info!D441)=1,CMS_Info!D441,\"\"))","v":""},""]
[{"$f":"+IF(B420=\"\",\"\",MAX(A$1:A419)+1)","v":""},{"$f":"IF(+Regulated_Operation_Limits!C442=\"\",\"\",IF(COUNTIF(Regulated_Operation_Limits!$C$100:$C442,Regulated_Operation_Limits!C442)=1,Regulated_Operation_Limits!C442,\"\"))","v":""},"",{"$nulls":9},{"$f":"+IF(N420=\"\",\"\",MAX(M$1:M419)+1)","v":""},{"$f":"+IF(+CMS_Info!D442=\"\",\"\",IF(COUNTIF(CMS_Info!$D442:$D$500,CMS_Info!D442)=1,CMS_Info!D442,\"\"))","v":""},""]
[{"$f":"+IF(B421=\"\",\"\",MAX(A$1:A420)+1)","v":""},{"$f":"IF(+Regulated_Operation_Limits!C443=\"\",\"\",IF(COUNTIF(Regulated_Operation_Limits!$C$100:$C443,Regulated_Operation_Limits!C443)=1,Regulated_Operation_Limits!C443,\"\"))","v":""},"",{"$nulls":9},{"$f":"+IF(N421=\"\",\"\",MAX(M$1:M420)+1)","v":""},{"$f":"+IF(+CMS_Info!D443=\"\",\"\",IF(COUNTIF(CMS_Info!$D443:$D$500,CMS_Info!D443)=1,CMS_Info!D443,\"\"))","v":""},""]
[{"$f":"+IF(B422=\"\",\"\",MAX(A$1:A421)+1)","v":""},{"$f":"IF(+Regulated_Operation_Limits!C444=\"\",\"\",IF(COUNTIF(Regulated_Operation_Limits!$C$100:$C444,Regulated_Operation_Limits!C444)=1,Regulated_Operation_Limits!C444,\"\"))","v":""},"",{"$nulls":9},{"$f":"+IF(N422=\"\",\"\",MAX(M$1:M421)+1)","v":""},{"$f":"+IF(+CMS_Info!D444=\"\",\"\",IF(COUNTIF(CMS_Info!$D444:$D$500,CMS_Info!D444)=1,CMS_Info!D444,\"\"))","v":""},""]
[{"$f":"+IF(B423=\"\",\"\",MAX(A$1:A422)+1)","v":""},{"$f":"IF(+Regulated_Operation_Limits!C445=\"\",\"\",IF(COUNTIF(Regulated_Operation_Limits!$C$100:$C445,Regulated_Operation_Limits!C445)=1,Regulated_Operation_Limits!C445,\"\"))","v":""},"",{"$nulls":9},{"$f":"+IF(N423=\"\",\"\",MAX(M$1:M422)+1)","v":""},{"$f":"+IF(+CMS_Info!D445=\"\",\"\",IF(COUNTIF(CMS_Info!$D445:$D$500,CMS_Info!D445)=1,CMS_Info!D445,\"\"))","v":""},""]
[{"$f":"+IF(B424=\"\",\"\",MAX(A$1:A423)+1)","v":""},{"$f":"IF(+Regulated_Operation_Limits!C446=\"\",\"\",IF(COUNTIF(Regulated_Operation_Limits!$C$100:$C446,Regulated_Operation_Limits!C446)=1,Regulated_Operation_Limits!C446,\"\"))","v":""},"",{"$nulls":9},{"$f":"+IF(N424=\"\",\"\",MAX(M$1:M423)+1)","v":""},{"$f":"+IF(+CMS_Info!D446=\"\",\"\",IF(COUNTIF(CMS_Info!$D446:$D$500,CMS_Info!D446)=1,CMS_Info!D446,\"\"))","v":""},""]
[{"$f":"+IF(B425=\"\",\"\",MAX(A$1:A424)+1)","v":""},{"$f":"IF(+Regulated_Operation_Limits!C447=\"\",\"\",IF(COUNTIF(Regulated_Operation_Limits!$C$100:$C447,Regulated_Operation_Limits!C447)=1,Regulated_Operation_Limits!C447,\"\"))","v":""},"",{"$nulls":9},{"$f":"+IF(N425=\"\",\"\",MAX(M$1:M424)+1)","v":""},{"$f":"+IF(+CMS_Info!D447=\"\",\"\",IF(COUNTIF(CMS_Info!$D447:$D$500,CMS_Info!D447)=1,CMS_Info!D447,\"\"))","v":""},""]
[{"$f":"+IF(B426=\"\",\"\",MAX(A$1:A425)+1)","v":""},{"$f":"IF(+Regulated_Operation_Limits!C448=\"\",\"\",IF(COUNTIF(Regulated_Operation_Limits!$C$100:$C448,Regulated_Operation_Limits!C448)=1,Regulated_Operation_Limits!C448,\"\"))","v":""},"",{"$nulls":9},{"$f":"+IF(N426=\"\",\"\",MAX(M$1:M425)+1)","v":""},{"$f":"+IF(+CMS_Info!D448=\"\",\"\",IF(COUNTIF(CMS_Info!$D448:$D$500,CMS_Info!D448)=1,CMS_Info!D448,\"\"))","v":""},""]
[{"$f":"+IF(B427=\"\",\"\",MAX(A$1:A426)+1)","v":""},{"$f":"IF(+Regulated_Operation_Limits!C449=\"\",\"\",IF(COUNTIF(Regulated_Operation_Limits!$C$100:$C449,Regulated_Operation_Limits!C449)=1,Regulated_Operation_Limits!C449,\"\"))","v":""},"",{"$nulls":9},{"$f":"+IF(N427=\"\",\"\",MAX(M$1:M426)+1)","v":""},{"$f":"+IF(+CMS_Info!D449=\"\",\"\",IF(COUNTIF(CMS_Info!$D449:$D$500,CMS_Info!D449)=1,CMS_Info!D449,\"\"))","v":""},""]
[{"$f":"+IF(B428=\"\",\"\",MAX(A$1:A427)+1)","v":""},{"$f":"IF(+Regulated_Operation_Limits!C450=\"\",\"\",IF(COUNTIF(Regulated_Operation_Limits!$C$100:$C450,Regulated_Operation_Limits!C450)=1,Regulated_Operation_Limits!C450,\"\"))","v":""},"",{"$nulls":9},{"$f":"+IF(N428=\"\",\"\",MAX(M$1:M427)+1)","v":""},{"$f":"+IF(+CMS_Info!D450=\"\",\"\",IF(COUNTIF(CMS_Info!$D450:$D$500,CMS_Info!D450)=1,CMS_Info!D450,\"\"))","v":""},""]
[{"$f":"+IF(B429=\"\",\"\",MAX(A$1:A428)+1)","v":""},{"$f":"IF(+Regulated_Operation_Limits!C451=\"\",\"\",IF(COUNTIF(Regulated_Operation_Limits!$C$100:$C451,Regulated_Operation_Limits!C451)=1,Regulated_Operation_Limits!C451,\"\"))","v":""},"",{"$nulls":9},{"$f":"+IF(N429=\"\",\"\",MAX(M$1:M428)+1)","v":""},{"$f":"+IF(+CMS_Info!D451=\"\",\"\",IF(COUNTIF(CMS_Info!$D451:$D$500,CMS_Info!D451)=1,CMS_Info!D451,\"\"))","v":""},""]
[{"$f":"+IF(B430=\"\",\"\",MAX(A$1:A429)+1)","v":""},{"$f":"IF(+Regulated_Operation_Limits!C452=\"\",\"\",IF(COUNTIF(Regulated_Operation_Limits!$C$100:$C452,Regulated_Operation_Limits!C452)=1,Regulated_Operation_Limits!C452,\"\"))","v":""},"",{"$nulls":9},{"$f":"+IF(N430=\"\",\"\",MAX(M$1:M429)+1)","v":""},{"$f":"+IF(+CMS_Info!D452=\"\",\"\",IF(COUNTIF(CMS_Info!$D452:$D$500,CMS_Info!D452)=1,CMS_Info!D452,\"\"))","v":""},""]
[{"$f":"+IF(B431=\"\",\"\",MAX(A$1:A430)+1)","v":""},{"$f":"IF(+Regulated_Operation_Limits!C453=\"\",\"\",IF(COUNTIF(Regulated_Operation_Limits!$C$100:$C453,Regulated_Operation_Limits!C453)=1,Regulated_Operation_Limits!C453,\"\"))","v":""},"",{"$nulls":9},{"$f":"+IF(N431=\"\",\"\",MAX(M$1:M430)+1)","v":""},{"$f":"+IF(+CMS_Info!D453=\"\",\"\",IF(COUNTIF(CMS_Info!$D453:$D$500,CMS_Info!D453)=1,CMS_Info!D453,\"\"))","v":""},""]
[{"$f":"+IF(B432=\"\",\"\",MAX(A$1:A431)+1)","v":""},{"$f":"IF(+Regulated_Operation_Limits!C454=\"\",\"\",IF(COUNTIF(Regulated_Operation_Limits!$C$100:$C454,Regulated_Operation_Limits!C454)=1,Regulated_Operation_Limits!C454,\"\"))","v":""},"",{"$nulls":9},{"$f":"+IF(N432=\"\",\"\",MAX(M$1:M431)+1)","v":""},{"$f":"+IF(+CMS_Info!D454=\"\",\"\",IF(COUNTIF(CMS_Info!$D454:$D$500,CMS_Info!D454)=1,CMS_Info!D454,\"\"))","v":""},""]
[{"$f":"+IF(B433=\"\",\"\",MAX(A$1:A432)+1)","v":""},{"$f":"IF(+Regulated_Operation_Limits!C455=\"\",\"\",IF(COUNTIF(Regulated_Operation_Limits!$C$100:$C455,Regulated_Operation_Limits!C455)=1,Regulated_Operation_Limits!C455,\"\"))","v":""},"",{"$nulls":9},{"$f":"+IF(N433=\"\",\"\",MAX(M$1:M432)+1)","v":""},{"$f":"+IF(+CMS_Info!D455=\"\",\"\",IF(COUNTIF(CMS_Info!$D455:$D$500,CMS_Info!D455)=1,CMS_Info!D455,\"\"))","v":""},""]
[{"$f":"+IF(B434=\"\",\"\",MAX(A$1:A433)+1)","v":""},{"$f":"IF(+Regulated_Operation_Limits!C456=\"\",\"\",IF(COUNTIF(Regulated_Operation_Limits!$C$100:$C456,Regulated_Operation_Limits!C456)=1,Regulated_Operation_Limits!C456,\"\"))","v":""},"",{"$nulls":9},{"$f":"+IF(N434=\"\",\"\",MAX(M$1:M433)+1)","v":""},{"$f":"+IF(+CMS_Info!D456=\"\",\"\",IF(COUNTIF(CMS_Info!$D456:$D$500,CMS_Info!D456)=1,CMS_Info!D456,\"\"))","v":""},""]
[{"$f":"+IF(B435=\"\",\"\",MAX(A$1:A434)+1)","v":""},{"$f":"IF(+Regulated_Operation_Limits!C457=\"\",\"\",IF(COUNTIF(Regulated_Operation_Limits!$C$100:$C457,Regulated_Operation_Limits!C457)=1,Regulated_Operation_Limits!C457,\"\"))","v":""},"",{"$nulls":9},{"$f":"+IF(N435=\"\",\"\",MAX(M$1:M434)+1)","v":""},{"$f":"+IF(+CMS_Info!D457=\"\",\"\",IF(COUNTIF(CMS_Info!$D457:$D$500,CMS_Info!D457)=1,CMS_Info!D457,\"\"))","v":""},""]
[{"$f":"+IF(B436=\"\",\"\",MAX(A$1:A435)+1)","v":""},{"$f":"IF(+Regulated_Operation_Limits!C458=\"\",\"\",IF(COUNTIF(Regulated_Operation_Limits!$C$100:$C458,Regulated_Operation_Limits!C458)=1,Regulated_Operation_Limits!C458,\"\"))","v":""},"",{"$nulls":9},{"$f":"+IF(N436=\"\",\"\",MAX(M$1:M435)+1)","v":""},{"$f":"+IF(+CMS_Info!D458=\"\",\"\",IF(COUNTIF(CMS_Info!$D458:$D$500,CMS_Info!D458)=1,CMS_Info!D458,\"\"))","v":""},""]
[{"$f":"+IF(B437=\"\",\"\",MAX(A$1:A436)+1)","v":""},{"$f":"IF(+Regulated_Operation_Limits!C459=\"\",\"\",IF(COUNTIF(Regulated_Operation_Limits!$C$100:$C459,Regulated_Operation_Limits!C459)=1,Regulated_Operation_Limits!C459,\"\"))","v":""},"",{"$nulls":9},{"$f":"+IF(N437=\"\",\"\",MAX(M$1:M436)+1)","v":""},{"$f":"+IF(+CMS_Info!D459=\"\",\"\",IF(COUNTIF(CMS_Info!$D459:$D$500,CMS_Info!D459)=1,CMS_Info!D459,\"\"))","v":""},""]
[{"$f":"+IF(B438=\"\",\"\",MAX(A$1:A437)+1)","v":""},{"$f":"IF(+Regulated_Operation_Limits!C460=\"\",\"\",IF(COUNTIF(Regulated_Operation_Limits!$C$100:$C460,Regulated_Operation_Limits!C460)=1,Regulated_Operation_Limits!C460,\"\"))","v":""},"",{"$nulls":9},{"$f":"+IF(N438=\"\",\"\",MAX(M$1:M437)+1)","v":""},{"$f":"+IF(+CMS_Info!D460=\"\",\"\",IF(COUNTIF(CMS_Info!$D460:$D$500,CMS_Info!D460)=1,CMS_Info!D460,\"\"))","v":""},""]
[{"$f":"+IF(B439=\"\",\"\",MAX(A$1:A438)+1)","v":""},{"$f":"IF(+Regulated_Operation_Limits!C461=\"\",\"\",IF(COUNTIF(Regulated_Operation_Limits!$C$100:$C461,Regulated_Operation_Limits!C461)=1,Regulated_Operation_Limits!C461,\"\"))","v":""},"",{"$nulls":9},{"$f":"+IF(N439=\"\",\"\",MAX(M$1:M438)+1)","v":""},{"$f":"+IF(+CMS_Info!D461=\"\",\"\",IF(COUNTIF(CMS_Info!$D461:$D$500,CMS_Info!D461)=1,CMS_Info!D461,\"\"))","v":""},""]
[{"$f":"+IF(B440=\"\",\"\",MAX(A$1:A439)+1)","v":""},{"$f":"IF(+Regulated_Operation_Limits!C462=\"\",\"\",IF(COUNTIF(Regulated_Operation_Limits!$C$100:$C462,Regulated_Operation_Limits!C462)=1,Regulated_Operation_Limits!C462,\"\"))","v":""},"",{"$nulls":9},{"$f":"+IF(N440=\"\",\"\",MAX(M$1:M439)+1)","v":""},{"$f":"+IF(+CMS_Info!D462=\"\",\"\",IF(COUNTIF(CMS_Info!$D462:$D$500,CMS_Info!D462)=1,CMS_Info!D462,\"\"))","v":""},""]
[{"$f":"+IF(B441=\"\",\"\",MAX(A$1:A440)+1)","v":""},{"$f":"IF(+Regulated_Operation_Limits!C463=\"\",\"\",IF(COUNTIF(Regulated_Operation_Limits!$C$100:$C463,Regulated_Operation_Limits!C463)=1,Regulated_Operation_Limits!C463,\"\"))","v":""},"",{"$nulls":9},{"$f":"+IF(N441=\"\",\"\",MAX(M$1:M440)+1)","v":""},{"$f":"+IF(+CMS_Info!D463=\"\",\"\",IF(COUNTIF(CMS_Info!$D463:$D$500,CMS_Info!D463)=1,CMS_Info!D463,\"\"))","v":""},""]
[{"$f":"+IF(B442=\"\",\"\",MAX(A$1:A441)+1)","v":""},{"$f":"IF(+Regulated_Operation_Limits!C464=\"\",\"\",IF(COUNTIF(Regulated_Operation_Limits!$C$100:$C464,Regulated_Operation_Limits!C464)=1,Regulated_Operation_Limits!C464,\"\"))","v":""},"",{"$nulls":9},{"$f":"+IF(N442=\"\",\"\",MAX(M$1:M441)+1)","v":""},{"$f":"+IF(+CMS_Info!D464=\"\",\"\",IF(COUNTIF(CMS_Info!$D464:$D$500,CMS_Info!D464)=1,CMS_Info!D464,\"\"))","v":""},""]
[{"$f":"+IF(B443=\"\",\"\",MAX(A$1:A442)+1)","v":""},{"$f":"IF(+Regulated_Operation_Limits!C465=\"\",\"\",IF(COUNTIF(Regulated_Operation_Limits!$C$100:$C465,Regulated_Operation_Limits!C465)=1,Regulated_Operation_Limits!C465,\"\"))","v":""},"",{"$nulls":9},{"$f":"+IF(N443=\"\",\"\",MAX(M$1:M442)+1)","v":""},{"$f":"+IF(+CMS_Info!D465=\"\",\"\",IF(COUNTIF(CMS_Info!$D465:$D$500,CMS_Info!D465)=1,CMS_Info!D465,\"\"))","v":""},""]
[{"$f":"+IF(B444=\"\",\"\",MAX(A$1:A443)+1)","v":""},{"$f":"IF(+Regulated_Operation_Limits!C466=\"\",\"\",IF(COUNTIF(Regulated_Operation_Limits!$C$100:$C466,Regulated_Operation_Limits!C466)=1,Regulated_Operation_Limits!C466,\"\"))","v":""},"",{"$nulls":9},{"$f":"+IF(N444=\"\",\"\",MAX(M$1:M443)+1)","v":""},{"$f":"+IF(+CMS_Info!D466=\"\",\"\",IF(COUNTIF(CMS_Info!$D466:$D$500,CMS_Info!D466)=1,CMS_Info!D466,\"\"))","v":""},""]
[{"$f":"+IF(B445=\"\",\"\",MAX(A$1:A444)+1)","v":""},{"$f":"IF(+Regulated_Operation_Limits!C467=\"\",\"\",IF(COUNTIF(Regulated_Operation_Limits!$C$100:$C467,Regulated_Operation_Limits!C467)=1,Regulated_Operation_Limits!C467,\"\"))","v":""},"",{"$nulls":9},{"$f":"+IF(N445=\"\",\"\",MAX(M$1:M444)+1)","v":""},{"$f":"+IF(+CMS_Info!D467=\"\",\"\",IF(COUNTIF(CMS_Info!$D467:$D$500,CMS_Info!D467)=1,CMS_Info!D467,\"\"))","v":""},""]
[{"$f":"+IF(B446=\"\",\"\",MAX(A$1:A445)+1)","v":""},{"$f":"IF(+Regulated_Operation_Limits!C468=\"\",\"\",IF(COUNTIF(Regulated_Operation_Limits!$C$100:$C468,Regulated_Operation_Limits!C468)=1,Regulated_Operation_Limits!C468,\"\"))","v":""},"",{"$nulls":9},{"$f":"+IF(N446=\"\",\"\",MAX(M$1:M445)+1)","v":""},{"$f":"+IF(+CMS_Info!D468=\"\",\"\",IF(COUNTIF(CMS_Info!$D468:$D$500,CMS_Info!D468)=1,CMS_Info!D468,\"\"))","v":""},""]
[{"$f":"+IF(B447=\"\",\"\",MAX(A$1:A446)+1)","v":""},{"$f":"IF(+Regulated_Operation_Limits!C469=\"\",\"\",IF(COUNTIF(Regulated_Operation_Limits!$C$100:$C469,Regulated_Operation_Limits!C469)=1,Regulated_Operation_Limits!C469,\"\"))","v":""},"",{"$nulls":9},{"$f":"+IF(N447=\"\",\"\",MAX(M$1:M446)+1)","v":""},{"$f":"+IF(+CMS_Info!D469=\"\",\"\",IF(COUNTIF(CMS_Info!$D469:$D$500,CMS_Info!D469)=1,CMS_Info!D469,\"\"))","v":""},""]
[{"$f":"+IF(B448=\"\",\"\",MAX(A$1:A447)+1)","v":""},{"$f":"IF(+Regulated_Operation_Limits!C470=\"\",\"\",IF(COUNTIF(Regulated_Operation_Limits!$C$100:$C470,Regulated_Operation_Limits!C470)=1,Regulated_Operation_Limits!C470,\"\"))","v":""},"",{"$nulls":9},{"$f":"+IF(N448=\"\",\"\",MAX(M$1:M447)+1)","v":""},{"$f":"+IF(+CMS_Info!D470=\"\",\"\",IF(COUNTIF(CMS_Info!$D470:$D$500,CMS_Info!D470)=1,CMS_Info!D470,\"\"))","v":""},""]
[{"$f":"+IF(B449=\"\",\"\",MAX(A$1:A448)+1)","v":""},{"$f":"IF(+Regulated_Operation_Limits!C471=\"\",\"\",IF(COUNTIF(Regulated_Operation_Limits!$C$100:$C471,Regulated_Operation_Limits!C471)=1,Regulated_Operation_Limits!C471,\"\"))","v":""},"",{"$nulls":9},{"$f":"+IF(N449=\"\",\"\",MAX(M$1:M448)+1)","v":""},{"$f":"+IF(+CMS_Info!D471=\"\",\"\",IF(COUNTIF(CMS_Info!$D471:$D$500,CMS_Info!D471)=1,CMS_Info!D471,\"\"))","v":""},""]
[{"$f":"+IF(B450=\"\",\"\",MAX(A$1:A449)+1)","v":""},{"$f":"IF(+Regulated_Operation_Limits!C472=\"\",\"\",IF(COUNTIF(Regulated_Operation_Limits!$C$100:$C472,Regulated_Operation_Limits!C472)=1,Regulated_Operation_Limits!C472,\"\"))","v":""},{"$f":"+IFERROR(INDEX($B$2:$B$501,MATCH(ROW()-ROW($C$1),$A$2:$A$501,0)),\"\")","v":""},{"$nulls":9},{"$f":"+IF(N450=\"\",\"\",MAX(M$1:M449)+1)","v":""},{"$f":"+IF(+CMS_Info!D472=\"\",\"\",IF(COUNTIF(CMS_Info!$D472:$D$500,CMS_Info!D472)=1,CMS_Info!D472,\"\"))","v":""},{"$f":"+IFERROR(INDEX($N$2:$N$501,MATCH(ROW()-ROW($O$1),$M$2:$M$501,0)),\"\")","v":""}]
[{"$f":"+IF(B451=\"\",\"\",MAX(A$1:A450)+1)","v":""},{"$f":"IF(+Regulated_Operation_Limits!C473=\"\",\"\",IF(COUNTIF(Regulated_Operation_Limits!$C$100:$C473,Regulated_Operation_Limits!C473)=1,Regulated_Operation_Limits!C473,\"\"))","v":""},"",{"$nulls":9},{"$f":"+IF(N451=\"\",\"\",MAX(M$1:M450)+1)","v":""},{"$f":"+IF(+CMS_Info!D473=\"\",\"\",IF(COUNTIF(CMS_Info!$D473:$D$500,CMS_Info!D473)=1,CMS_Info!D473,\"\"))","v":""},""]
[{"$f":"+IF(B452=\"\",\"\",MAX(A$1:A451)+1)","v":""},{"$f":"IF(+Regulated_Operation_Limits!C474=\"\",\"\",IF(COUNTIF(Regulated_Operation_Limits!$C$100:$C474,Regulated_Operation_Limits!C474)=1,Regulated_Operation_Limits!C474,\"\"))","v":""},"",{"$nulls":9},{"$f":"+IF(N452=\"\",\"\",MAX(M$1:M451)+1)","v":""},{"$f":"+IF(+CMS_Info!D474=\"\",\"\",IF(COUNTIF(CMS_Info!$D474:$D$500,CMS_Info!D474)=1,CMS_Info!D474,\"\"))","v":""},""]
[{"$f":"+IF(B453=\"\",\"\",MAX(A$1:A452)+1)","v":""},{"$f":"IF(+Regulated_Operation_Limits!C475=\"\",\"\",IF(COUNTIF(Regulated_Operation_Limits!$C$100:$C475,Regulated_Operation_Limits!C475)=1,Regulated_Operation_Limits!C475,\"\"))","v":""},"",{"$nulls":9},{"$f":"+IF(N453=\"\",\"\",MAX(M$1:M452)+1)","v":""},{"$f":"+IF(+CMS_Info!D475=\"\",\"\",IF(COUNTIF(CMS_Info!$D475:$D$500,CMS_Info!D475)=1,CMS_Info!D475,\"\"))","v":""},""]
[{"$f":"+IF(B454=\"\",\"\",MAX(A$1:A453)+1)","v":""},{"$f":"IF(+Regulated_Operation_Limits!C476=\"\",\"\",IF(COUNTIF(Regulated_Operation_Limits!$C$100:$C476,Regulated_Operation_Limits!C476)=1,Regulated_Operation_Limits!C476,\"\"))","v":""},"",{"$nulls":9},{"$f":"+IF(N454=\"\",\"\",MAX(M$1:M453)+1)","v":""},{"$f":"+IF(+CMS_Info!D476=\"\",\"\",IF(COUNTIF(CMS_Info!$D476:$D$500,CMS_Info!D476)=1,CMS_Info!D476,\"\"))","v":""},""]
[{"$f":"+IF(B455=\"\",\"\",MAX(A$1:A454)+1)","v":""},{"$f":"IF(+Regulated_Operation_Limits!C477=\"\",\"\",IF(COUNTIF(Regulated_Operation_Limits!$C$100:$C477,Regulated_Operation_Limits!C477)=1,Regulated_Operation_Limits!C477,\"\"))","v":""},"",{"$nulls":9},{"$f":"+IF(N455=\"\",\"\",MAX(M$1:M454)+1)","v":""},{"$f":"+IF(+CMS_Info!D477=\"\",\"\",IF(COUNTIF(CMS_Info!$D477:$D$500,CMS_Info!D477)=1,CMS_Info!D477,\"\"))","v":""},""]
[{"$f":"+IF(B456=\"\",\"\",MAX(A$1:A455)+1)","v":""},{"$f":"IF(+Regulated_Operation_Limits!C478=\"\",\"\",IF(COUNTIF(Regulated_Operation_Limits!$C$100:$C478,Regulated_Operation_Limits!C478)=1,Regulated_Operation_Limits!C478,\"\"))","v":""},"",{"$nulls":9},{"$f":"+IF(N456=\"\",\"\",MAX(M$1:M455)+1)","v":""},{"$f":"+IF(+CMS_Info!D478=\"\",\"\",IF(COUNTIF(CMS_Info!$D478:$D$500,CMS_Info!D478)=1,CMS_Info!D478,\"\"))","v":""},""]
[{"$f":"+IF(B457=\"\",\"\",MAX(A$1:A456)+1)","v":""},{"$f":"IF(+Regulated_Operation_Limits!C479=\"\",\"\",IF(COUNTIF(Regulated_Operation_Limits!$C$100:$C479,Regulated_Operation_Limits!C479)=1,Regulated_Operation_Limits!C479,\"\"))","v":""},"",{"$nulls":9},{"$f":"+IF(N457=\"\",\"\",MAX(M$1:M456)+1)","v":""},{"$f":"+IF(+CMS_Info!D479=\"\",\"\",IF(COUNTIF(CMS_Info!$D479:$D$500,CMS_Info!D479)=1,CMS_Info!D479,\"\"))","v":""},""]
[{"$f":"+IF(B458=\"\",\"\",MAX(A$1:A457)+1)","v":""},{"$f":"IF(+Regulated_Operation_Limits!C480=\"\",\"\",IF(COUNTIF(Regulated_Operation_Limits!$C$100:$C480,Regulated_Operation_Limits!C480)=1,Regulated_Operation_Limits!C480,\"\"))","v":""},"",{"$nulls":9},{"$f":"+IF(N458=\"\",\"\",MAX(M$1:M457)+1)","v":""},{"$f":"+IF(+CMS_Info!D480=\"\",\"\",IF(COUNTIF(CMS_Info!$D480:$D$500,CMS_Info!D480)=1,CMS_Info!D480,\"\"))","v":""},""]
[{"$f":"+IF(B459=\"\",\"\",MAX(A$1:A458)+1)","v":""},{"$f":"IF(+Regulated_Operation_Limits!C481=\"\",\"\",IF(COUNTIF(Regulated_Operation_Limits!$C$100:$C481,Regulated_Operation_Limits!C481)=1,Regulated_Operation_Limits!C481,\"\"))","v":""},"",{"$nulls":9},{"$f":"+IF(N459=\"\",\"\",MAX(M$1:M458)+1)","v":""},{"$f":"+IF(+CMS_Info!D481=\"\",\"\",IF(COUNTIF(CMS_Info!$D481:$D$500,CMS_Info!D481)=1,CMS_Info!D481,\"\"))","v":""},""]
[{"$f":"+IF(B460=\"\",\"\",MAX(A$1:A459)+1)","v":""},{"$f":"IF(+Regulated_Operation_Limits!C482=\"\",\"\",IF(COUNTIF(Regulated_Operation_Limits!$C$100:$C482,Regulated_Operation_Limits!C482)=1,Regulated_Operation_Limits!C482,\"\"))","v":""},"",{"$nulls":9},{"$f":"+IF(N460=\"\",\"\",MAX(M$1:M459)+1)","v":""},{"$f":"+IF(+CMS_Info!D482=\"\",\"\",IF(COUNTIF(CMS_Info!$D482:$D$500,CMS_Info!D482)=1,CMS_Info!D482,\"\"))","v":""},""]
[{"$f":"+IF(B461=\"\",\"\",MAX(A$1:A460)+1)","v":""},{"$f":"IF(+Regulated_Operation_Limits!C483=\"\",\"\",IF(COUNTIF(Regulated_Operation_Limits!$C$100:$C483,Regulated_Operation_Limits!C483)=1,Regulated_Operation_Limits!C483,\"\"))","v":""},"",{"$nulls":9},{"$f":"+IF(N461=\"\",\"\",MAX(M$1:M460)+1)","v":""},{"$f":"+IF(+CMS_Info!D483=\"\",\"\",IF(COUNTIF(CMS_Info!$D483:$D$500,CMS_Info!D483)=1,CMS_Info!D483,\"\"))","v":""},""]
[{"$f":"+IF(B462=\"\",\"\",MAX(A$1:A461)+1)","v":""},{"$f":"IF(+Regulated_Operation_Limits!C484=\"\",\"\",IF(COUNTIF(Regulated_Operation_Limits!$C$100:$C484,Regulated_Operation_Limits!C484)=1,Regulated_Operation_Limits!C484,\"\"))","v":""},"",{"$nulls":9},{"$f":"+IF(N462=\"\",\"\",MAX(M$1:M461)+1)","v":""},{"$f":"+IF(+CMS_Info!D484=\"\",\"\",IF(COUNTIF(CMS_Info!$D484:$D$500,CMS_Info!D484)=1,CMS_Info!D484,\"\"))","v":""},""]
[{"$f":"+IF(B463=\"\",\"\",MAX(A$1:A462)+1)","v":""},{"$f":"IF(+Regulated_Operation_Limits!C485=\"\",\"\",IF(COUNTIF(Regulated_Operation_Limits!$C$100:$C485,Regulated_Operation_Limits!C485)=1,Regulated_Operation_Limits!C485,\"\"))","v":""},"",{"$nulls":9},{"$f":"+IF(N463=\"\",\"\",MAX(M$1:M462)+1)","v":""},{"$f":"+IF(+CMS_Info!D485=\"\",\"\",IF(COUNTIF(CMS_Info!$D485:$D$500,CMS_Info!D485)=1,CMS_Info!D485,\"\"))","v":""},""]
[{"$f":"+IF(B464=\"\",\"\",MAX(A$1:A463)+1)","v":""},{"$f":"IF(+Regulated_Operation_Limits!C486=\"\",\"\",IF(COUNTIF(Regulated_Operation_Limits!$C$100:$C486,Regulated_Operation_Limits!C486)=1,Regulated_Operation_Limits!C486,\"\"))","v":""},"",{"$nulls":9},{"$f":"+IF(N464=\"\",\"\",MAX(M$1:M463)+1)","v":""},{"$f":"+IF(+CMS_Info!D486=\"\",\"\",IF(COUNTIF(CMS_Info!$D486:$D$500,CMS_Info!D486)=1,CMS_Info!D486,\"\"))","v":""},""]
[{"$f":"+IF(B465=\"\",\"\",MAX(A$1:A464)+1)","v":""},{"$f":"IF(+Regulated_Operation_Limits!C487=\"\",\"\",IF(COUNTIF(Regulated_Operation_Limits!$C$100:$C487,Regulated_Operation_Limits!C487)=1,Regulated_Operation_Limits!C487,\"\"))","v":""},"",{"$nulls":9},{"$f":"+IF(N465=\"\",\"\",MAX(M$1:M464)+1)","v":""},{"$f":"+IF(+CMS_Info!D487=\"\",\"\",IF(COUNTIF(CMS_Info!$D487:$D$500,CMS_Info!D487)=1,CMS_Info!D487,\"\"))","v":""},""]
[{"$f":"+IF(B466=\"\",\"\",MAX(A$1:A465)+1)","v":""},{"$f":"IF(+Regulated_Operation_Limits!C488=\"\",\"\",IF(COUNTIF(Regulated_Operation_Limits!$C$100:$C488,Regulated_Operation_Limits!C488)=1,Regulated_Operation_Limits!C488,\"\"))","v":""},"",{"$nulls":9},{"$f":"+IF(N466=\"\",\"\",MAX(M$1:M465)+1)","v":""},{"$f":"+IF(+CMS_Info!D488=\"\",\"\",IF(COUNTIF(CMS_Info!$D488:$D$500,CMS_Info!D488)=1,CMS_Info!D488,\"\"))","v":""},""]
[{"$f":"+IF(B467=\"\",\"\",MAX(A$1:A466)+1)","v":""},{"$f":"IF(+Regulated_Operation_Limits!C489=\"\",\"\",IF(COUNTIF(Regulated_Operation_Limits!$C$100:$C489,Regulated_Operation_Limits!C489)=1,Regulated_Operation_Limits!C489,\"\"))","v":""},"",{"$nulls":9},{"$f":"+IF(N467=\"\",\"\",MAX(M$1:M466)+1)","v":""},{"$f":"+IF(+CMS_Info!D489=\"\",\"\",IF(COUNTIF(CMS_Info!$D489:$D$500,CMS_Info!D489)=1,CMS_Info!D489,\"\"))","v":""},""]
[{"$f":"+IF(B468=\"\",\"\",MAX(A$1:A467)+1)","v":""},{"$f":"IF(+Regulated_Operation_Limits!C490=\"\",\"\",IF(COUNTIF(Regulated_Operation_Limits!$C$100:$C490,Regulated_Operation_Limits!C490)=1,Regulated_Operation_Limits!C490,\"\"))","v":""},"",{"$nulls":9},{"$f":"+IF(N468=\"\",\"\",MAX(M$1:M467)+1)","v":""},{"$f":"+IF(+CMS_Info!D490=\"\",\"\",IF(COUNTIF(CMS_Info!$D490:$D$500,CMS_Info!D490)=1,CMS_Info!D490,\"\"))","v":""},""]
[{"$f":"+IF(B469=\"\",\"\",MAX(A$1:A468)+1)","v":""},{"$f":"IF(+Regulated_Operation_Limits!C491=\"\",\"\",IF(COUNTIF(Regulated_Operation_Limits!$C$100:$C491,Regulated_Operation_Limits!C491)=1,Regulated_Operation_Limits!C491,\"\"))","v":""},"",{"$nulls":9},{"$f":"+IF(N469=\"\",\"\",MAX(M$1:M468)+1)","v":""},{"$f":"+IF(+CMS_Info!D491=\"\",\"\",IF(COUNTIF(CMS_Info!$D491:$D$500,CMS_Info!D491)=1,CMS_Info!D491,\"\"))","v":""},""]
[{"$f":"+IF(B470=\"\",\"\",MAX(A$1:A469)+1)","v":""},{"$f":"IF(+Regulated_Operation_Limits!C492=\"\",\"\",IF(COUNTIF(Regulated_Operation_Limits!$C$100:$C492,Regulated_Operation_Limits!C492)=1,Regulated_Operation_Limits!C492,\"\"))","v":""},"",{"$nulls":9},{"$f":"+IF(N470=\"\",\"\",MAX(M$1:M469)+1)","v":""},{"$f":"+IF(+CMS_Info!D492=\"\",\"\",IF(COUNTIF(CMS_Info!$D492:$D$500,CMS_Info!D492)=1,CMS_Info!D492,\"\"))","v":""},""]
[{"$f":"+IF(B471=\"\",\"\",MAX(A$1:A470)+1)","v":""},{"$f":"IF(+Regulated_Operation_Limits!C493=\"\",\"\",IF(COUNTIF(Regulated_Operation_Limits!$C$100:$C493,Regulated_Operation_Limits!C493)=1,Regulated_Operation_Limits!C493,\"\"))","v":""},"",{"$nulls":9},{"$f":"+IF(N471=\"\",\"\",MAX(M$1:M470)+1)","v":""},{"$f":"+IF(+CMS_Info!D493=\"\",\"\",IF(COUNTIF(CMS_Info!$D493:$D$500,CMS_Info!D493)=1,CMS_Info!D493,\"\"))","v":""},""]
[{"$f":"+IF(B472=\"\",\"\",MAX(A$1:A471)+1)","v":""},{"$f":"IF(+Regulated_Operation_Limits!C494=\"\",\"\",IF(COUNTIF(Regulated_Operation_Limits!$C$100:$C494,Regulated_Operation_Limits!C494)=1,Regulated_Operation_Limits!C494,\"\"))","v":""},"",{"$nulls":9},{"$f":"+IF(N472=\"\",\"\",MAX(M$1:M471)+1)","v":""},{"$f":"+IF(+CMS_Info!D494=\"\",\"\",IF(COUNTIF(CMS_Info!$D494:$D$500,CMS_Info!D494)=1,CMS_Info!D494,\"\"))","v":""},""]
[{"$f":"+IF(B473=\"\",\"\",MAX(A$1:A472)+1)","v":""},{"$f":"IF(+Regulated_Operation_Limits!C495=\"\",\"\",IF(COUNTIF(Regulated_Operation_Limits!$C$100:$C495,Regulated_Operation_Limits!C495)=1,Regulated_Operation_Limits!C495,\"\"))","v":""},"",{"$nulls":9},{"$f":"+IF(N473=\"\",\"\",MAX(M$1:M472)+1)","v":""},{"$f":"+IF(+CMS_Info!D495=\"\",\"\",IF(COUNTIF(CMS_Info!$D495:$D$500,CMS_Info!D495)=1,CMS_Info!D495,\"\"))","v":""},""]
[{"$f":"+IF(B474=\"\",\"\",MAX(A$1:A473)+1)","v":""},{"$f":"IF(+Regulated_Operation_Limits!C496=\"\",\"\",IF(COUNTIF(Regulated_Operation_Limits!$C$100:$C496,Regulated_Operation_Limits!C496)=1,Regulated_Operation_Limits!C496,\"\"))","v":""},"",{"$nulls":9},{"$f":"+IF(N474=\"\",\"\",MAX(M$1:M473)+1)","v":""},{"$f":"+IF(+CMS_Info!D496=\"\",\"\",IF(COUNTIF(CMS_Info!$D496:$D$500,CMS_Info!D496)=1,CMS_Info!D496,\"\"))","v":""},""]
[{"$f":"+IF(B475=\"\",\"\",MAX(A$1:A474)+1)","v":""},{"$f":"IF(+Regulated_Operation_Limits!C497=\"\",\"\",IF(COUNTIF(Regulated_Operation_Limits!$C$100:$C497,Regulated_Operation_Limits!C497)=1,Regulated_Operation_Limits!C497,\"\"))","v":""},"",{"$nulls":9},{"$f":"+IF(N475=\"\",\"\",MAX(M$1:M474)+1)","v":""},{"$f":"+IF(+CMS_Info!D497=\"\",\"\",IF(COUNTIF(CMS_Info!$D497:$D$500,CMS_Info!D497)=1,CMS_Info!D497,\"\"))","v":""},""]
[{"$f":"+IF(B476=\"\",\"\",MAX(A$1:A475)+1)","v":""},{"$f":"IF(+Regulated_Operation_Limits!C498=\"\",\"\",IF(COUNTIF(Regulated_Operation_Limits!$C$100:$C498,Regulated_Operation_Limits!C498)=1,Regulated_Operation_Limits!C498,\"\"))","v":""},"",{"$nulls":9},{"$f":"+IF(N476=\"\",\"\",MAX(M$1:M475)+1)","v":""},{"$f":"+IF(+CMS_Info!D498=\"\",\"\",IF(COUNTIF(CMS_Info!$D498:$D$500,CMS_Info!D498)=1,CMS_Info!D498,\"\"))","v":""},""]
[{"$f":"+IF(B477=\"\",\"\",MAX(A$1:A476)+1)","v":""},{"$f":"IF(+Regulated_Operation_Limits!C499=\"\",\"\",IF(COUNTIF(Regulated_Operation_Limits!$C$100:$C499,Regulated_Operation_Limits!C499)=1,Regulated_Operation_Limits!C499,\"\"))","v":""},"",{"$nulls":9},{"$f":"+IF(N477=\"\",\"\",MAX(M$1:M476)+1)","v":""},{"$f":"+IF(+CMS_Info!D499=\"\",\"\",IF(COUNTIF(CMS_Info!$D499:$D$500,CMS_Info!D499)=1,CMS_Info!D499,\"\"))","v":""},""]
[{"$f":"+IF(B478=\"\",\"\",MAX(A$1:A477)+1)","v":""},{"$f":"IF(+Regulated_Operation_Limits!C500=\"\",\"\",IF(COUNTIF(Regulated_Operation_Limits!$C$100:$C500,Regulated_Operation_Limits!C500)=1,Regulated_Operation_Limits!C500,\"\"))","v":""},""]
[{"$f":"+IF(B479=\"\",\"\",MAX(A$1:A478)+1)","v":""},{"$f":"IF(+Regulated_Operation_Limits!C501=\"\",\"\",IF(COUNTIF(Regulated_Operation_Limits!$C$100:$C501,Regulated_Operation_Limits!C501)=1,Regulated_Operation_Limits!C501,\"\"))","v":""},""]
[{"$f":"+IF(B480=\"\",\"\",MAX(A$1:A479)+1)","v":""},{"$f":"IF(+Regulated_Operation_Limits!C502=\"\",\"\",IF(COUNTIF(Regulated_Operation_Limits!$C$100:$C502,Regulated_Operation_Limits!C502)=1,Regulated_Operation_Limits!C502,\"\"))","v":""},""]
[{"$f":"+IF(B481=\"\",\"\",MAX(A$1:A480)+1)","v":""},{"$f":"IF(+Regulated_Operation_Limits!C503=\"\",\"\",IF(COUNTIF(Regulated_Operation_Limits!$C$100:$C503,Regulated_Operation_Limits!C503)=1,Regulated_Operation_Limits!C503,\"\"))","v":""},""]
[{"$f":"+IF(B482=\"\",\"\",MAX(A$1:A481)+1)","v":""},{"$f":"IF(+Regulated_Operation_Limits!C504=\"\",\"\",IF(COUNTIF(Regulated_Operation_Limits!$C$100:$C504,Regulated_Operation_Limits!C504)=1,Regulated_Operation_Limits!C504,\"\"))","v":""},""]
[{"$f":"+IF(B483=\"\",\"\",MAX(A$1:A482)+1)","v":""},{"$f":"IF(+Regulated_Operation_Limits!C505=\"\",\"\",IF(COUNTIF(Regulated_Operation_Limits!$C$100:$C505,Regulated_Operation_Limits!C505)=1,Regulated_Operation_Limits!C505,\"\"))","v":""},""]
[{"$f":"+IF(B484=\"\",\"\",MAX(A$1:A483)+1)","v":""},{"$f":"IF(+Regulated_Operation_Limits!C506=\"\",\"\",IF(COUNTIF(Regulated_Operation_Limits!$C$100:$C506,Regulated_Operation_Limits!C506)=1,Regulated_Operation_Limits!C506,\"\"))","v":""},""]
[{"$f":"+IF(B485=\"\",\"\",MAX(A$1:A484)+1)","v":""},{"$f":"IF(+Regulated_Operation_Limits!C507=\"\",\"\",IF(COUNTIF(Regulated_Operation_Limits!$C$100:$C507,Regulated_Operation_Limits!C507)=1,Regulated_Operation_Limits!C507,\"\"))","v":""},""]
[{"$f":"+IF(B486=\"\",\"\",MAX(A$1:A485)+1)","v":""},{"$f":"IF(+Regulated_Operation_Limits!C508=\"\",\"\",IF(COUNTIF(Regulated_Operation_Limits!$C$100:$C508,Regulated_Operation_Limits!C508)=1,Regulated_Operation_Limits!C508,\"\"))","v":""},""]
[{"$f":"+IF(B487=\"\",\"\",MAX(A$1:A486)+1)","v":""},{"$f":"IF(+Regulated_Operation_Limits!C509=\"\",\"\",IF(COUNTIF(Regulated_Operation_Limits!$C$100:$C509,Regulated_Operation_Limits!C509)=1,Regulated_Operation_Limits!C509,\"\"))","v":""},""]
[{"$f":"+IF(B488=\"\",\"\",MAX(A$1:A487)+1)","v":""},{"$f":"IF(+Regulated_Operation_Limits!C510=\"\",\"\",IF(COUNTIF(Regulated_Operation_Limits!$C$100:$C510,Regulated_Operation_Limits!C510)=1,Regulated_Operation_Limits!C510,\"\"))","v":""},""]
[{"$f":"+IF(B489=\"\",\"\",MAX(A$1:A488)+1)","v":""},{"$f":"IF(+Regulated_Operation_Limits!C511=\"\",\"\",IF(COUNTIF(Regulated_Operation_Limits!$C$100:$C511,Regulated_Operation_Limits!C511)=1,Regulated_Operation_Limits!C511,\"\"))","v":""},""]
[{"$f":"+IF(B490=\"\",\"\",MAX(A$1:A489)+1)","v":""},{"$f":"IF(+Regulated_Operation_Limits!C512=\"\",\"\",IF(COUNTIF(Regulated_Operation_Limits!$C$100:$C512,Regulated_Operation_Limits!C512)=1,Regulated_Operation_Limits!C512,\"\"))","v":""},""]
[{"$f":"+IF(B491=\"\",\"\",MAX(A$1:A490)+1)","v":""},{"$f":"IF(+Regulated_Operation_Limits!C513=\"\",\"\",IF(COUNTIF(Regulated_Operation_Limits!$C$100:$C513,Regulated_Operation_Limits!C513)=1,Regulated_Operation_Limits!C513,\"\"))","v":""},""]
[{"$f":"+IF(B492=\"\",\"\",MAX(A$1:A491)+1)","v":""},{"$f":"IF(+Regulated_Operation_Limits!C514=\"\",\"\",IF(COUNTIF(Regulated_Operation_Limits!$C$100:$C514,Regulated_Operation_Limits!C514)=1,Regulated_Operation_Limits!C514,\"\"))","v":""},""]
[{"$f":"+IF(B493=\"\",\"\",MAX(A$1:A492)+1)","v":""},{"$f":"IF(+Regulated_Operation_Limits!C515=\"\",\"\",IF(COUNTIF(Regulated_Operation_Limits!$C$100:$C515,Regulated_Operation_Limits!C515)=1,Regulated_Operation_Limits!C515,\"\"))","v":""},""]
[{"$f":"+IF(B494=\"\",\"\",MAX(A$1:A493)+1)","v":""},{"$f":"IF(+Regulated_Operation_Limits!C516=\"\",\"\",IF(COUNTIF(Regulated_Operation_Limits!$C$100:$C516,Regulated_Operation_Limits!C516)=1,Regulated_Operation_Limits!C516,\"\"))","v":""},""]
[{"$f":"+IF(B495=\"\",\"\",MAX(A$1:A494)+1)","v":""},{"$f":"IF(+Regulated_Operation_Limits!C517=\"\",\"\",IF(COUNTIF(Regulated_Operation_Limits!$C$100:$C517,Regulated_Operation_Limits!C517)=1,Regulated_Operation_Limits!C517,\"\"))","v":""},""]
[{"$f":"+IF(B496=\"\",\"\",MAX(A$1:A495)+1)","v":""},{"$f":"IF(+Regulated_Operation_Limits!C518=\"\",\"\",IF(COUNTIF(Regulated_Operation_Limits!$C$100:$C518,Regulated_Operation_Limits!C518)=1,Regulated_Operation_Limits!C518,\"\"))","v":""},""]
[{"$f":"+IF(B497=\"\",\"\",MAX(A$1:A496)+1)","v":""},{"$f":"IF(+Regulated_Operation_Limits!C519=\"\",\"\",IF(COUNTIF(Regulated_Operation_Limits!$C$100:$C519,Regulated_Operation_Limits!C519)=1,Regulated_Operation_Limits!C519,\"\"))","v":""},""]
[{"$f":"+IF(B498=\"\",\"\",MAX(A$1:A497)+1)","v":""},{"$f":"IF(+Regulated_Operation_Limits!C520=\"\",\"\",IF(COUNTIF(Regulated_Operation_Limits!$C$100:$C520,Regulated_Operation_Limits!C520)=1,Regulated_Operation_Limits!C520,\"\"))","v":""},""]
[{"$f":"+IF(B499=\"\",\"\",MAX(A$1:A498)+1)","v":""},{"$f":"IF(+Regulated_Operation_Limits!C521=\"\",\"\",IF(COUNTIF(Regulated_Operation_Limits!$C$100:$C521,Regulated_Operation_Limits!C521)=1,Regulated_Operation_Limits!C521,\"\"))","v":""},""]
[{"$f":"+IF(B500=\"\",\"\",MAX(A$1:A499)+1)","v":""},{"$f":"IF(+Regulated_Operation_Limits!C522=\"\",\"\",IF(COUNTIF(Regulated_Operation_Limits!$C$100:$C522,Regulated_Operation_Limits!C522)=1,Regulated_Operation_Limits!C522,\"\"))","v":""},""]

{"sheet":"Regulated_Operation_Limits","index":3,"n_rows":23,"n_cols":10,"rows_kept":23}
[null,"DO NOT REMOVE OR EDIT INFORMATION IN ROWS 1 THROUGH 5\nFOR INTERNAL USE ONLY"]
[null,"Template Name",{"$f":"+Welcome!B2","v":"63.5765(d) Semiannual Compliance Report (Spreadsheet Template)"}]
[null,"CitationID",{"$f":"+Welcome!B3","v":"63.5765(d)"}]
[null,"Template Version",{"$f":"+Welcome!B4","v":"ICR Draft"}]
[null,"Last Updated Date",{"$f":"+Welcome!B5","v":{"v":45601,"d":"4560100.00%"}}]
[]
[null,"40 CFR Part 63, Subpart VVVV National Emission Standards for Hazardous Air Pollutants: Boat Manufacturing - §63.5765(d)  Semiannual Compliance Report Spreadsheet Template"]
[null,"\n"]
[]
[]
[]
[null,"Company Record No.\n(Select from dropdown)","Regulated Operation\n(§63.5764(c)(5) and §63.10(e)(3)(vi)(D))","Applicable Organic HAP Content Limit, Application Equipment Requirement, or MACT Model Point Value Averaging Provision\n(§63.5764(c)(5) and §63.10(e)(3)(vi)(E))","Actual Weighted 12-Month Average Organic HAP Content or MACT Model Point Value (§63.5764(c)(5))\n(Month 1)","Actual Weighted 12-Month Average Organic HAP Content or MACT Model Point Value (§63.5764(c)(5))\n(Month 2)","Actual Weighted 12-Month Average Organic HAP Content or MACT Model Point Value (§63.5764(c)(5))\n(Month 3)","Actual Weighted 12-Month Average Organic HAP Content or MACT Model Point Value (§63.5764(c)(5))\n(Month 4)","Actual Weighted 12-Month Average Organic HAP Content or MACT Model Point Value (§63.5764(c)(5))\n(Month 5)","Actual Weighted 12-Month Average Organic HAP Content or MACT Model Point Value (§63.5764(c)(5))\n(Month 6)"]
[null,"RecordId","RegulatedOperation","ApplicableProvision","Month1WeightedAvg","Month2WeightedAvg","Month3WeightedAvg","Month4WeightedAvg","Month5WeightedAvg","Month6WeightedAvg"]
[null,"e.g.: 1","e.g. Production Resin","e.g.: Atomized Spray 28% HAP Limit","e.g.: 15.1%","e.g.: 15.1%","e.g.: 15.1%","e.g.: 15.1%","e.g.: 15.1%","e.g.: 15.1%"]
[null,"e.g.: 1","e.g. Open Molding","e.g.: Thermal Oxidizer Combustion Temperature","e.g.: N/A","e.g.: N/A","e.g.: N/A","e.g.: N/A","e.g.: N/A","e.g.: N/A"]
[null,"e.g.:","e.g.:","e.g.:","e.g.:","e.g.:","e.g.:","e.g.:","e.g.:","e.g.:"]
[null,"e.g.:","e.g.:","e.g.:","e.g.:","e.g.:","e.g.:","e.g.:","e.g.:","e.g.:"]
[null,"e.g.:","e.g.:","e.g.:","e.g.:","e.g.:","e.g.:","e.g.:","e.g.:","e.g.:"]
[null,"e.g.:","e.g.:","e.g.:","e.g.:","e.g.:","e.g.:","e.g.:","e.g.:","e.g.:"]
[null,"e.g.:","e.g.:","e.g.:","e.g.:","e.g.:","e.g.:","e.g.:","e.g.:","e.g.:"]
[null,"e.g.:","e.g.:","e.g.:","e.g.:","e.g.:","e.g.:","e.g.:","e.g.:","e.g.:"]
[null,"e.g.:","e.g.:","e.g.:","e.g.:","e.g.:","e.g.:","e.g.:","e.g.:","e.g.:"]
[null,"e.g.:","e.g.:","e.g.:","e.g.:","e.g.:","e.g.:","e.g.:","e.g.:","e.g.:"]

{"sheet":"Deviation_Limits","index":4,"n_rows":23,"n_cols":8,"rows_kept":23}
[null,"DO NOT REMOVE OR EDIT INFORMATION IN ROWS 1 THROUGH 5\nFOR INTERNAL USE ONLY"]
[null,"Template Name",null,{"$f":"+Welcome!B2","v":"63.5765(d) Semiannual Compliance Report (Spreadsheet Template)"}]
[null,"CitationID",null,{"$f":"+Welcome!B3","v":"63.5765(d)"}]
[null,"Template Version",null,{"$f":"+Welcome!B4","v":"ICR Draft"}]
[null,"Last Updated Date",null,{"$f":"+Welcome!B5","v":{"v":45601,"d":"4560100.00%"}}]
[]
[null,"40 CFR Part 63, Subpart VVVV National Emission Standards for Hazardous Air Pollutants: Boat Manufacturing - §63.5765(d)  Semiannual Compliance Report Spreadsheet Template"]
[null,"\n"]
[]
[]
[]
[null,"Company Record No. \n(Select from dropdown)","Regulated Operation\n(§63.5764(c)(7)(i))\n(Select from dropdown)","Application Method\n(§63.5764(c)(7)(ii))\n(Select from dropdown)","Quantity \n(§63.5764(c)(7)(ii))","Units for Quantity\n(§63.5764(c)(7)(ii))\n(Select from dropdown)","Organic HAP Content\n(Weight Percent)\n(§63.5764(c)(7)(ii))","Corrective Action Taken \n(§63.5764(c)(7)(iii))"]
[null,"RecordId","RegulatedOperation","ApplicationMethod","Quantity","QuantityUnits","OrganicHAPContent","CorrectiveAction"]
[null,"e.g.: 1","e.g.: Tooling Gel Coat","e.g.:  Any Method","e.g.: 50","e.g.: kg","e.g.: 33.4%","e.g.: Returned and acquired new formulation"]
[null,"e.g.:","e.g.:","e.g.:","e.g.:","e.g.:","e.g.:","e.g.:"]
[null,"e.g.:","e.g.:","e.g.:","e.g.:","e.g.:","e.g.:","e.g.:"]
[null,"e.g.:","e.g.:","e.g.:","e.g.:","e.g.:","e.g.:","e.g.:"]
[null,"e.g.:","e.g.:","e.g.:","e.g.:","e.g.:","e.g.:","e.g.:"]
[null,"e.g.:","e.g.:","e.g.:","e.g.:","e.g.:","e.g.:","e.g.:"]
[null,"e.g.:","e.g.:","e.g.:","e.g.:","e.g.:","e.g.:","e.g.:"]
[null,"e.g.:","e.g.:","e.g.:","e.g.:","e.g.:","e.g.:","e.g.:"]
[null,"e.g.:","e.g.:","e.g.:","e.g.:","e.g.:","e.g.:","e.g.:"]
[null,"e.g.:","e.g.:","e.g.:","e.g.:","e.g.:","e.g.:","e.g.:"]

{"sheet":"Description_of_Changes","index":5,"n_rows":25,"n_cols":4,"rows_kept":25}
[null,"DO NOT REMOVE OR EDIT INFORMATION IN ROWS 1 THROUGH 5\nFOR INTERNAL USE ONLY"]
[null,"Template Name",{"$f":"+Welcome!B2","v":"63.5765(d) Semiannual Compliance Report (Spreadsheet Template)"}]
[null,"CitationID",{"$f":"+Welcome!B3","v":"63.5765(d)"}]
[null,"Template Version",{"$f":"+Welcome!B4","v":"ICR Draft"}]
[null,"Last Updated Date",{"$f":"+Welcome!B5","v":{"v":45601,"d":"4560100.00%"}}]
[null,"Intentionally Blank","Intentionally Blank"]
[null,"40 CFR Part 63, Subpart VVVV National Emission Standards for Hazardous Air Pollutants: Boat Manufacturing - §63.5765(d)  Semiannual Compliance Report Spreadsheet Template"]
[]
[null,"CPMS, CEMS, COMS, Processes, or Control Changes"]
[null,"A description of any changes in the CPMS, CEMS, COMS, processes or controls since the last semiannual reporting period."]
[]
[null,"Company Record No. \n(Select from dropdown)","Description of any CPMS, CEMS, COMS, processes, or controls which have occurred since the last reporting period \n(§63.5764(c)(4) & §63.10(e)(3)(vi)(K))","Intentionally Blank"]
[null,"RecordId","CPMSChangesDesc"]
[null,"e.g.: ","e.g.: "]
[null,"e.g.: ","e.g.: "]
[null,"e.g.: ","e.g.: "]
[null,"e.g.: ","e.g.: "]
[null,"e.g.: ","e.g.: "]
[null,"e.g.: ","e.g.: "]
[null,"e.g.: ","e.g.: "]
[null,"e.g.: ","e.g.: "]
[null,"e.g.: ","e.g.: "]
[null,"e.g.: ","e.g.: "]
[]
[null," "]

{"sheet":"Certification","index":6,"n_rows":33,"n_cols":4,"rows_kept":33}
[null,"DO NOT REMOVE OR EDIT INFORMATION IN ROWS 1 THROUGH 5\nFOR INTERNAL USE ONLY"]
[null,"Template Name",{"$f":"+Welcome!B2","v":"63.5765(d) Semiannual Compliance Report (Spreadsheet Template)"}]
[null,"CitationID",{"$f":"+Welcome!B3","v":"63.5765(d)"}]
[null,"Template Version",{"$f":"+Welcome!B4","v":"ICR Draft"}]
[null,"Last Updated Date",{"$f":"+Welcome!B5","v":{"v":45601,"d":"4560100.00%"}}]
[]
[null,"40 CFR Part 63, Subpart VVVV National Emission Standards for Hazardous Air Pollutants: Boat Manufacturing - "]
[null,"§63.5765(d)  Semiannual Compliance Report Spreadsheet Template"]
[null,"Complete this form when you have completed the semiannual compliance report."]
[]
[]
[null,"Company Record No. \n(Autocompleted)","This facility was in compliance with all emission limits and work practice standards during the compliance period. \n (§63.5764(c)(6))\n(Select from dropdown)","This facility was in compliance for the 12-month averaging period that ended at the end of the reporting period. \n(§63.5764(c)(7)(iv))\n(Select from dropdown)"]
[null,"RecordId","WorkStandardComplianceFlag","AveragingPeriodComplianceFlag"]
[null,"e.g.:","e.g.:","e.g.:"]
[null,"e.g.:","e.g.:","e.g.:"]
[null,"e.g.:","e.g.:","e.g.:"]
[null,"e.g.:","e.g.:","e.g.:"]
[null,"e.g.:","e.g.:","e.g.:"]
[null,"e.g.:","e.g.:","e.g.:"]
[null,"e.g.:","e.g.:","e.g.:"]
[null,"e.g.:","e.g.:","e.g.:"]
[null,"e.g.:","e.g.:","e.g.:"]
[null,"e.g.:","e.g.:","e.g.:"]
[null,{"$f":"IF(Lists!I2=\"\",\"\",Lists!I2)","v":""}]
[null,{"$f":"IF(Lists!I3=\"\",\"\",Lists!I3)","v":""}]
[null,{"$f":"IF(Lists!I4=\"\",\"\",Lists!I4)","v":""}]
[null,{"$f":"IF(Lists!I5=\"\",\"\",Lists!I5)","v":""}]
[null,{"$f":"IF(Lists!I6=\"\",\"\",Lists!I6)","v":""}]
[null,{"$f":"IF(Lists!I7=\"\",\"\",Lists!I7)","v":""}]
[null,{"$f":"IF(Lists!I8=\"\",\"\",Lists!I8)","v":""}]
[null,{"$f":"IF(Lists!I9=\"\",\"\",Lists!I9)","v":""}]
[null,{"$f":"IF(Lists!I10=\"\",\"\",Lists!I10)","v":""}]
[null,{"$f":"IF(Lists!I11=\"\",\"\",Lists!I11)","v":""}]

{"sheet":"HAP_ID","index":7,"n_rows":23,"n_cols":4,"rows_kept":23}
[null,"DO NOT REMOVE OR EDIT INFORMATION IN ROWS 1 THROUGH 5\nFOR INTERNAL USE ONLY"]
[null,"Template Name",null,{"$f":"+Welcome!B2","v":"63.5765(d) Semiannual Compliance Report (Spreadsheet Template)"}]
[null,"CitationID",null,{"$f":"+Welcome!B3","v":"63.5765(d)"}]
[null,"Template Version",null,{"$f":"+Welcome!B4","v":"ICR Draft"}]
[null,"Last Updated Date",null,{"$f":"+Welcome!B5","v":{"v":45601,"d":"4560100.00%"}}]
[]
[null,"40 CFR Part 63, Subpart VVVV National Emission Standards for Hazardous Air Pollutants: Boat Manufacturing - "]
[null,"§63.5765(d)  Semiannual Compliance Report Spreadsheet Template"]
[]
[]
[]
[null,"Company Record No. \n(Select from dropdown)","Regulated Operation\n(§63.10(e)(3)(vi)(D))\n(Select from dropdown)","Identification of Hazardous Air Pollutant Monitored\n(§63.10(e)(3)(vi)(B))"]
[null,"RecordId","RegulatedOperation","HAPMonitored"]
[null,"e.g.: 1","e.g.: Production Resin","e.g.: Toluene"]
[null,"e.g.:","e.g.:","e.g.:"]
[null,"e.g.:","e.g.:","e.g.:"]
[null,"e.g.:","e.g.:","e.g.:"]
[null,"e.g.:","e.g.:","e.g.:"]
[null,"e.g.:","e.g.:","e.g.:"]
[null,"e.g.:","e.g.:","e.g.:"]
[null,"e.g.:","e.g.:","e.g.:"]
[null,"e.g.:","e.g.:","e.g.:"]
[null,"e.g.:","e.g.:","e.g.:"]

{"sheet":"CMS_Info","index":8,"n_rows":23,"n_cols":5,"rows_kept":23}
[null,"DO NOT REMOVE OR EDIT INFORMATION IN ROWS 1 THROUGH 5\nFOR INTERNAL USE ONLY"]
[null,"Template Name"]
[null,"CitationID"]
[null,"Template Version"]
[null,"Last Updated Date"]
[]
[null,"40 CFR Part 63, Subpart VVVV National Emission Standards for Hazardous Air Pollutants: Boat Manufacturing - "]
[null,"§63.5765(d) Semiannual Compliance Report Spreadsheet Template"]
[]
[]
[]
[null,"Company Record No. \n(Select from dropdown)","Regulated Operation\n(§63.10(e)(3)(vi)(D))\n(Select from dropdown)","Monitoring Equipment Manufacturer and Model Number\n(§63.10(e)(3)(vi)(F))","Date of Latest CMS Certification or Audit\n(§63.10(e)(3)(vi)(G))"]
[null,"RecordId","RegulatedOperation","MonitorIdentification","CMSAuditDate"]
[null,"e.g.: 1","e.g.: Open Molding","e.g. Omega NB1-ICSS-14U-12","e.g. 5/7/2017"]
[null,"e.g.:","e.g.:","e.g.:","e.g.:"]
[null,"e.g.:","e.g.:","e.g.:","e.g.:"]
[null,"e.g.:","e.g.:","e.g.:","e.g.:"]
[null,"e.g.:","e.g.:","e.g.:","e.g.:"]
[null,"e.g.:","e.g.:","e.g.:","e.g.:"]
[null,"e.g.:","e.g.:","e.g.:","e.g.:"]
[null,"e.g.:","e.g.:","e.g.:","e.g.:"]
[null,"e.g.:","e.g.:","e.g.:","e.g.:"]
[null,"e.g.:","e.g.:","e.g.:","e.g.:"]

{"sheet":"Summary_Report_Limit","index":9,"n_rows":707,"n_cols":11,"rows_kept":707}
[null,"DO NOT REMOVE OR EDIT INFORMATION IN ROWS 1 THROUGH 5\nFOR INTERNAL USE ONLY"]
[null,"Template Name",null,null,{"$f":"+Welcome!B2","v":"63.5765(d) Semiannual Compliance Report (Spreadsheet Template)"}]
[null,"CitationID",null,null,{"$f":"+Welcome!B3","v":"63.5765(d)"}]
[null,"Template Version",null,null,{"$f":"+Welcome!B4","v":"ICR Draft"}]
[null,"Last Updated Date",null,null,{"$f":"+Welcome!B5","v":{"v":45601,"d":"4560100.00%"}}]
[]
[null,"40 CFR Part 63, Subpart VVVV National Emission Standards for Hazardous Air Pollutants: Boat Manufacturing - §63.5765(d)  Semiannual Compliance Report Spreadsheet Template"]
[null,"\n"]
[]
[]
[]
[null,"Company Record No.\n(Select from Dropdown)","Regulated Operation\n(§63.10(e)(3)(vi)(D))\n(Select from Dropdown)","Emission and Operating Parameter Limitations\n(§63.10(e)(3)(vi)(E))\n(Select from dropdown)","Total Source\nOperating Time\n(hours)\n(§63.10(e)(3)(vi)(H) and §63.10(c)(13)))","Total Duration of \nDeviations from \nEmission or Operating Limit\n(hours) \n(§63.10(e)(3)(vi)(I))\n(Hand entered or direct import from Limit Detail Report)","Total Duration of \nDeviations from\nEmission or Operating Limit as a \nper cent of \nTotal Source Operating Time\n(§63.10(e)(3)(vi)(I))\n(Calculated result)","Total Duration of \nDeviations from \nEmission or Operating Limit Due to \nControl Equipment Problems\n(hours)  \n(§63.10(e)(3)(vi)(I))\n(Hand entered or direct import from Limit Detail Report)","Total Duration of \nDeviations from\nEmission or Operating Limit Due to \nProcess Problems\n(hours)  \n(§63.10(e)(3)(vi)(I))\n(Hand entered or direct import from Limit Detail Report)","Total Duration of\nDeviations from \nEmission or Operating Limit Due to \nOther Known Causes\n(hours)  \n(§63.10(e)(3)(vi)(I))\n(Hand entered or direct import from Limit Detail Report)","Total Duration of Deviations from Emission or Operating Limit Due to Other Unknown Causes (hours)  \n(§63.10(e)(3)(vi)(I))\n(Hand entered or direct import from Limit Detail Report)"]
[null,"RecordId","RegulatedOperation","ParameterLimitations","OperatingTime","DeviationDuration","DeviationDurationPercent","DeviationDurationEquipment","DeviationDurationProcess","DeviationDurationOtherKnown","DeviationDurationOtherUnknown"]
[null,"e.g.: 1","e.g.: Open Molding","e.g.: Average Combustion Temperature","e.g.: 6240","e.g.: 36.20","e.g.: 0.58%","e.g.: 36.20","e.g.: 0.00","e.g.: 0.00","e.g.: 0.00"]
[null,"e.g.:","e.g.:","e.g.:","e.g.:","e.g.:","e.g.:","e.g.:","e.g.:","e.g.:","e.g.:"]
[null,"e.g.:","e.g.:","e.g.:","e.g.:","e.g.:","e.g.:","e.g.:","e.g.:","e.g.:","e.g.:"]
[null,"e.g.:","e.g.:","e.g.:","e.g.:","e.g.:","e.g.:","e.g.:","e.g.:","e.g.:","e.g.:"]
[null,"e.g.:","e.g.:","e.g.:","e.g.:","e.g.:","e.g.:","e.g.:","e.g.:","e.g.:","e.g.:"]
[null,"e.g.:","e.g.:","e.g.:","e.g.:","e.g.:","e.g.:","e.g.:","e.g.:","e.g.:","e.g.:"]
[null,"e.g.:","e.g.:","e.g.:","e.g.:","e.g.:","e.g.:","e.g.:","e.g.:","e.g.:","e.g.:"]
[null,"e.g.:","e.g.:","e.g.:","e.g.:","e.g.:","e.g.:","e.g.:","e.g.:","e.g.:","e.g.:"]
[null,"e.g.:","e.g.:","e.g.:","e.g.:","e.g.:","e.g.:","e.g.:","e.g.:","e.g.:","e.g.:"]
[null,"e.g.:","e.g.:","e.g.:","e.g.:","e.g.:","e.g.:","e.g.:","e.g.:","e.g.:","e.g.:"]
[{"$nulls":6},{"$f":"IF($E24=\"\",\"\",IF(F24=0,\"N/A\",F24/$E24))","v":""},{"$f":"IF(E24=\"\",\"\",SUMIFS(Limits_Detail!$K$24:$K$500,Limits_Detail!$B$24:$B$500,B24,Limits_Detail!$C$24:$C$500,C24,Limits_Detail!$D$24:$D$500,D24,Limits_Detail!$I$24:$I$500,\"Control Equipment Problems\"))","v":""},{"$f":"IF(E24=\"\",\"\",SUMIFS(Limits_Detail!$K$24:$K$500,Limits_Detail!$B$24:$B$500,B24,Limits_Detail!$C$24:$C$500,C24,Limits_Detail!$D$24:$D$500,D24,Limits_Detail!$I$24:$I$500,\"Process Problems\"))","v":""},{"$f":"IF(E24=\"\",\"\",SUMIFS(Limits_Detail!$K$24:$K$500,Limits_Detail!$B$24:$B$500,B24,Limits_Detail!$C$24:$C$500,C24,Limits_Detail!$D$24:$D$500,D24,Limits_Detail!$I$24:$I$500,\"Other Known Causes\"))","v":""},{"$f":"IF(E24=\"\",\"\",SUMIFS(Limits_Detail!$K$24:$K$500,Limits_Detail!$B$24:$B$500,B24,Limits_Detail!$C$24:$C$500,C24,Limits_Detail!$D$24:$D$500,D24,Limits_Detail!$I$24:$I$500,\"Other Unknown Causes\"))","v":""}]
[{"$nulls":6},{"$f":"IF($E25=\"\",\"\",IF(F25=0,\"N/A\",F25/$E25))","v":""},{"$f":"IF(E25=\"\",\"\",SUMIFS(Limits_Detail!$K$24:$K$500,Limits_Detail!$B$24:$B$500,B25,Limits_Detail!$C$24:$C$500,C25,Limits_Detail!$D$24:$D$500,D25,Limits_Detail!$I$24:$I$500,\"Control Equipment Problems\"))","v":""},{"$f":"IF(E25=\"\",\"\",SUMIFS(Limits_Detail!$K$24:$K$500,Limits_Detail!$B$24:$B$500,B25,Limits_Detail!$C$24:$C$500,C25,Limits_Detail!$D$24:$D$500,D25,Limits_Detail!$I$24:$I$500,\"Process Problems\"))","v":""},{"$f":"IF(E25=\"\",\"\",SUMIFS(Limits_Detail!$K$24:$K$500,Limits_Detail!$B$24:$B$500,B25,Limits_Detail!$C$24:$C$500,C25,Limits_Detail!$D$24:$D$500,D25,Limits_Detail!$I$24:$I$500,\"Other Known Causes\"))","v":""},{"$f":"IF(E25=\"\",\"\",SUMIFS(Limits_Detail!$K$24:$K$500,Limits_Detail!$B$24:$B$500,B25,Limits_Detail!$C$24:$C$500,C25,Limits_Detail!$D$24:$D$500,D25,Limits_Detail!$I$24:$I$500,\"Other Unknown Causes\"))","v":""}]
[{"$nulls":5},{"$f":"IF(E26=\"\",\"\",SUMIFS(Limits_Detail!$K$24:$K$500,Limits_Detail!$B$24:$B$500,B26,Limits_Detail!$C$24:$C$500,C26,Limits_Detail!$D$24:$D$500,D26))","v":""},"",{"$f":"IF(E26=\"\",\"\",SUMIFS(Limits_Detail!$K$24:$K$500,Limits_Detail!$B$24:$B$500,B26,Limits_Detail!$C$24:$C$500,C26,Limits_Detail!$D$24:$D$500,D26,Limits_Detail!$I$24:$I$500,\"Control Equipment Problems\"))","v":""},{"$f":"IF(E26=\"\",\"\",SUMIFS(Limits_Detail!$K$24:$K$500,Limits_Detail!$B$24:$B$500,B26,Limits_Detail!$C$24:$C$500,C26,Limits_Detail!$D$24:$D$500,D26,Limits_Detail!$I$24:$I$500,\"Process Problems\"))","v":""},{"$f":"IF(E26=\"\",\"\",SUMIFS(Limits_Detail!$K$24:$K$500,Limits_Detail!$B$24:$B$500,B26,Limits_Detail!$C$24:$C$500,C26,Limits_Detail!$D$24:$D$500,D26,Limits_Detail!$I$24:$I$500,\"Other Known Causes\"))","v":""},{"$f":"IF(E26=\"\",\"\",SUMIFS(Limits_Detail!$K$24:$K$500,Limits_Detail!$B$24:$B$500,B26,Limits_Detail!$C$24:$C$500,C26,Limits_Detail!$D$24:$D$500,D26,Limits_Detail!$I$24:$I$500,\"Other Unknown Causes\"))","v":""}]
[{"$nulls":5},{"$f":"IF(E27=\"\",\"\",SUMIFS(Limits_Detail!$K$24:$K$500,Limits_Detail!$B$24:$B$500,B27,Limits_Detail!$C$24:$C$500,C27,Limits_Detail!$D$24:$D$500,D27))","v":""},"",{"$f":"IF(E27=\"\",\"\",SUMIFS(Limits_Detail!$K$24:$K$500,Limits_Detail!$B$24:$B$500,B27,Limits_Detail!$C$24:$C$500,C27,Limits_Detail!$D$24:$D$500,D27,Limits_Detail!$I$24:$I$500,\"Control Equipment Problems\"))","v":""},{"$f":"IF(E27=\"\",\"\",SUMIFS(Limits_Detail!$K$24:$K$500,Limits_Detail!$B$24:$B$500,B27,Limits_Detail!$C$24:$C$500,C27,Limits_Detail!$D$24:$D$500,D27,Limits_Detail!$I$24:$I$500,\"Process Problems\"))","v":""},{"$f":"IF(E27=\"\",\"\",SUMIFS(Limits_Detail!$K$24:$K$500,Limits_Detail!$B$24:$B$500,B27,Limits_Detail!$C$24:$C$500,C27,Limits_Detail!$D$24:$D$500,D27,Limits_Detail!$I$24:$I$500,\"Other Known Causes\"))","v":""},{"$f":"IF(E27=\"\",\"\",SUMIFS(Limits_Detail!$K$24:$K$500,Limits_Detail!$B$24:$B$500,B27,Limits_Detail!$C$24:$C$500,C27,Limits_Detail!$D$24:$D$500,D27,Limits_Detail!$I$24:$I$500,\"Other Unknown Causes\"))","v":""}]
[{"$nulls":5},{"$f":"IF(E28=\"\",\"\",SUMIFS(Limits_Detail!$K$24:$K$500,Limits_Detail!$B$24:$B$500,B28,Limits_Detail!$C$24:$C$500,C28,Limits_Detail!$D$24:$D$500,D28))","v":""},"",{"$f":"IF(E28=\"\",\"\",SUMIFS(Limits_Detail!$K$24:$K$500,Limits_Detail!$B$24:$B$500,B28,Limits_Detail!$C$24:$C$500,C28,Limits_Detail!$D$24:$D$500,D28,Limits_Detail!$I$24:$I$500,\"Control Equipment Problems\"))","v":""},{"$f":"IF(E28=\"\",\"\",SUMIFS(Limits_Detail!$K$24:$K$500,Limits_Detail!$B$24:$B$500,B28,Limits_Detail!$C$24:$C$500,C28,Limits_Detail!$D$24:$D$500,D28,Limits_Detail!$I$24:$I$500,\"Process Problems\"))","v":""},{"$f":"IF(E28=\"\",\"\",SUMIFS(Limits_Detail!$K$24:$K$500,Limits_Detail!$B$24:$B$500,B28,Limits_Detail!$C$24:$C$500,C28,Limits_Detail!$D$24:$D$500,D28,Limits_Detail!$I$24:$I$500,\"Other Known Causes\"))","v":""},{"$f":"IF(E28=\"\",\"\",SUMIFS(Limits_Detail!$K$24:$K$500,Limits_Detail!$B$24:$B$500,B28,Limits_Detail!$C$24:$C$500,C28,Limits_Detail!$D$24:$D$500,D28,Limits_Detail!$I$24:$I$500,\"Other Unknown Causes\"))","v":""}]
[{"$nulls":5},{"$f":"IF(E29=\"\",\"\",SUMIFS(Limits_Detail!$K$24:$K$500,Limits_Detail!$B$24:$B$500,B29,Limits_Detail!$C$24:$C$500,C29,Limits_Detail!$D$24:$D$500,D29))","v":""},"",{"$f":"IF(E29=\"\",\"\",SUMIFS(Limits_Detail!$K$24:$K$500,Limits_Detail!$B$24:$B$500,B29,Limits_Detail!$C$24:$C$500,C29,Limits_Detail!$D$24:$D$500,D29,Limits_Detail!$I$24:$I$500,\"Control Equipment Problems\"))","v":""},{"$f":"IF(E29=\"\",\"\",SUMIFS(Limits_Detail!$K$24:$K$500,Limits_Detail!$B$24:$B$500,B29,Limits_Detail!$C$24:$C$500,C29,Limits_Detail!$D$24:$D$500,D29,Limits_Detail!$I$24:$I$500,\"Process Problems\"))","v":""},{"$f":"IF(E29=\"\",\"\",SUMIFS(Limits_Detail!$K$24:$K$500,Limits_Detail!$B$24:$B$500,B29,Limits_Detail!$C$24:$C$500,C29,Limits_Detail!$D$24:$D$500,D29,Limits_Detail!$I$24:$I$500,\"Other Known Causes\"))","v":""},{"$f":"IF(E29=\"\",\"\",SUMIFS(Limits_Detail!$K$24:$K$500,Limits_Detail!$B$24:$B$500,B29,Limits_Detail!$C$24:$C$500,C29,Limits_Detail!$D$24:$D$500,D29,Limits_Detail!$I$24:$I$500,\"Other Unknown Causes\"))","v":""}]
[{"$nulls":5},{"$f":"IF(E30=\"\",\"\",SUMIFS(Limits_Detail!$K$24:$K$500,Limits_Detail!$B$24:$B$500,B30,Limits_Detail!$C$24:$C$500,C30,Limits_Detail!$D$24:$D$500,D30))","v":""},"",{"$f":"IF(E30=\"\",\"\",SUMIFS(Limits_Detail!$K$24:$K$500,Limits_Detail!$B$24:$B$500,B30,Limits_Detail!$C$24:$C$500,C30,Limits_Detail!$D$24:$D$500,D30,Limits_Detail!$I$24:$I$500,\"Control Equipment Problems\"))","v":""},{"$f":"IF(E30=\"\",\"\",SUMIFS(Limits_Detail!$K$24:$K$500,Limits_Detail!$B$24:$B$500,B30,Limits_Detail!$C$24:$C$500,C30,Limits_Detail!$D$24:$D$500,D30,Limits_Detail!$I$24:$I$500,\"Process Problems\"))","v":""},{"$f":"IF(E30=\"\",\"\",SUMIFS(Limits_Detail!$K$24:$K$500,Limits_Detail!$B$24:$B$500,B30,Limits_Detail!$C$24:$C$500,C30,Limits_Detail!$D$24:$D$500,D30,Limits_Detail!$I$24:$I$500,\"Other Known Causes\"))","v":""},{"$f":"IF(E30=\"\",\"\",SUMIFS(Limits_Detail!$K$24:$K$500,Limits_Detail!$B$24:$B$500,B30,Limits_Detail!$C$24:$C$500,C30,Limits_Detail!$D$24:$D$500,D30,Limits_Detail!$I$24:$I$500,\"Other Unknown Causes\"))","v":""}]
[{"$nulls":5},{"$f":"IF(E31=\"\",\"\",SUMIFS(Limits_Detail!$K$24:$K$500,Limits_Detail!$B$24:$B$500,B31,Limits_Detail!$C$24:$C$500,C31,Limits_Detail!$D$24:$D$500,D31))","v":""},"",{"$f":"IF(E31=\"\",\"\",SUMIFS(Limits_Detail!$K$24:$K$500,Limits_Detail!$B$24:$B$500,B31,Limits_Detail!$C$24:$C$500,C31,Limits_Detail!$D$24:$D$500,D31,Limits_Detail!$I$24:$I$500,\"Control Equipment Problems\"))","v":""},{"$f":"IF(E31=\"\",\"\",SUMIFS(Limits_Detail!$K$24:$K$500,Limits_Detail!$B$24:$B$500,B31,Limits_Detail!$C$24:$C$500,C31,Limits_Detail!$D$24:$D$500,D31,Limits_Detail!$I$24:$I$500,\"Process Problems\"))","v":""},{"$f":"IF(E31=\"\",\"\",SUMIFS(Limits_Detail!$K$24:$K$500,Limits_Detail!$B$24:$B$500,B31,Limits_Detail!$C$24:$C$500,C31,Limits_Detail!$D$24:$D$500,D31,Limits_Detail!$I$24:$I$500,\"Other Known Causes\"))","v":""},{"$f":"IF(E31=\"\",\"\",SUMIFS(Limits_Detail!$K$24:$K$500,Limits_Detail!$B$24:$B$500,B31,Limits_Detail!$C$24:$C$500,C31,Limits_Detail!$D$24:$D$500,D31,Limits_Detail!$I$24:$I$500,\"Other Unknown Causes\"))","v":""}]
[{"$nulls":5},{"$f":"IF(E32=\"\",\"\",SUMIFS(Limits_Detail!$K$24:$K$500,Limits_Detail!$B$24:$B$500,B32,Limits_Detail!$C$24:$C$500,C32,Limits_Detail!$D$24:$D$500,D32))","v":""},"",{"$f":"IF(E32=\"\",\"\",SUMIFS(Limits_Detail!$K$24:$K$500,Limits_Detail!$B$24:$B$500,B32,Limits_Detail!$C$24:$C$500,C32,Limits_Detail!$D$24:$D$500,D32,Limits_Detail!$I$24:$I$500,\"Control Equipment Problems\"))","v":""},{"$f":"IF(E32=\"\",\"\",SUMIFS(Limits_Detail!$K$24:$K$500,Limits_Detail!$B$24:$B$500,B32,Limits_Detail!$C$24:$C$500,C32,Limits_Detail!$D$24:$D$500,D32,Limits_Detail!$I$24:$I$500,\"Process Problems\"))","v":""},{"$f":"IF(E32=\"\",\"\",SUMIFS(Limits_Detail!$K$24:$K$500,Limits_Detail!$B$24:$B$500,B32,Limits_Detail!$C$24:$C$500,C32,Limits_Detail!$D$24:$D$500,D32,Limits_Detail!$I$24:$I$500,\"Other Known Causes\"))","v":""},{"$f":"IF(E32=\"\",\"\",SUMIFS(Limits_Detail!$K$24:$K$500,Limits_Detail!$B$24:$B$500,B32,Limits_Detail!$C$24:$C$500,C32,Limits_Detail!$D$24:$D$500,D32,Limits_Detail!$I$24:$I$500,\"Other Unknown Causes\"))","v":""}]
[{"$nulls":5},{"$f":"IF(E33=\"\",\"\",SUMIFS(Limits_Detail!$K$24:$K$500,Limits_Detail!$B$24:$B$500,B33,Limits_Detail!$C$24:$C$500,C33,Limits_Detail!$D$24:$D$500,D33))","v":""},"",{"$f":"IF(E33=\"\",\"\",SUMIFS(Limits_Detail!$K$24:$K$500,Limits_Detail!$B$24:$B$500,B33,Limits_Detail!$C$24:$C$500,C33,Limits_Detail!$D$24:$D$500,D33,Limits_Detail!$I$24:$I$500,\"Control Equipment Problems\"))","v":""},{"$f":"IF(E33=\"\",\"\",SUMIFS(Limits_Detail!$K$24:$K$500,Limits_Detail!$B$24:$B$500,B33,Limits_Detail!$C$24:$C$500,C33,Limits_Detail!$D$24:$D$500,D33,Limits_Detail!$I$24:$I$500,\"Process Problems\"))","v":""},{"$f":"IF(E33=\"\",\"\",SUMIFS(Limits_Detail!$K$24:$K$500,Limits_Detail!$B$24:$B$500,B33,Limits_Detail!$C$24:$C$500,C33,Limits_Detail!$D$24:$D$500,D33,Limits_Detail!$I$24:$I$500,\"Other Known Causes\"))","v":""},{"$f":"IF(E33=\"\",\"\",SUMIFS(Limits_Detail!$K$24:$K$500,Limits_Detail!$B$24:$B$500,B33,Limits_Detail!$C$24:$C$500,C33,Limits_Detail!$D$24:$D$500,D33,Limits_Detail!$I$24:$I$500,\"Other Unknown Causes\"))","v":""}]
[{"$nulls":5},{"$f":"IF(E34=\"\",\"\",SUMIFS(Limits_Detail!$K$24:$K$500,Limits_Detail!$B$24:$B$500,B34,Limits_Detail!$C$24:$C$500,C34,Limits_Detail!$D$24:$D$500,D34))","v":""},"",{"$f":"IF(E34=\"\",\"\",SUMIFS(Limits_Detail!$K$24:$K$500,Limits_Detail!$B$24:$B$500,B34,Limits_Detail!$C$24:$C$500,C34,Limits_Detail!$D$24:$D$500,D34,Limits_Detail!$I$24:$I$500,\"Control Equipment Problems\"))","v":""},{"$f":"IF(E34=\"\",\"\",SUMIFS(Limits_Detail!$K$24:$K$500,Limits_Detail!$B$24:$B$500,B34,Limits_Detail!$C$24:$C$500,C34,Limits_Detail!$D$24:$D$500,D34,Limits_Detail!$I$24:$I$500,\"Process Problems\"))","v":""},{"$f":"IF(E34=\"\",\"\",SUMIFS(Limits_Detail!$K$24:$K$500,Limits_Detail!$B$24:$B$500,B34,Limits_Detail!$C$24:$C$500,C34,Limits_Detail!$D$24:$D$500,D34,Limits_Detail!$I$24:$I$500,\"Other Known Causes\"))","v":""},{"$f":"IF(E34=\"\",\"\",SUMIFS(Limits_Detail!$K$24:$K$500,Limits_Detail!$B$24:$B$500,B34,Limits_Detail!$C$24:$C$500,C34,Limits_Detail!$D$24:$D$500,D34,Limits_Detail!$I$24:$I$500,\"Other Unknown Causes\"))","v":""}]
[{"$nulls":5},{"$f":"IF(E35=\"\",\"\",SUMIFS(Limits_Detail!$K$24:$K$500,Limits_Detail!$B$24:$B$500,B35,Limits_Detail!$C$24:$C$500,C35,Limits_Detail!$D$24:$D$500,D35))","v":""},"",{"$f":"IF(E35=\"\",\"\",SUMIFS(Limits_Detail!$K$24:$K$500,Limits_Detail!$B$24:$B$500,B35,Limits_Detail!$C$24:$C$500,C35,Limits_Detail!$D$24:$D$500,D35,Limits_Detail!$I$24:$I$500,\"Control Equipment Problems\"))","v":""},{"$f":"IF(E35=\"\",\"\",SUMIFS(Limits_Detail!$K$24:$K$500,Limits_Detail!$B$24:$B$500,B35,Limits_Detail!$C$24:$C$500,C35,Limits_Detail!$D$24:$D$500,D35,Limits_Detail!$I$24:$I$500,\"Process Problems\"))","v":""},{"$f":"IF(E35=\"\",\"\",SUMIFS(Limits_Detail!$K$24:$K$500,Limits_Detail!$B$24:$B$500,B35,Limits_Detail!$C$24:$C$500,C35,Limits_Detail!$D$24:$D$500,D35,Limits_Detail!$I$24:$I$500,\"Other Known Causes\"))","v":""},{"$f":"IF(E35=\"\",\"\",SUMIFS(Limits_Detail!$K$24:$K$500,Limits_Detail!$B$24:$B$500,B35,Limits_Detail!$C$24:$C$500,C35,Limits_Detail!$D$24:$D$500,D35,Limits_Detail!$I$24:$I$500,\"Other Unknown Causes\"))","v":""}]
[{"$nulls":5},{"$f":"IF(E36=\"\",\"\",SUMIFS(Limits_Detail!$K$24:$K$500,Limits_Detail!$B$24:$B$500,B36,Limits_Detail!$C$24:$C$500,C36,Limits_Detail!$D$24:$D$500,D36))","v":""},"",{"$f":"IF(E36=\"\",\"\",SUMIFS(Limits_Detail!$K$24:$K$500,Limits_Detail!$B$24:$B$500,B36,Limits_Detail!$C$24:$C$500,C36,Limits_Detail!$D$24:$D$500,D36,Limits_Detail!$I$24:$I$500,\"Control Equipment Problems\"))","v":""},{"$f":"IF(E36=\"\",\"\",SUMIFS(Limits_Detail!$K$24:$K$500,Limits_Detail!$B$24:$B$500,B36,Limits_Detail!$C$24:$C$500,C36,Limits_Detail!$D$24:$D$500,D36,Limits_Detail!$I$24:$I$500,\"Process Problems\"))","v":""},{"$f":"IF(E36=\"\",\"\",SUMIFS(Limits_Detail!$K$24:$K$500,Limits_Detail!$B$24:$B$500,B36,Limits_Detail!$C$24:$C$500,C36,Limits_Detail!$D$24:$D$500,D36,Limits_Detail!$I$24:$I$500,\"Other Known Causes\"))","v":""},{"$f":"IF(E36=\"\",\"\",SUMIFS(Limits_Detail!$K$24:$K$500,Limits_Detail!$B$24:$B$500,B36,Limits_Detail!$C$24:$C$500,C36,Limits_Detail!$D$24:$D$500,D36,Limits_Detail!$I$24:$I$500,\"Other Unknown Causes\"))","v":""}]
[{"$nulls":5},{"$f":"IF(E37=\"\",\"\",SUMIFS(Limits_Detail!$K$24:$K$500,Limits_Detail!$B$24:$B$500,B37,Limits_Detail!$C$24:$C$500,C37,Limits_Detail!$D$24:$D$500,D37))","v":""},"",{"$f":"IF(E37=\"\",\"\",SUMIFS(Limits_Detail!$K$24:$K$500,Limits_Detail!$B$24:$B$500,B37,Limits_Detail!$C$24:$C$500,C37,Limits_Detail!$D$24:$D$500,D37,Limits_Detail!$I$24:$I$500,\"Control Equipment Problems\"))","v":""},{"$f":"IF(E37=\"\",\"\",SUMIFS(Limits_Detail!$K$24:$K$500,Limits_Detail!$B$24:$B$500,B37,Limits_Detail!$C$24:$C$500,C37,Limits_Detail!$D$24:$D$500,D37,Limits_Detail!$I$24:$I$500,\"Process Problems\"))","v":""},{"$f":"IF(E37=\"\",\"\",SUMIFS(Limits_Detail!$K$24:$K$500,Limits_Detail!$B$24:$B$500,B37,Limits_Detail!$C$24:$C$500,C37,Limits_Detail!$D$24:$D$500,D37,Limits_Detail!$I$24:$I$500,\"Other Known Causes\"))","v":""},{"$f":"IF(E37=\"\",\"\",SUMIFS(Limits_Detail!$K$24:$K$500,Limits_Detail!$B$24:$B$500,B37,Limits_Detail!$C$24:$C$500,C37,Limits_Detail!$D$24:$D$500,D37,Limits_Detail!$I$24:$I$500,\"Other Unknown Causes\"))","v":""}]
[{"$nulls":5},{"$f":"IF(E38=\"\",\"\",SUMIFS(Limits_Detail!$K$24:$K$500,Limits_Detail!$B$24:$B$500,B38,Limits_Detail!$C$24:$C$500,C38,Limits_Detail!$D$24:$D$500,D38))","v":""},"",{"$f":"IF(E38=\"\",\"\",SUMIFS(Limits_Detail!$K$24:$K$500,Limits_Detail!$B$24:$B$500,B38,Limits_Detail!$C$24:$C$500,C38,Limits_Detail!$D$24:$D$500,D38,Limits_Detail!$I$24:$I$500,\"Control Equipment Problems\"))","v":""},{"$f":"IF(E38=\"\",\"\",SUMIFS(Limits_Detail!$K$24:$K$500,Limits_Detail!$B$24:$B$500,B38,Limits_Detail!$C$24:$C$500,C38,Limits_Detail!$D$24:$D$500,D38,Limits_Detail!$I$24:$I$500,\"Process Problems\"))","v":""},{"$f":"IF(E38=\"\",\"\",SUMIFS(Limits_Detail!$K$24:$K$500,Limits_Detail!$B$24:$B$500,B38,Limits_Detail!$C$24:$C$500,C38,Limits_Detail!$D$24:$D$500,D38,Limits_Detail!$I$24:$I$500,\"Other Known Causes\"))","v":""},{"$f":"IF(E38=\"\",\"\",SUMIFS(Limits_Detail!$K$24:$K$500,Limits_Detail!$B$24:$B$500,B38,Limits_Detail!$C$24:$C$500,C38,Limits_Detail!$D$24:$D$500,D38,Limits_Detail!$I$24:$I$500,\"Other Unknown Causes\"))","v":""}]
[{"$nulls":5},{"$f":"IF(E39=\"\",\"\",SUMIFS(Limits_Detail!$K$24:$K$500,Limits_Detail!$B$24:$B$500,B39,Limits_Detail!$C$24:$C$500,C39,Limits_Detail!$D$24:$D$500,D39))","v":""},"",{"$f":"IF(E39=\"\",\"\",SUMIFS(Limits_Detail!$K$24:$K$500,Limits_Detail!$B$24:$B$500,B39,Limits_Detail!$C$24:$C$500,C39,Limits_Detail!$D$24:$D$500,D39,Limits_Detail!$I$24:$I$500,\"Control Equipment Problems\"))","v":""},{"$f":"IF(E39=\"\",\"\",SUMIFS(Limits_Detail!$K$24:$K$500,Limits_Detail!$B$24:$B$500,B39,Limits_Detail!$C$24:$C$500,C39,Limits_Detail!$D$24:$D$500,D39,Limits_Detail!$I$24:$I$500,\"Process Problems\"))","v":""},{"$f":"IF(E39=\"\",\"\",SUMIFS(Limits_Detail!$K$24:$K$500,Limits_Detail!$B$24:$B$500,B39,Limits_Detail!$C$24:$C$500,C39,Limits_Detail!$D$24:$D$500,D39,Limits_Detail!$I$24:$I$500,\"Other Known Causes\"))","v":""},{"$f":"IF(E39=\"\",\"\",SUMIFS(Limits_Detail!$K$24:$K$500,Limits_Detail!$B$24:$B$500,B39,Limits_Detail!$C$24:$C$500,C39,Limits_Detail!$D$24:$D$500,D39,Limits_Detail!$I$24:$I$500,\"Other Unknown Causes\"))","v":""}]
[{"$nulls":5},{"$f":"IF(E40=\"\",\"\",SUMIFS(Limits_Detail!$K$24:$K$500,Limits_Detail!$B$24:$B$500,B40,Limits_Detail!$C$24:$C$500,C40,Limits_Detail!$D$24:$D$500,D40))","v":""},"",{"$f":"IF(E40=\"\",\"\",SUMIFS(Limits_Detail!$K$24:$K$500,Limits_Detail!$B$24:$B$500,B40,Limits_Detail!$C$24:$C$500,C40,Limits_Detail!$D$24:$D$500,D40,Limits_Detail!$I$24:$I$500,\"Control Equipment Problems\"))","v":""},{"$f":"IF(E40=\"\",\"\",SUMIFS(Limits_Detail!$K$24:$K$500,Limits_Detail!$B$24:$B$500,B40,Limits_Detail!$C$24:$C$500,C40,Limits_Detail!$D$24:$D$500,D40,Limits_Detail!$I$24:$I$500,\"Process Problems\"))","v":""},{"$f":"IF(E40=\"\",\"\",SUMIFS(Limits_Detail!$K$24:$K$500,Limits_Detail!$B$24:$B$500,B40,Limits_Detail!$C$24:$C$500,C40,Limits_Detail!$D$24:$D$500,D40,Limits_Detail!$I$24:$I$500,\"Other Known Causes\"))","v":""},{"$f":"IF(E40=\"\",\"\",SUMIFS(Limits_Detail!$K$24:$K$500,Limits_Detail!$B$24:$B$500,B40,Limits_Detail!$C$24:$C$500,C40,Limits_Detail!$D$24:$D$500,D40,Limits_Detail!$I$24:$I$500,\"Other Unknown Causes\"))","v":""}]
[{"$nulls":5},{"$f":"IF(E41=\"\",\"\",SUMIFS(Limits_Detail!$K$24:$K$500,Limits_Detail!$B$24:$B$500,B41,Limits_Detail!$C$24:$C$500,C41,Limits_Detail!$D$24:$D$500,D41))","v":""},"",{"$f":"IF(E41=\"\",\"\",SUMIFS(Limits_Detail!$K$24:$K$500,Limits_Detail!$B$24:$B$500,B41,Limits_Detail!$C$24:$C$500,C41,Limits_Detail!$D$24:$D$500,D41,Limits_Detail!$I$24:$I$500,\"Control Equipment Problems\"))","v":""},{"$f":"IF(E41=\"\",\"\",SUMIFS(Limits_Detail!$K$24:$K$500,Limits_Detail!$B$24:$B$500,B41,Limits_Detail!$C$24:$C$500,C41,Limits_Detail!$D$24:$D$500,D41,Limits_Detail!$I$24:$I$500,\"Process Problems\"))","v":""},{"$f":"IF(E41=\"\",\"\",SUMIFS(Limits_Detail!$K$24:$K$500,Limits_Detail!$B$24:$B$500,B41,Limits_Detail!$C$24:$C$500,C41,Limits_Detail!$D$24:$D$500,D41,Limits_Detail!$I$24:$I$500,\"Other Known Causes\"))","v":""},{"$f":"IF(E41=\"\",\"\",SUMIFS(Limits_Detail!$K$24:$K$500,Limits_Detail!$B$24:$B$500,B41,Limits_Detail!$C$24:$C$500,C41,Limits_Detail!$D$24:$D$500,D41,Limits_Detail!$I$24:$I$500,\"Other Unknown Causes\"))","v":""}]
[{"$nulls":5},{"$f":"IF(E42=\"\",\"\",SUMIFS(Limits_Detail!$K$24:$K$500,Limits_Detail!$B$24:$B$500,B42,Limits_Detail!$C$24:$C$500,C42,Limits_Detail!$D$24:$D$500,D42))","v":""},"",{"$f":"IF(E42=\"\",\"\",SUMIFS(Limits_Detail!$K$24:$K$500,Limits_Detail!$B$24:$B$500,B42,Limits_Detail!$C$24:$C$500,C42,Limits_Detail!$D$24:$D$500,D42,Limits_Detail!$I$24:$I$500,\"Control Equipment Problems\"))","v":""},{"$f":"IF(E42=\"\",\"\",SUMIFS(Limits_Detail!$K$24:$K$500,Limits_Detail!$B$24:$B$500,B42,Limits_Detail!$C$24:$C$500,C42,Limits_Detail!$D$24:$D$500,D42,Limits_Detail!$I$24:$I$500,\"Process Problems\"))","v":""},{"$f":"IF(E42=\"\",\"\",SUMIFS(Limits_Detail!$K$24:$K$500,Limits_Detail!$B$24:$B$500,B42,Limits_Detail!$C$24:$C$500,C42,Limits_Detail!$D$24:$D$500,D42,Limits_Detail!$I$24:$I$500,\"Other Known Causes\"))","v":""},{"$f":"IF(E42=\"\",\"\",SUMIFS(Limits_Detail!$K$24:$K$500,Limits_Detail!$B$24:$B$500,B42,Limits_Detail!$C$24:$C$500,C42,Limits_Detail!$D$24:$D$500,D42,Limits_Detail!$I$24:$I$500,\"Other Unknown Causes\"))","v":""}]
[{"$nulls":5},{"$f":"IF(E43=\"\",\"\",SUMIFS(Limits_Detail!$K$24:$K$500,Limits_Detail!$B$24:$B$500,B43,Limits_Detail!$C$24:$C$500,C43,Limits_Detail!$D$24:$D$500,D43))","v":""},"",{"$f":"IF(E43=\"\",\"\",SUMIFS(Limits_Detail!$K$24:$K$500,Limits_Detail!$B$24:$B$500,B43,Limits_Detail!$C$24:$C$500,C43,Limits_Detail!$D$24:$D$500,D43,Limits_Detail!$I$24:$I$500,\"Control Equipment Problems\"))","v":""},{"$f":"IF(E43=\"\",\"\",SUMIFS(Limits_Detail!$K$24:$K$500,Limits_Detail!$B$24:$B$500,B43,Limits_Detail!$C$24:$C$500,C43,Limits_Detail!$D$24:$D$500,D43,Limits_Detail!$I$24:$I$500,\"Process Problems\"))","v":""},{"$f":"IF(E43=\"\",\"\",SUMIFS(Limits_Detail!$K$24:$K$500,Limits_Detail!$B$24:$B$500,B43,Limits_Detail!$C$24:$C$500,C43,Limits_Detail!$D$24:$D$500,D43,Limits_Detail!$I$24:$I$500,\"Other Known Causes\"))","v":""},{"$f":"IF(E43=\"\",\"\",SUMIFS(Limits_Detail!$K$24:$K$500,Limits_Detail!$B$24:$B$500,B43,Limits_Detail!$C$24:$C$500,C43,Limits_Detail!$D$24:$D$500,D43,Limits_Detail!$I$24:$I$500,\"Other Unknown Causes\"))","v":""}]
[{"$nulls":5},{"$f":"IF(E44=\"\",\"\",SUMIFS(Limits_Detail!$K$24:$K$500,Limits_Detail!$B$24:$B$500,B44,Limits_Detail!$C$24:$C$500,C44,Limits_Detail!$D$24:$D$500,D44))","v":""},"",{"$f":"IF(E44=\"\",\"\",SUMIFS(Limits_Detail!$K$24:$K$500,Limits_Detail!$B$24:$B$500,B44,Limits_Detail!$C$24:$C$500,C44,Limits_Detail!$D$24:$D$500,D44,Limits_Detail!$I$24:$I$500,\"Control Equipment Problems\"))","v":""},{"$f":"IF(E44=\"\",\"\",SUMIFS(Limits_Detail!$K$24:$K$500,Limits_Detail!$B$24:$B$500,B44,Limits_Detail!$C$24:$C$500,C44,Limits_Detail!$D$24:$D$500,D44,Limits_Detail!$I$24:$I$500,\"Process Problems\"))","v":""},{"$f":"IF(E44=\"\",\"\",SUMIFS(Limits_Detail!$K$24:$K$500,Limits_Detail!$B$24:$B$500,B44,Limits_Detail!$C$24:$C$500,C44,Limits_Detail!$D$24:$D$500,D44,Limits_Detail!$I$24:$I$500,\"Other Known Causes\"))","v":""},{"$f":"IF(E44=\"\",\"\",SUMIFS(Limits_Detail!$K$24:$K$500,Limits_Detail!$B$24:$B$500,B44,Limits_Detail!$C$24:$C$500,C44,Limits_Detail!$D$24:$D$500,D44,Limits_Detail!$I$24:$I$500,\"Other Unknown Causes\"))","v":""}]
[{"$nulls":5},{"$f":"IF(E45=\"\",\"\",SUMIFS(Limits_Detail!$K$24:$K$500,Limits_Detail!$B$24:$B$500,B45,Limits_Detail!$C$24:$C$500,C45,Limits_Detail!$D$24:$D$500,D45))","v":""},"",{"$f":"IF(E45=\"\",\"\",SUMIFS(Limits_Detail!$K$24:$K$500,Limits_Detail!$B$24:$B$500,B45,Limits_Detail!$C$24:$C$500,C45,Limits_Detail!$D$24:$D$500,D45,Limits_Detail!$I$24:$I$500,\"Control Equipment Problems\"))","v":""},{"$f":"IF(E45=\"\",\"\",SUMIFS(Limits_Detail!$K$24:$K$500,Limits_Detail!$B$24:$B$500,B45,Limits_Detail!$C$24:$C$500,C45,Limits_Detail!$D$24:$D$500,D45,Limits_Detail!$I$24:$I$500,\"Process Problems\"))","v":""},{"$f":"IF(E45=\"\",\"\",SUMIFS(Limits_Detail!$K$24:$K$500,Limits_Detail!$B$24:$B$500,B45,Limits_Detail!$C$24:$C$500,C45,Limits_Detail!$D$24:$D$500,D45,Limits_Detail!$I$24:$I$500,\"Other Known Causes\"))","v":""},{"$f":"IF(E45=\"\",\"\",SUMIFS(Limits_Detail!$K$24:$K$500,Limits_Detail!$B$24:$B$500,B45,Limits_Detail!$C$24:$C$500,C45,Limits_Detail!$D$24:$D$500,D45,Limits_Detail!$I$24:$I$500,\"Other Unknown Causes\"))","v":""}]
[{"$nulls":5},{"$f":"IF(E46=\"\",\"\",SUMIFS(Limits_Detail!$K$24:$K$500,Limits_Detail!$B$24:$B$500,B46,Limits_Detail!$C$24:$C$500,C46,Limits_Detail!$D$24:$D$500,D46))","v":""},"",{"$f":"IF(E46=\"\",\"\",SUMIFS(Limits_Detail!$K$24:$K$500,Limits_Detail!$B$24:$B$500,B46,Limits_Detail!$C$24:$C$500,C46,Limits_Detail!$D$24:$D$500,D46,Limits_Detail!$I$24:$I$500,\"Control Equipment Problems\"))","v":""},{"$f":"IF(E46=\"\",\"\",SUMIFS(Limits_Detail!$K$24:$K$500,Limits_Detail!$B$24:$B$500,B46,Limits_Detail!$C$24:$C$500,C46,Limits_Detail!$D$24:$D$500,D46,Limits_Detail!$I$24:$I$500,\"Process Problems\"))","v":""},{"$f":"IF(E46=\"\",\"\",SUMIFS(Limits_Detail!$K$24:$K$500,Limits_Detail!$B$24:$B$500,B46,Limits_Detail!$C$24:$C$500,C46,Limits_Detail!$D$24:$D$500,D46,Limits_Detail!$I$24:$I$500,\"Other Known Causes\"))","v":""},{"$f":"IF(E46=\"\",\"\",SUMIFS(Limits_Detail!$K$24:$K$500,Limits_Detail!$B$24:$B$500,B46,Limits_Detail!$C$24:$C$500,C46,Limits_Detail!$D$24:$D$500,D46,Limits_Detail!$I$24:$I$500,\"Other Unknown Causes\"))","v":""}]
[{"$nulls":5},{"$f":"IF(E47=\"\",\"\",SUMIFS(Limits_Detail!$K$24:$K$500,Limits_Detail!$B$24:$B$500,B47,Limits_Detail!$C$24:$C$500,C47,Limits_Detail!$D$24:$D$500,D47))","v":""},"",{"$f":"IF(E47=\"\",\"\",SUMIFS(Limits_Detail!$K$24:$K$500,Limits_Detail!$B$24:$B$500,B47,Limits_Detail!$C$24:$C$500,C47,Limits_Detail!$D$24:$D$500,D47,Limits_Detail!$I$24:$I$500,\"Control Equipment Problems\"))","v":""},{"$f":"IF(E47=\"\",\"\",SUMIFS(Limits_Detail!$K$24:$K$500,Limits_Detail!$B$24:$B$500,B47,Limits_Detail!$C$24:$C$500,C47,Limits_Detail!$D$24:$D$500,D47,Limits_Detail!$I$24:$I$500,\"Process Problems\"))","v":""},{"$f":"IF(E47=\"\",\"\",SUMIFS(Limits_Detail!$K$24:$K$500,Limits_Detail!$B$24:$B$500,B47,Limits_Detail!$C$24:$C$500,C47,Limits_Detail!$D$24:$D$500,D47,Limits_Detail!$I$24:$I$500,\"Other Known Causes\"))","v":""},{"$f":"IF(E47=\"\",\"\",SUMIFS(Limits_Detail!$K$24:$K$500,Limits_Detail!$B$24:$B$500,B47,Limits_Detail!$C$24:$C$500,C47,Limits_Detail!$D$24:$D$500,D47,Limits_Detail!$I$24:$I$500,\"Other Unknown Causes\"))","v":""}]
[{"$nulls":5},{"$f":"IF(E48=\"\",\"\",SUMIFS(Limits_Detail!$K$24:$K$500,Limits_Detail!$B$24:$B$500,B48,Limits_Detail!$C$24:$C$500,C48,Limits_Detail!$D$24:$D$500,D48))","v":""},"",{"$f":"IF(E48=\"\",\"\",SUMIFS(Limits_Detail!$K$24:$K$500,Limits_Detail!$B$24:$B$500,B48,Limits_Detail!$C$24:$C$500,C48,Limits_Detail!$D$24:$D$500,D48,Limits_Detail!$I$24:$I$500,\"Control Equipment Problems\"))","v":""},{"$f":"IF(E48=\"\",\"\",SUMIFS(Limits_Detail!$K$24:$K$500,Limits_Detail!$B$24:$B$500,B48,Limits_Detail!$C$24:$C$500,C48,Limits_Detail!$D$24:$D$500,D48,Limits_Detail!$I$24:$I$500,\"Process Problems\"))","v":""},{"$f":"IF(E48=\"\",\"\",SUMIFS(Limits_Detail!$K$24:$K$500,Limits_Detail!$B$24:$B$500,B48,Limits_Detail!$C$24:$C$500,C48,Limits_Detail!$D$24:$D$500,D48,Limits_Detail!$I$24:$I$500,\"Other Known Causes\"))","v":""},{"$f":"IF(E48=\"\",\"\",SUMIFS(Limits_Detail!$K$24:$K$500,Limits_Detail!$B$24:$B$500,B48,Limits_Detail!$C$24:$C$500,C48,Limits_Detail!$D$24:$D$500,D48,Limits_Detail!$I$24:$I$500,\"Other Unknown Causes\"))","v":""}]
[{"$nulls":5},{"$f":"IF(E49=\"\",\"\",SUMIFS(Limits_Detail!$K$24:$K$500,Limits_Detail!$B$24:$B$500,B49,Limits_Detail!$C$24:$C$500,C49,Limits_Detail!$D$24:$D$500,D49))","v":""},"",{"$f":"IF(E49=\"\",\"\",SUMIFS(Limits_Detail!$K$24:$K$500,Limits_Detail!$B$24:$B$500,B49,Limits_Detail!$C$24:$C$500,C49,Limits_Detail!$D$24:$D$500,D49,Limits_Detail!$I$24:$I$500,\"Control Equipment Problems\"))","v":""},{"$f":"IF(E49=\"\",\"\",SUMIFS(Limits_Detail!$K$24:$K$500,Limits_Detail!$B$24:$B$500,B49,Limits_Detail!$C$24:$C$500,C49,Limits_Detail!$D$24:$D$500,D49,Limits_Detail!$I$24:$I$500,\"Process Problems\"))","v":""},{"$f":"IF(E49=\"\",\"\",SUMIFS(Limits_Detail!$K$24:$K$500,Limits_Detail!$B$24:$B$500,B49,Limits_Detail!$C$24:$C$500,C49,Limits_Detail!$D$24:$D$500,D49,Limits_Detail!$I$24:$I$500,\"Other Known Causes\"))","v":""},{"$f":"IF(E49=\"\",\"\",SUMIFS(Limits_Detail!$K$24:$K$500,Limits_Detail!$B$24:$B$500,B49,Limits_Detail!$C$24:$C$500,C49,Limits_Detail!$D$24:$D$500,D49,Limits_Detail!$I$24:$I$500,\"Other Unknown Causes\"))","v":""}]
[{"$nulls":5},{"$f":"IF(E50=\"\",\"\",SUMIFS(Limits_Detail!$K$24:$K$500,Limits_Detail!$B$24:$B$500,B50,Limits_Detail!$C$24:$C$500,C50,Limits_Detail!$D$24:$D$500,D50))","v":""},"",{"$f":"IF(E50=\"\",\"\",SUMIFS(Limits_Detail!$K$24:$K$500,Limits_Detail!$B$24:$B$500,B50,Limits_Detail!$C$24:$C$500,C50,Limits_Detail!$D$24:$D$500,D50,Limits_Detail!$I$24:$I$500,\"Control Equipment Problems\"))","v":""},{"$f":"IF(E50=\"\",\"\",SUMIFS(Limits_Detail!$K$24:$K$500,Limits_Detail!$B$24:$B$500,B50,Limits_Detail!$C$24:$C$500,C50,Limits_Detail!$D$24:$D$500,D50,Limits_Detail!$I$24:$I$500,\"Process Problems\"))","v":""},{"$f":"IF(E50=\"\",\"\",SUMIFS(Limits_Detail!$K$24:$K$500,Limits_Detail!$B$24:$B$500,B50,Limits_Detail!$C$24:$C$500,C50,Limits_Detail!$D$24:$D$500,D50,Limits_Detail!$I$24:$I$500,\"Other Known Causes\"))","v":""},{"$f":"IF(E50=\"\",\"\",SUMIFS(Limits_Detail!$K$24:$K$500,Limits_Detail!$B$24:$B$500,B50,Limits_Detail!$C$24:$C$500,C50,Limits_Detail!$D$24:$D$500,D50,Limits_Detail!$I$24:$I$500,\"Other Unknown Causes\"))","v":""}]
[{"$nulls":5},{"$f":"IF(E51=\"\",\"\",SUMIFS(Limits_Detail!$K$24:$K$500,Limits_Detail!$B$24:$B$500,B51,Limits_Detail!$C$24:$C$500,C51,Limits_Detail!$D$24:$D$500,D51))","v":""},"",{"$f":"IF(E51=\"\",\"\",SUMIFS(Limits_Detail!$K$24:$K$500,Limits_Detail!$B$24:$B$500,B51,Limits_Detail!$C$24:$C$500,C51,Limits_Detail!$D$24:$D$500,D51,Limits_Detail!$I$24:$I$500,\"Control Equipment Problems\"))","v":""},{"$f":"IF(E51=\"\",\"\",SUMIFS(Limits_Detail!$K$24:$K$500,Limits_Detail!$B$24:$B$500,B51,Limits_Detail!$C$24:$C$500,C51,Limits_Detail!$D$24:$D$500,D51,Limits_Detail!$I$24:$I$500,\"Process Problems\"))","v":""},{"$f":"IF(E51=\"\",\"\",SUMIFS(Limits_Detail!$K$24:$K$500,Limits_Detail!$B$24:$B$500,B51,Limits_Detail!$C$24:$C$500,C51,Limits_Detail!$D$24:$D$500,D51,Limits_Detail!$I$24:$I$500,\"Other Known Causes\"))","v":""},{"$f":"IF(E51=\"\",\"\",SUMIFS(Limits_Detail!$K$24:$K$500,Limits_Detail!$B$24:$B$500,B51,Limits_Detail!$C$24:$C$500,C51,Limits_Detail!$D$24:$D$500,D51,Limits_Detail!$I$24:$I$500,\"Other Unknown Causes\"))","v":""}]
[{"$nulls":5},{"$f":"IF(E52=\"\",\"\",SUMIFS(Limits_Detail!$K$24:$K$500,Limits_Detail!$B$24:$B$500,B52,Limits_Detail!$C$24:$C$500,C52,Limits_Detail!$D$24:$D$500,D52))","v":""},"",{"$f":"IF(E52=\"\",\"\",SUMIFS(Limits_Detail!$K$24:$K$500,Limits_Detail!$B$24:$B$500,B52,Limits_Detail!$C$24:$C$500,C52,Limits_Detail!$D$24:$D$500,D52,Limits_Detail!$I$24:$I$500,\"Control Equipment Problems\"))","v":""},{"$f":"IF(E52=\"\",\"\",SUMIFS(Limits_Detail!$K$24:$K$500,Limits_Detail!$B$24:$B$500,B52,Limits_Detail!$C$24:$C$500,C52,Limits_Detail!$D$24:$D$500,D52,Limits_Detail!$I$24:$I$500,\"Process Problems\"))","v":""},{"$f":"IF(E52=\"\",\"\",SUMIFS(Limits_Detail!$K$24:$K$500,Limits_Detail!$B$24:$B$500,B52,Limits_Detail!$C$24:$C$500,C52,Limits_Detail!$D$24:$D$500,D52,Limits_Detail!$I$24:$I$500,\"Other Known Causes\"))","v":""},{"$f":"IF(E52=\"\",\"\",SUMIFS(Limits_Detail!$K$24:$K$500,Limits_Detail!$B$24:$B$500,B52,Limits_Detail!$C$24:$C$500,C52,Limits_Detail!$D$24:$D$500,D52,Limits_Detail!$I$24:$I$500,\"Other Unknown Causes\"))","v":""}]
[{"$nulls":5},{"$f":"IF(E53=\"\",\"\",SUMIFS(Limits_Detail!$K$24:$K$500,Limits_Detail!$B$24:$B$500,B53,Limits_Detail!$C$24:$C$500,C53,Limits_Detail!$D$24:$D$500,D53))","v":""},"",{"$f":"IF(E53=\"\",\"\",SUMIFS(Limits_Detail!$K$24:$K$500,Limits_Detail!$B$24:$B$500,B53,Limits_Detail!$C$24:$C$500,C53,Limits_Detail!$D$24:$D$500,D53,Limits_Detail!$I$24:$I$500,\"Control Equipment Problems\"))","v":""},{"$f":"IF(E53=\"\",\"\",SUMIFS(Limits_Detail!$K$24:$K$500,Limits_Detail!$B$24:$B$500,B53,Limits_Detail!$C$24:$C$500,C53,Limits_Detail!$D$24:$D$500,D53,Limits_Detail!$I$24:$I$500,\"Process Problems\"))","v":""},{"$f":"IF(E53=\"\",\"\",SUMIFS(Limits_Detail!$K$24:$K$500,Limits_Detail!$B$24:$B$500,B53,Limits_Detail!$C$24:$C$500,C53,Limits_Detail!$D$24:$D$500,D53,Limits_Detail!$I$24:$I$500,\"Other Known Causes\"))","v":""},{"$f":"IF(E53=\"\",\"\",SUMIFS(Limits_Detail!$K$24:$K$500,Limits_Detail!$B$24:$B$500,B53,Limits_Detail!$C$24:$C$500,C53,Limits_Detail!$D$24:$D$500,D53,Limits_Detail!$I$24:$I$500,\"Other Unknown Causes\"))","v":""}]
[{"$nulls":5},{"$f":"IF(E54=\"\",\"\",SUMIFS(Limits_Detail!$K$24:$K$500,Limits_Detail!$B$24:$B$500,B54,Limits_Detail!$C$24:$C$500,C54,Limits_Detail!$D$24:$D$500,D54))","v":""},"",{"$f":"IF(E54=\"\",\"\",SUMIFS(Limits_Detail!$K$24:$K$500,Limits_Detail!$B$24:$B$500,B54,Limits_Detail!$C$24:$C$500,C54,Limits_Detail!$D$24:$D$500,D54,Limits_Detail!$I$24:$I$500,\"Control Equipment Problems\"))","v":""},{"$f":"IF(E54=\"\",\"\",SUMIFS(Limits_Detail!$K$24:$K$500,Limits_Detail!$B$24:$B$500,B54,Limits_Detail!$C$24:$C$500,C54,Limits_Detail!$D$24:$D$500,D54,Limits_Detail!$I$24:$I$500,\"Process Problems\"))","v":""},{"$f":"IF(E54=\"\",\"\",SUMIFS(Limits_Detail!$K$24:$K$500,Limits_Detail!$B$24:$B$500,B54,Limits_Detail!$C$24:$C$500,C54,Limits_Detail!$D$24:$D$500,D54,Limits_Detail!$I$24:$I$500,\"Other Known Causes\"))","v":""},{"$f":"IF(E54=\"\",\"\",SUMIFS(Limits_Detail!$K$24:$K$500,Limits_Detail!$B$24:$B$500,B54,Limits_Detail!$C$24:$C$500,C54,Limits_Detail!$D$24:$D$500,D54,Limits_Detail!$I$24:$I$500,\"Other Unknown Causes\"))","v":""}]
[{"$nulls":5},{"$f":"IF(E55=\"\",\"\",SUMIFS(Limits_Detail!$K$24:$K$500,Limits_Detail!$B$24:$B$500,B55,Limits_Detail!$C$24:$C$500,C55,Limits_Detail!$D$24:$D$500,D55))","v":""},"",{"$f":"IF(E55=\"\",\"\",SUMIFS(Limits_Detail!$K$24:$K$500,Limits_Detail!$B$24:$B$500,B55,Limits_Detail!$C$24:$C$500,C55,Limits_Detail!$D$24:$D$500,D55,Limits_Detail!$I$24:$I$500,\"Control Equipment Problems\"))","v":""},{"$f":"IF(E55=\"\",\"\",SUMIFS(Limits_Detail!$K$24:$K$500,Limits_Detail!$B$24:$B$500,B55,Limits_Detail!$C$24:$C$500,C55,Limits_Detail!$D$24:$D$500,D55,Limits_Detail!$I$24:$I$500,\"Process Problems\"))","v":""},{"$f":"IF(E55=\"\",\"\",SUMIFS(Limits_Detail!$K$24:$K$500,Limits_Detail!$B$24:$B$500,B55,Limits_Detail!$C$24:$C$500,C55,Limits_Detail!$D$24:$D$500,D55,Limits_Detail!$I$24:$I$500,\"Other Known Causes\"))","v":""},{"$f":"IF(E55=\"\",\"\",SUMIFS(Limits_Detail!$K$24:$K$500,Limits_Detail!$B$24:$B$500,B55,Limits_Detail!$C$24:$C$500,C55,Limits_Detail!$D$24:$D$500,D55,Limits_Detail!$I$24:$I$500,\"Other Unknown Causes\"))","v":""}]
[{"$nulls":5},{"$f":"IF(E56=\"\",\"\",SUMIFS(Limits_Detail!$K$24:$K$500,Limits_Detail!$B$24:$B$500,B56,Limits_Detail!$C$24:$C$500,C56,Limits_Detail!$D$24:$D$500,D56))","v":""},"",{"$f":"IF(E56=\"\",\"\",SUMIFS(Limits_Detail!$K$24:$K$500,Limits_Detail!$B$24:$B$500,B56,Limits_Detail!$C$24:$C$500,C56,Limits_Detail!$D$24:$D$500,D56,Limits_Detail!$I$24:$I$500,\"Control Equipment Problems\"))","v":""},{"$f":"IF(E56=\"\",\"\",SUMIFS(Limits_Detail!$K$24:$K$500,Limits_Detail!$B$24:$B$500,B56,Limits_Detail!$C$24:$C$500,C56,Limits_Detail!$D$24:$D$500,D56,Limits_Detail!$I$24:$I$500,\"Process Problems\"))","v":""},{"$f":"IF(E56=\"\",\"\",SUMIFS(Limits_Detail!$K$24:$K$500,Limits_Detail!$B$24:$B$500,B56,Limits_Detail!$C$24:$C$500,C56,Limits_Detail!$D$24:$D$500,D56,Limits_Detail!$I$24:$I$500,\"Other Known Causes\"))","v":""},{"$f":"IF(E56=\"\",\"\",SUMIFS(Limits_Detail!$K$24:$K$500,Limits_Detail!$B$24:$B$500,B56,Limits_Detail!$C$24:$C$500,C56,Limits_Detail!$D$24:$D$500,D56,Limits_Detail!$I$24:$I$500,\"Other Unknown Causes\"))","v":""}]
[{"$nulls":5},{"$f":"IF(E57=\"\",\"\",SUMIFS(Limits_Detail!$K$24:$K$500,Limits_Detail!$B$24:$B$500,B57,Limits_Detail!$C$24:$C$500,C57,Limits_Detail!$D$24:$D$500,D57))","v":""},"",{"$f":"IF(E57=\"\",\"\",SUMIFS(Limits_Detail!$K$24:$K$500,Limits_Detail!$B$24:$B$500,B57,Limits_Detail!$C$24:$C$500,C57,Limits_Detail!$D$24:$D$500,D57,Limits_Detail!$I$24:$I$500,\"Control Equipment Problems\"))","v":""},{"$f":"IF(E57=\"\",\"\",SUMIFS(Limits_Detail!$K$24:$K$500,Limits_Detail!$B$24:$B$500,B57,Limits_Detail!$C$24:$C$500,C57,Limits_Detail!$D$24:$D$500,D57,Limits_Detail!$I$24:$I$500,\"Process Problems\"))","v":""},{"$f":"IF(E57=\"\",\"\",SUMIFS(Limits_Detail!$K$24:$K$500,Limits_Detail!$B$24:$B$500,B57,Limits_Detail!$C$24:$C$500,C57,Limits_Detail!$D$24:$D$500,D57,Limits_Detail!$I$24:$I$500,\"Other Known Causes\"))","v":""},{"$f":"IF(E57=\"\",\"\",SUMIFS(Limits_Detail!$K$24:$K$500,Limits_Detail!$B$24:$B$500,B57,Limits_Detail!$C$24:$C$500,C57,Limits_Detail!$D$24:$D$500,D57,Limits_Detail!$I$24:$I$500,\"Other Unknown Causes\"))","v":""}]
[{"$nulls":5},{"$f":"IF(E58=\"\",\"\",SUMIFS(Limits_Detail!$K$24:$K$500,Limits_Detail!$B$24:$B$500,B58,Limits_Detail!$C$24:$C$500,C58,Limits_Detail!$D$24:$D$500,D58))","v":""},"",{"$f":"IF(E58=\"\",\"\",SUMIFS(Limits_Detail!$K$24:$K$500,Limits_Detail!$B$24:$B$500,B58,Limits_Detail!$C$24:$C$500,C58,Limits_Detail!$D$24:$D$500,D58,Limits_Detail!$I$24:$I$500,\"Control Equipment Problems\"))","v":""},{"$f":"IF(E58=\"\",\"\",SUMIFS(Limits_Detail!$K$24:$K$500,Limits_Detail!$B$24:$B$500,B58,Limits_Detail!$C$24:$C$500,C58,Limits_Detail!$D$24:$D$500,D58,Limits_Detail!$I$24:$I$500,\"Process Problems\"))","v":""},{"$f":"IF(E58=\"\",\"\",SUMIFS(Limits_Detail!$K$24:$K$500,Limits_Detail!$B$24:$B$500,B58,Limits_Detail!$C$24:$C$500,C58,Limits_Detail!$D$24:$D$500,D58,Limits_Detail!$I$24:$I$500,\"Other Known Causes\"))","v":""},{"$f":"IF(E58=\"\",\"\",SUMIFS(Limits_Detail!$K$24:$K$500,Limits_Detail!$B$24:$B$500,B58,Limits_Detail!$C$24:$C$500,C58,Limits_Detail!$D$24:$D$500,D58,Limits_Detail!$I$24:$I$500,\"Other Unknown Causes\"))","v":""}]
[{"$nulls":5},{"$f":"IF(E59=\"\",\"\",SUMIFS(Limits_Detail!$K$24:$K$500,Limits_Detail!$B$24:$B$500,B59,Limits_Detail!$C$24:$C$500,C59,Limits_Detail!$D$24:$D$500,D59))","v":""},"",{"$f":"IF(E59=\"\",\"\",SUMIFS(Limits_Detail!$K$24:$K$500,Limits_Detail!$B$24:$B$500,B59,Limits_Detail!$C$24:$C$500,C59,Limits_Detail!$D$24:$D$500,D59,Limits_Detail!$I$24:$I$500,\"Control Equipment Problems\"))","v":""},{"$f":"IF(E59=\"\",\"\",SUMIFS(Limits_Detail!$K$24:$K$500,Limits_Detail!$B$24:$B$500,B59,Limits_Detail!$C$24:$C$500,C59,Limits_Detail!$D$24:$D$500,D59,Limits_Detail!$I$24:$I$500,\"Process Problems\"))","v":""},{"$f":"IF(E59=\"\",\"\",SUMIFS(Limits_Detail!$K$24:$K$500,Limits_Detail!$B$24:$B$500,B59,Limits_Detail!$C$24:$C$500,C59,Limits_Detail!$D$24:$D$500,D59,Limits_Detail!$I$24:$I$500,\"Other Known Causes\"))","v":""},{"$f":"IF(E59=\"\",\"\",SUMIFS(Limits_Detail!$K$24:$K$500,Limits_Detail!$B$24:$B$500,B59,Limits_Detail!$C$24:$C$500,C59,Limits_Detail!$D$24:$D$500,D59,Limits_Detail!$I$24:$I$500,\"Other Unknown Causes\"))","v":""}]
[{"$nulls":5},{"$f":"IF(E60=\"\",\"\",SUMIFS(Limits_Detail!$K$24:$K$500,Limits_Detail!$B$24:$B$500,B60,Limits_Detail!$C$24:$C$500,C60,Limits_Detail!$D$24:$D$500,D60))","v":""},"",{"$f":"IF(E60=\"\",\"\",SUMIFS(Limits_Detail!$K$24:$K$500,Limits_Detail!$B$24:$B$500,B60,Limits_Detail!$C$24:$C$500,C60,Limits_Detail!$D$24:$D$500,D60,Limits_Detail!$I$24:$I$500,\"Control Equipment Problems\"))","v":""},{"$f":"IF(E60=\"\",\"\",SUMIFS(Limits_Detail!$K$24:$K$500,Limits_Detail!$B$24:$B$500,B60,Limits_Detail!$C$24:$C$500,C60,Limits_Detail!$D$24:$D$500,D60,Limits_Detail!$I$24:$I$500,\"Process Problems\"))","v":""},{"$f":"IF(E60=\"\",\"\",SUMIFS(Limits_Detail!$K$24:$K$500,Limits_Detail!$B$24:$B$500,B60,Limits_Detail!$C$24:$C$500,C60,Limits_Detail!$D$24:$D$500,D60,Limits_Detail!$I$24:$I$500,\"Other Known Causes\"))","v":""},{"$f":"IF(E60=\"\",\"\",SUMIFS(Limits_Detail!$K$24:$K$500,Limits_Detail!$B$24:$B$500,B60,Limits_Detail!$C$24:$C$500,C60,Limits_Detail!$D$24:$D$500,D60,Limits_Detail!$I$24:$I$500,\"Other Unknown Causes\"))","v":""}]
[{"$nulls":5},{"$f":"IF(E61=\"\",\"\",SUMIFS(Limits_Detail!$K$24:$K$500,Limits_Detail!$B$24:$B$500,B61,Limits_Detail!$C$24:$C$500,C61,Limits_Detail!$D$24:$D$500,D61))","v":""},"",{"$f":"IF(E61=\"\",\"\",SUMIFS(Limits_Detail!$K$24:$K$500,Limits_Detail!$B$24:$B$500,B61,Limits_Detail!$C$24:$C$500,C61,Limits_Detail!$D$24:$D$500,D61,Limits_Detail!$I$24:$I$500,\"Control Equipment Problems\"))","v":""},{"$f":"IF(E61=\"\",\"\",SUMIFS(Limits_Detail!$K$24:$K$500,Limits_Detail!$B$24:$B$500,B61,Limits_Detail!$C$24:$C$500,C61,Limits_Detail!$D$24:$D$500,D61,Limits_Detail!$I$24:$I$500,\"Process Problems\"))","v":""},{"$f":"IF(E61=\"\",\"\",SUMIFS(Limits_Detail!$K$24:$K$500,Limits_Detail!$B$24:$B$500,B61,Limits_Detail!$C$24:$C$500,C61,Limits_Detail!$D$24:$D$500,D61,Limits_Detail!$I$24:$I$500,\"Other Known Causes\"))","v":""},{"$f":"IF(E61=\"\",\"\",SUMIFS(Limits_Detail!$K$24:$K$500,Limits_Detail!$B$24:$B$500,B61,Limits_Detail!$C$24:$C$500,C61,Limits_Detail!$D$24:$D$500,D61,Limits_Detail!$I$24:$I$500,\"Other Unknown Causes\"))","v":""}]
[{"$nulls":5},{"$f":"IF(E62=\"\",\"\",SUMIFS(Limits_Detail!$K$24:$K$500,Limits_Detail!$B$24:$B$500,B62,Limits_Detail!$C$24:$C$500,C62,Limits_Detail!$D$24:$D$500,D62))","v":""},"",{"$f":"IF(E62=\"\",\"\",SUMIFS(Limits_Detail!$K$24:$K$500,Limits_Detail!$B$24:$B$500,B62,Limits_Detail!$C$24:$C$500,C62,Limits_Detail!$D$24:$D$500,D62,Limits_Detail!$I$24:$I$500,\"Control Equipment Problems\"))","v":""},{"$f":"IF(E62=\"\",\"\",SUMIFS(Limits_Detail!$K$24:$K$500,Limits_Detail!$B$24:$B$500,B62,Limits_Detail!$C$24:$C$500,C62,Limits_Detail!$D$24:$D$500,D62,Limits_Detail!$I$24:$I$500,\"Process Problems\"))","v":""},{"$f":"IF(E62=\"\",\"\",SUMIFS(Limits_Detail!$K$24:$K$500,Limits_Detail!$B$24:$B$500,B62,Limits_Detail!$C$24:$C$500,C62,Limits_Detail!$D$24:$D$500,D62,Limits_Detail!$I$24:$I$500,\"Other Known Causes\"))","v":""},{"$f":"IF(E62=\"\",\"\",SUMIFS(Limits_Detail!$K$24:$K$500,Limits_Detail!$B$24:$B$500,B62,Limits_Detail!$C$24:$C$500,C62,Limits_Detail!$D$24:$D$500,D62,Limits_Detail!$I$24:$I$500,\"Other Unknown Causes\"))","v":""}]
[{"$nulls":5},{"$f":"IF(E63=\"\",\"\",SUMIFS(Limits_Detail!$K$24:$K$500,Limits_Detail!$B$24:$B$500,B63,Limits_Detail!$C$24:$C$500,C63,Limits_Detail!$D$24:$D$500,D63))","v":""},"",{"$f":"IF(E63=\"\",\"\",SUMIFS(Limits_Detail!$K$24:$K$500,Limits_Detail!$B$24:$B$500,B63,Limits_Detail!$C$24:$C$500,C63,Limits_Detail!$D$24:$D$500,D63,Limits_Detail!$I$24:$I$500,\"Control Equipment Problems\"))","v":""},{"$f":"IF(E63=\"\",\"\",SUMIFS(Limits_Detail!$K$24:$K$500,Limits_Detail!$B$24:$B$500,B63,Limits_Detail!$C$24:$C$500,C63,Limits_Detail!$D$24:$D$500,D63,Limits_Detail!$I$24:$I$500,\"Process Problems\"))","v":""},{"$f":"IF(E63=\"\",\"\",SUMIFS(Limits_Detail!$K$24:$K$500,Limits_Detail!$B$24:$B$500,B63,Limits_Detail!$C$24:$C$500,C63,Limits_Detail!$D$24:$D$500,D63,Limits_Detail!$I$24:$I$500,\"Other Known Causes\"))","v":""},{"$f":"IF(E63=\"\",\"\",SUMIFS(Limits_Detail!$K$24:$K$500,Limits_Detail!$B$24:$B$500,B63,Limits_Detail!$C$24:$C$500,C63,Limits_Detail!$D$24:$D$500,D63,Limits_Detail!$I$24:$I$500,\"Other Unknown Causes\"))","v":""}]
[{"$nulls":5},{"$f":"IF(E64=\"\",\"\",SUMIFS(Limits_Detail!$K$24:$K$500,Limits_Detail!$B$24:$B$500,B64,Limits_Detail!$C$24:$C$500,C64,Limits_Detail!$D$24:$D$500,D64))","v":""},"",{"$f":"IF(E64=\"\",\"\",SUMIFS(Limits_Detail!$K$24:$K$500,Limits_Detail!$B$24:$B$500,B64,Limits_Detail!$C$24:$C$500,C64,Limits_Detail!$D$24:$D$500,D64,Limits_Detail!$I$24:$I$500,\"Control Equipment Problems\"))","v":""},{"$f":"IF(E64=\"\",\"\",SUMIFS(Limits_Detail!$K$24:$K$500,Limits_Detail!$B$24:$B$500,B64,Limits_Detail!$C$24:$C$500,C64,Limits_Detail!$D$24:$D$500,D64,Limits_Detail!$I$24:$I$500,\"Process Problems\"))","v":""},{"$f":"IF(E64=\"\",\"\",SUMIFS(Limits_Detail!$K$24:$K$500,Limits_Detail!$B$24:$B$500,B64,Limits_Detail!$C$24:$C$500,C64,Limits_Detail!$D$24:$D$500,D64,Limits_Detail!$I$24:$I$500,\"Other Known Causes\"))","v":""},{"$f":"IF(E64=\"\",\"\",SUMIFS(Limits_Detail!$K$24:$K$500,Limits_Detail!$B$24:$B$500,B64,Limits_Detail!$C$24:$C$500,C64,Limits_Detail!$D$24:$D$500,D64,Limits_Detail!$I$24:$I$500,\"Other Unknown Causes\"))","v":""}]
[{"$nulls":5},{"$f":"IF(E65=\"\",\"\",SUMIFS(Limits_Detail!$K$24:$K$500,Limits_Detail!$B$24:$B$500,B65,Limits_Detail!$C$24:$C$500,C65,Limits_Detail!$D$24:$D$500,D65))","v":""},"",{"$f":"IF(E65=\"\",\"\",SUMIFS(Limits_Detail!$K$24:$K$500,Limits_Detail!$B$24:$B$500,B65,Limits_Detail!$C$24:$C$500,C65,Limits_Detail!$D$24:$D$500,D65,Limits_Detail!$I$24:$I$500,\"Control Equipment Problems\"))","v":""},{"$f":"IF(E65=\"\",\"\",SUMIFS(Limits_Detail!$K$24:$K$500,Limits_Detail!$B$24:$B$500,B65,Limits_Detail!$C$24:$C$500,C65,Limits_Detail!$D$24:$D$500,D65,Limits_Detail!$I$24:$I$500,\"Process Problems\"))","v":""},{"$f":"IF(E65=\"\",\"\",SUMIFS(Limits_Detail!$K$24:$K$500,Limits_Detail!$B$24:$B$500,B65,Limits_Detail!$C$24:$C$500,C65,Limits_Detail!$D$24:$D$500,D65,Limits_Detail!$I$24:$I$500,\"Other Known Causes\"))","v":""},{"$f":"IF(E65=\"\",\"\",SUMIFS(Limits_Detail!$K$24:$K$500,Limits_Detail!$B$24:$B$500,B65,Limits_Detail!$C$24:$C$500,C65,Limits_Detail!$D$24:$D$500,D65,Limits_Detail!$I$24:$I$500,\"Other Unknown Causes\"))","v":""}]
[{"$nulls":5},{"$f":"IF(E66=\"\",\"\",SUMIFS(Limits_Detail!$K$24:$K$500,Limits_Detail!$B$24:$B$500,B66,Limits_Detail!$C$24:$C$500,C66,Limits_Detail!$D$24:$D$500,D66))","v":""},"",{"$f":"IF(E66=\"\",\"\",SUMIFS(Limits_Detail!$K$24:$K$500,Limits_Detail!$B$24:$B$500,B66,Limits_Detail!$C$24:$C$500,C66,Limits_Detail!$D$24:$D$500,D66,Limits_Detail!$I$24:$I$500,\"Control Equipment Problems\"))","v":""},{"$f":"IF(E66=\"\",\"\",SUMIFS(Limits_Detail!$K$24:$K$500,Limits_Detail!$B$24:$B$500,B66,Limits_Detail!$C$24:$C$500,C66,Limits_Detail!$D$24:$D$500,D66,Limits_Detail!$I$24:$I$500,\"Process Problems\"))","v":""},{"$f":"IF(E66=\"\",\"\",SUMIFS(Limits_Detail!$K$24:$K$500,Limits_Detail!$B$24:$B$500,B66,Limits_Detail!$C$24:$C$500,C66,Limits_Detail!$D$24:$D$500,D66,Limits_Detail!$I$24:$I$500,\"Other Known Causes\"))","v":""},{"$f":"IF(E66=\"\",\"\",SUMIFS(Limits_Detail!$K$24:$K$500,Limits_Detail!$B$24:$B$500,B66,Limits_Detail!$C$24:$C$500,C66,Limits_Detail!$D$24:$D$500,D66,Limits_Detail!$I$24:$I$500,\"Other Unknown Causes\"))","v":""}]
[{"$nulls":5},{"$f":"IF(E67=\"\",\"\",SUMIFS(Limits_Detail!$K$24:$K$500,Limits_Detail!$B$24:$B$500,B67,Limits_Detail!$C$24:$C$500,C67,Limits_Detail!$D$24:$D$500,D67))","v":""},"",{"$f":"IF(E67=\"\",\"\",SUMIFS(Limits_Detail!$K$24:$K$500,Limits_Detail!$B$24:$B$500,B67,Limits_Detail!$C$24:$C$500,C67,Limits_Detail!$D$24:$D$500,D67,Limits_Detail!$I$24:$I$500,\"Control Equipment Problems\"))","v":""},{"$f":"IF(E67=\"\",\"\",SUMIFS(Limits_Detail!$K$24:$K$500,Limits_Detail!$B$24:$B$500,B67,Limits_Detail!$C$24:$C$500,C67,Limits_Detail!$D$24:$D$500,D67,Limits_Detail!$I$24:$I$500,\"Process Problems\"))","v":""},{"$f":"IF(E67=\"\",\"\",SUMIFS(Limits_Detail!$K$24:$K$500,Limits_Detail!$B$24:$B$500,B67,Limits_Detail!$C$24:$C$500,C67,Limits_Detail!$D$24:$D$500,D67,Limits_Detail!$I$24:$I$500,\"Other Known Causes\"))","v":""},{"$f":"IF(E67=\"\",\"\",SUMIFS(Limits_Detail!$K$24:$K$500,Limits_Detail!$B$24:$B$500,B67,Limits_Detail!$C$24:$C$500,C67,Limits_Detail!$D$24:$D$500,D67,Limits_Detail!$I$24:$I$500,\"Other Unknown Causes\"))","v":""}]
[{"$nulls":5},{"$f":"IF(E68=\"\",\"\",SUMIFS(Limits_Detail!$K$24:$K$500,Limits_Detail!$B$24:$B$500,B68,Limits_Detail!$C$24:$C$500,C68,Limits_Detail!$D$24:$D$500,D68))","v":""},"",{"$f":"IF(E68=\"\",\"\",SUMIFS(Limits_Detail!$K$24:$K$500,Limits_Detail!$B$24:$B$500,B68,Limits_Detail!$C$24:$C$500,C68,Limits_Detail!$D$24:$D$500,D68,Limits_Detail!$I$24:$I$500,\"Control Equipment Problems\"))","v":""},{"$f":"IF(E68=\"\",\"\",SUMIFS(Limits_Detail!$K$24:$K$500,Limits_Detail!$B$24:$B$500,B68,Limits_Detail!$C$24:$C$500,C68,Limits_Detail!$D$24:$D$500,D68,Limits_Detail!$I$24:$I$500,\"Process Problems\"))","v":""},{"$f":"IF(E68=\"\",\"\",SUMIFS(Limits_Detail!$K$24:$K$500,Limits_Detail!$B$24:$B$500,B68,Limits_Detail!$C$24:$C$500,C68,Limits_Detail!$D$24:$D$500,D68,Limits_Detail!$I$24:$I$500,\"Other Known Causes\"))","v":""},{"$f":"IF(E68=\"\",\"\",SUMIFS(Limits_Detail!$K$24:$K$500,Limits_Detail!$B$24:$B$500,B68,Limits_Detail!$C$24:$C$500,C68,Limits_Detail!$D$24:$D$500,D68,Limits_Detail!$I$24:$I$500,\"Other Unknown Causes\"))","v":""}]
[{"$nulls":5},{"$f":"IF(E69=\"\",\"\",SUMIFS(Limits_Detail!$K$24:$K$500,Limits_Detail!$B$24:$B$500,B69,Limits_Detail!$C$24:$C$500,C69,Limits_Detail!$D$24:$D$500,D69))","v":""},"",{"$f":"IF(E69=\"\",\"\",SUMIFS(Limits_Detail!$K$24:$K$500,Limits_Detail!$B$24:$B$500,B69,Limits_Detail!$C$24:$C$500,C69,Limits_Detail!$D$24:$D$500,D69,Limits_Detail!$I$24:$I$500,\"Control Equipment Problems\"))","v":""},{"$f":"IF(E69=\"\",\"\",SUMIFS(Limits_Detail!$K$24:$K$500,Limits_Detail!$B$24:$B$500,B69,Limits_Detail!$C$24:$C$500,C69,Limits_Detail!$D$24:$D$500,D69,Limits_Detail!$I$24:$I$500,\"Process Problems\"))","v":""},{"$f":"IF(E69=\"\",\"\",SUMIFS(Limits_Detail!$K$24:$K$500,Limits_Detail!$B$24:$B$500,B69,Limits_Detail!$C$24:$C$500,C69,Limits_Detail!$D$24:$D$500,D69,Limits_Detail!$I$24:$I$500,\"Other Known Causes\"))","v":""},{"$f":"IF(E69=\"\",\"\",SUMIFS(Limits_Detail!$K$24:$K$500,Limits_Detail!$B$24:$B$500,B69,Limits_Detail!$C$24:$C$500,C69,Limits_Detail!$D$24:$D$500,D69,Limits_Detail!$I$24:$I$500,\"Other Unknown Causes\"))","v":""}]
[{"$nulls":5},{"$f":"IF(E70=\"\",\"\",SUMIFS(Limits_Detail!$K$24:$K$500,Limits_Detail!$B$24:$B$500,B70,Limits_Detail!$C$24:$C$500,C70,Limits_Detail!$D$24:$D$500,D70))","v":""},"",{"$f":"IF(E70=\"\",\"\",SUMIFS(Limits_Detail!$K$24:$K$500,Limits_Detail!$B$24:$B$500,B70,Limits_Detail!$C$24:$C$500,C70,Limits_Detail!$D$24:$D$500,D70,Limits_Detail!$I$24:$I$500,\"Control Equipment Problems\"))","v":""},{"$f":"IF(E70=\"\",\"\",SUMIFS(Limits_Detail!$K$24:$K$500,Limits_Detail!$B$24:$B$500,B70,Limits_Detail!$C$24:$C$500,C70,Limits_Detail!$D$24:$D$500,D70,Limits_Detail!$I$24:$I$500,\"Process Problems\"))","v":""},{"$f":"IF(E70=\"\",\"\",SUMIFS(Limits_Detail!$K$24:$K$500,Limits_Detail!$B$24:$B$500,B70,Limits_Detail!$C$24:$C$500,C70,Limits_Detail!$D$24:$D$500,D70,Limits_Detail!$I$24:$I$500,\"Other Known Causes\"))","v":""},{"$f":"IF(E70=\"\",\"\",SUMIFS(Limits_Detail!$K$24:$K$500,Limits_Detail!$B$24:$B$500,B70,Limits_Detail!$C$24:$C$500,C70,Limits_Detail!$D$24:$D$500,D70,Limits_Detail!$I$24:$I$500,\"Other Unknown Causes\"))","v":""}]
[{"$nulls":5},{"$f":"IF(E71=\"\",\"\",SUMIFS(Limits_Detail!$K$24:$K$500,Limits_Detail!$B$24:$B$500,B71,Limits_Detail!$C$24:$C$500,C71,Limits_Detail!$D$24:$D$500,D71))","v":""},"",{"$f":"IF(E71=\"\",\"\",SUMIFS(Limits_Detail!$K$24:$K$500,Limits_Detail!$B$24:$B$500,B71,Limits_Detail!$C$24:$C$500,C71,Limits_Detail!$D$24:$D$500,D71,Limits_Detail!$I$24:$I$500,\"Control Equipment Problems\"))","v":""},{"$f":"IF(E71=\"\",\"\",SUMIFS(Limits_Detail!$K$24:$K$500,Limits_Detail!$B$24:$B$500,B71,Limits_Detail!$C$24:$C$500,C71,Limits_Detail!$D$24:$D$500,D71,Limits_Detail!$I$24:$I$500,\"Process Problems\"))","v":""},{"$f":"IF(E71=\"\",\"\",SUMIFS(Limits_Detail!$K$24:$K$500,Limits_Detail!$B$24:$B$500,B71,Limits_Detail!$C$24:$C$500,C71,Limits_Detail!$D$24:$D$500,D71,Limits_Detail!$I$24:$I$500,\"Other Known Causes\"))","v":""},{"$f":"IF(E71=\"\",\"\",SUMIFS(Limits_Detail!$K$24:$K$500,Limits_Detail!$B$24:$B$500,B71,Limits_Detail!$C$24:$C$500,C71,Limits_Detail!$D$24:$D$500,D71,Limits_Detail!$I$24:$I$500,\"Other Unknown Causes\"))","v":""}]
[{"$nulls":5},{"$f":"IF(E72=\"\",\"\",SUMIFS(Limits_Detail!$K$24:$K$500,Limits_Detail!$B$24:$B$500,B72,Limits_Detail!$C$24:$C$500,C72,Limits_Detail!$D$24:$D$500,D72))","v":""},"",{"$f":"IF(E72=\"\",\"\",SUMIFS(Limits_Detail!$K$24:$K$500,Limits_Detail!$B$24:$B$500,B72,Limits_Detail!$C$24:$C$500,C72,Limits_Detail!$D$24:$D$500,D72,Limits_Detail!$I$24:$I$500,\"Control Equipment Problems\"))","v":""},{"$f":"IF(E72=\"\",\"\",SUMIFS(Limits_Detail!$K$24:$K$500,Limits_Detail!$B$24:$B$500,B72,Limits_Detail!$C$24:$C$500,C72,Limits_Detail!$D$24:$D$500,D72,Limits_Detail!$I$24:$I$500,\"Process Problems\"))","v":""},{"$f":"IF(E72=\"\",\"\",SUMIFS(Limits_Detail!$K$24:$K$500,Limits_Detail!$B$24:$B$500,B72,Limits_Detail!$C$24:$C$500,C72,Limits_Detail!$D$24:$D$500,D72,Limits_Detail!$I$24:$I$500,\"Other Known Causes\"))","v":""},{"$f":"IF(E72=\"\",\"\",SUMIFS(Limits_Detail!$K$24:$K$500,Limits_Detail!$B$24:$B$500,B72,Limits_Detail!$C$24:$C$500,C72,Limits_Detail!$D$24:$D$500,D72,Limits_Detail!$I$24:$I$500,\"Other Unknown Causes\"))","v":""}]
[{"$nulls":5},{"$f":"IF(E73=\"\",\"\",SUMIFS(Limits_Detail!$K$24:$K$500,Limits_Detail!$B$24:$B$500,B73,Limits_Detail!$C$24:$C$500,C73,Limits_Detail!$D$24:$D$500,D73))","v":""},"",{"$f":"IF(E73=\"\",\"\",SUMIFS(Limits_Detail!$K$24:$K$500,Limits_Detail!$B$24:$B$500,B73,Limits_Detail!$C$24:$C$500,C73,Limits_Detail!$D$24:$D$500,D73,Limits_Detail!$I$24:$I$500,\"Control Equipment Problems\"))","v":""},{"$f":"IF(E73=\"\",\"\",SUMIFS(Limits_Detail!$K$24:$K$500,Limits_Detail!$B$24:$B$500,B73,Limits_Detail!$C$24:$C$500,C73,Limits_Detail!$D$24:$D$500,D73,Limits_Detail!$I$24:$I$500,\"Process Problems\"))","v":""},{"$f":"IF(E73=\"\",\"\",SUMIFS(Limits_Detail!$K$24:$K$500,Limits_Detail!$B$24:$B$500,B73,Limits_Detail!$C$24:$C$500,C73,Limits_Detail!$D$24:$D$500,D73,Limits_Detail!$I$24:$I$500,\"Other Known Causes\"))","v":""},{"$f":"IF(E73=\"\",\"\",SUMIFS(Limits_Detail!$K$24:$K$500,Limits_Detail!$B$24:$B$500,B73,Limits_Detail!$C$24:$C$500,C73,Limits_Detail!$D$24:$D$500,D73,Limits_Detail!$I$24:$I$500,\"Other Unknown Causes\"))","v":""}]
[{"$nulls":5},{"$f":"IF(E74=\"\",\"\",SUMIFS(Limits_Detail!$K$24:$K$500,Limits_Detail!$B$24:$B$500,B74,Limits_Detail!$C$24:$C$500,C74,Limits_Detail!$D$24:$D$500,D74))","v":""},"",{"$f":"IF(E74=\"\",\"\",SUMIFS(Limits_Detail!$K$24:$K$500,Limits_Detail!$B$24:$B$500,B74,Limits_Detail!$C$24:$C$500,C74,Limits_Detail!$D$24:$D$500,D74,Limits_Detail!$I$24:$I$500,\"Control Equipment Problems\"))","v":""},{"$f":"IF(E74=\"\",\"\",SUMIFS(Limits_Detail!$K$24:$K$500,Limits_Detail!$B$24:$B$500,B74,Limits_Detail!$C$24:$C$500,C74,Limits_Detail!$D$24:$D$500,D74,Limits_Detail!$I$24:$I$500,\"Process Problems\"))","v":""},{"$f":"IF(E74=\"\",\"\",SUMIFS(Limits_Detail!$K$24:$K$500,Limits_Detail!$B$24:$B$500,B74,Limits_Detail!$C$24:$C$500,C74,Limits_Detail!$D$24:$D$500,D74,Limits_Detail!$I$24:$I$500,\"Other Known Causes\"))","v":""},{"$f":"IF(E74=\"\",\"\",SUMIFS(Limits_Detail!$K$24:$K$500,Limits_Detail!$B$24:$B$500,B74,Limits_Detail!$C$24:$C$500,C74,Limits_Detail!$D$24:$D$500,D74,Limits_Detail!$I$24:$I$500,\"Other Unknown Causes\"))","v":""}]
[{"$nulls":5},{"$f":"IF(E75=\"\",\"\",SUMIFS(Limits_Detail!$K$24:$K$500,Limits_Detail!$B$24:$B$500,B75,Limits_Detail!$C$24:$C$500,C75,Limits_Detail!$D$24:$D$500,D75))","v":""},"",{"$f":"IF(E75=\"\",\"\",SUMIFS(Limits_Detail!$K$24:$K$500,Limits_Detail!$B$24:$B$500,B75,Limits_Detail!$C$24:$C$500,C75,Limits_Detail!$D$24:$D$500,D75,Limits_Detail!$I$24:$I$500,\"Control Equipment Problems\"))","v":""},{"$f":"IF(E75=\"\",\"\",SUMIFS(Limits_Detail!$K$24:$K$500,Limits_Detail!$B$24:$B$500,B75,Limits_Detail!$C$24:$C$500,C75,Limits_Detail!$D$24:$D$500,D75,Limits_Detail!$I$24:$I$500,\"Process Problems\"))","v":""},{"$f":"IF(E75=\"\",\"\",SUMIFS(Limits_Detail!$K$24:$K$500,Limits_Detail!$B$24:$B$500,B75,Limits_Detail!$C$24:$C$500,C75,Limits_Detail!$D$24:$D$500,D75,Limits_Detail!$I$24:$I$500,\"Other Known Causes\"))","v":""},{"$f":"IF(E75=\"\",\"\",SUMIFS(Limits_Detail!$K$24:$K$500,Limits_Detail!$B$24:$B$500,B75,Limits_Detail!$C$24:$C$500,C75,Limits_Detail!$D$24:$D$500,D75,Limits_Detail!$I$24:$I$500,\"Other Unknown Causes\"))","v":""}]
[{"$nulls":5},{"$f":"IF(E76=\"\",\"\",SUMIFS(Limits_Detail!$K$24:$K$500,Limits_Detail!$B$24:$B$500,B76,Limits_Detail!$C$24:$C$500,C76,Limits_Detail!$D$24:$D$500,D76))","v":""},"",{"$f":"IF(E76=\"\",\"\",SUMIFS(Limits_Detail!$K$24:$K$500,Limits_Detail!$B$24:$B$500,B76,Limits_Detail!$C$24:$C$500,C76,Limits_Detail!$D$24:$D$500,D76,Limits_Detail!$I$24:$I$500,\"Control Equipment Problems\"))","v":""},{"$f":"IF(E76=\"\",\"\",SUMIFS(Limits_Detail!$K$24:$K$500,Limits_Detail!$B$24:$B$500,B76,Limits_Detail!$C$24:$C$500,C76,Limits_Detail!$D$24:$D$500,D76,Limits_Detail!$I$24:$I$500,\"Process Problems\"))","v":""},{"$f":"IF(E76=\"\",\"\",SUMIFS(Limits_Detail!$K$24:$K$500,Limits_Detail!$B$24:$B$500,B76,Limits_Detail!$C$24:$C$500,C76,Limits_Detail!$D$24:$D$500,D76,Limits_Detail!$I$24:$I$500,\"Other Known Causes\"))","v":""},{"$f":"IF(E76=\"\",\"\",SUMIFS(Limits_Detail!$K$24:$K$500,Limits_Detail!$B$24:$B$500,B76,Limits_Detail!$C$24:$C$500,C76,Limits_Detail!$D$24:$D$500,D76,Limits_Detail!$I$24:$I$500,\"Other Unknown Causes\"))","v":""}]
[{"$nulls":5},{"$f":"IF(E77=\"\",\"\",SUMIFS(Limits_Detail!$K$24:$K$500,Limits_Detail!$B$24:$B$500,B77,Limits_Detail!$C$24:$C$500,C77,Limits_Detail!$D$24:$D$500,D77))","v":""},"",{"$f":"IF(E77=\"\",\"\",SUMIFS(Limits_Detail!$K$24:$K$500,Limits_Detail!$B$24:$B$500,B77,Limits_Detail!$C$24:$C$500,C77,Limits_Detail!$D$24:$D$500,D77,Limits_Detail!$I$24:$I$500,\"Control Equipment Problems\"))","v":""},{"$f":"IF(E77=\"\",\"\",SUMIFS(Limits_Detail!$K$24:$K$500,Limits_Detail!$B$24:$B$500,B77,Limits_Detail!$C$24:$C$500,C77,Limits_Detail!$D$24:$D$500,D77,Limits_Detail!$I$24:$I$500,\"Process Problems\"))","v":""},{"$f":"IF(E77=\"\",\"\",SUMIFS(Limits_Detail!$K$24:$K$500,Limits_Detail!$B$24:$B$500,B77,Limits_Detail!$C$24:$C$500,C77,Limits_Detail!$D$24:$D$500,D77,Limits_Detail!$I$24:$I$500,\"Other Known Causes\"))","v":""},{"$f":"IF(E77=\"\",\"\",SUMIFS(Limits_Detail!$K$24:$K$500,Limits_Detail!$B$24:$B$500,B77,Limits_Detail!$C$24:$C$500,C77,Limits_Detail!$D$24:$D$500,D77,Limits_Detail!$I$24:$I$500,\"Other Unknown Causes\"))","v":""}]
[{"$nulls":5},{"$f":"IF(E78=\"\",\"\",SUMIFS(Limits_Detail!$K$24:$K$500,Limits_Detail!$B$24:$B$500,B78,Limits_Detail!$C$24:$C$500,C78,Limits_Detail!$D$24:$D$500,D78))","v":""},"",{"$f":"IF(E78=\"\",\"\",SUMIFS(Limits_Detail!$K$24:$K$500,Limits_Detail!$B$24:$B$500,B78,Limits_Detail!$C$24:$C$500,C78,Limits_Detail!$D$24:$D$500,D78,Limits_Detail!$I$24:$I$500,\"Control Equipment Problems\"))","v":""},{"$f":"IF(E78=\"\",\"\",SUMIFS(Limits_Detail!$K$24:$K$500,Limits_Detail!$B$24:$B$500,B78,Limits_Detail!$C$24:$C$500,C78,Limits_Detail!$D$24:$D$500,D78,Limits_Detail!$I$24:$I$500,\"Process Problems\"))","v":""},{"$f":"IF(E78=\"\",\"\",SUMIFS(Limits_Detail!$K$24:$K$500,Limits_Detail!$B$24:$B$500,B78,Limits_Detail!$C$24:$C$500,C78,Limits_Detail!$D$24:$D$500,D78,Limits_Detail!$I$24:$I$500,\"Other Known Causes\"))","v":""},{"$f":"IF(E78=\"\",\"\",SUMIFS(Limits_Detail!$K$24:$K$500,Limits_Detail!$B$24:$B$500,B78,Limits_Detail!$C$24:$C$500,C78,Limits_Detail!$D$24:$D$500,D78,Limits_Detail!$I$24:$I$500,\"Other Unknown Causes\"))","v":""}]
[{"$nulls":5},{"$f":"IF(E79=\"\",\"\",SUMIFS(Limits_Detail!$K$24:$K$500,Limits_Detail!$B$24:$B$500,B79,Limits_Detail!$C$24:$C$500,C79,Limits_Detail!$D$24:$D$500,D79))","v":""},"",{"$f":"IF(E79=\"\",\"\",SUMIFS(Limits_Detail!$K$24:$K$500,Limits_Detail!$B$24:$B$500,B79,Limits_Detail!$C$24:$C$500,C79,Limits_Detail!$D$24:$D$500,D79,Limits_Detail!$I$24:$I$500,\"Control Equipment Problems\"))","v":""},{"$f":"IF(E79=\"\",\"\",SUMIFS(Limits_Detail!$K$24:$K$500,Limits_Detail!$B$24:$B$500,B79,Limits_Detail!$C$24:$C$500,C79,Limits_Detail!$D$24:$D$500,D79,Limits_Detail!$I$24:$I$500,\"Process Problems\"))","v":""},{"$f":"IF(E79=\"\",\"\",SUMIFS(Limits_Detail!$K$24:$K$500,Limits_Detail!$B$24:$B$500,B79,Limits_Detail!$C$24:$C$500,C79,Limits_Detail!$D$24:$D$500,D79,Limits_Detail!$I$24:$I$500,\"Other Known Causes\"))","v":""},{"$f":"IF(E79=\"\",\"\",SUMIFS(Limits_Detail!$K$24:$K$500,Limits_Detail!$B$24:$B$500,B79,Limits_Detail!$C$24:$C$500,C79,Limits_Detail!$D$24:$D$500,D79,Limits_Detail!$I$24:$I$500,\"Other Unknown Causes\"))","v":""}]
[{"$nulls":5},{"$f":"IF(E80=\"\",\"\",SUMIFS(Limits_Detail!$K$24:$K$500,Limits_Detail!$B$24:$B$500,B80,Limits_Detail!$C$24:$C$500,C80,Limits_Detail!$D$24:$D$500,D80))","v":""},"",{"$f":"IF(E80=\"\",\"\",SUMIFS(Limits_Detail!$K$24:$K$500,Limits_Detail!$B$24:$B$500,B80,Limits_Detail!$C$24:$C$500,C80,Limits_Detail!$D$24:$D$500,D80,Limits_Detail!$I$24:$I$500,\"Control Equipment Problems\"))","v":""},{"$f":"IF(E80=\"\",\"\",SUMIFS(Limits_Detail!$K$24:$K$500,Limits_Detail!$B$24:$B$500,B80,Limits_Detail!$C$24:$C$500,C80,Limits_Detail!$D$24:$D$500,D80,Limits_Detail!$I$24:$I$500,\"Process Problems\"))","v":""},{"$f":"IF(E80=\"\",\"\",SUMIFS(Limits_Detail!$K$24:$K$500,Limits_Detail!$B$24:$B$500,B80,Limits_Detail!$C$24:$C$500,C80,Limits_Detail!$D$24:$D$500,D80,Limits_Detail!$I$24:$I$500,\"Other Known Causes\"))","v":""},{"$f":"IF(E80=\"\",\"\",SUMIFS(Limits_Detail!$K$24:$K$500,Limits_Detail!$B$24:$B$500,B80,Limits_Detail!$C$24:$C$500,C80,Limits_Detail!$D$24:$D$500,D80,Limits_Detail!$I$24:$I$500,\"Other Unknown Causes\"))","v":""}]
[{"$nulls":5},{"$f":"IF(E81=\"\",\"\",SUMIFS(Limits_Detail!$K$24:$K$500,Limits_Detail!$B$24:$B$500,B81,Limits_Detail!$C$24:$C$500,C81,Limits_Detail!$D$24:$D$500,D81))","v":""},"",{"$f":"IF(E81=\"\",\"\",SUMIFS(Limits_Detail!$K$24:$K$500,Limits_Detail!$B$24:$B$500,B81,Limits_Detail!$C$24:$C$500,C81,Limits_Detail!$D$24:$D$500,D81,Limits_Detail!$I$24:$I$500,\"Control Equipment Problems\"))","v":""},{"$f":"IF(E81=\"\",\"\",SUMIFS(Limits_Detail!$K$24:$K$500,Limits_Detail!$B$24:$B$500,B81,Limits_Detail!$C$24:$C$500,C81,Limits_Detail!$D$24:$D$500,D81,Limits_Detail!$I$24:$I$500,\"Process Problems\"))","v":""},{"$f":"IF(E81=\"\",\"\",SUMIFS(Limits_Detail!$K$24:$K$500,Limits_Detail!$B$24:$B$500,B81,Limits_Detail!$C$24:$C$500,C81,Limits_Detail!$D$24:$D$500,D81,Limits_Detail!$I$24:$I$500,\"Other Known Causes\"))","v":""},{"$f":"IF(E81=\"\",\"\",SUMIFS(Limits_Detail!$K$24:$K$500,Limits_Detail!$B$24:$B$500,B81,Limits_Detail!$C$24:$C$500,C81,Limits_Detail!$D$24:$D$500,D81,Limits_Detail!$I$24:$I$500,\"Other Unknown Causes\"))","v":""}]
[{"$nulls":5},{"$f":"IF(E82=\"\",\"\",SUMIFS(Limits_Detail!$K$24:$K$500,Limits_Detail!$B$24:$B$500,B82,Limits_Detail!$C$24:$C$500,C82,Limits_Detail!$D$24:$D$500,D82))","v":""},"",{"$f":"IF(E82=\"\",\"\",SUMIFS(Limits_Detail!$K$24:$K$500,Limits_Detail!$B$24:$B$500,B82,Limits_Detail!$C$24:$C$500,C82,Limits_Detail!$D$24:$D$500,D82,Limits_Detail!$I$24:$I$500,\"Control Equipment Problems\"))","v":""},{"$f":"IF(E82=\"\",\"\",SUMIFS(Limits_Detail!$K$24:$K$500,Limits_Detail!$B$24:$B$500,B82,Limits_Detail!$C$24:$C$500,C82,Limits_Detail!$D$24:$D$500,D82,Limits_Detail!$I$24:$I$500,\"Process Problems\"))","v":""},{"$f":"IF(E82=\"\",\"\",SUMIFS(Limits_Detail!$K$24:$K$500,Limits_Detail!$B$24:$B$500,B82,Limits_Detail!$C$24:$C$500,C82,Limits_Detail!$D$24:$D$500,D82,Limits_Detail!$I$24:$I$500,\"Other Known Causes\"))","v":""},{"$f":"IF(E82=\"\",\"\",SUMIFS(Limits_Detail!$K$24:$K$500,Limits_Detail!$B$24:$B$500,B82,Limits_Detail!$C$24:$C$500,C82,Limits_Detail!$D$24:$D$500,D82,Limits_Detail!$I$24:$I$500,\"Other Unknown Causes\"))","v":""}]
[{"$nulls":5},{"$f":"IF(E83=\"\",\"\",SUMIFS(Limits_Detail!$K$24:$K$500,Limits_Detail!$B$24:$B$500,B83,Limits_Detail!$C$24:$C$500,C83,Limits_Detail!$D$24:$D$500,D83))","v":""},"",{"$f":"IF(E83=\"\",\"\",SUMIFS(Limits_Detail!$K$24:$K$500,Limits_Detail!$B$24:$B$500,B83,Limits_Detail!$C$24:$C$500,C83,Limits_Detail!$D$24:$D$500,D83,Limits_Detail!$I$24:$I$500,\"Control Equipment Problems\"))","v":""},{"$f":"IF(E83=\"\",\"\",SUMIFS(Limits_Detail!$K$24:$K$500,Limits_Detail!$B$24:$B$500,B83,Limits_Detail!$C$24:$C$500,C83,Limits_Detail!$D$24:$D$500,D83,Limits_Detail!$I$24:$I$500,\"Process Problems\"))","v":""},{"$f":"IF(E83=\"\",\"\",SUMIFS(Limits_Detail!$K$24:$K$500,Limits_Detail!$B$24:$B$500,B83,Limits_Detail!$C$24:$C$500,C83,Limits_Detail!$D$24:$D$500,D83,Limits_Detail!$I$24:$I$500,\"Other Known Causes\"))","v":""},{"$f":"IF(E83=\"\",\"\",SUMIFS(Limits_Detail!$K$24:$K$500,Limits_Detail!$B$24:$B$500,B83,Limits_Detail!$C$24:$C$500,C83,Limits_Detail!$D$24:$D$500,D83,Limits_Detail!$I$24:$I$500,\"Other Unknown Causes\"))","v":""}]
[{"$nulls":5},{"$f":"IF(E84=\"\",\"\",SUMIFS(Limits_Detail!$K$24:$K$500,Limits_Detail!$B$24:$B$500,B84,Limits_Detail!$C$24:$C$500,C84,Limits_Detail!$D$24:$D$500,D84))","v":""},"",{"$f":"IF(E84=\"\",\"\",SUMIFS(Limits_Detail!$K$24:$K$500,Limits_Detail!$B$24:$B$500,B84,Limits_Detail!$C$24:$C$500,C84,Limits_Detail!$D$24:$D$500,D84,Limits_Detail!$I$24:$I$500,\"Control Equipment Problems\"))","v":""},{"$f":"IF(E84=\"\",\"\",SUMIFS(Limits_Detail!$K$24:$K$500,Limits_Detail!$B$24:$B$500,B84,Limits_Detail!$C$24:$C$500,C84,Limits_Detail!$D$24:$D$500,D84,Limits_Detail!$I$24:$I$500,\"Process Problems\"))","v":""},{"$f":"IF(E84=\"\",\"\",SUMIFS(Limits_Detail!$K$24:$K$500,Limits_Detail!$B$24:$B$500,B84,Limits_Detail!$C$24:$C$500,C84,Limits_Detail!$D$24:$D$500,D84,Limits_Detail!$I$24:$I$500,\"Other Known Causes\"))","v":""},{"$f":"IF(E84=\"\",\"\",SUMIFS(Limits_Detail!$K$24:$K$500,Limits_Detail!$B$24:$B$500,B84,Limits_Detail!$C$24:$C$500,C84,Limits_Detail!$D$24:$D$500,D84,Limits_Detail!$I$24:$I$500,\"Other Unknown Causes\"))","v":""}]
[{"$nulls":5},{"$f":"IF(E85=\"\",\"\",SUMIFS(Limits_Detail!$K$24:$K$500,Limits_Detail!$B$24:$B$500,B85,Limits_Detail!$C$24:$C$500,C85,Limits_Detail!$D$24:$D$500,D85))","v":""},"",{"$f":"IF(E85=\"\",\"\",SUMIFS(Limits_Detail!$K$24:$K$500,Limits_Detail!$B$24:$B$500,B85,Limits_Detail!$C$24:$C$500,C85,Limits_Detail!$D$24:$D$500,D85,Limits_Detail!$I$24:$I$500,\"Control Equipment Problems\"))","v":""},{"$f":"IF(E85=\"\",\"\",SUMIFS(Limits_Detail!$K$24:$K$500,Limits_Detail!$B$24:$B$500,B85,Limits_Detail!$C$24:$C$500,C85,Limits_Detail!$D$24:$D$500,D85,Limits_Detail!$I$24:$I$500,\"Process Problems\"))","v":""},{"$f":"IF(E85=\"\",\"\",SUMIFS(Limits_Detail!$K$24:$K$500,Limits_Detail!$B$24:$B$500,B85,Limits_Detail!$C$24:$C$500,C85,Limits_Detail!$D$24:$D$500,D85,Limits_Detail!$I$24:$I$500,\"Other Known Causes\"))","v":""},{"$f":"IF(E85=\"\",\"\",SUMIFS(Limits_Detail!$K$24:$K$500,Limits_Detail!$B$24:$B$500,B85,Limits_Detail!$C$24:$C$500,C85,Limits_Detail!$D$24:$D$500,D85,Limits_Detail!$I$24:$I$500,\"Other Unknown Causes\"))","v":""}]
[{"$nulls":5},{"$f":"IF(E86=\"\",\"\",SUMIFS(Limits_Detail!$K$24:$K$500,Limits_Detail!$B$24:$B$500,B86,Limits_Detail!$C$24:$C$500,C86,Limits_Detail!$D$24:$D$500,D86))","v":""},"",{"$f":"IF(E86=\"\",\"\",SUMIFS(Limits_Detail!$K$24:$K$500,Limits_Detail!$B$24:$B$500,B86,Limits_Detail!$C$24:$C$500,C86,Limits_Detail!$D$24:$D$500,D86,Limits_Detail!$I$24:$I$500,\"Control Equipment Problems\"))","v":""},{"$f":"IF(E86=\"\",\"\",SUMIFS(Limits_Detail!$K$24:$K$500,Limits_Detail!$B$24:$B$500,B86,Limits_Detail!$C$24:$C$500,C86,Limits_Detail!$D$24:$D$500,D86,Limits_Detail!$I$24:$I$500,\"Process Problems\"))","v":""},{"$f":"IF(E86=\"\",\"\",SUMIFS(Limits_Detail!$K$24:$K$500,Limits_Detail!$B$24:$B$500,B86,Limits_Detail!$C$24:$C$500,C86,Limits_Detail!$D$24:$D$500,D86,Limits_Detail!$I$24:$I$500,\"Other Known Causes\"))","v":""},{"$f":"IF(E86=\"\",\"\",SUMIFS(Limits_Detail!$K$24:$K$500,Limits_Detail!$B$24:$B$500,B86,Limits_Detail!$C$24:$C$500,C86,Limits_Detail!$D$24:$D$500,D86,Limits_Detail!$I$24:$I$500,\"Other Unknown Causes\"))","v":""}]
[{"$nulls":5},{"$f":"IF(E87=\"\",\"\",SUMIFS(Limits_Detail!$K$24:$K$500,Limits_Detail!$B$24:$B$500,B87,Limits_Detail!$C$24:$C$500,C87,Limits_Detail!$D$24:$D$500,D87))","v":""},"",{"$f":"IF(E87=\"\",\"\",SUMIFS(Limits_Detail!$K$24:$K$500,Limits_Detail!$B$24:$B$500,B87,Limits_Detail!$C$24:$C$500,C87,Limits_Detail!$D$24:$D$500,D87,Limits_Detail!$I$24:$I$500,\"Control Equipment Problems\"))","v":""},{"$f":"IF(E87=\"\",\"\",SUMIFS(Limits_Detail!$K$24:$K$500,Limits_Detail!$B$24:$B$500,B87,Limits_Detail!$C$24:$C$500,C87,Limits_Detail!$D$24:$D$500,D87,Limits_Detail!$I$24:$I$500,\"Process Problems\"))","v":""},{"$f":"IF(E87=\"\",\"\",SUMIFS(Limits_Detail!$K$24:$K$500,Limits_Detail!$B$24:$B$500,B87,Limits_Detail!$C$24:$C$500,C87,Limits_Detail!$D$24:$D$500,D87,Limits_Detail!$I$24:$I$500,\"Other Known Causes\"))","v":""},{"$f":"IF(E87=\"\",\"\",SUMIFS(Limits_Detail!$K$24:$K$500,Limits_Detail!$B$24:$B$500,B87,Limits_Detail!$C$24:$C$500,C87,Limits_Detail!$D$24:$D$500,D87,Limits_Detail!$I$24:$I$500,\"Other Unknown Causes\"))","v":""}]
[{"$nulls":5},{"$f":"IF(E88=\"\",\"\",SUMIFS(Limits_Detail!$K$24:$K$500,Limits_Detail!$B$24:$B$500,B88,Limits_Detail!$C$24:$C$500,C88,Limits_Detail!$D$24:$D$500,D88))","v":""},"",{"$f":"IF(E88=\"\",\"\",SUMIFS(Limits_Detail!$K$24:$K$500,Limits_Detail!$B$24:$B$500,B88,Limits_Detail!$C$24:$C$500,C88,Limits_Detail!$D$24:$D$500,D88,Limits_Detail!$I$24:$I$500,\"Control Equipment Problems\"))","v":""},{"$f":"IF(E88=\"\",\"\",SUMIFS(Limits_Detail!$K$24:$K$500,Limits_Detail!$B$24:$B$500,B88,Limits_Detail!$C$24:$C$500,C88,Limits_Detail!$D$24:$D$500,D88,Limits_Detail!$I$24:$I$500,\"Process Problems\"))","v":""},{"$f":"IF(E88=\"\",\"\",SUMIFS(Limits_Detail!$K$24:$K$500,Limits_Detail!$B$24:$B$500,B88,Limits_Detail!$C$24:$C$500,C88,Limits_Detail!$D$24:$D$500,D88,Limits_Detail!$I$24:$I$500,\"Other Known Causes\"))","v":""},{"$f":"IF(E88=\"\",\"\",SUMIFS(Limits_Detail!$K$24:$K$500,Limits_Detail!$B$24:$B$500,B88,Limits_Detail!$C$24:$C$500,C88,Limits_Detail!$D$24:$D$500,D88,Limits_Detail!$I$24:$I$500,\"Other Unknown Causes\"))","v":""}]
[{"$nulls":5},{"$f":"IF(E89=\"\",\"\",SUMIFS(Limits_Detail!$K$24:$K$500,Limits_Detail!$B$24:$B$500,B89,Limits_Detail!$C$24:$C$500,C89,Limits_Detail!$D$24:$D$500,D89))","v":""},{"$f":"IF($E89=\"\",\"\",IF(F89=0,\"N/A\",F89/$E89))","v":""},{"$f":"IF(E89=\"\",\"\",SUMIFS(Limits_Detail!$K$24:$K$500,Limits_Detail!$B$24:$B$500,B89,Limits_Detail!$C$24:$C$500,C89,Limits_Detail!$D$24:$D$500,D89,Limits_Detail!$I$24:$I$500,\"Control Equipment Problems\"))","v":""},{"$f":"IF(E89=\"\",\"\",SUMIFS(Limits_Detail!$K$24:$K$500,Limits_Detail!$B$24:$B$500,B89,Limits_Detail!$C$24:$C$500,C89,Limits_Detail!$D$24:$D$500,D89,Limits_Detail!$I$24:$I$500,\"Process Problems\"))","v":""},{"$f":"IF(E89=\"\",\"\",SUMIFS(Limits_Detail!$K$24:$K$500,Limits_Detail!$B$24:$B$500,B89,Limits_Detail!$C$24:$C$500,C89,Limits_Detail!$D$24:$D$500,D89,Limits_Detail!$I$24:$I$500,\"Other Known Causes\"))","v":""},{"$f":"IF(E89=\"\",\"\",SUMIFS(Limits_Detail!$K$24:$K$500,Limits_Detail!$B$24:$B$500,B89,Limits_Detail!$C$24:$C$500,C89,Limits_Detail!$D$24:$D$500,D89,Limits_Detail!$I$24:$I$500,\"Other Unknown Causes\"))","v":""}]
[{"$nulls":5},{"$f":"IF(E90=\"\",\"\",SUMIFS(Limits_Detail!$K$24:$K$500,Limits_Detail!$B$24:$B$500,B90,Limits_Detail!$C$24:$C$500,C90,Limits_Detail!$D$24:$D$500,D90))","v":""},"",{"$f":"IF(E90=\"\",\"\",SUMIFS(Limits_Detail!$K$24:$K$500,Limits_Detail!$B$24:$B$500,B90,Limits_Detail!$C$24:$C$500,C90,Limits_Detail!$D$24:$D$500,D90,Limits_Detail!$I$24:$I$500,\"Control Equipment Problems\"))","v":""},{"$f":"IF(E90=\"\",\"\",SUMIFS(Limits_Detail!$K$24:$K$500,Limits_Detail!$B$24:$B$500,B90,Limits_Detail!$C$24:$C$500,C90,Limits_Detail!$D$24:$D$500,D90,Limits_Detail!$I$24:$I$500,\"Process Problems\"))","v":""},{"$f":"IF(E90=\"\",\"\",SUMIFS(Limits_Detail!$K$24:$K$500,Limits_Detail!$B$24:$B$500,B90,Limits_Detail!$C$24:$C$500,C90,Limits_Detail!$D$24:$D$500,D90,Limits_Detail!$I$24:$I$500,\"Other Known Causes\"))","v":""},{"$f":"IF(E90=\"\",\"\",SUMIFS(Limits_Detail!$K$24:$K$500,Limits_Detail!$B$24:$B$500,B90,Limits_Detail!$C$24:$C$500,C90,Limits_Detail!$D$24:$D$500,D90,Limits_Detail!$I$24:$I$500,\"Other Unknown Causes\"))","v":""}]
[{"$nulls":5},{"$f":"IF(E91=\"\",\"\",SUMIFS(Limits_Detail!$K$24:$K$500,Limits_Detail!$B$24:$B$500,B91,Limits_Detail!$C$24:$C$500,C91,Limits_Detail!$D$24:$D$500,D91))","v":""},"",{"$f":"IF(E91=\"\",\"\",SUMIFS(Limits_Detail!$K$24:$K$500,Limits_Detail!$B$24:$B$500,B91,Limits_Detail!$C$24:$C$500,C91,Limits_Detail!$D$24:$D$500,D91,Limits_Detail!$I$24:$I$500,\"Control Equipment Problems\"))","v":""},{"$f":"IF(E91=\"\",\"\",SUMIFS(Limits_Detail!$K$24:$K$500,Limits_Detail!$B$24:$B$500,B91,Limits_Detail!$C$24:$C$500,C91,Limits_Detail!$D$24:$D$500,D91,Limits_Detail!$I$24:$I$500,\"Process Problems\"))","v":""},{"$f":"IF(E91=\"\",\"\",SUMIFS(Limits_Detail!$K$24:$K$500,Limits_Detail!$B$24:$B$500,B91,Limits_Detail!$C$24:$C$500,C91,Limits_Detail!$D$24:$D$500,D91,Limits_Detail!$I$24:$I$500,\"Other Known Causes\"))","v":""},{"$f":"IF(E91=\"\",\"\",SUMIFS(Limits_Detail!$K$24:$K$500,Limits_Detail!$B$24:$B$500,B91,Limits_Detail!$C$24:$C$500,C91,Limits_Detail!$D$24:$D$500,D91,Limits_Detail!$I$24:$I$500,\"Other Unknown Causes\"))","v":""}]
[{"$nulls":5},{"$f":"IF(E92=\"\",\"\",SUMIFS(Limits_Detail!$K$24:$K$500,Limits_Detail!$B$24:$B$500,B92,Limits_Detail!$C$24:$C$500,C92,Limits_Detail!$D$24:$D$500,D92))","v":""},"",{"$f":"IF(E92=\"\",\"\",SUMIFS(Limits_Detail!$K$24:$K$500,Limits_Detail!$B$24:$B$500,B92,Limits_Detail!$C$24:$C$500,C92,Limits_Detail!$D$24:$D$500,D92,Limits_Detail!$I$24:$I$500,\"Control Equipment Problems\"))","v":""},{"$f":"IF(E92=\"\",\"\",SUMIFS(Limits_Detail!$K$24:$K$500,Limits_Detail!$B$24:$B$500,B92,Limits_Detail!$C$24:$C$500,C92,Limits_Detail!$D$24:$D$500,D92,Limits_Detail!$I$24:$I$500,\"Process Problems\"))","v":""},{"$f":"IF(E92=\"\",\"\",SUMIFS(Limits_Detail!$K$24:$K$500,Limits_Detail!$B$24:$B$500,B92,Limits_Detail!$C$24:$C$500,C92,Limits_Detail!$D$24:$D$500,D92,Limits_Detail!$I$24:$I$500,\"Other Known Causes\"))","v":""},{"$f":"IF(E92=\"\",\"\",SUMIFS(Limits_Detail!$K$24:$K$500,Limits_Detail!$B$24:$B$500,B92,Limits_Detail!$C$24:$C$500,C92,Limits_Detail!$D$24:$D$500,D92,Limits_Detail!$I$24:$I$500,\"Other Unknown Causes\"))","v":""}]
[{"$nulls":5},{"$f":"IF(E93=\"\",\"\",SUMIFS(Limits_Detail!$K$24:$K$500,Limits_Detail!$B$24:$B$500,B93,Limits_Detail!$C$24:$C$500,C93,Limits_Detail!$D$24:$D$500,D93))","v":""},"",{"$f":"IF(E93=\"\",\"\",SUMIFS(Limits_Detail!$K$24:$K$500,Limits_Detail!$B$24:$B$500,B93,Limits_Detail!$C$24:$C$500,C93,Limits_Detail!$D$24:$D$500,D93,Limits_Detail!$I$24:$I$500,\"Control Equipment Problems\"))","v":""},{"$f":"IF(E93=\"\",\"\",SUMIFS(Limits_Detail!$K$24:$K$500,Limits_Detail!$B$24:$B$500,B93,Limits_Detail!$C$24:$C$500,C93,Limits_Detail!$D$24:$D$500,D93,Limits_Detail!$I$24:$I$500,\"Process Problems\"))","v":""},{"$f":"IF(E93=\"\",\"\",SUMIFS(Limits_Detail!$K$24:$K$500,Limits_Detail!$B$24:$B$500,B93,Limits_Detail!$C$24:$C$500,C93,Limits_Detail!$D$24:$D$500,D93,Limits_Detail!$I$24:$I$500,\"Other Known Causes\"))","v":""},{"$f":"IF(E93=\"\",\"\",SUMIFS(Limits_Detail!$K$24:$K$500,Limits_Detail!$B$24:$B$500,B93,Limits_Detail!$C$24:$C$500,C93,Limits_Detail!$D$24:$D$500,D93,Limits_Detail!$I$24:$I$500,\"Other Unknown Causes\"))","v":""}]
[{"$nulls":5},{"$f":"IF(E94=\"\",\"\",SUMIFS(Limits_Detail!$K$24:$K$500,Limits_Detail!$B$24:$B$500,B94,Limits_Detail!$C$24:$C$500,C94,Limits_Detail!$D$24:$D$500,D94))","v":""},"",{"$f":"IF(E94=\"\",\"\",SUMIFS(Limits_Detail!$K$24:$K$500,Limits_Detail!$B$24:$B$500,B94,Limits_Detail!$C$24:$C$500,C94,Limits_Detail!$D$24:$D$500,D94,Limits_Detail!$I$24:$I$500,\"Control Equipment Problems\"))","v":""},{"$f":"IF(E94=\"\",\"\",SUMIFS(Limits_Detail!$K$24:$K$500,Limits_Detail!$B$24:$B$500,B94,Limits_Detail!$C$24:$C$500,C94,Limits_Detail!$D$24:$D$500,D94,Limits_Detail!$I$24:$I$500,\"Process Problems\"))","v":""},{"$f":"IF(E94=\"\",\"\",SUMIFS(Limits_Detail!$K$24:$K$500,Limits_Detail!$B$24:$B$500,B94,Limits_Detail!$C$24:$C$500,C94,Limits_Detail!$D$24:$D$500,D94,Limits_Detail!$I$24:$I$500,\"Other Known Causes\"))","v":""},{"$f":"IF(E94=\"\",\"\",SUMIFS(Limits_Detail!$K$24:$K$500,Limits_Detail!$B$24:$B$500,B94,Limits_Detail!$C$24:$C$500,C94,Limits_Detail!$D$24:$D$500,D94,Limits_Detail!$I$24:$I$500,\"Other Unknown Causes\"))","v":""}]
[{"$nulls":5},{"$f":"IF(E95=\"\",\"\",SUMIFS(Limits_Detail!$K$24:$K$500,Limits_Detail!$B$24:$B$500,B95,Limits_Detail!$C$24:$C$500,C95,Limits_Detail!$D$24:$D$500,D95))","v":""},"",{"$f":"IF(E95=\"\",\"\",SUMIFS(Limits_Detail!$K$24:$K$500,Limits_Detail!$B$24:$B$500,B95,Limits_Detail!$C$24:$C$500,C95,Limits_Detail!$D$24:$D$500,D95,Limits_Detail!$I$24:$I$500,\"Control Equipment Problems\"))","v":""},{"$f":"IF(E95=\"\",\"\",SUMIFS(Limits_Detail!$K$24:$K$500,Limits_Detail!$B$24:$B$500,B95,Limits_Detail!$C$24:$C$500,C95,Limits_Detail!$D$24:$D$500,D95,Limits_Detail!$I$24:$I$500,\"Process Problems\"))","v":""},{"$f":"IF(E95=\"\",\"\",SUMIFS(Limits_Detail!$K$24:$K$500,Limits_Detail!$B$24:$B$500,B95,Limits_Detail!$C$24:$C$500,C95,Limits_Detail!$D$24:$D$500,D95,Limits_Detail!$I$24:$I$500,\"Other Known Causes\"))","v":""},{"$f":"IF(E95=\"\",\"\",SUMIFS(Limits_Detail!$K$24:$K$500,Limits_Detail!$B$24:$B$500,B95,Limits_Detail!$C$24:$C$500,C95,Limits_Detail!$D$24:$D$500,D95,Limits_Detail!$I$24:$I$500,\"Other Unknown Causes\"))","v":""}]
[{"$nulls":5},{"$f":"IF(E96=\"\",\"\",SUMIFS(Limits_Detail!$K$24:$K$500,Limits_Detail!$B$24:$B$500,B96,Limits_Detail!$C$24:$C$500,C96,Limits_Detail!$D$24:$D$500,D96))","v":""},"",{"$f":"IF(E96=\"\",\"\",SUMIFS(Limits_Detail!$K$24:$K$500,Limits_Detail!$B$24:$B$500,B96,Limits_Detail!$C$24:$C$500,C96,Limits_Detail!$D$24:$D$500,D96,Limits_Detail!$I$24:$I$500,\"Control Equipment Problems\"))","v":""},{"$f":"IF(E96=\"\",\"\",SUMIFS(Limits_Detail!$K$24:$K$500,Limits_Detail!$B$24:$B$500,B96,Limits_Detail!$C$24:$C$500,C96,Limits_Detail!$D$24:$D$500,D96,Limits_Detail!$I$24:$I$500,\"Process Problems\"))","v":""},{"$f":"IF(E96=\"\",\"\",SUMIFS(Limits_Detail!$K$24:$K$500,Limits_Detail!$B$24:$B$500,B96,Limits_Detail!$C$24:$C$500,C96,Limits_Detail!$D$24:$D$500,D96,Limits_Detail!$I$24:$I$500,\"Other Known Causes\"))","v":""},{"$f":"IF(E96=\"\",\"\",SUMIFS(Limits_Detail!$K$24:$K$500,Limits_Detail!$B$24:$B$500,B96,Limits_Detail!$C$24:$C$500,C96,Limits_Detail!$D$24:$D$500,D96,Limits_Detail!$I$24:$I$500,\"Other Unknown Causes\"))","v":""}]
[{"$nulls":5},{"$f":"IF(E97=\"\",\"\",SUMIFS(Limits_Detail!$K$24:$K$500,Limits_Detail!$B$24:$B$500,B97,Limits_Detail!$C$24:$C$500,C97,Limits_Detail!$D$24:$D$500,D97))","v":""},"",{"$f":"IF(E97=\"\",\"\",SUMIFS(Limits_Detail!$K$24:$K$500,Limits_Detail!$B$24:$B$500,B97,Limits_Detail!$C$24:$C$500,C97,Limits_Detail!$D$24:$D$500,D97,Limits_Detail!$I$24:$I$500,\"Control Equipment Problems\"))","v":""},{"$f":"IF(E97=\"\",\"\",SUMIFS(Limits_Detail!$K$24:$K$500,Limits_Detail!$B$24:$B$500,B97,Limits_Detail!$C$24:$C$500,C97,Limits_Detail!$D$24:$D$500,D97,Limits_Detail!$I$24:$I$500,\"Process Problems\"))","v":""},{"$f":"IF(E97=\"\",\"\",SUMIFS(Limits_Detail!$K$24:$K$500,Limits_Detail!$B$24:$B$500,B97,Limits_Detail!$C$24:$C$500,C97,Limits_Detail!$D$24:$D$500,D97,Limits_Detail!$I$24:$I$500,\"Other Known Causes\"))","v":""},{"$f":"IF(E97=\"\",\"\",SUMIFS(Limits_Detail!$K$24:$K$500,Limits_Detail!$B$24:$B$500,B97,Limits_Detail!$C$24:$C$500,C97,Limits_Detail!$D$24:$D$500,D97,Limits_Detail!$I$24:$I$500,\"Other Unknown Causes\"))","v":""}]
[{"$nulls":5},{"$f":"IF(E98=\"\",\"\",SUMIFS(Limits_Detail!$K$24:$K$500,Limits_Detail!$B$24:$B$500,B98,Limits_Detail!$C$24:$C$500,C98,Limits_Detail!$D$24:$D$500,D98))","v":""},"",{"$f":"IF(E98=\"\",\"\",SUMIFS(Limits_Detail!$K$24:$K$500,Limits_Detail!$B$24:$B$500,B98,Limits_Detail!$C$24:$C$500,C98,Limits_Detail!$D$24:$D$500,D98,Limits_Detail!$I$24:$I$500,\"Control Equipment Problems\"))","v":""},{"$f":"IF(E98=\"\",\"\",SUMIFS(Limits_Detail!$K$24:$K$500,Limits_Detail!$B$24:$B$500,B98,Limits_Detail!$C$24:$C$500,C98,Limits_Detail!$D$24:$D$500,D98,Limits_Detail!$I$24:$I$500,\"Process Problems\"))","v":""},{"$f":"IF(E98=\"\",\"\",SUMIFS(Limits_Detail!$K$24:$K$500,Limits_Detail!$B$24:$B$500,B98,Limits_Detail!$C$24:$C$500,C98,Limits_Detail!$D$24:$D$500,D98,Limits_Detail!$I$24:$I$500,\"Other Known Causes\"))","v":""},{"$f":"IF(E98=\"\",\"\",SUMIFS(Limits_Detail!$K$24:$K$500,Limits_Detail!$B$24:$B$500,B98,Limits_Detail!$C$24:$C$500,C98,Limits_Detail!$D$24:$D$500,D98,Limits_Detail!$I$24:$I$500,\"Other Unknown Causes\"))","v":""}]
[{"$nulls":5},{"$f":"IF(E99=\"\",\"\",SUMIFS(Limits_Detail!$K$24:$K$500,Limits_Detail!$B$24:$B$500,B99,Limits_Detail!$C$24:$C$500,C99,Limits_Detail!$D$24:$D$500,D99))","v":""},"",{"$f":"IF(E99=\"\",\"\",SUMIFS(Limits_Detail!$K$24:$K$500,Limits_Detail!$B$24:$B$500,B99,Limits_Detail!$C$24:$C$500,C99,Limits_Detail!$D$24:$D$500,D99,Limits_Detail!$I$24:$I$500,\"Control Equipment Problems\"))","v":""},{"$f":"IF(E99=\"\",\"\",SUMIFS(Limits_Detail!$K$24:$K$500,Limits_Detail!$B$24:$B$500,B99,Limits_Detail!$C$24:$C$500,C99,Limits_Detail!$D$24:$D$500,D99,Limits_Detail!$I$24:$I$500,\"Process Problems\"))","v":""},{"$f":"IF(E99=\"\",\"\",SUMIFS(Limits_Detail!$K$24:$K$500,Limits_Detail!$B$24:$B$500,B99,Limits_Detail!$C$24:$C$500,C99,Limits_Detail!$D$24:$D$500,D99,Limits_Detail!$I$24:$I$500,\"Other Known Causes\"))","v":""},{"$f":"IF(E99=\"\",\"\",SUMIFS(Limits_Detail!$K$24:$K$500,Limits_Detail!$B$24:$B$500,B99,Limits_Detail!$C$24:$C$500,C99,Limits_Detail!$D$24:$D$500,D99,Limits_Detail!$I$24:$I$500,\"Other Unknown Causes\"))","v":""}]
[{"$nulls":5},{"$f":"IF(E100=\"\",\"\",SUMIFS(Limits_Detail!$K$24:$K$500,Limits_Detail!$B$24:$B$500,B100,Limits_Detail!$C$24:$C$500,C100,Limits_Detail!$D$24:$D$500,D100))","v":""},"",{"$f":"IF(E100=\"\",\"\",SUMIFS(Limits_Detail!$K$24:$K$500,Limits_Detail!$B$24:$B$500,B100,Limits_Detail!$C$24:$C$500,C100,Limits_Detail!$D$24:$D$500,D100,Limits_Detail!$I$24:$I$500,\"Control Equipment Problems\"))","v":""},{"$f":"IF(E100=\"\",\"\",SUMIFS(Limits_Detail!$K$24:$K$500,Limits_Detail!$B$24:$B$500,B100,Limits_Detail!$C$24:$C$500,C100,Limits_Detail!$D$24:$D$500,D100,Limits_Detail!$I$24:$I$500,\"Process Problems\"))","v":""},{"$f":"IF(E100=\"\",\"\",SUMIFS(Limits_Detail!$K$24:$K$500,Limits_Detail!$B$24:$B$500,B100,Limits_Detail!$C$24:$C$500,C100,Limits_Detail!$D$24:$D$500,D100,Limits_Detail!$I$24:$I$500,\"Other Known Causes\"))","v":""},{"$f":"IF(E100=\"\",\"\",SUMIFS(Limits_Detail!$K$24:$K$500,Limits_Detail!$B$24:$B$500,B100,Limits_Detail!$C$24:$C$500,C100,Limits_Detail!$D$24:$D$500,D100,Limits_Detail!$I$24:$I$500,\"Other Unknown Causes\"))","v":""}]
[null,{"$f":"IF(E101=\"\",\"\",COUNT($E$24:$E$452)-COUNT(E102:$E$452))","v":""}]
[null,{"$f":"IF(E102=\"\",\"\",COUNT($E$24:$E$452)-COUNT(E103:$E$452))","v":""}]
[null,{"$f":"IF(E103=\"\",\"\",COUNT($E$24:$E$452)-COUNT(E104:$E$452))","v":""}]
[null,{"$f":"IF(E104=\"\",\"\",COUNT($E$24:$E$452)-COUNT(E105:$E$452))","v":""}]
[null,{"$f":"IF(E105=\"\",\"\",COUNT($E$24:$E$452)-COUNT(E106:$E$452))","v":""}]
[null,{"$f":"IF(E106=\"\",\"\",COUNT($E$24:$E$452)-COUNT(E107:$E$452))","v":""}]
[null,{"$f":"IF(E107=\"\",\"\",COUNT($E$24:$E$452)-COUNT(E108:$E$452))","v":""}]
[null,{"$f":"IF(E108=\"\",\"\",COUNT($E$24:$E$452)-COUNT(E109:$E$452))","v":""}]
[null,{"$f":"IF(E109=\"\",\"\",COUNT($E$24:$E$452)-COUNT(E110:$E$452))","v":""}]
[null,{"$f":"IF(E110=\"\",\"\",COUNT($E$24:$E$452)-COUNT(E111:$E$452))","v":""}]
[null,{"$f":"IF(E111=\"\",\"\",COUNT($E$24:$E$452)-COUNT(E112:$E$452))","v":""}]
[null,{"$f":"IF(E112=\"\",\"\",COUNT($E$24:$E$452)-COUNT(E113:$E$452))","v":""}]
[null,{"$f":"IF(E113=\"\",\"\",COUNT($E$24:$E$452)-COUNT(E114:$E$452))","v":""}]
[null,{"$f":"IF(E114=\"\",\"\",COUNT($E$24:$E$452)-COUNT(E115:$E$452))","v":""}]
[null,{"$f":"IF(E115=\"\",\"\",COUNT($E$24:$E$452)-COUNT(E116:$E$452))","v":""}]
[null,{"$f":"IF(E116=\"\",\"\",COUNT($E$24:$E$452)-COUNT(E117:$E$452))","v":""}]
[null,{"$f":"IF(E117=\"\",\"\",COUNT($E$24:$E$452)-COUNT(E118:$E$452))","v":""}]
[null,{"$f":"IF(E118=\"\",\"\",COUNT($E$24:$E$452)-COUNT(E119:$E$452))","v":""}]
[null,{"$f":"IF(E119=\"\",\"\",COUNT($E$24:$E$452)-COUNT(E120:$E$452))","v":""}]
[null,{"$f":"IF(E120=\"\",\"\",COUNT($E$24:$E$452)-COUNT(E121:$E$452))","v":""}]
[null,{"$f":"IF(E121=\"\",\"\",COUNT($E$24:$E$452)-COUNT(E122:$E$452))","v":""}]
[null,{"$f":"IF(E122=\"\",\"\",COUNT($E$24:$E$452)-COUNT(E123:$E$452))","v":""}]
[null,{"$f":"IF(E123=\"\",\"\",COUNT($E$24:$E$452)-COUNT(E124:$E$452))","v":""}]
[null,{"$f":"IF(E124=\"\",\"\",COUNT($E$24:$E$452)-COUNT(E125:$E$452))","v":""}]
[null,{"$f":"IF(E125=\"\",\"\",COUNT($E$24:$E$452)-COUNT(E126:$E$452))","v":""}]
[null,{"$f":"IF(E126=\"\",\"\",COUNT($E$24:$E$452)-COUNT(E127:$E$452))","v":""}]
[null,{"$f":"IF(E127=\"\",\"\",COUNT($E$24:$E$452)-COUNT(E128:$E$452))","v":""}]
[null,{"$f":"IF(E128=\"\",\"\",COUNT($E$24:$E$452)-COUNT(E129:$E$452))","v":""}]
[null,{"$f":"IF(E129=\"\",\"\",COUNT($E$24:$E$452)-COUNT(E130:$E$452))","v":""}]
[null,{"$f":"IF(E130=\"\",\"\",COUNT($E$24:$E$452)-COUNT(E131:$E$452))","v":""}]
[null,{"$f":"IF(E131=\"\",\"\",COUNT($E$24:$E$452)-COUNT(E132:$E$452))","v":""}]
[null,{"$f":"IF(E132=\"\",\"\",COUNT($E$24:$E$452)-COUNT(E133:$E$452))","v":""}]
[null,{"$f":"IF(E133=\"\",\"\",COUNT($E$24:$E$452)-COUNT(E134:$E$452))","v":""}]
[null,{"$f":"IF(E134=\"\",\"\",COUNT($E$24:$E$452)-COUNT(E135:$E$452))","v":""}]
[null,{"$f":"IF(E135=\"\",\"\",COUNT($E$24:$E$452)-COUNT(E136:$E$452))","v":""}]
[null,{"$f":"IF(E136=\"\",\"\",COUNT($E$24:$E$452)-COUNT(E137:$E$452))","v":""}]
[null,{"$f":"IF(E137=\"\",\"\",COUNT($E$24:$E$452)-COUNT(E138:$E$452))","v":""}]
[null,{"$f":"IF(E138=\"\",\"\",COUNT($E$24:$E$452)-COUNT(E139:$E$452))","v":""}]
[null,{"$f":"IF(E139=\"\",\"\",COUNT($E$24:$E$452)-COUNT(E140:$E$452))","v":""}]
[null,{"$f":"IF(E140=\"\",\"\",COUNT($E$24:$E$452)-COUNT(E141:$E$452))","v":""}]
[null,{"$f":"IF(E141=\"\",\"\",COUNT($E$24:$E$452)-COUNT(E142:$E$452))","v":""}]
[null,{"$f":"IF(E142=\"\",\"\",COUNT($E$24:$E$452)-COUNT(E143:$E$452))","v":""}]
[null,{"$f":"IF(E143=\"\",\"\",COUNT($E$24:$E$452)-COUNT(E144:$E$452))","v":""}]
[null,{"$f":"IF(E144=\"\",\"\",COUNT($E$24:$E$452)-COUNT(E145:$E$452))","v":""}]
[null,{"$f":"IF(E145=\"\",\"\",COUNT($E$24:$E$452)-COUNT(E146:$E$452))","v":""}]
[null,{"$f":"IF(E146=\"\",\"\",COUNT($E$24:$E$452)-COUNT(E147:$E$452))","v":""}]
[null,{"$f":"IF(E147=\"\",\"\",COUNT($E$24:$E$452)-COUNT(E148:$E$452))","v":""}]
[null,{"$f":"IF(E148=\"\",\"\",COUNT($E$24:$E$452)-COUNT(E149:$E$452))","v":""}]
[null,{"$f":"IF(E149=\"\",\"\",COUNT($E$24:$E$452)-COUNT(E150:$E$452))","v":""}]
[null,{"$f":"IF(E150=\"\",\"\",COUNT($E$24:$E$452)-COUNT(E151:$E$452))","v":""}]
[null,{"$f":"IF(E151=\"\",\"\",COUNT($E$24:$E$452)-COUNT(E152:$E$452))","v":""}]
[null,{"$f":"IF(E152=\"\",\"\",COUNT($E$24:$E$452)-COUNT(E153:$E$452))","v":""}]
[null,{"$f":"IF(E153=\"\",\"\",COUNT($E$24:$E$452)-COUNT(E154:$E$452))","v":""}]
[null,{"$f":"IF(E154=\"\",\"\",COUNT($E$24:$E$452)-COUNT(E155:$E$452))","v":""}]
[null,{"$f":"IF(E155=\"\",\"\",COUNT($E$24:$E$452)-COUNT(E156:$E$452))","v":""}]
[null,{"$f":"IF(E156=\"\",\"\",COUNT($E$24:$E$452)-COUNT(E157:$E$452))","v":""}]
[null,{"$f":"IF(E157=\"\",\"\",COUNT($E$24:$E$452)-COUNT(E158:$E$452))","v":""}]
[null,{"$f":"IF(E158=\"\",\"\",COUNT($E$24:$E$452)-COUNT(E159:$E$452))","v":""}]
[null,{"$f":"IF(E159=\"\",\"\",COUNT($E$24:$E$452)-COUNT(E160:$E$452))","v":""}]
[null,{"$f":"IF(E160=\"\",\"\",COUNT($E$24:$E$452)-COUNT(E161:$E$452))","v":""}]
[null,{"$f":"IF(E161=\"\",\"\",COUNT($E$24:$E$452)-COUNT(E162:$E$452))","v":""}]
[null,{"$f":"IF(E162=\"\",\"\",COUNT($E$24:$E$452)-COUNT(E163:$E$452))","v":""}]
[null,{"$f":"IF(E163=\"\",\"\",COUNT($E$24:$E$452)-COUNT(E164:$E$452))","v":""}]
[null,{"$f":"IF(E164=\"\",\"\",COUNT($E$24:$E$452)-COUNT(E165:$E$452))","v":""}]
[null,{"$f":"IF(E165=\"\",\"\",COUNT($E$24:$E$452)-COUNT(E166:$E$452))","v":""}]
[null,{"$f":"IF(E166=\"\",\"\",COUNT($E$24:$E$452)-COUNT(E167:$E$452))","v":""}]
[null,{"$f":"IF(E167=\"\",\"\",COUNT($E$24:$E$452)-COUNT(E168:$E$452))","v":""}]
[null,{"$f":"IF(E168=\"\",\"\",COUNT($E$24:$E$452)-COUNT(E169:$E$452))","v":""}]
[null,{"$f":"IF(E169=\"\",\"\",COUNT($E$24:$E$452)-COUNT(E170:$E$452))","v":""}]
[null,{"$f":"IF(E170=\"\",\"\",COUNT($E$24:$E$452)-COUNT(E171:$E$452))","v":""}]
[null,{"$f":"IF(E171=\"\",\"\",COUNT($E$24:$E$452)-COUNT(E172:$E$452))","v":""}]
[null,{"$f":"IF(E172=\"\",\"\",COUNT($E$24:$E$452)-COUNT(E173:$E$452))","v":""}]
[null,{"$f":"IF(E173=\"\",\"\",COUNT($E$24:$E$452)-COUNT(E174:$E$452))","v":""}]
[null,{"$f":"IF(E174=\"\",\"\",COUNT($E$24:$E$452)-COUNT(E175:$E$452))","v":""}]
[null,{"$f":"IF(E175=\"\",\"\",COUNT($E$24:$E$452)-COUNT(E176:$E$452))","v":""}]
[null,{"$f":"IF(E176=\"\",\"\",COUNT($E$24:$E$452)-COUNT(E177:$E$452))","v":""}]
[null,{"$f":"IF(E177=\"\",\"\",COUNT($E$24:$E$452)-COUNT(E178:$E$452))","v":""}]
[null,{"$f":"IF(E178=\"\",\"\",COUNT($E$24:$E$452)-COUNT(E179:$E$452))","v":""}]
[null,{"$f":"IF(E179=\"\",\"\",COUNT($E$24:$E$452)-COUNT(E180:$E$452))","v":""}]
[null,{"$f":"IF(E180=\"\",\"\",COUNT($E$24:$E$452)-COUNT(E181:$E$452))","v":""}]
[null,{"$f":"IF(E181=\"\",\"\",COUNT($E$24:$E$452)-COUNT(E182:$E$452))","v":""}]
[null,{"$f":"IF(E182=\"\",\"\",COUNT($E$24:$E$452)-COUNT(E183:$E$452))","v":""}]
[null,{"$f":"IF(E183=\"\",\"\",COUNT($E$24:$E$452)-COUNT(E184:$E$452))","v":""}]
[null,{"$f":"IF(E184=\"\",\"\",COUNT($E$24:$E$452)-COUNT(E185:$E$452))","v":""}]
[null,{"$f":"IF(E185=\"\",\"\",COUNT($E$24:$E$452)-COUNT(E186:$E$452))","v":""}]
[null,{"$f":"IF(E186=\"\",\"\",COUNT($E$24:$E$452)-COUNT(E187:$E$452))","v":""}]
[null,{"$f":"IF(E187=\"\",\"\",COUNT($E$24:$E$452)-COUNT(E188:$E$452))","v":""}]
[null,{"$f":"IF(E188=\"\",\"\",COUNT($E$24:$E$452)-COUNT(E189:$E$452))","v":""}]
[null,{"$f":"IF(E189=\"\",\"\",COUNT($E$24:$E$452)-COUNT(E190:$E$452))","v":""}]
[null,{"$f":"IF(E190=\"\",\"\",COUNT($E$24:$E$452)-COUNT(E191:$E$452))","v":""}]
[null,{"$f":"IF(E191=\"\",\"\",COUNT($E$24:$E$452)-COUNT(E192:$E$452))","v":""}]
[null,{"$f":"IF(E192=\"\",\"\",COUNT($E$24:$E$452)-COUNT(E193:$E$452))","v":""}]
[null,{"$f":"IF(E193=\"\",\"\",COUNT($E$24:$E$452)-COUNT(E194:$E$452))","v":""}]
[null,{"$f":"IF(E194=\"\",\"\",COUNT($E$24:$E$452)-COUNT(E195:$E$452))","v":""}]
[null,{"$f":"IF(E195=\"\",\"\",COUNT($E$24:$E$452)-COUNT(E196:$E$452))","v":""}]
[null,{"$f":"IF(E196=\"\",\"\",COUNT($E$24:$E$452)-COUNT(E197:$E$452))","v":""}]
[null,{"$f":"IF(E197=\"\",\"\",COUNT($E$24:$E$452)-COUNT(E198:$E$452))","v":""}]
[null,{"$f":"IF(E198=\"\",\"\",COUNT($E$24:$E$452)-COUNT(E199:$E$452))","v":""}]
[null,{"$f":"IF(E199=\"\",\"\",COUNT($E$24:$E$452)-COUNT(E200:$E$452))","v":""}]
[null,{"$f":"IF(E200=\"\",\"\",COUNT($E$24:$E$452)-COUNT(E201:$E$452))","v":""}]
[null,{"$f":"IF(E201=\"\",\"\",COUNT($E$24:$E$452)-COUNT(E202:$E$452))","v":""}]
[null,{"$f":"IF(E202=\"\",\"\",COUNT($E$24:$E$452)-COUNT(E203:$E$452))","v":""}]
[null,{"$f":"IF(E203=\"\",\"\",COUNT($E$24:$E$452)-COUNT(E204:$E$452))","v":""}]
[null,{"$f":"IF(E204=\"\",\"\",COUNT($E$24:$E$452)-COUNT(E205:$E$452))","v":""}]
[null,{"$f":"IF(E205=\"\",\"\",COUNT($E$24:$E$452)-COUNT(E206:$E$452))","v":""}]
[null,{"$f":"IF(E206=\"\",\"\",COUNT($E$24:$E$452)-COUNT(E207:$E$452))","v":""}]
[null,{"$f":"IF(E207=\"\",\"\",COUNT($E$24:$E$452)-COUNT(E208:$E$452))","v":""}]
[null,{"$f":"IF(E208=\"\",\"\",COUNT($E$24:$E$452)-COUNT(E209:$E$452))","v":""}]
[null,{"$f":"IF(E209=\"\",\"\",COUNT($E$24:$E$452)-COUNT(E210:$E$452))","v":""}]
[null,{"$f":"IF(E210=\"\",\"\",COUNT($E$24:$E$452)-COUNT(E211:$E$452))","v":""}]
[null,{"$f":"IF(E211=\"\",\"\",COUNT($E$24:$E$452)-COUNT(E212:$E$452))","v":""}]
[null,{"$f":"IF(E212=\"\",\"\",COUNT($E$24:$E$452)-COUNT(E213:$E$452))","v":""}]
[null,{"$f":"IF(E213=\"\",\"\",COUNT($E$24:$E$452)-COUNT(E214:$E$452))","v":""}]
[null,{"$f":"IF(E214=\"\",\"\",COUNT($E$24:$E$452)-COUNT(E215:$E$452))","v":""}]
[null,{"$f":"IF(E215=\"\",\"\",COUNT($E$24:$E$452)-COUNT(E216:$E$452))","v":""}]
[null,{"$f":"IF(E216=\"\",\"\",COUNT($E$24:$E$452)-COUNT(E217:$E$452))","v":""}]
[null,{"$f":"IF(E217=\"\",\"\",COUNT($E$24:$E$452)-COUNT(E218:$E$452))","v":""}]
[null,{"$f":"IF(E218=\"\",\"\",COUNT($E$24:$E$452)-COUNT(E219:$E$452))","v":""}]
[null,{"$f":"IF(E219=\"\",\"\",COUNT($E$24:$E$452)-COUNT(E220:$E$452))","v":""}]
[null,{"$f":"IF(E220=\"\",\"\",COUNT($E$24:$E$452)-COUNT(E221:$E$452))","v":""}]
[null,{"$f":"IF(E221=\"\",\"\",COUNT($E$24:$E$452)-COUNT(E222:$E$452))","v":""}]
[null,{"$f":"IF(E222=\"\",\"\",COUNT($E$24:$E$452)-COUNT(E223:$E$452))","v":""}]
[null,{"$f":"IF(E223=\"\",\"\",COUNT($E$24:$E$452)-COUNT(E224:$E$452))","v":""}]
[null,{"$f":"IF(E224=\"\",\"\",COUNT($E$24:$E$452)-COUNT(E225:$E$452))","v":""}]
[null,{"$f":"IF(E225=\"\",\"\",COUNT($E$24:$E$452)-COUNT(E226:$E$452))","v":""}]
[null,{"$f":"IF(E226=\"\",\"\",COUNT($E$24:$E$452)-COUNT(E227:$E$452))","v":""}]
[null,{"$f":"IF(E227=\"\",\"\",COUNT($E$24:$E$452)-COUNT(E228:$E$452))","v":""}]
[null,{"$f":"IF(E228=\"\",\"\",COUNT($E$24:$E$452)-COUNT(E229:$E$452))","v":""}]
[null,{"$f":"IF(E229=\"\",\"\",COUNT($E$24:$E$452)-COUNT(E230:$E$452))","v":""}]
[null,{"$f":"IF(E230=\"\",\"\",COUNT($E$24:$E$452)-COUNT(E231:$E$452))","v":""}]
[null,{"$f":"IF(E231=\"\",\"\",COUNT($E$24:$E$452)-COUNT(E232:$E$452))","v":""}]
[null,{"$f":"IF(E232=\"\",\"\",COUNT($E$24:$E$452)-COUNT(E233:$E$452))","v":""}]
[null,{"$f":"IF(E233=\"\",\"\",COUNT($E$24:$E$452)-COUNT(E234:$E$452))","v":""}]
[null,{"$f":"IF(E234=\"\",\"\",COUNT($E$24:$E$452)-COUNT(E235:$E$452))","v":""}]
[null,{"$f":"IF(E235=\"\",\"\",COUNT($E$24:$E$452)-COUNT(E236:$E$452))","v":""}]
[null,{"$f":"IF(E236=\"\",\"\",COUNT($E$24:$E$452)-COUNT(E237:$E$452))","v":""}]
[null,{"$f":"IF(E237=\"\",\"\",COUNT($E$24:$E$452)-COUNT(E238:$E$452))","v":""}]
[null,{"$f":"IF(E238=\"\",\"\",COUNT($E$24:$E$452)-COUNT(E239:$E$452))","v":""}]
[null,{"$f":"IF(E239=\"\",\"\",COUNT($E$24:$E$452)-COUNT(E240:$E$452))","v":""}]
[null,{"$f":"IF(E240=\"\",\"\",COUNT($E$24:$E$452)-COUNT(E241:$E$452))","v":""}]
[null,{"$f":"IF(E241=\"\",\"\",COUNT($E$24:$E$452)-COUNT(E242:$E$452))","v":""}]
[null,{"$f":"IF(E242=\"\",\"\",COUNT($E$24:$E$452)-COUNT(E243:$E$452))","v":""}]
[null,{"$f":"IF(E243=\"\",\"\",COUNT($E$24:$E$452)-COUNT(E244:$E$452))","v":""}]
[null,{"$f":"IF(E244=\"\",\"\",COUNT($E$24:$E$452)-COUNT(E245:$E$452))","v":""}]
[null,{"$f":"IF(E245=\"\",\"\",COUNT($E$24:$E$452)-COUNT(E246:$E$452))","v":""}]
[null,{"$f":"IF(E246=\"\",\"\",COUNT($E$24:$E$452)-COUNT(E247:$E$452))","v":""}]
[null,{"$f":"IF(E247=\"\",\"\",COUNT($E$24:$E$452)-COUNT(E248:$E$452))","v":""}]
[null,{"$f":"IF(E248=\"\",\"\",COUNT($E$24:$E$452)-COUNT(E249:$E$452))","v":""}]
[null,{"$f":"IF(E249=\"\",\"\",COUNT($E$24:$E$452)-COUNT(E250:$E$452))","v":""}]
[null,{"$f":"IF(E250=\"\",\"\",COUNT($E$24:$E$452)-COUNT(E251:$E$452))","v":""}]
[null,{"$f":"IF(E251=\"\",\"\",COUNT($E$24:$E$452)-COUNT(E252:$E$452))","v":""}]
[null,{"$f":"IF(E252=\"\",\"\",COUNT($E$24:$E$452)-COUNT(E253:$E$452))","v":""}]
[null,{"$f":"IF(E253=\"\",\"\",COUNT($E$24:$E$452)-COUNT(E254:$E$452))","v":""}]
[null,{"$f":"IF(E254=\"\",\"\",COUNT($E$24:$E$452)-COUNT(E255:$E$452))","v":""}]
[null,{"$f":"IF(E255=\"\",\"\",COUNT($E$24:$E$452)-COUNT(E256:$E$452))","v":""}]
[null,{"$f":"IF(E256=\"\",\"\",COUNT($E$24:$E$452)-COUNT(E257:$E$452))","v":""}]
[null,{"$f":"IF(E257=\"\",\"\",COUNT($E$24:$E$452)-COUNT(E258:$E$452))","v":""}]
[null,{"$f":"IF(E258=\"\",\"\",COUNT($E$24:$E$452)-COUNT(E259:$E$452))","v":""}]
[null,{"$f":"IF(E259=\"\",\"\",COUNT($E$24:$E$452)-COUNT(E260:$E$452))","v":""}]
[null,{"$f":"IF(E260=\"\",\"\",COUNT($E$24:$E$452)-COUNT(E261:$E$452))","v":""}]
[null,{"$f":"IF(E261=\"\",\"\",COUNT($E$24:$E$452)-COUNT(E262:$E$452))","v":""}]
[null,{"$f":"IF(E262=\"\",\"\",COUNT($E$24:$E$452)-COUNT(E263:$E$452))","v":""}]
[null,{"$f":"IF(E263=\"\",\"\",COUNT($E$24:$E$452)-COUNT(E264:$E$452))","v":""}]
[null,{"$f":"IF(E264=\"\",\"\",COUNT($E$24:$E$452)-COUNT(E265:$E$452))","v":""}]
[null,{"$f":"IF(E265=\"\",\"\",COUNT($E$24:$E$452)-COUNT(E266:$E$452))","v":""}]
[null,{"$f":"IF(E266=\"\",\"\",COUNT($E$24:$E$452)-COUNT(E267:$E$452))","v":""}]
[null,{"$f":"IF(E267=\"\",\"\",COUNT($E$24:$E$452)-COUNT(E268:$E$452))","v":""}]
[null,{"$f":"IF(E268=\"\",\"\",COUNT($E$24:$E$452)-COUNT(E269:$E$452))","v":""}]
[null,{"$f":"IF(E269=\"\",\"\",COUNT($E$24:$E$452)-COUNT(E270:$E$452))","v":""}]
[null,{"$f":"IF(E270=\"\",\"\",COUNT($E$24:$E$452)-COUNT(E271:$E$452))","v":""}]
[null,{"$f":"IF(E271=\"\",\"\",COUNT($E$24:$E$452)-COUNT(E272:$E$452))","v":""}]
[null,{"$f":"IF(E272=\"\",\"\",COUNT($E$24:$E$452)-COUNT(E273:$E$452))","v":""}]
[null,{"$f":"IF(E273=\"\",\"\",COUNT($E$24:$E$452)-COUNT(E274:$E$452))","v":""}]
[null,{"$f":"IF(E274=\"\",\"\",COUNT($E$24:$E$452)-COUNT(E275:$E$452))","v":""}]
[null,{"$f":"IF(E275=\"\",\"\",COUNT($E$24:$E$452)-COUNT(E276:$E$452))","v":""}]
[null,{"$f":"IF(E276=\"\",\"\",COUNT($E$24:$E$452)-COUNT(E277:$E$452))","v":""}]
[null,{"$f":"IF(E277=\"\",\"\",COUNT($E$24:$E$452)-COUNT(E278:$E$452))","v":""}]
[null,{"$f":"IF(E278=\"\",\"\",COUNT($E$24:$E$452)-COUNT(E279:$E$452))","v":""}]
[null,{"$f":"IF(E279=\"\",\"\",COUNT($E$24:$E$452)-COUNT(E280:$E$452))","v":""}]
[null,{"$f":"IF(E280=\"\",\"\",COUNT($E$24:$E$452)-COUNT(E281:$E$452))","v":""}]
[null,{"$f":"IF(E281=\"\",\"\",COUNT($E$24:$E$452)-COUNT(E282:$E$452))","v":""}]
[null,{"$f":"IF(E282=\"\",\"\",COUNT($E$24:$E$452)-COUNT(E283:$E$452))","v":""}]
[null,{"$f":"IF(E283=\"\",\"\",COUNT($E$24:$E$452)-COUNT(E284:$E$452))","v":""}]
[null,{"$f":"IF(E284=\"\",\"\",COUNT($E$24:$E$452)-COUNT(E285:$E$452))","v":""}]
[null,{"$f":"IF(E285=\"\",\"\",COUNT($E$24:$E$452)-COUNT(E286:$E$452))","v":""}]
[null,{"$f":"IF(E286=\"\",\"\",COUNT($E$24:$E$452)-COUNT(E287:$E$452))","v":""}]
[null,{"$f":"IF(E287=\"\",\"\",COUNT($E$24:$E$452)-COUNT(E288:$E$452))","v":""}]
[null,{"$f":"IF(E288=\"\",\"\",COUNT($E$24:$E$452)-COUNT(E289:$E$452))","v":""}]
[null,{"$f":"IF(E289=\"\",\"\",COUNT($E$24:$E$452)-COUNT(E290:$E$452))","v":""}]
[null,{"$f":"IF(E290=\"\",\"\",COUNT($E$24:$E$452)-COUNT(E291:$E$452))","v":""}]
[null,{"$f":"IF(E291=\"\",\"\",COUNT($E$24:$E$452)-COUNT(E292:$E$452))","v":""}]
[null,{"$f":"IF(E292=\"\",\"\",COUNT($E$24:$E$452)-COUNT(E293:$E$452))","v":""}]
[null,{"$f":"IF(E293=\"\",\"\",COUNT($E$24:$E$452)-COUNT(E294:$E$452))","v":""}]
[null,{"$f":"IF(E294=\"\",\"\",COUNT($E$24:$E$452)-COUNT(E295:$E$452))","v":""}]
[null,{"$f":"IF(E295=\"\",\"\",COUNT($E$24:$E$452)-COUNT(E296:$E$452))","v":""}]
[null,{"$f":"IF(E296=\"\",\"\",COUNT($E$24:$E$452)-COUNT(E297:$E$452))","v":""}]
[null,{"$f":"IF(E297=\"\",\"\",COUNT($E$24:$E$452)-COUNT(E298:$E$452))","v":""}]
[null,{"$f":"IF(E298=\"\",\"\",COUNT($E$24:$E$452)-COUNT(E299:$E$452))","v":""}]
[null,{"$f":"IF(E299=\"\",\"\",COUNT($E$24:$E$452)-COUNT(E300:$E$452))","v":""}]
[null,{"$f":"IF(E300=\"\",\"\",COUNT($E$24:$E$452)-COUNT(E301:$E$452))","v":""}]
[null,{"$f":"IF(E301=\"\",\"\",COUNT($E$24:$E$452)-COUNT(E302:$E$452))","v":""}]
[null,{"$f":"IF(E302=\"\",\"\",COUNT($E$24:$E$452)-COUNT(E303:$E$452))","v":""}]
[null,{"$f":"IF(E303=\"\",\"\",COUNT($E$24:$E$452)-COUNT(E304:$E$452))","v":""}]
[null,{"$f":"IF(E304=\"\",\"\",COUNT($E$24:$E$452)-COUNT(E305:$E$452))","v":""}]
[null,{"$f":"IF(E305=\"\",\"\",COUNT($E$24:$E$452)-COUNT(E306:$E$452))","v":""}]
[null,{"$f":"IF(E306=\"\",\"\",COUNT($E$24:$E$452)-COUNT(E307:$E$452))","v":""}]
[null,{"$f":"IF(E307=\"\",\"\",COUNT($E$24:$E$452)-COUNT(E308:$E$452))","v":""}]
[null,{"$f":"IF(E308=\"\",\"\",COUNT($E$24:$E$452)-COUNT(E309:$E$452))","v":""}]
[null,{"$f":"IF(E309=\"\",\"\",COUNT($E$24:$E$452)-COUNT(E310:$E$452))","v":""}]
[null,{"$f":"IF(E310=\"\",\"\",COUNT($E$24:$E$452)-COUNT(E311:$E$452))","v":""}]
[null,{"$f":"IF(E311=\"\",\"\",COUNT($E$24:$E$452)-COUNT(E312:$E$452))","v":""}]
[null,{"$f":"IF(E312=\"\",\"\",COUNT($E$24:$E$452)-COUNT(E313:$E$452))","v":""}]
[null,{"$f":"IF(E313=\"\",\"\",COUNT($E$24:$E$452)-COUNT(E314:$E$452))","v":""}]
[null,{"$f":"IF(E314=\"\",\"\",COUNT($E$24:$E$452)-COUNT(E315:$E$452))","v":""}]
[null,{"$f":"IF(E315=\"\",\"\",COUNT($E$24:$E$452)-COUNT(E316:$E$452))","v":""}]
[null,{"$f":"IF(E316=\"\",\"\",COUNT($E$24:$E$452)-COUNT(E317:$E$452))","v":""}]
[null,{"$f":"IF(E317=\"\",\"\",COUNT($E$24:$E$452)-COUNT(E318:$E$452))","v":""}]
[null,{"$f":"IF(E318=\"\",\"\",COUNT($E$24:$E$452)-COUNT(E319:$E$452))","v":""}]
[null,{"$f":"IF(E319=\"\",\"\",COUNT($E$24:$E$452)-COUNT(E320:$E$452))","v":""}]
[null,{"$f":"IF(E320=\"\",\"\",COUNT($E$24:$E$452)-COUNT(E321:$E$452))","v":""}]
[null,{"$f":"IF(E321=\"\",\"\",COUNT($E$24:$E$452)-COUNT(E322:$E$452))","v":""}]
[null,{"$f":"IF(E322=\"\",\"\",COUNT($E$24:$E$452)-COUNT(E323:$E$452))","v":""}]
[null,{"$f":"IF(E323=\"\",\"\",COUNT($E$24:$E$452)-COUNT(E324:$E$452))","v":""}]
[null,{"$f":"IF(E324=\"\",\"\",COUNT($E$24:$E$452)-COUNT(E325:$E$452))","v":""}]
[null,{"$f":"IF(E325=\"\",\"\",COUNT($E$24:$E$452)-COUNT(E326:$E$452))","v":""}]
[null,{"$f":"IF(E326=\"\",\"\",COUNT($E$24:$E$452)-COUNT(E327:$E$452))","v":""}]
[null,{"$f":"IF(E327=\"\",\"\",COUNT($E$24:$E$452)-COUNT(E328:$E$452))","v":""}]
[null,{"$f":"IF(E328=\"\",\"\",COUNT($E$24:$E$452)-COUNT(E329:$E$452))","v":""}]
[null,{"$f":"IF(E329=\"\",\"\",COUNT($E$24:$E$452)-COUNT(E330:$E$452))","v":""}]
[null,{"$f":"IF(E330=\"\",\"\",COUNT($E$24:$E$452)-COUNT(E331:$E$452))","v":""}]
[null,{"$f":"IF(E331=\"\",\"\",COUNT($E$24:$E$452)-COUNT(E332:$E$452))","v":""}]
[null,{"$f":"IF(E332=\"\",\"\",COUNT($E$24:$E$452)-COUNT(E333:$E$452))","v":""}]
[null,{"$f":"IF(E333=\"\",\"\",COUNT($E$24:$E$452)-COUNT(E334:$E$452))","v":""}]
[null,{"$f":"IF(E334=\"\",\"\",COUNT($E$24:$E$452)-COUNT(E335:$E$452))","v":""}]
[null,{"$f":"IF(E335=\"\",\"\",COUNT($E$24:$E$452)-COUNT(E336:$E$452))","v":""}]
[null,{"$f":"IF(E336=\"\",\"\",COUNT($E$24:$E$452)-COUNT(E337:$E$452))","v":""}]
[null,{"$f":"IF(E337=\"\",\"\",COUNT($E$24:$E$452)-COUNT(E338:$E$452))","v":""}]
[null,{"$f":"IF(E338=\"\",\"\",COUNT($E$24:$E$452)-COUNT(E339:$E$452))","v":""}]
[null,{"$f":"IF(E339=\"\",\"\",COUNT($E$24:$E$452)-COUNT(E340:$E$452))","v":""}]
[null,{"$f":"IF(E340=\"\",\"\",COUNT($E$24:$E$452)-COUNT(E341:$E$452))","v":""}]
[null,{"$f":"IF(E341=\"\",\"\",COUNT($E$24:$E$452)-COUNT(E342:$E$452))","v":""}]
[null,{"$f":"IF(E342=\"\",\"\",COUNT($E$24:$E$452)-COUNT(E343:$E$452))","v":""}]
[null,{"$f":"IF(E343=\"\",\"\",COUNT($E$24:$E$452)-COUNT(E344:$E$452))","v":""}]
[null,{"$f":"IF(E344=\"\",\"\",COUNT($E$24:$E$452)-COUNT(E345:$E$452))","v":""}]
[null,{"$f":"IF(E345=\"\",\"\",COUNT($E$24:$E$452)-COUNT(E346:$E$452))","v":""}]
[null,{"$f":"IF(E346=\"\",\"\",COUNT($E$24:$E$452)-COUNT(E347:$E$452))","v":""}]
[null,{"$f":"IF(E347=\"\",\"\",COUNT($E$24:$E$452)-COUNT(E348:$E$452))","v":""}]
[null,{"$f":"IF(E348=\"\",\"\",COUNT($E$24:$E$452)-COUNT(E349:$E$452))","v":""}]
[null,{"$f":"IF(E349=\"\",\"\",COUNT($E$24:$E$452)-COUNT(E350:$E$452))","v":""}]
[null,{"$f":"IF(E350=\"\",\"\",COUNT($E$24:$E$452)-COUNT(E351:$E$452))","v":""}]
[null,{"$f":"IF(E351=\"\",\"\",COUNT($E$24:$E$452)-COUNT(E352:$E$452))","v":""}]
[null,{"$f":"IF(E352=\"\",\"\",COUNT($E$24:$E$452)-COUNT(E353:$E$452))","v":""}]
[null,{"$f":"IF(E353=\"\",\"\",COUNT($E$24:$E$452)-COUNT(E354:$E$452))","v":""}]
[null,{"$f":"IF(E354=\"\",\"\",COUNT($E$24:$E$452)-COUNT(E355:$E$452))","v":""}]
[null,{"$f":"IF(E355=\"\",\"\",COUNT($E$24:$E$452)-COUNT(E356:$E$452))","v":""}]
[null,{"$f":"IF(E356=\"\",\"\",COUNT($E$24:$E$452)-COUNT(E357:$E$452))","v":""}]
[null,{"$f":"IF(E357=\"\",\"\",COUNT($E$24:$E$452)-COUNT(E358:$E$452))","v":""}]
[null,{"$f":"IF(E358=\"\",\"\",COUNT($E$24:$E$452)-COUNT(E359:$E$452))","v":""}]
[null,{"$f":"IF(E359=\"\",\"\",COUNT($E$24:$E$452)-COUNT(E360:$E$452))","v":""}]
[null,{"$f":"IF(E360=\"\",\"\",COUNT($E$24:$E$452)-COUNT(E361:$E$452))","v":""}]
[null,{"$f":"IF(E361=\"\",\"\",COUNT($E$24:$E$452)-COUNT(E362:$E$452))","v":""}]
[null,{"$f":"IF(E362=\"\",\"\",COUNT($E$24:$E$452)-COUNT(E363:$E$452))","v":""}]
[null,{"$f":"IF(E363=\"\",\"\",COUNT($E$24:$E$452)-COUNT(E364:$E$452))","v":""}]
[null,{"$f":"IF(E364=\"\",\"\",COUNT($E$24:$E$452)-COUNT(E365:$E$452))","v":""}]
[null,{"$f":"IF(E365=\"\",\"\",COUNT($E$24:$E$452)-COUNT(E366:$E$452))","v":""}]
[null,{"$f":"IF(E366=\"\",\"\",COUNT($E$24:$E$452)-COUNT(E367:$E$452))","v":""}]
[null,{"$f":"IF(E367=\"\",\"\",COUNT($E$24:$E$452)-COUNT(E368:$E$452))","v":""}]
[null,{"$f":"IF(E368=\"\",\"\",COUNT($E$24:$E$452)-COUNT(E369:$E$452))","v":""}]
[null,{"$f":"IF(E369=\"\",\"\",COUNT($E$24:$E$452)-COUNT(E370:$E$452))","v":""}]
[null,{"$f":"IF(E370=\"\",\"\",COUNT($E$24:$E$452)-COUNT(E371:$E$452))","v":""}]
[null,{"$f":"IF(E371=\"\",\"\",COUNT($E$24:$E$452)-COUNT(E372:$E$452))","v":""}]
[null,{"$f":"IF(E372=\"\",\"\",COUNT($E$24:$E$452)-COUNT(E373:$E$452))","v":""}]
[null,{"$f":"IF(E373=\"\",\"\",COUNT($E$24:$E$452)-COUNT(E374:$E$452))","v":""}]
[null,{"$f":"IF(E374=\"\",\"\",COUNT($E$24:$E$452)-COUNT(E375:$E$452))","v":""}]
[null,{"$f":"IF(E375=\"\",\"\",COUNT($E$24:$E$452)-COUNT(E376:$E$452))","v":""}]
[null,{"$f":"IF(E376=\"\",\"\",COUNT($E$24:$E$452)-COUNT(E377:$E$452))","v":""}]
[null,{"$f":"IF(E377=\"\",\"\",COUNT($E$24:$E$452)-COUNT(E378:$E$452))","v":""}]
[null,{"$f":"IF(E378=\"\",\"\",COUNT($E$24:$E$452)-COUNT(E379:$E$452))","v":""}]
[null,{"$f":"IF(E379=\"\",\"\",COUNT($E$24:$E$452)-COUNT(E380:$E$452))","v":""}]
[null,{"$f":"IF(E380=\"\",\"\",COUNT($E$24:$E$452)-COUNT(E381:$E$452))","v":""}]
[null,{"$f":"IF(E381=\"\",\"\",COUNT($E$24:$E$452)-COUNT(E382:$E$452))","v":""}]
[null,{"$f":"IF(E382=\"\",\"\",COUNT($E$24:$E$452)-COUNT(E383:$E$452))","v":""}]
[null,{"$f":"IF(E383=\"\",\"\",COUNT($E$24:$E$452)-COUNT(E384:$E$452))","v":""}]
[null,{"$f":"IF(E384=\"\",\"\",COUNT($E$24:$E$452)-COUNT(E385:$E$452))","v":""}]
[null,{"$f":"IF(E385=\"\",\"\",COUNT($E$24:$E$452)-COUNT(E386:$E$452))","v":""}]
[null,{"$f":"IF(E386=\"\",\"\",COUNT($E$24:$E$452)-COUNT(E387:$E$452))","v":""}]
[null,{"$f":"IF(E387=\"\",\"\",COUNT($E$24:$E$452)-COUNT(E388:$E$452))","v":""}]
[null,{"$f":"IF(E388=\"\",\"\",COUNT($E$24:$E$452)-COUNT(E389:$E$452))","v":""}]
[null,{"$f":"IF(E389=\"\",\"\",COUNT($E$24:$E$452)-COUNT(E390:$E$452))","v":""}]
[null,{"$f":"IF(E390=\"\",\"\",COUNT($E$24:$E$452)-COUNT(E391:$E$452))","v":""}]
[null,{"$f":"IF(E391=\"\",\"\",COUNT($E$24:$E$452)-COUNT(E392:$E$452))","v":""}]
[null,{"$f":"IF(E392=\"\",\"\",COUNT($E$24:$E$452)-COUNT(E393:$E$452))","v":""}]
[null,{"$f":"IF(E393=\"\",\"\",COUNT($E$24:$E$452)-COUNT(E394:$E$452))","v":""}]
[null,{"$f":"IF(E394=\"\",\"\",COUNT($E$24:$E$452)-COUNT(E395:$E$452))","v":""}]
[null,{"$f":"IF(E395=\"\",\"\",COUNT($E$24:$E$452)-COUNT(E396:$E$452))","v":""}]
[null,{"$f":"IF(E396=\"\",\"\",COUNT($E$24:$E$452)-COUNT(E397:$E$452))","v":""}]
[null,{"$f":"IF(E397=\"\",\"\",COUNT($E$24:$E$452)-COUNT(E398:$E$452))","v":""}]
[null,{"$f":"IF(E398=\"\",\"\",COUNT($E$24:$E$452)-COUNT(E399:$E$452))","v":""}]
[null,{"$f":"IF(E399=\"\",\"\",COUNT($E$24:$E$452)-COUNT(E400:$E$452))","v":""}]
[null,{"$f":"IF(E400=\"\",\"\",COUNT($E$24:$E$452)-COUNT(E401:$E$452))","v":""}]
[null,{"$f":"IF(E401=\"\",\"\",COUNT($E$24:$E$452)-COUNT(E402:$E$452))","v":""}]
[null,{"$f":"IF(E402=\"\",\"\",COUNT($E$24:$E$452)-COUNT(E403:$E$452))","v":""}]
[null,{"$f":"IF(E403=\"\",\"\",COUNT($E$24:$E$452)-COUNT(E404:$E$452))","v":""}]
[null,{"$f":"IF(E404=\"\",\"\",COUNT($E$24:$E$452)-COUNT(E405:$E$452))","v":""}]
[null,{"$f":"IF(E405=\"\",\"\",COUNT($E$24:$E$452)-COUNT(E406:$E$452))","v":""}]
[null,{"$f":"IF(E406=\"\",\"\",COUNT($E$24:$E$452)-COUNT(E407:$E$452))","v":""}]
[null,{"$f":"IF(E407=\"\",\"\",COUNT($E$24:$E$452)-COUNT(E408:$E$452))","v":""}]
[null,{"$f":"IF(E408=\"\",\"\",COUNT($E$24:$E$452)-COUNT(E409:$E$452))","v":""}]
[null,{"$f":"IF(E409=\"\",\"\",COUNT($E$24:$E$452)-COUNT(E410:$E$452))","v":""}]
[null,{"$f":"IF(E410=\"\",\"\",COUNT($E$24:$E$452)-COUNT(E411:$E$452))","v":""}]
[null,{"$f":"IF(E411=\"\",\"\",COUNT($E$24:$E$452)-COUNT(E412:$E$452))","v":""}]
[null,{"$f":"IF(E412=\"\",\"\",COUNT($E$24:$E$452)-COUNT(E413:$E$452))","v":""}]
[null,{"$f":"IF(E413=\"\",\"\",COUNT($E$24:$E$452)-COUNT(E414:$E$452))","v":""}]
[null,{"$f":"IF(E414=\"\",\"\",COUNT($E$24:$E$452)-COUNT(E415:$E$452))","v":""}]
[null,{"$f":"IF(E415=\"\",\"\",COUNT($E$24:$E$452)-COUNT(E416:$E$452))","v":""}]
[null,{"$f":"IF(E416=\"\",\"\",COUNT($E$24:$E$452)-COUNT(E417:$E$452))","v":""}]
[null,{"$f":"IF(E417=\"\",\"\",COUNT($E$24:$E$452)-COUNT(E418:$E$452))","v":""}]
[null,{"$f":"IF(E418=\"\",\"\",COUNT($E$24:$E$452)-COUNT(E419:$E$452))","v":""}]
[null,{"$f":"IF(E419=\"\",\"\",COUNT($E$24:$E$452)-COUNT(E420:$E$452))","v":""}]
[null,{"$f":"IF(E420=\"\",\"\",COUNT($E$24:$E$452)-COUNT(E421:$E$452))","v":""}]
[null,{"$f":"IF(E421=\"\",\"\",COUNT($E$24:$E$452)-COUNT(E422:$E$452))","v":""}]
[null,{"$f":"IF(E422=\"\",\"\",COUNT($E$24:$E$452)-COUNT(E423:$E$452))","v":""}]
[null,{"$f":"IF(E423=\"\",\"\",COUNT($E$24:$E$452)-COUNT(E424:$E$452))","v":""}]
[null,{"$f":"IF(E424=\"\",\"\",COUNT($E$24:$E$452)-COUNT(E425:$E$452))","v":""}]
[null,{"$f":"IF(E425=\"\",\"\",COUNT($E$24:$E$452)-COUNT(E426:$E$452))","v":""}]
[null,{"$f":"IF(E426=\"\",\"\",COUNT($E$24:$E$452)-COUNT(E427:$E$452))","v":""}]
[null,{"$f":"IF(E427=\"\",\"\",COUNT($E$24:$E$452)-COUNT(E428:$E$452))","v":""}]
[null,{"$f":"IF(E428=\"\",\"\",COUNT($E$24:$E$452)-COUNT(E429:$E$452))","v":""}]
[null,{"$f":"IF(E429=\"\",\"\",COUNT($E$24:$E$452)-COUNT(E430:$E$452))","v":""}]
[null,{"$f":"IF(E430=\"\",\"\",COUNT($E$24:$E$452)-COUNT(E431:$E$452))","v":""}]
[null,{"$f":"IF(E431=\"\",\"\",COUNT($E$24:$E$452)-COUNT(E432:$E$452))","v":""}]
[null,{"$f":"IF(E432=\"\",\"\",COUNT($E$24:$E$452)-COUNT(E433:$E$452))","v":""}]
[null,{"$f":"IF(E433=\"\",\"\",COUNT($E$24:$E$452)-COUNT(E434:$E$452))","v":""}]
[null,{"$f":"IF(E434=\"\",\"\",COUNT($E$24:$E$452)-COUNT(E435:$E$452))","v":""}]
[null,{"$f":"IF(E435=\"\",\"\",COUNT($E$24:$E$452)-COUNT(E436:$E$452))","v":""}]
[null,{"$f":"IF(E436=\"\",\"\",COUNT($E$24:$E$452)-COUNT(E437:$E$452))","v":""}]
[null,{"$f":"IF(E437=\"\",\"\",COUNT($E$24:$E$452)-COUNT(E438:$E$452))","v":""}]
[null,{"$f":"IF(E438=\"\",\"\",COUNT($E$24:$E$452)-COUNT(E439:$E$452))","v":""}]
[null,{"$f":"IF(E439=\"\",\"\",COUNT($E$24:$E$452)-COUNT(E440:$E$452))","v":""}]
[null,{"$f":"IF(E440=\"\",\"\",COUNT($E$24:$E$452)-COUNT(E441:$E$452))","v":""}]
[null,{"$f":"IF(E441=\"\",\"\",COUNT($E$24:$E$452)-COUNT(E442:$E$452))","v":""}]
[null,{"$f":"IF(E442=\"\",\"\",COUNT($E$24:$E$452)-COUNT(E443:$E$452))","v":""}]
[null,{"$f":"IF(E443=\"\",\"\",COUNT($E$24:$E$452)-COUNT(E444:$E$452))","v":""}]
[null,{"$f":"IF(E444=\"\",\"\",COUNT($E$24:$E$452)-COUNT(E445:$E$452))","v":""}]
[null,{"$f":"IF(E445=\"\",\"\",COUNT($E$24:$E$452)-COUNT(E446:$E$452))","v":""}]
[null,{"$f":"IF(E446=\"\",\"\",COUNT($E$24:$E$452)-COUNT(E447:$E$452))","v":""}]
[null,{"$f":"IF(E447=\"\",\"\",COUNT($E$24:$E$452)-COUNT(E448:$E$452))","v":""}]
[null,{"$f":"IF(E448=\"\",\"\",COUNT($E$24:$E$452)-COUNT(E449:$E$452))","v":""}]
[null,{"$f":"IF(E449=\"\",\"\",COUNT($E$24:$E$452)-COUNT(E450:$E$452))","v":""}]
[null,{"$f":"IF(E450=\"\",\"\",COUNT($E$24:$E$452)-COUNT(E451:$E$452))","v":""}]
[null,{"$f":"IF(E451=\"\",\"\",COUNT($E$24:$E$452)-COUNT(E$452:$E452))","v":""}]
[null,{"$f":"IF(E452=\"\",\"\",COUNT($E$24:$E$452)-COUNT(E$452:$E453))","v":""}]
[null,{"$f":"IF(E453=\"\",\"\",COUNT($E$24:$E$452)-COUNT(E$452:$E454))","v":""}]
[null,{"$f":"IF(E454=\"\",\"\",COUNT($E$24:$E$452)-COUNT(E$452:$E455))","v":""}]
[null,{"$f":"IF(E455=\"\",\"\",COUNT($E$24:$E$452)-COUNT(E$452:$E456))","v":""}]
[null,{"$f":"IF(E456=\"\",\"\",COUNT($E$24:$E$452)-COUNT(E$452:$E457))","v":""}]
[null,{"$f":"IF(E457=\"\",\"\",COUNT($E$24:$E$452)-COUNT(E$452:$E458))","v":""}]
[null,{"$f":"IF(E458=\"\",\"\",COUNT($E$24:$E$452)-COUNT(E$452:$E459))","v":""}]
[null,{"$f":"IF(E459=\"\",\"\",COUNT($E$24:$E$452)-COUNT(E$452:$E460))","v":""}]
[null,{"$f":"IF(E460=\"\",\"\",COUNT($E$24:$E$452)-COUNT(E$452:$E461))","v":""}]
[null,{"$f":"IF(E461=\"\",\"\",COUNT($E$24:$E$452)-COUNT(E$452:$E462))","v":""}]
[null,{"$f":"IF(E462=\"\",\"\",COUNT($E$24:$E$452)-COUNT(E$452:$E463))","v":""}]
[null,{"$f":"IF(E463=\"\",\"\",COUNT($E$24:$E$452)-COUNT(E$452:$E464))","v":""}]
[null,{"$f":"IF(E464=\"\",\"\",COUNT($E$24:$E$452)-COUNT(E$452:$E465))","v":""}]
[null,{"$f":"IF(E465=\"\",\"\",COUNT($E$24:$E$452)-COUNT(E$452:$E466))","v":""}]
[null,{"$f":"IF(E466=\"\",\"\",COUNT($E$24:$E$452)-COUNT(E$452:$E467))","v":""}]
[null,{"$f":"IF(E467=\"\",\"\",COUNT($E$24:$E$452)-COUNT(E$452:$E468))","v":""}]
[null,{"$f":"IF(E468=\"\",\"\",COUNT($E$24:$E$452)-COUNT(E$452:$E469))","v":""}]
[null,{"$f":"IF(E469=\"\",\"\",COUNT($E$24:$E$452)-COUNT(E$452:$E470))","v":""}]
[null,{"$f":"IF(E470=\"\",\"\",COUNT($E$24:$E$452)-COUNT(E$452:$E471))","v":""}]
[null,{"$f":"IF(E471=\"\",\"\",COUNT($E$24:$E$452)-COUNT(E$452:$E472))","v":""}]
[null,{"$f":"IF(E472=\"\",\"\",COUNT($E$24:$E$452)-COUNT(E$452:$E473))","v":""}]
[null,{"$f":"IF(E473=\"\",\"\",COUNT($E$24:$E$452)-COUNT(E$452:$E474))","v":""}]
[null,{"$f":"IF(E474=\"\",\"\",COUNT($E$24:$E$452)-COUNT(E$452:$E475))","v":""}]
[null,{"$f":"IF(E475=\"\",\"\",COUNT($E$24:$E$452)-COUNT(E$452:$E476))","v":""}]
[null,{"$f":"IF(E476=\"\",\"\",COUNT($E$24:$E$452)-COUNT(E$452:$E477))","v":""}]
[null,{"$f":"IF(E477=\"\",\"\",COUNT($E$24:$E$452)-COUNT(E$452:$E478))","v":""}]
[null,{"$f":"IF(E478=\"\",\"\",COUNT($E$24:$E$452)-COUNT(E$452:$E479))","v":""}]
[null,{"$f":"IF(E479=\"\",\"\",COUNT($E$24:$E$452)-COUNT(E$452:$E480))","v":""}]
[null,{"$f":"IF(E480=\"\",\"\",COUNT($E$24:$E$452)-COUNT(E$452:$E481))","v":""}]
[null,{"$f":"IF(E481=\"\",\"\",COUNT($E$24:$E$452)-COUNT(E$452:$E482))","v":""}]
[null,{"$f":"IF(E482=\"\",\"\",COUNT($E$24:$E$452)-COUNT(E$452:$E483))","v":""}]
[null,{"$f":"IF(E483=\"\",\"\",COUNT($E$24:$E$452)-COUNT(E$452:$E484))","v":""}]
[null,{"$f":"IF(E484=\"\",\"\",COUNT($E$24:$E$452)-COUNT(E$452:$E485))","v":""}]
[null,{"$f":"IF(E485=\"\",\"\",COUNT($E$24:$E$452)-COUNT(E$452:$E486))","v":""}]
[null,{"$f":"IF(E486=\"\",\"\",COUNT($E$24:$E$452)-COUNT(E$452:$E487))","v":""}]
[null,{"$f":"IF(E487=\"\",\"\",COUNT($E$24:$E$452)-COUNT(E$452:$E488))","v":""}]
[null,{"$f":"IF(E488=\"\",\"\",COUNT($E$24:$E$452)-COUNT(E$452:$E489))","v":""}]
[null,{"$f":"IF(E489=\"\",\"\",COUNT($E$24:$E$452)-COUNT(E$452:$E490))","v":""}]
[null,{"$f":"IF(E490=\"\",\"\",COUNT($E$24:$E$452)-COUNT(E$452:$E491))","v":""}]
[null,{"$f":"IF(E491=\"\",\"\",COUNT($E$24:$E$452)-COUNT(E$452:$E492))","v":""}]
[null,{"$f":"IF(E492=\"\",\"\",COUNT($E$24:$E$452)-COUNT(E$452:$E493))","v":""}]
[null,{"$f":"IF(E493=\"\",\"\",COUNT($E$24:$E$452)-COUNT(E$452:$E494))","v":""}]
[null,{"$f":"IF(E494=\"\",\"\",COUNT($E$24:$E$452)-COUNT(E$452:$E495))","v":""}]
[null,{"$f":"IF(E495=\"\",\"\",COUNT($E$24:$E$452)-COUNT(E$452:$E496))","v":""}]
[null,{"$f":"IF(E496=\"\",\"\",COUNT($E$24:$E$452)-COUNT(E$452:$E497))","v":""}]
[null,{"$f":"IF(E497=\"\",\"\",COUNT($E$24:$E$452)-COUNT(E$452:$E498))","v":""}]
[null,{"$f":"IF(E498=\"\",\"\",COUNT($E$24:$E$452)-COUNT(E$452:$E499))","v":""}]
[null,{"$f":"IF(E499=\"\",\"\",COUNT($E$24:$E$452)-COUNT(E$452:$E500))","v":""}]
[null,{"$f":"IF(E500=\"\",\"\",COUNT($E$24:$E$452)-COUNT(E$452:$E501))","v":""}]
[null,{"$f":"IF(E501=\"\",\"\",COUNT($E$24:$E$452)-COUNT(E$452:$E502))","v":""}]
[null,{"$f":"IF(E502=\"\",\"\",COUNT($E$24:$E$452)-COUNT(E$452:$E503))","v":""}]
[null,{"$f":"IF(E503=\"\",\"\",COUNT($E$24:$E$452)-COUNT(E$452:$E504))","v":""}]
[null,{"$f":"IF(E504=\"\",\"\",COUNT($E$24:$E$452)-COUNT(E$452:$E505))","v":""}]
[null,{"$f":"IF(E505=\"\",\"\",COUNT($E$24:$E$452)-COUNT(E$452:$E506))","v":""}]
[null,{"$f":"IF(E506=\"\",\"\",COUNT($E$24:$E$452)-COUNT(E$452:$E507))","v":""}]
[null,{"$f":"IF(E507=\"\",\"\",COUNT($E$24:$E$452)-COUNT(E$452:$E508))","v":""}]
[null,{"$f":"IF(E508=\"\",\"\",COUNT($E$24:$E$452)-COUNT(E$452:$E509))","v":""}]
[null,{"$f":"IF(E509=\"\",\"\",COUNT($E$24:$E$452)-COUNT(E$452:$E510))","v":""}]
[null,{"$f":"IF(E510=\"\",\"\",COUNT($E$24:$E$452)-COUNT(E$452:$E511))","v":""}]
[null,{"$f":"IF(E511=\"\",\"\",COUNT($E$24:$E$452)-COUNT(E$452:$E512))","v":""}]
[null,{"$f":"IF(E512=\"\",\"\",COUNT($E$24:$E$452)-COUNT(E$452:$E513))","v":""}]
[null,{"$f":"IF(E513=\"\",\"\",COUNT($E$24:$E$452)-COUNT(E$452:$E514))","v":""}]
[null,{"$f":"IF(E514=\"\",\"\",COUNT($E$24:$E$452)-COUNT(E$452:$E515))","v":""}]
[null,{"$f":"IF(E515=\"\",\"\",COUNT($E$24:$E$452)-COUNT(E$452:$E516))","v":""}]
[null,{"$f":"IF(E516=\"\",\"\",COUNT($E$24:$E$452)-COUNT(E$452:$E517))","v":""}]
[null,{"$f":"IF(E517=\"\",\"\",COUNT($E$24:$E$452)-COUNT(E$452:$E518))","v":""}]
[null,{"$f":"IF(E518=\"\",\"\",COUNT($E$24:$E$452)-COUNT(E$452:$E519))","v":""}]
[null,{"$f":"IF(E519=\"\",\"\",COUNT($E$24:$E$452)-COUNT(E$452:$E520))","v":""}]
[null,{"$f":"IF(E520=\"\",\"\",COUNT($E$24:$E$452)-COUNT(E$452:$E521))","v":""}]
[null,{"$f":"IF(E521=\"\",\"\",COUNT($E$24:$E$452)-COUNT(E$452:$E522))","v":""}]
[null,{"$f":"IF(E522=\"\",\"\",COUNT($E$24:$E$452)-COUNT(E$452:$E523))","v":""}]
[null,{"$f":"IF(E523=\"\",\"\",COUNT($E$24:$E$452)-COUNT(E$452:$E524))","v":""}]
[null,{"$f":"IF(E524=\"\",\"\",COUNT($E$24:$E$452)-COUNT(E$452:$E525))","v":""}]
[null,{"$f":"IF(E525=\"\",\"\",COUNT($E$24:$E$452)-COUNT(E$452:$E526))","v":""}]
[null,{"$f":"IF(E526=\"\",\"\",COUNT($E$24:$E$452)-COUNT(E$452:$E527))","v":""}]
[null,{"$f":"IF(E527=\"\",\"\",COUNT($E$24:$E$452)-COUNT(E$452:$E528))","v":""}]
[null,{"$f":"IF(E528=\"\",\"\",COUNT($E$24:$E$452)-COUNT(E$452:$E529))","v":""}]
[null,{"$f":"IF(E529=\"\",\"\",COUNT($E$24:$E$452)-COUNT(E$452:$E530))","v":""}]
[null,{"$f":"IF(E530=\"\",\"\",COUNT($E$24:$E$452)-COUNT(E$452:$E531))","v":""}]
[null,{"$f":"IF(E531=\"\",\"\",COUNT($E$24:$E$452)-COUNT(E$452:$E532))","v":""}]
[null,{"$f":"IF(E532=\"\",\"\",COUNT($E$24:$E$452)-COUNT(E$452:$E533))","v":""}]
[null,{"$f":"IF(E533=\"\",\"\",COUNT($E$24:$E$452)-COUNT(E$452:$E534))","v":""}]
[null,{"$f":"IF(E534=\"\",\"\",COUNT($E$24:$E$452)-COUNT(E$452:$E535))","v":""}]
[null,{"$f":"IF(E535=\"\",\"\",COUNT($E$24:$E$452)-COUNT(E$452:$E536))","v":""}]
[null,{"$f":"IF(E536=\"\",\"\",COUNT($E$24:$E$452)-COUNT(E$452:$E537))","v":""}]
[null,{"$f":"IF(E537=\"\",\"\",COUNT($E$24:$E$452)-COUNT(E$452:$E538))","v":""}]
[null,{"$f":"IF(E538=\"\",\"\",COUNT($E$24:$E$452)-COUNT(E$452:$E539))","v":""}]
[null,{"$f":"IF(E539=\"\",\"\",COUNT($E$24:$E$452)-COUNT(E$452:$E540))","v":""}]
[null,{"$f":"IF(E540=\"\",\"\",COUNT($E$24:$E$452)-COUNT(E$452:$E541))","v":""}]
[null,{"$f":"IF(E541=\"\",\"\",COUNT($E$24:$E$452)-COUNT(E$452:$E542))","v":""}]
[null,{"$f":"IF(E542=\"\",\"\",COUNT($E$24:$E$452)-COUNT(E$452:$E543))","v":""}]
[null,{"$f":"IF(E543=\"\",\"\",COUNT($E$24:$E$452)-COUNT(E$452:$E544))","v":""}]
[null,{"$f":"IF(E544=\"\",\"\",COUNT($E$24:$E$452)-COUNT(E$452:$E545))","v":""}]
[null,{"$f":"IF(E545=\"\",\"\",COUNT($E$24:$E$452)-COUNT(E$452:$E546))","v":""}]
[null,{"$f":"IF(E546=\"\",\"\",COUNT($E$24:$E$452)-COUNT(E$452:$E547))","v":""}]
[null,{"$f":"IF(E547=\"\",\"\",COUNT($E$24:$E$452)-COUNT(E$452:$E548))","v":""}]
[null,{"$f":"IF(E548=\"\",\"\",COUNT($E$24:$E$452)-COUNT(E$452:$E549))","v":""}]
[null,{"$f":"IF(E549=\"\",\"\",COUNT($E$24:$E$452)-COUNT(E$452:$E550))","v":""}]
[null,{"$f":"IF(E550=\"\",\"\",COUNT($E$24:$E$452)-COUNT(E$452:$E551))","v":""}]
[null,{"$f":"IF(E551=\"\",\"\",COUNT($E$24:$E$452)-COUNT(E$452:$E552))","v":""}]
[null,{"$f":"IF(E552=\"\",\"\",COUNT($E$24:$E$452)-COUNT(E$452:$E553))","v":""}]
[null,{"$f":"IF(E553=\"\",\"\",COUNT($E$24:$E$452)-COUNT(E$452:$E554))","v":""}]
[null,{"$f":"IF(E554=\"\",\"\",COUNT($E$24:$E$452)-COUNT(E$452:$E555))","v":""}]
[null,{"$f":"IF(E555=\"\",\"\",COUNT($E$24:$E$452)-COUNT(E$452:$E556))","v":""}]
[null,{"$f":"IF(E556=\"\",\"\",COUNT($E$24:$E$452)-COUNT(E$452:$E557))","v":""}]
[null,{"$f":"IF(E557=\"\",\"\",COUNT($E$24:$E$452)-COUNT(E$452:$E558))","v":""}]
[null,{"$f":"IF(E558=\"\",\"\",COUNT($E$24:$E$452)-COUNT(E$452:$E559))","v":""}]
[null,{"$f":"IF(E559=\"\",\"\",COUNT($E$24:$E$452)-COUNT(E$452:$E560))","v":""}]
[null,{"$f":"IF(E560=\"\",\"\",COUNT($E$24:$E$452)-COUNT(E$452:$E561))","v":""}]
[null,{"$f":"IF(E561=\"\",\"\",COUNT($E$24:$E$452)-COUNT(E$452:$E562))","v":""}]
[null,{"$f":"IF(E562=\"\",\"\",COUNT($E$24:$E$452)-COUNT(E$452:$E563))","v":""}]
[null,{"$f":"IF(E563=\"\",\"\",COUNT($E$24:$E$452)-COUNT(E$452:$E564))","v":""}]
[null,{"$f":"IF(E564=\"\",\"\",COUNT($E$24:$E$452)-COUNT(E$452:$E565))","v":""}]
[null,{"$f":"IF(E565=\"\",\"\",COUNT($E$24:$E$452)-COUNT(E$452:$E566))","v":""}]
[null,{"$f":"IF(E566=\"\",\"\",COUNT($E$24:$E$452)-COUNT(E$452:$E567))","v":""}]
[null,{"$f":"IF(E567=\"\",\"\",COUNT($E$24:$E$452)-COUNT(E$452:$E568))","v":""}]
[null,{"$f":"IF(E568=\"\",\"\",COUNT($E$24:$E$452)-COUNT(E$452:$E569))","v":""}]
[null,{"$f":"IF(E569=\"\",\"\",COUNT($E$24:$E$452)-COUNT(E$452:$E570))","v":""}]
[null,{"$f":"IF(E570=\"\",\"\",COUNT($E$24:$E$452)-COUNT(E$452:$E571))","v":""}]
[null,{"$f":"IF(E571=\"\",\"\",COUNT($E$24:$E$452)-COUNT(E$452:$E572))","v":""}]
[null,{"$f":"IF(E572=\"\",\"\",COUNT($E$24:$E$452)-COUNT(E$452:$E573))","v":""}]
[null,{"$f":"IF(E573=\"\",\"\",COUNT($E$24:$E$452)-COUNT(E$452:$E574))","v":""}]
[null,{"$f":"IF(E574=\"\",\"\",COUNT($E$24:$E$452)-COUNT(E$452:$E575))","v":""}]
[null,{"$f":"IF(E575=\"\",\"\",COUNT($E$24:$E$452)-COUNT(E$452:$E576))","v":""}]
[null,{"$f":"IF(E576=\"\",\"\",COUNT($E$24:$E$452)-COUNT(E$452:$E577))","v":""}]
[null,{"$f":"IF(E577=\"\",\"\",COUNT($E$24:$E$452)-COUNT(E$452:$E578))","v":""}]
[null,{"$f":"IF(E578=\"\",\"\",COUNT($E$24:$E$452)-COUNT(E$452:$E579))","v":""}]
[null,{"$f":"IF(E579=\"\",\"\",COUNT($E$24:$E$452)-COUNT(E$452:$E580))","v":""}]
[null,{"$f":"IF(E580=\"\",\"\",COUNT($E$24:$E$452)-COUNT(E$452:$E581))","v":""}]
[null,{"$f":"IF(E581=\"\",\"\",COUNT($E$24:$E$452)-COUNT(E$452:$E582))","v":""}]
[null,{"$f":"IF(E582=\"\",\"\",COUNT($E$24:$E$452)-COUNT(E$452:$E583))","v":""}]
[null,{"$f":"IF(E583=\"\",\"\",COUNT($E$24:$E$452)-COUNT(E$452:$E584))","v":""}]
[null,{"$f":"IF(E584=\"\",\"\",COUNT($E$24:$E$452)-COUNT(E$452:$E585))","v":""}]
[null,{"$f":"IF(E585=\"\",\"\",COUNT($E$24:$E$452)-COUNT(E$452:$E586))","v":""}]
[null,{"$f":"IF(E586=\"\",\"\",COUNT($E$24:$E$452)-COUNT(E$452:$E587))","v":""}]
[null,{"$f":"IF(E587=\"\",\"\",COUNT($E$24:$E$452)-COUNT(E$452:$E588))","v":""}]
[null,{"$f":"IF(E588=\"\",\"\",COUNT($E$24:$E$452)-COUNT(E$452:$E589))","v":""}]
[null,{"$f":"IF(E589=\"\",\"\",COUNT($E$24:$E$452)-COUNT(E$452:$E590))","v":""}]
[null,{"$f":"IF(E590=\"\",\"\",COUNT($E$24:$E$452)-COUNT(E$452:$E591))","v":""}]
[null,{"$f":"IF(E591=\"\",\"\",COUNT($E$24:$E$452)-COUNT(E$452:$E592))","v":""}]
[null,{"$f":"IF(E592=\"\",\"\",COUNT($E$24:$E$452)-COUNT(E$452:$E593))","v":""}]
[null,{"$f":"IF(E593=\"\",\"\",COUNT($E$24:$E$452)-COUNT(E$452:$E594))","v":""}]
[null,{"$f":"IF(E594=\"\",\"\",COUNT($E$24:$E$452)-COUNT(E$452:$E595))","v":""}]
[null,{"$f":"IF(E595=\"\",\"\",COUNT($E$24:$E$452)-COUNT(E$452:$E596))","v":""}]
[null,{"$f":"IF(E596=\"\",\"\",COUNT($E$24:$E$452)-COUNT(E$452:$E597))","v":""}]
[null,{"$f":"IF(E597=\"\",\"\",COUNT($E$24:$E$452)-COUNT(E$452:$E598))","v":""}]
[null,{"$f":"IF(E598=\"\",\"\",COUNT($E$24:$E$452)-COUNT(E$452:$E599))","v":""}]
[null,{"$f":"IF(E599=\"\",\"\",COUNT($E$24:$E$452)-COUNT(E$452:$E600))","v":""}]
[null,{"$f":"IF(E600=\"\",\"\",COUNT($E$24:$E$452)-COUNT(E$452:$E601))","v":""}]
[null,{"$f":"IF(E601=\"\",\"\",COUNT($E$24:$E$452)-COUNT(E$452:$E602))","v":""}]
[null,{"$f":"IF(E602=\"\",\"\",COUNT($E$24:$E$452)-COUNT(E$452:$E603))","v":""}]
[null,{"$f":"IF(E603=\"\",\"\",COUNT($E$24:$E$452)-COUNT(E$452:$E604))","v":""}]
[null,{"$f":"IF(E604=\"\",\"\",COUNT($E$24:$E$452)-COUNT(E$452:$E605))","v":""}]
[null,{"$f":"IF(E605=\"\",\"\",COUNT($E$24:$E$452)-COUNT(E$452:$E606))","v":""}]
[null,{"$f":"IF(E606=\"\",\"\",COUNT($E$24:$E$452)-COUNT(E$452:$E607))","v":""}]
[null,{"$f":"IF(E607=\"\",\"\",COUNT($E$24:$E$452)-COUNT(E$452:$E608))","v":""}]
[null,{"$f":"IF(E608=\"\",\"\",COUNT($E$24:$E$452)-COUNT(E$452:$E609))","v":""}]
[null,{"$f":"IF(E609=\"\",\"\",COUNT($E$24:$E$452)-COUNT(E$452:$E610))","v":""}]
[null,{"$f":"IF(E610=\"\",\"\",COUNT($E$24:$E$452)-COUNT(E$452:$E611))","v":""}]
[null,{"$f":"IF(E611=\"\",\"\",COUNT($E$24:$E$452)-COUNT(E$452:$E612))","v":""}]
[null,{"$f":"IF(E612=\"\",\"\",COUNT($E$24:$E$452)-COUNT(E$452:$E613))","v":""}]
[null,{"$f":"IF(E613=\"\",\"\",COUNT($E$24:$E$452)-COUNT(E$452:$E614))","v":""}]
[null,{"$f":"IF(E614=\"\",\"\",COUNT($E$24:$E$452)-COUNT(E$452:$E615))","v":""}]
[null,{"$f":"IF(E615=\"\",\"\",COUNT($E$24:$E$452)-COUNT(E$452:$E616))","v":""}]
[null,{"$f":"IF(E616=\"\",\"\",COUNT($E$24:$E$452)-COUNT(E$452:$E617))","v":""}]
[null,{"$f":"IF(E617=\"\",\"\",COUNT($E$24:$E$452)-COUNT(E$452:$E618))","v":""}]
[null,{"$f":"IF(E618=\"\",\"\",COUNT($E$24:$E$452)-COUNT(E$452:$E619))","v":""}]
[null,{"$f":"IF(E619=\"\",\"\",COUNT($E$24:$E$452)-COUNT(E$452:$E620))","v":""}]
[null,{"$f":"IF(E620=\"\",\"\",COUNT($E$24:$E$452)-COUNT(E$452:$E621))","v":""}]
[null,{"$f":"IF(E621=\"\",\"\",COUNT($E$24:$E$452)-COUNT(E$452:$E622))","v":""}]
[null,{"$f":"IF(E622=\"\",\"\",COUNT($E$24:$E$452)-COUNT(E$452:$E623))","v":""}]
[null,{"$f":"IF(E623=\"\",\"\",COUNT($E$24:$E$452)-COUNT(E$452:$E624))","v":""}]
[null,{"$f":"IF(E624=\"\",\"\",COUNT($E$24:$E$452)-COUNT(E$452:$E625))","v":""}]
[null,{"$f":"IF(E625=\"\",\"\",COUNT($E$24:$E$452)-COUNT(E$452:$E626))","v":""}]
[null,{"$f":"IF(E626=\"\",\"\",COUNT($E$24:$E$452)-COUNT(E$452:$E627))","v":""}]
[null,{"$f":"IF(E627=\"\",\"\",COUNT($E$24:$E$452)-COUNT(E$452:$E628))","v":""}]
[null,{"$f":"IF(E628=\"\",\"\",COUNT($E$24:$E$452)-COUNT(E$452:$E629))","v":""}]
[null,{"$f":"IF(E629=\"\",\"\",COUNT($E$24:$E$452)-COUNT(E$452:$E630))","v":""}]
[null,{"$f":"IF(E630=\"\",\"\",COUNT($E$24:$E$452)-COUNT(E$452:$E631))","v":""}]
[null,{"$f":"IF(E631=\"\",\"\",COUNT($E$24:$E$452)-COUNT(E$452:$E632))","v":""}]
[null,{"$f":"IF(E632=\"\",\"\",COUNT($E$24:$E$452)-COUNT(E$452:$E633))","v":""}]
[null,{"$f":"IF(E633=\"\",\"\",COUNT($E$24:$E$452)-COUNT(E$452:$E634))","v":""}]
[null,{"$f":"IF(E634=\"\",\"\",COUNT($E$24:$E$452)-COUNT(E$452:$E635))","v":""}]
[null,{"$f":"IF(E635=\"\",\"\",COUNT($E$24:$E$452)-COUNT(E$452:$E636))","v":""}]
[null,{"$f":"IF(E636=\"\",\"\",COUNT($E$24:$E$452)-COUNT(E$452:$E637))","v":""}]
[null,{"$f":"IF(E637=\"\",\"\",COUNT($E$24:$E$452)-COUNT(E$452:$E638))","v":""}]
[null,{"$f":"IF(E638=\"\",\"\",COUNT($E$24:$E$452)-COUNT(E$452:$E639))","v":""}]
[null,{"$f":"IF(E639=\"\",\"\",COUNT($E$24:$E$452)-COUNT(E$452:$E640))","v":""}]
[null,{"$f":"IF(E640=\"\",\"\",COUNT($E$24:$E$452)-COUNT(E$452:$E641))","v":""}]
[null,{"$f":"IF(E641=\"\",\"\",COUNT($E$24:$E$452)-COUNT(E$452:$E642))","v":""}]
[null,{"$f":"IF(E642=\"\",\"\",COUNT($E$24:$E$452)-COUNT(E$452:$E643))","v":""}]
[null,{"$f":"IF(E643=\"\",\"\",COUNT($E$24:$E$452)-COUNT(E$452:$E644))","v":""}]
[null,{"$f":"IF(E644=\"\",\"\",COUNT($E$24:$E$452)-COUNT(E$452:$E645))","v":""}]
[null,{"$f":"IF(E645=\"\",\"\",COUNT($E$24:$E$452)-COUNT(E$452:$E646))","v":""}]
[null,{"$f":"IF(E646=\"\",\"\",COUNT($E$24:$E$452)-COUNT(E$452:$E647))","v":""}]
[null,{"$f":"IF(E647=\"\",\"\",COUNT($E$24:$E$452)-COUNT(E$452:$E648))","v":""}]
[null,{"$f":"IF(E648=\"\",\"\",COUNT($E$24:$E$452)-COUNT(E$452:$E649))","v":""}]
[null,{"$f":"IF(E649=\"\",\"\",COUNT($E$24:$E$452)-COUNT(E$452:$E650))","v":""}]
[null,{"$f":"IF(E650=\"\",\"\",COUNT($E$24:$E$452)-COUNT(E$452:$E651))","v":""}]
[null,{"$f":"IF(E651=\"\",\"\",COUNT($E$24:$E$452)-COUNT(E$452:$E652))","v":""}]
[null,{"$f":"IF(E652=\"\",\"\",COUNT($E$24:$E$452)-COUNT(E$452:$E653))","v":""}]
[null,{"$f":"IF(E653=\"\",\"\",COUNT($E$24:$E$452)-COUNT(E$452:$E654))","v":""}]
[null,{"$f":"IF(E654=\"\",\"\",COUNT($E$24:$E$452)-COUNT(E$452:$E655))","v":""}]
[null,{"$f":"IF(E655=\"\",\"\",COUNT($E$24:$E$452)-COUNT(E$452:$E656))","v":""}]
[null,{"$f":"IF(E656=\"\",\"\",COUNT($E$24:$E$452)-COUNT(E$452:$E657))","v":""}]
[null,{"$f":"IF(E657=\"\",\"\",COUNT($E$24:$E$452)-COUNT(E$452:$E658))","v":""}]
[null,{"$f":"IF(E658=\"\",\"\",COUNT($E$24:$E$452)-COUNT(E$452:$E659))","v":""}]
[null,{"$f":"IF(E659=\"\",\"\",COUNT($E$24:$E$452)-COUNT(E$452:$E660))","v":""}]
[null,{"$f":"IF(E660=\"\",\"\",COUNT($E$24:$E$452)-COUNT(E$452:$E661))","v":""}]
[null,{"$f":"IF(E661=\"\",\"\",COUNT($E$24:$E$452)-COUNT(E$452:$E662))","v":""}]
[null,{"$f":"IF(E662=\"\",\"\",COUNT($E$24:$E$452)-COUNT(E$452:$E663))","v":""}]
[null,{"$f":"IF(E663=\"\",\"\",COUNT($E$24:$E$452)-COUNT(E$452:$E664))","v":""}]
[null,{"$f":"IF(E664=\"\",\"\",COUNT($E$24:$E$452)-COUNT(E$452:$E665))","v":""}]
[null,{"$f":"IF(E665=\"\",\"\",COUNT($E$24:$E$452)-COUNT(E$452:$E666))","v":""}]
[null,{"$f":"IF(E666=\"\",\"\",COUNT($E$24:$E$452)-COUNT(E$452:$E667))","v":""}]
[null,{"$f":"IF(E667=\"\",\"\",COUNT($E$24:$E$452)-COUNT(E$452:$E668))","v":""}]
[null,{"$f":"IF(E668=\"\",\"\",COUNT($E$24:$E$452)-COUNT(E$452:$E669))","v":""}]
[null,{"$f":"IF(E669=\"\",\"\",COUNT($E$24:$E$452)-COUNT(E$452:$E670))","v":""}]
[null,{"$f":"IF(E670=\"\",\"\",COUNT($E$24:$E$452)-COUNT(E$452:$E671))","v":""}]
[null,{"$f":"IF(E671=\"\",\"\",COUNT($E$24:$E$452)-COUNT(E$452:$E672))","v":""}]
[null,{"$f":"IF(E672=\"\",\"\",COUNT($E$24:$E$452)-COUNT(E$452:$E673))","v":""}]
[null,{"$f":"IF(E673=\"\",\"\",COUNT($E$24:$E$452)-COUNT(E$452:$E674))","v":""}]
[null,{"$f":"IF(E674=\"\",\"\",COUNT($E$24:$E$452)-COUNT(E$452:$E675))","v":""}]
[null,{"$f":"IF(E675=\"\",\"\",COUNT($E$24:$E$452)-COUNT(E$452:$E676))","v":""}]
[null,{"$f":"IF(E676=\"\",\"\",COUNT($E$24:$E$452)-COUNT(E$452:$E677))","v":""}]
[null,{"$f":"IF(E677=\"\",\"\",COUNT($E$24:$E$452)-COUNT(E$452:$E678))","v":""}]
[null,{"$f":"IF(E678=\"\",\"\",COUNT($E$24:$E$452)-COUNT(E$452:$E679))","v":""}]
[null,{"$f":"IF(E679=\"\",\"\",COUNT($E$24:$E$452)-COUNT(E$452:$E680))","v":""}]
[null,{"$f":"IF(E680=\"\",\"\",COUNT($E$24:$E$452)-COUNT(E$452:$E681))","v":""}]
[null,{"$f":"IF(E681=\"\",\"\",COUNT($E$24:$E$452)-COUNT(E$452:$E682))","v":""}]
[null,{"$f":"IF(E682=\"\",\"\",COUNT($E$24:$E$452)-COUNT(E$452:$E683))","v":""}]
[null,{"$f":"IF(E683=\"\",\"\",COUNT($E$24:$E$452)-COUNT(E$452:$E684))","v":""}]
[null,{"$f":"IF(E684=\"\",\"\",COUNT($E$24:$E$452)-COUNT(E$452:$E685))","v":""}]
[null,{"$f":"IF(E685=\"\",\"\",COUNT($E$24:$E$452)-COUNT(E$452:$E686))","v":""}]
[null,{"$f":"IF(E686=\"\",\"\",COUNT($E$24:$E$452)-COUNT(E$452:$E687))","v":""}]
[null,{"$f":"IF(E687=\"\",\"\",COUNT($E$24:$E$452)-COUNT(E$452:$E688))","v":""}]
[null,{"$f":"IF(E688=\"\",\"\",COUNT($E$24:$E$452)-COUNT(E$452:$E689))","v":""}]
[null,{"$f":"IF(E689=\"\",\"\",COUNT($E$24:$E$452)-COUNT(E$452:$E690))","v":""}]
[null,{"$f":"IF(E690=\"\",\"\",COUNT($E$24:$E$452)-COUNT(E$452:$E691))","v":""}]
[null,{"$f":"IF(E691=\"\",\"\",COUNT($E$24:$E$452)-COUNT(E$452:$E692))","v":""}]
[null,{"$f":"IF(E692=\"\",\"\",COUNT($E$24:$E$452)-COUNT(E$452:$E693))","v":""}]
[null,{"$f":"IF(E693=\"\",\"\",COUNT($E$24:$E$452)-COUNT(E$452:$E694))","v":""}]
[null,{"$f":"IF(E694=\"\",\"\",COUNT($E$24:$E$452)-COUNT(E$452:$E695))","v":""}]
[null,{"$f":"IF(E695=\"\",\"\",COUNT($E$24:$E$452)-COUNT(E$452:$E696))","v":""}]
[null,{"$f":"IF(E696=\"\",\"\",COUNT($E$24:$E$452)-COUNT(E$452:$E697))","v":""}]
[null,{"$f":"IF(E697=\"\",\"\",COUNT($E$24:$E$452)-COUNT(E$452:$E698))","v":""}]
[null,{"$f":"IF(E698=\"\",\"\",COUNT($E$24:$E$452)-COUNT(E$452:$E699))","v":""}]
[null,{"$f":"IF(E699=\"\",\"\",COUNT($E$24:$E$452)-COUNT(E$452:$E700))","v":""}]
[null,{"$f":"IF(E700=\"\",\"\",COUNT($E$24:$E$452)-COUNT(E$452:$E701))","v":""}]
[null,{"$f":"IF(E701=\"\",\"\",COUNT($E$24:$E$452)-COUNT(E$452:$E702))","v":""}]
[null,{"$f":"IF(E702=\"\",\"\",COUNT($E$24:$E$452)-COUNT(E$452:$E703))","v":""}]
[null,{"$f":"IF(E703=\"\",\"\",COUNT($E$24:$E$452)-COUNT(E$452:$E704))","v":""}]
[null,{"$f":"IF(E704=\"\",\"\",COUNT($E$24:$E$452)-COUNT(E$452:$E705))","v":""}]
[null,{"$f":"IF(E705=\"\",\"\",COUNT($E$24:$E$452)-COUNT(E$452:$E706))","v":""}]
[null,{"$f":"IF(E706=\"\",\"\",COUNT($E$24:$E$452)-COUNT(E$452:$E707))","v":""}]
[null,{"$f":"IF(E707=\"\",\"\",COUNT($E$24:$E$452)-COUNT(E$452:$E708))","v":""}]

{"sheet":"Summary_Report_CPMS","index":10,"n_rows":707,"n_cols":12,"rows_kept":707}
[null,"DO NOT REMOVE OR EDIT INFORMATION IN ROWS 1 THROUGH 5\nFOR INTERNAL USE ONLY"]
[null,"Template Name",null,null,{"$f":"+Welcome!B2","v":"63.5765(d) Semiannual Compliance Report (Spreadsheet Template)"}]
[null,"CitationID",null,null,{"$f":"+Welcome!B3","v":"63.5765(d)"}]
[null,"Template Version",null,null,{"$f":"+Welcome!B4","v":"ICR Draft"}]
[null,"Last Updated Date",null,null,{"$f":"+Welcome!B5","v":{"v":45601,"d":"4560100.00%"}}]
[]
[null,"40 CFR Part 63, Subpart VVVV National Emission Standards for Hazardous Air Pollutants: Boat Manufacturing - §63.5765(d)  Semiannual Compliance Report Spreadsheet Template"]
[null,"\n"]
[]
[]
[]
[null,"Company Record No.\n(Select from Dropdown)","Regulated Operation\n(§63.10(e)(3)(vi)(D))\n(Select from Dropdown)","Monitoring Equipment Manufacturer and Model Number\n(§63.10(e)(3)(vi)(F))\n(Select from dropdown)","Total Source\nOperating Time\n(hours)\n(§63.10(e)(3)(vi)(H) and §63.10(c)(13)))","Total Duration of\n CPMS, CEMS, or COMS\n Downtime (hours) \n(§63.10(e)(3)(vi)(J))\n(Hand entered or direct import from CMS Detail Report)","Total Duration of\n CPMS Downtime as\n a per cent of Total\n Source Operating Time\n(§63.10(e)(3)(vi)(J))\n(Calculated result)","Total Duration of\n CPMS Downtime Due\n to Monitoring Equipment\n Malfunctions (hours)   \n(§63.10(e)(3)(vi)(J))\n(Hand entered or direct import from CMS Detail Report)","Total Duration of\n CPMS Downtime\n Due to Nonmonitoring Equipment Malfunctions (hours)  \n(§63.10(e)(3)(vi)(J))\n(Hand entered or direct import from CMS Detail Report)","Total Duration of\n CPMS Downtime\n Due to Quality Assurance/Quality Control Calibrations (hours)  \n(§63.10(e)(3)(vi)(J))\n(Hand entered or direct import from CMS Detail Report)","Total Duration of \nCPMS Downtime \nDue to Other Known \nCauses (hours)   \n(§63.10(e)(3)(vi)(J))\n(Hand entered or direct import from CMS Detail Report)","Total Duration of\n CPMS Downtime \nDue to Other Unknown\n Causes (hours)   \n(§63.10(e)(3)(vi)(J))\n(Hand entered or direct import from CMS Detail Report)"]
[null,"RecordId","RegulatedOperation","MonitorIdentification","OperatingTime","DowntimeDuration","DowntimePercent","DowntimeMonitoringMal","DowntimeNonmonitoringMal","DowntimeQualityControl","DowntimeOtherKnown","DowntimeOtherUnknown"]
[null,"e.g.: 1","e.g.: Open Molding","e.g. Omega NB1-ICSS-14U-12","e.g.: 6240","e.g.: 0.00","e.g.: N/A","e.g.: 0.00","e.g.: 0.00","e.g.: 0.00","e.g.: 0.00","e.g.: 0.00"]
[null,"e.g.:","e.g.:","e.g.:","e.g.:","e.g.:","e.g.:","e.g.:","e.g.:","e.g.:","e.g.:","e.g.:"]
[null,"e.g.:","e.g.:","e.g.:","e.g.:","e.g.:","e.g.:","e.g.:","e.g.:","e.g.:","e.g.:","e.g.:"]
[null,"e.g.:","e.g.:","e.g.:","e.g.:","e.g.:","e.g.:","e.g.:","e.g.:","e.g.:","e.g.:","e.g.:"]
[null,"e.g.:","e.g.:","e.g.:","e.g.:","e.g.:","e.g.:","e.g.:","e.g.:","e.g.:","e.g.:","e.g.:"]
[null,"e.g.:","e.g.:","e.g.:","e.g.:","e.g.:","e.g.:","e.g.:","e.g.:","e.g.:","e.g.:","e.g.:"]
[null,"e.g.:","e.g.:","e.g.:","e.g.:","e.g.:","e.g.:","e.g.:","e.g.:","e.g.:","e.g.:","e.g.:"]
[null,"e.g.:","e.g.:","e.g.:","e.g.:","e.g.:","e.g.:","e.g.:","e.g.:","e.g.:","e.g.:","e.g.:"]
[null,"e.g.:","e.g.:","e.g.:","e.g.:","e.g.:","e.g.:","e.g.:","e.g.:","e.g.:","e.g.:","e.g.:"]
[null,"e.g.:","e.g.:","e.g.:","e.g.:","e.g.:","e.g.:","e.g.:","e.g.:","e.g.:","e.g.:","e.g.:"]
[{"$nulls":5},{"$f":"IF(Summary_Report_CPMS!E24=\"\",\"\",SUMIFS(CMS_Detail!$J$24:$J$500,CMS_Detail!$B$24:$B$500,Summary_Report_CPMS!B24,CMS_Detail!$C$24:$C$500,Summary_Report_CPMS!C24,CMS_Detail!$D$24:$D$500,Summary_Report_CPMS!D24))","v":""},{"$f":"IF($E24=\"\",\"\",IF(F24=0,\"N/A\",F24/$E24))","v":""},{"$f":"IF(Summary_Report_CPMS!$E24=\"\",\"\",SUMIFS(CMS_Detail!$J$24:$J$500,CMS_Detail!$B$24:$B$500,Summary_Report_CPMS!B24,CMS_Detail!$C$24:$C$500,Summary_Report_CPMS!C24,CMS_Detail!$D$24:$D$500,Summary_Report_CPMS!D24,CMS_Detail!$K$24:$K$500,\"Monitoring Equipment Malfunctions\"))","v":""},{"$f":"IF(Summary_Report_CPMS!$E24=\"\",\"\",SUMIFS(CMS_Detail!$J$24:$J$500,CMS_Detail!$B$24:$B$500,Summary_Report_CPMS!B24,CMS_Detail!$C$24:$C$500,Summary_Report_CPMS!C24,CMS_Detail!$D$24:$D$500,Summary_Report_CPMS!D24,CMS_Detail!$K$24:$K$500,\"Nonmonitoring Equipment Malfunctions\"))","v":""},{"$f":"IF(Summary_Report_CPMS!$E24=\"\",\"\",SUMIFS(CMS_Detail!$J$24:$J$500,CMS_Detail!$B$24:$B$500,Summary_Report_CPMS!B24,CMS_Detail!$C$24:$C$500,Summary_Report_CPMS!C24,CMS_Detail!$D$24:$D$500,Summary_Report_CPMS!D24,CMS_Detail!$K$24:$K$500,\"Quality Assurance/Quality Control Calibrations\"))","v":""},{"$f":"IF(Summary_Report_CPMS!$E24=\"\",\"\",SUMIFS(CMS_Detail!$J$24:$J$500,CMS_Detail!$B$24:$B$500,Summary_Report_CPMS!B24,CMS_Detail!$C$24:$C$500,Summary_Report_CPMS!C24,CMS_Detail!$D$24:$D$500,Summary_Report_CPMS!D24,CMS_Detail!$K$24:$K$500,\"Other Known Causes\"))","v":""},{"$f":"IF(Summary_Report_CPMS!$E24=\"\",\"\",SUMIFS(CMS_Detail!$J$24:$J$500,CMS_Detail!$B$24:$B$500,Summary_Report_CPMS!B24,CMS_Detail!$C$24:$C$500,Summary_Report_CPMS!C24,CMS_Detail!$D$24:$D$500,Summary_Report_CPMS!D24,CMS_Detail!$K$24:$K$500,\"Other Unknown Causes\"))","v":""}]
[{"$nulls":5},{"$f":"IF(Summary_Report_CPMS!E25=\"\",\"\",SUMIFS(CMS_Detail!$J$24:$J$500,CMS_Detail!$B$24:$B$500,Summary_Report_CPMS!B25,CMS_Detail!$C$24:$C$500,Summary_Report_CPMS!C25,CMS_Detail!$D$24:$D$500,Summary_Report_CPMS!D25))","v":""},{"$f":"IF($E25=\"\",\"\",IF(F25=0,\"N/A\",F25/$E25))","v":""},{"$f":"IF(Summary_Report_CPMS!$E25=\"\",\"\",SUMIFS(CMS_Detail!$J$24:$J$500,CMS_Detail!$B$24:$B$500,Summary_Report_CPMS!B25,CMS_Detail!$C$24:$C$500,Summary_Report_CPMS!C25,CMS_Detail!$D$24:$D$500,Summary_Report_CPMS!D25,CMS_Detail!$K$24:$K$500,\"Monitoring Equipment Malfunctions\"))","v":""},{"$f":"IF(Summary_Report_CPMS!$E25=\"\",\"\",SUMIFS(CMS_Detail!$J$24:$J$500,CMS_Detail!$B$24:$B$500,Summary_Report_CPMS!B25,CMS_Detail!$C$24:$C$500,Summary_Report_CPMS!C25,CMS_Detail!$D$24:$D$500,Summary_Report_CPMS!D25,CMS_Detail!$K$24:$K$500,\"Nonmonitoring Equipment Malfunctions\"))","v":""},{"$f":"IF(Summary_Report_CPMS!$E25=\"\",\"\",SUMIFS(CMS_Detail!$J$24:$J$500,CMS_Detail!$B$24:$B$500,Summary_Report_CPMS!B25,CMS_Detail!$C$24:$C$500,Summary_Report_CPMS!C25,CMS_Detail!$D$24:$D$500,Summary_Report_CPMS!D25,CMS_Detail!$K$24:$K$500,\"Quality Assurance/Quality Control Calibrations\"))","v":""},{"$f":"IF(Summary_Report_CPMS!$E25=\"\",\"\",SUMIFS(CMS_Detail!$J$24:$J$500,CMS_Detail!$B$24:$B$500,Summary_Report_CPMS!B25,CMS_Detail!$C$24:$C$500,Summary_Report_CPMS!C25,CMS_Detail!$D$24:$D$500,Summary_Report_CPMS!D25,CMS_Detail!$K$24:$K$500,\"Other Known Causes\"))","v":""},{"$f":"IF(Summary_Report_CPMS!$E25=\"\",\"\",SUMIFS(CMS_Detail!$J$24:$J$500,CMS_Detail!$B$24:$B$500,Summary_Report_CPMS!B25,CMS_Detail!$C$24:$C$500,Summary_Report_CPMS!C25,CMS_Detail!$D$24:$D$500,Summary_Report_CPMS!D25,CMS_Detail!$K$24:$K$500,\"Other Unknown Causes\"))","v":""}]
[{"$nulls":5},{"$f":"IF(Summary_Report_CPMS!E26=\"\",\"\",SUMIFS(CMS_Detail!$J$24:$J$500,CMS_Detail!$B$24:$B$500,Summary_Report_CPMS!B26,CMS_Detail!$C$24:$C$500,Summary_Report_CPMS!C26,CMS_Detail!$D$24:$D$500,Summary_Report_CPMS!D26))","v":""},"",{"$f":"IF(Summary_Report_CPMS!$E26=\"\",\"\",SUMIFS(CMS_Detail!$J$24:$J$500,CMS_Detail!$B$24:$B$500,Summary_Report_CPMS!B26,CMS_Detail!$C$24:$C$500,Summary_Report_CPMS!C26,CMS_Detail!$D$24:$D$500,Summary_Report_CPMS!D26,CMS_Detail!$K$24:$K$500,\"Monitoring Equipment Malfunctions\"))","v":""},{"$f":"IF(Summary_Report_CPMS!$E26=\"\",\"\",SUMIFS(CMS_Detail!$J$24:$J$500,CMS_Detail!$B$24:$B$500,Summary_Report_CPMS!B26,CMS_Detail!$C$24:$C$500,Summary_Report_CPMS!C26,CMS_Detail!$D$24:$D$500,Summary_Report_CPMS!D26,CMS_Detail!$K$24:$K$500,\"Nonmonitoring Equipment Malfunctions\"))","v":""},{"$f":"IF(Summary_Report_CPMS!$E26=\"\",\"\",SUMIFS(CMS_Detail!$J$24:$J$500,CMS_Detail!$B$24:$B$500,Summary_Report_CPMS!B26,CMS_Detail!$C$24:$C$500,Summary_Report_CPMS!C26,CMS_Detail!$D$24:$D$500,Summary_Report_CPMS!D26,CMS_Detail!$K$24:$K$500,\"Quality Assurance/Quality Control Calibrations\"))","v":""},{"$f":"IF(Summary_Report_CPMS!$E26=\"\",\"\",SUMIFS(CMS_Detail!$J$24:$J$500,CMS_Detail!$B$24:$B$500,Summary_Report_CPMS!B26,CMS_Detail!$C$24:$C$500,Summary_Report_CPMS!C26,CMS_Detail!$D$24:$D$500,Summary_Report_CPMS!D26,CMS_Detail!$K$24:$K$500,\"Other Known Causes\"))","v":""},{"$f":"IF(Summary_Report_CPMS!$E26=\"\",\"\",SUMIFS(CMS_Detail!$J$24:$J$500,CMS_Detail!$B$24:$B$500,Summary_Report_CPMS!B26,CMS_Detail!$C$24:$C$500,Summary_Report_CPMS!C26,CMS_Detail!$D$24:$D$500,Summary_Report_CPMS!D26,CMS_Detail!$K$24:$K$500,\"Other Unknown Causes\"))","v":""}]
[{"$nulls":5},{"$f":"IF(Summary_Report_CPMS!E27=\"\",\"\",SUMIFS(CMS_Detail!$J$24:$J$500,CMS_Detail!$B$24:$B$500,Summary_Report_CPMS!B27,CMS_Detail!$C$24:$C$500,Summary_Report_CPMS!C27,CMS_Detail!$D$24:$D$500,Summary_Report_CPMS!D27))","v":""},"",{"$f":"IF(Summary_Report_CPMS!$E27=\"\",\"\",SUMIFS(CMS_Detail!$J$24:$J$500,CMS_Detail!$B$24:$B$500,Summary_Report_CPMS!B27,CMS_Detail!$C$24:$C$500,Summary_Report_CPMS!C27,CMS_Detail!$D$24:$D$500,Summary_Report_CPMS!D27,CMS_Detail!$K$24:$K$500,\"Monitoring Equipment Malfunctions\"))","v":""},{"$f":"IF(Summary_Report_CPMS!$E27=\"\",\"\",SUMIFS(CMS_Detail!$J$24:$J$500,CMS_Detail!$B$24:$B$500,Summary_Report_CPMS!B27,CMS_Detail!$C$24:$C$500,Summary_Report_CPMS!C27,CMS_Detail!$D$24:$D$500,Summary_Report_CPMS!D27,CMS_Detail!$K$24:$K$500,\"Nonmonitoring Equipment Malfunctions\"))","v":""},{"$f":"IF(Summary_Report_CPMS!$E27=\"\",\"\",SUMIFS(CMS_Detail!$J$24:$J$500,CMS_Detail!$B$24:$B$500,Summary_Report_CPMS!B27,CMS_Detail!$C$24:$C$500,Summary_Report_CPMS!C27,CMS_Detail!$D$24:$D$500,Summary_Report_CPMS!D27,CMS_Detail!$K$24:$K$500,\"Quality Assurance/Quality Control Calibrations\"))","v":""},{"$f":"IF(Summary_Report_CPMS!$E27=\"\",\"\",SUMIFS(CMS_Detail!$J$24:$J$500,CMS_Detail!$B$24:$B$500,Summary_Report_CPMS!B27,CMS_Detail!$C$24:$C$500,Summary_Report_CPMS!C27,CMS_Detail!$D$24:$D$500,Summary_Report_CPMS!D27,CMS_Detail!$K$24:$K$500,\"Other Known Causes\"))","v":""},{"$f":"IF(Summary_Report_CPMS!$E27=\"\",\"\",SUMIFS(CMS_Detail!$J$24:$J$500,CMS_Detail!$B$24:$B$500,Summary_Report_CPMS!B27,CMS_Detail!$C$24:$C$500,Summary_Report_CPMS!C27,CMS_Detail!$D$24:$D$500,Summary_Report_CPMS!D27,CMS_Detail!$K$24:$K$500,\"Other Unknown Causes\"))","v":""}]
[{"$nulls":5},{"$f":"IF(Summary_Report_CPMS!E28=\"\",\"\",SUMIFS(CMS_Detail!$J$24:$J$500,CMS_Detail!$B$24:$B$500,Summary_Report_CPMS!B28,CMS_Detail!$C$24:$C$500,Summary_Report_CPMS!C28,CMS_Detail!$D$24:$D$500,Summary_Report_CPMS!D28))","v":""},"",{"$f":"IF(Summary_Report_CPMS!$E28=\"\",\"\",SUMIFS(CMS_Detail!$J$24:$J$500,CMS_Detail!$B$24:$B$500,Summary_Report_CPMS!B28,CMS_Detail!$C$24:$C$500,Summary_Report_CPMS!C28,CMS_Detail!$D$24:$D$500,Summary_Report_CPMS!D28,CMS_Detail!$K$24:$K$500,\"Monitoring Equipment Malfunctions\"))","v":""},{"$f":"IF(Summary_Report_CPMS!$E28=\"\",\"\",SUMIFS(CMS_Detail!$J$24:$J$500,CMS_Detail!$B$24:$B$500,Summary_Report_CPMS!B28,CMS_Detail!$C$24:$C$500,Summary_Report_CPMS!C28,CMS_Detail!$D$24:$D$500,Summary_Report_CPMS!D28,CMS_Detail!$K$24:$K$500,\"Nonmonitoring Equipment Malfunctions\"))","v":""},{"$f":"IF(Summary_Report_CPMS!$E28=\"\",\"\",SUMIFS(CMS_Detail!$J$24:$J$500,CMS_Detail!$B$24:$B$500,Summary_Report_CPMS!B28,CMS_Detail!$C$24:$C$500,Summary_Report_CPMS!C28,CMS_Detail!$D$24:$D$500,Summary_Report_CPMS!D28,CMS_Detail!$K$24:$K$500,\"Quality Assurance/Quality Control Calibrations\"))","v":""},{"$f":"IF(Summary_Report_CPMS!$E28=\"\",\"\",SUMIFS(CMS_Detail!$J$24:$J$500,CMS_Detail!$B$24:$B$500,Summary_Report_CPMS!B28,CMS_Detail!$C$24:$C$500,Summary_Report_CPMS!C28,CMS_Detail!$D$24:$D$500,Summary_Report_CPMS!D28,CMS_Detail!$K$24:$K$500,\"Other Known Causes\"))","v":""},{"$f":"IF(Summary_Report_CPMS!$E28=\"\",\"\",SUMIFS(CMS_Detail!$J$24:$J$500,CMS_Detail!$B$24:$B$500,Summary_Report_CPMS!B28,CMS_Detail!$C$24:$C$500,Summary_Report_CPMS!C28,CMS_Detail!$D$24:$D$500,Summary_Report_CPMS!D28,CMS_Detail!$K$24:$K$500,\"Other Unknown Causes\"))","v":""}]
[{"$nulls":5},{"$f":"IF(Summary_Report_CPMS!E29=\"\",\"\",SUMIFS(CMS_Detail!$J$24:$J$500,CMS_Detail!$B$24:$B$500,Summary_Report_CPMS!B29,CMS_Detail!$C$24:$C$500,Summary_Report_CPMS!C29,CMS_Detail!$D$24:$D$500,Summary_Report_CPMS!D29))","v":""},"",{"$f":"IF(Summary_Report_CPMS!$E29=\"\",\"\",SUMIFS(CMS_Detail!$J$24:$J$500,CMS_Detail!$B$24:$B$500,Summary_Report_CPMS!B29,CMS_Detail!$C$24:$C$500,Summary_Report_CPMS!C29,CMS_Detail!$D$24:$D$500,Summary_Report_CPMS!D29,CMS_Detail!$K$24:$K$500,\"Monitoring Equipment Malfunctions\"))","v":""},{"$f":"IF(Summary_Report_CPMS!$E29=\"\",\"\",SUMIFS(CMS_Detail!$J$24:$J$500,CMS_Detail!$B$24:$B$500,Summary_Report_CPMS!B29,CMS_Detail!$C$24:$C$500,Summary_Report_CPMS!C29,CMS_Detail!$D$24:$D$500,Summary_Report_CPMS!D29,CMS_Detail!$K$24:$K$500,\"Nonmonitoring Equipment Malfunctions\"))","v":""},{"$f":"IF(Summary_Report_CPMS!$E29=\"\",\"\",SUMIFS(CMS_Detail!$J$24:$J$500,CMS_Detail!$B$24:$B$500,Summary_Report_CPMS!B29,CMS_Detail!$C$24:$C$500,Summary_Report_CPMS!C29,CMS_Detail!$D$24:$D$500,Summary_Report_CPMS!D29,CMS_Detail!$K$24:$K$500,\"Quality Assurance/Quality Control Calibrations\"))","v":""},{"$f":"IF(Summary_Report_CPMS!$E29=\"\",\"\",SUMIFS(CMS_Detail!$J$24:$J$500,CMS_Detail!$B$24:$B$500,Summary_Report_CPMS!B29,CMS_Detail!$C$24:$C$500,Summary_Report_CPMS!C29,CMS_Detail!$D$24:$D$500,Summary_Report_CPMS!D29,CMS_Detail!$K$24:$K$500,\"Other Known Causes\"))","v":""},{"$f":"IF(Summary_Report_CPMS!$E29=\"\",\"\",SUMIFS(CMS_Detail!$J$24:$J$500,CMS_Detail!$B$24:$B$500,Summary_Report_CPMS!B29,CMS_Detail!$C$24:$C$500,Summary_Report_CPMS!C29,CMS_Detail!$D$24:$D$500,Summary_Report_CPMS!D29,CMS_Detail!$K$24:$K$500,\"Other Unknown Causes\"))","v":""}]
[{"$nulls":5},{"$f":"IF(Summary_Report_CPMS!E30=\"\",\"\",SUMIFS(CMS_Detail!$J$24:$J$500,CMS_Detail!$B$24:$B$500,Summary_Report_CPMS!B30,CMS_Detail!$C$24:$C$500,Summary_Report_CPMS!C30,CMS_Detail!$D$24:$D$500,Summary_Report_CPMS!D30))","v":""},"",{"$f":"IF(Summary_Report_CPMS!$E30=\"\",\"\",SUMIFS(CMS_Detail!$J$24:$J$500,CMS_Detail!$B$24:$B$500,Summary_Report_CPMS!B30,CMS_Detail!$C$24:$C$500,Summary_Report_CPMS!C30,CMS_Detail!$D$24:$D$500,Summary_Report_CPMS!D30,CMS_Detail!$K$24:$K$500,\"Monitoring Equipment Malfunctions\"))","v":""},{"$f":"IF(Summary_Report_CPMS!$E30=\"\",\"\",SUMIFS(CMS_Detail!$J$24:$J$500,CMS_Detail!$B$24:$B$500,Summary_Report_CPMS!B30,CMS_Detail!$C$24:$C$500,Summary_Report_CPMS!C30,CMS_Detail!$D$24:$D$500,Summary_Report_CPMS!D30,CMS_Detail!$K$24:$K$500,\"Nonmonitoring Equipment Malfunctions\"))","v":""},{"$f":"IF(Summary_Report_CPMS!$E30=\"\",\"\",SUMIFS(CMS_Detail!$J$24:$J$500,CMS_Detail!$B$24:$B$500,Summary_Report_CPMS!B30,CMS_Detail!$C$24:$C$500,Summary_Report_CPMS!C30,CMS_Detail!$D$24:$D$500,Summary_Report_CPMS!D30,CMS_Detail!$K$24:$K$500,\"Quality Assurance/Quality Control Calibrations\"))","v":""},{"$f":"IF(Summary_Report_CPMS!$E30=\"\",\"\",SUMIFS(CMS_Detail!$J$24:$J$500,CMS_Detail!$B$24:$B$500,Summary_Report_CPMS!B30,CMS_Detail!$C$24:$C$500,Summary_Report_CPMS!C30,CMS_Detail!$D$24:$D$500,Summary_Report_CPMS!D30,CMS_Detail!$K$24:$K$500,\"Other Known Causes\"))","v":""},{"$f":"IF(Summary_Report_CPMS!$E30=\"\",\"\",SUMIFS(CMS_Detail!$J$24:$J$500,CMS_Detail!$B$24:$B$500,Summary_Report_CPMS!B30,CMS_Detail!$C$24:$C$500,Summary_Report_CPMS!C30,CMS_Detail!$D$24:$D$500,Summary_Report_CPMS!D30,CMS_Detail!$K$24:$K$500,\"Other Unknown Causes\"))","v":""}]
[{"$nulls":5},{"$f":"IF(Summary_Report_CPMS!E31=\"\",\"\",SUMIFS(CMS_Detail!$J$24:$J$500,CMS_Detail!$B$24:$B$500,Summary_Report_CPMS!B31,CMS_Detail!$C$24:$C$500,Summary_Report_CPMS!C31,CMS_Detail!$D$24:$D$500,Summary_Report_CPMS!D31))","v":""},"",{"$f":"IF(Summary_Report_CPMS!$E31=\"\",\"\",SUMIFS(CMS_Detail!$J$24:$J$500,CMS_Detail!$B$24:$B$500,Summary_Report_CPMS!B31,CMS_Detail!$C$24:$C$500,Summary_Report_CPMS!C31,CMS_Detail!$D$24:$D$500,Summary_Report_CPMS!D31,CMS_Detail!$K$24:$K$500,\"Monitoring Equipment Malfunctions\"))","v":""},{"$f":"IF(Summary_Report_CPMS!$E31=\"\",\"\",SUMIFS(CMS_Detail!$J$24:$J$500,CMS_Detail!$B$24:$B$500,Summary_Report_CPMS!B31,CMS_Detail!$C$24:$C$500,Summary_Report_CPMS!C31,CMS_Detail!$D$24:$D$500,Summary_Report_CPMS!D31,CMS_Detail!$K$24:$K$500,\"Nonmonitoring Equipment Malfunctions\"))","v":""},{"$f":"IF(Summary_Report_CPMS!$E31=\"\",\"\",SUMIFS(CMS_Detail!$J$24:$J$500,CMS_Detail!$B$24:$B$500,Summary_Report_CPMS!B31,CMS_Detail!$C$24:$C$500,Summary_Report_CPMS!C31,CMS_Detail!$D$24:$D$500,Summary_Report_CPMS!D31,CMS_Detail!$K$24:$K$500,\"Quality Assurance/Quality Control Calibrations\"))","v":""},{"$f":"IF(Summary_Report_CPMS!$E31=\"\",\"\",SUMIFS(CMS_Detail!$J$24:$J$500,CMS_Detail!$B$24:$B$500,Summary_Report_CPMS!B31,CMS_Detail!$C$24:$C$500,Summary_Report_CPMS!C31,CMS_Detail!$D$24:$D$500,Summary_Report_CPMS!D31,CMS_Detail!$K$24:$K$500,\"Other Known Causes\"))","v":""},{"$f":"IF(Summary_Report_CPMS!$E31=\"\",\"\",SUMIFS(CMS_Detail!$J$24:$J$500,CMS_Detail!$B$24:$B$500,Summary_Report_CPMS!B31,CMS_Detail!$C$24:$C$500,Summary_Report_CPMS!C31,CMS_Detail!$D$24:$D$500,Summary_Report_CPMS!D31,CMS_Detail!$K$24:$K$500,\"Other Unknown Causes\"))","v":""}]
[{"$nulls":5},{"$f":"IF(Summary_Report_CPMS!E32=\"\",\"\",SUMIFS(CMS_Detail!$J$24:$J$500,CMS_Detail!$B$24:$B$500,Summary_Report_CPMS!B32,CMS_Detail!$C$24:$C$500,Summary_Report_CPMS!C32,CMS_Detail!$D$24:$D$500,Summary_Report_CPMS!D32))","v":""},"",{"$f":"IF(Summary_Report_CPMS!$E32=\"\",\"\",SUMIFS(CMS_Detail!$J$24:$J$500,CMS_Detail!$B$24:$B$500,Summary_Report_CPMS!B32,CMS_Detail!$C$24:$C$500,Summary_Report_CPMS!C32,CMS_Detail!$D$24:$D$500,Summary_Report_CPMS!D32,CMS_Detail!$K$24:$K$500,\"Monitoring Equipment Malfunctions\"))","v":""},{"$f":"IF(Summary_Report_CPMS!$E32=\"\",\"\",SUMIFS(CMS_Detail!$J$24:$J$500,CMS_Detail!$B$24:$B$500,Summary_Report_CPMS!B32,CMS_Detail!$C$24:$C$500,Summary_Report_CPMS!C32,CMS_Detail!$D$24:$D$500,Summary_Report_CPMS!D32,CMS_Detail!$K$24:$K$500,\"Nonmonitoring Equipment Malfunctions\"))","v":""},{"$f":"IF(Summary_Report_CPMS!$E32=\"\",\"\",SUMIFS(CMS_Detail!$J$24:$J$500,CMS_Detail!$B$24:$B$500,Summary_Report_CPMS!B32,CMS_Detail!$C$24:$C$500,Summary_Report_CPMS!C32,CMS_Detail!$D$24:$D$500,Summary_Report_CPMS!D32,CMS_Detail!$K$24:$K$500,\"Quality Assurance/Quality Control Calibrations\"))","v":""},{"$f":"IF(Summary_Report_CPMS!$E32=\"\",\"\",SUMIFS(CMS_Detail!$J$24:$J$500,CMS_Detail!$B$24:$B$500,Summary_Report_CPMS!B32,CMS_Detail!$C$24:$C$500,Summary_Report_CPMS!C32,CMS_Detail!$D$24:$D$500,Summary_Report_CPMS!D32,CMS_Detail!$K$24:$K$500,\"Other Known Causes\"))","v":""},{"$f":"IF(Summary_Report_CPMS!$E32=\"\",\"\",SUMIFS(CMS_Detail!$J$24:$J$500,CMS_Detail!$B$24:$B$500,Summary_Report_CPMS!B32,CMS_Detail!$C$24:$C$500,Summary_Report_CPMS!C32,CMS_Detail!$D$24:$D$500,Summary_Report_CPMS!D32,CMS_Detail!$K$24:$K$500,\"Other Unknown Causes\"))","v":""}]
[{"$nulls":5},{"$f":"IF(Summary_Report_CPMS!E33=\"\",\"\",SUMIFS(CMS_Detail!$J$24:$J$500,CMS_Detail!$B$24:$B$500,Summary_Report_CPMS!B33,CMS_Detail!$C$24:$C$500,Summary_Report_CPMS!C33,CMS_Detail!$D$24:$D$500,Summary_Report_CPMS!D33))","v":""},"",{"$f":"IF(Summary_Report_CPMS!$E33=\"\",\"\",SUMIFS(CMS_Detail!$J$24:$J$500,CMS_Detail!$B$24:$B$500,Summary_Report_CPMS!B33,CMS_Detail!$C$24:$C$500,Summary_Report_CPMS!C33,CMS_Detail!$D$24:$D$500,Summary_Report_CPMS!D33,CMS_Detail!$K$24:$K$500,\"Monitoring Equipment Malfunctions\"))","v":""},{"$f":"IF(Summary_Report_CPMS!$E33=\"\",\"\",SUMIFS(CMS_Detail!$J$24:$J$500,CMS_Detail!$B$24:$B$500,Summary_Report_CPMS!B33,CMS_Detail!$C$24:$C$500,Summary_Report_CPMS!C33,CMS_Detail!$D$24:$D$500,Summary_Report_CPMS!D33,CMS_Detail!$K$24:$K$500,\"Nonmonitoring Equipment Malfunctions\"))","v":""},{"$f":"IF(Summary_Report_CPMS!$E33=\"\",\"\",SUMIFS(CMS_Detail!$J$24:$J$500,CMS_Detail!$B$24:$B$500,Summary_Report_CPMS!B33,CMS_Detail!$C$24:$C$500,Summary_Report_CPMS!C33,CMS_Detail!$D$24:$D$500,Summary_Report_CPMS!D33,CMS_Detail!$K$24:$K$500,\"Quality Assurance/Quality Control Calibrations\"))","v":""},{"$f":"IF(Summary_Report_CPMS!$E33=\"\",\"\",SUMIFS(CMS_Detail!$J$24:$J$500,CMS_Detail!$B$24:$B$500,Summary_Report_CPMS!B33,CMS_Detail!$C$24:$C$500,Summary_Report_CPMS!C33,CMS_Detail!$D$24:$D$500,Summary_Report_CPMS!D33,CMS_Detail!$K$24:$K$500,\"Other Known Causes\"))","v":""},{"$f":"IF(Summary_Report_CPMS!$E33=\"\",\"\",SUMIFS(CMS_Detail!$J$24:$J$500,CMS_Detail!$B$24:$B$500,Summary_Report_CPMS!B33,CMS_Detail!$C$24:$C$500,Summary_Report_CPMS!C33,CMS_Detail!$D$24:$D$500,Summary_Report_CPMS!D33,CMS_Detail!$K$24:$K$500,\"Other Unknown Causes\"))","v":""}]
[{"$nulls":5},{"$f":"IF(Summary_Report_CPMS!E34=\"\",\"\",SUMIFS(CMS_Detail!$J$24:$J$500,CMS_Detail!$B$24:$B$500,Summary_Report_CPMS!B34,CMS_Detail!$C$24:$C$500,Summary_Report_CPMS!C34,CMS_Detail!$D$24:$D$500,Summary_Report_CPMS!D34))","v":""},"",{"$f":"IF(Summary_Report_CPMS!$E34=\"\",\"\",SUMIFS(CMS_Detail!$J$24:$J$500,CMS_Detail!$B$24:$B$500,Summary_Report_CPMS!B34,CMS_Detail!$C$24:$C$500,Summary_Report_CPMS!C34,CMS_Detail!$D$24:$D$500,Summary_Report_CPMS!D34,CMS_Detail!$K$24:$K$500,\"Monitoring Equipment Malfunctions\"))","v":""},{"$f":"IF(Summary_Report_CPMS!$E34=\"\",\"\",SUMIFS(CMS_Detail!$J$24:$J$500,CMS_Detail!$B$24:$B$500,Summary_Report_CPMS!B34,CMS_Detail!$C$24:$C$500,Summary_Report_CPMS!C34,CMS_Detail!$D$24:$D$500,Summary_Report_CPMS!D34,CMS_Detail!$K$24:$K$500,\"Nonmonitoring Equipment Malfunctions\"))","v":""},{"$f":"IF(Summary_Report_CPMS!$E34=\"\",\"\",SUMIFS(CMS_Detail!$J$24:$J$500,CMS_Detail!$B$24:$B$500,Summary_Report_CPMS!B34,CMS_Detail!$C$24:$C$500,Summary_Report_CPMS!C34,CMS_Detail!$D$24:$D$500,Summary_Report_CPMS!D34,CMS_Detail!$K$24:$K$500,\"Quality Assurance/Quality Control Calibrations\"))","v":""},{"$f":"IF(Summary_Report_CPMS!$E34=\"\",\"\",SUMIFS(CMS_Detail!$J$24:$J$500,CMS_Detail!$B$24:$B$500,Summary_Report_CPMS!B34,CMS_Detail!$C$24:$C$500,Summary_Report_CPMS!C34,CMS_Detail!$D$24:$D$500,Summary_Report_CPMS!D34,CMS_Detail!$K$24:$K$500,\"Other Known Causes\"))","v":""},{"$f":"IF(Summary_Report_CPMS!$E34=\"\",\"\",SUMIFS(CMS_Detail!$J$24:$J$500,CMS_Detail!$B$24:$B$500,Summary_Report_CPMS!B34,CMS_Detail!$C$24:$C$500,Summary_Report_CPMS!C34,CMS_Detail!$D$24:$D$500,Summary_Report_CPMS!D34,CMS_Detail!$K$24:$K$500,\"Other Unknown Causes\"))","v":""}]
[{"$nulls":5},{"$f":"IF(Summary_Report_CPMS!E35=\"\",\"\",SUMIFS(CMS_Detail!$J$24:$J$500,CMS_Detail!$B$24:$B$500,Summary_Report_CPMS!B35,CMS_Detail!$C$24:$C$500,Summary_Report_CPMS!C35,CMS_Detail!$D$24:$D$500,Summary_Report_CPMS!D35))","v":""},"",{"$f":"IF(Summary_Report_CPMS!$E35=\"\",\"\",SUMIFS(CMS_Detail!$J$24:$J$500,CMS_Detail!$B$24:$B$500,Summary_Report_CPMS!B35,CMS_Detail!$C$24:$C$500,Summary_Report_CPMS!C35,CMS_Detail!$D$24:$D$500,Summary_Report_CPMS!D35,CMS_Detail!$K$24:$K$500,\"Monitoring Equipment Malfunctions\"))","v":""},{"$f":"IF(Summary_Report_CPMS!$E35=\"\",\"\",SUMIFS(CMS_Detail!$J$24:$J$500,CMS_Detail!$B$24:$B$500,Summary_Report_CPMS!B35,CMS_Detail!$C$24:$C$500,Summary_Report_CPMS!C35,CMS_Detail!$D$24:$D$500,Summary_Report_CPMS!D35,CMS_Detail!$K$24:$K$500,\"Nonmonitoring Equipment Malfunctions\"))","v":""},{"$f":"IF(Summary_Report_CPMS!$E35=\"\",\"\",SUMIFS(CMS_Detail!$J$24:$J$500,CMS_Detail!$B$24:$B$500,Summary_Report_CPMS!B35,CMS_Detail!$C$24:$C$500,Summary_Report_CPMS!C35,CMS_Detail!$D$24:$D$500,Summary_Report_CPMS!D35,CMS_Detail!$K$24:$K$500,\"Quality Assurance/Quality Control Calibrations\"))","v":""},{"$f":"IF(Summary_Report_CPMS!$E35=\"\",\"\",SUMIFS(CMS_Detail!$J$24:$J$500,CMS_Detail!$B$24:$B$500,Summary_Report_CPMS!B35,CMS_Detail!$C$24:$C$500,Summary_Report_CPMS!C35,CMS_Detail!$D$24:$D$500,Summary_Report_CPMS!D35,CMS_Detail!$K$24:$K$500,\"Other Known Causes\"))","v":""},{"$f":"IF(Summary_Report_CPMS!$E35=\"\",\"\",SUMIFS(CMS_Detail!$J$24:$J$500,CMS_Detail!$B$24:$B$500,Summary_Report_CPMS!B35,CMS_Detail!$C$24:$C$500,Summary_Report_CPMS!C35,CMS_Detail!$D$24:$D$500,Summary_Report_CPMS!D35,CMS_Detail!$K$24:$K$500,\"Other Unknown Causes\"))","v":""}]
[{"$nulls":5},{"$f":"IF(Summary_Report_CPMS!E36=\"\",\"\",SUMIFS(CMS_Detail!$J$24:$J$500,CMS_Detail!$B$24:$B$500,Summary_Report_CPMS!B36,CMS_Detail!$C$24:$C$500,Summary_Report_CPMS!C36,CMS_Detail!$D$24:$D$500,Summary_Report_CPMS!D36))","v":""},"",{"$f":"IF(Summary_Report_CPMS!$E36=\"\",\"\",SUMIFS(CMS_Detail!$J$24:$J$500,CMS_Detail!$B$24:$B$500,Summary_Report_CPMS!B36,CMS_Detail!$C$24:$C$500,Summary_Report_CPMS!C36,CMS_Detail!$D$24:$D$500,Summary_Report_CPMS!D36,CMS_Detail!$K$24:$K$500,\"Monitoring Equipment Malfunctions\"))","v":""},{"$f":"IF(Summary_Report_CPMS!$E36=\"\",\"\",SUMIFS(CMS_Detail!$J$24:$J$500,CMS_Detail!$B$24:$B$500,Summary_Report_CPMS!B36,CMS_Detail!$C$24:$C$500,Summary_Report_CPMS!C36,CMS_Detail!$D$24:$D$500,Summary_Report_CPMS!D36,CMS_Detail!$K$24:$K$500,\"Nonmonitoring Equipment Malfunctions\"))","v":""},{"$f":"IF(Summary_Report_CPMS!$E36=\"\",\"\",SUMIFS(CMS_Detail!$J$24:$J$500,CMS_Detail!$B$24:$B$500,Summary_Report_CPMS!B36,CMS_Detail!$C$24:$C$500,Summary_Report_CPMS!C36,CMS_Detail!$D$24:$D$500,Summary_Report_CPMS!D36,CMS_Detail!$K$24:$K$500,\"Quality Assurance/Quality Control Calibrations\"))","v":""},{"$f":"IF(Summary_Report_CPMS!$E36=\"\",\"\",SUMIFS(CMS_Detail!$J$24:$J$500,CMS_Detail!$B$24:$B$500,Summary_Report_CPMS!B36,CMS_Detail!$C$24:$C$500,Summary_Report_CPMS!C36,CMS_Detail!$D$24:$D$500,Summary_Report_CPMS!D36,CMS_Detail!$K$24:$K$500,\"Other Known Causes\"))","v":""},{"$f":"IF(Summary_Report_CPMS!$E36=\"\",\"\",SUMIFS(CMS_Detail!$J$24:$J$500,CMS_Detail!$B$24:$B$500,Summary_Report_CPMS!B36,CMS_Detail!$C$24:$C$500,Summary_Report_CPMS!C36,CMS_Detail!$D$24:$D$500,Summary_Report_CPMS!D36,CMS_Detail!$K$24:$K$500,\"Other Unknown Causes\"))","v":""}]
[{"$nulls":5},{"$f":"IF(Summary_Report_CPMS!E37=\"\",\"\",SUMIFS(CMS_Detail!$J$24:$J$500,CMS_Detail!$B$24:$B$500,Summary_Report_CPMS!B37,CMS_Detail!$C$24:$C$500,Summary_Report_CPMS!C37,CMS_Detail!$D$24:$D$500,Summary_Report_CPMS!D37))","v":""},"",{"$f":"IF(Summary_Report_CPMS!$E37=\"\",\"\",SUMIFS(CMS_Detail!$J$24:$J$500,CMS_Detail!$B$24:$B$500,Summary_Report_CPMS!B37,CMS_Detail!$C$24:$C$500,Summary_Report_CPMS!C37,CMS_Detail!$D$24:$D$500,Summary_Report_CPMS!D37,CMS_Detail!$K$24:$K$500,\"Monitoring Equipment Malfunctions\"))","v":""},{"$f":"IF(Summary_Report_CPMS!$E37=\"\",\"\",SUMIFS(CMS_Detail!$J$24:$J$500,CMS_Detail!$B$24:$B$500,Summary_Report_CPMS!B37,CMS_Detail!$C$24:$C$500,Summary_Report_CPMS!C37,CMS_Detail!$D$24:$D$500,Summary_Report_CPMS!D37,CMS_Detail!$K$24:$K$500,\"Nonmonitoring Equipment Malfunctions\"))","v":""},{"$f":"IF(Summary_Report_CPMS!$E37=\"\",\"\",SUMIFS(CMS_Detail!$J$24:$J$500,CMS_Detail!$B$24:$B$500,Summary_Report_CPMS!B37,CMS_Detail!$C$24:$C$500,Summary_Report_CPMS!C37,CMS_Detail!$D$24:$D$500,Summary_Report_CPMS!D37,CMS_Detail!$K$24:$K$500,\"Quality Assurance/Quality Control Calibrations\"))","v":""},{"$f":"IF(Summary_Report_CPMS!$E37=\"\",\"\",SUMIFS(CMS_Detail!$J$24:$J$500,CMS_Detail!$B$24:$B$500,Summary_Report_CPMS!B37,CMS_Detail!$C$24:$C$500,Summary_Report_CPMS!C37,CMS_Detail!$D$24:$D$500,Summary_Report_CPMS!D37,CMS_Detail!$K$24:$K$500,\"Other Known Causes\"))","v":""},{"$f":"IF(Summary_Report_CPMS!$E37=\"\",\"\",SUMIFS(CMS_Detail!$J$24:$J$500,CMS_Detail!$B$24:$B$500,Summary_Report_CPMS!B37,CMS_Detail!$C$24:$C$500,Summary_Report_CPMS!C37,CMS_Detail!$D$24:$D$500,Summary_Report_CPMS!D37,CMS_Detail!$K$24:$K$500,\"Other Unknown Causes\"))","v":""}]
[{"$nulls":5},{"$f":"IF(Summary_Report_CPMS!E38=\"\",\"\",SUMIFS(CMS_Detail!$J$24:$J$500,CMS_Detail!$B$24:$B$500,Summary_Report_CPMS!B38,CMS_Detail!$C$24:$C$500,Summary_Report_CPMS!C38,CMS_Detail!$D$24:$D$500,Summary_Report_CPMS!D38))","v":""},"",{"$f":"IF(Summary_Report_CPMS!$E38=\"\",\"\",SUMIFS(CMS_Detail!$J$24:$J$500,CMS_Detail!$B$24:$B$500,Summary_Report_CPMS!B38,CMS_Detail!$C$24:$C$500,Summary_Report_CPMS!C38,CMS_Detail!$D$24:$D$500,Summary_Report_CPMS!D38,CMS_Detail!$K$24:$K$500,\"Monitoring Equipment Malfunctions\"))","v":""},{"$f":"IF(Summary_Report_CPMS!$E38=\"\",\"\",SUMIFS(CMS_Detail!$J$24:$J$500,CMS_Detail!$B$24:$B$500,Summary_Report_CPMS!B38,CMS_Detail!$C$24:$C$500,Summary_Report_CPMS!C38,CMS_Detail!$D$24:$D$500,Summary_Report_CPMS!D38,CMS_Detail!$K$24:$K$500,\"Nonmonitoring Equipment Malfunctions\"))","v":""},{"$f":"IF(Summary_Report_CPMS!$E38=\"\",\"\",SUMIFS(CMS_Detail!$J$24:$J$500,CMS_Detail!$B$24:$B$500,Summary_Report_CPMS!B38,CMS_Detail!$C$24:$C$500,Summary_Report_CPMS!C38,CMS_Detail!$D$24:$D$500,Summary_Report_CPMS!D38,CMS_Detail!$K$24:$K$500,\"Quality Assurance/Quality Control Calibrations\"))","v":""},{"$f":"IF(Summary_Report_CPMS!$E38=\"\",\"\",SUMIFS(CMS_Detail!$J$24:$J$500,CMS_Detail!$B$24:$B$500,Summary_Report_CPMS!B38,CMS_Detail!$C$24:$C$500,Summary_Report_CPMS!C38,CMS_Detail!$D$24:$D$500,Summary_Report_CPMS!D38,CMS_Detail!$K$24:$K$500,\"Other Known Causes\"))","v":""},{"$f":"IF(Summary_Report_CPMS!$E38=\"\",\"\",SUMIFS(CMS_Detail!$J$24:$J$500,CMS_Detail!$B$24:$B$500,Summary_Report_CPMS!B38,CMS_Detail!$C$24:$C$500,Summary_Report_CPMS!C38,CMS_Detail!$D$24:$D$500,Summary_Report_CPMS!D38,CMS_Detail!$K$24:$K$500,\"Other Unknown Causes\"))","v":""}]
[{"$nulls":5},{"$f":"IF(Summary_Report_CPMS!E39=\"\",\"\",SUMIFS(CMS_Detail!$J$24:$J$500,CMS_Detail!$B$24:$B$500,Summary_Report_CPMS!B39,CMS_Detail!$C$24:$C$500,Summary_Report_CPMS!C39,CMS_Detail!$D$24:$D$500,Summary_Report_CPMS!D39))","v":""},"",{"$f":"IF(Summary_Report_CPMS!$E39=\"\",\"\",SUMIFS(CMS_Detail!$J$24:$J$500,CMS_Detail!$B$24:$B$500,Summary_Report_CPMS!B39,CMS_Detail!$C$24:$C$500,Summary_Report_CPMS!C39,CMS_Detail!$D$24:$D$500,Summary_Report_CPMS!D39,CMS_Detail!$K$24:$K$500,\"Monitoring Equipment Malfunctions\"))","v":""},{"$f":"IF(Summary_Report_CPMS!$E39=\"\",\"\",SUMIFS(CMS_Detail!$J$24:$J$500,CMS_Detail!$B$24:$B$500,Summary_Report_CPMS!B39,CMS_Detail!$C$24:$C$500,Summary_Report_CPMS!C39,CMS_Detail!$D$24:$D$500,Summary_Report_CPMS!D39,CMS_Detail!$K$24:$K$500,\"Nonmonitoring Equipment Malfunctions\"))","v":""},{"$f":"IF(Summary_Report_CPMS!$E39=\"\",\"\",SUMIFS(CMS_Detail!$J$24:$J$500,CMS_Detail!$B$24:$B$500,Summary_Report_CPMS!B39,CMS_Detail!$C$24:$C$500,Summary_Report_CPMS!C39,CMS_Detail!$D$24:$D$500,Summary_Report_CPMS!D39,CMS_Detail!$K$24:$K$500,\"Quality Assurance/Quality Control Calibrations\"))","v":""},{"$f":"IF(Summary_Report_CPMS!$E39=\"\",\"\",SUMIFS(CMS_Detail!$J$24:$J$500,CMS_Detail!$B$24:$B$500,Summary_Report_CPMS!B39,CMS_Detail!$C$24:$C$500,Summary_Report_CPMS!C39,CMS_Detail!$D$24:$D$500,Summary_Report_CPMS!D39,CMS_Detail!$K$24:$K$500,\"Other Known Causes\"))","v":""},{"$f":"IF(Summary_Report_CPMS!$E39=\"\",\"\",SUMIFS(CMS_Detail!$J$24:$J$500,CMS_Detail!$B$24:$B$500,Summary_Report_CPMS!B39,CMS_Detail!$C$24:$C$500,Summary_Report_CPMS!C39,CMS_Detail!$D$24:$D$500,Summary_Report_CPMS!D39,CMS_Detail!$K$24:$K$500,\"Other Unknown Causes\"))","v":""}]
[{"$nulls":5},{"$f":"IF(Summary_Report_CPMS!E40=\"\",\"\",SUMIFS(CMS_Detail!$J$24:$J$500,CMS_Detail!$B$24:$B$500,Summary_Report_CPMS!B40,CMS_Detail!$C$24:$C$500,Summary_Report_CPMS!C40,CMS_Detail!$D$24:$D$500,Summary_Report_CPMS!D40))","v":""},"",{"$f":"IF(Summary_Report_CPMS!$E40=\"\",\"\",SUMIFS(CMS_Detail!$J$24:$J$500,CMS_Detail!$B$24:$B$500,Summary_Report_CPMS!B40,CMS_Detail!$C$24:$C$500,Summary_Report_CPMS!C40,CMS_Detail!$D$24:$D$500,Summary_Report_CPMS!D40,CMS_Detail!$K$24:$K$500,\"Monitoring Equipment Malfunctions\"))","v":""},{"$f":"IF(Summary_Report_CPMS!$E40=\"\",\"\",SUMIFS(CMS_Detail!$J$24:$J$500,CMS_Detail!$B$24:$B$500,Summary_Report_CPMS!B40,CMS_Detail!$C$24:$C$500,Summary_Report_CPMS!C40,CMS_Detail!$D$24:$D$500,Summary_Report_CPMS!D40,CMS_Detail!$K$24:$K$500,\"Nonmonitoring Equipment Malfunctions\"))","v":""},{"$f":"IF(Summary_Report_CPMS!$E40=\"\",\"\",SUMIFS(CMS_Detail!$J$24:$J$500,CMS_Detail!$B$24:$B$500,Summary_Report_CPMS!B40,CMS_Detail!$C$24:$C$500,Summary_Report_CPMS!C40,CMS_Detail!$D$24:$D$500,Summary_Report_CPMS!D40,CMS_Detail!$K$24:$K$500,\"Quality Assurance/Quality Control Calibrations\"))","v":""},{"$f":"IF(Summary_Report_CPMS!$E40=\"\",\"\",SUMIFS(CMS_Detail!$J$24:$J$500,CMS_Detail!$B$24:$B$500,Summary_Report_CPMS!B40,CMS_Detail!$C$24:$C$500,Summary_Report_CPMS!C40,CMS_Detail!$D$24:$D$500,Summary_Report_CPMS!D40,CMS_Detail!$K$24:$K$500,\"Other Known Causes\"))","v":""},{"$f":"IF(Summary_Report_CPMS!$E40=\"\",\"\",SUMIFS(CMS_Detail!$J$24:$J$500,CMS_Detail!$B$24:$B$500,Summary_Report_CPMS!B40,CMS_Detail!$C$24:$C$500,Summary_Report_CPMS!C40,CMS_Detail!$D$24:$D$500,Summary_Report_CPMS!D40,CMS_Detail!$K$24:$K$500,\"Other Unknown Causes\"))","v":""}]
[{"$nulls":5},{"$f":"IF(Summary_Report_CPMS!E41=\"\",\"\",SUMIFS(CMS_Detail!$J$24:$J$500,CMS_Detail!$B$24:$B$500,Summary_Report_CPMS!B41,CMS_Detail!$C$24:$C$500,Summary_Report_CPMS!C41,CMS_Detail!$D$24:$D$500,Summary_Report_CPMS!D41))","v":""},"",{"$f":"IF(Summary_Report_CPMS!$E41=\"\",\"\",SUMIFS(CMS_Detail!$J$24:$J$500,CMS_Detail!$B$24:$B$500,Summary_Report_CPMS!B41,CMS_Detail!$C$24:$C$500,Summary_Report_CPMS!C41,CMS_Detail!$D$24:$D$500,Summary_Report_CPMS!D41,CMS_Detail!$K$24:$K$500,\"Monitoring Equipment Malfunctions\"))","v":""},{"$f":"IF(Summary_Report_CPMS!$E41=\"\",\"\",SUMIFS(CMS_Detail!$J$24:$J$500,CMS_Detail!$B$24:$B$500,Summary_Report_CPMS!B41,CMS_Detail!$C$24:$C$500,Summary_Report_CPMS!C41,CMS_Detail!$D$24:$D$500,Summary_Report_CPMS!D41,CMS_Detail!$K$24:$K$500,\"Nonmonitoring Equipment Malfunctions\"))","v":""},{"$f":"IF(Summary_Report_CPMS!$E41=\"\",\"\",SUMIFS(CMS_Detail!$J$24:$J$500,CMS_Detail!$B$24:$B$500,Summary_Report_CPMS!B41,CMS_Detail!$C$24:$C$500,Summary_Report_CPMS!C41,CMS_Detail!$D$24:$D$500,Summary_Report_CPMS!D41,CMS_Detail!$K$24:$K$500,\"Quality Assurance/Quality Control Calibrations\"))","v":""},{"$f":"IF(Summary_Report_CPMS!$E41=\"\",\"\",SUMIFS(CMS_Detail!$J$24:$J$500,CMS_Detail!$B$24:$B$500,Summary_Report_CPMS!B41,CMS_Detail!$C$24:$C$500,Summary_Report_CPMS!C41,CMS_Detail!$D$24:$D$500,Summary_Report_CPMS!D41,CMS_Detail!$K$24:$K$500,\"Other Known Causes\"))","v":""},{"$f":"IF(Summary_Report_CPMS!$E41=\"\",\"\",SUMIFS(CMS_Detail!$J$24:$J$500,CMS_Detail!$B$24:$B$500,Summary_Report_CPMS!B41,CMS_Detail!$C$24:$C$500,Summary_Report_CPMS!C41,CMS_Detail!$D$24:$D$500,Summary_Report_CPMS!D41,CMS_Detail!$K$24:$K$500,\"Other Unknown Causes\"))","v":""}]
[{"$nulls":5},{"$f":"IF(Summary_Report_CPMS!E42=\"\",\"\",SUMIFS(CMS_Detail!$J$24:$J$500,CMS_Detail!$B$24:$B$500,Summary_Report_CPMS!B42,CMS_Detail!$C$24:$C$500,Summary_Report_CPMS!C42,CMS_Detail!$D$24:$D$500,Summary_Report_CPMS!D42))","v":""},"",{"$f":"IF(Summary_Report_CPMS!$E42=\"\",\"\",SUMIFS(CMS_Detail!$J$24:$J$500,CMS_Detail!$B$24:$B$500,Summary_Report_CPMS!B42,CMS_Detail!$C$24:$C$500,Summary_Report_CPMS!C42,CMS_Detail!$D$24:$D$500,Summary_Report_CPMS!D42,CMS_Detail!$K$24:$K$500,\"Monitoring Equipment Malfunctions\"))","v":""},{"$f":"IF(Summary_Report_CPMS!$E42=\"\",\"\",SUMIFS(CMS_Detail!$J$24:$J$500,CMS_Detail!$B$24:$B$500,Summary_Report_CPMS!B42,CMS_Detail!$C$24:$C$500,Summary_Report_CPMS!C42,CMS_Detail!$D$24:$D$500,Summary_Report_CPMS!D42,CMS_Detail!$K$24:$K$500,\"Nonmonitoring Equipment Malfunctions\"))","v":""},{"$f":"IF(Summary_Report_CPMS!$E42=\"\",\"\",SUMIFS(CMS_Detail!$J$24:$J$500,CMS_Detail!$B$24:$B$500,Summary_Report_CPMS!B42,CMS_Detail!$C$24:$C$500,Summary_Report_CPMS!C42,CMS_Detail!$D$24:$D$500,Summary_Report_CPMS!D42,CMS_Detail!$K$24:$K$500,\"Quality Assurance/Quality Control Calibrations\"))","v":""},{"$f":"IF(Summary_Report_CPMS!$E42=\"\",\"\",SUMIFS(CMS_Detail!$J$24:$J$500,CMS_Detail!$B$24:$B$500,Summary_Report_CPMS!B42,CMS_Detail!$C$24:$C$500,Summary_Report_CPMS!C42,CMS_Detail!$D$24:$D$500,Summary_Report_CPMS!D42,CMS_Detail!$K$24:$K$500,\"Other Known Causes\"))","v":""},{"$f":"IF(Summary_Report_CPMS!$E42=\"\",\"\",SUMIFS(CMS_Detail!$J$24:$J$500,CMS_Detail!$B$24:$B$500,Summary_Report_CPMS!B42,CMS_Detail!$C$24:$C$500,Summary_Report_CPMS!C42,CMS_Detail!$D$24:$D$500,Summary_Report_CPMS!D42,CMS_Detail!$K$24:$K$500,\"Other Unknown Causes\"))","v":""}]
[{"$nulls":5},{"$f":"IF(Summary_Report_CPMS!E43=\"\",\"\",SUMIFS(CMS_Detail!$J$24:$J$500,CMS_Detail!$B$24:$B$500,Summary_Report_CPMS!B43,CMS_Detail!$C$24:$C$500,Summary_Report_CPMS!C43,CMS_Detail!$D$24:$D$500,Summary_Report_CPMS!D43))","v":""},"",{"$f":"IF(Summary_Report_CPMS!$E43=\"\",\"\",SUMIFS(CMS_Detail!$J$24:$J$500,CMS_Detail!$B$24:$B$500,Summary_Report_CPMS!B43,CMS_Detail!$C$24:$C$500,Summary_Report_CPMS!C43,CMS_Detail!$D$24:$D$500,Summary_Report_CPMS!D43,CMS_Detail!$K$24:$K$500,\"Monitoring Equipment Malfunctions\"))","v":""},{"$f":"IF(Summary_Report_CPMS!$E43=\"\",\"\",SUMIFS(CMS_Detail!$J$24:$J$500,CMS_Detail!$B$24:$B$500,Summary_Report_CPMS!B43,CMS_Detail!$C$24:$C$500,Summary_Report_CPMS!C43,CMS_Detail!$D$24:$D$500,Summary_Report_CPMS!D43,CMS_Detail!$K$24:$K$500,\"Nonmonitoring Equipment Malfunctions\"))","v":""},{"$f":"IF(Summary_Report_CPMS!$E43=\"\",\"\",SUMIFS(CMS_Detail!$J$24:$J$500,CMS_Detail!$B$24:$B$500,Summary_Report_CPMS!B43,CMS_Detail!$C$24:$C$500,Summary_Report_CPMS!C43,CMS_Detail!$D$24:$D$500,Summary_Report_CPMS!D43,CMS_Detail!$K$24:$K$500,\"Quality Assurance/Quality Control Calibrations\"))","v":""},{"$f":"IF(Summary_Report_CPMS!$E43=\"\",\"\",SUMIFS(CMS_Detail!$J$24:$J$500,CMS_Detail!$B$24:$B$500,Summary_Report_CPMS!B43,CMS_Detail!$C$24:$C$500,Summary_Report_CPMS!C43,CMS_Detail!$D$24:$D$500,Summary_Report_CPMS!D43,CMS_Detail!$K$24:$K$500,\"Other Known Causes\"))","v":""},{"$f":"IF(Summary_Report_CPMS!$E43=\"\",\"\",SUMIFS(CMS_Detail!$J$24:$J$500,CMS_Detail!$B$24:$B$500,Summary_Report_CPMS!B43,CMS_Detail!$C$24:$C$500,Summary_Report_CPMS!C43,CMS_Detail!$D$24:$D$500,Summary_Report_CPMS!D43,CMS_Detail!$K$24:$K$500,\"Other Unknown Causes\"))","v":""}]
[{"$nulls":5},{"$f":"IF(Summary_Report_CPMS!E44=\"\",\"\",SUMIFS(CMS_Detail!$J$24:$J$500,CMS_Detail!$B$24:$B$500,Summary_Report_CPMS!B44,CMS_Detail!$C$24:$C$500,Summary_Report_CPMS!C44,CMS_Detail!$D$24:$D$500,Summary_Report_CPMS!D44))","v":""},"",{"$f":"IF(Summary_Report_CPMS!$E44=\"\",\"\",SUMIFS(CMS_Detail!$J$24:$J$500,CMS_Detail!$B$24:$B$500,Summary_Report_CPMS!B44,CMS_Detail!$C$24:$C$500,Summary_Report_CPMS!C44,CMS_Detail!$D$24:$D$500,Summary_Report_CPMS!D44,CMS_Detail!$K$24:$K$500,\"Monitoring Equipment Malfunctions\"))","v":""},{"$f":"IF(Summary_Report_CPMS!$E44=\"\",\"\",SUMIFS(CMS_Detail!$J$24:$J$500,CMS_Detail!$B$24:$B$500,Summary_Report_CPMS!B44,CMS_Detail!$C$24:$C$500,Summary_Report_CPMS!C44,CMS_Detail!$D$24:$D$500,Summary_Report_CPMS!D44,CMS_Detail!$K$24:$K$500,\"Nonmonitoring Equipment Malfunctions\"))","v":""},{"$f":"IF(Summary_Report_CPMS!$E44=\"\",\"\",SUMIFS(CMS_Detail!$J$24:$J$500,CMS_Detail!$B$24:$B$500,Summary_Report_CPMS!B44,CMS_Detail!$C$24:$C$500,Summary_Report_CPMS!C44,CMS_Detail!$D$24:$D$500,Summary_Report_CPMS!D44,CMS_Detail!$K$24:$K$500,\"Quality Assurance/Quality Control Calibrations\"))","v":""},{"$f":"IF(Summary_Report_CPMS!$E44=\"\",\"\",SUMIFS(CMS_Detail!$J$24:$J$500,CMS_Detail!$B$24:$B$500,Summary_Report_CPMS!B44,CMS_Detail!$C$24:$C$500,Summary_Report_CPMS!C44,CMS_Detail!$D$24:$D$500,Summary_Report_CPMS!D44,CMS_Detail!$K$24:$K$500,\"Other Known Causes\"))","v":""},{"$f":"IF(Summary_Report_CPMS!$E44=\"\",\"\",SUMIFS(CMS_Detail!$J$24:$J$500,CMS_Detail!$B$24:$B$500,Summary_Report_CPMS!B44,CMS_Detail!$C$24:$C$500,Summary_Report_CPMS!C44,CMS_Detail!$D$24:$D$500,Summary_Report_CPMS!D44,CMS_Detail!$K$24:$K$500,\"Other Unknown Causes\"))","v":""}]
[{"$nulls":5},{"$f":"IF(Summary_Report_CPMS!E45=\"\",\"\",SUMIFS(CMS_Detail!$J$24:$J$500,CMS_Detail!$B$24:$B$500,Summary_Report_CPMS!B45,CMS_Detail!$C$24:$C$500,Summary_Report_CPMS!C45,CMS_Detail!$D$24:$D$500,Summary_Report_CPMS!D45))","v":""},"",{"$f":"IF(Summary_Report_CPMS!$E45=\"\",\"\",SUMIFS(CMS_Detail!$J$24:$J$500,CMS_Detail!$B$24:$B$500,Summary_Report_CPMS!B45,CMS_Detail!$C$24:$C$500,Summary_Report_CPMS!C45,CMS_Detail!$D$24:$D$500,Summary_Report_CPMS!D45,CMS_Detail!$K$24:$K$500,\"Monitoring Equipment Malfunctions\"))","v":""},{"$f":"IF(Summary_Report_CPMS!$E45=\"\",\"\",SUMIFS(CMS_Detail!$J$24:$J$500,CMS_Detail!$B$24:$B$500,Summary_Report_CPMS!B45,CMS_Detail!$C$24:$C$500,Summary_Report_CPMS!C45,CMS_Detail!$D$24:$D$500,Summary_Report_CPMS!D45,CMS_Detail!$K$24:$K$500,\"Nonmonitoring Equipment Malfunctions\"))","v":""},{"$f":"IF(Summary_Report_CPMS!$E45=\"\",\"\",SUMIFS(CMS_Detail!$J$24:$J$500,CMS_Detail!$B$24:$B$500,Summary_Report_CPMS!B45,CMS_Detail!$C$24:$C$500,Summary_Report_CPMS!C45,CMS_Detail!$D$24:$D$500,Summary_Report_CPMS!D45,CMS_Detail!$K$24:$K$500,\"Quality Assurance/Quality Control Calibrations\"))","v":""},{"$f":"IF(Summary_Report_CPMS!$E45=\"\",\"\",SUMIFS(CMS_Detail!$J$24:$J$500,CMS_Detail!$B$24:$B$500,Summary_Report_CPMS!B45,CMS_Detail!$C$24:$C$500,Summary_Report_CPMS!C45,CMS_Detail!$D$24:$D$500,Summary_Report_CPMS!D45,CMS_Detail!$K$24:$K$500,\"Other Known Causes\"))","v":""},{"$f":"IF(Summary_Report_CPMS!$E45=\"\",\"\",SUMIFS(CMS_Detail!$J$24:$J$500,CMS_Detail!$B$24:$B$500,Summary_Report_CPMS!B45,CMS_Detail!$C$24:$C$500,Summary_Report_CPMS!C45,CMS_Detail!$D$24:$D$500,Summary_Report_CPMS!D45,CMS_Detail!$K$24:$K$500,\"Other Unknown Causes\"))","v":""}]
[{"$nulls":5},{"$f":"IF(Summary_Report_CPMS!E46=\"\",\"\",SUMIFS(CMS_Detail!$J$24:$J$500,CMS_Detail!$B$24:$B$500,Summary_Report_CPMS!B46,CMS_Detail!$C$24:$C$500,Summary_Report_CPMS!C46,CMS_Detail!$D$24:$D$500,Summary_Report_CPMS!D46))","v":""},"",{"$f":"IF(Summary_Report_CPMS!$E46=\"\",\"\",SUMIFS(CMS_Detail!$J$24:$J$500,CMS_Detail!$B$24:$B$500,Summary_Report_CPMS!B46,CMS_Detail!$C$24:$C$500,Summary_Report_CPMS!C46,CMS_Detail!$D$24:$D$500,Summary_Report_CPMS!D46,CMS_Detail!$K$24:$K$500,\"Monitoring Equipment Malfunctions\"))","v":""},{"$f":"IF(Summary_Report_CPMS!$E46=\"\",\"\",SUMIFS(CMS_Detail!$J$24:$J$500,CMS_Detail!$B$24:$B$500,Summary_Report_CPMS!B46,CMS_Detail!$C$24:$C$500,Summary_Report_CPMS!C46,CMS_Detail!$D$24:$D$500,Summary_Report_CPMS!D46,CMS_Detail!$K$24:$K$500,\"Nonmonitoring Equipment Malfunctions\"))","v":""},{"$f":"IF(Summary_Report_CPMS!$E46=\"\",\"\",SUMIFS(CMS_Detail!$J$24:$J$500,CMS_Detail!$B$24:$B$500,Summary_Report_CPMS!B46,CMS_Detail!$C$24:$C$500,Summary_Report_CPMS!C46,CMS_Detail!$D$24:$D$500,Summary_Report_CPMS!D46,CMS_Detail!$K$24:$K$500,\"Quality Assurance/Quality Control Calibrations\"))","v":""},{"$f":"IF(Summary_Report_CPMS!$E46=\"\",\"\",SUMIFS(CMS_Detail!$J$24:$J$500,CMS_Detail!$B$24:$B$500,Summary_Report_CPMS!B46,CMS_Detail!$C$24:$C$500,Summary_Report_CPMS!C46,CMS_Detail!$D$24:$D$500,Summary_Report_CPMS!D46,CMS_Detail!$K$24:$K$500,\"Other Known Causes\"))","v":""},{"$f":"IF(Summary_Report_CPMS!$E46=\"\",\"\",SUMIFS(CMS_Detail!$J$24:$J$500,CMS_Detail!$B$24:$B$500,Summary_Report_CPMS!B46,CMS_Detail!$C$24:$C$500,Summary_Report_CPMS!C46,CMS_Detail!$D$24:$D$500,Summary_Report_CPMS!D46,CMS_Detail!$K$24:$K$500,\"Other Unknown Causes\"))","v":""}]
[{"$nulls":5},{"$f":"IF(Summary_Report_CPMS!E47=\"\",\"\",SUMIFS(CMS_Detail!$J$24:$J$500,CMS_Detail!$B$24:$B$500,Summary_Report_CPMS!B47,CMS_Detail!$C$24:$C$500,Summary_Report_CPMS!C47,CMS_Detail!$D$24:$D$500,Summary_Report_CPMS!D47))","v":""},"",{"$f":"IF(Summary_Report_CPMS!$E47=\"\",\"\",SUMIFS(CMS_Detail!$J$24:$J$500,CMS_Detail!$B$24:$B$500,Summary_Report_CPMS!B47,CMS_Detail!$C$24:$C$500,Summary_Report_CPMS!C47,CMS_Detail!$D$24:$D$500,Summary_Report_CPMS!D47,CMS_Detail!$K$24:$K$500,\"Monitoring Equipment Malfunctions\"))","v":""},{"$f":"IF(Summary_Report_CPMS!$E47=\"\",\"\",SUMIFS(CMS_Detail!$J$24:$J$500,CMS_Detail!$B$24:$B$500,Summary_Report_CPMS!B47,CMS_Detail!$C$24:$C$500,Summary_Report_CPMS!C47,CMS_Detail!$D$24:$D$500,Summary_Report_CPMS!D47,CMS_Detail!$K$24:$K$500,\"Nonmonitoring Equipment Malfunctions\"))","v":""},{"$f":"IF(Summary_Report_CPMS!$E47=\"\",\"\",SUMIFS(CMS_Detail!$J$24:$J$500,CMS_Detail!$B$24:$B$500,Summary_Report_CPMS!B47,CMS_Detail!$C$24:$C$500,Summary_Report_CPMS!C47,CMS_Detail!$D$24:$D$500,Summary_Report_CPMS!D47,CMS_Detail!$K$24:$K$500,\"Quality Assurance/Quality Control Calibrations\"))","v":""},{"$f":"IF(Summary_Report_CPMS!$E47=\"\",\"\",SUMIFS(CMS_Detail!$J$24:$J$500,CMS_Detail!$B$24:$B$500,Summary_Report_CPMS!B47,CMS_Detail!$C$24:$C$500,Summary_Report_CPMS!C47,CMS_Detail!$D$24:$D$500,Summary_Report_CPMS!D47,CMS_Detail!$K$24:$K$500,\"Other Known Causes\"))","v":""},{"$f":"IF(Summary_Report_CPMS!$E47=\"\",\"\",SUMIFS(CMS_Detail!$J$24:$J$500,CMS_Detail!$B$24:$B$500,Summary_Report_CPMS!B47,CMS_Detail!$C$24:$C$500,Summary_Report_CPMS!C47,CMS_Detail!$D$24:$D$500,Summary_Report_CPMS!D47,CMS_Detail!$K$24:$K$500,\"Other Unknown Causes\"))","v":""}]
[{"$nulls":5},{"$f":"IF(Summary_Report_CPMS!E48=\"\",\"\",SUMIFS(CMS_Detail!$J$24:$J$500,CMS_Detail!$B$24:$B$500,Summary_Report_CPMS!B48,CMS_Detail!$C$24:$C$500,Summary_Report_CPMS!C48,CMS_Detail!$D$24:$D$500,Summary_Report_CPMS!D48))","v":""},"",{"$f":"IF(Summary_Report_CPMS!$E48=\"\",\"\",SUMIFS(CMS_Detail!$J$24:$J$500,CMS_Detail!$B$24:$B$500,Summary_Report_CPMS!B48,CMS_Detail!$C$24:$C$500,Summary_Report_CPMS!C48,CMS_Detail!$D$24:$D$500,Summary_Report_CPMS!D48,CMS_Detail!$K$24:$K$500,\"Monitoring Equipment Malfunctions\"))","v":""},{"$f":"IF(Summary_Report_CPMS!$E48=\"\",\"\",SUMIFS(CMS_Detail!$J$24:$J$500,CMS_Detail!$B$24:$B$500,Summary_Report_CPMS!B48,CMS_Detail!$C$24:$C$500,Summary_Report_CPMS!C48,CMS_Detail!$D$24:$D$500,Summary_Report_CPMS!D48,CMS_Detail!$K$24:$K$500,\"Nonmonitoring Equipment Malfunctions\"))","v":""},{"$f":"IF(Summary_Report_CPMS!$E48=\"\",\"\",SUMIFS(CMS_Detail!$J$24:$J$500,CMS_Detail!$B$24:$B$500,Summary_Report_CPMS!B48,CMS_Detail!$C$24:$C$500,Summary_Report_CPMS!C48,CMS_Detail!$D$24:$D$500,Summary_Report_CPMS!D48,CMS_Detail!$K$24:$K$500,\"Quality Assurance/Quality Control Calibrations\"))","v":""},{"$f":"IF(Summary_Report_CPMS!$E48=\"\",\"\",SUMIFS(CMS_Detail!$J$24:$J$500,CMS_Detail!$B$24:$B$500,Summary_Report_CPMS!B48,CMS_Detail!$C$24:$C$500,Summary_Report_CPMS!C48,CMS_Detail!$D$24:$D$500,Summary_Report_CPMS!D48,CMS_Detail!$K$24:$K$500,\"Other Known Causes\"))","v":""},{"$f":"IF(Summary_Report_CPMS!$E48=\"\",\"\",SUMIFS(CMS_Detail!$J$24:$J$500,CMS_Detail!$B$24:$B$500,Summary_Report_CPMS!B48,CMS_Detail!$C$24:$C$500,Summary_Report_CPMS!C48,CMS_Detail!$D$24:$D$500,Summary_Report_CPMS!D48,CMS_Detail!$K$24:$K$500,\"Other Unknown Causes\"))","v":""}]
[{"$nulls":5},{"$f":"IF(Summary_Report_CPMS!E49=\"\",\"\",SUMIFS(CMS_Detail!$J$24:$J$500,CMS_Detail!$B$24:$B$500,Summary_Report_CPMS!B49,CMS_Detail!$C$24:$C$500,Summary_Report_CPMS!C49,CMS_Detail!$D$24:$D$500,Summary_Report_CPMS!D49))","v":""},"",{"$f":"IF(Summary_Report_CPMS!$E49=\"\",\"\",SUMIFS(CMS_Detail!$J$24:$J$500,CMS_Detail!$B$24:$B$500,Summary_Report_CPMS!B49,CMS_Detail!$C$24:$C$500,Summary_Report_CPMS!C49,CMS_Detail!$D$24:$D$500,Summary_Report_CPMS!D49,CMS_Detail!$K$24:$K$500,\"Monitoring Equipment Malfunctions\"))","v":""},{"$f":"IF(Summary_Report_CPMS!$E49=\"\",\"\",SUMIFS(CMS_Detail!$J$24:$J$500,CMS_Detail!$B$24:$B$500,Summary_Report_CPMS!B49,CMS_Detail!$C$24:$C$500,Summary_Report_CPMS!C49,CMS_Detail!$D$24:$D$500,Summary_Report_CPMS!D49,CMS_Detail!$K$24:$K$500,\"Nonmonitoring Equipment Malfunctions\"))","v":""},{"$f":"IF(Summary_Report_CPMS!$E49=\"\",\"\",SUMIFS(CMS_Detail!$J$24:$J$500,CMS_Detail!$B$24:$B$500,Summary_Report_CPMS!B49,CMS_Detail!$C$24:$C$500,Summary_Report_CPMS!C49,CMS_Detail!$D$24:$D$500,Summary_Report_CPMS!D49,CMS_Detail!$K$24:$K$500,\"Quality Assurance/Quality Control Calibrations\"))","v":""},{"$f":"IF(Summary_Report_CPMS!$E49=\"\",\"\",SUMIFS(CMS_Detail!$J$24:$J$500,CMS_Detail!$B$24:$B$500,Summary_Report_CPMS!B49,CMS_Detail!$C$24:$C$500,Summary_Report_CPMS!C49,CMS_Detail!$D$24:$D$500,Summary_Report_CPMS!D49,CMS_Detail!$K$24:$K$500,\"Other Known Causes\"))","v":""},{"$f":"IF(Summary_Report_CPMS!$E49=\"\",\"\",SUMIFS(CMS_Detail!$J$24:$J$500,CMS_Detail!$B$24:$B$500,Summary_Report_CPMS!B49,CMS_Detail!$C$24:$C$500,Summary_Report_CPMS!C49,CMS_Detail!$D$24:$D$500,Summary_Report_CPMS!D49,CMS_Detail!$K$24:$K$500,\"Other Unknown Causes\"))","v":""}]
[{"$nulls":5},{"$f":"IF(Summary_Report_CPMS!E50=\"\",\"\",SUMIFS(CMS_Detail!$J$24:$J$500,CMS_Detail!$B$24:$B$500,Summary_Report_CPMS!B50,CMS_Detail!$C$24:$C$500,Summary_Report_CPMS!C50,CMS_Detail!$D$24:$D$500,Summary_Report_CPMS!D50))","v":""},"",{"$f":"IF(Summary_Report_CPMS!$E50=\"\",\"\",SUMIFS(CMS_Detail!$J$24:$J$500,CMS_Detail!$B$24:$B$500,Summary_Report_CPMS!B50,CMS_Detail!$C$24:$C$500,Summary_Report_CPMS!C50,CMS_Detail!$D$24:$D$500,Summary_Report_CPMS!D50,CMS_Detail!$K$24:$K$500,\"Monitoring Equipment Malfunctions\"))","v":""},{"$f":"IF(Summary_Report_CPMS!$E50=\"\",\"\",SUMIFS(CMS_Detail!$J$24:$J$500,CMS_Detail!$B$24:$B$500,Summary_Report_CPMS!B50,CMS_Detail!$C$24:$C$500,Summary_Report_CPMS!C50,CMS_Detail!$D$24:$D$500,Summary_Report_CPMS!D50,CMS_Detail!$K$24:$K$500,\"Nonmonitoring Equipment Malfunctions\"))","v":""},{"$f":"IF(Summary_Report_CPMS!$E50=\"\",\"\",SUMIFS(CMS_Detail!$J$24:$J$500,CMS_Detail!$B$24:$B$500,Summary_Report_CPMS!B50,CMS_Detail!$C$24:$C$500,Summary_Report_CPMS!C50,CMS_Detail!$D$24:$D$500,Summary_Report_CPMS!D50,CMS_Detail!$K$24:$K$500,\"Quality Assurance/Quality Control Calibrations\"))","v":""},{"$f":"IF(Summary_Report_CPMS!$E50=\"\",\"\",SUMIFS(CMS_Detail!$J$24:$J$500,CMS_Detail!$B$24:$B$500,Summary_Report_CPMS!B50,CMS_Detail!$C$24:$C$500,Summary_Report_CPMS!C50,CMS_Detail!$D$24:$D$500,Summary_Report_CPMS!D50,CMS_Detail!$K$24:$K$500,\"Other Known Causes\"))","v":""},{"$f":"IF(Summary_Report_CPMS!$E50=\"\",\"\",SUMIFS(CMS_Detail!$J$24:$J$500,CMS_Detail!$B$24:$B$500,Summary_Report_CPMS!B50,CMS_Detail!$C$24:$C$500,Summary_Report_CPMS!C50,CMS_Detail!$D$24:$D$500,Summary_Report_CPMS!D50,CMS_Detail!$K$24:$K$500,\"Other Unknown Causes\"))","v":""}]
[{"$nulls":5},{"$f":"IF(Summary_Report_CPMS!E51=\"\",\"\",SUMIFS(CMS_Detail!$J$24:$J$500,CMS_Detail!$B$24:$B$500,Summary_Report_CPMS!B51,CMS_Detail!$C$24:$C$500,Summary_Report_CPMS!C51,CMS_Detail!$D$24:$D$500,Summary_Report_CPMS!D51))","v":""},"",{"$f":"IF(Summary_Report_CPMS!$E51=\"\",\"\",SUMIFS(CMS_Detail!$J$24:$J$500,CMS_Detail!$B$24:$B$500,Summary_Report_CPMS!B51,CMS_Detail!$C$24:$C$500,Summary_Report_CPMS!C51,CMS_Detail!$D$24:$D$500,Summary_Report_CPMS!D51,CMS_Detail!$K$24:$K$500,\"Monitoring Equipment Malfunctions\"))","v":""},{"$f":"IF(Summary_Report_CPMS!$E51=\"\",\"\",SUMIFS(CMS_Detail!$J$24:$J$500,CMS_Detail!$B$24:$B$500,Summary_Report_CPMS!B51,CMS_Detail!$C$24:$C$500,Summary_Report_CPMS!C51,CMS_Detail!$D$24:$D$500,Summary_Report_CPMS!D51,CMS_Detail!$K$24:$K$500,\"Nonmonitoring Equipment Malfunctions\"))","v":""},{"$f":"IF(Summary_Report_CPMS!$E51=\"\",\"\",SUMIFS(CMS_Detail!$J$24:$J$500,CMS_Detail!$B$24:$B$500,Summary_Report_CPMS!B51,CMS_Detail!$C$24:$C$500,Summary_Report_CPMS!C51,CMS_Detail!$D$24:$D$500,Summary_Report_CPMS!D51,CMS_Detail!$K$24:$K$500,\"Quality Assurance/Quality Control Calibrations\"))","v":""},{"$f":"IF(Summary_Report_CPMS!$E51=\"\",\"\",SUMIFS(CMS_Detail!$J$24:$J$500,CMS_Detail!$B$24:$B$500,Summary_Report_CPMS!B51,CMS_Detail!$C$24:$C$500,Summary_Report_CPMS!C51,CMS_Detail!$D$24:$D$500,Summary_Report_CPMS!D51,CMS_Detail!$K$24:$K$500,\"Other Known Causes\"))","v":""},{"$f":"IF(Summary_Report_CPMS!$E51=\"\",\"\",SUMIFS(CMS_Detail!$J$24:$J$500,CMS_Detail!$B$24:$B$500,Summary_Report_CPMS!B51,CMS_Detail!$C$24:$C$500,Summary_Report_CPMS!C51,CMS_Detail!$D$24:$D$500,Summary_Report_CPMS!D51,CMS_Detail!$K$24:$K$500,\"Other Unknown Causes\"))","v":""}]
[{"$nulls":5},{"$f":"IF(Summary_Report_CPMS!E52=\"\",\"\",SUMIFS(CMS_Detail!$J$24:$J$500,CMS_Detail!$B$24:$B$500,Summary_Report_CPMS!B52,CMS_Detail!$C$24:$C$500,Summary_Report_CPMS!C52,CMS_Detail!$D$24:$D$500,Summary_Report_CPMS!D52))","v":""},"",{"$f":"IF(Summary_Report_CPMS!$E52=\"\",\"\",SUMIFS(CMS_Detail!$J$24:$J$500,CMS_Detail!$B$24:$B$500,Summary_Report_CPMS!B52,CMS_Detail!$C$24:$C$500,Summary_Report_CPMS!C52,CMS_Detail!$D$24:$D$500,Summary_Report_CPMS!D52,CMS_Detail!$K$24:$K$500,\"Monitoring Equipment Malfunctions\"))","v":""},{"$f":"IF(Summary_Report_CPMS!$E52=\"\",\"\",SUMIFS(CMS_Detail!$J$24:$J$500,CMS_Detail!$B$24:$B$500,Summary_Report_CPMS!B52,CMS_Detail!$C$24:$C$500,Summary_Report_CPMS!C52,CMS_Detail!$D$24:$D$500,Summary_Report_CPMS!D52,CMS_Detail!$K$24:$K$500,\"Nonmonitoring Equipment Malfunctions\"))","v":""},{"$f":"IF(Summary_Report_CPMS!$E52=\"\",\"\",SUMIFS(CMS_Detail!$J$24:$J$500,CMS_Detail!$B$24:$B$500,Summary_Report_CPMS!B52,CMS_Detail!$C$24:$C$500,Summary_Report_CPMS!C52,CMS_Detail!$D$24:$D$500,Summary_Report_CPMS!D52,CMS_Detail!$K$24:$K$500,\"Quality Assurance/Quality Control Calibrations\"))","v":""},{"$f":"IF(Summary_Report_CPMS!$E52=\"\",\"\",SUMIFS(CMS_Detail!$J$24:$J$500,CMS_Detail!$B$24:$B$500,Summary_Report_CPMS!B52,CMS_Detail!$C$24:$C$500,Summary_Report_CPMS!C52,CMS_Detail!$D$24:$D$500,Summary_Report_CPMS!D52,CMS_Detail!$K$24:$K$500,\"Other Known Causes\"))","v":""},{"$f":"IF(Summary_Report_CPMS!$E52=\"\",\"\",SUMIFS(CMS_Detail!$J$24:$J$500,CMS_Detail!$B$24:$B$500,Summary_Report_CPMS!B52,CMS_Detail!$C$24:$C$500,Summary_Report_CPMS!C52,CMS_Detail!$D$24:$D$500,Summary_Report_CPMS!D52,CMS_Detail!$K$24:$K$500,\"Other Unknown Causes\"))","v":""}]
[{"$nulls":5},{"$f":"IF(Summary_Report_CPMS!E53=\"\",\"\",SUMIFS(CMS_Detail!$J$24:$J$500,CMS_Detail!$B$24:$B$500,Summary_Report_CPMS!B53,CMS_Detail!$C$24:$C$500,Summary_Report_CPMS!C53,CMS_Detail!$D$24:$D$500,Summary_Report_CPMS!D53))","v":""},"",{"$f":"IF(Summary_Report_CPMS!$E53=\"\",\"\",SUMIFS(CMS_Detail!$J$24:$J$500,CMS_Detail!$B$24:$B$500,Summary_Report_CPMS!B53,CMS_Detail!$C$24:$C$500,Summary_Report_CPMS!C53,CMS_Detail!$D$24:$D$500,Summary_Report_CPMS!D53,CMS_Detail!$K$24:$K$500,\"Monitoring Equipment Malfunctions\"))","v":""},{"$f":"IF(Summary_Report_CPMS!$E53=\"\",\"\",SUMIFS(CMS_Detail!$J$24:$J$500,CMS_Detail!$B$24:$B$500,Summary_Report_CPMS!B53,CMS_Detail!$C$24:$C$500,Summary_Report_CPMS!C53,CMS_Detail!$D$24:$D$500,Summary_Report_CPMS!D53,CMS_Detail!$K$24:$K$500,\"Nonmonitoring Equipment Malfunctions\"))","v":""},{"$f":"IF(Summary_Report_CPMS!$E53=\"\",\"\",SUMIFS(CMS_Detail!$J$24:$J$500,CMS_Detail!$B$24:$B$500,Summary_Report_CPMS!B53,CMS_Detail!$C$24:$C$500,Summary_Report_CPMS!C53,CMS_Detail!$D$24:$D$500,Summary_Report_CPMS!D53,CMS_Detail!$K$24:$K$500,\"Quality Assurance/Quality Control Calibrations\"))","v":""},{"$f":"IF(Summary_Report_CPMS!$E53=\"\",\"\",SUMIFS(CMS_Detail!$J$24:$J$500,CMS_Detail!$B$24:$B$500,Summary_Report_CPMS!B53,CMS_Detail!$C$24:$C$500,Summary_Report_CPMS!C53,CMS_Detail!$D$24:$D$500,Summary_Report_CPMS!D53,CMS_Detail!$K$24:$K$500,\"Other Known Causes\"))","v":""},{"$f":"IF(Summary_Report_CPMS!$E53=\"\",\"\",SUMIFS(CMS_Detail!$J$24:$J$500,CMS_Detail!$B$24:$B$500,Summary_Report_CPMS!B53,CMS_Detail!$C$24:$C$500,Summary_Report_CPMS!C53,CMS_Detail!$D$24:$D$500,Summary_Report_CPMS!D53,CMS_Detail!$K$24:$K$500,\"Other Unknown Causes\"))","v":""}]
[{"$nulls":5},{"$f":"IF(Summary_Report_CPMS!E54=\"\",\"\",SUMIFS(CMS_Detail!$J$24:$J$500,CMS_Detail!$B$24:$B$500,Summary_Report_CPMS!B54,CMS_Detail!$C$24:$C$500,Summary_Report_CPMS!C54,CMS_Detail!$D$24:$D$500,Summary_Report_CPMS!D54))","v":""},"",{"$f":"IF(Summary_Report_CPMS!$E54=\"\",\"\",SUMIFS(CMS_Detail!$J$24:$J$500,CMS_Detail!$B$24:$B$500,Summary_Report_CPMS!B54,CMS_Detail!$C$24:$C$500,Summary_Report_CPMS!C54,CMS_Detail!$D$24:$D$500,Summary_Report_CPMS!D54,CMS_Detail!$K$24:$K$500,\"Monitoring Equipment Malfunctions\"))","v":""},{"$f":"IF(Summary_Report_CPMS!$E54=\"\",\"\",SUMIFS(CMS_Detail!$J$24:$J$500,CMS_Detail!$B$24:$B$500,Summary_Report_CPMS!B54,CMS_Detail!$C$24:$C$500,Summary_Report_CPMS!C54,CMS_Detail!$D$24:$D$500,Summary_Report_CPMS!D54,CMS_Detail!$K$24:$K$500,\"Nonmonitoring Equipment Malfunctions\"))","v":""},{"$f":"IF(Summary_Report_CPMS!$E54=\"\",\"\",SUMIFS(CMS_Detail!$J$24:$J$500,CMS_Detail!$B$24:$B$500,Summary_Report_CPMS!B54,CMS_Detail!$C$24:$C$500,Summary_Report_CPMS!C54,CMS_Detail!$D$24:$D$500,Summary_Report_CPMS!D54,CMS_Detail!$K$24:$K$500,\"Quality Assurance/Quality Control Calibrations\"))","v":""},{"$f":"IF(Summary_Report_CPMS!$E54=\"\",\"\",SUMIFS(CMS_Detail!$J$24:$J$500,CMS_Detail!$B$24:$B$500,Summary_Report_CPMS!B54,CMS_Detail!$C$24:$C$500,Summary_Report_CPMS!C54,CMS_Detail!$D$24:$D$500,Summary_Report_CPMS!D54,CMS_Detail!$K$24:$K$500,\"Other Known Causes\"))","v":""},{"$f":"IF(Summary_Report_CPMS!$E54=\"\",\"\",SUMIFS(CMS_Detail!$J$24:$J$500,CMS_Detail!$B$24:$B$500,Summary_Report_CPMS!B54,CMS_Detail!$C$24:$C$500,Summary_Report_CPMS!C54,CMS_Detail!$D$24:$D$500,Summary_Report_CPMS!D54,CMS_Detail!$K$24:$K$500,\"Other Unknown Causes\"))","v":""}]
[{"$nulls":5},{"$f":"IF(Summary_Report_CPMS!E55=\"\",\"\",SUMIFS(CMS_Detail!$J$24:$J$500,CMS_Detail!$B$24:$B$500,Summary_Report_CPMS!B55,CMS_Detail!$C$24:$C$500,Summary_Report_CPMS!C55,CMS_Detail!$D$24:$D$500,Summary_Report_CPMS!D55))","v":""},"",{"$f":"IF(Summary_Report_CPMS!$E55=\"\",\"\",SUMIFS(CMS_Detail!$J$24:$J$500,CMS_Detail!$B$24:$B$500,Summary_Report_CPMS!B55,CMS_Detail!$C$24:$C$500,Summary_Report_CPMS!C55,CMS_Detail!$D$24:$D$500,Summary_Report_CPMS!D55,CMS_Detail!$K$24:$K$500,\"Monitoring Equipment Malfunctions\"))","v":""},{"$f":"IF(Summary_Report_CPMS!$E55=\"\",\"\",SUMIFS(CMS_Detail!$J$24:$J$500,CMS_Detail!$B$24:$B$500,Summary_Report_CPMS!B55,CMS_Detail!$C$24:$C$500,Summary_Report_CPMS!C55,CMS_Detail!$D$24:$D$500,Summary_Report_CPMS!D55,CMS_Detail!$K$24:$K$500,\"Nonmonitoring Equipment Malfunctions\"))","v":""},{"$f":"IF(Summary_Report_CPMS!$E55=\"\",\"\",SUMIFS(CMS_Detail!$J$24:$J$500,CMS_Detail!$B$24:$B$500,Summary_Report_CPMS!B55,CMS_Detail!$C$24:$C$500,Summary_Report_CPMS!C55,CMS_Detail!$D$24:$D$500,Summary_Report_CPMS!D55,CMS_Detail!$K$24:$K$500,\"Quality Assurance/Quality Control Calibrations\"))","v":""},{"$f":"IF(Summary_Report_CPMS!$E55=\"\",\"\",SUMIFS(CMS_Detail!$J$24:$J$500,CMS_Detail!$B$24:$B$500,Summary_Report_CPMS!B55,CMS_Detail!$C$24:$C$500,Summary_Report_CPMS!C55,CMS_Detail!$D$24:$D$500,Summary_Report_CPMS!D55,CMS_Detail!$K$24:$K$500,\"Other Known Causes\"))","v":""},{"$f":"IF(Summary_Report_CPMS!$E55=\"\",\"\",SUMIFS(CMS_Detail!$J$24:$J$500,CMS_Detail!$B$24:$B$500,Summary_Report_CPMS!B55,CMS_Detail!$C$24:$C$500,Summary_Report_CPMS!C55,CMS_Detail!$D$24:$D$500,Summary_Report_CPMS!D55,CMS_Detail!$K$24:$K$500,\"Other Unknown Causes\"))","v":""}]
[{"$nulls":5},{"$f":"IF(Summary_Report_CPMS!E56=\"\",\"\",SUMIFS(CMS_Detail!$J$24:$J$500,CMS_Detail!$B$24:$B$500,Summary_Report_CPMS!B56,CMS_Detail!$C$24:$C$500,Summary_Report_CPMS!C56,CMS_Detail!$D$24:$D$500,Summary_Report_CPMS!D56))","v":""},"",{"$f":"IF(Summary_Report_CPMS!$E56=\"\",\"\",SUMIFS(CMS_Detail!$J$24:$J$500,CMS_Detail!$B$24:$B$500,Summary_Report_CPMS!B56,CMS_Detail!$C$24:$C$500,Summary_Report_CPMS!C56,CMS_Detail!$D$24:$D$500,Summary_Report_CPMS!D56,CMS_Detail!$K$24:$K$500,\"Monitoring Equipment Malfunctions\"))","v":""},{"$f":"IF(Summary_Report_CPMS!$E56=\"\",\"\",SUMIFS(CMS_Detail!$J$24:$J$500,CMS_Detail!$B$24:$B$500,Summary_Report_CPMS!B56,CMS_Detail!$C$24:$C$500,Summary_Report_CPMS!C56,CMS_Detail!$D$24:$D$500,Summary_Report_CPMS!D56,CMS_Detail!$K$24:$K$500,\"Nonmonitoring Equipment Malfunctions\"))","v":""},{"$f":"IF(Summary_Report_CPMS!$E56=\"\",\"\",SUMIFS(CMS_Detail!$J$24:$J$500,CMS_Detail!$B$24:$B$500,Summary_Report_CPMS!B56,CMS_Detail!$C$24:$C$500,Summary_Report_CPMS!C56,CMS_Detail!$D$24:$D$500,Summary_Report_CPMS!D56,CMS_Detail!$K$24:$K$500,\"Quality Assurance/Quality Control Calibrations\"))","v":""},{"$f":"IF(Summary_Report_CPMS!$E56=\"\",\"\",SUMIFS(CMS_Detail!$J$24:$J$500,CMS_Detail!$B$24:$B$500,Summary_Report_CPMS!B56,CMS_Detail!$C$24:$C$500,Summary_Report_CPMS!C56,CMS_Detail!$D$24:$D$500,Summary_Report_CPMS!D56,CMS_Detail!$K$24:$K$500,\"Other Known Causes\"))","v":""},{"$f":"IF(Summary_Report_CPMS!$E56=\"\",\"\",SUMIFS(CMS_Detail!$J$24:$J$500,CMS_Detail!$B$24:$B$500,Summary_Report_CPMS!B56,CMS_Detail!$C$24:$C$500,Summary_Report_CPMS!C56,CMS_Detail!$D$24:$D$500,Summary_Report_CPMS!D56,CMS_Detail!$K$24:$K$500,\"Other Unknown Causes\"))","v":""}]
[{"$nulls":5},{"$f":"IF(Summary_Report_CPMS!E57=\"\",\"\",SUMIFS(CMS_Detail!$J$24:$J$500,CMS_Detail!$B$24:$B$500,Summary_Report_CPMS!B57,CMS_Detail!$C$24:$C$500,Summary_Report_CPMS!C57,CMS_Detail!$D$24:$D$500,Summary_Report_CPMS!D57))","v":""},"",{"$f":"IF(Summary_Report_CPMS!$E57=\"\",\"\",SUMIFS(CMS_Detail!$J$24:$J$500,CMS_Detail!$B$24:$B$500,Summary_Report_CPMS!B57,CMS_Detail!$C$24:$C$500,Summary_Report_CPMS!C57,CMS_Detail!$D$24:$D$500,Summary_Report_CPMS!D57,CMS_Detail!$K$24:$K$500,\"Monitoring Equipment Malfunctions\"))","v":""},{"$f":"IF(Summary_Report_CPMS!$E57=\"\",\"\",SUMIFS(CMS_Detail!$J$24:$J$500,CMS_Detail!$B$24:$B$500,Summary_Report_CPMS!B57,CMS_Detail!$C$24:$C$500,Summary_Report_CPMS!C57,CMS_Detail!$D$24:$D$500,Summary_Report_CPMS!D57,CMS_Detail!$K$24:$K$500,\"Nonmonitoring Equipment Malfunctions\"))","v":""},{"$f":"IF(Summary_Report_CPMS!$E57=\"\",\"\",SUMIFS(CMS_Detail!$J$24:$J$500,CMS_Detail!$B$24:$B$500,Summary_Report_CPMS!B57,CMS_Detail!$C$24:$C$500,Summary_Report_CPMS!C57,CMS_Detail!$D$24:$D$500,Summary_Report_CPMS!D57,CMS_Detail!$K$24:$K$500,\"Quality Assurance/Quality Control Calibrations\"))","v":""},{"$f":"IF(Summary_Report_CPMS!$E57=\"\",\"\",SUMIFS(CMS_Detail!$J$24:$J$500,CMS_Detail!$B$24:$B$500,Summary_Report_CPMS!B57,CMS_Detail!$C$24:$C$500,Summary_Report_CPMS!C57,CMS_Detail!$D$24:$D$500,Summary_Report_CPMS!D57,CMS_Detail!$K$24:$K$500,\"Other Known Causes\"))","v":""},{"$f":"IF(Summary_Report_CPMS!$E57=\"\",\"\",SUMIFS(CMS_Detail!$J$24:$J$500,CMS_Detail!$B$24:$B$500,Summary_Report_CPMS!B57,CMS_Detail!$C$24:$C$500,Summary_Report_CPMS!C57,CMS_Detail!$D$24:$D$500,Summary_Report_CPMS!D57,CMS_Detail!$K$24:$K$500,\"Other Unknown Causes\"))","v":""}]
[{"$nulls":5},{"$f":"IF(Summary_Report_CPMS!E58=\"\",\"\",SUMIFS(CMS_Detail!$J$24:$J$500,CMS_Detail!$B$24:$B$500,Summary_Report_CPMS!B58,CMS_Detail!$C$24:$C$500,Summary_Report_CPMS!C58,CMS_Detail!$D$24:$D$500,Summary_Report_CPMS!D58))","v":""},"",{"$f":"IF(Summary_Report_CPMS!$E58=\"\",\"\",SUMIFS(CMS_Detail!$J$24:$J$500,CMS_Detail!$B$24:$B$500,Summary_Report_CPMS!B58,CMS_Detail!$C$24:$C$500,Summary_Report_CPMS!C58,CMS_Detail!$D$24:$D$500,Summary_Report_CPMS!D58,CMS_Detail!$K$24:$K$500,\"Monitoring Equipment Malfunctions\"))","v":""},{"$f":"IF(Summary_Report_CPMS!$E58=\"\",\"\",SUMIFS(CMS_Detail!$J$24:$J$500,CMS_Detail!$B$24:$B$500,Summary_Report_CPMS!B58,CMS_Detail!$C$24:$C$500,Summary_Report_CPMS!C58,CMS_Detail!$D$24:$D$500,Summary_Report_CPMS!D58,CMS_Detail!$K$24:$K$500,\"Nonmonitoring Equipment Malfunctions\"))","v":""},{"$f":"IF(Summary_Report_CPMS!$E58=\"\",\"\",SUMIFS(CMS_Detail!$J$24:$J$500,CMS_Detail!$B$24:$B$500,Summary_Report_CPMS!B58,CMS_Detail!$C$24:$C$500,Summary_Report_CPMS!C58,CMS_Detail!$D$24:$D$500,Summary_Report_CPMS!D58,CMS_Detail!$K$24:$K$500,\"Quality Assurance/Quality Control Calibrations\"))","v":""},{"$f":"IF(Summary_Report_CPMS!$E58=\"\",\"\",SUMIFS(CMS_Detail!$J$24:$J$500,CMS_Detail!$B$24:$B$500,Summary_Report_CPMS!B58,CMS_Detail!$C$24:$C$500,Summary_Report_CPMS!C58,CMS_Detail!$D$24:$D$500,Summary_Report_CPMS!D58,CMS_Detail!$K$24:$K$500,\"Other Known Causes\"))","v":""},{"$f":"IF(Summary_Report_CPMS!$E58=\"\",\"\",SUMIFS(CMS_Detail!$J$24:$J$500,CMS_Detail!$B$24:$B$500,Summary_Report_CPMS!B58,CMS_Detail!$C$24:$C$500,Summary_Report_CPMS!C58,CMS_Detail!$D$24:$D$500,Summary_Report_CPMS!D58,CMS_Detail!$K$24:$K$500,\"Other Unknown Causes\"))","v":""}]
[{"$nulls":5},{"$f":"IF(Summary_Report_CPMS!E59=\"\",\"\",SUMIFS(CMS_Detail!$J$24:$J$500,CMS_Detail!$B$24:$B$500,Summary_Report_CPMS!B59,CMS_Detail!$C$24:$C$500,Summary_Report_CPMS!C59,CMS_Detail!$D$24:$D$500,Summary_Report_CPMS!D59))","v":""},"",{"$f":"IF(Summary_Report_CPMS!$E59=\"\",\"\",SUMIFS(CMS_Detail!$J$24:$J$500,CMS_Detail!$B$24:$B$500,Summary_Report_CPMS!B59,CMS_Detail!$C$24:$C$500,Summary_Report_CPMS!C59,CMS_Detail!$D$24:$D$500,Summary_Report_CPMS!D59,CMS_Detail!$K$24:$K$500,\"Monitoring Equipment Malfunctions\"))","v":""},{"$f":"IF(Summary_Report_CPMS!$E59=\"\",\"\",SUMIFS(CMS_Detail!$J$24:$J$500,CMS_Detail!$B$24:$B$500,Summary_Report_CPMS!B59,CMS_Detail!$C$24:$C$500,Summary_Report_CPMS!C59,CMS_Detail!$D$24:$D$500,Summary_Report_CPMS!D59,CMS_Detail!$K$24:$K$500,\"Nonmonitoring Equipment Malfunctions\"))","v":""},{"$f":"IF(Summary_Report_CPMS!$E59=\"\",\"\",SUMIFS(CMS_Detail!$J$24:$J$500,CMS_Detail!$B$24:$B$500,Summary_Report_CPMS!B59,CMS_Detail!$C$24:$C$500,Summary_Report_CPMS!C59,CMS_Detail!$D$24:$D$500,Summary_Report_CPMS!D59,CMS_Detail!$K$24:$K$500,\"Quality Assurance/Quality Control Calibrations\"))","v":""},{"$f":"IF(Summary_Report_CPMS!$E59=\"\",\"\",SUMIFS(CMS_Detail!$J$24:$J$500,CMS_Detail!$B$24:$B$500,Summary_Report_CPMS!B59,CMS_Detail!$C$24:$C$500,Summary_Report_CPMS!C59,CMS_Detail!$D$24:$D$500,Summary_Report_CPMS!D59,CMS_Detail!$K$24:$K$500,\"Other Known Causes\"))","v":""},{"$f":"IF(Summary_Report_CPMS!$E59=\"\",\"\",SUMIFS(CMS_Detail!$J$24:$J$500,CMS_Detail!$B$24:$B$500,Summary_Report_CPMS!B59,CMS_Detail!$C$24:$C$500,Summary_Report_CPMS!C59,CMS_Detail!$D$24:$D$500,Summary_Report_CPMS!D59,CMS_Detail!$K$24:$K$500,\"Other Unknown Causes\"))","v":""}]
[{"$nulls":5},{"$f":"IF(Summary_Report_CPMS!E60=\"\",\"\",SUMIFS(CMS_Detail!$J$24:$J$500,CMS_Detail!$B$24:$B$500,Summary_Report_CPMS!B60,CMS_Detail!$C$24:$C$500,Summary_Report_CPMS!C60,CMS_Detail!$D$24:$D$500,Summary_Report_CPMS!D60))","v":""},"",{"$f":"IF(Summary_Report_CPMS!$E60=\"\",\"\",SUMIFS(CMS_Detail!$J$24:$J$500,CMS_Detail!$B$24:$B$500,Summary_Report_CPMS!B60,CMS_Detail!$C$24:$C$500,Summary_Report_CPMS!C60,CMS_Detail!$D$24:$D$500,Summary_Report_CPMS!D60,CMS_Detail!$K$24:$K$500,\"Monitoring Equipment Malfunctions\"))","v":""},{"$f":"IF(Summary_Report_CPMS!$E60=\"\",\"\",SUMIFS(CMS_Detail!$J$24:$J$500,CMS_Detail!$B$24:$B$500,Summary_Report_CPMS!B60,CMS_Detail!$C$24:$C$500,Summary_Report_CPMS!C60,CMS_Detail!$D$24:$D$500,Summary_Report_CPMS!D60,CMS_Detail!$K$24:$K$500,\"Nonmonitoring Equipment Malfunctions\"))","v":""},{"$f":"IF(Summary_Report_CPMS!$E60=\"\",\"\",SUMIFS(CMS_Detail!$J$24:$J$500,CMS_Detail!$B$24:$B$500,Summary_Report_CPMS!B60,CMS_Detail!$C$24:$C$500,Summary_Report_CPMS!C60,CMS_Detail!$D$24:$D$500,Summary_Report_CPMS!D60,CMS_Detail!$K$24:$K$500,\"Quality Assurance/Quality Control Calibrations\"))","v":""},{"$f":"IF(Summary_Report_CPMS!$E60=\"\",\"\",SUMIFS(CMS_Detail!$J$24:$J$500,CMS_Detail!$B$24:$B$500,Summary_Report_CPMS!B60,CMS_Detail!$C$24:$C$500,Summary_Report_CPMS!C60,CMS_Detail!$D$24:$D$500,Summary_Report_CPMS!D60,CMS_Detail!$K$24:$K$500,\"Other Known Causes\"))","v":""},{"$f":"IF(Summary_Report_CPMS!$E60=\"\",\"\",SUMIFS(CMS_Detail!$J$24:$J$500,CMS_Detail!$B$24:$B$500,Summary_Report_CPMS!B60,CMS_Detail!$C$24:$C$500,Summary_Report_CPMS!C60,CMS_Detail!$D$24:$D$500,Summary_Report_CPMS!D60,CMS_Detail!$K$24:$K$500,\"Other Unknown Causes\"))","v":""}]
[{"$nulls":5},{"$f":"IF(Summary_Report_CPMS!E61=\"\",\"\",SUMIFS(CMS_Detail!$J$24:$J$500,CMS_Detail!$B$24:$B$500,Summary_Report_CPMS!B61,CMS_Detail!$C$24:$C$500,Summary_Report_CPMS!C61,CMS_Detail!$D$24:$D$500,Summary_Report_CPMS!D61))","v":""},"",{"$f":"IF(Summary_Report_CPMS!$E61=\"\",\"\",SUMIFS(CMS_Detail!$J$24:$J$500,CMS_Detail!$B$24:$B$500,Summary_Report_CPMS!B61,CMS_Detail!$C$24:$C$500,Summary_Report_CPMS!C61,CMS_Detail!$D$24:$D$500,Summary_Report_CPMS!D61,CMS_Detail!$K$24:$K$500,\"Monitoring Equipment Malfunctions\"))","v":""},{"$f":"IF(Summary_Report_CPMS!$E61=\"\",\"\",SUMIFS(CMS_Detail!$J$24:$J$500,CMS_Detail!$B$24:$B$500,Summary_Report_CPMS!B61,CMS_Detail!$C$24:$C$500,Summary_Report_CPMS!C61,CMS_Detail!$D$24:$D$500,Summary_Report_CPMS!D61,CMS_Detail!$K$24:$K$500,\"Nonmonitoring Equipment Malfunctions\"))","v":""},{"$f":"IF(Summary_Report_CPMS!$E61=\"\",\"\",SUMIFS(CMS_Detail!$J$24:$J$500,CMS_Detail!$B$24:$B$500,Summary_Report_CPMS!B61,CMS_Detail!$C$24:$C$500,Summary_Report_CPMS!C61,CMS_Detail!$D$24:$D$500,Summary_Report_CPMS!D61,CMS_Detail!$K$24:$K$500,\"Quality Assurance/Quality Control Calibrations\"))","v":""},{"$f":"IF(Summary_Report_CPMS!$E61=\"\",\"\",SUMIFS(CMS_Detail!$J$24:$J$500,CMS_Detail!$B$24:$B$500,Summary_Report_CPMS!B61,CMS_Detail!$C$24:$C$500,Summary_Report_CPMS!C61,CMS_Detail!$D$24:$D$500,Summary_Report_CPMS!D61,CMS_Detail!$K$24:$K$500,\"Other Known Causes\"))","v":""},{"$f":"IF(Summary_Report_CPMS!$E61=\"\",\"\",SUMIFS(CMS_Detail!$J$24:$J$500,CMS_Detail!$B$24:$B$500,Summary_Report_CPMS!B61,CMS_Detail!$C$24:$C$500,Summary_Report_CPMS!C61,CMS_Detail!$D$24:$D$500,Summary_Report_CPMS!D61,CMS_Detail!$K$24:$K$500,\"Other Unknown Causes\"))","v":""}]
[{"$nulls":5},{"$f":"IF(Summary_Report_CPMS!E62=\"\",\"\",SUMIFS(CMS_Detail!$J$24:$J$500,CMS_Detail!$B$24:$B$500,Summary_Report_CPMS!B62,CMS_Detail!$C$24:$C$500,Summary_Report_CPMS!C62,CMS_Detail!$D$24:$D$500,Summary_Report_CPMS!D62))","v":""},"",{"$f":"IF(Summary_Report_CPMS!$E62=\"\",\"\",SUMIFS(CMS_Detail!$J$24:$J$500,CMS_Detail!$B$24:$B$500,Summary_Report_CPMS!B62,CMS_Detail!$C$24:$C$500,Summary_Report_CPMS!C62,CMS_Detail!$D$24:$D$500,Summary_Report_CPMS!D62,CMS_Detail!$K$24:$K$500,\"Monitoring Equipment Malfunctions\"))","v":""},{"$f":"IF(Summary_Report_CPMS!$E62=\"\",\"\",SUMIFS(CMS_Detail!$J$24:$J$500,CMS_Detail!$B$24:$B$500,Summary_Report_CPMS!B62,CMS_Detail!$C$24:$C$500,Summary_Report_CPMS!C62,CMS_Detail!$D$24:$D$500,Summary_Report_CPMS!D62,CMS_Detail!$K$24:$K$500,\"Nonmonitoring Equipment Malfunctions\"))","v":""},{"$f":"IF(Summary_Report_CPMS!$E62=\"\",\"\",SUMIFS(CMS_Detail!$J$24:$J$500,CMS_Detail!$B$24:$B$500,Summary_Report_CPMS!B62,CMS_Detail!$C$24:$C$500,Summary_Report_CPMS!C62,CMS_Detail!$D$24:$D$500,Summary_Report_CPMS!D62,CMS_Detail!$K$24:$K$500,\"Quality Assurance/Quality Control Calibrations\"))","v":""},{"$f":"IF(Summary_Report_CPMS!$E62=\"\",\"\",SUMIFS(CMS_Detail!$J$24:$J$500,CMS_Detail!$B$24:$B$500,Summary_Report_CPMS!B62,CMS_Detail!$C$24:$C$500,Summary_Report_CPMS!C62,CMS_Detail!$D$24:$D$500,Summary_Report_CPMS!D62,CMS_Detail!$K$24:$K$500,\"Other Known Causes\"))","v":""},{"$f":"IF(Summary_Report_CPMS!$E62=\"\",\"\",SUMIFS(CMS_Detail!$J$24:$J$500,CMS_Detail!$B$24:$B$500,Summary_Report_CPMS!B62,CMS_Detail!$C$24:$C$500,Summary_Report_CPMS!C62,CMS_Detail!$D$24:$D$500,Summary_Report_CPMS!D62,CMS_Detail!$K$24:$K$500,\"Other Unknown Causes\"))","v":""}]
[{"$nulls":5},{"$f":"IF(Summary_Report_CPMS!E63=\"\",\"\",SUMIFS(CMS_Detail!$J$24:$J$500,CMS_Detail!$B$24:$B$500,Summary_Report_CPMS!B63,CMS_Detail!$C$24:$C$500,Summary_Report_CPMS!C63,CMS_Detail!$D$24:$D$500,Summary_Report_CPMS!D63))","v":""},"",{"$f":"IF(Summary_Report_CPMS!$E63=\"\",\"\",SUMIFS(CMS_Detail!$J$24:$J$500,CMS_Detail!$B$24:$B$500,Summary_Report_CPMS!B63,CMS_Detail!$C$24:$C$500,Summary_Report_CPMS!C63,CMS_Detail!$D$24:$D$500,Summary_Report_CPMS!D63,CMS_Detail!$K$24:$K$500,\"Monitoring Equipment Malfunctions\"))","v":""},{"$f":"IF(Summary_Report_CPMS!$E63=\"\",\"\",SUMIFS(CMS_Detail!$J$24:$J$500,CMS_Detail!$B$24:$B$500,Summary_Report_CPMS!B63,CMS_Detail!$C$24:$C$500,Summary_Report_CPMS!C63,CMS_Detail!$D$24:$D$500,Summary_Report_CPMS!D63,CMS_Detail!$K$24:$K$500,\"Nonmonitoring Equipment Malfunctions\"))","v":""},{"$f":"IF(Summary_Report_CPMS!$E63=\"\",\"\",SUMIFS(CMS_Detail!$J$24:$J$500,CMS_Detail!$B$24:$B$500,Summary_Report_CPMS!B63,CMS_Detail!$C$24:$C$500,Summary_Report_CPMS!C63,CMS_Detail!$D$24:$D$500,Summary_Report_CPMS!D63,CMS_Detail!$K$24:$K$500,\"Quality Assurance/Quality Control Calibrations\"))","v":""},{"$f":"IF(Summary_Report_CPMS!$E63=\"\",\"\",SUMIFS(CMS_Detail!$J$24:$J$500,CMS_Detail!$B$24:$B$500,Summary_Report_CPMS!B63,CMS_Detail!$C$24:$C$500,Summary_Report_CPMS!C63,CMS_Detail!$D$24:$D$500,Summary_Report_CPMS!D63,CMS_Detail!$K$24:$K$500,\"Other Known Causes\"))","v":""},{"$f":"IF(Summary_Report_CPMS!$E63=\"\",\"\",SUMIFS(CMS_Detail!$J$24:$J$500,CMS_Detail!$B$24:$B$500,Summary_Report_CPMS!B63,CMS_Detail!$C$24:$C$500,Summary_Report_CPMS!C63,CMS_Detail!$D$24:$D$500,Summary_Report_CPMS!D63,CMS_Detail!$K$24:$K$500,\"Other Unknown Causes\"))","v":""}]
[{"$nulls":5},{"$f":"IF(Summary_Report_CPMS!E64=\"\",\"\",SUMIFS(CMS_Detail!$J$24:$J$500,CMS_Detail!$B$24:$B$500,Summary_Report_CPMS!B64,CMS_Detail!$C$24:$C$500,Summary_Report_CPMS!C64,CMS_Detail!$D$24:$D$500,Summary_Report_CPMS!D64))","v":""},"",{"$f":"IF(Summary_Report_CPMS!$E64=\"\",\"\",SUMIFS(CMS_Detail!$J$24:$J$500,CMS_Detail!$B$24:$B$500,Summary_Report_CPMS!B64,CMS_Detail!$C$24:$C$500,Summary_Report_CPMS!C64,CMS_Detail!$D$24:$D$500,Summary_Report_CPMS!D64,CMS_Detail!$K$24:$K$500,\"Monitoring Equipment Malfunctions\"))","v":""},{"$f":"IF(Summary_Report_CPMS!$E64=\"\",\"\",SUMIFS(CMS_Detail!$J$24:$J$500,CMS_Detail!$B$24:$B$500,Summary_Report_CPMS!B64,CMS_Detail!$C$24:$C$500,Summary_Report_CPMS!C64,CMS_Detail!$D$24:$D$500,Summary_Report_CPMS!D64,CMS_Detail!$K$24:$K$500,\"Nonmonitoring Equipment Malfunctions\"))","v":""},{"$f":"IF(Summary_Report_CPMS!$E64=\"\",\"\",SUMIFS(CMS_Detail!$J$24:$J$500,CMS_Detail!$B$24:$B$500,Summary_Report_CPMS!B64,CMS_Detail!$C$24:$C$500,Summary_Report_CPMS!C64,CMS_Detail!$D$24:$D$500,Summary_Report_CPMS!D64,CMS_Detail!$K$24:$K$500,\"Quality Assurance/Quality Control Calibrations\"))","v":""},{"$f":"IF(Summary_Report_CPMS!$E64=\"\",\"\",SUMIFS(CMS_Detail!$J$24:$J$500,CMS_Detail!$B$24:$B$500,Summary_Report_CPMS!B64,CMS_Detail!$C$24:$C$500,Summary_Report_CPMS!C64,CMS_Detail!$D$24:$D$500,Summary_Report_CPMS!D64,CMS_Detail!$K$24:$K$500,\"Other Known Causes\"))","v":""},{"$f":"IF(Summary_Report_CPMS!$E64=\"\",\"\",SUMIFS(CMS_Detail!$J$24:$J$500,CMS_Detail!$B$24:$B$500,Summary_Report_CPMS!B64,CMS_Detail!$C$24:$C$500,Summary_Report_CPMS!C64,CMS_Detail!$D$24:$D$500,Summary_Report_CPMS!D64,CMS_Detail!$K$24:$K$500,\"Other Unknown Causes\"))","v":""}]
[{"$nulls":5},{"$f":"IF(Summary_Report_CPMS!E65=\"\",\"\",SUMIFS(CMS_Detail!$J$24:$J$500,CMS_Detail!$B$24:$B$500,Summary_Report_CPMS!B65,CMS_Detail!$C$24:$C$500,Summary_Report_CPMS!C65,CMS_Detail!$D$24:$D$500,Summary_Report_CPMS!D65))","v":""},"",{"$f":"IF(Summary_Report_CPMS!$E65=\"\",\"\",SUMIFS(CMS_Detail!$J$24:$J$500,CMS_Detail!$B$24:$B$500,Summary_Report_CPMS!B65,CMS_Detail!$C$24:$C$500,Summary_Report_CPMS!C65,CMS_Detail!$D$24:$D$500,Summary_Report_CPMS!D65,CMS_Detail!$K$24:$K$500,\"Monitoring Equipment Malfunctions\"))","v":""},{"$f":"IF(Summary_Report_CPMS!$E65=\"\",\"\",SUMIFS(CMS_Detail!$J$24:$J$500,CMS_Detail!$B$24:$B$500,Summary_Report_CPMS!B65,CMS_Detail!$C$24:$C$500,Summary_Report_CPMS!C65,CMS_Detail!$D$24:$D$500,Summary_Report_CPMS!D65,CMS_Detail!$K$24:$K$500,\"Nonmonitoring Equipment Malfunctions\"))","v":""},{"$f":"IF(Summary_Report_CPMS!$E65=\"\",\"\",SUMIFS(CMS_Detail!$J$24:$J$500,CMS_Detail!$B$24:$B$500,Summary_Report_CPMS!B65,CMS_Detail!$C$24:$C$500,Summary_Report_CPMS!C65,CMS_Detail!$D$24:$D$500,Summary_Report_CPMS!D65,CMS_Detail!$K$24:$K$500,\"Quality Assurance/Quality Control Calibrations\"))","v":""},{"$f":"IF(Summary_Report_CPMS!$E65=\"\",\"\",SUMIFS(CMS_Detail!$J$24:$J$500,CMS_Detail!$B$24:$B$500,Summary_Report_CPMS!B65,CMS_Detail!$C$24:$C$500,Summary_Report_CPMS!C65,CMS_Detail!$D$24:$D$500,Summary_Report_CPMS!D65,CMS_Detail!$K$24:$K$500,\"Other Known Causes\"))","v":""},{"$f":"IF(Summary_Report_CPMS!$E65=\"\",\"\",SUMIFS(CMS_Detail!$J$24:$J$500,CMS_Detail!$B$24:$B$500,Summary_Report_CPMS!B65,CMS_Detail!$C$24:$C$500,Summary_Report_CPMS!C65,CMS_Detail!$D$24:$D$500,Summary_Report_CPMS!D65,CMS_Detail!$K$24:$K$500,\"Other Unknown Causes\"))","v":""}]
[{"$nulls":5},{"$f":"IF(Summary_Report_CPMS!E66=\"\",\"\",SUMIFS(CMS_Detail!$J$24:$J$500,CMS_Detail!$B$24:$B$500,Summary_Report_CPMS!B66,CMS_Detail!$C$24:$C$500,Summary_Report_CPMS!C66,CMS_Detail!$D$24:$D$500,Summary_Report_CPMS!D66))","v":""},"",{"$f":"IF(Summary_Report_CPMS!$E66=\"\",\"\",SUMIFS(CMS_Detail!$J$24:$J$500,CMS_Detail!$B$24:$B$500,Summary_Report_CPMS!B66,CMS_Detail!$C$24:$C$500,Summary_Report_CPMS!C66,CMS_Detail!$D$24:$D$500,Summary_Report_CPMS!D66,CMS_Detail!$K$24:$K$500,\"Monitoring Equipment Malfunctions\"))","v":""},{"$f":"IF(Summary_Report_CPMS!$E66=\"\",\"\",SUMIFS(CMS_Detail!$J$24:$J$500,CMS_Detail!$B$24:$B$500,Summary_Report_CPMS!B66,CMS_Detail!$C$24:$C$500,Summary_Report_CPMS!C66,CMS_Detail!$D$24:$D$500,Summary_Report_CPMS!D66,CMS_Detail!$K$24:$K$500,\"Nonmonitoring Equipment Malfunctions\"))","v":""},{"$f":"IF(Summary_Report_CPMS!$E66=\"\",\"\",SUMIFS(CMS_Detail!$J$24:$J$500,CMS_Detail!$B$24:$B$500,Summary_Report_CPMS!B66,CMS_Detail!$C$24:$C$500,Summary_Report_CPMS!C66,CMS_Detail!$D$24:$D$500,Summary_Report_CPMS!D66,CMS_Detail!$K$24:$K$500,\"Quality Assurance/Quality Control Calibrations\"))","v":""},{"$f":"IF(Summary_Report_CPMS!$E66=\"\",\"\",SUMIFS(CMS_Detail!$J$24:$J$500,CMS_Detail!$B$24:$B$500,Summary_Report_CPMS!B66,CMS_Detail!$C$24:$C$500,Summary_Report_CPMS!C66,CMS_Detail!$D$24:$D$500,Summary_Report_CPMS!D66,CMS_Detail!$K$24:$K$500,\"Other Known Causes\"))","v":""},{"$f":"IF(Summary_Report_CPMS!$E66=\"\",\"\",SUMIFS(CMS_Detail!$J$24:$J$500,CMS_Detail!$B$24:$B$500,Summary_Report_CPMS!B66,CMS_Detail!$C$24:$C$500,Summary_Report_CPMS!C66,CMS_Detail!$D$24:$D$500,Summary_Report_CPMS!D66,CMS_Detail!$K$24:$K$500,\"Other Unknown Causes\"))","v":""}]
[{"$nulls":5},{"$f":"IF(Summary_Report_CPMS!E67=\"\",\"\",SUMIFS(CMS_Detail!$J$24:$J$500,CMS_Detail!$B$24:$B$500,Summary_Report_CPMS!B67,CMS_Detail!$C$24:$C$500,Summary_Report_CPMS!C67,CMS_Detail!$D$24:$D$500,Summary_Report_CPMS!D67))","v":""},"",{"$f":"IF(Summary_Report_CPMS!$E67=\"\",\"\",SUMIFS(CMS_Detail!$J$24:$J$500,CMS_Detail!$B$24:$B$500,Summary_Report_CPMS!B67,CMS_Detail!$C$24:$C$500,Summary_Report_CPMS!C67,CMS_Detail!$D$24:$D$500,Summary_Report_CPMS!D67,CMS_Detail!$K$24:$K$500,\"Monitoring Equipment Malfunctions\"))","v":""},{"$f":"IF(Summary_Report_CPMS!$E67=\"\",\"\",SUMIFS(CMS_Detail!$J$24:$J$500,CMS_Detail!$B$24:$B$500,Summary_Report_CPMS!B67,CMS_Detail!$C$24:$C$500,Summary_Report_CPMS!C67,CMS_Detail!$D$24:$D$500,Summary_Report_CPMS!D67,CMS_Detail!$K$24:$K$500,\"Nonmonitoring Equipment Malfunctions\"))","v":""},{"$f":"IF(Summary_Report_CPMS!$E67=\"\",\"\",SUMIFS(CMS_Detail!$J$24:$J$500,CMS_Detail!$B$24:$B$500,Summary_Report_CPMS!B67,CMS_Detail!$C$24:$C$500,Summary_Report_CPMS!C67,CMS_Detail!$D$24:$D$500,Summary_Report_CPMS!D67,CMS_Detail!$K$24:$K$500,\"Quality Assurance/Quality Control Calibrations\"))","v":""},{"$f":"IF(Summary_Report_CPMS!$E67=\"\",\"\",SUMIFS(CMS_Detail!$J$24:$J$500,CMS_Detail!$B$24:$B$500,Summary_Report_CPMS!B67,CMS_Detail!$C$24:$C$500,Summary_Report_CPMS!C67,CMS_Detail!$D$24:$D$500,Summary_Report_CPMS!D67,CMS_Detail!$K$24:$K$500,\"Other Known Causes\"))","v":""},{"$f":"IF(Summary_Report_CPMS!$E67=\"\",\"\",SUMIFS(CMS_Detail!$J$24:$J$500,CMS_Detail!$B$24:$B$500,Summary_Report_CPMS!B67,CMS_Detail!$C$24:$C$500,Summary_Report_CPMS!C67,CMS_Detail!$D$24:$D$500,Summary_Report_CPMS!D67,CMS_Detail!$K$24:$K$500,\"Other Unknown Causes\"))","v":""}]
[{"$nulls":5},{"$f":"IF(Summary_Report_CPMS!E68=\"\",\"\",SUMIFS(CMS_Detail!$J$24:$J$500,CMS_Detail!$B$24:$B$500,Summary_Report_CPMS!B68,CMS_Detail!$C$24:$C$500,Summary_Report_CPMS!C68,CMS_Detail!$D$24:$D$500,Summary_Report_CPMS!D68))","v":""},"",{"$f":"IF(Summary_Report_CPMS!$E68=\"\",\"\",SUMIFS(CMS_Detail!$J$24:$J$500,CMS_Detail!$B$24:$B$500,Summary_Report_CPMS!B68,CMS_Detail!$C$24:$C$500,Summary_Report_CPMS!C68,CMS_Detail!$D$24:$D$500,Summary_Report_CPMS!D68,CMS_Detail!$K$24:$K$500,\"Monitoring Equipment Malfunctions\"))","v":""},{"$f":"IF(Summary_Report_CPMS!$E68=\"\",\"\",SUMIFS(CMS_Detail!$J$24:$J$500,CMS_Detail!$B$24:$B$500,Summary_Report_CPMS!B68,CMS_Detail!$C$24:$C$500,Summary_Report_CPMS!C68,CMS_Detail!$D$24:$D$500,Summary_Report_CPMS!D68,CMS_Detail!$K$24:$K$500,\"Nonmonitoring Equipment Malfunctions\"))","v":""},{"$f":"IF(Summary_Report_CPMS!$E68=\"\",\"\",SUMIFS(CMS_Detail!$J$24:$J$500,CMS_Detail!$B$24:$B$500,Summary_Report_CPMS!B68,CMS_Detail!$C$24:$C$500,Summary_Report_CPMS!C68,CMS_Detail!$D$24:$D$500,Summary_Report_CPMS!D68,CMS_Detail!$K$24:$K$500,\"Quality Assurance/Quality Control Calibrations\"))","v":""},{"$f":"IF(Summary_Report_CPMS!$E68=\"\",\"\",SUMIFS(CMS_Detail!$J$24:$J$500,CMS_Detail!$B$24:$B$500,Summary_Report_CPMS!B68,CMS_Detail!$C$24:$C$500,Summary_Report_CPMS!C68,CMS_Detail!$D$24:$D$500,Summary_Report_CPMS!D68,CMS_Detail!$K$24:$K$500,\"Other Known Causes\"))","v":""},{"$f":"IF(Summary_Report_CPMS!$E68=\"\",\"\",SUMIFS(CMS_Detail!$J$24:$J$500,CMS_Detail!$B$24:$B$500,Summary_Report_CPMS!B68,CMS_Detail!$C$24:$C$500,Summary_Report_CPMS!C68,CMS_Detail!$D$24:$D$500,Summary_Report_CPMS!D68,CMS_Detail!$K$24:$K$500,\"Other Unknown Causes\"))","v":""}]
[{"$nulls":5},{"$f":"IF(Summary_Report_CPMS!E69=\"\",\"\",SUMIFS(CMS_Detail!$J$24:$J$500,CMS_Detail!$B$24:$B$500,Summary_Report_CPMS!B69,CMS_Detail!$C$24:$C$500,Summary_Report_CPMS!C69,CMS_Detail!$D$24:$D$500,Summary_Report_CPMS!D69))","v":""},"",{"$f":"IF(Summary_Report_CPMS!$E69=\"\",\"\",SUMIFS(CMS_Detail!$J$24:$J$500,CMS_Detail!$B$24:$B$500,Summary_Report_CPMS!B69,CMS_Detail!$C$24:$C$500,Summary_Report_CPMS!C69,CMS_Detail!$D$24:$D$500,Summary_Report_CPMS!D69,CMS_Detail!$K$24:$K$500,\"Monitoring Equipment Malfunctions\"))","v":""},{"$f":"IF(Summary_Report_CPMS!$E69=\"\",\"\",SUMIFS(CMS_Detail!$J$24:$J$500,CMS_Detail!$B$24:$B$500,Summary_Report_CPMS!B69,CMS_Detail!$C$24:$C$500,Summary_Report_CPMS!C69,CMS_Detail!$D$24:$D$500,Summary_Report_CPMS!D69,CMS_Detail!$K$24:$K$500,\"Nonmonitoring Equipment Malfunctions\"))","v":""},{"$f":"IF(Summary_Report_CPMS!$E69=\"\",\"\",SUMIFS(CMS_Detail!$J$24:$J$500,CMS_Detail!$B$24:$B$500,Summary_Report_CPMS!B69,CMS_Detail!$C$24:$C$500,Summary_Report_CPMS!C69,CMS_Detail!$D$24:$D$500,Summary_Report_CPMS!D69,CMS_Detail!$K$24:$K$500,\"Quality Assurance/Quality Control Calibrations\"))","v":""},{"$f":"IF(Summary_Report_CPMS!$E69=\"\",\"\",SUMIFS(CMS_Detail!$J$24:$J$500,CMS_Detail!$B$24:$B$500,Summary_Report_CPMS!B69,CMS_Detail!$C$24:$C$500,Summary_Report_CPMS!C69,CMS_Detail!$D$24:$D$500,Summary_Report_CPMS!D69,CMS_Detail!$K$24:$K$500,\"Other Known Causes\"))","v":""},{"$f":"IF(Summary_Report_CPMS!$E69=\"\",\"\",SUMIFS(CMS_Detail!$J$24:$J$500,CMS_Detail!$B$24:$B$500,Summary_Report_CPMS!B69,CMS_Detail!$C$24:$C$500,Summary_Report_CPMS!C69,CMS_Detail!$D$24:$D$500,Summary_Report_CPMS!D69,CMS_Detail!$K$24:$K$500,\"Other Unknown Causes\"))","v":""}]
[{"$nulls":5},{"$f":"IF(Summary_Report_CPMS!E70=\"\",\"\",SUMIFS(CMS_Detail!$J$24:$J$500,CMS_Detail!$B$24:$B$500,Summary_Report_CPMS!B70,CMS_Detail!$C$24:$C$500,Summary_Report_CPMS!C70,CMS_Detail!$D$24:$D$500,Summary_Report_CPMS!D70))","v":""},"",{"$f":"IF(Summary_Report_CPMS!$E70=\"\",\"\",SUMIFS(CMS_Detail!$J$24:$J$500,CMS_Detail!$B$24:$B$500,Summary_Report_CPMS!B70,CMS_Detail!$C$24:$C$500,Summary_Report_CPMS!C70,CMS_Detail!$D$24:$D$500,Summary_Report_CPMS!D70,CMS_Detail!$K$24:$K$500,\"Monitoring Equipment Malfunctions\"))","v":""},{"$f":"IF(Summary_Report_CPMS!$E70=\"\",\"\",SUMIFS(CMS_Detail!$J$24:$J$500,CMS_Detail!$B$24:$B$500,Summary_Report_CPMS!B70,CMS_Detail!$C$24:$C$500,Summary_Report_CPMS!C70,CMS_Detail!$D$24:$D$500,Summary_Report_CPMS!D70,CMS_Detail!$K$24:$K$500,\"Nonmonitoring Equipment Malfunctions\"))","v":""},{"$f":"IF(Summary_Report_CPMS!$E70=\"\",\"\",SUMIFS(CMS_Detail!$J$24:$J$500,CMS_Detail!$B$24:$B$500,Summary_Report_CPMS!B70,CMS_Detail!$C$24:$C$500,Summary_Report_CPMS!C70,CMS_Detail!$D$24:$D$500,Summary_Report_CPMS!D70,CMS_Detail!$K$24:$K$500,\"Quality Assurance/Quality Control Calibrations\"))","v":""},{"$f":"IF(Summary_Report_CPMS!$E70=\"\",\"\",SUMIFS(CMS_Detail!$J$24:$J$500,CMS_Detail!$B$24:$B$500,Summary_Report_CPMS!B70,CMS_Detail!$C$24:$C$500,Summary_Report_CPMS!C70,CMS_Detail!$D$24:$D$500,Summary_Report_CPMS!D70,CMS_Detail!$K$24:$K$500,\"Other Known Causes\"))","v":""},{"$f":"IF(Summary_Report_CPMS!$E70=\"\",\"\",SUMIFS(CMS_Detail!$J$24:$J$500,CMS_Detail!$B$24:$B$500,Summary_Report_CPMS!B70,CMS_Detail!$C$24:$C$500,Summary_Report_CPMS!C70,CMS_Detail!$D$24:$D$500,Summary_Report_CPMS!D70,CMS_Detail!$K$24:$K$500,\"Other Unknown Causes\"))","v":""}]
[{"$nulls":5},{"$f":"IF(Summary_Report_CPMS!E71=\"\",\"\",SUMIFS(CMS_Detail!$J$24:$J$500,CMS_Detail!$B$24:$B$500,Summary_Report_CPMS!B71,CMS_Detail!$C$24:$C$500,Summary_Report_CPMS!C71,CMS_Detail!$D$24:$D$500,Summary_Report_CPMS!D71))","v":""},"",{"$f":"IF(Summary_Report_CPMS!$E71=\"\",\"\",SUMIFS(CMS_Detail!$J$24:$J$500,CMS_Detail!$B$24:$B$500,Summary_Report_CPMS!B71,CMS_Detail!$C$24:$C$500,Summary_Report_CPMS!C71,CMS_Detail!$D$24:$D$500,Summary_Report_CPMS!D71,CMS_Detail!$K$24:$K$500,\"Monitoring Equipment Malfunctions\"))","v":""},{"$f":"IF(Summary_Report_CPMS!$E71=\"\",\"\",SUMIFS(CMS_Detail!$J$24:$J$500,CMS_Detail!$B$24:$B$500,Summary_Report_CPMS!B71,CMS_Detail!$C$24:$C$500,Summary_Report_CPMS!C71,CMS_Detail!$D$24:$D$500,Summary_Report_CPMS!D71,CMS_Detail!$K$24:$K$500,\"Nonmonitoring Equipment Malfunctions\"))","v":""},{"$f":"IF(Summary_Report_CPMS!$E71=\"\",\"\",SUMIFS(CMS_Detail!$J$24:$J$500,CMS_Detail!$B$24:$B$500,Summary_Report_CPMS!B71,CMS_Detail!$C$24:$C$500,Summary_Report_CPMS!C71,CMS_Detail!$D$24:$D$500,Summary_Report_CPMS!D71,CMS_Detail!$K$24:$K$500,\"Quality Assurance/Quality Control Calibrations\"))","v":""},{"$f":"IF(Summary_Report_CPMS!$E71=\"\",\"\",SUMIFS(CMS_Detail!$J$24:$J$500,CMS_Detail!$B$24:$B$500,Summary_Report_CPMS!B71,CMS_Detail!$C$24:$C$500,Summary_Report_CPMS!C71,CMS_Detail!$D$24:$D$500,Summary_Report_CPMS!D71,CMS_Detail!$K$24:$K$500,\"Other Known Causes\"))","v":""},{"$f":"IF(Summary_Report_CPMS!$E71=\"\",\"\",SUMIFS(CMS_Detail!$J$24:$J$500,CMS_Detail!$B$24:$B$500,Summary_Report_CPMS!B71,CMS_Detail!$C$24:$C$500,Summary_Report_CPMS!C71,CMS_Detail!$D$24:$D$500,Summary_Report_CPMS!D71,CMS_Detail!$K$24:$K$500,\"Other Unknown Causes\"))","v":""}]
[{"$nulls":5},{"$f":"IF(Summary_Report_CPMS!E72=\"\",\"\",SUMIFS(CMS_Detail!$J$24:$J$500,CMS_Detail!$B$24:$B$500,Summary_Report_CPMS!B72,CMS_Detail!$C$24:$C$500,Summary_Report_CPMS!C72,CMS_Detail!$D$24:$D$500,Summary_Report_CPMS!D72))","v":""},"",{"$f":"IF(Summary_Report_CPMS!$E72=\"\",\"\",SUMIFS(CMS_Detail!$J$24:$J$500,CMS_Detail!$B$24:$B$500,Summary_Report_CPMS!B72,CMS_Detail!$C$24:$C$500,Summary_Report_CPMS!C72,CMS_Detail!$D$24:$D$500,Summary_Report_CPMS!D72,CMS_Detail!$K$24:$K$500,\"Monitoring Equipment Malfunctions\"))","v":""},{"$f":"IF(Summary_Report_CPMS!$E72=\"\",\"\",SUMIFS(CMS_Detail!$J$24:$J$500,CMS_Detail!$B$24:$B$500,Summary_Report_CPMS!B72,CMS_Detail!$C$24:$C$500,Summary_Report_CPMS!C72,CMS_Detail!$D$24:$D$500,Summary_Report_CPMS!D72,CMS_Detail!$K$24:$K$500,\"Nonmonitoring Equipment Malfunctions\"))","v":""},{"$f":"IF(Summary_Report_CPMS!$E72=\"\",\"\",SUMIFS(CMS_Detail!$J$24:$J$500,CMS_Detail!$B$24:$B$500,Summary_Report_CPMS!B72,CMS_Detail!$C$24:$C$500,Summary_Report_CPMS!C72,CMS_Detail!$D$24:$D$500,Summary_Report_CPMS!D72,CMS_Detail!$K$24:$K$500,\"Quality Assurance/Quality Control Calibrations\"))","v":""},{"$f":"IF(Summary_Report_CPMS!$E72=\"\",\"\",SUMIFS(CMS_Detail!$J$24:$J$500,CMS_Detail!$B$24:$B$500,Summary_Report_CPMS!B72,CMS_Detail!$C$24:$C$500,Summary_Report_CPMS!C72,CMS_Detail!$D$24:$D$500,Summary_Report_CPMS!D72,CMS_Detail!$K$24:$K$500,\"Other Known Causes\"))","v":""},{"$f":"IF(Summary_Report_CPMS!$E72=\"\",\"\",SUMIFS(CMS_Detail!$J$24:$J$500,CMS_Detail!$B$24:$B$500,Summary_Report_CPMS!B72,CMS_Detail!$C$24:$C$500,Summary_Report_CPMS!C72,CMS_Detail!$D$24:$D$500,Summary_Report_CPMS!D72,CMS_Detail!$K$24:$K$500,\"Other Unknown Causes\"))","v":""}]
[{"$nulls":5},{"$f":"IF(Summary_Report_CPMS!E73=\"\",\"\",SUMIFS(CMS_Detail!$J$24:$J$500,CMS_Detail!$B$24:$B$500,Summary_Report_CPMS!B73,CMS_Detail!$C$24:$C$500,Summary_Report_CPMS!C73,CMS_Detail!$D$24:$D$500,Summary_Report_CPMS!D73))","v":""},"",{"$f":"IF(Summary_Report_CPMS!$E73=\"\",\"\",SUMIFS(CMS_Detail!$J$24:$J$500,CMS_Detail!$B$24:$B$500,Summary_Report_CPMS!B73,CMS_Detail!$C$24:$C$500,Summary_Report_CPMS!C73,CMS_Detail!$D$24:$D$500,Summary_Report_CPMS!D73,CMS_Detail!$K$24:$K$500,\"Monitoring Equipment Malfunctions\"))","v":""},{"$f":"IF(Summary_Report_CPMS!$E73=\"\",\"\",SUMIFS(CMS_Detail!$J$24:$J$500,CMS_Detail!$B$24:$B$500,Summary_Report_CPMS!B73,CMS_Detail!$C$24:$C$500,Summary_Report_CPMS!C73,CMS_Detail!$D$24:$D$500,Summary_Report_CPMS!D73,CMS_Detail!$K$24:$K$500,\"Nonmonitoring Equipment Malfunctions\"))","v":""},{"$f":"IF(Summary_Report_CPMS!$E73=\"\",\"\",SUMIFS(CMS_Detail!$J$24:$J$500,CMS_Detail!$B$24:$B$500,Summary_Report_CPMS!B73,CMS_Detail!$C$24:$C$500,Summary_Report_CPMS!C73,CMS_Detail!$D$24:$D$500,Summary_Report_CPMS!D73,CMS_Detail!$K$24:$K$500,\"Quality Assurance/Quality Control Calibrations\"))","v":""},{"$f":"IF(Summary_Report_CPMS!$E73=\"\",\"\",SUMIFS(CMS_Detail!$J$24:$J$500,CMS_Detail!$B$24:$B$500,Summary_Report_CPMS!B73,CMS_Detail!$C$24:$C$500,Summary_Report_CPMS!C73,CMS_Detail!$D$24:$D$500,Summary_Report_CPMS!D73,CMS_Detail!$K$24:$K$500,\"Other Known Causes\"))","v":""},{"$f":"IF(Summary_Report_CPMS!$E73=\"\",\"\",SUMIFS(CMS_Detail!$J$24:$J$500,CMS_Detail!$B$24:$B$500,Summary_Report_CPMS!B73,CMS_Detail!$C$24:$C$500,Summary_Report_CPMS!C73,CMS_Detail!$D$24:$D$500,Summary_Report_CPMS!D73,CMS_Detail!$K$24:$K$500,\"Other Unknown Causes\"))","v":""}]
[{"$nulls":5},{"$f":"IF(Summary_Report_CPMS!E74=\"\",\"\",SUMIFS(CMS_Detail!$J$24:$J$500,CMS_Detail!$B$24:$B$500,Summary_Report_CPMS!B74,CMS_Detail!$C$24:$C$500,Summary_Report_CPMS!C74,CMS_Detail!$D$24:$D$500,Summary_Report_CPMS!D74))","v":""},"",{"$f":"IF(Summary_Report_CPMS!$E74=\"\",\"\",SUMIFS(CMS_Detail!$J$24:$J$500,CMS_Detail!$B$24:$B$500,Summary_Report_CPMS!B74,CMS_Detail!$C$24:$C$500,Summary_Report_CPMS!C74,CMS_Detail!$D$24:$D$500,Summary_Report_CPMS!D74,CMS_Detail!$K$24:$K$500,\"Monitoring Equipment Malfunctions\"))","v":""},{"$f":"IF(Summary_Report_CPMS!$E74=\"\",\"\",SUMIFS(CMS_Detail!$J$24:$J$500,CMS_Detail!$B$24:$B$500,Summary_Report_CPMS!B74,CMS_Detail!$C$24:$C$500,Summary_Report_CPMS!C74,CMS_Detail!$D$24:$D$500,Summary_Report_CPMS!D74,CMS_Detail!$K$24:$K$500,\"Nonmonitoring Equipment Malfunctions\"))","v":""},{"$f":"IF(Summary_Report_CPMS!$E74=\"\",\"\",SUMIFS(CMS_Detail!$J$24:$J$500,CMS_Detail!$B$24:$B$500,Summary_Report_CPMS!B74,CMS_Detail!$C$24:$C$500,Summary_Report_CPMS!C74,CMS_Detail!$D$24:$D$500,Summary_Report_CPMS!D74,CMS_Detail!$K$24:$K$500,\"Quality Assurance/Quality Control Calibrations\"))","v":""},{"$f":"IF(Summary_Report_CPMS!$E74=\"\",\"\",SUMIFS(CMS_Detail!$J$24:$J$500,CMS_Detail!$B$24:$B$500,Summary_Report_CPMS!B74,CMS_Detail!$C$24:$C$500,Summary_Report_CPMS!C74,CMS_Detail!$D$24:$D$500,Summary_Report_CPMS!D74,CMS_Detail!$K$24:$K$500,\"Other Known Causes\"))","v":""},{"$f":"IF(Summary_Report_CPMS!$E74=\"\",\"\",SUMIFS(CMS_Detail!$J$24:$J$500,CMS_Detail!$B$24:$B$500,Summary_Report_CPMS!B74,CMS_Detail!$C$24:$C$500,Summary_Report_CPMS!C74,CMS_Detail!$D$24:$D$500,Summary_Report_CPMS!D74,CMS_Detail!$K$24:$K$500,\"Other Unknown Causes\"))","v":""}]
[{"$nulls":5},{"$f":"IF(Summary_Report_CPMS!E75=\"\",\"\",SUMIFS(CMS_Detail!$J$24:$J$500,CMS_Detail!$B$24:$B$500,Summary_Report_CPMS!B75,CMS_Detail!$C$24:$C$500,Summary_Report_CPMS!C75,CMS_Detail!$D$24:$D$500,Summary_Report_CPMS!D75))","v":""},"",{"$f":"IF(Summary_Report_CPMS!$E75=\"\",\"\",SUMIFS(CMS_Detail!$J$24:$J$500,CMS_Detail!$B$24:$B$500,Summary_Report_CPMS!B75,CMS_Detail!$C$24:$C$500,Summary_Report_CPMS!C75,CMS_Detail!$D$24:$D$500,Summary_Report_CPMS!D75,CMS_Detail!$K$24:$K$500,\"Monitoring Equipment Malfunctions\"))","v":""},{"$f":"IF(Summary_Report_CPMS!$E75=\"\",\"\",SUMIFS(CMS_Detail!$J$24:$J$500,CMS_Detail!$B$24:$B$500,Summary_Report_CPMS!B75,CMS_Detail!$C$24:$C$500,Summary_Report_CPMS!C75,CMS_Detail!$D$24:$D$500,Summary_Report_CPMS!D75,CMS_Detail!$K$24:$K$500,\"Nonmonitoring Equipment Malfunctions\"))","v":""},{"$f":"IF(Summary_Report_CPMS!$E75=\"\",\"\",SUMIFS(CMS_Detail!$J$24:$J$500,CMS_Detail!$B$24:$B$500,Summary_Report_CPMS!B75,CMS_Detail!$C$24:$C$500,Summary_Report_CPMS!C75,CMS_Detail!$D$24:$D$500,Summary_Report_CPMS!D75,CMS_Detail!$K$24:$K$500,\"Quality Assurance/Quality Control Calibrations\"))","v":""},{"$f":"IF(Summary_Report_CPMS!$E75=\"\",\"\",SUMIFS(CMS_Detail!$J$24:$J$500,CMS_Detail!$B$24:$B$500,Summary_Report_CPMS!B75,CMS_Detail!$C$24:$C$500,Summary_Report_CPMS!C75,CMS_Detail!$D$24:$D$500,Summary_Report_CPMS!D75,CMS_Detail!$K$24:$K$500,\"Other Known Causes\"))","v":""},{"$f":"IF(Summary_Report_CPMS!$E75=\"\",\"\",SUMIFS(CMS_Detail!$J$24:$J$500,CMS_Detail!$B$24:$B$500,Summary_Report_CPMS!B75,CMS_Detail!$C$24:$C$500,Summary_Report_CPMS!C75,CMS_Detail!$D$24:$D$500,Summary_Report_CPMS!D75,CMS_Detail!$K$24:$K$500,\"Other Unknown Causes\"))","v":""}]
[{"$nulls":5},{"$f":"IF(Summary_Report_CPMS!E76=\"\",\"\",SUMIFS(CMS_Detail!$J$24:$J$500,CMS_Detail!$B$24:$B$500,Summary_Report_CPMS!B76,CMS_Detail!$C$24:$C$500,Summary_Report_CPMS!C76,CMS_Detail!$D$24:$D$500,Summary_Report_CPMS!D76))","v":""},"",{"$f":"IF(Summary_Report_CPMS!$E76=\"\",\"\",SUMIFS(CMS_Detail!$J$24:$J$500,CMS_Detail!$B$24:$B$500,Summary_Report_CPMS!B76,CMS_Detail!$C$24:$C$500,Summary_Report_CPMS!C76,CMS_Detail!$D$24:$D$500,Summary_Report_CPMS!D76,CMS_Detail!$K$24:$K$500,\"Monitoring Equipment Malfunctions\"))","v":""},{"$f":"IF(Summary_Report_CPMS!$E76=\"\",\"\",SUMIFS(CMS_Detail!$J$24:$J$500,CMS_Detail!$B$24:$B$500,Summary_Report_CPMS!B76,CMS_Detail!$C$24:$C$500,Summary_Report_CPMS!C76,CMS_Detail!$D$24:$D$500,Summary_Report_CPMS!D76,CMS_Detail!$K$24:$K$500,\"Nonmonitoring Equipment Malfunctions\"))","v":""},{"$f":"IF(Summary_Report_CPMS!$E76=\"\",\"\",SUMIFS(CMS_Detail!$J$24:$J$500,CMS_Detail!$B$24:$B$500,Summary_Report_CPMS!B76,CMS_Detail!$C$24:$C$500,Summary_Report_CPMS!C76,CMS_Detail!$D$24:$D$500,Summary_Report_CPMS!D76,CMS_Detail!$K$24:$K$500,\"Quality Assurance/Quality Control Calibrations\"))","v":""},{"$f":"IF(Summary_Report_CPMS!$E76=\"\",\"\",SUMIFS(CMS_Detail!$J$24:$J$500,CMS_Detail!$B$24:$B$500,Summary_Report_CPMS!B76,CMS_Detail!$C$24:$C$500,Summary_Report_CPMS!C76,CMS_Detail!$D$24:$D$500,Summary_Report_CPMS!D76,CMS_Detail!$K$24:$K$500,\"Other Known Causes\"))","v":""},{"$f":"IF(Summary_Report_CPMS!$E76=\"\",\"\",SUMIFS(CMS_Detail!$J$24:$J$500,CMS_Detail!$B$24:$B$500,Summary_Report_CPMS!B76,CMS_Detail!$C$24:$C$500,Summary_Report_CPMS!C76,CMS_Detail!$D$24:$D$500,Summary_Report_CPMS!D76,CMS_Detail!$K$24:$K$500,\"Other Unknown Causes\"))","v":""}]
[{"$nulls":5},{"$f":"IF(Summary_Report_CPMS!E77=\"\",\"\",SUMIFS(CMS_Detail!$J$24:$J$500,CMS_Detail!$B$24:$B$500,Summary_Report_CPMS!B77,CMS_Detail!$C$24:$C$500,Summary_Report_CPMS!C77,CMS_Detail!$D$24:$D$500,Summary_Report_CPMS!D77))","v":""},"",{"$f":"IF(Summary_Report_CPMS!$E77=\"\",\"\",SUMIFS(CMS_Detail!$J$24:$J$500,CMS_Detail!$B$24:$B$500,Summary_Report_CPMS!B77,CMS_Detail!$C$24:$C$500,Summary_Report_CPMS!C77,CMS_Detail!$D$24:$D$500,Summary_Report_CPMS!D77,CMS_Detail!$K$24:$K$500,\"Monitoring Equipment Malfunctions\"))","v":""},{"$f":"IF(Summary_Report_CPMS!$E77=\"\",\"\",SUMIFS(CMS_Detail!$J$24:$J$500,CMS_Detail!$B$24:$B$500,Summary_Report_CPMS!B77,CMS_Detail!$C$24:$C$500,Summary_Report_CPMS!C77,CMS_Detail!$D$24:$D$500,Summary_Report_CPMS!D77,CMS_Detail!$K$24:$K$500,\"Nonmonitoring Equipment Malfunctions\"))","v":""},{"$f":"IF(Summary_Report_CPMS!$E77=\"\",\"\",SUMIFS(CMS_Detail!$J$24:$J$500,CMS_Detail!$B$24:$B$500,Summary_Report_CPMS!B77,CMS_Detail!$C$24:$C$500,Summary_Report_CPMS!C77,CMS_Detail!$D$24:$D$500,Summary_Report_CPMS!D77,CMS_Detail!$K$24:$K$500,\"Quality Assurance/Quality Control Calibrations\"))","v":""},{"$f":"IF(Summary_Report_CPMS!$E77=\"\",\"\",SUMIFS(CMS_Detail!$J$24:$J$500,CMS_Detail!$B$24:$B$500,Summary_Report_CPMS!B77,CMS_Detail!$C$24:$C$500,Summary_Report_CPMS!C77,CMS_Detail!$D$24:$D$500,Summary_Report_CPMS!D77,CMS_Detail!$K$24:$K$500,\"Other Known Causes\"))","v":""},{"$f":"IF(Summary_Report_CPMS!$E77=\"\",\"\",SUMIFS(CMS_Detail!$J$24:$J$500,CMS_Detail!$B$24:$B$500,Summary_Report_CPMS!B77,CMS_Detail!$C$24:$C$500,Summary_Report_CPMS!C77,CMS_Detail!$D$24:$D$500,Summary_Report_CPMS!D77,CMS_Detail!$K$24:$K$500,\"Other Unknown Causes\"))","v":""}]
[{"$nulls":5},{"$f":"IF(Summary_Report_CPMS!E78=\"\",\"\",SUMIFS(CMS_Detail!$J$24:$J$500,CMS_Detail!$B$24:$B$500,Summary_Report_CPMS!B78,CMS_Detail!$C$24:$C$500,Summary_Report_CPMS!C78,CMS_Detail!$D$24:$D$500,Summary_Report_CPMS!D78))","v":""},"",{"$f":"IF(Summary_Report_CPMS!$E78=\"\",\"\",SUMIFS(CMS_Detail!$J$24:$J$500,CMS_Detail!$B$24:$B$500,Summary_Report_CPMS!B78,CMS_Detail!$C$24:$C$500,Summary_Report_CPMS!C78,CMS_Detail!$D$24:$D$500,Summary_Report_CPMS!D78,CMS_Detail!$K$24:$K$500,\"Monitoring Equipment Malfunctions\"))","v":""},{"$f":"IF(Summary_Report_CPMS!$E78=\"\",\"\",SUMIFS(CMS_Detail!$J$24:$J$500,CMS_Detail!$B$24:$B$500,Summary_Report_CPMS!B78,CMS_Detail!$C$24:$C$500,Summary_Report_CPMS!C78,CMS_Detail!$D$24:$D$500,Summary_Report_CPMS!D78,CMS_Detail!$K$24:$K$500,\"Nonmonitoring Equipment Malfunctions\"))","v":""},{"$f":"IF(Summary_Report_CPMS!$E78=\"\",\"\",SUMIFS(CMS_Detail!$J$24:$J$500,CMS_Detail!$B$24:$B$500,Summary_Report_CPMS!B78,CMS_Detail!$C$24:$C$500,Summary_Report_CPMS!C78,CMS_Detail!$D$24:$D$500,Summary_Report_CPMS!D78,CMS_Detail!$K$24:$K$500,\"Quality Assurance/Quality Control Calibrations\"))","v":""},{"$f":"IF(Summary_Report_CPMS!$E78=\"\",\"\",SUMIFS(CMS_Detail!$J$24:$J$500,CMS_Detail!$B$24:$B$500,Summary_Report_CPMS!B78,CMS_Detail!$C$24:$C$500,Summary_Report_CPMS!C78,CMS_Detail!$D$24:$D$500,Summary_Report_CPMS!D78,CMS_Detail!$K$24:$K$500,\"Other Known Causes\"))","v":""},{"$f":"IF(Summary_Report_CPMS!$E78=\"\",\"\",SUMIFS(CMS_Detail!$J$24:$J$500,CMS_Detail!$B$24:$B$500,Summary_Report_CPMS!B78,CMS_Detail!$C$24:$C$500,Summary_Report_CPMS!C78,CMS_Detail!$D$24:$D$500,Summary_Report_CPMS!D78,CMS_Detail!$K$24:$K$500,\"Other Unknown Causes\"))","v":""}]
[{"$nulls":5},{"$f":"IF(Summary_Report_CPMS!E79=\"\",\"\",SUMIFS(CMS_Detail!$J$24:$J$500,CMS_Detail!$B$24:$B$500,Summary_Report_CPMS!B79,CMS_Detail!$C$24:$C$500,Summary_Report_CPMS!C79,CMS_Detail!$D$24:$D$500,Summary_Report_CPMS!D79))","v":""},"",{"$f":"IF(Summary_Report_CPMS!$E79=\"\",\"\",SUMIFS(CMS_Detail!$J$24:$J$500,CMS_Detail!$B$24:$B$500,Summary_Report_CPMS!B79,CMS_Detail!$C$24:$C$500,Summary_Report_CPMS!C79,CMS_Detail!$D$24:$D$500,Summary_Report_CPMS!D79,CMS_Detail!$K$24:$K$500,\"Monitoring Equipment Malfunctions\"))","v":""},{"$f":"IF(Summary_Report_CPMS!$E79=\"\",\"\",SUMIFS(CMS_Detail!$J$24:$J$500,CMS_Detail!$B$24:$B$500,Summary_Report_CPMS!B79,CMS_Detail!$C$24:$C$500,Summary_Report_CPMS!C79,CMS_Detail!$D$24:$D$500,Summary_Report_CPMS!D79,CMS_Detail!$K$24:$K$500,\"Nonmonitoring Equipment Malfunctions\"))","v":""},{"$f":"IF(Summary_Report_CPMS!$E79=\"\",\"\",SUMIFS(CMS_Detail!$J$24:$J$500,CMS_Detail!$B$24:$B$500,Summary_Report_CPMS!B79,CMS_Detail!$C$24:$C$500,Summary_Report_CPMS!C79,CMS_Detail!$D$24:$D$500,Summary_Report_CPMS!D79,CMS_Detail!$K$24:$K$500,\"Quality Assurance/Quality Control Calibrations\"))","v":""},{"$f":"IF(Summary_Report_CPMS!$E79=\"\",\"\",SUMIFS(CMS_Detail!$J$24:$J$500,CMS_Detail!$B$24:$B$500,Summary_Report_CPMS!B79,CMS_Detail!$C$24:$C$500,Summary_Report_CPMS!C79,CMS_Detail!$D$24:$D$500,Summary_Report_CPMS!D79,CMS_Detail!$K$24:$K$500,\"Other Known Causes\"))","v":""},{"$f":"IF(Summary_Report_CPMS!$E79=\"\",\"\",SUMIFS(CMS_Detail!$J$24:$J$500,CMS_Detail!$B$24:$B$500,Summary_Report_CPMS!B79,CMS_Detail!$C$24:$C$500,Summary_Report_CPMS!C79,CMS_Detail!$D$24:$D$500,Summary_Report_CPMS!D79,CMS_Detail!$K$24:$K$500,\"Other Unknown Causes\"))","v":""}]
[{"$nulls":5},{"$f":"IF(Summary_Report_CPMS!E80=\"\",\"\",SUMIFS(CMS_Detail!$J$24:$J$500,CMS_Detail!$B$24:$B$500,Summary_Report_CPMS!B80,CMS_Detail!$C$24:$C$500,Summary_Report_CPMS!C80,CMS_Detail!$D$24:$D$500,Summary_Report_CPMS!D80))","v":""},"",{"$f":"IF(Summary_Report_CPMS!$E80=\"\",\"\",SUMIFS(CMS_Detail!$J$24:$J$500,CMS_Detail!$B$24:$B$500,Summary_Report_CPMS!B80,CMS_Detail!$C$24:$C$500,Summary_Report_CPMS!C80,CMS_Detail!$D$24:$D$500,Summary_Report_CPMS!D80,CMS_Detail!$K$24:$K$500,\"Monitoring Equipment Malfunctions\"))","v":""},{"$f":"IF(Summary_Report_CPMS!$E80=\"\",\"\",SUMIFS(CMS_Detail!$J$24:$J$500,CMS_Detail!$B$24:$B$500,Summary_Report_CPMS!B80,CMS_Detail!$C$24:$C$500,Summary_Report_CPMS!C80,CMS_Detail!$D$24:$D$500,Summary_Report_CPMS!D80,CMS_Detail!$K$24:$K$500,\"Nonmonitoring Equipment Malfunctions\"))","v":""},{"$f":"IF(Summary_Report_CPMS!$E80=\"\",\"\",SUMIFS(CMS_Detail!$J$24:$J$500,CMS_Detail!$B$24:$B$500,Summary_Report_CPMS!B80,CMS_Detail!$C$24:$C$500,Summary_Report_CPMS!C80,CMS_Detail!$D$24:$D$500,Summary_Report_CPMS!D80,CMS_Detail!$K$24:$K$500,\"Quality Assurance/Quality Control Calibrations\"))","v":""},{"$f":"IF(Summary_Report_CPMS!$E80=\"\",\"\",SUMIFS(CMS_Detail!$J$24:$J$500,CMS_Detail!$B$24:$B$500,Summary_Report_CPMS!B80,CMS_Detail!$C$24:$C$500,Summary_Report_CPMS!C80,CMS_Detail!$D$24:$D$500,Summary_Report_CPMS!D80,CMS_Detail!$K$24:$K$500,\"Other Known Causes\"))","v":""},{"$f":"IF(Summary_Report_CPMS!$E80=\"\",\"\",SUMIFS(CMS_Detail!$J$24:$J$500,CMS_Detail!$B$24:$B$500,Summary_Report_CPMS!B80,CMS_Detail!$C$24:$C$500,Summary_Report_CPMS!C80,CMS_Detail!$D$24:$D$500,Summary_Report_CPMS!D80,CMS_Detail!$K$24:$K$500,\"Other Unknown Causes\"))","v":""}]
[{"$nulls":5},{"$f":"IF(Summary_Report_CPMS!E81=\"\",\"\",SUMIFS(CMS_Detail!$J$24:$J$500,CMS_Detail!$B$24:$B$500,Summary_Report_CPMS!B81,CMS_Detail!$C$24:$C$500,Summary_Report_CPMS!C81,CMS_Detail!$D$24:$D$500,Summary_Report_CPMS!D81))","v":""},"",{"$f":"IF(Summary_Report_CPMS!$E81=\"\",\"\",SUMIFS(CMS_Detail!$J$24:$J$500,CMS_Detail!$B$24:$B$500,Summary_Report_CPMS!B81,CMS_Detail!$C$24:$C$500,Summary_Report_CPMS!C81,CMS_Detail!$D$24:$D$500,Summary_Report_CPMS!D81,CMS_Detail!$K$24:$K$500,\"Monitoring Equipment Malfunctions\"))","v":""},{"$f":"IF(Summary_Report_CPMS!$E81=\"\",\"\",SUMIFS(CMS_Detail!$J$24:$J$500,CMS_Detail!$B$24:$B$500,Summary_Report_CPMS!B81,CMS_Detail!$C$24:$C$500,Summary_Report_CPMS!C81,CMS_Detail!$D$24:$D$500,Summary_Report_CPMS!D81,CMS_Detail!$K$24:$K$500,\"Nonmonitoring Equipment Malfunctions\"))","v":""},{"$f":"IF(Summary_Report_CPMS!$E81=\"\",\"\",SUMIFS(CMS_Detail!$J$24:$J$500,CMS_Detail!$B$24:$B$500,Summary_Report_CPMS!B81,CMS_Detail!$C$24:$C$500,Summary_Report_CPMS!C81,CMS_Detail!$D$24:$D$500,Summary_Report_CPMS!D81,CMS_Detail!$K$24:$K$500,\"Quality Assurance/Quality Control Calibrations\"))","v":""},{"$f":"IF(Summary_Report_CPMS!$E81=\"\",\"\",SUMIFS(CMS_Detail!$J$24:$J$500,CMS_Detail!$B$24:$B$500,Summary_Report_CPMS!B81,CMS_Detail!$C$24:$C$500,Summary_Report_CPMS!C81,CMS_Detail!$D$24:$D$500,Summary_Report_CPMS!D81,CMS_Detail!$K$24:$K$500,\"Other Known Causes\"))","v":""},{"$f":"IF(Summary_Report_CPMS!$E81=\"\",\"\",SUMIFS(CMS_Detail!$J$24:$J$500,CMS_Detail!$B$24:$B$500,Summary_Report_CPMS!B81,CMS_Detail!$C$24:$C$500,Summary_Report_CPMS!C81,CMS_Detail!$D$24:$D$500,Summary_Report_CPMS!D81,CMS_Detail!$K$24:$K$500,\"Other Unknown Causes\"))","v":""}]
[{"$nulls":5},{"$f":"IF(Summary_Report_CPMS!E82=\"\",\"\",SUMIFS(CMS_Detail!$J$24:$J$500,CMS_Detail!$B$24:$B$500,Summary_Report_CPMS!B82,CMS_Detail!$C$24:$C$500,Summary_Report_CPMS!C82,CMS_Detail!$D$24:$D$500,Summary_Report_CPMS!D82))","v":""},"",{"$f":"IF(Summary_Report_CPMS!$E82=\"\",\"\",SUMIFS(CMS_Detail!$J$24:$J$500,CMS_Detail!$B$24:$B$500,Summary_Report_CPMS!B82,CMS_Detail!$C$24:$C$500,Summary_Report_CPMS!C82,CMS_Detail!$D$24:$D$500,Summary_Report_CPMS!D82,CMS_Detail!$K$24:$K$500,\"Monitoring Equipment Malfunctions\"))","v":""},{"$f":"IF(Summary_Report_CPMS!$E82=\"\",\"\",SUMIFS(CMS_Detail!$J$24:$J$500,CMS_Detail!$B$24:$B$500,Summary_Report_CPMS!B82,CMS_Detail!$C$24:$C$500,Summary_Report_CPMS!C82,CMS_Detail!$D$24:$D$500,Summary_Report_CPMS!D82,CMS_Detail!$K$24:$K$500,\"Nonmonitoring Equipment Malfunctions\"))","v":""},{"$f":"IF(Summary_Report_CPMS!$E82=\"\",\"\",SUMIFS(CMS_Detail!$J$24:$J$500,CMS_Detail!$B$24:$B$500,Summary_Report_CPMS!B82,CMS_Detail!$C$24:$C$500,Summary_Report_CPMS!C82,CMS_Detail!$D$24:$D$500,Summary_Report_CPMS!D82,CMS_Detail!$K$24:$K$500,\"Quality Assurance/Quality Control Calibrations\"))","v":""},{"$f":"IF(Summary_Report_CPMS!$E82=\"\",\"\",SUMIFS(CMS_Detail!$J$24:$J$500,CMS_Detail!$B$24:$B$500,Summary_Report_CPMS!B82,CMS_Detail!$C$24:$C$500,Summary_Report_CPMS!C82,CMS_Detail!$D$24:$D$500,Summary_Report_CPMS!D82,CMS_Detail!$K$24:$K$500,\"Other Known Causes\"))","v":""},{"$f":"IF(Summary_Report_CPMS!$E82=\"\",\"\",SUMIFS(CMS_Detail!$J$24:$J$500,CMS_Detail!$B$24:$B$500,Summary_Report_CPMS!B82,CMS_Detail!$C$24:$C$500,Summary_Report_CPMS!C82,CMS_Detail!$D$24:$D$500,Summary_Report_CPMS!D82,CMS_Detail!$K$24:$K$500,\"Other Unknown Causes\"))","v":""}]
[{"$nulls":5},{"$f":"IF(Summary_Report_CPMS!E83=\"\",\"\",SUMIFS(CMS_Detail!$J$24:$J$500,CMS_Detail!$B$24:$B$500,Summary_Report_CPMS!B83,CMS_Detail!$C$24:$C$500,Summary_Report_CPMS!C83,CMS_Detail!$D$24:$D$500,Summary_Report_CPMS!D83))","v":""},"",{"$f":"IF(Summary_Report_CPMS!$E83=\"\",\"\",SUMIFS(CMS_Detail!$J$24:$J$500,CMS_Detail!$B$24:$B$500,Summary_Report_CPMS!B83,CMS_Detail!$C$24:$C$500,Summary_Report_CPMS!C83,CMS_Detail!$D$24:$D$500,Summary_Report_CPMS!D83,CMS_Detail!$K$24:$K$500,\"Monitoring Equipment Malfunctions\"))","v":""},{"$f":"IF(Summary_Report_CPMS!$E83=\"\",\"\",SUMIFS(CMS_Detail!$J$24:$J$500,CMS_Detail!$B$24:$B$500,Summary_Report_CPMS!B83,CMS_Detail!$C$24:$C$500,Summary_Report_CPMS!C83,CMS_Detail!$D$24:$D$500,Summary_Report_CPMS!D83,CMS_Detail!$K$24:$K$500,\"Nonmonitoring Equipment Malfunctions\"))","v":""},{"$f":"IF(Summary_Report_CPMS!$E83=\"\",\"\",SUMIFS(CMS_Detail!$J$24:$J$500,CMS_Detail!$B$24:$B$500,Summary_Report_CPMS!B83,CMS_Detail!$C$24:$C$500,Summary_Report_CPMS!C83,CMS_Detail!$D$24:$D$500,Summary_Report_CPMS!D83,CMS_Detail!$K$24:$K$500,\"Quality Assurance/Quality Control Calibrations\"))","v":""},{"$f":"IF(Summary_Report_CPMS!$E83=\"\",\"\",SUMIFS(CMS_Detail!$J$24:$J$500,CMS_Detail!$B$24:$B$500,Summary_Report_CPMS!B83,CMS_Detail!$C$24:$C$500,Summary_Report_CPMS!C83,CMS_Detail!$D$24:$D$500,Summary_Report_CPMS!D83,CMS_Detail!$K$24:$K$500,\"Other Known Causes\"))","v":""},{"$f":"IF(Summary_Report_CPMS!$E83=\"\",\"\",SUMIFS(CMS_Detail!$J$24:$J$500,CMS_Detail!$B$24:$B$500,Summary_Report_CPMS!B83,CMS_Detail!$C$24:$C$500,Summary_Report_CPMS!C83,CMS_Detail!$D$24:$D$500,Summary_Report_CPMS!D83,CMS_Detail!$K$24:$K$500,\"Other Unknown Causes\"))","v":""}]
[{"$nulls":5},{"$f":"IF(Summary_Report_CPMS!E84=\"\",\"\",SUMIFS(CMS_Detail!$J$24:$J$500,CMS_Detail!$B$24:$B$500,Summary_Report_CPMS!B84,CMS_Detail!$C$24:$C$500,Summary_Report_CPMS!C84,CMS_Detail!$D$24:$D$500,Summary_Report_CPMS!D84))","v":""},"",{"$f":"IF(Summary_Report_CPMS!$E84=\"\",\"\",SUMIFS(CMS_Detail!$J$24:$J$500,CMS_Detail!$B$24:$B$500,Summary_Report_CPMS!B84,CMS_Detail!$C$24:$C$500,Summary_Report_CPMS!C84,CMS_Detail!$D$24:$D$500,Summary_Report_CPMS!D84,CMS_Detail!$K$24:$K$500,\"Monitoring Equipment Malfunctions\"))","v":""},{"$f":"IF(Summary_Report_CPMS!$E84=\"\",\"\",SUMIFS(CMS_Detail!$J$24:$J$500,CMS_Detail!$B$24:$B$500,Summary_Report_CPMS!B84,CMS_Detail!$C$24:$C$500,Summary_Report_CPMS!C84,CMS_Detail!$D$24:$D$500,Summary_Report_CPMS!D84,CMS_Detail!$K$24:$K$500,\"Nonmonitoring Equipment Malfunctions\"))","v":""},{"$f":"IF(Summary_Report_CPMS!$E84=\"\",\"\",SUMIFS(CMS_Detail!$J$24:$J$500,CMS_Detail!$B$24:$B$500,Summary_Report_CPMS!B84,CMS_Detail!$C$24:$C$500,Summary_Report_CPMS!C84,CMS_Detail!$D$24:$D$500,Summary_Report_CPMS!D84,CMS_Detail!$K$24:$K$500,\"Quality Assurance/Quality Control Calibrations\"))","v":""},{"$f":"IF(Summary_Report_CPMS!$E84=\"\",\"\",SUMIFS(CMS_Detail!$J$24:$J$500,CMS_Detail!$B$24:$B$500,Summary_Report_CPMS!B84,CMS_Detail!$C$24:$C$500,Summary_Report_CPMS!C84,CMS_Detail!$D$24:$D$500,Summary_Report_CPMS!D84,CMS_Detail!$K$24:$K$500,\"Other Known Causes\"))","v":""},{"$f":"IF(Summary_Report_CPMS!$E84=\"\",\"\",SUMIFS(CMS_Detail!$J$24:$J$500,CMS_Detail!$B$24:$B$500,Summary_Report_CPMS!B84,CMS_Detail!$C$24:$C$500,Summary_Report_CPMS!C84,CMS_Detail!$D$24:$D$500,Summary_Report_CPMS!D84,CMS_Detail!$K$24:$K$500,\"Other Unknown Causes\"))","v":""}]
[{"$nulls":5},{"$f":"IF(Summary_Report_CPMS!E85=\"\",\"\",SUMIFS(CMS_Detail!$J$24:$J$500,CMS_Detail!$B$24:$B$500,Summary_Report_CPMS!B85,CMS_Detail!$C$24:$C$500,Summary_Report_CPMS!C85,CMS_Detail!$D$24:$D$500,Summary_Report_CPMS!D85))","v":""},"",{"$f":"IF(Summary_Report_CPMS!$E85=\"\",\"\",SUMIFS(CMS_Detail!$J$24:$J$500,CMS_Detail!$B$24:$B$500,Summary_Report_CPMS!B85,CMS_Detail!$C$24:$C$500,Summary_Report_CPMS!C85,CMS_Detail!$D$24:$D$500,Summary_Report_CPMS!D85,CMS_Detail!$K$24:$K$500,\"Monitoring Equipment Malfunctions\"))","v":""},{"$f":"IF(Summary_Report_CPMS!$E85=\"\",\"\",SUMIFS(CMS_Detail!$J$24:$J$500,CMS_Detail!$B$24:$B$500,Summary_Report_CPMS!B85,CMS_Detail!$C$24:$C$500,Summary_Report_CPMS!C85,CMS_Detail!$D$24:$D$500,Summary_Report_CPMS!D85,CMS_Detail!$K$24:$K$500,\"Nonmonitoring Equipment Malfunctions\"))","v":""},{"$f":"IF(Summary_Report_CPMS!$E85=\"\",\"\",SUMIFS(CMS_Detail!$J$24:$J$500,CMS_Detail!$B$24:$B$500,Summary_Report_CPMS!B85,CMS_Detail!$C$24:$C$500,Summary_Report_CPMS!C85,CMS_Detail!$D$24:$D$500,Summary_Report_CPMS!D85,CMS_Detail!$K$24:$K$500,\"Quality Assurance/Quality Control Calibrations\"))","v":""},{"$f":"IF(Summary_Report_CPMS!$E85=\"\",\"\",SUMIFS(CMS_Detail!$J$24:$J$500,CMS_Detail!$B$24:$B$500,Summary_Report_CPMS!B85,CMS_Detail!$C$24:$C$500,Summary_Report_CPMS!C85,CMS_Detail!$D$24:$D$500,Summary_Report_CPMS!D85,CMS_Detail!$K$24:$K$500,\"Other Known Causes\"))","v":""},{"$f":"IF(Summary_Report_CPMS!$E85=\"\",\"\",SUMIFS(CMS_Detail!$J$24:$J$500,CMS_Detail!$B$24:$B$500,Summary_Report_CPMS!B85,CMS_Detail!$C$24:$C$500,Summary_Report_CPMS!C85,CMS_Detail!$D$24:$D$500,Summary_Report_CPMS!D85,CMS_Detail!$K$24:$K$500,\"Other Unknown Causes\"))","v":""}]
[{"$nulls":5},{"$f":"IF(Summary_Report_CPMS!E86=\"\",\"\",SUMIFS(CMS_Detail!$J$24:$J$500,CMS_Detail!$B$24:$B$500,Summary_Report_CPMS!B86,CMS_Detail!$C$24:$C$500,Summary_Report_CPMS!C86,CMS_Detail!$D$24:$D$500,Summary_Report_CPMS!D86))","v":""},"",{"$f":"IF(Summary_Report_CPMS!$E86=\"\",\"\",SUMIFS(CMS_Detail!$J$24:$J$500,CMS_Detail!$B$24:$B$500,Summary_Report_CPMS!B86,CMS_Detail!$C$24:$C$500,Summary_Report_CPMS!C86,CMS_Detail!$D$24:$D$500,Summary_Report_CPMS!D86,CMS_Detail!$K$24:$K$500,\"Monitoring Equipment Malfunctions\"))","v":""},{"$f":"IF(Summary_Report_CPMS!$E86=\"\",\"\",SUMIFS(CMS_Detail!$J$24:$J$500,CMS_Detail!$B$24:$B$500,Summary_Report_CPMS!B86,CMS_Detail!$C$24:$C$500,Summary_Report_CPMS!C86,CMS_Detail!$D$24:$D$500,Summary_Report_CPMS!D86,CMS_Detail!$K$24:$K$500,\"Nonmonitoring Equipment Malfunctions\"))","v":""},{"$f":"IF(Summary_Report_CPMS!$E86=\"\",\"\",SUMIFS(CMS_Detail!$J$24:$J$500,CMS_Detail!$B$24:$B$500,Summary_Report_CPMS!B86,CMS_Detail!$C$24:$C$500,Summary_Report_CPMS!C86,CMS_Detail!$D$24:$D$500,Summary_Report_CPMS!D86,CMS_Detail!$K$24:$K$500,\"Quality Assurance/Quality Control Calibrations\"))","v":""},{"$f":"IF(Summary_Report_CPMS!$E86=\"\",\"\",SUMIFS(CMS_Detail!$J$24:$J$500,CMS_Detail!$B$24:$B$500,Summary_Report_CPMS!B86,CMS_Detail!$C$24:$C$500,Summary_Report_CPMS!C86,CMS_Detail!$D$24:$D$500,Summary_Report_CPMS!D86,CMS_Detail!$K$24:$K$500,\"Other Known Causes\"))","v":""},{"$f":"IF(Summary_Report_CPMS!$E86=\"\",\"\",SUMIFS(CMS_Detail!$J$24:$J$500,CMS_Detail!$B$24:$B$500,Summary_Report_CPMS!B86,CMS_Detail!$C$24:$C$500,Summary_Report_CPMS!C86,CMS_Detail!$D$24:$D$500,Summary_Report_CPMS!D86,CMS_Detail!$K$24:$K$500,\"Other Unknown Causes\"))","v":""}]
[{"$nulls":5},{"$f":"IF(Summary_Report_CPMS!E87=\"\",\"\",SUMIFS(CMS_Detail!$J$24:$J$500,CMS_Detail!$B$24:$B$500,Summary_Report_CPMS!B87,CMS_Detail!$C$24:$C$500,Summary_Report_CPMS!C87,CMS_Detail!$D$24:$D$500,Summary_Report_CPMS!D87))","v":""},"",{"$f":"IF(Summary_Report_CPMS!$E87=\"\",\"\",SUMIFS(CMS_Detail!$J$24:$J$500,CMS_Detail!$B$24:$B$500,Summary_Report_CPMS!B87,CMS_Detail!$C$24:$C$500,Summary_Report_CPMS!C87,CMS_Detail!$D$24:$D$500,Summary_Report_CPMS!D87,CMS_Detail!$K$24:$K$500,\"Monitoring Equipment Malfunctions\"))","v":""},{"$f":"IF(Summary_Report_CPMS!$E87=\"\",\"\",SUMIFS(CMS_Detail!$J$24:$J$500,CMS_Detail!$B$24:$B$500,Summary_Report_CPMS!B87,CMS_Detail!$C$24:$C$500,Summary_Report_CPMS!C87,CMS_Detail!$D$24:$D$500,Summary_Report_CPMS!D87,CMS_Detail!$K$24:$K$500,\"Nonmonitoring Equipment Malfunctions\"))","v":""},{"$f":"IF(Summary_Report_CPMS!$E87=\"\",\"\",SUMIFS(CMS_Detail!$J$24:$J$500,CMS_Detail!$B$24:$B$500,Summary_Report_CPMS!B87,CMS_Detail!$C$24:$C$500,Summary_Report_CPMS!C87,CMS_Detail!$D$24:$D$500,Summary_Report_CPMS!D87,CMS_Detail!$K$24:$K$500,\"Quality Assurance/Quality Control Calibrations\"))","v":""},{"$f":"IF(Summary_Report_CPMS!$E87=\"\",\"\",SUMIFS(CMS_Detail!$J$24:$J$500,CMS_Detail!$B$24:$B$500,Summary_Report_CPMS!B87,CMS_Detail!$C$24:$C$500,Summary_Report_CPMS!C87,CMS_Detail!$D$24:$D$500,Summary_Report_CPMS!D87,CMS_Detail!$K$24:$K$500,\"Other Known Causes\"))","v":""},{"$f":"IF(Summary_Report_CPMS!$E87=\"\",\"\",SUMIFS(CMS_Detail!$J$24:$J$500,CMS_Detail!$B$24:$B$500,Summary_Report_CPMS!B87,CMS_Detail!$C$24:$C$500,Summary_Report_CPMS!C87,CMS_Detail!$D$24:$D$500,Summary_Report_CPMS!D87,CMS_Detail!$K$24:$K$500,\"Other Unknown Causes\"))","v":""}]
[{"$nulls":5},{"$f":"IF(Summary_Report_CPMS!E88=\"\",\"\",SUMIFS(CMS_Detail!$J$24:$J$500,CMS_Detail!$B$24:$B$500,Summary_Report_CPMS!B88,CMS_Detail!$C$24:$C$500,Summary_Report_CPMS!C88,CMS_Detail!$D$24:$D$500,Summary_Report_CPMS!D88))","v":""},"",{"$f":"IF(Summary_Report_CPMS!$E88=\"\",\"\",SUMIFS(CMS_Detail!$J$24:$J$500,CMS_Detail!$B$24:$B$500,Summary_Report_CPMS!B88,CMS_Detail!$C$24:$C$500,Summary_Report_CPMS!C88,CMS_Detail!$D$24:$D$500,Summary_Report_CPMS!D88,CMS_Detail!$K$24:$K$500,\"Monitoring Equipment Malfunctions\"))","v":""},{"$f":"IF(Summary_Report_CPMS!$E88=\"\",\"\",SUMIFS(CMS_Detail!$J$24:$J$500,CMS_Detail!$B$24:$B$500,Summary_Report_CPMS!B88,CMS_Detail!$C$24:$C$500,Summary_Report_CPMS!C88,CMS_Detail!$D$24:$D$500,Summary_Report_CPMS!D88,CMS_Detail!$K$24:$K$500,\"Nonmonitoring Equipment Malfunctions\"))","v":""},{"$f":"IF(Summary_Report_CPMS!$E88=\"\",\"\",SUMIFS(CMS_Detail!$J$24:$J$500,CMS_Detail!$B$24:$B$500,Summary_Report_CPMS!B88,CMS_Detail!$C$24:$C$500,Summary_Report_CPMS!C88,CMS_Detail!$D$24:$D$500,Summary_Report_CPMS!D88,CMS_Detail!$K$24:$K$500,\"Quality Assurance/Quality Control Calibrations\"))","v":""},{"$f":"IF(Summary_Report_CPMS!$E88=\"\",\"\",SUMIFS(CMS_Detail!$J$24:$J$500,CMS_Detail!$B$24:$B$500,Summary_Report_CPMS!B88,CMS_Detail!$C$24:$C$500,Summary_Report_CPMS!C88,CMS_Detail!$D$24:$D$500,Summary_Report_CPMS!D88,CMS_Detail!$K$24:$K$500,\"Other Known Causes\"))","v":""},{"$f":"IF(Summary_Report_CPMS!$E88=\"\",\"\",SUMIFS(CMS_Detail!$J$24:$J$500,CMS_Detail!$B$24:$B$500,Summary_Report_CPMS!B88,CMS_Detail!$C$24:$C$500,Summary_Report_CPMS!C88,CMS_Detail!$D$24:$D$500,Summary_Report_CPMS!D88,CMS_Detail!$K$24:$K$500,\"Other Unknown Causes\"))","v":""}]
[{"$nulls":5},{"$f":"IF(Summary_Report_CPMS!E89=\"\",\"\",SUMIFS(CMS_Detail!$J$24:$J$500,CMS_Detail!$B$24:$B$500,Summary_Report_CPMS!B89,CMS_Detail!$C$24:$C$500,Summary_Report_CPMS!C89,CMS_Detail!$D$24:$D$500,Summary_Report_CPMS!D89))","v":""},{"$f":"IF($E89=\"\",\"\",IF(F89=0,\"N/A\",F89/$E89))","v":""},{"$f":"IF(Summary_Report_CPMS!$E89=\"\",\"\",SUMIFS(CMS_Detail!$J$24:$J$500,CMS_Detail!$B$24:$B$500,Summary_Report_CPMS!B89,CMS_Detail!$C$24:$C$500,Summary_Report_CPMS!C89,CMS_Detail!$D$24:$D$500,Summary_Report_CPMS!D89,CMS_Detail!$K$24:$K$500,\"Monitoring Equipment Malfunctions\"))","v":""},{"$f":"IF(Summary_Report_CPMS!$E89=\"\",\"\",SUMIFS(CMS_Detail!$J$24:$J$500,CMS_Detail!$B$24:$B$500,Summary_Report_CPMS!B89,CMS_Detail!$C$24:$C$500,Summary_Report_CPMS!C89,CMS_Detail!$D$24:$D$500,Summary_Report_CPMS!D89,CMS_Detail!$K$24:$K$500,\"Nonmonitoring Equipment Malfunctions\"))","v":""},{"$f":"IF(Summary_Report_CPMS!$E89=\"\",\"\",SUMIFS(CMS_Detail!$J$24:$J$500,CMS_Detail!$B$24:$B$500,Summary_Report_CPMS!B89,CMS_Detail!$C$24:$C$500,Summary_Report_CPMS!C89,CMS_Detail!$D$24:$D$500,Summary_Report_CPMS!D89,CMS_Detail!$K$24:$K$500,\"Quality Assurance/Quality Control Calibrations\"))","v":""},{"$f":"IF(Summary_Report_CPMS!$E89=\"\",\"\",SUMIFS(CMS_Detail!$J$24:$J$500,CMS_Detail!$B$24:$B$500,Summary_Report_CPMS!B89,CMS_Detail!$C$24:$C$500,Summary_Report_CPMS!C89,CMS_Detail!$D$24:$D$500,Summary_Report_CPMS!D89,CMS_Detail!$K$24:$K$500,\"Other Known Causes\"))","v":""},{"$f":"IF(Summary_Report_CPMS!$E89=\"\",\"\",SUMIFS(CMS_Detail!$J$24:$J$500,CMS_Detail!$B$24:$B$500,Summary_Report_CPMS!B89,CMS_Detail!$C$24:$C$500,Summary_Report_CPMS!C89,CMS_Detail!$D$24:$D$500,Summary_Report_CPMS!D89,CMS_Detail!$K$24:$K$500,\"Other Unknown Causes\"))","v":""}]
[{"$nulls":5},{"$f":"IF(Summary_Report_CPMS!E90=\"\",\"\",SUMIFS(CMS_Detail!$J$24:$J$500,CMS_Detail!$B$24:$B$500,Summary_Report_CPMS!B90,CMS_Detail!$C$24:$C$500,Summary_Report_CPMS!C90,CMS_Detail!$D$24:$D$500,Summary_Report_CPMS!D90))","v":""},"",{"$f":"IF(Summary_Report_CPMS!$E90=\"\",\"\",SUMIFS(CMS_Detail!$J$24:$J$500,CMS_Detail!$B$24:$B$500,Summary_Report_CPMS!B90,CMS_Detail!$C$24:$C$500,Summary_Report_CPMS!C90,CMS_Detail!$D$24:$D$500,Summary_Report_CPMS!D90,CMS_Detail!$K$24:$K$500,\"Monitoring Equipment Malfunctions\"))","v":""},{"$f":"IF(Summary_Report_CPMS!$E90=\"\",\"\",SUMIFS(CMS_Detail!$J$24:$J$500,CMS_Detail!$B$24:$B$500,Summary_Report_CPMS!B90,CMS_Detail!$C$24:$C$500,Summary_Report_CPMS!C90,CMS_Detail!$D$24:$D$500,Summary_Report_CPMS!D90,CMS_Detail!$K$24:$K$500,\"Nonmonitoring Equipment Malfunctions\"))","v":""},{"$f":"IF(Summary_Report_CPMS!$E90=\"\",\"\",SUMIFS(CMS_Detail!$J$24:$J$500,CMS_Detail!$B$24:$B$500,Summary_Report_CPMS!B90,CMS_Detail!$C$24:$C$500,Summary_Report_CPMS!C90,CMS_Detail!$D$24:$D$500,Summary_Report_CPMS!D90,CMS_Detail!$K$24:$K$500,\"Quality Assurance/Quality Control Calibrations\"))","v":""},{"$f":"IF(Summary_Report_CPMS!$E90=\"\",\"\",SUMIFS(CMS_Detail!$J$24:$J$500,CMS_Detail!$B$24:$B$500,Summary_Report_CPMS!B90,CMS_Detail!$C$24:$C$500,Summary_Report_CPMS!C90,CMS_Detail!$D$24:$D$500,Summary_Report_CPMS!D90,CMS_Detail!$K$24:$K$500,\"Other Known Causes\"))","v":""},{"$f":"IF(Summary_Report_CPMS!$E90=\"\",\"\",SUMIFS(CMS_Detail!$J$24:$J$500,CMS_Detail!$B$24:$B$500,Summary_Report_CPMS!B90,CMS_Detail!$C$24:$C$500,Summary_Report_CPMS!C90,CMS_Detail!$D$24:$D$500,Summary_Report_CPMS!D90,CMS_Detail!$K$24:$K$500,\"Other Unknown Causes\"))","v":""}]
[{"$nulls":5},{"$f":"IF(Summary_Report_CPMS!E91=\"\",\"\",SUMIFS(CMS_Detail!$J$24:$J$500,CMS_Detail!$B$24:$B$500,Summary_Report_CPMS!B91,CMS_Detail!$C$24:$C$500,Summary_Report_CPMS!C91,CMS_Detail!$D$24:$D$500,Summary_Report_CPMS!D91))","v":""},"",{"$f":"IF(Summary_Report_CPMS!$E91=\"\",\"\",SUMIFS(CMS_Detail!$J$24:$J$500,CMS_Detail!$B$24:$B$500,Summary_Report_CPMS!B91,CMS_Detail!$C$24:$C$500,Summary_Report_CPMS!C91,CMS_Detail!$D$24:$D$500,Summary_Report_CPMS!D91,CMS_Detail!$K$24:$K$500,\"Monitoring Equipment Malfunctions\"))","v":""},{"$f":"IF(Summary_Report_CPMS!$E91=\"\",\"\",SUMIFS(CMS_Detail!$J$24:$J$500,CMS_Detail!$B$24:$B$500,Summary_Report_CPMS!B91,CMS_Detail!$C$24:$C$500,Summary_Report_CPMS!C91,CMS_Detail!$D$24:$D$500,Summary_Report_CPMS!D91,CMS_Detail!$K$24:$K$500,\"Nonmonitoring Equipment Malfunctions\"))","v":""},{"$f":"IF(Summary_Report_CPMS!$E91=\"\",\"\",SUMIFS(CMS_Detail!$J$24:$J$500,CMS_Detail!$B$24:$B$500,Summary_Report_CPMS!B91,CMS_Detail!$C$24:$C$500,Summary_Report_CPMS!C91,CMS_Detail!$D$24:$D$500,Summary_Report_CPMS!D91,CMS_Detail!$K$24:$K$500,\"Quality Assurance/Quality Control Calibrations\"))","v":""},{"$f":"IF(Summary_Report_CPMS!$E91=\"\",\"\",SUMIFS(CMS_Detail!$J$24:$J$500,CMS_Detail!$B$24:$B$500,Summary_Report_CPMS!B91,CMS_Detail!$C$24:$C$500,Summary_Report_CPMS!C91,CMS_Detail!$D$24:$D$500,Summary_Report_CPMS!D91,CMS_Detail!$K$24:$K$500,\"Other Known Causes\"))","v":""},{"$f":"IF(Summary_Report_CPMS!$E91=\"\",\"\",SUMIFS(CMS_Detail!$J$24:$J$500,CMS_Detail!$B$24:$B$500,Summary_Report_CPMS!B91,CMS_Detail!$C$24:$C$500,Summary_Report_CPMS!C91,CMS_Detail!$D$24:$D$500,Summary_Report_CPMS!D91,CMS_Detail!$K$24:$K$500,\"Other Unknown Causes\"))","v":""}]
[{"$nulls":5},{"$f":"IF(Summary_Report_CPMS!E92=\"\",\"\",SUMIFS(CMS_Detail!$J$24:$J$500,CMS_Detail!$B$24:$B$500,Summary_Report_CPMS!B92,CMS_Detail!$C$24:$C$500,Summary_Report_CPMS!C92,CMS_Detail!$D$24:$D$500,Summary_Report_CPMS!D92))","v":""},"",{"$f":"IF(Summary_Report_CPMS!$E92=\"\",\"\",SUMIFS(CMS_Detail!$J$24:$J$500,CMS_Detail!$B$24:$B$500,Summary_Report_CPMS!B92,CMS_Detail!$C$24:$C$500,Summary_Report_CPMS!C92,CMS_Detail!$D$24:$D$500,Summary_Report_CPMS!D92,CMS_Detail!$K$24:$K$500,\"Monitoring Equipment Malfunctions\"))","v":""},{"$f":"IF(Summary_Report_CPMS!$E92=\"\",\"\",SUMIFS(CMS_Detail!$J$24:$J$500,CMS_Detail!$B$24:$B$500,Summary_Report_CPMS!B92,CMS_Detail!$C$24:$C$500,Summary_Report_CPMS!C92,CMS_Detail!$D$24:$D$500,Summary_Report_CPMS!D92,CMS_Detail!$K$24:$K$500,\"Nonmonitoring Equipment Malfunctions\"))","v":""},{"$f":"IF(Summary_Report_CPMS!$E92=\"\",\"\",SUMIFS(CMS_Detail!$J$24:$J$500,CMS_Detail!$B$24:$B$500,Summary_Report_CPMS!B92,CMS_Detail!$C$24:$C$500,Summary_Report_CPMS!C92,CMS_Detail!$D$24:$D$500,Summary_Report_CPMS!D92,CMS_Detail!$K$24:$K$500,\"Quality Assurance/Quality Control Calibrations\"))","v":""},{"$f":"IF(Summary_Report_CPMS!$E92=\"\",\"\",SUMIFS(CMS_Detail!$J$24:$J$500,CMS_Detail!$B$24:$B$500,Summary_Report_CPMS!B92,CMS_Detail!$C$24:$C$500,Summary_Report_CPMS!C92,CMS_Detail!$D$24:$D$500,Summary_Report_CPMS!D92,CMS_Detail!$K$24:$K$500,\"Other Known Causes\"))","v":""},{"$f":"IF(Summary_Report_CPMS!$E92=\"\",\"\",SUMIFS(CMS_Detail!$J$24:$J$500,CMS_Detail!$B$24:$B$500,Summary_Report_CPMS!B92,CMS_Detail!$C$24:$C$500,Summary_Report_CPMS!C92,CMS_Detail!$D$24:$D$500,Summary_Report_CPMS!D92,CMS_Detail!$K$24:$K$500,\"Other Unknown Causes\"))","v":""}]
[{"$nulls":5},{"$f":"IF(Summary_Report_CPMS!E93=\"\",\"\",SUMIFS(CMS_Detail!$J$24:$J$500,CMS_Detail!$B$24:$B$500,Summary_Report_CPMS!B93,CMS_Detail!$C$24:$C$500,Summary_Report_CPMS!C93,CMS_Detail!$D$24:$D$500,Summary_Report_CPMS!D93))","v":""},"",{"$f":"IF(Summary_Report_CPMS!$E93=\"\",\"\",SUMIFS(CMS_Detail!$J$24:$J$500,CMS_Detail!$B$24:$B$500,Summary_Report_CPMS!B93,CMS_Detail!$C$24:$C$500,Summary_Report_CPMS!C93,CMS_Detail!$D$24:$D$500,Summary_Report_CPMS!D93,CMS_Detail!$K$24:$K$500,\"Monitoring Equipment Malfunctions\"))","v":""},{"$f":"IF(Summary_Report_CPMS!$E93=\"\",\"\",SUMIFS(CMS_Detail!$J$24:$J$500,CMS_Detail!$B$24:$B$500,Summary_Report_CPMS!B93,CMS_Detail!$C$24:$C$500,Summary_Report_CPMS!C93,CMS_Detail!$D$24:$D$500,Summary_Report_CPMS!D93,CMS_Detail!$K$24:$K$500,\"Nonmonitoring Equipment Malfunctions\"))","v":""},{"$f":"IF(Summary_Report_CPMS!$E93=\"\",\"\",SUMIFS(CMS_Detail!$J$24:$J$500,CMS_Detail!$B$24:$B$500,Summary_Report_CPMS!B93,CMS_Detail!$C$24:$C$500,Summary_Report_CPMS!C93,CMS_Detail!$D$24:$D$500,Summary_Report_CPMS!D93,CMS_Detail!$K$24:$K$500,\"Quality Assurance/Quality Control Calibrations\"))","v":""},{"$f":"IF(Summary_Report_CPMS!$E93=\"\",\"\",SUMIFS(CMS_Detail!$J$24:$J$500,CMS_Detail!$B$24:$B$500,Summary_Report_CPMS!B93,CMS_Detail!$C$24:$C$500,Summary_Report_CPMS!C93,CMS_Detail!$D$24:$D$500,Summary_Report_CPMS!D93,CMS_Detail!$K$24:$K$500,\"Other Known Causes\"))","v":""},{"$f":"IF(Summary_Report_CPMS!$E93=\"\",\"\",SUMIFS(CMS_Detail!$J$24:$J$500,CMS_Detail!$B$24:$B$500,Summary_Report_CPMS!B93,CMS_Detail!$C$24:$C$500,Summary_Report_CPMS!C93,CMS_Detail!$D$24:$D$500,Summary_Report_CPMS!D93,CMS_Detail!$K$24:$K$500,\"Other Unknown Causes\"))","v":""}]
[{"$nulls":5},{"$f":"IF(Summary_Report_CPMS!E94=\"\",\"\",SUMIFS(CMS_Detail!$J$24:$J$500,CMS_Detail!$B$24:$B$500,Summary_Report_CPMS!B94,CMS_Detail!$C$24:$C$500,Summary_Report_CPMS!C94,CMS_Detail!$D$24:$D$500,Summary_Report_CPMS!D94))","v":""},"",{"$f":"IF(Summary_Report_CPMS!$E94=\"\",\"\",SUMIFS(CMS_Detail!$J$24:$J$500,CMS_Detail!$B$24:$B$500,Summary_Report_CPMS!B94,CMS_Detail!$C$24:$C$500,Summary_Report_CPMS!C94,CMS_Detail!$D$24:$D$500,Summary_Report_CPMS!D94,CMS_Detail!$K$24:$K$500,\"Monitoring Equipment Malfunctions\"))","v":""},{"$f":"IF(Summary_Report_CPMS!$E94=\"\",\"\",SUMIFS(CMS_Detail!$J$24:$J$500,CMS_Detail!$B$24:$B$500,Summary_Report_CPMS!B94,CMS_Detail!$C$24:$C$500,Summary_Report_CPMS!C94,CMS_Detail!$D$24:$D$500,Summary_Report_CPMS!D94,CMS_Detail!$K$24:$K$500,\"Nonmonitoring Equipment Malfunctions\"))","v":""},{"$f":"IF(Summary_Report_CPMS!$E94=\"\",\"\",SUMIFS(CMS_Detail!$J$24:$J$500,CMS_Detail!$B$24:$B$500,Summary_Report_CPMS!B94,CMS_Detail!$C$24:$C$500,Summary_Report_CPMS!C94,CMS_Detail!$D$24:$D$500,Summary_Report_CPMS!D94,CMS_Detail!$K$24:$K$500,\"Quality Assurance/Quality Control Calibrations\"))","v":""},{"$f":"IF(Summary_Report_CPMS!$E94=\"\",\"\",SUMIFS(CMS_Detail!$J$24:$J$500,CMS_Detail!$B$24:$B$500,Summary_Report_CPMS!B94,CMS_Detail!$C$24:$C$500,Summary_Report_CPMS!C94,CMS_Detail!$D$24:$D$500,Summary_Report_CPMS!D94,CMS_Detail!$K$24:$K$500,\"Other Known Causes\"))","v":""},{"$f":"IF(Summary_Report_CPMS!$E94=\"\",\"\",SUMIFS(CMS_Detail!$J$24:$J$500,CMS_Detail!$B$24:$B$500,Summary_Report_CPMS!B94,CMS_Detail!$C$24:$C$500,Summary_Report_CPMS!C94,CMS_Detail!$D$24:$D$500,Summary_Report_CPMS!D94,CMS_Detail!$K$24:$K$500,\"Other Unknown Causes\"))","v":""}]
[{"$nulls":5},{"$f":"IF(Summary_Report_CPMS!E95=\"\",\"\",SUMIFS(CMS_Detail!$J$24:$J$500,CMS_Detail!$B$24:$B$500,Summary_Report_CPMS!B95,CMS_Detail!$C$24:$C$500,Summary_Report_CPMS!C95,CMS_Detail!$D$24:$D$500,Summary_Report_CPMS!D95))","v":""},"",{"$f":"IF(Summary_Report_CPMS!$E95=\"\",\"\",SUMIFS(CMS_Detail!$J$24:$J$500,CMS_Detail!$B$24:$B$500,Summary_Report_CPMS!B95,CMS_Detail!$C$24:$C$500,Summary_Report_CPMS!C95,CMS_Detail!$D$24:$D$500,Summary_Report_CPMS!D95,CMS_Detail!$K$24:$K$500,\"Monitoring Equipment Malfunctions\"))","v":""},{"$f":"IF(Summary_Report_CPMS!$E95=\"\",\"\",SUMIFS(CMS_Detail!$J$24:$J$500,CMS_Detail!$B$24:$B$500,Summary_Report_CPMS!B95,CMS_Detail!$C$24:$C$500,Summary_Report_CPMS!C95,CMS_Detail!$D$24:$D$500,Summary_Report_CPMS!D95,CMS_Detail!$K$24:$K$500,\"Nonmonitoring Equipment Malfunctions\"))","v":""},{"$f":"IF(Summary_Report_CPMS!$E95=\"\",\"\",SUMIFS(CMS_Detail!$J$24:$J$500,CMS_Detail!$B$24:$B$500,Summary_Report_CPMS!B95,CMS_Detail!$C$24:$C$500,Summary_Report_CPMS!C95,CMS_Detail!$D$24:$D$500,Summary_Report_CPMS!D95,CMS_Detail!$K$24:$K$500,\"Quality Assurance/Quality Control Calibrations\"))","v":""},{"$f":"IF(Summary_Report_CPMS!$E95=\"\",\"\",SUMIFS(CMS_Detail!$J$24:$J$500,CMS_Detail!$B$24:$B$500,Summary_Report_CPMS!B95,CMS_Detail!$C$24:$C$500,Summary_Report_CPMS!C95,CMS_Detail!$D$24:$D$500,Summary_Report_CPMS!D95,CMS_Detail!$K$24:$K$500,\"Other Known Causes\"))","v":""},{"$f":"IF(Summary_Report_CPMS!$E95=\"\",\"\",SUMIFS(CMS_Detail!$J$24:$J$500,CMS_Detail!$B$24:$B$500,Summary_Report_CPMS!B95,CMS_Detail!$C$24:$C$500,Summary_Report_CPMS!C95,CMS_Detail!$D$24:$D$500,Summary_Report_CPMS!D95,CMS_Detail!$K$24:$K$500,\"Other Unknown Causes\"))","v":""}]
[{"$nulls":5},{"$f":"IF(Summary_Report_CPMS!E96=\"\",\"\",SUMIFS(CMS_Detail!$J$24:$J$500,CMS_Detail!$B$24:$B$500,Summary_Report_CPMS!B96,CMS_Detail!$C$24:$C$500,Summary_Report_CPMS!C96,CMS_Detail!$D$24:$D$500,Summary_Report_CPMS!D96))","v":""},"",{"$f":"IF(Summary_Report_CPMS!$E96=\"\",\"\",SUMIFS(CMS_Detail!$J$24:$J$500,CMS_Detail!$B$24:$B$500,Summary_Report_CPMS!B96,CMS_Detail!$C$24:$C$500,Summary_Report_CPMS!C96,CMS_Detail!$D$24:$D$500,Summary_Report_CPMS!D96,CMS_Detail!$K$24:$K$500,\"Monitoring Equipment Malfunctions\"))","v":""},{"$f":"IF(Summary_Report_CPMS!$E96=\"\",\"\",SUMIFS(CMS_Detail!$J$24:$J$500,CMS_Detail!$B$24:$B$500,Summary_Report_CPMS!B96,CMS_Detail!$C$24:$C$500,Summary_Report_CPMS!C96,CMS_Detail!$D$24:$D$500,Summary_Report_CPMS!D96,CMS_Detail!$K$24:$K$500,\"Nonmonitoring Equipment Malfunctions\"))","v":""},{"$f":"IF(Summary_Report_CPMS!$E96=\"\",\"\",SUMIFS(CMS_Detail!$J$24:$J$500,CMS_Detail!$B$24:$B$500,Summary_Report_CPMS!B96,CMS_Detail!$C$24:$C$500,Summary_Report_CPMS!C96,CMS_Detail!$D$24:$D$500,Summary_Report_CPMS!D96,CMS_Detail!$K$24:$K$500,\"Quality Assurance/Quality Control Calibrations\"))","v":""},{"$f":"IF(Summary_Report_CPMS!$E96=\"\",\"\",SUMIFS(CMS_Detail!$J$24:$J$500,CMS_Detail!$B$24:$B$500,Summary_Report_CPMS!B96,CMS_Detail!$C$24:$C$500,Summary_Report_CPMS!C96,CMS_Detail!$D$24:$D$500,Summary_Report_CPMS!D96,CMS_Detail!$K$24:$K$500,\"Other Known Causes\"))","v":""},{"$f":"IF(Summary_Report_CPMS!$E96=\"\",\"\",SUMIFS(CMS_Detail!$J$24:$J$500,CMS_Detail!$B$24:$B$500,Summary_Report_CPMS!B96,CMS_Detail!$C$24:$C$500,Summary_Report_CPMS!C96,CMS_Detail!$D$24:$D$500,Summary_Report_CPMS!D96,CMS_Detail!$K$24:$K$500,\"Other Unknown Causes\"))","v":""}]
[{"$nulls":5},{"$f":"IF(Summary_Report_CPMS!E97=\"\",\"\",SUMIFS(CMS_Detail!$J$24:$J$500,CMS_Detail!$B$24:$B$500,Summary_Report_CPMS!B97,CMS_Detail!$C$24:$C$500,Summary_Report_CPMS!C97,CMS_Detail!$D$24:$D$500,Summary_Report_CPMS!D97))","v":""},"",{"$f":"IF(Summary_Report_CPMS!$E97=\"\",\"\",SUMIFS(CMS_Detail!$J$24:$J$500,CMS_Detail!$B$24:$B$500,Summary_Report_CPMS!B97,CMS_Detail!$C$24:$C$500,Summary_Report_CPMS!C97,CMS_Detail!$D$24:$D$500,Summary_Report_CPMS!D97,CMS_Detail!$K$24:$K$500,\"Monitoring Equipment Malfunctions\"))","v":""},{"$f":"IF(Summary_Report_CPMS!$E97=\"\",\"\",SUMIFS(CMS_Detail!$J$24:$J$500,CMS_Detail!$B$24:$B$500,Summary_Report_CPMS!B97,CMS_Detail!$C$24:$C$500,Summary_Report_CPMS!C97,CMS_Detail!$D$24:$D$500,Summary_Report_CPMS!D97,CMS_Detail!$K$24:$K$500,\"Nonmonitoring Equipment Malfunctions\"))","v":""},{"$f":"IF(Summary_Report_CPMS!$E97=\"\",\"\",SUMIFS(CMS_Detail!$J$24:$J$500,CMS_Detail!$B$24:$B$500,Summary_Report_CPMS!B97,CMS_Detail!$C$24:$C$500,Summary_Report_CPMS!C97,CMS_Detail!$D$24:$D$500,Summary_Report_CPMS!D97,CMS_Detail!$K$24:$K$500,\"Quality Assurance/Quality Control Calibrations\"))","v":""},{"$f":"IF(Summary_Report_CPMS!$E97=\"\",\"\",SUMIFS(CMS_Detail!$J$24:$J$500,CMS_Detail!$B$24:$B$500,Summary_Report_CPMS!B97,CMS_Detail!$C$24:$C$500,Summary_Report_CPMS!C97,CMS_Detail!$D$24:$D$500,Summary_Report_CPMS!D97,CMS_Detail!$K$24:$K$500,\"Other Known Causes\"))","v":""},{"$f":"IF(Summary_Report_CPMS!$E97=\"\",\"\",SUMIFS(CMS_Detail!$J$24:$J$500,CMS_Detail!$B$24:$B$500,Summary_Report_CPMS!B97,CMS_Detail!$C$24:$C$500,Summary_Report_CPMS!C97,CMS_Detail!$D$24:$D$500,Summary_Report_CPMS!D97,CMS_Detail!$K$24:$K$500,\"Other Unknown Causes\"))","v":""}]
[{"$nulls":5},{"$f":"IF(Summary_Report_CPMS!E98=\"\",\"\",SUMIFS(CMS_Detail!$J$24:$J$500,CMS_Detail!$B$24:$B$500,Summary_Report_CPMS!B98,CMS_Detail!$C$24:$C$500,Summary_Report_CPMS!C98,CMS_Detail!$D$24:$D$500,Summary_Report_CPMS!D98))","v":""},"",{"$f":"IF(Summary_Report_CPMS!$E98=\"\",\"\",SUMIFS(CMS_Detail!$J$24:$J$500,CMS_Detail!$B$24:$B$500,Summary_Report_CPMS!B98,CMS_Detail!$C$24:$C$500,Summary_Report_CPMS!C98,CMS_Detail!$D$24:$D$500,Summary_Report_CPMS!D98,CMS_Detail!$K$24:$K$500,\"Monitoring Equipment Malfunctions\"))","v":""},{"$f":"IF(Summary_Report_CPMS!$E98=\"\",\"\",SUMIFS(CMS_Detail!$J$24:$J$500,CMS_Detail!$B$24:$B$500,Summary_Report_CPMS!B98,CMS_Detail!$C$24:$C$500,Summary_Report_CPMS!C98,CMS_Detail!$D$24:$D$500,Summary_Report_CPMS!D98,CMS_Detail!$K$24:$K$500,\"Nonmonitoring Equipment Malfunctions\"))","v":""},{"$f":"IF(Summary_Report_CPMS!$E98=\"\",\"\",SUMIFS(CMS_Detail!$J$24:$J$500,CMS_Detail!$B$24:$B$500,Summary_Report_CPMS!B98,CMS_Detail!$C$24:$C$500,Summary_Report_CPMS!C98,CMS_Detail!$D$24:$D$500,Summary_Report_CPMS!D98,CMS_Detail!$K$24:$K$500,\"Quality Assurance/Quality Control Calibrations\"))","v":""},{"$f":"IF(Summary_Report_CPMS!$E98=\"\",\"\",SUMIFS(CMS_Detail!$J$24:$J$500,CMS_Detail!$B$24:$B$500,Summary_Report_CPMS!B98,CMS_Detail!$C$24:$C$500,Summary_Report_CPMS!C98,CMS_Detail!$D$24:$D$500,Summary_Report_CPMS!D98,CMS_Detail!$K$24:$K$500,\"Other Known Causes\"))","v":""},{"$f":"IF(Summary_Report_CPMS!$E98=\"\",\"\",SUMIFS(CMS_Detail!$J$24:$J$500,CMS_Detail!$B$24:$B$500,Summary_Report_CPMS!B98,CMS_Detail!$C$24:$C$500,Summary_Report_CPMS!C98,CMS_Detail!$D$24:$D$500,Summary_Report_CPMS!D98,CMS_Detail!$K$24:$K$500,\"Other Unknown Causes\"))","v":""}]
[{"$nulls":5},{"$f":"IF(Summary_Report_CPMS!E99=\"\",\"\",SUMIFS(CMS_Detail!$J$24:$J$500,CMS_Detail!$B$24:$B$500,Summary_Report_CPMS!B99,CMS_Detail!$C$24:$C$500,Summary_Report_CPMS!C99,CMS_Detail!$D$24:$D$500,Summary_Report_CPMS!D99))","v":""},"",{"$f":"IF(Summary_Report_CPMS!$E99=\"\",\"\",SUMIFS(CMS_Detail!$J$24:$J$500,CMS_Detail!$B$24:$B$500,Summary_Report_CPMS!B99,CMS_Detail!$C$24:$C$500,Summary_Report_CPMS!C99,CMS_Detail!$D$24:$D$500,Summary_Report_CPMS!D99,CMS_Detail!$K$24:$K$500,\"Monitoring Equipment Malfunctions\"))","v":""},{"$f":"IF(Summary_Report_CPMS!$E99=\"\",\"\",SUMIFS(CMS_Detail!$J$24:$J$500,CMS_Detail!$B$24:$B$500,Summary_Report_CPMS!B99,CMS_Detail!$C$24:$C$500,Summary_Report_CPMS!C99,CMS_Detail!$D$24:$D$500,Summary_Report_CPMS!D99,CMS_Detail!$K$24:$K$500,\"Nonmonitoring Equipment Malfunctions\"))","v":""},{"$f":"IF(Summary_Report_CPMS!$E99=\"\",\"\",SUMIFS(CMS_Detail!$J$24:$J$500,CMS_Detail!$B$24:$B$500,Summary_Report_CPMS!B99,CMS_Detail!$C$24:$C$500,Summary_Report_CPMS!C99,CMS_Detail!$D$24:$D$500,Summary_Report_CPMS!D99,CMS_Detail!$K$24:$K$500,\"Quality Assurance/Quality Control Calibrations\"))","v":""},{"$f":"IF(Summary_Report_CPMS!$E99=\"\",\"\",SUMIFS(CMS_Detail!$J$24:$J$500,CMS_Detail!$B$24:$B$500,Summary_Report_CPMS!B99,CMS_Detail!$C$24:$C$500,Summary_Report_CPMS!C99,CMS_Detail!$D$24:$D$500,Summary_Report_CPMS!D99,CMS_Detail!$K$24:$K$500,\"Other Known Causes\"))","v":""},{"$f":"IF(Summary_Report_CPMS!$E99=\"\",\"\",SUMIFS(CMS_Detail!$J$24:$J$500,CMS_Detail!$B$24:$B$500,Summary_Report_CPMS!B99,CMS_Detail!$C$24:$C$500,Summary_Report_CPMS!C99,CMS_Detail!$D$24:$D$500,Summary_Report_CPMS!D99,CMS_Detail!$K$24:$K$500,\"Other Unknown Causes\"))","v":""}]
[{"$nulls":5},{"$f":"IF(Summary_Report_CPMS!E100=\"\",\"\",SUMIFS(CMS_Detail!$J$24:$J$500,CMS_Detail!$B$24:$B$500,Summary_Report_CPMS!B100,CMS_Detail!$C$24:$C$500,Summary_Report_CPMS!C100,CMS_Detail!$D$24:$D$500,Summary_Report_CPMS!D100))","v":""},"",{"$f":"IF(Summary_Report_CPMS!$E100=\"\",\"\",SUMIFS(CMS_Detail!$J$24:$J$500,CMS_Detail!$B$24:$B$500,Summary_Report_CPMS!B100,CMS_Detail!$C$24:$C$500,Summary_Report_CPMS!C100,CMS_Detail!$D$24:$D$500,Summary_Report_CPMS!D100,CMS_Detail!$K$24:$K$500,\"Monitoring Equipment Malfunctions\"))","v":""},{"$f":"IF(Summary_Report_CPMS!$E100=\"\",\"\",SUMIFS(CMS_Detail!$J$24:$J$500,CMS_Detail!$B$24:$B$500,Summary_Report_CPMS!B100,CMS_Detail!$C$24:$C$500,Summary_Report_CPMS!C100,CMS_Detail!$D$24:$D$500,Summary_Report_CPMS!D100,CMS_Detail!$K$24:$K$500,\"Nonmonitoring Equipment Malfunctions\"))","v":""},{"$f":"IF(Summary_Report_CPMS!$E100=\"\",\"\",SUMIFS(CMS_Detail!$J$24:$J$500,CMS_Detail!$B$24:$B$500,Summary_Report_CPMS!B100,CMS_Detail!$C$24:$C$500,Summary_Report_CPMS!C100,CMS_Detail!$D$24:$D$500,Summary_Report_CPMS!D100,CMS_Detail!$K$24:$K$500,\"Quality Assurance/Quality Control Calibrations\"))","v":""},{"$f":"IF(Summary_Report_CPMS!$E100=\"\",\"\",SUMIFS(CMS_Detail!$J$24:$J$500,CMS_Detail!$B$24:$B$500,Summary_Report_CPMS!B100,CMS_Detail!$C$24:$C$500,Summary_Report_CPMS!C100,CMS_Detail!$D$24:$D$500,Summary_Report_CPMS!D100,CMS_Detail!$K$24:$K$500,\"Other Known Causes\"))","v":""},{"$f":"IF(Summary_Report_CPMS!$E100=\"\",\"\",SUMIFS(CMS_Detail!$J$24:$J$500,CMS_Detail!$B$24:$B$500,Summary_Report_CPMS!B100,CMS_Detail!$C$24:$C$500,Summary_Report_CPMS!C100,CMS_Detail!$D$24:$D$500,Summary_Report_CPMS!D100,CMS_Detail!$K$24:$K$500,\"Other Unknown Causes\"))","v":""}]
[null,{"$f":"IF(E101=\"\",\"\",COUNT($E$24:$E$452)-COUNT(E102:$E$452))","v":""}]
[null,{"$f":"IF(E102=\"\",\"\",COUNT($E$24:$E$452)-COUNT(E103:$E$452))","v":""}]
[null,{"$f":"IF(E103=\"\",\"\",COUNT($E$24:$E$452)-COUNT(E104:$E$452))","v":""}]
[null,{"$f":"IF(E104=\"\",\"\",COUNT($E$24:$E$452)-COUNT(E105:$E$452))","v":""}]
[null,{"$f":"IF(E105=\"\",\"\",COUNT($E$24:$E$452)-COUNT(E106:$E$452))","v":""}]
[null,{"$f":"IF(E106=\"\",\"\",COUNT($E$24:$E$452)-COUNT(E107:$E$452))","v":""}]
[null,{"$f":"IF(E107=\"\",\"\",COUNT($E$24:$E$452)-COUNT(E108:$E$452))","v":""}]
[null,{"$f":"IF(E108=\"\",\"\",COUNT($E$24:$E$452)-COUNT(E109:$E$452))","v":""}]
[null,{"$f":"IF(E109=\"\",\"\",COUNT($E$24:$E$452)-COUNT(E110:$E$452))","v":""}]
[null,{"$f":"IF(E110=\"\",\"\",COUNT($E$24:$E$452)-COUNT(E111:$E$452))","v":""}]
[null,{"$f":"IF(E111=\"\",\"\",COUNT($E$24:$E$452)-COUNT(E112:$E$452))","v":""}]
[null,{"$f":"IF(E112=\"\",\"\",COUNT($E$24:$E$452)-COUNT(E113:$E$452))","v":""}]
[null,{"$f":"IF(E113=\"\",\"\",COUNT($E$24:$E$452)-COUNT(E114:$E$452))","v":""}]
[null,{"$f":"IF(E114=\"\",\"\",COUNT($E$24:$E$452)-COUNT(E115:$E$452))","v":""}]
[null,{"$f":"IF(E115=\"\",\"\",COUNT($E$24:$E$452)-COUNT(E116:$E$452))","v":""}]
[null,{"$f":"IF(E116=\"\",\"\",COUNT($E$24:$E$452)-COUNT(E117:$E$452))","v":""}]
[null,{"$f":"IF(E117=\"\",\"\",COUNT($E$24:$E$452)-COUNT(E118:$E$452))","v":""}]
[null,{"$f":"IF(E118=\"\",\"\",COUNT($E$24:$E$452)-COUNT(E119:$E$452))","v":""}]
[null,{"$f":"IF(E119=\"\",\"\",COUNT($E$24:$E$452)-COUNT(E120:$E$452))","v":""}]
[null,{"$f":"IF(E120=\"\",\"\",COUNT($E$24:$E$452)-COUNT(E121:$E$452))","v":""}]
[null,{"$f":"IF(E121=\"\",\"\",COUNT($E$24:$E$452)-COUNT(E122:$E$452))","v":""}]
[null,{"$f":"IF(E122=\"\",\"\",COUNT($E$24:$E$452)-COUNT(E123:$E$452))","v":""}]
[null,{"$f":"IF(E123=\"\",\"\",COUNT($E$24:$E$452)-COUNT(E124:$E$452))","v":""}]
[null,{"$f":"IF(E124=\"\",\"\",COUNT($E$24:$E$452)-COUNT(E125:$E$452))","v":""}]
[null,{"$f":"IF(E125=\"\",\"\",COUNT($E$24:$E$452)-COUNT(E126:$E$452))","v":""}]
[null,{"$f":"IF(E126=\"\",\"\",COUNT($E$24:$E$452)-COUNT(E127:$E$452))","v":""}]
[null,{"$f":"IF(E127=\"\",\"\",COUNT($E$24:$E$452)-COUNT(E128:$E$452))","v":""}]
[null,{"$f":"IF(E128=\"\",\"\",COUNT($E$24:$E$452)-COUNT(E129:$E$452))","v":""}]
[null,{"$f":"IF(E129=\"\",\"\",COUNT($E$24:$E$452)-COUNT(E130:$E$452))","v":""}]
[null,{"$f":"IF(E130=\"\",\"\",COUNT($E$24:$E$452)-COUNT(E131:$E$452))","v":""}]
[null,{"$f":"IF(E131=\"\",\"\",COUNT($E$24:$E$452)-COUNT(E132:$E$452))","v":""}]
[null,{"$f":"IF(E132=\"\",\"\",COUNT($E$24:$E$452)-COUNT(E133:$E$452))","v":""}]
[null,{"$f":"IF(E133=\"\",\"\",COUNT($E$24:$E$452)-COUNT(E134:$E$452))","v":""}]
[null,{"$f":"IF(E134=\"\",\"\",COUNT($E$24:$E$452)-COUNT(E135:$E$452))","v":""}]
[null,{"$f":"IF(E135=\"\",\"\",COUNT($E$24:$E$452)-COUNT(E136:$E$452))","v":""}]
[null,{"$f":"IF(E136=\"\",\"\",COUNT($E$24:$E$452)-COUNT(E137:$E$452))","v":""}]
[null,{"$f":"IF(E137=\"\",\"\",COUNT($E$24:$E$452)-COUNT(E138:$E$452))","v":""}]
[null,{"$f":"IF(E138=\"\",\"\",COUNT($E$24:$E$452)-COUNT(E139:$E$452))","v":""}]
[null,{"$f":"IF(E139=\"\",\"\",COUNT($E$24:$E$452)-COUNT(E140:$E$452))","v":""}]
[null,{"$f":"IF(E140=\"\",\"\",COUNT($E$24:$E$452)-COUNT(E141:$E$452))","v":""}]
[null,{"$f":"IF(E141=\"\",\"\",COUNT($E$24:$E$452)-COUNT(E142:$E$452))","v":""}]
[null,{"$f":"IF(E142=\"\",\"\",COUNT($E$24:$E$452)-COUNT(E143:$E$452))","v":""}]
[null,{"$f":"IF(E143=\"\",\"\",COUNT($E$24:$E$452)-COUNT(E144:$E$452))","v":""}]
[null,{"$f":"IF(E144=\"\",\"\",COUNT($E$24:$E$452)-COUNT(E145:$E$452))","v":""}]
[null,{"$f":"IF(E145=\"\",\"\",COUNT($E$24:$E$452)-COUNT(E146:$E$452))","v":""}]
[null,{"$f":"IF(E146=\"\",\"\",COUNT($E$24:$E$452)-COUNT(E147:$E$452))","v":""}]
[null,{"$f":"IF(E147=\"\",\"\",COUNT($E$24:$E$452)-COUNT(E148:$E$452))","v":""}]
[null,{"$f":"IF(E148=\"\",\"\",COUNT($E$24:$E$452)-COUNT(E149:$E$452))","v":""}]
[null,{"$f":"IF(E149=\"\",\"\",COUNT($E$24:$E$452)-COUNT(E150:$E$452))","v":""}]
[null,{"$f":"IF(E150=\"\",\"\",COUNT($E$24:$E$452)-COUNT(E151:$E$452))","v":""}]
[null,{"$f":"IF(E151=\"\",\"\",COUNT($E$24:$E$452)-COUNT(E152:$E$452))","v":""}]
[null,{"$f":"IF(E152=\"\",\"\",COUNT($E$24:$E$452)-COUNT(E153:$E$452))","v":""}]
[null,{"$f":"IF(E153=\"\",\"\",COUNT($E$24:$E$452)-COUNT(E154:$E$452))","v":""}]
[null,{"$f":"IF(E154=\"\",\"\",COUNT($E$24:$E$452)-COUNT(E155:$E$452))","v":""}]
[null,{"$f":"IF(E155=\"\",\"\",COUNT($E$24:$E$452)-COUNT(E156:$E$452))","v":""}]
[null,{"$f":"IF(E156=\"\",\"\",COUNT($E$24:$E$452)-COUNT(E157:$E$452))","v":""}]
[null,{"$f":"IF(E157=\"\",\"\",COUNT($E$24:$E$452)-COUNT(E158:$E$452))","v":""}]
[null,{"$f":"IF(E158=\"\",\"\",COUNT($E$24:$E$452)-COUNT(E159:$E$452))","v":""}]
[null,{"$f":"IF(E159=\"\",\"\",COUNT($E$24:$E$452)-COUNT(E160:$E$452))","v":""}]
[null,{"$f":"IF(E160=\"\",\"\",COUNT($E$24:$E$452)-COUNT(E161:$E$452))","v":""}]
[null,{"$f":"IF(E161=\"\",\"\",COUNT($E$24:$E$452)-COUNT(E162:$E$452))","v":""}]
[null,{"$f":"IF(E162=\"\",\"\",COUNT($E$24:$E$452)-COUNT(E163:$E$452))","v":""}]
[null,{"$f":"IF(E163=\"\",\"\",COUNT($E$24:$E$452)-COUNT(E164:$E$452))","v":""}]
[null,{"$f":"IF(E164=\"\",\"\",COUNT($E$24:$E$452)-COUNT(E165:$E$452))","v":""}]
[null,{"$f":"IF(E165=\"\",\"\",COUNT($E$24:$E$452)-COUNT(E166:$E$452))","v":""}]
[null,{"$f":"IF(E166=\"\",\"\",COUNT($E$24:$E$452)-COUNT(E167:$E$452))","v":""}]
[null,{"$f":"IF(E167=\"\",\"\",COUNT($E$24:$E$452)-COUNT(E168:$E$452))","v":""}]
[null,{"$f":"IF(E168=\"\",\"\",COUNT($E$24:$E$452)-COUNT(E169:$E$452))","v":""}]
[null,{"$f":"IF(E169=\"\",\"\",COUNT($E$24:$E$452)-COUNT(E170:$E$452))","v":""}]
[null,{"$f":"IF(E170=\"\",\"\",COUNT($E$24:$E$452)-COUNT(E171:$E$452))","v":""}]
[null,{"$f":"IF(E171=\"\",\"\",COUNT($E$24:$E$452)-COUNT(E172:$E$452))","v":""}]
[null,{"$f":"IF(E172=\"\",\"\",COUNT($E$24:$E$452)-COUNT(E173:$E$452))","v":""}]
[null,{"$f":"IF(E173=\"\",\"\",COUNT($E$24:$E$452)-COUNT(E174:$E$452))","v":""}]
[null,{"$f":"IF(E174=\"\",\"\",COUNT($E$24:$E$452)-COUNT(E175:$E$452))","v":""}]
[null,{"$f":"IF(E175=\"\",\"\",COUNT($E$24:$E$452)-COUNT(E176:$E$452))","v":""}]
[null,{"$f":"IF(E176=\"\",\"\",COUNT($E$24:$E$452)-COUNT(E177:$E$452))","v":""}]
[null,{"$f":"IF(E177=\"\",\"\",COUNT($E$24:$E$452)-COUNT(E178:$E$452))","v":""}]
[null,{"$f":"IF(E178=\"\",\"\",COUNT($E$24:$E$452)-COUNT(E179:$E$452))","v":""}]
[null,{"$f":"IF(E179=\"\",\"\",COUNT($E$24:$E$452)-COUNT(E180:$E$452))","v":""}]
[null,{"$f":"IF(E180=\"\",\"\",COUNT($E$24:$E$452)-COUNT(E181:$E$452))","v":""}]
[null,{"$f":"IF(E181=\"\",\"\",COUNT($E$24:$E$452)-COUNT(E182:$E$452))","v":""}]
[null,{"$f":"IF(E182=\"\",\"\",COUNT($E$24:$E$452)-COUNT(E183:$E$452))","v":""}]
[null,{"$f":"IF(E183=\"\",\"\",COUNT($E$24:$E$452)-COUNT(E184:$E$452))","v":""}]
[null,{"$f":"IF(E184=\"\",\"\",COUNT($E$24:$E$452)-COUNT(E185:$E$452))","v":""}]
[null,{"$f":"IF(E185=\"\",\"\",COUNT($E$24:$E$452)-COUNT(E186:$E$452))","v":""}]
[null,{"$f":"IF(E186=\"\",\"\",COUNT($E$24:$E$452)-COUNT(E187:$E$452))","v":""}]
[null,{"$f":"IF(E187=\"\",\"\",COUNT($E$24:$E$452)-COUNT(E188:$E$452))","v":""}]
[null,{"$f":"IF(E188=\"\",\"\",COUNT($E$24:$E$452)-COUNT(E189:$E$452))","v":""}]
[null,{"$f":"IF(E189=\"\",\"\",COUNT($E$24:$E$452)-COUNT(E190:$E$452))","v":""}]
[null,{"$f":"IF(E190=\"\",\"\",COUNT($E$24:$E$452)-COUNT(E191:$E$452))","v":""}]
[null,{"$f":"IF(E191=\"\",\"\",COUNT($E$24:$E$452)-COUNT(E192:$E$452))","v":""}]
[null,{"$f":"IF(E192=\"\",\"\",COUNT($E$24:$E$452)-COUNT(E193:$E$452))","v":""}]
[null,{"$f":"IF(E193=\"\",\"\",COUNT($E$24:$E$452)-COUNT(E194:$E$452))","v":""}]
[null,{"$f":"IF(E194=\"\",\"\",COUNT($E$24:$E$452)-COUNT(E195:$E$452))","v":""}]
[null,{"$f":"IF(E195=\"\",\"\",COUNT($E$24:$E$452)-COUNT(E196:$E$452))","v":""}]
[null,{"$f":"IF(E196=\"\",\"\",COUNT($E$24:$E$452)-COUNT(E197:$E$452))","v":""}]
[null,{"$f":"IF(E197=\"\",\"\",COUNT($E$24:$E$452)-COUNT(E198:$E$452))","v":""}]
[null,{"$f":"IF(E198=\"\",\"\",COUNT($E$24:$E$452)-COUNT(E199:$E$452))","v":""}]
[null,{"$f":"IF(E199=\"\",\"\",COUNT($E$24:$E$452)-COUNT(E200:$E$452))","v":""}]
[null,{"$f":"IF(E200=\"\",\"\",COUNT($E$24:$E$452)-COUNT(E201:$E$452))","v":""}]
[null,{"$f":"IF(E201=\"\",\"\",COUNT($E$24:$E$452)-COUNT(E202:$E$452))","v":""}]
[null,{"$f":"IF(E202=\"\",\"\",COUNT($E$24:$E$452)-COUNT(E203:$E$452))","v":""}]
[null,{"$f":"IF(E203=\"\",\"\",COUNT($E$24:$E$452)-COUNT(E204:$E$452))","v":""}]
[null,{"$f":"IF(E204=\"\",\"\",COUNT($E$24:$E$452)-COUNT(E205:$E$452))","v":""}]
[null,{"$f":"IF(E205=\"\",\"\",COUNT($E$24:$E$452)-COUNT(E206:$E$452))","v":""}]
[null,{"$f":"IF(E206=\"\",\"\",COUNT($E$24:$E$452)-COUNT(E207:$E$452))","v":""}]
[null,{"$f":"IF(E207=\"\",\"\",COUNT($E$24:$E$452)-COUNT(E208:$E$452))","v":""}]
[null,{"$f":"IF(E208=\"\",\"\",COUNT($E$24:$E$452)-COUNT(E209:$E$452))","v":""}]
[null,{"$f":"IF(E209=\"\",\"\",COUNT($E$24:$E$452)-COUNT(E210:$E$452))","v":""}]
[null,{"$f":"IF(E210=\"\",\"\",COUNT($E$24:$E$452)-COUNT(E211:$E$452))","v":""}]
[null,{"$f":"IF(E211=\"\",\"\",COUNT($E$24:$E$452)-COUNT(E212:$E$452))","v":""}]
[null,{"$f":"IF(E212=\"\",\"\",COUNT($E$24:$E$452)-COUNT(E213:$E$452))","v":""}]
[null,{"$f":"IF(E213=\"\",\"\",COUNT($E$24:$E$452)-COUNT(E214:$E$452))","v":""}]
[null,{"$f":"IF(E214=\"\",\"\",COUNT($E$24:$E$452)-COUNT(E215:$E$452))","v":""}]
[null,{"$f":"IF(E215=\"\",\"\",COUNT($E$24:$E$452)-COUNT(E216:$E$452))","v":""}]
[null,{"$f":"IF(E216=\"\",\"\",COUNT($E$24:$E$452)-COUNT(E217:$E$452))","v":""}]
[null,{"$f":"IF(E217=\"\",\"\",COUNT($E$24:$E$452)-COUNT(E218:$E$452))","v":""}]
[null,{"$f":"IF(E218=\"\",\"\",COUNT($E$24:$E$452)-COUNT(E219:$E$452))","v":""}]
[null,{"$f":"IF(E219=\"\",\"\",COUNT($E$24:$E$452)-COUNT(E220:$E$452))","v":""}]
[null,{"$f":"IF(E220=\"\",\"\",COUNT($E$24:$E$452)-COUNT(E221:$E$452))","v":""}]
[null,{"$f":"IF(E221=\"\",\"\",COUNT($E$24:$E$452)-COUNT(E222:$E$452))","v":""}]
[null,{"$f":"IF(E222=\"\",\"\",COUNT($E$24:$E$452)-COUNT(E223:$E$452))","v":""}]
[null,{"$f":"IF(E223=\"\",\"\",COUNT($E$24:$E$452)-COUNT(E224:$E$452))","v":""}]
[null,{"$f":"IF(E224=\"\",\"\",COUNT($E$24:$E$452)-COUNT(E225:$E$452))","v":""}]
[null,{"$f":"IF(E225=\"\",\"\",COUNT($E$24:$E$452)-COUNT(E226:$E$452))","v":""}]
[null,{"$f":"IF(E226=\"\",\"\",COUNT($E$24:$E$452)-COUNT(E227:$E$452))","v":""}]
[null,{"$f":"IF(E227=\"\",\"\",COUNT($E$24:$E$452)-COUNT(E228:$E$452))","v":""}]
[null,{"$f":"IF(E228=\"\",\"\",COUNT($E$24:$E$452)-COUNT(E229:$E$452))","v":""}]
[null,{"$f":"IF(E229=\"\",\"\",COUNT($E$24:$E$452)-COUNT(E230:$E$452))","v":""}]
[null,{"$f":"IF(E230=\"\",\"\",COUNT($E$24:$E$452)-COUNT(E231:$E$452))","v":""}]
[null,{"$f":"IF(E231=\"\",\"\",COUNT($E$24:$E$452)-COUNT(E232:$E$452))","v":""}]
[null,{"$f":"IF(E232=\"\",\"\",COUNT($E$24:$E$452)-COUNT(E233:$E$452))","v":""}]
[null,{"$f":"IF(E233=\"\",\"\",COUNT($E$24:$E$452)-COUNT(E234:$E$452))","v":""}]
[null,{"$f":"IF(E234=\"\",\"\",COUNT($E$24:$E$452)-COUNT(E235:$E$452))","v":""}]
[null,{"$f":"IF(E235=\"\",\"\",COUNT($E$24:$E$452)-COUNT(E236:$E$452))","v":""}]
[null,{"$f":"IF(E236=\"\",\"\",COUNT($E$24:$E$452)-COUNT(E237:$E$452))","v":""}]
[null,{"$f":"IF(E237=\"\",\"\",COUNT($E$24:$E$452)-COUNT(E238:$E$452))","v":""}]
[null,{"$f":"IF(E238=\"\",\"\",COUNT($E$24:$E$452)-COUNT(E239:$E$452))","v":""}]
[null,{"$f":"IF(E239=\"\",\"\",COUNT($E$24:$E$452)-COUNT(E240:$E$452))","v":""}]
[null,{"$f":"IF(E240=\"\",\"\",COUNT($E$24:$E$452)-COUNT(E241:$E$452))","v":""}]
[null,{"$f":"IF(E241=\"\",\"\",COUNT($E$24:$E$452)-COUNT(E242:$E$452))","v":""}]
[null,{"$f":"IF(E242=\"\",\"\",COUNT($E$24:$E$452)-COUNT(E243:$E$452))","v":""}]
[null,{"$f":"IF(E243=\"\",\"\",COUNT($E$24:$E$452)-COUNT(E244:$E$452))","v":""}]
[null,{"$f":"IF(E244=\"\",\"\",COUNT($E$24:$E$452)-COUNT(E245:$E$452))","v":""}]
[null,{"$f":"IF(E245=\"\",\"\",COUNT($E$24:$E$452)-COUNT(E246:$E$452))","v":""}]
[null,{"$f":"IF(E246=\"\",\"\",COUNT($E$24:$E$452)-COUNT(E247:$E$452))","v":""}]
[null,{"$f":"IF(E247=\"\",\"\",COUNT($E$24:$E$452)-COUNT(E248:$E$452))","v":""}]
[null,{"$f":"IF(E248=\"\",\"\",COUNT($E$24:$E$452)-COUNT(E249:$E$452))","v":""}]
[null,{"$f":"IF(E249=\"\",\"\",COUNT($E$24:$E$452)-COUNT(E250:$E$452))","v":""}]
[null,{"$f":"IF(E250=\"\",\"\",COUNT($E$24:$E$452)-COUNT(E251:$E$452))","v":""}]
[null,{"$f":"IF(E251=\"\",\"\",COUNT($E$24:$E$452)-COUNT(E252:$E$452))","v":""}]
[null,{"$f":"IF(E252=\"\",\"\",COUNT($E$24:$E$452)-COUNT(E253:$E$452))","v":""}]
[null,{"$f":"IF(E253=\"\",\"\",COUNT($E$24:$E$452)-COUNT(E254:$E$452))","v":""}]
[null,{"$f":"IF(E254=\"\",\"\",COUNT($E$24:$E$452)-COUNT(E255:$E$452))","v":""}]
[null,{"$f":"IF(E255=\"\",\"\",COUNT($E$24:$E$452)-COUNT(E256:$E$452))","v":""}]
[null,{"$f":"IF(E256=\"\",\"\",COUNT($E$24:$E$452)-COUNT(E257:$E$452))","v":""}]
[null,{"$f":"IF(E257=\"\",\"\",COUNT($E$24:$E$452)-COUNT(E258:$E$452))","v":""}]
[null,{"$f":"IF(E258=\"\",\"\",COUNT($E$24:$E$452)-COUNT(E259:$E$452))","v":""}]
[null,{"$f":"IF(E259=\"\",\"\",COUNT($E$24:$E$452)-COUNT(E260:$E$452))","v":""}]
[null,{"$f":"IF(E260=\"\",\"\",COUNT($E$24:$E$452)-COUNT(E261:$E$452))","v":""}]
[null,{"$f":"IF(E261=\"\",\"\",COUNT($E$24:$E$452)-COUNT(E262:$E$452))","v":""}]
[null,{"$f":"IF(E262=\"\",\"\",COUNT($E$24:$E$452)-COUNT(E263:$E$452))","v":""}]
[null,{"$f":"IF(E263=\"\",\"\",COUNT($E$24:$E$452)-COUNT(E264:$E$452))","v":""}]
[null,{"$f":"IF(E264=\"\",\"\",COUNT($E$24:$E$452)-COUNT(E265:$E$452))","v":""}]
[null,{"$f":"IF(E265=\"\",\"\",COUNT($E$24:$E$452)-COUNT(E266:$E$452))","v":""}]
[null,{"$f":"IF(E266=\"\",\"\",COUNT($E$24:$E$452)-COUNT(E267:$E$452))","v":""}]
[null,{"$f":"IF(E267=\"\",\"\",COUNT($E$24:$E$452)-COUNT(E268:$E$452))","v":""}]
[null,{"$f":"IF(E268=\"\",\"\",COUNT($E$24:$E$452)-COUNT(E269:$E$452))","v":""}]
[null,{"$f":"IF(E269=\"\",\"\",COUNT($E$24:$E$452)-COUNT(E270:$E$452))","v":""}]
[null,{"$f":"IF(E270=\"\",\"\",COUNT($E$24:$E$452)-COUNT(E271:$E$452))","v":""}]
[null,{"$f":"IF(E271=\"\",\"\",COUNT($E$24:$E$452)-COUNT(E272:$E$452))","v":""}]
[null,{"$f":"IF(E272=\"\",\"\",COUNT($E$24:$E$452)-COUNT(E273:$E$452))","v":""}]
[null,{"$f":"IF(E273=\"\",\"\",COUNT($E$24:$E$452)-COUNT(E274:$E$452))","v":""}]
[null,{"$f":"IF(E274=\"\",\"\",COUNT($E$24:$E$452)-COUNT(E275:$E$452))","v":""}]
[null,{"$f":"IF(E275=\"\",\"\",COUNT($E$24:$E$452)-COUNT(E276:$E$452))","v":""}]
[null,{"$f":"IF(E276=\"\",\"\",COUNT($E$24:$E$452)-COUNT(E277:$E$452))","v":""}]
[null,{"$f":"IF(E277=\"\",\"\",COUNT($E$24:$E$452)-COUNT(E278:$E$452))","v":""}]
[null,{"$f":"IF(E278=\"\",\"\",COUNT($E$24:$E$452)-COUNT(E279:$E$452))","v":""}]
[null,{"$f":"IF(E279=\"\",\"\",COUNT($E$24:$E$452)-COUNT(E280:$E$452))","v":""}]
[null,{"$f":"IF(E280=\"\",\"\",COUNT($E$24:$E$452)-COUNT(E281:$E$452))","v":""}]
[null,{"$f":"IF(E281=\"\",\"\",COUNT($E$24:$E$452)-COUNT(E282:$E$452))","v":""}]
[null,{"$f":"IF(E282=\"\",\"\",COUNT($E$24:$E$452)-COUNT(E283:$E$452))","v":""}]
[null,{"$f":"IF(E283=\"\",\"\",COUNT($E$24:$E$452)-COUNT(E284:$E$452))","v":""}]
[null,{"$f":"IF(E284=\"\",\"\",COUNT($E$24:$E$452)-COUNT(E285:$E$452))","v":""}]
[null,{"$f":"IF(E285=\"\",\"\",COUNT($E$24:$E$452)-COUNT(E286:$E$452))","v":""}]
[null,{"$f":"IF(E286=\"\",\"\",COUNT($E$24:$E$452)-COUNT(E287:$E$452))","v":""}]
[null,{"$f":"IF(E287=\"\",\"\",COUNT($E$24:$E$452)-COUNT(E288:$E$452))","v":""}]
[null,{"$f":"IF(E288=\"\",\"\",COUNT($E$24:$E$452)-COUNT(E289:$E$452))","v":""}]
[null,{"$f":"IF(E289=\"\",\"\",COUNT($E$24:$E$452)-COUNT(E290:$E$452))","v":""}]
[null,{"$f":"IF(E290=\"\",\"\",COUNT($E$24:$E$452)-COUNT(E291:$E$452))","v":""}]
[null,{"$f":"IF(E291=\"\",\"\",COUNT($E$24:$E$452)-COUNT(E292:$E$452))","v":""}]
[null,{"$f":"IF(E292=\"\",\"\",COUNT($E$24:$E$452)-COUNT(E293:$E$452))","v":""}]
[null,{"$f":"IF(E293=\"\",\"\",COUNT($E$24:$E$452)-COUNT(E294:$E$452))","v":""}]
[null,{"$f":"IF(E294=\"\",\"\",COUNT($E$24:$E$452)-COUNT(E295:$E$452))","v":""}]
[null,{"$f":"IF(E295=\"\",\"\",COUNT($E$24:$E$452)-COUNT(E296:$E$452))","v":""}]
[null,{"$f":"IF(E296=\"\",\"\",COUNT($E$24:$E$452)-COUNT(E297:$E$452))","v":""}]
[null,{"$f":"IF(E297=\"\",\"\",COUNT($E$24:$E$452)-COUNT(E298:$E$452))","v":""}]
[null,{"$f":"IF(E298=\"\",\"\",COUNT($E$24:$E$452)-COUNT(E299:$E$452))","v":""}]
[null,{"$f":"IF(E299=\"\",\"\",COUNT($E$24:$E$452)-COUNT(E300:$E$452))","v":""}]
[null,{"$f":"IF(E300=\"\",\"\",COUNT($E$24:$E$452)-COUNT(E301:$E$452))","v":""}]
[null,{"$f":"IF(E301=\"\",\"\",COUNT($E$24:$E$452)-COUNT(E302:$E$452))","v":""}]
[null,{"$f":"IF(E302=\"\",\"\",COUNT($E$24:$E$452)-COUNT(E303:$E$452))","v":""}]
[null,{"$f":"IF(E303=\"\",\"\",COUNT($E$24:$E$452)-COUNT(E304:$E$452))","v":""}]
[null,{"$f":"IF(E304=\"\",\"\",COUNT($E$24:$E$452)-COUNT(E305:$E$452))","v":""}]
[null,{"$f":"IF(E305=\"\",\"\",COUNT($E$24:$E$452)-COUNT(E306:$E$452))","v":""}]
[null,{"$f":"IF(E306=\"\",\"\",COUNT($E$24:$E$452)-COUNT(E307:$E$452))","v":""}]
[null,{"$f":"IF(E307=\"\",\"\",COUNT($E$24:$E$452)-COUNT(E308:$E$452))","v":""}]
[null,{"$f":"IF(E308=\"\",\"\",COUNT($E$24:$E$452)-COUNT(E309:$E$452))","v":""}]
[null,{"$f":"IF(E309=\"\",\"\",COUNT($E$24:$E$452)-COUNT(E310:$E$452))","v":""}]
[null,{"$f":"IF(E310=\"\",\"\",COUNT($E$24:$E$452)-COUNT(E311:$E$452))","v":""}]
[null,{"$f":"IF(E311=\"\",\"\",COUNT($E$24:$E$452)-COUNT(E312:$E$452))","v":""}]
[null,{"$f":"IF(E312=\"\",\"\",COUNT($E$24:$E$452)-COUNT(E313:$E$452))","v":""}]
[null,{"$f":"IF(E313=\"\",\"\",COUNT($E$24:$E$452)-COUNT(E314:$E$452))","v":""}]
[null,{"$f":"IF(E314=\"\",\"\",COUNT($E$24:$E$452)-COUNT(E315:$E$452))","v":""}]
[null,{"$f":"IF(E315=\"\",\"\",COUNT($E$24:$E$452)-COUNT(E316:$E$452))","v":""}]
[null,{"$f":"IF(E316=\"\",\"\",COUNT($E$24:$E$452)-COUNT(E317:$E$452))","v":""}]
[null,{"$f":"IF(E317=\"\",\"\",COUNT($E$24:$E$452)-COUNT(E318:$E$452))","v":""}]
[null,{"$f":"IF(E318=\"\",\"\",COUNT($E$24:$E$452)-COUNT(E319:$E$452))","v":""}]
[null,{"$f":"IF(E319=\"\",\"\",COUNT($E$24:$E$452)-COUNT(E320:$E$452))","v":""}]
[null,{"$f":"IF(E320=\"\",\"\",COUNT($E$24:$E$452)-COUNT(E321:$E$452))","v":""}]
[null,{"$f":"IF(E321=\"\",\"\",COUNT($E$24:$E$452)-COUNT(E322:$E$452))","v":""}]
[null,{"$f":"IF(E322=\"\",\"\",COUNT($E$24:$E$452)-COUNT(E323:$E$452))","v":""}]
[null,{"$f":"IF(E323=\"\",\"\",COUNT($E$24:$E$452)-COUNT(E324:$E$452))","v":""}]
[null,{"$f":"IF(E324=\"\",\"\",COUNT($E$24:$E$452)-COUNT(E325:$E$452))","v":""}]
[null,{"$f":"IF(E325=\"\",\"\",COUNT($E$24:$E$452)-COUNT(E326:$E$452))","v":""}]
[null,{"$f":"IF(E326=\"\",\"\",COUNT($E$24:$E$452)-COUNT(E327:$E$452))","v":""}]
[null,{"$f":"IF(E327=\"\",\"\",COUNT($E$24:$E$452)-COUNT(E328:$E$452))","v":""}]
[null,{"$f":"IF(E328=\"\",\"\",COUNT($E$24:$E$452)-COUNT(E329:$E$452))","v":""}]
[null,{"$f":"IF(E329=\"\",\"\",COUNT($E$24:$E$452)-COUNT(E330:$E$452))","v":""}]
[null,{"$f":"IF(E330=\"\",\"\",COUNT($E$24:$E$452)-COUNT(E331:$E$452))","v":""}]
[null,{"$f":"IF(E331=\"\",\"\",COUNT($E$24:$E$452)-COUNT(E332:$E$452))","v":""}]
[null,{"$f":"IF(E332=\"\",\"\",COUNT($E$24:$E$452)-COUNT(E333:$E$452))","v":""}]
[null,{"$f":"IF(E333=\"\",\"\",COUNT($E$24:$E$452)-COUNT(E334:$E$452))","v":""}]
[null,{"$f":"IF(E334=\"\",\"\",COUNT($E$24:$E$452)-COUNT(E335:$E$452))","v":""}]
[null,{"$f":"IF(E335=\"\",\"\",COUNT($E$24:$E$452)-COUNT(E336:$E$452))","v":""}]
[null,{"$f":"IF(E336=\"\",\"\",COUNT($E$24:$E$452)-COUNT(E337:$E$452))","v":""}]
[null,{"$f":"IF(E337=\"\",\"\",COUNT($E$24:$E$452)-COUNT(E338:$E$452))","v":""}]
[null,{"$f":"IF(E338=\"\",\"\",COUNT($E$24:$E$452)-COUNT(E339:$E$452))","v":""}]
[null,{"$f":"IF(E339=\"\",\"\",COUNT($E$24:$E$452)-COUNT(E340:$E$452))","v":""}]
[null,{"$f":"IF(E340=\"\",\"\",COUNT($E$24:$E$452)-COUNT(E341:$E$452))","v":""}]
[null,{"$f":"IF(E341=\"\",\"\",COUNT($E$24:$E$452)-COUNT(E342:$E$452))","v":""}]
[null,{"$f":"IF(E342=\"\",\"\",COUNT($E$24:$E$452)-COUNT(E343:$E$452))","v":""}]
[null,{"$f":"IF(E343=\"\",\"\",COUNT($E$24:$E$452)-COUNT(E344:$E$452))","v":""}]
[null,{"$f":"IF(E344=\"\",\"\",COUNT($E$24:$E$452)-COUNT(E345:$E$452))","v":""}]
[null,{"$f":"IF(E345=\"\",\"\",COUNT($E$24:$E$452)-COUNT(E346:$E$452))","v":""}]
[null,{"$f":"IF(E346=\"\",\"\",COUNT($E$24:$E$452)-COUNT(E347:$E$452))","v":""}]
[null,{"$f":"IF(E347=\"\",\"\",COUNT($E$24:$E$452)-COUNT(E348:$E$452))","v":""}]
[null,{"$f":"IF(E348=\"\",\"\",COUNT($E$24:$E$452)-COUNT(E349:$E$452))","v":""}]
[null,{"$f":"IF(E349=\"\",\"\",COUNT($E$24:$E$452)-COUNT(E350:$E$452))","v":""}]
[null,{"$f":"IF(E350=\"\",\"\",COUNT($E$24:$E$452)-COUNT(E351:$E$452))","v":""}]
[null,{"$f":"IF(E351=\"\",\"\",COUNT($E$24:$E$452)-COUNT(E352:$E$452))","v":""}]
[null,{"$f":"IF(E352=\"\",\"\",COUNT($E$24:$E$452)-COUNT(E353:$E$452))","v":""}]
[null,{"$f":"IF(E353=\"\",\"\",COUNT($E$24:$E$452)-COUNT(E354:$E$452))","v":""}]
[null,{"$f":"IF(E354=\"\",\"\",COUNT($E$24:$E$452)-COUNT(E355:$E$452))","v":""}]
[null,{"$f":"IF(E355=\"\",\"\",COUNT($E$24:$E$452)-COUNT(E356:$E$452))","v":""}]
[null,{"$f":"IF(E356=\"\",\"\",COUNT($E$24:$E$452)-COUNT(E357:$E$452))","v":""}]
[null,{"$f":"IF(E357=\"\",\"\",COUNT($E$24:$E$452)-COUNT(E358:$E$452))","v":""}]
[null,{"$f":"IF(E358=\"\",\"\",COUNT($E$24:$E$452)-COUNT(E359:$E$452))","v":""}]
[null,{"$f":"IF(E359=\"\",\"\",COUNT($E$24:$E$452)-COUNT(E360:$E$452))","v":""}]
[null,{"$f":"IF(E360=\"\",\"\",COUNT($E$24:$E$452)-COUNT(E361:$E$452))","v":""}]
[null,{"$f":"IF(E361=\"\",\"\",COUNT($E$24:$E$452)-COUNT(E362:$E$452))","v":""}]
[null,{"$f":"IF(E362=\"\",\"\",COUNT($E$24:$E$452)-COUNT(E363:$E$452))","v":""}]
[null,{"$f":"IF(E363=\"\",\"\",COUNT($E$24:$E$452)-COUNT(E364:$E$452))","v":""}]
[null,{"$f":"IF(E364=\"\",\"\",COUNT($E$24:$E$452)-COUNT(E365:$E$452))","v":""}]
[null,{"$f":"IF(E365=\"\",\"\",COUNT($E$24:$E$452)-COUNT(E366:$E$452))","v":""}]
[null,{"$f":"IF(E366=\"\",\"\",COUNT($E$24:$E$452)-COUNT(E367:$E$452))","v":""}]
[null,{"$f":"IF(E367=\"\",\"\",COUNT($E$24:$E$452)-COUNT(E368:$E$452))","v":""}]
[null,{"$f":"IF(E368=\"\",\"\",COUNT($E$24:$E$452)-COUNT(E369:$E$452))","v":""}]
[null,{"$f":"IF(E369=\"\",\"\",COUNT($E$24:$E$452)-COUNT(E370:$E$452))","v":""}]
[null,{"$f":"IF(E370=\"\",\"\",COUNT($E$24:$E$452)-COUNT(E371:$E$452))","v":""}]
[null,{"$f":"IF(E371=\"\",\"\",COUNT($E$24:$E$452)-COUNT(E372:$E$452))","v":""}]
[null,{"$f":"IF(E372=\"\",\"\",COUNT($E$24:$E$452)-COUNT(E373:$E$452))","v":""}]
[null,{"$f":"IF(E373=\"\",\"\",COUNT($E$24:$E$452)-COUNT(E374:$E$452))","v":""}]
[null,{"$f":"IF(E374=\"\",\"\",COUNT($E$24:$E$452)-COUNT(E375:$E$452))","v":""}]
[null,{"$f":"IF(E375=\"\",\"\",COUNT($E$24:$E$452)-COUNT(E376:$E$452))","v":""}]
[null,{"$f":"IF(E376=\"\",\"\",COUNT($E$24:$E$452)-COUNT(E377:$E$452))","v":""}]
[null,{"$f":"IF(E377=\"\",\"\",COUNT($E$24:$E$452)-COUNT(E378:$E$452))","v":""}]
[null,{"$f":"IF(E378=\"\",\"\",COUNT($E$24:$E$452)-COUNT(E379:$E$452))","v":""}]
[null,{"$f":"IF(E379=\"\",\"\",COUNT($E$24:$E$452)-COUNT(E380:$E$452))","v":""}]
[null,{"$f":"IF(E380=\"\",\"\",COUNT($E$24:$E$452)-COUNT(E381:$E$452))","v":""}]
[null,{"$f":"IF(E381=\"\",\"\",COUNT($E$24:$E$452)-COUNT(E382:$E$452))","v":""}]
[null,{"$f":"IF(E382=\"\",\"\",COUNT($E$24:$E$452)-COUNT(E383:$E$452))","v":""}]
[null,{"$f":"IF(E383=\"\",\"\",COUNT($E$24:$E$452)-COUNT(E384:$E$452))","v":""}]
[null,{"$f":"IF(E384=\"\",\"\",COUNT($E$24:$E$452)-COUNT(E385:$E$452))","v":""}]
[null,{"$f":"IF(E385=\"\",\"\",COUNT($E$24:$E$452)-COUNT(E386:$E$452))","v":""}]
[null,{"$f":"IF(E386=\"\",\"\",COUNT($E$24:$E$452)-COUNT(E387:$E$452))","v":""}]
[null,{"$f":"IF(E387=\"\",\"\",COUNT($E$24:$E$452)-COUNT(E388:$E$452))","v":""}]
[null,{"$f":"IF(E388=\"\",\"\",COUNT($E$24:$E$452)-COUNT(E389:$E$452))","v":""}]
[null,{"$f":"IF(E389=\"\",\"\",COUNT($E$24:$E$452)-COUNT(E390:$E$452))","v":""}]
[null,{"$f":"IF(E390=\"\",\"\",COUNT($E$24:$E$452)-COUNT(E391:$E$452))","v":""}]
[null,{"$f":"IF(E391=\"\",\"\",COUNT($E$24:$E$452)-COUNT(E392:$E$452))","v":""}]
[null,{"$f":"IF(E392=\"\",\"\",COUNT($E$24:$E$452)-COUNT(E393:$E$452))","v":""}]
[null,{"$f":"IF(E393=\"\",\"\",COUNT($E$24:$E$452)-COUNT(E394:$E$452))","v":""}]
[null,{"$f":"IF(E394=\"\",\"\",COUNT($E$24:$E$452)-COUNT(E395:$E$452))","v":""}]
[null,{"$f":"IF(E395=\"\",\"\",COUNT($E$24:$E$452)-COUNT(E396:$E$452))","v":""}]
[null,{"$f":"IF(E396=\"\",\"\",COUNT($E$24:$E$452)-COUNT(E397:$E$452))","v":""}]
[null,{"$f":"IF(E397=\"\",\"\",COUNT($E$24:$E$452)-COUNT(E398:$E$452))","v":""}]
[null,{"$f":"IF(E398=\"\",\"\",COUNT($E$24:$E$452)-COUNT(E399:$E$452))","v":""}]
[null,{"$f":"IF(E399=\"\",\"\",COUNT($E$24:$E$452)-COUNT(E400:$E$452))","v":""}]
[null,{"$f":"IF(E400=\"\",\"\",COUNT($E$24:$E$452)-COUNT(E401:$E$452))","v":""}]
[null,{"$f":"IF(E401=\"\",\"\",COUNT($E$24:$E$452)-COUNT(E402:$E$452))","v":""}]
[null,{"$f":"IF(E402=\"\",\"\",COUNT($E$24:$E$452)-COUNT(E403:$E$452))","v":""}]
[null,{"$f":"IF(E403=\"\",\"\",COUNT($E$24:$E$452)-COUNT(E404:$E$452))","v":""}]
[null,{"$f":"IF(E404=\"\",\"\",COUNT($E$24:$E$452)-COUNT(E405:$E$452))","v":""}]
[null,{"$f":"IF(E405=\"\",\"\",COUNT($E$24:$E$452)-COUNT(E406:$E$452))","v":""}]
[null,{"$f":"IF(E406=\"\",\"\",COUNT($E$24:$E$452)-COUNT(E407:$E$452))","v":""}]
[null,{"$f":"IF(E407=\"\",\"\",COUNT($E$24:$E$452)-COUNT(E408:$E$452))","v":""}]
[null,{"$f":"IF(E408=\"\",\"\",COUNT($E$24:$E$452)-COUNT(E409:$E$452))","v":""}]
[null,{"$f":"IF(E409=\"\",\"\",COUNT($E$24:$E$452)-COUNT(E410:$E$452))","v":""}]
[null,{"$f":"IF(E410=\"\",\"\",COUNT($E$24:$E$452)-COUNT(E411:$E$452))","v":""}]
[null,{"$f":"IF(E411=\"\",\"\",COUNT($E$24:$E$452)-COUNT(E412:$E$452))","v":""}]
[null,{"$f":"IF(E412=\"\",\"\",COUNT($E$24:$E$452)-COUNT(E413:$E$452))","v":""}]
[null,{"$f":"IF(E413=\"\",\"\",COUNT($E$24:$E$452)-COUNT(E414:$E$452))","v":""}]
[null,{"$f":"IF(E414=\"\",\"\",COUNT($E$24:$E$452)-COUNT(E415:$E$452))","v":""}]
[null,{"$f":"IF(E415=\"\",\"\",COUNT($E$24:$E$452)-COUNT(E416:$E$452))","v":""}]
[null,{"$f":"IF(E416=\"\",\"\",COUNT($E$24:$E$452)-COUNT(E417:$E$452))","v":""}]
[null,{"$f":"IF(E417=\"\",\"\",COUNT($E$24:$E$452)-COUNT(E418:$E$452))","v":""}]
[null,{"$f":"IF(E418=\"\",\"\",COUNT($E$24:$E$452)-COUNT(E419:$E$452))","v":""}]
[null,{"$f":"IF(E419=\"\",\"\",COUNT($E$24:$E$452)-COUNT(E420:$E$452))","v":""}]
[null,{"$f":"IF(E420=\"\",\"\",COUNT($E$24:$E$452)-COUNT(E421:$E$452))","v":""}]
[null,{"$f":"IF(E421=\"\",\"\",COUNT($E$24:$E$452)-COUNT(E422:$E$452))","v":""}]
[null,{"$f":"IF(E422=\"\",\"\",COUNT($E$24:$E$452)-COUNT(E423:$E$452))","v":""}]
[null,{"$f":"IF(E423=\"\",\"\",COUNT($E$24:$E$452)-COUNT(E424:$E$452))","v":""}]
[null,{"$f":"IF(E424=\"\",\"\",COUNT($E$24:$E$452)-COUNT(E425:$E$452))","v":""}]
[null,{"$f":"IF(E425=\"\",\"\",COUNT($E$24:$E$452)-COUNT(E426:$E$452))","v":""}]
[null,{"$f":"IF(E426=\"\",\"\",COUNT($E$24:$E$452)-COUNT(E427:$E$452))","v":""}]
[null,{"$f":"IF(E427=\"\",\"\",COUNT($E$24:$E$452)-COUNT(E428:$E$452))","v":""}]
[null,{"$f":"IF(E428=\"\",\"\",COUNT($E$24:$E$452)-COUNT(E429:$E$452))","v":""}]
[null,{"$f":"IF(E429=\"\",\"\",COUNT($E$24:$E$452)-COUNT(E430:$E$452))","v":""}]
[null,{"$f":"IF(E430=\"\",\"\",COUNT($E$24:$E$452)-COUNT(E431:$E$452))","v":""}]
[null,{"$f":"IF(E431=\"\",\"\",COUNT($E$24:$E$452)-COUNT(E432:$E$452))","v":""}]
[null,{"$f":"IF(E432=\"\",\"\",COUNT($E$24:$E$452)-COUNT(E433:$E$452))","v":""}]
[null,{"$f":"IF(E433=\"\",\"\",COUNT($E$24:$E$452)-COUNT(E434:$E$452))","v":""}]
[null,{"$f":"IF(E434=\"\",\"\",COUNT($E$24:$E$452)-COUNT(E435:$E$452))","v":""}]
[null,{"$f":"IF(E435=\"\",\"\",COUNT($E$24:$E$452)-COUNT(E436:$E$452))","v":""}]
[null,{"$f":"IF(E436=\"\",\"\",COUNT($E$24:$E$452)-COUNT(E437:$E$452))","v":""}]
[null,{"$f":"IF(E437=\"\",\"\",COUNT($E$24:$E$452)-COUNT(E438:$E$452))","v":""}]
[null,{"$f":"IF(E438=\"\",\"\",COUNT($E$24:$E$452)-COUNT(E439:$E$452))","v":""}]
[null,{"$f":"IF(E439=\"\",\"\",COUNT($E$24:$E$452)-COUNT(E440:$E$452))","v":""}]
[null,{"$f":"IF(E440=\"\",\"\",COUNT($E$24:$E$452)-COUNT(E441:$E$452))","v":""}]
[null,{"$f":"IF(E441=\"\",\"\",COUNT($E$24:$E$452)-COUNT(E442:$E$452))","v":""}]
[null,{"$f":"IF(E442=\"\",\"\",COUNT($E$24:$E$452)-COUNT(E443:$E$452))","v":""}]
[null,{"$f":"IF(E443=\"\",\"\",COUNT($E$24:$E$452)-COUNT(E444:$E$452))","v":""}]
[null,{"$f":"IF(E444=\"\",\"\",COUNT($E$24:$E$452)-COUNT(E445:$E$452))","v":""}]
[null,{"$f":"IF(E445=\"\",\"\",COUNT($E$24:$E$452)-COUNT(E446:$E$452))","v":""}]
[null,{"$f":"IF(E446=\"\",\"\",COUNT($E$24:$E$452)-COUNT(E447:$E$452))","v":""}]
[null,{"$f":"IF(E447=\"\",\"\",COUNT($E$24:$E$452)-COUNT(E448:$E$452))","v":""}]
[null,{"$f":"IF(E448=\"\",\"\",COUNT($E$24:$E$452)-COUNT(E449:$E$452))","v":""}]
[null,{"$f":"IF(E449=\"\",\"\",COUNT($E$24:$E$452)-COUNT(E450:$E$452))","v":""}]
[null,{"$f":"IF(E450=\"\",\"\",COUNT($E$24:$E$452)-COUNT(E451:$E$452))","v":""}]
[null,{"$f":"IF(E451=\"\",\"\",COUNT($E$24:$E$452)-COUNT(E$452:$E452))","v":""}]
[null,{"$f":"IF(E452=\"\",\"\",COUNT($E$24:$E$452)-COUNT(E$452:$E453))","v":""}]
[null,{"$f":"IF(E453=\"\",\"\",COUNT($E$24:$E$452)-COUNT(E$452:$E454))","v":""}]
[null,{"$f":"IF(E454=\"\",\"\",COUNT($E$24:$E$452)-COUNT(E$452:$E455))","v":""}]
[null,{"$f":"IF(E455=\"\",\"\",COUNT($E$24:$E$452)-COUNT(E$452:$E456))","v":""}]
[null,{"$f":"IF(E456=\"\",\"\",COUNT($E$24:$E$452)-COUNT(E$452:$E457))","v":""}]
[null,{"$f":"IF(E457=\"\",\"\",COUNT($E$24:$E$452)-COUNT(E$452:$E458))","v":""}]
[null,{"$f":"IF(E458=\"\",\"\",COUNT($E$24:$E$452)-COUNT(E$452:$E459))","v":""}]
[null,{"$f":"IF(E459=\"\",\"\",COUNT($E$24:$E$452)-COUNT(E$452:$E460))","v":""}]
[null,{"$f":"IF(E460=\"\",\"\",COUNT($E$24:$E$452)-COUNT(E$452:$E461))","v":""}]
[null,{"$f":"IF(E461=\"\",\"\",COUNT($E$24:$E$452)-COUNT(E$452:$E462))","v":""}]
[null,{"$f":"IF(E462=\"\",\"\",COUNT($E$24:$E$452)-COUNT(E$452:$E463))","v":""}]
[null,{"$f":"IF(E463=\"\",\"\",COUNT($E$24:$E$452)-COUNT(E$452:$E464))","v":""}]
[null,{"$f":"IF(E464=\"\",\"\",COUNT($E$24:$E$452)-COUNT(E$452:$E465))","v":""}]
[null,{"$f":"IF(E465=\"\",\"\",COUNT($E$24:$E$452)-COUNT(E$452:$E466))","v":""}]
[null,{"$f":"IF(E466=\"\",\"\",COUNT($E$24:$E$452)-COUNT(E$452:$E467))","v":""}]
[null,{"$f":"IF(E467=\"\",\"\",COUNT($E$24:$E$452)-COUNT(E$452:$E468))","v":""}]
[null,{"$f":"IF(E468=\"\",\"\",COUNT($E$24:$E$452)-COUNT(E$452:$E469))","v":""}]
[null,{"$f":"IF(E469=\"\",\"\",COUNT($E$24:$E$452)-COUNT(E$452:$E470))","v":""}]
[null,{"$f":"IF(E470=\"\",\"\",COUNT($E$24:$E$452)-COUNT(E$452:$E471))","v":""}]
[null,{"$f":"IF(E471=\"\",\"\",COUNT($E$24:$E$452)-COUNT(E$452:$E472))","v":""}]
[null,{"$f":"IF(E472=\"\",\"\",COUNT($E$24:$E$452)-COUNT(E$452:$E473))","v":""}]
[null,{"$f":"IF(E473=\"\",\"\",COUNT($E$24:$E$452)-COUNT(E$452:$E474))","v":""}]
[null,{"$f":"IF(E474=\"\",\"\",COUNT($E$24:$E$452)-COUNT(E$452:$E475))","v":""}]
[null,{"$f":"IF(E475=\"\",\"\",COUNT($E$24:$E$452)-COUNT(E$452:$E476))","v":""}]
[null,{"$f":"IF(E476=\"\",\"\",COUNT($E$24:$E$452)-COUNT(E$452:$E477))","v":""}]
[null,{"$f":"IF(E477=\"\",\"\",COUNT($E$24:$E$452)-COUNT(E$452:$E478))","v":""}]
[null,{"$f":"IF(E478=\"\",\"\",COUNT($E$24:$E$452)-COUNT(E$452:$E479))","v":""}]
[null,{"$f":"IF(E479=\"\",\"\",COUNT($E$24:$E$452)-COUNT(E$452:$E480))","v":""}]
[null,{"$f":"IF(E480=\"\",\"\",COUNT($E$24:$E$452)-COUNT(E$452:$E481))","v":""}]
[null,{"$f":"IF(E481=\"\",\"\",COUNT($E$24:$E$452)-COUNT(E$452:$E482))","v":""}]
[null,{"$f":"IF(E482=\"\",\"\",COUNT($E$24:$E$452)-COUNT(E$452:$E483))","v":""}]
[null,{"$f":"IF(E483=\"\",\"\",COUNT($E$24:$E$452)-COUNT(E$452:$E484))","v":""}]
[null,{"$f":"IF(E484=\"\",\"\",COUNT($E$24:$E$452)-COUNT(E$452:$E485))","v":""}]
[null,{"$f":"IF(E485=\"\",\"\",COUNT($E$24:$E$452)-COUNT(E$452:$E486))","v":""}]
[null,{"$f":"IF(E486=\"\",\"\",COUNT($E$24:$E$452)-COUNT(E$452:$E487))","v":""}]
[null,{"$f":"IF(E487=\"\",\"\",COUNT($E$24:$E$452)-COUNT(E$452:$E488))","v":""}]
[null,{"$f":"IF(E488=\"\",\"\",COUNT($E$24:$E$452)-COUNT(E$452:$E489))","v":""}]
[null,{"$f":"IF(E489=\"\",\"\",COUNT($E$24:$E$452)-COUNT(E$452:$E490))","v":""}]
[null,{"$f":"IF(E490=\"\",\"\",COUNT($E$24:$E$452)-COUNT(E$452:$E491))","v":""}]
[null,{"$f":"IF(E491=\"\",\"\",COUNT($E$24:$E$452)-COUNT(E$452:$E492))","v":""}]
[null,{"$f":"IF(E492=\"\",\"\",COUNT($E$24:$E$452)-COUNT(E$452:$E493))","v":""}]
[null,{"$f":"IF(E493=\"\",\"\",COUNT($E$24:$E$452)-COUNT(E$452:$E494))","v":""}]
[null,{"$f":"IF(E494=\"\",\"\",COUNT($E$24:$E$452)-COUNT(E$452:$E495))","v":""}]
[null,{"$f":"IF(E495=\"\",\"\",COUNT($E$24:$E$452)-COUNT(E$452:$E496))","v":""}]
[null,{"$f":"IF(E496=\"\",\"\",COUNT($E$24:$E$452)-COUNT(E$452:$E497))","v":""}]
[null,{"$f":"IF(E497=\"\",\"\",COUNT($E$24:$E$452)-COUNT(E$452:$E498))","v":""}]
[null,{"$f":"IF(E498=\"\",\"\",COUNT($E$24:$E$452)-COUNT(E$452:$E499))","v":""}]
[null,{"$f":"IF(E499=\"\",\"\",COUNT($E$24:$E$452)-COUNT(E$452:$E500))","v":""}]
[null,{"$f":"IF(E500=\"\",\"\",COUNT($E$24:$E$452)-COUNT(E$452:$E501))","v":""}]
[null,{"$f":"IF(E501=\"\",\"\",COUNT($E$24:$E$452)-COUNT(E$452:$E502))","v":""}]
[null,{"$f":"IF(E502=\"\",\"\",COUNT($E$24:$E$452)-COUNT(E$452:$E503))","v":""}]
[null,{"$f":"IF(E503=\"\",\"\",COUNT($E$24:$E$452)-COUNT(E$452:$E504))","v":""}]
[null,{"$f":"IF(E504=\"\",\"\",COUNT($E$24:$E$452)-COUNT(E$452:$E505))","v":""}]
[null,{"$f":"IF(E505=\"\",\"\",COUNT($E$24:$E$452)-COUNT(E$452:$E506))","v":""}]
[null,{"$f":"IF(E506=\"\",\"\",COUNT($E$24:$E$452)-COUNT(E$452:$E507))","v":""}]
[null,{"$f":"IF(E507=\"\",\"\",COUNT($E$24:$E$452)-COUNT(E$452:$E508))","v":""}]
[null,{"$f":"IF(E508=\"\",\"\",COUNT($E$24:$E$452)-COUNT(E$452:$E509))","v":""}]
[null,{"$f":"IF(E509=\"\",\"\",COUNT($E$24:$E$452)-COUNT(E$452:$E510))","v":""}]
[null,{"$f":"IF(E510=\"\",\"\",COUNT($E$24:$E$452)-COUNT(E$452:$E511))","v":""}]
[null,{"$f":"IF(E511=\"\",\"\",COUNT($E$24:$E$452)-COUNT(E$452:$E512))","v":""}]
[null,{"$f":"IF(E512=\"\",\"\",COUNT($E$24:$E$452)-COUNT(E$452:$E513))","v":""}]
[null,{"$f":"IF(E513=\"\",\"\",COUNT($E$24:$E$452)-COUNT(E$452:$E514))","v":""}]
[null,{"$f":"IF(E514=\"\",\"\",COUNT($E$24:$E$452)-COUNT(E$452:$E515))","v":""}]
[null,{"$f":"IF(E515=\"\",\"\",COUNT($E$24:$E$452)-COUNT(E$452:$E516))","v":""}]
[null,{"$f":"IF(E516=\"\",\"\",COUNT($E$24:$E$452)-COUNT(E$452:$E517))","v":""}]
[null,{"$f":"IF(E517=\"\",\"\",COUNT($E$24:$E$452)-COUNT(E$452:$E518))","v":""}]
[null,{"$f":"IF(E518=\"\",\"\",COUNT($E$24:$E$452)-COUNT(E$452:$E519))","v":""}]
[null,{"$f":"IF(E519=\"\",\"\",COUNT($E$24:$E$452)-COUNT(E$452:$E520))","v":""}]
[null,{"$f":"IF(E520=\"\",\"\",COUNT($E$24:$E$452)-COUNT(E$452:$E521))","v":""}]
[null,{"$f":"IF(E521=\"\",\"\",COUNT($E$24:$E$452)-COUNT(E$452:$E522))","v":""}]
[null,{"$f":"IF(E522=\"\",\"\",COUNT($E$24:$E$452)-COUNT(E$452:$E523))","v":""}]
[null,{"$f":"IF(E523=\"\",\"\",COUNT($E$24:$E$452)-COUNT(E$452:$E524))","v":""}]
[null,{"$f":"IF(E524=\"\",\"\",COUNT($E$24:$E$452)-COUNT(E$452:$E525))","v":""}]
[null,{"$f":"IF(E525=\"\",\"\",COUNT($E$24:$E$452)-COUNT(E$452:$E526))","v":""}]
[null,{"$f":"IF(E526=\"\",\"\",COUNT($E$24:$E$452)-COUNT(E$452:$E527))","v":""}]
[null,{"$f":"IF(E527=\"\",\"\",COUNT($E$24:$E$452)-COUNT(E$452:$E528))","v":""}]
[null,{"$f":"IF(E528=\"\",\"\",COUNT($E$24:$E$452)-COUNT(E$452:$E529))","v":""}]
[null,{"$f":"IF(E529=\"\",\"\",COUNT($E$24:$E$452)-COUNT(E$452:$E530))","v":""}]
[null,{"$f":"IF(E530=\"\",\"\",COUNT($E$24:$E$452)-COUNT(E$452:$E531))","v":""}]
[null,{"$f":"IF(E531=\"\",\"\",COUNT($E$24:$E$452)-COUNT(E$452:$E532))","v":""}]
[null,{"$f":"IF(E532=\"\",\"\",COUNT($E$24:$E$452)-COUNT(E$452:$E533))","v":""}]
[null,{"$f":"IF(E533=\"\",\"\",COUNT($E$24:$E$452)-COUNT(E$452:$E534))","v":""}]
[null,{"$f":"IF(E534=\"\",\"\",COUNT($E$24:$E$452)-COUNT(E$452:$E535))","v":""}]
[null,{"$f":"IF(E535=\"\",\"\",COUNT($E$24:$E$452)-COUNT(E$452:$E536))","v":""}]
[null,{"$f":"IF(E536=\"\",\"\",COUNT($E$24:$E$452)-COUNT(E$452:$E537))","v":""}]
[null,{"$f":"IF(E537=\"\",\"\",COUNT($E$24:$E$452)-COUNT(E$452:$E538))","v":""}]
[null,{"$f":"IF(E538=\"\",\"\",COUNT($E$24:$E$452)-COUNT(E$452:$E539))","v":""}]
[null,{"$f":"IF(E539=\"\",\"\",COUNT($E$24:$E$452)-COUNT(E$452:$E540))","v":""}]
[null,{"$f":"IF(E540=\"\",\"\",COUNT($E$24:$E$452)-COUNT(E$452:$E541))","v":""}]
[null,{"$f":"IF(E541=\"\",\"\",COUNT($E$24:$E$452)-COUNT(E$452:$E542))","v":""}]
[null,{"$f":"IF(E542=\"\",\"\",COUNT($E$24:$E$452)-COUNT(E$452:$E543))","v":""}]
[null,{"$f":"IF(E543=\"\",\"\",COUNT($E$24:$E$452)-COUNT(E$452:$E544))","v":""}]
[null,{"$f":"IF(E544=\"\",\"\",COUNT($E$24:$E$452)-COUNT(E$452:$E545))","v":""}]
[null,{"$f":"IF(E545=\"\",\"\",COUNT($E$24:$E$452)-COUNT(E$452:$E546))","v":""}]
[null,{"$f":"IF(E546=\"\",\"\",COUNT($E$24:$E$452)-COUNT(E$452:$E547))","v":""}]
[null,{"$f":"IF(E547=\"\",\"\",COUNT($E$24:$E$452)-COUNT(E$452:$E548))","v":""}]
[null,{"$f":"IF(E548=\"\",\"\",COUNT($E$24:$E$452)-COUNT(E$452:$E549))","v":""}]
[null,{"$f":"IF(E549=\"\",\"\",COUNT($E$24:$E$452)-COUNT(E$452:$E550))","v":""}]
[null,{"$f":"IF(E550=\"\",\"\",COUNT($E$24:$E$452)-COUNT(E$452:$E551))","v":""}]
[null,{"$f":"IF(E551=\"\",\"\",COUNT($E$24:$E$452)-COUNT(E$452:$E552))","v":""}]
[null,{"$f":"IF(E552=\"\",\"\",COUNT($E$24:$E$452)-COUNT(E$452:$E553))","v":""}]
[null,{"$f":"IF(E553=\"\",\"\",COUNT($E$24:$E$452)-COUNT(E$452:$E554))","v":""}]
[null,{"$f":"IF(E554=\"\",\"\",COUNT($E$24:$E$452)-COUNT(E$452:$E555))","v":""}]
[null,{"$f":"IF(E555=\"\",\"\",COUNT($E$24:$E$452)-COUNT(E$452:$E556))","v":""}]
[null,{"$f":"IF(E556=\"\",\"\",COUNT($E$24:$E$452)-COUNT(E$452:$E557))","v":""}]
[null,{"$f":"IF(E557=\"\",\"\",COUNT($E$24:$E$452)-COUNT(E$452:$E558))","v":""}]
[null,{"$f":"IF(E558=\"\",\"\",COUNT($E$24:$E$452)-COUNT(E$452:$E559))","v":""}]
[null,{"$f":"IF(E559=\"\",\"\",COUNT($E$24:$E$452)-COUNT(E$452:$E560))","v":""}]
[null,{"$f":"IF(E560=\"\",\"\",COUNT($E$24:$E$452)-COUNT(E$452:$E561))","v":""}]
[null,{"$f":"IF(E561=\"\",\"\",COUNT($E$24:$E$452)-COUNT(E$452:$E562))","v":""}]
[null,{"$f":"IF(E562=\"\",\"\",COUNT($E$24:$E$452)-COUNT(E$452:$E563))","v":""}]
[null,{"$f":"IF(E563=\"\",\"\",COUNT($E$24:$E$452)-COUNT(E$452:$E564))","v":""}]
[null,{"$f":"IF(E564=\"\",\"\",COUNT($E$24:$E$452)-COUNT(E$452:$E565))","v":""}]
[null,{"$f":"IF(E565=\"\",\"\",COUNT($E$24:$E$452)-COUNT(E$452:$E566))","v":""}]
[null,{"$f":"IF(E566=\"\",\"\",COUNT($E$24:$E$452)-COUNT(E$452:$E567))","v":""}]
[null,{"$f":"IF(E567=\"\",\"\",COUNT($E$24:$E$452)-COUNT(E$452:$E568))","v":""}]
[null,{"$f":"IF(E568=\"\",\"\",COUNT($E$24:$E$452)-COUNT(E$452:$E569))","v":""}]
[null,{"$f":"IF(E569=\"\",\"\",COUNT($E$24:$E$452)-COUNT(E$452:$E570))","v":""}]
[null,{"$f":"IF(E570=\"\",\"\",COUNT($E$24:$E$452)-COUNT(E$452:$E571))","v":""}]
[null,{"$f":"IF(E571=\"\",\"\",COUNT($E$24:$E$452)-COUNT(E$452:$E572))","v":""}]
[null,{"$f":"IF(E572=\"\",\"\",COUNT($E$24:$E$452)-COUNT(E$452:$E573))","v":""}]
[null,{"$f":"IF(E573=\"\",\"\",COUNT($E$24:$E$452)-COUNT(E$452:$E574))","v":""}]
[null,{"$f":"IF(E574=\"\",\"\",COUNT($E$24:$E$452)-COUNT(E$452:$E575))","v":""}]
[null,{"$f":"IF(E575=\"\",\"\",COUNT($E$24:$E$452)-COUNT(E$452:$E576))","v":""}]
[null,{"$f":"IF(E576=\"\",\"\",COUNT($E$24:$E$452)-COUNT(E$452:$E577))","v":""}]
[null,{"$f":"IF(E577=\"\",\"\",COUNT($E$24:$E$452)-COUNT(E$452:$E578))","v":""}]
[null,{"$f":"IF(E578=\"\",\"\",COUNT($E$24:$E$452)-COUNT(E$452:$E579))","v":""}]
[null,{"$f":"IF(E579=\"\",\"\",COUNT($E$24:$E$452)-COUNT(E$452:$E580))","v":""}]
[null,{"$f":"IF(E580=\"\",\"\",COUNT($E$24:$E$452)-COUNT(E$452:$E581))","v":""}]
[null,{"$f":"IF(E581=\"\",\"\",COUNT($E$24:$E$452)-COUNT(E$452:$E582))","v":""}]
[null,{"$f":"IF(E582=\"\",\"\",COUNT($E$24:$E$452)-COUNT(E$452:$E583))","v":""}]
[null,{"$f":"IF(E583=\"\",\"\",COUNT($E$24:$E$452)-COUNT(E$452:$E584))","v":""}]
[null,{"$f":"IF(E584=\"\",\"\",COUNT($E$24:$E$452)-COUNT(E$452:$E585))","v":""}]
[null,{"$f":"IF(E585=\"\",\"\",COUNT($E$24:$E$452)-COUNT(E$452:$E586))","v":""}]
[null,{"$f":"IF(E586=\"\",\"\",COUNT($E$24:$E$452)-COUNT(E$452:$E587))","v":""}]
[null,{"$f":"IF(E587=\"\",\"\",COUNT($E$24:$E$452)-COUNT(E$452:$E588))","v":""}]
[null,{"$f":"IF(E588=\"\",\"\",COUNT($E$24:$E$452)-COUNT(E$452:$E589))","v":""}]
[null,{"$f":"IF(E589=\"\",\"\",COUNT($E$24:$E$452)-COUNT(E$452:$E590))","v":""}]
[null,{"$f":"IF(E590=\"\",\"\",COUNT($E$24:$E$452)-COUNT(E$452:$E591))","v":""}]
[null,{"$f":"IF(E591=\"\",\"\",COUNT($E$24:$E$452)-COUNT(E$452:$E592))","v":""}]
[null,{"$f":"IF(E592=\"\",\"\",COUNT($E$24:$E$452)-COUNT(E$452:$E593))","v":""}]
[null,{"$f":"IF(E593=\"\",\"\",COUNT($E$24:$E$452)-COUNT(E$452:$E594))","v":""}]
[null,{"$f":"IF(E594=\"\",\"\",COUNT($E$24:$E$452)-COUNT(E$452:$E595))","v":""}]
[null,{"$f":"IF(E595=\"\",\"\",COUNT($E$24:$E$452)-COUNT(E$452:$E596))","v":""}]
[null,{"$f":"IF(E596=\"\",\"\",COUNT($E$24:$E$452)-COUNT(E$452:$E597))","v":""}]
[null,{"$f":"IF(E597=\"\",\"\",COUNT($E$24:$E$452)-COUNT(E$452:$E598))","v":""}]
[null,{"$f":"IF(E598=\"\",\"\",COUNT($E$24:$E$452)-COUNT(E$452:$E599))","v":""}]
[null,{"$f":"IF(E599=\"\",\"\",COUNT($E$24:$E$452)-COUNT(E$452:$E600))","v":""}]
[null,{"$f":"IF(E600=\"\",\"\",COUNT($E$24:$E$452)-COUNT(E$452:$E601))","v":""}]
[null,{"$f":"IF(E601=\"\",\"\",COUNT($E$24:$E$452)-COUNT(E$452:$E602))","v":""}]
[null,{"$f":"IF(E602=\"\",\"\",COUNT($E$24:$E$452)-COUNT(E$452:$E603))","v":""}]
[null,{"$f":"IF(E603=\"\",\"\",COUNT($E$24:$E$452)-COUNT(E$452:$E604))","v":""}]
[null,{"$f":"IF(E604=\"\",\"\",COUNT($E$24:$E$452)-COUNT(E$452:$E605))","v":""}]
[null,{"$f":"IF(E605=\"\",\"\",COUNT($E$24:$E$452)-COUNT(E$452:$E606))","v":""}]
[null,{"$f":"IF(E606=\"\",\"\",COUNT($E$24:$E$452)-COUNT(E$452:$E607))","v":""}]
[null,{"$f":"IF(E607=\"\",\"\",COUNT($E$24:$E$452)-COUNT(E$452:$E608))","v":""}]
[null,{"$f":"IF(E608=\"\",\"\",COUNT($E$24:$E$452)-COUNT(E$452:$E609))","v":""}]
[null,{"$f":"IF(E609=\"\",\"\",COUNT($E$24:$E$452)-COUNT(E$452:$E610))","v":""}]
[null,{"$f":"IF(E610=\"\",\"\",COUNT($E$24:$E$452)-COUNT(E$452:$E611))","v":""}]
[null,{"$f":"IF(E611=\"\",\"\",COUNT($E$24:$E$452)-COUNT(E$452:$E612))","v":""}]
[null,{"$f":"IF(E612=\"\",\"\",COUNT($E$24:$E$452)-COUNT(E$452:$E613))","v":""}]
[null,{"$f":"IF(E613=\"\",\"\",COUNT($E$24:$E$452)-COUNT(E$452:$E614))","v":""}]
[null,{"$f":"IF(E614=\"\",\"\",COUNT($E$24:$E$452)-COUNT(E$452:$E615))","v":""}]
[null,{"$f":"IF(E615=\"\",\"\",COUNT($E$24:$E$452)-COUNT(E$452:$E616))","v":""}]
[null,{"$f":"IF(E616=\"\",\"\",COUNT($E$24:$E$452)-COUNT(E$452:$E617))","v":""}]
[null,{"$f":"IF(E617=\"\",\"\",COUNT($E$24:$E$452)-COUNT(E$452:$E618))","v":""}]
[null,{"$f":"IF(E618=\"\",\"\",COUNT($E$24:$E$452)-COUNT(E$452:$E619))","v":""}]
[null,{"$f":"IF(E619=\"\",\"\",COUNT($E$24:$E$452)-COUNT(E$452:$E620))","v":""}]
[null,{"$f":"IF(E620=\"\",\"\",COUNT($E$24:$E$452)-COUNT(E$452:$E621))","v":""}]
[null,{"$f":"IF(E621=\"\",\"\",COUNT($E$24:$E$452)-COUNT(E$452:$E622))","v":""}]
[null,{"$f":"IF(E622=\"\",\"\",COUNT($E$24:$E$452)-COUNT(E$452:$E623))","v":""}]
[null,{"$f":"IF(E623=\"\",\"\",COUNT($E$24:$E$452)-COUNT(E$452:$E624))","v":""}]
[null,{"$f":"IF(E624=\"\",\"\",COUNT($E$24:$E$452)-COUNT(E$452:$E625))","v":""}]
[null,{"$f":"IF(E625=\"\",\"\",COUNT($E$24:$E$452)-COUNT(E$452:$E626))","v":""}]
[null,{"$f":"IF(E626=\"\",\"\",COUNT($E$24:$E$452)-COUNT(E$452:$E627))","v":""}]
[null,{"$f":"IF(E627=\"\",\"\",COUNT($E$24:$E$452)-COUNT(E$452:$E628))","v":""}]
[null,{"$f":"IF(E628=\"\",\"\",COUNT($E$24:$E$452)-COUNT(E$452:$E629))","v":""}]
[null,{"$f":"IF(E629=\"\",\"\",COUNT($E$24:$E$452)-COUNT(E$452:$E630))","v":""}]
[null,{"$f":"IF(E630=\"\",\"\",COUNT($E$24:$E$452)-COUNT(E$452:$E631))","v":""}]
[null,{"$f":"IF(E631=\"\",\"\",COUNT($E$24:$E$452)-COUNT(E$452:$E632))","v":""}]
[null,{"$f":"IF(E632=\"\",\"\",COUNT($E$24:$E$452)-COUNT(E$452:$E633))","v":""}]
[null,{"$f":"IF(E633=\"\",\"\",COUNT($E$24:$E$452)-COUNT(E$452:$E634))","v":""}]
[null,{"$f":"IF(E634=\"\",\"\",COUNT($E$24:$E$452)-COUNT(E$452:$E635))","v":""}]
[null,{"$f":"IF(E635=\"\",\"\",COUNT($E$24:$E$452)-COUNT(E$452:$E636))","v":""}]
[null,{"$f":"IF(E636=\"\",\"\",COUNT($E$24:$E$452)-COUNT(E$452:$E637))","v":""}]
[null,{"$f":"IF(E637=\"\",\"\",COUNT($E$24:$E$452)-COUNT(E$452:$E638))","v":""}]
[null,{"$f":"IF(E638=\"\",\"\",COUNT($E$24:$E$452)-COUNT(E$452:$E639))","v":""}]
[null,{"$f":"IF(E639=\"\",\"\",COUNT($E$24:$E$452)-COUNT(E$452:$E640))","v":""}]
[null,{"$f":"IF(E640=\"\",\"\",COUNT($E$24:$E$452)-COUNT(E$452:$E641))","v":""}]
[null,{"$f":"IF(E641=\"\",\"\",COUNT($E$24:$E$452)-COUNT(E$452:$E642))","v":""}]
[null,{"$f":"IF(E642=\"\",\"\",COUNT($E$24:$E$452)-COUNT(E$452:$E643))","v":""}]
[null,{"$f":"IF(E643=\"\",\"\",COUNT($E$24:$E$452)-COUNT(E$452:$E644))","v":""}]
[null,{"$f":"IF(E644=\"\",\"\",COUNT($E$24:$E$452)-COUNT(E$452:$E645))","v":""}]
[null,{"$f":"IF(E645=\"\",\"\",COUNT($E$24:$E$452)-COUNT(E$452:$E646))","v":""}]
[null,{"$f":"IF(E646=\"\",\"\",COUNT($E$24:$E$452)-COUNT(E$452:$E647))","v":""}]
[null,{"$f":"IF(E647=\"\",\"\",COUNT($E$24:$E$452)-COUNT(E$452:$E648))","v":""}]
[null,{"$f":"IF(E648=\"\",\"\",COUNT($E$24:$E$452)-COUNT(E$452:$E649))","v":""}]
[null,{"$f":"IF(E649=\"\",\"\",COUNT($E$24:$E$452)-COUNT(E$452:$E650))","v":""}]
[null,{"$f":"IF(E650=\"\",\"\",COUNT($E$24:$E$452)-COUNT(E$452:$E651))","v":""}]
[null,{"$f":"IF(E651=\"\",\"\",COUNT($E$24:$E$452)-COUNT(E$452:$E652))","v":""}]
[null,{"$f":"IF(E652=\"\",\"\",COUNT($E$24:$E$452)-COUNT(E$452:$E653))","v":""}]
[null,{"$f":"IF(E653=\"\",\"\",COUNT($E$24:$E$452)-COUNT(E$452:$E654))","v":""}]
[null,{"$f":"IF(E654=\"\",\"\",COUNT($E$24:$E$452)-COUNT(E$452:$E655))","v":""}]
[null,{"$f":"IF(E655=\"\",\"\",COUNT($E$24:$E$452)-COUNT(E$452:$E656))","v":""}]
[null,{"$f":"IF(E656=\"\",\"\",COUNT($E$24:$E$452)-COUNT(E$452:$E657))","v":""}]
[null,{"$f":"IF(E657=\"\",\"\",COUNT($E$24:$E$452)-COUNT(E$452:$E658))","v":""}]
[null,{"$f":"IF(E658=\"\",\"\",COUNT($E$24:$E$452)-COUNT(E$452:$E659))","v":""}]
[null,{"$f":"IF(E659=\"\",\"\",COUNT($E$24:$E$452)-COUNT(E$452:$E660))","v":""}]
[null,{"$f":"IF(E660=\"\",\"\",COUNT($E$24:$E$452)-COUNT(E$452:$E661))","v":""}]
[null,{"$f":"IF(E661=\"\",\"\",COUNT($E$24:$E$452)-COUNT(E$452:$E662))","v":""}]
[null,{"$f":"IF(E662=\"\",\"\",COUNT($E$24:$E$452)-COUNT(E$452:$E663))","v":""}]
[null,{"$f":"IF(E663=\"\",\"\",COUNT($E$24:$E$452)-COUNT(E$452:$E664))","v":""}]
[null,{"$f":"IF(E664=\"\",\"\",COUNT($E$24:$E$452)-COUNT(E$452:$E665))","v":""}]
[null,{"$f":"IF(E665=\"\",\"\",COUNT($E$24:$E$452)-COUNT(E$452:$E666))","v":""}]
[null,{"$f":"IF(E666=\"\",\"\",COUNT($E$24:$E$452)-COUNT(E$452:$E667))","v":""}]
[null,{"$f":"IF(E667=\"\",\"\",COUNT($E$24:$E$452)-COUNT(E$452:$E668))","v":""}]
[null,{"$f":"IF(E668=\"\",\"\",COUNT($E$24:$E$452)-COUNT(E$452:$E669))","v":""}]
[null,{"$f":"IF(E669=\"\",\"\",COUNT($E$24:$E$452)-COUNT(E$452:$E670))","v":""}]
[null,{"$f":"IF(E670=\"\",\"\",COUNT($E$24:$E$452)-COUNT(E$452:$E671))","v":""}]
[null,{"$f":"IF(E671=\"\",\"\",COUNT($E$24:$E$452)-COUNT(E$452:$E672))","v":""}]
[null,{"$f":"IF(E672=\"\",\"\",COUNT($E$24:$E$452)-COUNT(E$452:$E673))","v":""}]
[null,{"$f":"IF(E673=\"\",\"\",COUNT($E$24:$E$452)-COUNT(E$452:$E674))","v":""}]
[null,{"$f":"IF(E674=\"\",\"\",COUNT($E$24:$E$452)-COUNT(E$452:$E675))","v":""}]
[null,{"$f":"IF(E675=\"\",\"\",COUNT($E$24:$E$452)-COUNT(E$452:$E676))","v":""}]
[null,{"$f":"IF(E676=\"\",\"\",COUNT($E$24:$E$452)-COUNT(E$452:$E677))","v":""}]
[null,{"$f":"IF(E677=\"\",\"\",COUNT($E$24:$E$452)-COUNT(E$452:$E678))","v":""}]
[null,{"$f":"IF(E678=\"\",\"\",COUNT($E$24:$E$452)-COUNT(E$452:$E679))","v":""}]
[null,{"$f":"IF(E679=\"\",\"\",COUNT($E$24:$E$452)-COUNT(E$452:$E680))","v":""}]
[null,{"$f":"IF(E680=\"\",\"\",COUNT($E$24:$E$452)-COUNT(E$452:$E681))","v":""}]
[null,{"$f":"IF(E681=\"\",\"\",COUNT($E$24:$E$452)-COUNT(E$452:$E682))","v":""}]
[null,{"$f":"IF(E682=\"\",\"\",COUNT($E$24:$E$452)-COUNT(E$452:$E683))","v":""}]
[null,{"$f":"IF(E683=\"\",\"\",COUNT($E$24:$E$452)-COUNT(E$452:$E684))","v":""}]
[null,{"$f":"IF(E684=\"\",\"\",COUNT($E$24:$E$452)-COUNT(E$452:$E685))","v":""}]
[null,{"$f":"IF(E685=\"\",\"\",COUNT($E$24:$E$452)-COUNT(E$452:$E686))","v":""}]
[null,{"$f":"IF(E686=\"\",\"\",COUNT($E$24:$E$452)-COUNT(E$452:$E687))","v":""}]
[null,{"$f":"IF(E687=\"\",\"\",COUNT($E$24:$E$452)-COUNT(E$452:$E688))","v":""}]
[null,{"$f":"IF(E688=\"\",\"\",COUNT($E$24:$E$452)-COUNT(E$452:$E689))","v":""}]
[null,{"$f":"IF(E689=\"\",\"\",COUNT($E$24:$E$452)-COUNT(E$452:$E690))","v":""}]
[null,{"$f":"IF(E690=\"\",\"\",COUNT($E$24:$E$452)-COUNT(E$452:$E691))","v":""}]
[null,{"$f":"IF(E691=\"\",\"\",COUNT($E$24:$E$452)-COUNT(E$452:$E692))","v":""}]
[null,{"$f":"IF(E692=\"\",\"\",COUNT($E$24:$E$452)-COUNT(E$452:$E693))","v":""}]
[null,{"$f":"IF(E693=\"\",\"\",COUNT($E$24:$E$452)-COUNT(E$452:$E694))","v":""}]
[null,{"$f":"IF(E694=\"\",\"\",COUNT($E$24:$E$452)-COUNT(E$452:$E695))","v":""}]
[null,{"$f":"IF(E695=\"\",\"\",COUNT($E$24:$E$452)-COUNT(E$452:$E696))","v":""}]
[null,{"$f":"IF(E696=\"\",\"\",COUNT($E$24:$E$452)-COUNT(E$452:$E697))","v":""}]
[null,{"$f":"IF(E697=\"\",\"\",COUNT($E$24:$E$452)-COUNT(E$452:$E698))","v":""}]
[null,{"$f":"IF(E698=\"\",\"\",COUNT($E$24:$E$452)-COUNT(E$452:$E699))","v":""}]
[null,{"$f":"IF(E699=\"\",\"\",COUNT($E$24:$E$452)-COUNT(E$452:$E700))","v":""}]
[null,{"$f":"IF(E700=\"\",\"\",COUNT($E$24:$E$452)-COUNT(E$452:$E701))","v":""}]
[null,{"$f":"IF(E701=\"\",\"\",COUNT($E$24:$E$452)-COUNT(E$452:$E702))","v":""}]
[null,{"$f":"IF(E702=\"\",\"\",COUNT($E$24:$E$452)-COUNT(E$452:$E703))","v":""}]
[null,{"$f":"IF(E703=\"\",\"\",COUNT($E$24:$E$452)-COUNT(E$452:$E704))","v":""}]
[null,{"$f":"IF(E704=\"\",\"\",COUNT($E$24:$E$452)-COUNT(E$452:$E705))","v":""}]
[null,{"$f":"IF(E705=\"\",\"\",COUNT($E$24:$E$452)-COUNT(E$452:$E706))","v":""}]
[null,{"$f":"IF(E706=\"\",\"\",COUNT($E$24:$E$452)-COUNT(E$452:$E707))","v":""}]
[null,{"$f":"IF(E707=\"\",\"\",COUNT($E$24:$E$452)-COUNT(E$452:$E708))","v":""}]

{"sheet":"CMS_Detail","index":11,"n_rows":500,"n_cols":12,"rows_kept":500}
[null,"DO NOT REMOVE OR EDIT INFORMATION IN ROWS 1 THROUGH 5\nFOR INTERNAL USE ONLY"]
[null,"Template Name",null,{"$f":"+Welcome!B2","v":"63.5765(d) Semiannual Compliance Report (Spreadsheet Template)"}]
[null,"CitationID",null,{"$f":"+Welcome!B3","v":"63.5765(d)"}]
[null,"Template Version",null,{"$f":"+Welcome!B4","v":"ICR Draft"}]
[null,"Last Updated Date",null,{"$f":"+Welcome!B5","v":{"v":45601,"d":"4560100.00%"}}]
[]
[null,"40 CFR Part 63, Subpart VVVV National Emission Standards for Hazardous Air Pollutants: Boat Manufacturing - §63.5765(d)  Semiannual Compliance Report Spreadsheet Template"]
[null,"\n"]
[]
[]
[]
[null,"Company Record No.\n(Select from dropdown)","Regulated Operation\n(§63.10(e)(3)(vi)(D))\n(Select from dropdown)","Monitoring Equipment Manufacturer and Model Number\n(§63.10(e)(3)(vi)(F))\n(Select from dropdown)","CPMS Inoperative or \nOut of Control\n(Select from dropdown)","Starting Date CPMS \nInoperative or Out of Control\n(§63.10(c)(5) or (6))","Starting Time CPMS Inoperative or Out of Control\n(§63.10(c)(5) or (6))","Ending Date CPMS \nInoperative or Out of Control\n(§63.10(c)(5) or (6))","Ending Time CPMS Inoperative or Out of Control\n(§63.10(c)(5) or (6))","Duration CPMS Inoperative \nor Out of Control (hours)\n(Calculated value, for use in Summary form)","Cause of CPMS Being\n Inoperative or Out of Control\n(§63.10(c)(10))\n(Select From dropdown)","Corrective Action Taken/ Nature of Repairs or Adjustment to CMS\n(§63.10(c)(11) or (12)"]
[null,"RecordId","RegulatedOperation","MonitorIdentification","CPMSOutageDescription","CPMSStartDate","CPMSStartTime","CPMSEndDate","CPMSEndTime","CPMSOutageDuration","CPMSOutageCause","CorrectiveAction"]
[null,"e.g.: 1","e.g. Open Molding","e.g. Omega NB1-ICSS-14U-12","e.g. Inoperative","e.g.: 3/2/2017","e.g.: 15:52","e.g.: 3/3/2017","e.g.: 09:15","e.g.: 17.40","e.g.: Other known causes","e.g.: replaced thermocouple"]
[null,"e.g.:","e.g.:","e.g.:","e.g.:","e.g.:","e.g.:","e.g.:","e.g.:","e.g.:","e.g.:","e.g.:"]
[null,"e.g.:","e.g.:","e.g.:","e.g.:","e.g.:","e.g.:","e.g.:","e.g.:","e.g.:","e.g.:","e.g.:"]
[null,"e.g.:","e.g.:","e.g.:","e.g.:","e.g.:","e.g.:","e.g.:","e.g.:","e.g.:","e.g.:","e.g.:"]
[null,"e.g.:","e.g.:","e.g.:","e.g.:","e.g.:","e.g.:","e.g.:","e.g.:","e.g.:","e.g.:","e.g.:"]
[null,"e.g.:","e.g.:","e.g.:","e.g.:","e.g.:","e.g.:","e.g.:","e.g.:","e.g.:","e.g.:","e.g.:"]
[null,"e.g.:","e.g.:","e.g.:","e.g.:","e.g.:","e.g.:","e.g.:","e.g.:","e.g.:","e.g.:","e.g.:"]
[null,"e.g.:","e.g.:","e.g.:","e.g.:","e.g.:","e.g.:","e.g.:","e.g.:","e.g.:","e.g.:","e.g.:"]
[null,"e.g.:","e.g.:","e.g.:","e.g.:","e.g.:","e.g.:","e.g.:","e.g.:","e.g.:","e.g.:","e.g.:"]
[null,"e.g.:","e.g.:","e.g.:","e.g.:","e.g.:","e.g.:","e.g.:","e.g.:","e.g.:","e.g.:","e.g.:"]
[{"$nulls":9},{"$f":"IF(I24=\"\",\"\",(VALUE(TEXT(H24,\"m/dd/yy \")&TEXT(I24,\"hh:mm:ss\"))-(VALUE(TEXT(F24,\"m/dd/yy \")&TEXT(G24,\"hh:mm:ss\"))))*24)","v":""}]
[{"$nulls":9},{"$f":"IF(I25=\"\",\"\",(VALUE(TEXT(H25,\"m/dd/yy \")&TEXT(I25,\"hh:mm:ss\"))-(VALUE(TEXT(F25,\"m/dd/yy \")&TEXT(G25,\"hh:mm:ss\"))))*24)","v":""}]
[{"$nulls":9},""]
[{"$nulls":9},""]
[{"$nulls":9},""]
[{"$nulls":9},""]
[{"$nulls":9},""]
[{"$nulls":9},""]
[{"$nulls":9},""]
[{"$nulls":9},""]
[{"$nulls":9},""]
[{"$nulls":9},""]
[{"$nulls":9},""]
[{"$nulls":9},""]
[{"$nulls":9},""]
[{"$nulls":9},""]
[{"$nulls":9},""]
[{"$nulls":9},""]
[{"$nulls":9},""]
[{"$nulls":9},""]
[{"$nulls":9},""]
[{"$nulls":9},""]
[{"$nulls":9},""]
[{"$nulls":9},""]
[{"$nulls":9},""]
[{"$nulls":9},""]
[{"$nulls":9},""]
[{"$nulls":9},""]
[{"$nulls":9},""]
[{"$nulls":9},""]
[{"$nulls":9},""]
[{"$nulls":9},""]
[{"$nulls":9},""]
[{"$nulls":9},""]
[{"$nulls":9},""]
[{"$nulls":9},""]
[{"$nulls":9},""]
[{"$nulls":9},""]
[{"$nulls":9},""]
[{"$nulls":9},""]
[{"$nulls":9},""]
[{"$nulls":9},""]
[{"$nulls":9},""]
[{"$nulls":9},""]
[{"$nulls":9},""]
[{"$nulls":9},""]
[{"$nulls":9},""]
[{"$nulls":9},""]
[{"$nulls":9},""]
[{"$nulls":9},""]
[{"$nulls":9},""]
[{"$nulls":9},""]
[{"$nulls":9},""]
[{"$nulls":9},""]
[{"$nulls":9},""]
[{"$nulls":9},""]
[{"$nulls":9},""]
[{"$nulls":9},""]
[{"$nulls":9},""]
[{"$nulls":9},""]
[{"$nulls":9},""]
[{"$nulls":9},""]
[{"$nulls":9},""]
[{"$nulls":9},""]
[{"$nulls":9},""]
[{"$nulls":9},{"$f":"IF(I89=\"\",\"\",(VALUE(TEXT(H89,\"m/dd/yy \")&TEXT(I89,\"hh:mm:ss\"))-(VALUE(TEXT(F89,\"m/dd/yy \")&TEXT(G89,\"hh:mm:ss\"))))*24)","v":""}]
[{"$nulls":9},""]
[{"$nulls":9},""]
[{"$nulls":9},""]
[{"$nulls":9},""]
[{"$nulls":9},""]
[{"$nulls":9},""]
[{"$nulls":9},""]
[{"$nulls":9},""]
[{"$nulls":9},""]
[{"$nulls":9},""]
[{"$nulls":9},""]
[{"$nulls":9},""]
[{"$nulls":9},""]
[{"$nulls":9},""]
[{"$nulls":9},""]
[{"$nulls":9},""]
[{"$nulls":9},""]
[{"$nulls":9},""]
[{"$nulls":9},""]
[{"$nulls":9},""]
[{"$nulls":9},""]
[{"$nulls":9},""]
[{"$nulls":9},""]
[{"$nulls":9},""]
[{"$nulls":9},""]
[{"$nulls":9},""]
[{"$nulls":9},""]
[{"$nulls":9},""]
[{"$nulls":9},""]
[{"$nulls":9},""]
[{"$nulls":9},""]
[{"$nulls":9},""]
[{"$nulls":9},""]
[{"$nulls":9},""]
[{"$nulls":9},""]
[{"$nulls":9},""]
[{"$nulls":9},""]
[{"$nulls":9},""]
[{"$nulls":9},""]
[{"$nulls":9},""]
[{"$nulls":9},""]
[{"$nulls":9},""]
[{"$nulls":9},""]
[{"$nulls":9},""]
[{"$nulls":9},""]
[{"$nulls":9},""]
[{"$nulls":9},""]
[{"$nulls":9},""]
[{"$nulls":9},""]
[{"$nulls":9},""]
[{"$nulls":9},""]
[{"$nulls":9},""]
[{"$nulls":9},""]
[{"$nulls":9},""]
[{"$nulls":9},""]
[{"$nulls":9},""]
[{"$nulls":9},""]
[{"$nulls":9},""]
[{"$nulls":9},""]
[{"$nulls":9},""]
[{"$nulls":9},""]
[{"$nulls":9},""]
[{"$nulls":9},""]
[{"$nulls":9},{"$f":"IF(I153=\"\",\"\",(VALUE(TEXT(H153,\"m/dd/yy \")&TEXT(I153,\"hh:mm:ss\"))-(VALUE(TEXT(F153,\"m/dd/yy \")&TEXT(G153,\"hh:mm:ss\"))))*24)","v":""}]
[{"$nulls":9},""]
[{"$nulls":9},""]
[{"$nulls":9},""]
[{"$nulls":9},""]
[{"$nulls":9},""]
[{"$nulls":9},""]
[{"$nulls":9},""]
[{"$nulls":9},""]
[{"$nulls":9},""]
[{"$nulls":9},""]
[{"$nulls":9},""]
[{"$nulls":9},""]
[{"$nulls":9},""]
[{"$nulls":9},""]
[{"$nulls":9},""]
[{"$nulls":9},""]
[{"$nulls":9},""]
[{"$nulls":9},""]
[{"$nulls":9},""]
[{"$nulls":9},""]
[{"$nulls":9},""]
[{"$nulls":9},""]
[{"$nulls":9},""]
[{"$nulls":9},""]
[{"$nulls":9},""]
[{"$nulls":9},""]
[{"$nulls":9},""]
[{"$nulls":9},""]
[{"$nulls":9},""]
[{"$nulls":9},""]
[{"$nulls":9},""]
[{"$nulls":9},""]
[{"$nulls":9},""]
[{"$nulls":9},""]
[{"$nulls":9},""]
[{"$nulls":9},""]
[{"$nulls":9},""]
[{"$nulls":9},""]
[{"$nulls":9},""]
[{"$nulls":9},""]
[{"$nulls":9},""]
[{"$nulls":9},""]
[{"$nulls":9},""]
[{"$nulls":9},""]
[{"$nulls":9},""]
[{"$nulls":9},""]
[{"$nulls":9},""]
[{"$nulls":9},""]
[{"$nulls":9},""]
[{"$nulls":9},""]
[{"$nulls":9},""]
[{"$nulls":9},""]
[{"$nulls":9},""]
[{"$nulls":9},""]
[{"$nulls":9},""]
[{"$nulls":9},""]
[{"$nulls":9},""]
[{"$nulls":9},""]
[{"$nulls":9},""]
[{"$nulls":9},""]
[{"$nulls":9},""]
[{"$nulls":9},""]
[{"$nulls":9},""]
[{"$nulls":9},{"$f":"IF(I217=\"\",\"\",(VALUE(TEXT(H217,\"m/dd/yy \")&TEXT(I217,\"hh:mm:ss\"))-(VALUE(TEXT(F217,\"m/dd/yy \")&TEXT(G217,\"hh:mm:ss\"))))*24)","v":""}]
[{"$nulls":9},""]
[{"$nulls":9},""]
[{"$nulls":9},""]
[{"$nulls":9},""]
[{"$nulls":9},""]
[{"$nulls":9},""]
[{"$nulls":9},""]
[{"$nulls":9},""]
[{"$nulls":9},""]
[{"$nulls":9},""]
[{"$nulls":9},""]
[{"$nulls":9},""]
[{"$nulls":9},""]
[{"$nulls":9},""]
[{"$nulls":9},""]
[{"$nulls":9},""]
[{"$nulls":9},""]
[{"$nulls":9},""]
[{"$nulls":9},""]
[{"$nulls":9},""]
[{"$nulls":9},""]
[{"$nulls":9},""]
[{"$nulls":9},""]
[{"$nulls":9},""]
[{"$nulls":9},""]
[{"$nulls":9},""]
[{"$nulls":9},""]
[{"$nulls":9},""]
[{"$nulls":9},""]
[{"$nulls":9},""]
[{"$nulls":9},""]
[{"$nulls":9},""]
[{"$nulls":9},""]
[{"$nulls":9},""]
[{"$nulls":9},""]
[{"$nulls":9},""]
[{"$nulls":9},""]
[{"$nulls":9},""]
[{"$nulls":9},""]
[{"$nulls":9},""]
[{"$nulls":9},""]
[{"$nulls":9},""]
[{"$nulls":9},""]
[{"$nulls":9},""]
[{"$nulls":9},""]
[{"$nulls":9},""]
[{"$nulls":9},""]
[{"$nulls":9},""]
[{"$nulls":9},""]
[{"$nulls":9},""]
[{"$nulls":9},""]
[{"$nulls":9},""]
[{"$nulls":9},""]
[{"$nulls":9},""]
[{"$nulls":9},""]
[{"$nulls":9},""]
[{"$nulls":9},""]
[{"$nulls":9},""]
[{"$nulls":9},""]
[{"$nulls":9},""]
[{"$nulls":9},""]
[{"$nulls":9},""]
[{"$nulls":9},""]
[{"$nulls":9},{"$f":"IF(I281=\"\",\"\",(VALUE(TEXT(H281,\"m/dd/yy \")&TEXT(I281,\"hh:mm:ss\"))-(VALUE(TEXT(F281,\"m/dd/yy \")&TEXT(G281,\"hh:mm:ss\"))))*24)","v":""}]
[{"$nulls":9},""]
[{"$nulls":9},""]
[{"$nulls":9},""]
[{"$nulls":9},""]
[{"$nulls":9},""]
[{"$nulls":9},""]
[{"$nulls":9},""]
[{"$nulls":9},""]
[{"$nulls":9},""]
[{"$nulls":9},""]
[{"$nulls":9},""]
[{"$nulls":9},""]
[{"$nulls":9},""]
[{"$nulls":9},""]
[{"$nulls":9},""]
[{"$nulls":9},""]
[{"$nulls":9},""]
[{"$nulls":9},""]
[{"$nulls":9},""]
[{"$nulls":9},""]
[{"$nulls":9},""]
[{"$nulls":9},""]
[{"$nulls":9},""]
[{"$nulls":9},""]
[{"$nulls":9},""]
[{"$nulls":9},""]
[{"$nulls":9},""]
[{"$nulls":9},""]
[{"$nulls":9},""]
[{"$nulls":9},""]
[{"$nulls":9},""]
[{"$nulls":9},""]
[{"$nulls":9},""]
[{"$nulls":9},""]
[{"$nulls":9},""]
[{"$nulls":9},""]
[{"$nulls":9},""]
[{"$nulls":9},""]
[{"$nulls":9},""]
[{"$nulls":9},""]
[{"$nulls":9},""]
[{"$nulls":9},""]
[{"$nulls":9},""]
[{"$nulls":9},""]
[{"$nulls":9},""]
[{"$nulls":9},""]
[{"$nulls":9},""]
[{"$nulls":9},""]
[{"$nulls":9},""]
[{"$nulls":9},""]
[{"$nulls":9},""]
[{"$nulls":9},""]
[{"$nulls":9},""]
[{"$nulls":9},""]
[{"$nulls":9},""]
[{"$nulls":9},""]
[{"$nulls":9},""]
[{"$nulls":9},""]
[{"$nulls":9},""]
[{"$nulls":9},""]
[{"$nulls":9},""]
[{"$nulls":9},""]
[{"$nulls":9},""]
[{"$nulls":9},{"$f":"IF(I345=\"\",\"\",(VALUE(TEXT(H345,\"m/dd/yy \")&TEXT(I345,\"hh:mm:ss\"))-(VALUE(TEXT(F345,\"m/dd/yy \")&TEXT(G345,\"hh:mm:ss\"))))*24)","v":""}]
[{"$nulls":9},""]
[{"$nulls":9},""]
[{"$nulls":9},""]
[{"$nulls":9},""]
[{"$nulls":9},""]
[{"$nulls":9},""]
[{"$nulls":9},""]
[{"$nulls":9},""]
[{"$nulls":9},""]
[{"$nulls":9},""]
[{"$nulls":9},""]
[{"$nulls":9},""]
[{"$nulls":9},""]
[{"$nulls":9},""]
[{"$nulls":9},""]
[{"$nulls":9},""]
[{"$nulls":9},""]
[{"$nulls":9},""]
[{"$nulls":9},""]
[{"$nulls":9},""]
[{"$nulls":9},""]
[{"$nulls":9},""]
[{"$nulls":9},""]
[{"$nulls":9},""]
[{"$nulls":9},""]
[{"$nulls":9},""]
[{"$nulls":9},""]
[{"$nulls":9},""]
[{"$nulls":9},""]
[{"$nulls":9},""]
[{"$nulls":9},""]
[{"$nulls":9},""]
[{"$nulls":9},""]
[{"$nulls":9},""]
[{"$nulls":9},""]
[{"$nulls":9},""]
[{"$nulls":9},""]
[{"$nulls":9},""]
[{"$nulls":9},""]
[{"$nulls":9},""]
[{"$nulls":9},""]
[{"$nulls":9},""]
[{"$nulls":9},""]
[{"$nulls":9},""]
[{"$nulls":9},""]
[{"$nulls":9},""]
[{"$nulls":9},""]
[{"$nulls":9},""]
[{"$nulls":9},""]
[{"$nulls":9},""]
[{"$nulls":9},""]
[{"$nulls":9},""]
[{"$nulls":9},""]
[{"$nulls":9},""]
[{"$nulls":9},""]
[{"$nulls":9},""]
[{"$nulls":9},""]
[{"$nulls":9},""]
[{"$nulls":9},""]
[{"$nulls":9},""]
[{"$nulls":9},""]
[{"$nulls":9},""]
[{"$nulls":9},""]
[{"$nulls":9},{"$f":"IF(I409=\"\",\"\",(VALUE(TEXT(H409,\"m/dd/yy \")&TEXT(I409,\"hh:mm:ss\"))-(VALUE(TEXT(F409,\"m/dd/yy \")&TEXT(G409,\"hh:mm:ss\"))))*24)","v":""}]
[{"$nulls":9},""]
[{"$nulls":9},""]
[{"$nulls":9},""]
[{"$nulls":9},""]
[{"$nulls":9},""]
[{"$nulls":9},""]
[{"$nulls":9},""]
[{"$nulls":9},""]
[{"$nulls":9},""]
[{"$nulls":9},""]
[{"$nulls":9},""]
[{"$nulls":9},""]
[{"$nulls":9},""]
[{"$nulls":9},""]
[{"$nulls":9},""]
[{"$nulls":9},""]
[{"$nulls":9},""]
[{"$nulls":9},""]
[{"$nulls":9},""]
[{"$nulls":9},""]
[{"$nulls":9},""]
[{"$nulls":9},""]
[{"$nulls":9},""]
[{"$nulls":9},""]
[{"$nulls":9},""]
[{"$nulls":9},""]
[{"$nulls":9},""]
[{"$nulls":9},""]
[{"$nulls":9},""]
[{"$nulls":9},""]
[{"$nulls":9},""]
[{"$nulls":9},""]
[{"$nulls":9},""]
[{"$nulls":9},""]
[{"$nulls":9},""]
[{"$nulls":9},""]
[{"$nulls":9},""]
[{"$nulls":9},""]
[{"$nulls":9},""]
[{"$nulls":9},""]
[{"$nulls":9},""]
[{"$nulls":9},""]
[{"$nulls":9},""]
[{"$nulls":9},""]
[{"$nulls":9},""]
[{"$nulls":9},""]
[{"$nulls":9},""]
[{"$nulls":9},""]
[{"$nulls":9},""]
[{"$nulls":9},""]
[{"$nulls":9},""]
[{"$nulls":9},""]
[{"$nulls":9},""]
[{"$nulls":9},""]
[{"$nulls":9},""]
[{"$nulls":9},""]
[{"$nulls":9},""]
[{"$nulls":9},""]
[{"$nulls":9},""]
[{"$nulls":9},""]
[{"$nulls":9},""]
[{"$nulls":9},""]
[{"$nulls":9},""]
[{"$nulls":9},{"$f":"IF(I473=\"\",\"\",(VALUE(TEXT(H473,\"m/dd/yy \")&TEXT(I473,\"hh:mm:ss\"))-(VALUE(TEXT(F473,\"m/dd/yy \")&TEXT(G473,\"hh:mm:ss\"))))*24)","v":""}]
[{"$nulls":9},""]
[{"$nulls":9},""]
[{"$nulls":9},""]
[{"$nulls":9},""]
[{"$nulls":9},""]
[{"$nulls":9},""]
[{"$nulls":9},""]
[{"$nulls":9},""]
[{"$nulls":9},""]
[{"$nulls":9},""]
[{"$nulls":9},""]
[{"$nulls":9},""]
[{"$nulls":9},""]
[{"$nulls":9},""]
[{"$nulls":9},""]
[{"$nulls":9},""]
[{"$nulls":9},""]
[{"$nulls":9},""]
[{"$nulls":9},""]
[{"$nulls":9},""]
[{"$nulls":9},""]
[{"$nulls":9},""]
[{"$nulls":9},""]
[{"$nulls":9},""]
[{"$nulls":9},""]
[{"$nulls":9},""]
[{"$nulls":9},""]

{"sheet":"Limits_Detail","index":12,"n_rows":500,"n_cols":11,"rows_kept":500}
[null,"DO NOT REMOVE OR EDIT INFORMATION IN ROWS 1 THROUGH 5\nFOR INTERNAL USE ONLY"]
[null,"Template Name",null,{"$f":"+Welcome!B2","v":"63.5765(d) Semiannual Compliance Report (Spreadsheet Template)"}]
[null,"CitationID",null,{"$f":"+Welcome!B3","v":"63.5765(d)"}]
[null,"Template Version",null,{"$f":"+Welcome!B4","v":"ICR Draft"}]
[null,"Last Updated Date",null,{"$f":"+Welcome!B5","v":{"v":45601,"d":"4560100.00%"}}]
[]
[null,"40 CFR Part 63, Subpart VVVV National Emission Standards for Hazardous Air Pollutants: Boat Manufacturing - §63.5765(d)  Semiannual Compliance Report Spreadsheet Template"]
[null,"\n"]
[]
[]
[]
[null,"Company Record No. \n(Select from dropdown)","Regulated Operation\n(§63.10(e)(3)(vi)(D))\n(Select from dropdown)","Emission and Operating Parameter Limitations\n(§63.10(e)(3)(vi)(E))\n(Select from dropdown)\n","Starting Date Emission Limit or Operating Parameter Limit Exceeded\n(§63.10(c)(7) or (8))","Starting Time Emission Limit or Operating Parameter Limit Exceeded\n(§63.10(c)(7) or (8))","Ending Date Emission Limit or Operating Parameter Limit Exceeded\n(§63.10(c)(7) or (8))","Ending Time Emission Limit or Operating Parameter Limit Exceeded\n(§63.10(c)(7) or (8))","Cause of Exceedance\n(§63.10(c)(10))\n(Select from dropdown)","Corrective Action Taken\n(§63.10(c)(11))\n(Select from dropdown)","Duration (Hours)\n(Calculated Value, For use in completing summary form)"]
[null,"RecordId","RegulatedOperation","ParameterLimitations","LimitStartDate","LimitStartTime","LimitEndDate","LimitEndTime","ExceedanceCause","CorrectiveAction","LimitDuration"]
[null,"e.g.: 1","e.g.: Open Molding","e.g.: Average Combustion Temperature","e.g.: 3/2/2017","e.g.: 15:52","e.g.: 3/3/2017","e.g.: 15:00","e.g.: Other known causes","e.g.: increased natural gas service pressure","e.g.: 23.13"]
[null,"e.g.:","e.g.:","e.g.:","e.g.:","e.g.:","e.g.:","e.g.:","e.g.:","e.g.:","e.g.:"]
[null,"e.g.:","e.g.:","e.g.:","e.g.:","e.g.:","e.g.:","e.g.:","e.g.:","e.g.:","e.g.:"]
[null,"e.g.:","e.g.:","e.g.:","e.g.:","e.g.:","e.g.:","e.g.:","e.g.:","e.g.:","e.g.:"]
[null,"e.g.:","e.g.:","e.g.:","e.g.:","e.g.:","e.g.:","e.g.:","e.g.:","e.g.:","e.g.:"]
[null,"e.g.:","e.g.:","e.g.:","e.g.:","e.g.:","e.g.:","e.g.:","e.g.:","e.g.:","e.g.:"]
[null,"e.g.:","e.g.:","e.g.:","e.g.:","e.g.:","e.g.:","e.g.:","e.g.:","e.g.:","e.g.:"]
[null,"e.g.:","e.g.:","e.g.:","e.g.:","e.g.:","e.g.:","e.g.:","e.g.:","e.g.:","e.g.:"]
[null,"e.g.:","e.g.:","e.g.:","e.g.:","e.g.:","e.g.:","e.g.:","e.g.:","e.g.:","e.g.:"]
[null,"e.g.:","e.g.:","e.g.:","e.g.:","e.g.:","e.g.:","e.g.:","e.g.:","e.g.:","e.g.:"]
[{"$nulls":10},{"$f":"IF(H24=\"\",\"\",(VALUE(TEXT(G24,\"m/dd/yy \")&TEXT(H24,\"hh:mm:ss\"))-(VALUE(TEXT(E24,\"m/dd/yy \")&TEXT(F24,\"hh:mm:ss\"))))*24)","v":""}]
[{"$nulls":10},{"$f":"IF(H25=\"\",\"\",(VALUE(TEXT(G25,\"m/dd/yy \")&TEXT(H25,\"hh:mm:ss\"))-(VALUE(TEXT(E25,\"m/dd/yy \")&TEXT(F25,\"hh:mm:ss\"))))*24)","v":""}]
[{"$nulls":10},""]
[{"$nulls":10},""]
[{"$nulls":10},""]
[{"$nulls":10},""]
[{"$nulls":10},""]
[{"$nulls":10},""]
[{"$nulls":10},""]
[{"$nulls":10},""]
[{"$nulls":10},""]
[{"$nulls":10},""]
[{"$nulls":10},""]
[{"$nulls":10},""]
[{"$nulls":10},""]
[{"$nulls":10},""]
[{"$nulls":10},""]
[{"$nulls":10},""]
[{"$nulls":10},""]
[{"$nulls":10},""]
[{"$nulls":10},""]
[{"$nulls":10},""]
[{"$nulls":10},""]
[{"$nulls":10},""]
[{"$nulls":10},""]
[{"$nulls":10},""]
[{"$nulls":10},""]
[{"$nulls":10},""]
[{"$nulls":10},""]
[{"$nulls":10},""]
[{"$nulls":10},""]
[{"$nulls":10},""]
[{"$nulls":10},""]
[{"$nulls":10},""]
[{"$nulls":10},""]
[{"$nulls":10},""]
[{"$nulls":10},""]
[{"$nulls":10},""]
[{"$nulls":10},""]
[{"$nulls":10},""]
[{"$nulls":10},""]
[{"$nulls":10},""]
[{"$nulls":10},""]
[{"$nulls":10},""]
[{"$nulls":10},""]
[{"$nulls":10},""]
[{"$nulls":10},""]
[{"$nulls":10},""]
[{"$nulls":10},""]
[{"$nulls":10},""]
[{"$nulls":10},""]
[{"$nulls":10},""]
[{"$nulls":10},""]
[{"$nulls":10},""]
[{"$nulls":10},""]
[{"$nulls":10},""]
[{"$nulls":10},""]
[{"$nulls":10},""]
[{"$nulls":10},""]
[{"$nulls":10},""]
[{"$nulls":10},""]
[{"$nulls":10},""]
[{"$nulls":10},""]
[{"$nulls":10},""]
[{"$nulls":10},""]
[{"$nulls":10},{"$f":"IF(H89=\"\",\"\",(VALUE(TEXT(G89,\"m/dd/yy \")&TEXT(H89,\"hh:mm:ss\"))-(VALUE(TEXT(E89,\"m/dd/yy \")&TEXT(F89,\"hh:mm:ss\"))))*24)","v":""}]
[{"$nulls":10},""]
[{"$nulls":10},""]
[{"$nulls":10},""]
[{"$nulls":10},""]
[{"$nulls":10},""]
[{"$nulls":10},""]
[{"$nulls":10},""]
[{"$nulls":10},""]
[{"$nulls":10},""]
[{"$nulls":10},""]
[{"$nulls":10},""]
[{"$nulls":10},""]
[{"$nulls":10},""]
[{"$nulls":10},""]
[{"$nulls":10},""]
[{"$nulls":10},""]
[{"$nulls":10},""]
[{"$nulls":10},""]
[{"$nulls":10},""]
[{"$nulls":10},""]
[{"$nulls":10},""]
[{"$nulls":10},""]
[{"$nulls":10},""]
[{"$nulls":10},""]
[{"$nulls":10},""]
[{"$nulls":10},""]
[{"$nulls":10},""]
[{"$nulls":10},""]
[{"$nulls":10},""]
[{"$nulls":10},""]
[{"$nulls":10},""]
[{"$nulls":10},""]
[{"$nulls":10},""]
[{"$nulls":10},""]
[{"$nulls":10},""]
[{"$nulls":10},""]
[{"$nulls":10},""]
[{"$nulls":10},""]
[{"$nulls":10},""]
[{"$nulls":10},""]
[{"$nulls":10},""]
[{"$nulls":10},""]
[{"$nulls":10},""]
[{"$nulls":10},""]
[{"$nulls":10},""]
[{"$nulls":10},""]
[{"$nulls":10},""]
[{"$nulls":10},""]
[{"$nulls":10},""]
[{"$nulls":10},""]
[{"$nulls":10},""]
[{"$nulls":10},""]
[{"$nulls":10},""]
[{"$nulls":10},""]
[{"$nulls":10},""]
[{"$nulls":10},""]
[{"$nulls":10},""]
[{"$nulls":10},""]
[{"$nulls":10},""]
[{"$nulls":10},""]
[{"$nulls":10},""]
[{"$nulls":10},""]
[{"$nulls":10},""]
[{"$nulls":10},{"$f":"IF(H153=\"\",\"\",(VALUE(TEXT(G153,\"m/dd/yy \")&TEXT(H153,\"hh:mm:ss\"))-(VALUE(TEXT(E153,\"m/dd/yy \")&TEXT(F153,\"hh:mm:ss\"))))*24)","v":""}]
[{"$nulls":10},""]
[{"$nulls":10},""]
[{"$nulls":10},""]
[{"$nulls":10},""]
[{"$nulls":10},""]
[{"$nulls":10},""]
[{"$nulls":10},""]
[{"$nulls":10},""]
[{"$nulls":10},""]
[{"$nulls":10},""]
[{"$nulls":10},""]
[{"$nulls":10},""]
[{"$nulls":10},""]
[{"$nulls":10},""]
[{"$nulls":10},""]
[{"$nulls":10},""]
[{"$nulls":10},""]
[{"$nulls":10},""]
[{"$nulls":10},""]
[{"$nulls":10},""]
[{"$nulls":10},""]
[{"$nulls":10},""]
[{"$nulls":10},""]
[{"$nulls":10},""]
[{"$nulls":10},""]
[{"$nulls":10},""]
[{"$nulls":10},""]
[{"$nulls":10},""]
[{"$nulls":10},""]
[{"$nulls":10},""]
[{"$nulls":10},""]
[{"$nulls":10},""]
[{"$nulls":10},""]
[{"$nulls":10},""]
[{"$nulls":10},""]
[{"$nulls":10},""]
[{"$nulls":10},""]
[{"$nulls":10},""]
[{"$nulls":10},""]
[{"$nulls":10},""]
[{"$nulls":10},""]
[{"$nulls":10},""]
[{"$nulls":10},""]
[{"$nulls":10},""]
[{"$nulls":10},""]
[{"$nulls":10},""]
[{"$nulls":10},""]
[{"$nulls":10},""]
[{"$nulls":10},""]
[{"$nulls":10},""]
[{"$nulls":10},""]
[{"$nulls":10},""]
[{"$nulls":10},""]
[{"$nulls":10},""]
[{"$nulls":10},""]
[{"$nulls":10},""]
[{"$nulls":10},""]
[{"$nulls":10},""]
[{"$nulls":10},""]
[{"$nulls":10},""]
[{"$nulls":10},""]
[{"$nulls":10},""]
[{"$nulls":10},""]
[{"$nulls":10},{"$f":"IF(H217=\"\",\"\",(VALUE(TEXT(G217,\"m/dd/yy \")&TEXT(H217,\"hh:mm:ss\"))-(VALUE(TEXT(E217,\"m/dd/yy \")&TEXT(F217,\"hh:mm:ss\"))))*24)","v":""}]
[{"$nulls":10},""]
[{"$nulls":10},""]
[{"$nulls":10},""]
[{"$nulls":10},""]
[{"$nulls":10},""]
[{"$nulls":10},""]
[{"$nulls":10},""]
[{"$nulls":10},""]
[{"$nulls":10},""]
[{"$nulls":10},""]
[{"$nulls":10},""]
[{"$nulls":10},""]
[{"$nulls":10},""]
[{"$nulls":10},""]
[{"$nulls":10},""]
[{"$nulls":10},""]
[{"$nulls":10},""]
[{"$nulls":10},""]
[{"$nulls":10},""]
[{"$nulls":10},""]
[{"$nulls":10},""]
[{"$nulls":10},""]
[{"$nulls":10},""]
[{"$nulls":10},""]
[{"$nulls":10},""]
[{"$nulls":10},""]
[{"$nulls":10},""]
[{"$nulls":10},""]
[{"$nulls":10},""]
[{"$nulls":10},""]
[{"$nulls":10},""]
[{"$nulls":10},""]
[{"$nulls":10},""]
[{"$nulls":10},""]
[{"$nulls":10},""]
[{"$nulls":10},""]
[{"$nulls":10},""]
[{"$nulls":10},""]
[{"$nulls":10},""]
[{"$nulls":10},""]
[{"$nulls":10},""]
[{"$nulls":10},""]
[{"$nulls":10},""]
[{"$nulls":10},""]
[{"$nulls":10},""]
[{"$nulls":10},""]
[{"$nulls":10},""]
[{"$nulls":10},""]
[{"$nulls":10},""]
[{"$nulls":10},""]
[{"$nulls":10},""]
[{"$nulls":10},""]
[{"$nulls":10},""]
[{"$nulls":10},""]
[{"$nulls":10},""]
[{"$nulls":10},""]
[{"$nulls":10},""]
[{"$nulls":10},""]
[{"$nulls":10},""]
[{"$nulls":10},""]
[{"$nulls":10},""]
[{"$nulls":10},""]
[{"$nulls":10},""]
[{"$nulls":10},{"$f":"IF(H281=\"\",\"\",(VALUE(TEXT(G281,\"m/dd/yy \")&TEXT(H281,\"hh:mm:ss\"))-(VALUE(TEXT(E281,\"m/dd/yy \")&TEXT(F281,\"hh:mm:ss\"))))*24)","v":""}]
[{"$nulls":10},""]
[{"$nulls":10},""]
[{"$nulls":10},""]
[{"$nulls":10},""]
[{"$nulls":10},""]
[{"$nulls":10},""]
[{"$nulls":10},""]
[{"$nulls":10},""]
[{"$nulls":10},""]
[{"$nulls":10},""]
[{"$nulls":10},""]
[{"$nulls":10},""]
[{"$nulls":10},""]
[{"$nulls":10},""]
[{"$nulls":10},""]
[{"$nulls":10},""]
[{"$nulls":10},""]
[{"$nulls":10},""]
[{"$nulls":10},""]
[{"$nulls":10},""]
[{"$nulls":10},""]
[{"$nulls":10},""]
[{"$nulls":10},""]
[{"$nulls":10},""]
[{"$nulls":10},""]
[{"$nulls":10},""]
[{"$nulls":10},""]
[{"$nulls":10},""]
[{"$nulls":10},""]
[{"$nulls":10},""]
[{"$nulls":10},""]
[{"$nulls":10},""]
[{"$nulls":10},""]
[{"$nulls":10},""]
[{"$nulls":10},""]
[{"$nulls":10},""]
[{"$nulls":10},""]
[{"$nulls":10},""]
[{"$nulls":10},""]
[{"$nulls":10},""]
[{"$nulls":10},""]
[{"$nulls":10},""]
[{"$nulls":10},""]
[{"$nulls":10},""]
[{"$nulls":10},""]
[{"$nulls":10},""]
[{"$nulls":10},""]
[{"$nulls":10},""]
[{"$nulls":10},""]
[{"$nulls":10},""]
[{"$nulls":10},""]
[{"$nulls":10},""]
[{"$nulls":10},""]
[{"$nulls":10},""]
[{"$nulls":10},""]
[{"$nulls":10},""]
[{"$nulls":10},""]
[{"$nulls":10},""]
[{"$nulls":10},""]
[{"$nulls":10},""]
[{"$nulls":10},""]
[{"$nulls":10},""]
[{"$nulls":10},""]
[{"$nulls":10},{"$f":"IF(H345=\"\",\"\",(VALUE(TEXT(G345,\"m/dd/yy \")&TEXT(H345,\"hh:mm:ss\"))-(VALUE(TEXT(E345,\"m/dd/yy \")&TEXT(F345,\"hh:mm:ss\"))))*24)","v":""}]
[{"$nulls":10},""]
[{"$nulls":10},""]
[{"$nulls":10},""]
[{"$nulls":10},""]
[{"$nulls":10},""]
[{"$nulls":10},""]
[{"$nulls":10},""]
[{"$nulls":10},""]
[{"$nulls":10},""]
[{"$nulls":10},""]
[{"$nulls":10},""]
[{"$nulls":10},""]
[{"$nulls":10},""]
[{"$nulls":10},""]
[{"$nulls":10},""]
[{"$nulls":10},""]
[{"$nulls":10},""]
[{"$nulls":10},""]
[{"$nulls":10},""]
[{"$nulls":10},""]
[{"$nulls":10},""]
[{"$nulls":10},""]
[{"$nulls":10},""]
[{"$nulls":10},""]
[{"$nulls":10},""]
[{"$nulls":10},""]
[{"$nulls":10},""]
[{"$nulls":10},""]
[{"$nulls":10},""]
[{"$nulls":10},""]
[{"$nulls":10},""]
[{"$nulls":10},""]
[{"$nulls":10},""]
[{"$nulls":10},""]
[{"$nulls":10},""]
[{"$nulls":10},""]
[{"$nulls":10},""]
[{"$nulls":10},""]
[{"$nulls":10},""]
[{"$nulls":10},""]
[{"$nulls":10},""]
[{"$nulls":10},""]
[{"$nulls":10},""]
[{"$nulls":10},""]
[{"$nulls":10},""]
[{"$nulls":10},""]
[{"$nulls":10},""]
[{"$nulls":10},""]
[{"$nulls":10},""]
[{"$nulls":10},""]
[{"$nulls":10},""]
[{"$nulls":10},""]
[{"$nulls":10},""]
[{"$nulls":10},""]
[{"$nulls":10},""]
[{"$nulls":10},""]
[{"$nulls":10},""]
[{"$nulls":10},""]
[{"$nulls":10},""]
[{"$nulls":10},""]
[{"$nulls":10},""]
[{"$nulls":10},""]
[{"$nulls":10},""]
[{"$nulls":10},{"$f":"IF(H409=\"\",\"\",(VALUE(TEXT(G409,\"m/dd/yy \")&TEXT(H409,\"hh:mm:ss\"))-(VALUE(TEXT(E409,\"m/dd/yy \")&TEXT(F409,\"hh:mm:ss\"))))*24)","v":""}]
[{"$nulls":10},""]
[{"$nulls":10},""]
[{"$nulls":10},""]
[{"$nulls":10},""]
[{"$nulls":10},""]
[{"$nulls":10},""]
[{"$nulls":10},""]
[{"$nulls":10},""]
[{"$nulls":10},""]
[{"$nulls":10},""]
[{"$nulls":10},""]
[{"$nulls":10},""]
[{"$nulls":10},""]
[{"$nulls":10},""]
[{"$nulls":10},""]
[{"$nulls":10},""]
[{"$nulls":10},""]
[{"$nulls":10},""]
[{"$nulls":10},""]
[{"$nulls":10},""]
[{"$nulls":10},""]
[{"$nulls":10},""]
[{"$nulls":10},""]
[{"$nulls":10},""]
[{"$nulls":10},""]
[{"$nulls":10},""]
[{"$nulls":10},""]
[{"$nulls":10},""]
[{"$nulls":10},""]
[{"$nulls":10},""]
[{"$nulls":10},""]
[{"$nulls":10},""]
[{"$nulls":10},""]
[{"$nulls":10},""]
[{"$nulls":10},""]
[{"$nulls":10},""]
[{"$nulls":10},""]
[{"$nulls":10},""]
[{"$nulls":10},""]
[{"$nulls":10},""]
[{"$nulls":10},""]
[{"$nulls":10},""]
[{"$nulls":10},""]
[{"$nulls":10},""]
[{"$nulls":10},""]
[{"$nulls":10},""]
[{"$nulls":10},""]
[{"$nulls":10},""]
[{"$nulls":10},""]
[{"$nulls":10},""]
[{"$nulls":10},""]
[{"$nulls":10},""]
[{"$nulls":10},""]
[{"$nulls":10},""]
[{"$nulls":10},""]
[{"$nulls":10},""]
[{"$nulls":10},""]
[{"$nulls":10},""]
[{"$nulls":10},""]
[{"$nulls":10},""]
[{"$nulls":10},""]
[{"$nulls":10},""]
[{"$nulls":10},""]
[{"$nulls":10},{"$f":"IF(H473=\"\",\"\",(VALUE(TEXT(G473,\"m/dd/yy \")&TEXT(H473,\"hh:mm:ss\"))-(VALUE(TEXT(E473,\"m/dd/yy \")&TEXT(F473,\"hh:mm:ss\"))))*24)","v":""}]
[{"$nulls":10},""]
[{"$nulls":10},""]
[{"$nulls":10},""]
[{"$nulls":10},""]
[{"$nulls":10},""]
[{"$nulls":10},""]
[{"$nulls":10},""]
[{"$nulls":10},""]
[{"$nulls":10},""]
[{"$nulls":10},""]
[{"$nulls":10},""]
[{"$nulls":10},""]
[{"$nulls":10},""]
[{"$nulls":10},""]
[{"$nulls":10},""]
[{"$nulls":10},""]
[{"$nulls":10},""]
[{"$nulls":10},""]
[{"$nulls":10},""]
[{"$nulls":10},""]
[{"$nulls":10},""]
[{"$nulls":10},""]
[{"$nulls":10},""]
[{"$nulls":10},""]
[{"$nulls":10},""]
[{"$nulls":10},""]
[{"$nulls":10},""]

{"sheet":"Revisions","index":13,"n_rows":5,"n_cols":3,"rows_kept":5}
["40 CFR Part 63, Subpart VVVV National Emission Standards for Hazardous Air Pollutants: Boat Manufacturing - §63.5765(d)  Semiannual Compliance Report Spreadsheet Template"]
["Revision Number","Date","Revisions"]
[{"v":1,"d":"1.00"},{"v":43969,"d":"4396900.00%"},"Initial Release Version"]
[1.01,{"v":45391,"d":"4539100.00%"},"Updated Welcome tab"]
["ICR Draft","11/5/20224","Add header to Revisions tab; Updated Welcome tab; Remove * and  Required field label throughout; update cell formatting thoughout, add \"e.g.:\" to all blank example cells"]

{"sheet":"Worksheet Map","index":14,"n_rows":12,"n_cols":5,"rows_kept":12,"hidden":true}
["Worksheet Name","Parent","JSON Key","Parent Primary Key","Child Foreign Key"]
["Company_Information",null,"records"]
["Regulated_Operation_Limits","records","RegulatedOperationLimits","RecordId","RecordId"]
["Deviation_Limits","records","DeviationLimits","RecordId","RecordId"]
["Description_of_Changes","records","DescriptionOfChanges","RecordId","RecordId"]
["Certification","records","Certification","RecordId","RecordId"]
["HAP_ID","records","HAPID","RecordId","RecordId"]
["CMS_Info","records","CMSInfo","RecordId","RecordId"]
["Summary_Report_Limit","records","SummaryReportLimit","RecordId","RecordId"]
["Summary_Report_CPMS","records","SummaryReportCPMS","RecordId","RecordId"]
["CMS_Detail","records","CMSDetail","RecordId","RecordId"]
["Limits_Detail","records","LimitsDetail","RecordId","RecordId"]