Workbook

Sheet Summary
A1: ICR Summary Information
A2: Hours per Response | B2: ='Table 1'!K34 -> 46.585366
A3: Number of Respondents | B3: =Respondents!F8 -> 41
A4: Total Estimated Burden Hours | B4: ='Table 1'!F35 -> 3820
A5: Total Estimated Costs | B5: ='Table 1'!I37 -> 544000
A6: Annualized Capital O&M | B6: ='Capital O&M'!G5 -> 61500
A7: Form Number | B7: Not Applicable

Sheet Table 1
A1: Table 1: Annual Respondent Burden and Cost – NSPS for Lime Manufacturing (40 CFR Part 60, Subpart HH) (Renewal)
A3: Burden Item | B3: (A) Person hours per occurrence | C3: (B) No. of occurrences per respondent per year | D3: (C) Person hours per respondent per year (C=AxB) | E3: (D) Respondents per year a | F3: (E) Technical person- hours per year (E=CxD) | G3: (F) Management person hours per year (Ex0.05) | H3: (G) Clerical person hours per year (Ex0.1) | I3: (H) Cost, $ b
A4: 1. Applications | B4: N/A | K4: Labor Rates
A5: 2. Survey and Studies | B5: N/A | K5: Management | L5: 163.17
A6: 3. Reporting Requirements | K6: Technical | L6: 130.28
A7: A. Familiarize with regulatory requirements c | B7: 1 | C7: 1 | D7: =+B7*C7 -> 1 | E7: 41 | F7: =+D7*E7 -> 41 | G7: =+F7*0.05 -> 2.05 | H7: =+F7*0.1 -> 4.1 | I7: =+$L$6*F7+$L$5*G7+$L$7*H7 -> 5945.3895 | K7: Clerical | L7: 65.71
A8: B. Required activities:
A9: Initial performance tests d | B9: 280 | C9: 1 | D9: =+B9*C9 -> 280 | E9: 0 | F9: =+D9*E9 -> 0 | G9: =+F9*0.05 -> 0 | H9: =+F9*0.1 -> 0 | I9: =+$L$6*F9+$L$5*G9+$L$7*H9 -> 0
A10: Reference Method 9 Test e | B10: 4 | C10: 1.2 | D10: =+B10*C10 -> 4.8 | E10: 0 | F10: =+D10*E10 -> 0 | G10: =+F10*0.05 -> 0 | H10: =+F10*0.1 -> 0 | I10: =+$L$6*F10+$L$5*G10+$L$7*H10 -> 0
A11: Repeat of performance test f | B11: 280 | C11: 0.2 | D11: =+B11*C11 -> 56 | E11: 0 | F11: =+D11*E11 -> 0 | G11: =+F11*0.05 -> 0 | H11: =+F11*0.1 -> 0 | I11: =+$L$6*F11+$L$5*G11+$L$7*H11 -> 0
A12: C. Create information | B12: See 3B
A13: D. Gather Existing Information | B13: See 3B
A14: E. Write report
A15: Notification of construction/reconstruction | B15: 2 | C15: 1 | D15: =+B15*C15 -> 2 | E15: 0 | F15: =+D15*E15 -> 0 | G15: =+F15*0.05 -> 0 | H15: =+F15*0.1 -> 0 | I15: =+$L$6*F15+$L$5*G15+$L$7*H15 -> 0
A16: Notification of actual startup | B16: 2 | C16: 1 | D16: =+B16*C16 -> 2 | E16: 0 | F16: =+D16*E16 -> 0 | G16: =+F16*0.05 -> 0 | H16: =+F16*0.1 -> 0 | I16: =+$L$6*F16+$L$5*G16+$L$7*H16 -> 0
A17: Notification of any physical or operational change | B17: 2 | C17: 1 | D17: =+B17*C17 -> 2 | E17: 0 | F17: =+D17*E17 -> 0 | G17: =+F17*0.05 -> 0 | H17: =+F17*0.1 -> 0 | I17: =+$L$6*F17+$L$5*G17+$L$7*H17 -> 0
A18: Notification of demonstration of continuous monitoring system | B18: 2 | C18: 1 | D18: =+B18*C18 -> 2 | E18: 0 | F18: =+D18*E18 -> 0 | G18: =+F18*0.05 -> 0 | H18: =+F18*0.1 -> 0 | I18: =+$L$6*F18+$L$5*G18+$L$7*H18 -> 0
A19: Notification of initial performance test | B19: 2 | C19: 1 | D19: =+B19*C19 -> 2 | E19: 0 | F19: =+D19*E19 -> 0 | G19: =+F19*0.05 -> 0 | H19: =+F19*0.1 -> 0 | I19: =+$L$6*F19+$L$5*G19+$L$7*H19 -> 0
A20: Notification that continuous monitoring system (CMS) | B20: 2 | C20: 1 | D20: =+B20*C20 -> 2 | E20: 0 | F20: =+D20*E20 -> 0 | G20: =+F20*0.05 -> 0 | H20: =+F20*0.1 -> 0 | I20: =+$L$6*F20+$L$5*G20+$L$7*H20 -> 0
A21: Performance test results | B21: See 3B
A22: Semiannual excess emissions reports g | B22: 8 | C22: 2 | D22: =+B22*C22 -> 16 | E22: 41 | F22: =+D22*E22 -> 656 | G22: =+F22*0.05 -> 32.8 | H22: =+F22*0.1 -> 65.6 | I22: =+$L$6*F22+$L$5*G22+$L$7*H22 -> 95126.232
A23: Subtotal for Reporting Requirements | F23: =SUM(F5:H22) -> 801.55 | I23: =SUM(I5:I22) -> 101071.62
A24: 4. Recordkeeping requirements
A25: A. Familiarize with regulatory requirements | B25: See 3A
A26: B. Plan activities | B26: See 3B
A27: C. Implement activities | B27: See 3B
A28: D. Develop record system | B28: N/A
A29: E. Time to enter information
A30: Records of CMS operating parameters h | B30: 0.25 | C30: 250 | D30: =+B30*C30 -> 62.5 | E30: 41 | F30: =+D30*E30 -> 2562.5 | G30: =+F30*0.05 -> 128.125 | H30: =+F30*0.1 -> 256.25 | I30: =+$L$6*F30+$L$5*G30+$L$7*H30 -> 371586.84
A31: Records of startup, shutdown, malfunction i | B31: 1.5 | C31: 1 | D31: =+B31*C31 -> 1.5 | E31: 41 | F31: =+D31*E31 -> 61.5 | G31: =+F31*0.05 -> 3.075 | H31: =+F31*0.1 -> 6.15 | I31: =+$L$6*F31+$L$5*G31+$L$7*H31 -> 8918.0842
A32: F. Time to train personnel | B32: N/A
A33: G. Time for audits | B33: N/A
A34: Subtotal for Recordkeeping Requirements | F34: =SUM(F24:H33) -> 3017.6 | I34: =SUM(I24:I33) -> 380504.93 | K34: =F35/Responses!E12 -> 46.585366 | L34: hr/response
A35: Total Labor Burden and Costs (rounded) i | F35: =ROUND(SUM(F23,F34), -1) -> 3820 | I35: =ROUND(SUM(I34,I23), -3) -> 482000
A36: Total Capital and O&M Cost (rounded) i | I36: ='Capital O&M'!G5 -> 61500
A37: GRAND TOTAL (rounded) i | I37: =ROUND(SUM(I35:I36), -3) -> 544000
A39: Assumptions:
A40: a We assume that an average of 41 respondents will be subject to this rule, and that no new sources will become subject to the rule over the three-year period of the ICR.
A41: b This ICR uses the following labor rates: Managerial $163.17 ($77.70 + 110%); Technical $130.28 ($62.04 + 110%); and Clerical $65.71 ($31.29 + 110%). These rates are from the United States Department of Labor, Bureau of Labor Statistics, September 2022, “Table 2. Civilian Workers, by occupational and industry group.” The rates are from column 1, “Total compensation.” The rates have been increased by 110 percent to account for varying industry wage rates and the additional overhead business costs of employing workers beyond their wages and benefits, including business expenses associated with hiring, training, and equipping their employees.
A42: c We have assumed that all respondents will have to familiarize with the regulatory requirements each year.
...

Sheet Table 2
A1: Table 2: Average Annual EPA Burden and Cost – NSPS for Lime Manufacturing (40 CFR Part 60, Subpart HH) (Renewal)
A3: Burden item | B3: (A) Person hours per occurrence | C3: (B) No. of occurrences per respondent per year | D3: (C) Person hours per respondent per year (C=AxB) | E3: (D) Respondents per year a | F3: (E) Technical person- hours per year (E=CxD) | G3: (F) Management person hours per year (Ex0.05) | H3: (G) Clerical person hours per year (Ex0.1) | I3: (H) Cost, $ b
A4: Activity: | K4: Labor Rates
A5: Initial performance tests c | B5: 38 | C5: 1 | D5: =+B5*C5 -> 38 | E5: 0 | F5: =+D5*E5 -> 0 | G5: =+F5*0.05 -> 0 | H5: =+F5*0.1 -> 0 | I5: =F5*$L$6+G5*$L$5+H5*$L$7 -> 0 | K5: Management | L5: 73.46
A6: Repeat performance test d | B6: 38 | C6: 0.2 | D6: =+B6*C6 -> 7.6 | E6: 0 | F6: =+D6*E6 -> 0 | G6: =+F6*0.05 -> 0 | H6: =+F6*0.1 -> 0 | I6: =F6*$L$6+G6*$L$5+H6*$L$7 -> 0 | K6: Technical | L6: 54.51
A7: Report Review: | K7: Clerical | L7: 29.5
A8: Notification of construction/reconstruction e | B8: 2 | C8: 1 | D8: =+B8*C8 -> 2 | E8: 0 | F8: =+D8*E8 -> 0 | G8: =+F8*0.05 -> 0 | H8: =+F8*0.1 -> 0 | I8: =F8*$L$6+G8*$L$5+H8*$L$7 -> 0
A9: Notification of actual startup | B9: 0.5 | C9: 1 | D9: =+B9*C9 -> 0.5 | E9: 0 | F9: =+D9*E9 -> 0 | G9: =+F9*0.05 -> 0 | H9: =+F9*0.1 -> 0 | I9: =F9*$L$6+G9*$L$5+H9*$L$7 -> 0
A10: Notification of physical or operational change f | B10: 0.5 | C10: 1 | D10: =+B10*C10 -> 0.5 | E10: 0 | F10: =+D10*E10 -> 0 | G10: =+F10*0.05 -> 0 | H10: =+F10*0.1 -> 0 | I10: =F10*$L$6+G10*$L$5+H10*$L$7 -> 0
A11: Notification of demonstration of CMS | B11: 0.5 | C11: 1 | D11: =+B11*C11 -> 0.5 | E11: 0 | F11: =+D11*E11 -> 0 | G11: =+F11*0.05 -> 0 | H11: =+F11*0.1 -> 0 | I11: =F11*$L$6+G11*$L$5+H11*$L$7 -> 0
A12: Notification of CMS data to determine compliance | B12: 0.5 | C12: 1 | D12: =+B12*C12 -> 0.5 | E12: 0 | F12: =+D12*E12 -> 0 | G12: =+F12*0.05 -> 0 | H12: =+F12*0.1 -> 0 | I12: =F12*$L$6+G12*$L$5+H12*$L$7 -> 0
A13: Performance test results g | B13: 8 | C13: 1.2 | D13: =+B13*C13 -> 9.6 | E13: 0 | F13: =+D13*E13 -> 0 | G13: =+F13*0.05 -> 0 | H13: =+F13*0.1 -> 0 | I13: =F13*$L$6+G13*$L$5+H13*$L$7 -> 0
A14: Semiannual report h | B14: 4 | C14: 2 | D14: =+B14*C14 -> 8 | E14: 41 | F14: =+D14*E14 -> 328 | G14: =+F14*0.05 -> 16.4 | H14: =+F14*0.1 -> 32.8 | I14: =F14*$L$6+G14*$L$5+H14*$L$7 -> 20051.624
A15: TOTAL (rounded) h | F15: =ROUND(SUM(F4:H14), 0) -> 377 | I15: =ROUND(SUM(I4:I14), -2) -> 20100
A17: Assumptions:
A18: a We assume that an average of 41 respondents will be subject to this rule, and that no new sources will become subject to the rule over the three-year period of the ICR.
A19: b This cost is based on the average hourly labor rate as follows: Managerial $73.46 (GS-13, Step 5, $44.91 + 60%); Technical $54.51 (GS-12, Step 1, $34.07 + 60%); and Clerical $29.50 (GS-6, Step 3, $18.44 + 60%). These rates are from the Office of Personnel Management (OPM), 2023 General Schedule, which excludes locality rates of pay. The rates have been increased by 60 percent to account for the benefit packages available to government employees.
A20: c We have assumed that it will take 38 hours to observe an initial performance test.
A21: d We have assumed that 20 percent of new respondents will have to repeat the performance test.
A22: e It will take 2 hours to review construction/reconstruction report.
A23: f It will take 0.5 hours to review the physical or operational change review.
A24: g We have assumed that it will take 8 hours to review the performance test results report.
A25: h We have assumed that it will take 4 hour to review each semiannual reports.
A26: i Totals have been rounded to 3 significant figures. Figures may not add exactly due to rounding.

Sheet Capital O&M
A2: Capital/Startup vs. Operation and Maintenance (O&M) Costs
A3: (A) | B3: (B) | C3: (C) | D3: (D) | E3: (E) | F3: (F) | G3: (G)
A4: Continuous Monitoring Device | B4: Capital/Startup Cost for One Respondent a | C4: Number of New Respondents | D4: Total Capital/Startup Cost, (B X C) | E4: Annual O&M Costs for One Respondent a | F4: Number of Respondents with O&M | G4: Total O&M, (E X F) | J4: 2009 CEPCI | K4: 2022 CEPCI
A5: Continuous Opacity Monitor | B5: =15000*(K5/J5) -> 23452.769 | C5: 0 | D5: 0 | E5: =1500*(K5/J5) -> 2345.2769 | F5: 41 | G5: 61500 | J5: 521.9 | K5: 816
A7: a Costs were increased from 2009 $ to 2022 $ using the CEPCI CE Index.

Sheet Responses
A1: Total Annual Responses
A2: (A) | B2: (B) | C2: (C) | D2: (D) | E2: (E)
A3: Information Collection Activity | B3: Number of Respondents a | C3: Number of Responses | D3: Number of Existing Respondents That Keep Records But Do Not Submit Reports | E3: Total Annual Responses E=(BxC)+D
A4: Notification of construction/ reconstruction | B4: 0 | C4: 1 | D4: 0 | E4: 0
A5: Notification of actual startup | B5: 0 | C5: 1 | D5: 0 | E5: 0
A6: Notification of any physical or operational changes | B6: 0 | C6: 1 | D6: 0 | E6: 0
A7: Notification of demonstration of continuous monitoring system (CMS) | B7: 0 | C7: 1 | D7: 0 | E7: 0
A8: Notification of initial performance test | B8: 0 | C8: 1 | D8: 0 | E8: 0
A9: Notification that (CMS) will be used to determine compliance | B9: 0 | C9: 1 | D9: 0 | E9: 0
A10: Performance test results | B10: 0 | C10: 1 | D10: 0 | E10: 0
A11: Semiannual excess emission report | B11: 41 | C11: 2 | D11: 0 | E11: 82
D12: Total | E12: =SUM(E4:E11) -> 82

Sheet Respondents
A1: Number of Respondents
B2: Respondents That Submit Reports | D2: Respondents That Do Not Submit Any Reports
B3: (A) | C3: (B) | D3: (C) | E3: (D) | F3: (E)
A4: Year | B4: Number of New Respondents a | C4: Number of Existing Respondents | D4: Number of Existing Respondents that keep records but do not submit reports | E4: Number of Existing Respondents That Are Also New Respondents | F4: Number of Respondents (E=A+B+C-D)
A5: 1 | B5: 0 | C5: 41 | D5: 0 | E5: 0 | F5: =B5+C5+D5-E5 -> 41
A6: 2 | B6: 0 | C6: 41 | D6: 0 | E6: 0 | F6: =B6+C6+D6-E6 -> 41
A7: 3 | B7: 0 | C7: 41 | D7: 0 | E7: 0 | F7: =B7+C7+D7-E7 -> 41
A8: Average | B8: =AVERAGE(B5:B7) -> 0 | C8: =AVERAGE(C5:C7) -> 41 | D8: 0 | E8: 0 | F8: =AVERAGE(F5:F7) -> 41
A9: a New respondents include sources with constructed and reconstructed affected facilities.
