Workbook

Sheet Summary
A1: ICR Summary Information
A2: Hours per Response | B2: ='Table 1'!L34 -> 127.35849
A3: Number of Respondents | B3: =Respondents!F8 -> 53
A4: Total Estimated Burden Hours | B4: ='Table 1'!F33 -> 13500
A5: Total Estimated Costs | B5: ='Table 1'!I35 -> 2110000
A6: Annualized Capital O&M | B6: ='Table 1'!I34 -> 416000
A7: Total Annual Responses | B7: =Responses!E10 -> 106
A8: Form Number | B8: Not Applicable

Sheet Table 1
A1: Table 1: Annual Respondent Burden and Cost – NSPS for Sulfuric Acid Plants (40 CFR Part 60, Subpart H) (Renewal)
A3: Burden item | B3: (A) Person hours per occurrence | C3: (B) No. of occurrences per respondent per year | D3: (C) Person hours per respondent per year (C = A x B) | E3: (D) Respondents per year a | F3: (E) Technical person- hours per year (E = C x D) | G3: (F) Management person hours per year (E x 0.05) | H3: (G) Clerical person hours per year (E x 0.1) | I3: (H) Total Cost Per year b
A4: 1. Applications | B4: N/A | K4: Labor Rates
A5: 2. Survey and Studies | B5: N/A | K5: Management | L5: 163.17
A6: 3. Reporting requirements | K6: Technical | L6: 130.28
A7: A. Familiarization with rule requirements c | B7: 1 | C7: 1 | D7: =B7*C7 -> 1 | E7: 53 | F7: =D7*E7 -> 53 | G7: =F7*0.05 -> 2.65 | H7: =F7*0.1 -> 5.3 | I7: =F7*$L$6+G7*$L$5+H7*$L$7 -> 7685.5035 | K7: Clerical | L7: 65.71
A8: B. Required activities
A9: Initial performance tests d | B9: 300 | C9: 1 | D9: =B9*C9 -> 300 | E9: 0 | F9: =D9*E9 -> 0 | G9: =F9*0.05 -> 0 | H9: =F9*0.1 -> 0 | I9: =F9*$L$6+G9*$L$5+H9*$L$7 -> 0
A10: Reference Method 9 test e | B10: 4 | C10: 1 | D10: =B10*C10 -> 4 | E10: 0 | F10: =D10*E10 -> 0 | G10: =F10*0.05 -> 0 | H10: =F10*0.1 -> 0 | I10: =F10*$L$6+G10*$L$5+H10*$L$7 -> 0
A11: Repeat of performance tests f | B11: 300 | C11: 1 | D11: =B11*C11 -> 300 | E11: 0 | F11: =D11*E11 -> 0 | G11: =F11*0.05 -> 0 | H11: =F11*0.1 -> 0 | I11: =F11*$L$6+G11*$L$5+H11*$L$7 -> 0
A12: C. Create information | B12: See 3B
A13: D. Gather existing information | B13: See 3B
A14: E. Write Report
A15: Application of construction or modification | B15: 2 | C15: 1 | D15: =B15*C15 -> 2 | E15: 0 | F15: =D15*E15 -> 0 | G15: =F15*0.05 -> 0 | H15: =F15*0.1 -> 0 | I15: =F15*$L$6+G15*$L$5+H15*$L$7 -> 0
A16: Notification of actual startup | B16: 2 | C16: 1 | D16: =B16*C16 -> 2 | E16: 0 | F16: =D16*E16 -> 0 | G16: =F16*0.05 -> 0 | H16: =F16*0.1 -> 0 | I16: =F16*$L$6+G16*$L$5+H16*$L$7 -> 0
A17: Notification of physical or operational change | B17: 2 | C17: 1 | D17: =B17*C17 -> 2 | E17: 0 | F17: =D17*E17 -> 0 | G17: =F17*0.05 -> 0 | H17: =F17*0.1 -> 0 | I17: =F17*$L$6+G17*$L$5+H17*$L$7 -> 0
A18: Notification of demonstration of CMS | B18: 2 | C18: 1 | D18: =B18*C18 -> 2 | E18: 0 | F18: =D18*E18 -> 0 | G18: =F18*0.05 -> 0 | H18: =F18*0.1 -> 0 | I18: =F18*$L$6+G18*$L$5+H18*$L$7 -> 0
A19: Notification of initial performance test | B19: 2 | C19: 1 | D19: =B19*C19 -> 2 | E19: 0 | F19: =D19*E19 -> 0 | G19: =F19*0.05 -> 0 | H19: =F19*0.1 -> 0 | I19: =F19*$L$6+G19*$L$5+H19*$L$7 -> 0
A20: Semiannual report of excess emissions g | B20: 40 | C20: 2 | D20: =B20*C20 -> 80 | E20: 53 | F20: =D20*E20 -> 4240 | G20: =F20*0.05 -> 212 | H20: =F20*0.1 -> 424 | I20: =F20*$L$6+G20*$L$5+H20*$L$7 -> 614840.28
A21: Subtotal for Reporting Requirements | F21: =SUM(F7:H20) -> 4936.95 | I21: =SUM(I7:I20) -> 622525.78
A22: 4. Recordkeeping requirements
A23: A. Familiarization with rule requirements | B23: See 3A
A24: B. Plan activities | B24: See 3A
A25: C. Implement Activities | B25: See 3A
A26: D. Develop record system | B26: N/A
A27: E. Time to enter information
A28: Records of operating parameters h | B28: 0.25 | C28: 350 | D28: =B28*C28 -> 87.5 | E28: 53 | F28: =D28*E28 -> 4637.5 | G28: =F28*0.05 -> 231.875 | H28: =F28*0.1 -> 463.75 | I28: =F28*$L$6+G28*$L$5+H28*$L$7 -> 672481.56
A29: Record of conversion factors/calculation i | B29: 0.05 | C29: 1050 | D29: =B29*C29 -> 52.5 | E29: 53 | F29: =D29*E29 -> 2782.5 | G29: =F29*0.05 -> 139.125 | H29: =F29*0.1 -> 278.25 | I29: =F29*$L$6+G29*$L$5+H29*$L$7 -> 403488.93
A30: F. Time to train personnel | B30: N/A
A31: G. Time for audits | B31: N/A
A32: Subtotal for Recordkeeping Requirements | F32: =SUM(F28:H29) -> 8533 | I32: =SUM(I28:I29) -> 1075970.5
A33: Total Labor Burden and Costs (rounded) j | F33: =ROUND(SUM(F21,F32),-2) -> 13500 | I33: =ROUND(I32+I21,-4) -> 1700000 | K33: Responses | L33: =Responses!E10 -> 106
A34: Total Capital and O&M Cost (rounded) j | I34: ='Capital O&M'!G7 -> 416000 | K34: Hours/response | L34: =F33/L33 -> 127.35849
A35: GRAND TOTAL (rounded) j | F35: =ROUND(SUM(F21,F32),-2) -> 13500 | I35: =ROUND(SUM(I32,I21,I34),-4) -> 2110000
A37: Assumptions:
A38: a We have assumed that there are approximately 53 respondents, with no additional new or reconstructed sources becoming subject to the rule over the next three years.
A39: b This ICR uses the following labor rates: Managerial $163.17 ($77.70 + 110%); Technical $130.28 ($62.04 + 110%); and Clerical $65.71 ($31.29 + 110%). These rates are from the United States Department of Labor, Bureau of Labor Statistics, September 2022, “Table 2. Civilian Workers, by occupational and industry group.” The rates are from column 1, “Total compensation.” The rates have been increased by 110 percent to account for varying industry wage rates and the additional overhead business costs of employing workers beyond their wages and benefits, including business expenses associated with hiring, training, and equipping their employees.
A40: c We have assumed that it will take one hour for each respondent to read instructions.
A41: d We have assumed that it will take 300 hours for each respondent to complete an initial performance test.
A42: e We have assumed that it will take four hours for each respondent to complete a reference Method 9 test.
...

Sheet Table 2
A1: Table 2: Average Annual EPA Burden and Cost - NSPS for Sulfuric Acid Plants (40 CFR Part 60, Subpart H) (Renewal)
A3: Activity | B3: (A) | C3: (B) | D3: (C) | E3: (D) | F3: (E) | G3: (F) | H3: (G) | I3: (H)
B4: EPA person- hours per occurrence | C4: No. of occurrences per plant per year | D4: EPA person- hours per plant per year (C=AxB) | E4: Plants per year a | F4: Technical person- hours per year (E=CxD) | G4: Management person-hours per year (Ex0.05) | H4: Clerical person-hours per year (Ex0.1) | I4: Cost, $ b
A5: New facility | K5: Labor Rates
A6: Initial performance test c | B6: 50 | C6: 1 | D6: =B6*C6 -> 50 | E6: 0 | F6: =D6*E6 -> 0 | G6: =F6*0.05 -> 0 | H6: =F6*0.1 -> 0 | I6: =F6*$L$7+G6*$L$6+H6*$L$8 -> 0 | K6: Management | L6: 73.46
A7: Repeat performance test/observed d | B7: 24 | C7: 1 | D7: =B7*C7 -> 24 | E7: 0 | F7: =D7*E7 -> 0 | G7: =F7*0.05 -> 0 | H7: =F7*0.1 -> 0 | I7: =F7*$L$7+G7*$L$6+H7*$L$8 -> 0 | K7: Technical | L7: 54.51
A8: Review reports | K8: Clerical | L8: 29.5
A9: Notification of construction | B9: 2 | C9: 1 | D9: =B9*C9 -> 2 | E9: 0 | F9: =D9*E9 -> 0 | G9: =F9*0.05 -> 0 | H9: =F9*0.1 -> 0 | I9: =F9*$L$7+G9*$L$6+H9*$L$8 -> 0
A10: Notification of actual startup | B10: 0.5 | C10: 1 | D10: =B10*C10 -> 0.5 | E10: 0 | F10: =D10*E10 -> 0 | G10: =F10*0.05 -> 0 | H10: =F10*0.1 -> 0 | I10: =F10*$L$7+G10*$L$6+H10*$L$8 -> 0
A11: Notification of initial test | B11: 0.5 | C11: 1.2 | D11: =B11*C11 -> 0.6 | E11: 0 | F11: =D11*E11 -> 0 | G11: =F11*0.05 -> 0 | H11: =F11*0.1 -> 0 | I11: =F11*$L$7+G11*$L$6+H11*$L$8 -> 0
A12: Review test results | B12: 8 | C12: 1.2 | D12: =B12*C12 -> 9.6 | E12: 0 | F12: =D12*E12 -> 0 | G12: =F12*0.05 -> 0 | H12: =F12*0.1 -> 0 | I12: =F12*$L$7+G12*$L$6+H12*$L$8 -> 0
A13: Notification of CMS demonstration | B13: 0.5 | C13: 1 | D13: =B13*C13 -> 0.5 | E13: 0 | F13: =D13*E13 -> 0 | G13: =F13*0.05 -> 0 | H13: =F13*0.1 -> 0 | I13: =F13*$L$7+G13*$L$6+H13*$L$8 -> 0
A14: Existing facility | B14: 0.5 | C14: 1 | D14: =B14*C14 -> 0.5 | E14: 0 | F14: =D14*E14 -> 0 | G14: =F14*0.05 -> 0 | H14: =F14*0.1 -> 0 | I14: =F14*$L$7+G14*$L$6+H14*$L$8 -> 0
A15: Excess emission reports e | B15: 4 | C15: 2 | D15: =B15*C15 -> 8 | E15: 53 | F15: =D15*E15 -> 424 | G15: =F15*0.05 -> 21.2 | H15: =F15*0.1 -> 42.4 | I15: =F15*$L$7+G15*$L$6+H15*$L$8 -> 25920.392
A16: TOTAL (rounded) f | F16: =ROUND(SUM(F15:H15),3) -> 487.6 | I16: =ROUND(SUM(I6:I15),-2) -> 25900
A18: Assumptions:
A19: a We have assumed that there are approximately 53 respondents, with no additional new or reconstructed sources becoming subject to the rule over the next three years.
A20: b This cost is based on the average hourly labor rate as follows: Managerial $73.46 (GS-13, Step 5, $45.91 + 60%); Technical $54.51 (GS-12, Step 1, $34.07 + 60%); and Clerical $29.50 (GS-6, Step 3, $18.44 + 60%). This ICR assumes that Managerial hours are 5 percent of Technical hours, and Clerical hours are 10 percent of Technical hours. These rates are from the Office of Personnel Management (OPM), 2023 General Schedule, which excludes locality, rates of pay. The rates have been increased by 60 percent to account for the benefit packages available to government employees.
A21: c We have assumed that it will take fifty hours for Agency observation of the initial performance test.
A22: d We have assumed that it will take twenty-four hours for Agency observation of a repeat of the performance test due to failure.
A23: e We have assumed that it will take four hours, twice per year, to review the excess emission reports.
A24: f Totals have been rounded to 3 significant figures. Figures may not add exactly due to rounding.

Sheet Capital O&M
A2: Capital/Startup vs. Operation and Maintenance (O&M) Costs
A3: (A) | B3: (B) | C3: (C) | D3: (D) | E3: (E) | F3: (F) | G3: (G)
A4: Continuous Monitoring Device | B4: Capital/Startup Cost for One Respondent a | C4: Number of New Respondents | D4: Total Capital/Startup Cost, (B X C) | E4: Annual O&M Costs for One Respondent a | F4: Number of Respondents with O&M | G4: Total O&M, (ExF) | I4: CEPCI Index
A5: CMS | B5: =120000*J7/J6 -> 209141.39 | C5: 0 | D5: 0 | E5: =4500*J7/J6 -> 7842.8022 | F5: 53 | G5: =E5*F5 -> 415668.52 | I5: Year | J5: Index
A6: SO2 testing | B6: =8000*J7/J6 -> 13942.76 | C6: 0 | D6: 0 | E6: 0 | F6: 0 | G6: =E6*F6 -> 0 | I6: 2005 | J6: 468.2
A7: Total b | D7: 0 | G7: =ROUND(SUM(G5:G6),-3) -> 416000 | I7: 2022 | J7: 816
A8: a Capital/Startup and Annual O&M costs have been increased from 2005 to 2022 $ using the CEPCI Index.
A9: b Totals have been rounded to 3 significant figures. Figures may not add exactly due to rounding.

Sheet Responses
A1: Total Annual Responses
A2: (A) | B2: (B) | C2: (C) | D2: (D) | E2: (E)
A3: Information Collection Activity | B3: Number of Respondents | C3: Number of Responses | D3: Number of Existing Respondents That Keep Records But Do Not Submit Reports | E3: Total Annual Responses E=(BxC)+D
A4: Notification of construction or modification | B4: 0 | C4: 1 | D4: 0 | E4: =B4*C4 -> 0
A5: Notification of actual startup | B5: 0 | C5: 1 | D5: 0 | E5: =B5*C5 -> 0
A6: Notification of physical or operational change | B6: 0 | C6: 1 | D6: 0 | E6: =B6*C6 -> 0
A7: Notification of demonstration of CMS | B7: 0 | C7: 1 | D7: 0 | E7: =B7*C7 -> 0
A8: Notification of initial performance test | B8: 0 | C8: 1 | D8: 0 | E8: =B8*C8 -> 0
A9: Semiannual report of excess emissions | B9: 53 | C9: 2 | D9: 0 | E9: =B9*C9 -> 106
D10: Total | E10: =SUM(E4:E9) -> 106

Sheet Respondents
A1: Number of Respondents
B2: Respondents That Submit Reports | D2: Respondents That Do Not Submit Any Reports
B3: (A) | C3: (B) | D3: (C) | E3: (D) | F3: (E)
A4: Year | B4: Number of New Respondents a | C4: Number of Existing Respondents | D4: Number of Existing Respondents that keep records but do not submit reports | E4: Number of Existing Respondents That Are Also New Respondents | F4: Number of Respondents (E=A+B+C-D)
A5: 1 | B5: 0 | C5: 53 | D5: 0 | E5: 0 | F5: 53
A6: 2 | B6: 0 | C6: 53 | D6: 0 | E6: 0 | F6: 53
A7: 3 | B7: 0 | C7: 53 | D7: 0 | E7: 0 | F7: 53
A8: Average | B8: =AVERAGE(B5:B7) -> 0 | C8: =AVERAGE(C5:C7) -> 53 | D8: 0 | E8: 0 | F8: =AVERAGE(F5:F7) -> 53
A9: a New respondents include sources with constructed, reconstructed, and modified affected facilities.
