{"text_format":"3","workbook":"xlsx","n_sheets":15,"sheets":["Welcome","Company_Information","Lists","No CMS - Deviation - Limits","Process_&_CMS_Identification","Using CMS - Malfunction","Using CMS - Inop_OoC - CMS","Downtime - CMS Summary","Using CMS - Deviation - Limits","Using CMS - Deviation - Summary","Deviation - Daily Averages","Using CMS - Descrip of Changes","Semiannual - Certification","Revisions","Worksheet Map"],"not_rendered":{"images":1,"defined_names":3},"read":"whole","date_system":"1900"}

{"sheet":"Welcome","index":0,"n_rows":16,"n_cols":2,"rows_kept":16}
["DO NOT REMOVE OR EDIT INFORMATION IN ROWS 1 THROUGH 5\nFOR INTERNAL USE ONLY"]
["Template Name","63.5580(g) Semiannual Compliance Report (Spreadsheet Template)"]
["CitationID","63.5580(g)"]
["Template Version","ICR Draft"]
["Last Updated Date",{"v":45176,"d":"4517600.00%"}]
["Blank","OMB No.: 2060-0488 Form 5900-647 For further Paperwork Reduction Act information see: \nhttps://www.epa.gov/electronic-reporting-air-emissions/paperwork-reduction-act-pra-cedri-and-ert"]
["Blank","40 CFR Part 63, Subpart UUUU National Emission Standards for Hazardous Air Pollutants for Cellulose Products Manufacturing - §63.5580 Semiannual Compliance Report Spreadsheet Template"]
[null,"Welcome and Instructions"]
[null,"Purpose:\nThis spreadsheet template was designed by the U.S. EPA to facilitate Semiannual Compliance reporting for facilities subject under the 40 CFR part 63, subpart UUUU National Emission Standard for Hazardous Air Pollutants for Cellulose Products Manufacturing.  \n"]
[null,"Electronic reporting:\nElectronic submission of Semiannual Compliance Reports through the EPA's Compliance and Emissions Data Reporting (CEDRI) is required under §63.5580(g). CEDRI is accessed through the EPA's Central Data Exchange (https://cdx.epa.gov)\n"]
["Blank","The CEDRI spreadsheet template upload feature allows you to submit data in a single report for a single company or multiple companies, as well as multiple sites, using this EPA provided Excel workbook.  Data for each company must be entered into the worksheet labeled \"Company Information\" in this Excel workbook.  Each row in the \"Company Information\" worksheet includes the data for a single company. The Company Record No. will be used to match the information on each tab to the appropriate company. \n\nFor each facility record found in the \"Company Information\" worksheet, you may reference a single file attachment that includes additional information. "]
[null,"Do not submit information you claim as confidential business information (CBI) to EPA via CEDRI. EPA will make all the information submitted through CEDRI available to the public without further notice to you. Anything submitted using CEDRI cannot later be claimed to be CBI. Furthermore, under CAA section 114(c) emissions data is not entitled to confidential treatment and requires EPA to make emissions data available to the public. Thus, emissions data will not be protected as CBI and will be made publicly available.\n\nAlthough we do not expect persons to assert a claim of CBI, if persons wish to assert a CBI claim, you must submit the report via CEDRI with the CBI omitted and mail a complete report, including any information claimed to be CBI, to EPA on a compact disc, flash drive, or other commonly used electronic storage media via U.S. postal service. You must mark the outside of the digital storage media as CBI and then identify electronically within the digital storage media the specific information that is claimed as CBI. Mail the media to the address in the referencing federal regulation. If no address is specified, mail the media to:\n\nU.S. EPA/OAQPS/CORE CBI Office Attention: Group Leader, \nMeasurement Policy Group MD C404-02\n4930 Old Page Rd\nDurham, North Carolina 27703"]
["Blank","IMPORTANT: The spreadsheet must be uploaded into CEDRI as a single ZIP file, which must include this Excel workbook and any related attachments that were referenced in the workbook (i.e., additional information file found in the \"Company Information\" worksheet).\n\nNote: If you are uploading file attachments for your report, the uploaded files may be in any format (e.g., ZIP, docx, PDF). If you would like to include an Excel file(s) as an attachment, you must first zip the Excel file(s) into a separate ZIP file to the master ZIP file that will be uploaded into CEDRI.\n"]
[null,"\nOnce all data have been entered in the worksheet, combine this Excel workbook and all attachment files (including any ZIP file containing separate excel file(s), if applicable) into a single ZIP file for upload to CEDRI.\n\nPlease ensure your report includes all of the required data elements found in the listed citations below for this spreadsheet upload submission."]
["Blank","Template Navigation and Tabs to Complete:\nWhite Tabs:  The white tabs (Welcome and Revisions) contain instructions and information about the spreadsheet.                                                                                                                                                                                                                                                                                                                                            t                                                                                                                                                                                                                                                                                                                                                                Gray Tabs:  The gray tab (Company_Information) contains general information that is likely to be unchanged from report to report.  After completing the gray tab, the workbook may be saved as a site specific template for use in subsequent reports to limit subsequent data entry.  \n\nGreen Tabs:  Green tabs (Process_&_CMS_Identification, Using CMS - Malfunction, Using CMS - Inop_OoC - CMS, Downtime - CMS Summary, Using CMS - Deviation - Limits, Using CMS - Deviation Summary, Deviation - Daily Averages, Using CMS - Descrip of Changes) are to be completed as necessary to complete the Semiannual report.   Some cells are linked to previous tabs or are calculations dependant upon data entry.                                                                                                                                                                                                                                                       t                                                                                                                                                                                                                                                                                                                                                                                  Blue Tab: The blue tab (No CMS - Deviation - Limits) is to be completed for deviations that occur where there is no continuous monitoring system.                                                                                                                                t                                                                                                                                                                                                                                                                                                                                                                                  Yellow Tab: The yellow tab (Semiannual - Certification) is to be completed for deviations that occur where there is no continuous monitoring system. \n\nWithin the tabs, example rows are colored light red (rows 14 through 23), and the XML tags (row 13) are colored green.  These rows are locked; no data entry is made in these rows. "]
[null,"Certification:\nFill out the Semiannual - Certification tab to complete the certification statements of  §§63.5580(c)(2), (c)(5)-(6), and (f).  "]

{"sheet":"Company_Information","index":1,"n_rows":33,"n_cols":15,"rows_kept":33}
[null,"DO NOT REMOVE OR EDIT INFORMATION IN ROWS 1 THROUGH 5\nFOR INTERNAL USE ONLY"]
[null,"Template Name",{"$f":"+Welcome!B2","v":"63.5580(g) Semiannual Compliance Report (Spreadsheet Template)"}]
[null,"CitationID",{"$f":"+Welcome!B3","v":"63.5580(g)"}]
[null,"Template Version",{"$f":"+Welcome!B4","v":"ICR Draft"}]
[null,"Last Updated Date",{"$f":"+Welcome!B5","v":{"v":45176,"d":"4517600.00%"}}]
[]
[null,"40 CFR Part 63, Subpart UUUU National Emission Standards for Hazardous Air Pollutants for Cellulose Products Manufacturing - §63.5580 Semiannual Compliance Report Spreadsheet Template"]
[null,"\n"]
[]
[]
[null,null,"SITE INFORMATION",{"$nulls":7},"REPORTING PERIOD",null,null,"ADDITIONAL INFORMATION"]
[null,"Company Record No. \n(Field value will automatically generate if a value is not entered.)","Company Name  \n(§63.5580(c)(1))","Address  \n(§63.5580(c)(1))","Address 2 ","City \n(§63.5580(c)(1))","County","State Abbreviation \n(§63.5580(c)(1))","Zip Code\n(§63.5580(c)(1))","Responsible Agency Facility ID \n(State Facility Identifier)","Date of Report \n(§63.5580(c)(3))","Beginning Date of Reporting Period \n(§63.5580(c)(3))","Ending Date of\n Reporting Period\n(§63.5580(c)(3))","Please enter any additional information.","Enter associated file name reference. "]
[null,"RecordId","CompanyName","AddressLine1","AddressLine2","CityName","CountyName","StateName","ZIPCode","StateFacID","ReportDate","PeriodStartDate","PeriodEndDate","AddInfo","AddFile"]
[null,"e.g.: 1","e.g.: ABC Company","e.g.: 123 Main Street","e.g.: Suite 100","e.g.: Brooklyn","e.g.: Kings","e.g.: NY","e.g.: 11221",null,"e.g.: 7/15/2020","e.g.: 01/01/2020","e.g.: 6/30/2020","e.g.:","e.g.: addlinfo.zip "]
[null,"e.g.:","e.g.:","e.g.:","e.g.:","e.g.:","e.g.:","e.g.:","e.g.:","e.g.:","e.g.:","e.g.:","e.g.:","e.g.:","e.g.:"]
[null,"e.g.:","e.g.:","e.g.:","e.g.:","e.g.:","e.g.:","e.g.:","e.g.:","e.g.:","e.g.:","e.g.:","e.g.:","e.g.:","e.g.:"]
[null,"e.g.:","e.g.:","e.g.:","e.g.:","e.g.:","e.g.:","e.g.:","e.g.:","e.g.:","e.g.:","e.g.:","e.g.:","e.g.:","e.g.:"]
[null,"e.g.:","e.g.:","e.g.:","e.g.:","e.g.:","e.g.:","e.g.:","e.g.:","e.g.:","e.g.:","e.g.:","e.g.:","e.g.:","e.g.:"]
[null,"e.g.:","e.g.:","e.g.:","e.g.:","e.g.:","e.g.:","e.g.:","e.g.:","e.g.:","e.g.:","e.g.:","e.g.:","e.g.:","e.g.:"]
[null,"e.g.:","e.g.:","e.g.:","e.g.:","e.g.:","e.g.:","e.g.:","e.g.:","e.g.:","e.g.:","e.g.:","e.g.:","e.g.:","e.g.:"]
[null,"e.g.:","e.g.:","e.g.:","e.g.:","e.g.:","e.g.:","e.g.:","e.g.:","e.g.:","e.g.:","e.g.:","e.g.:","e.g.:","e.g.:"]
[null,"e.g.:","e.g.:","e.g.:","e.g.:","e.g.:","e.g.:","e.g.:","e.g.:","e.g.:","e.g.:","e.g.:","e.g.:","e.g.:","e.g.:"]
[null,"e.g.:","e.g.:","e.g.:","e.g.:","e.g.:","e.g.:","e.g.:","e.g.:","e.g.:","e.g.:","e.g.:","e.g.:","e.g.:","e.g.:"]
[null,{"$f":"IF(C24=\"\",\"\",ROW(B24)-23)","v":""}]
[null,""]
[null,""]
[null,{"$f":"IF(C27=\"\",\"\",ROW(B27)-23)","v":""}]
[null,""]
[null,""]
[null,""]
[null,""]
[null,""]
[null,""]

{"sheet":"Lists","index":2,"n_rows":500,"n_cols":57,"rows_kept":500,"hidden":true}
["Rank","Name","Unitlist","Column1",null,"Column2","Column1","Companylist","Column3",null,"Rank","Cem","CEMName","Column1",null,"CMSCauseList",null,"Limits",null,"Column5","Facility","Source","Combo","Column4","Column42","Column43","Column44",null,"Column5","Facility","Source","Unique","Column4","Column42","Column43","Column432",null,"states",null,"Column5","Facility","Source","CMS","Unique","Column4","Column42","Column43","Column432",null,"Column5","Facility","Source","Unique","Column4","Column42","Column43","Column432"]
[{"$f":"+IF(D2=\"\",\"\",MAX(A1:A$1)+1)","v":""},{"$f":"IF('Process_&_CMS_Identification'!C24=\"\",\"\",'Process_&_CMS_Identification'!C24)","v":""},{"$f":"+IFERROR(INDEX(B$2:B$501,MATCH(ROW()-ROW($C$1),A$2:A$501,0)),\"\")","v":""},{"$f":"IF(COUNTIF(B$2:B2,B2)=1,B2,\"\")","v":""},null,{"$f":"+IF(I2=\"\",\"\",MAX(F1:F$1)+1)","v":""},{"$f":"+IF(Company_Information!B24=\"\",\"\",Company_Information!B24)","v":""},{"$f":"+IFERROR(INDEX(G$2:G$11,MATCH(ROW()-ROW($H$1),F$2:F$11,0)),\"\")","v":""},{"$f":"IF(COUNTIF(G$2:G2,G2)=1,G2,\"\")","v":""},null,{"$f":"+IF(N2=\"\",\"\",MAX(K1:K$1)+1)","v":""},{"$f":"IF('Process_&_CMS_Identification'!D24=\"\",\"\",'Process_&_CMS_Identification'!D24)","v":""},{"$f":"+IFERROR(INDEX(L$2:L$101,MATCH(ROW()-ROW($M$1),K$2:K$101,0)),\"\")","v":""},{"$f":"IF(COUNTIF(L$2:L2,L2)=1,L2,\"\")","v":""},null,"Monitoring Equipment Malfunctions",null,"Carbon disulfide",null,{"$f":"+IF(X2=\"\",\"\",MAX(T1:T$1)+1)","v":""},{"$f":"IF('No CMS - Deviation - Limits'!B24=\"\",\"\",'No CMS - Deviation - Limits'!B24)","v":""},{"$f":"IF('No CMS - Deviation - Limits'!C24=\"\",\"\",'No CMS - Deviation - Limits'!C24)","v":""},{"$f":"U2&V2","v":""},{"$f":"IF(COUNTIF(V$2:V2,V2)=1,V2,\"\")","v":""},{"$f":"+IFERROR(INDEX(U$2:U$955,MATCH(ROW()-ROW($Y$1),T$2:T$955,0)),\"\")","v":""},{"$f":"+IFERROR(INDEX(V$2:V$955,MATCH(ROW()-ROW($Y$1),T$2:T$955,0)),\"\")","v":""},{"$f":"+IFERROR(INDEX(#REF!,MATCH(ROW()-ROW($Y$1),T$2:T$955,0)),\"\")","v":""},null,{"$f":"+IF(AG2=\"\",\"\",MAX(AC1:AC$1)+1)","v":""},{"$f":"IF('Using CMS - Deviation - Limits'!B24=\"\",\"\",'Using CMS - Deviation - Limits'!B24)","v":""},{"$f":"IF('Using CMS - Deviation - Limits'!C24=\"\",\"\",'Using CMS - Deviation - Limits'!C24)","v":""},{"$f":"AD2&AE2","v":""},{"$f":"IF(COUNTIF(AF$2:AF2,AF2)=1,AF2,\"\")","v":""},{"$f":"+IFERROR(INDEX(AD$2:AD$955,MATCH(ROW()-ROW(HX$1),AC$2:AC$955,0)),\"\")","v":""},{"$f":"+IFERROR(INDEX(AE$2:AE$955,MATCH(ROW()-ROW(AG$1),AC$2:AC$955,0)),\"\")","v":""},{"$f":"+IFERROR(INDEX(#REF!,MATCH(ROW()-ROW(AG$1),AC$2:AC$955,0)),\"\")","v":""},null,"AK",null,{"$f":"+IF(AS2=\"\",\"\",MAX(AN1:AN$1)+1)","v":""},{"$f":"IF('Using CMS - Inop_OoC - CMS'!B24=\"\",\"\",'Using CMS - Inop_OoC - CMS'!B24)","v":""},{"$f":"IF('Using CMS - Inop_OoC - CMS'!C24=\"\",\"\",'Using CMS - Inop_OoC - CMS'!C24)","v":""},{"$f":"IF('Using CMS - Inop_OoC - CMS'!D24=\"\",\"\",'Using CMS - Inop_OoC - CMS'!D24)","v":""},{"$f":"AO2&AP2&Table10[[#This Row],[CMS]]","v":""},{"$f":"IF(COUNTIF(AR$2:AR2,AR2)=1,AR2,\"\")","v":""},{"$f":"+IFERROR(INDEX(AO$2:AO$955,MATCH(ROW()-ROW(AS$1),AN$2:AN$955,0)),\"\")","v":""},{"$f":"+IFERROR(INDEX(AP$2:AP$955,MATCH(ROW()-ROW(AS$1),AN$2:AN$955,0)),\"\")","v":""},{"$f":"+IFERROR(INDEX(AQ$2:AQ$955,MATCH(ROW()-ROW(AT$1),AN$2:AN$955,0)),\"\")","v":""},null,{"$f":"+IF(BB2=\"\",\"\",MAX(AX1:AX$1)+1)","v":""},{"$f":"IF('Using CMS - Deviation - Limits'!B24=\"\",\"\",'Using CMS - Deviation - Limits'!B24)","v":""},{"$f":"IF('Using CMS - Deviation - Limits'!C24=\"\",\"\",'Using CMS - Deviation - Limits'!C24)","v":""},{"$f":"AY2&AZ2&Table10[[#This Row],[CMS]]","v":""},{"$f":"IF(COUNTIF(BA$2:BA2,BA2)=1,BA2,\"\")","v":""},{"$f":"+IFERROR(INDEX(AY$2:AY$955,MATCH(ROW()-ROW(BB$1),AX$2:AX$955,0)),\"\")","v":""},{"$f":"+IFERROR(INDEX(AZ$2:AZ$955,MATCH(ROW()-ROW(BB$1),AX$2:AX$955,0)),\"\")","v":""},{"$f":"+IFERROR(INDEX(#REF!,MATCH(ROW()-ROW(BC$1),AX$2:AX$955,0)),\"\")","v":""}]
[{"$f":"+IF(D3=\"\",\"\",MAX(A$1:A2)+1)","v":""},{"$f":"IF('Process_&_CMS_Identification'!C25=\"\",\"\",'Process_&_CMS_Identification'!C25)","v":""},"",{"$f":"IF(COUNTIF(B$2:B3,B3)=1,B3,\"\")","v":""},null,{"$f":"+IF(I3=\"\",\"\",MAX(F$1:F2)+1)","v":""},{"$f":"+IF(Company_Information!B25=\"\",\"\",Company_Information!B25)","v":""},"",{"$f":"IF(COUNTIF(G$2:G3,G3)=1,G3,\"\")","v":""},null,{"$f":"+IF(N3=\"\",\"\",MAX(K$1:K2)+1)","v":""},{"$f":"IF('Process_&_CMS_Identification'!D25=\"\",\"\",'Process_&_CMS_Identification'!D25)","v":""},"",{"$f":"IF(COUNTIF(L$2:L3,L3)=1,L3,\"\")","v":""},null,"Nonmonitoring Equipment Malfunctions",null,"Toluene",null,{"$f":"+IF(X3=\"\",\"\",MAX(T$1:T2)+1)","v":""},{"$f":"IF('No CMS - Deviation - Limits'!B25=\"\",\"\",'No CMS - Deviation - Limits'!B25)","v":""},{"$f":"IF('No CMS - Deviation - Limits'!C25=\"\",\"\",'No CMS - Deviation - Limits'!C25)","v":""},"",{"$f":"IF(COUNTIF(V$2:V3,V3)=1,V3,\"\")","v":""},"","",{"$f":"+IFERROR(INDEX(#REF!,MATCH(ROW()-ROW($Y$1),T$2:T$955,0)),\"\")","v":""},null,{"$f":"+IF(AG3=\"\",\"\",MAX(AC$1:AC2)+1)","v":""},{"$f":"IF('Using CMS - Deviation - Limits'!B25=\"\",\"\",'Using CMS - Deviation - Limits'!B25)","v":""},{"$f":"IF('Using CMS - Deviation - Limits'!C25=\"\",\"\",'Using CMS - Deviation - Limits'!C25)","v":""},"",{"$f":"IF(COUNTIF(AF$2:AF3,AF3)=1,AF3,\"\")","v":""},"","",{"$f":"+IFERROR(INDEX(#REF!,MATCH(ROW()-ROW(AG$1),AC$2:AC$955,0)),\"\")","v":""},null,"AL",null,{"$f":"+IF(AS3=\"\",\"\",MAX(AN$1:AN2)+1)","v":""},{"$f":"IF('Using CMS - Inop_OoC - CMS'!B25=\"\",\"\",'Using CMS - Inop_OoC - CMS'!B25)","v":""},{"$f":"IF('Using CMS - Inop_OoC - CMS'!C25=\"\",\"\",'Using CMS - Inop_OoC - CMS'!C25)","v":""},{"$f":"IF('Using CMS - Inop_OoC - CMS'!D25=\"\",\"\",'Using CMS - Inop_OoC - CMS'!D25)","v":""},{"$f":"AO3&AP3&Table10[[#This Row],[CMS]]","v":""},{"$f":"IF(COUNTIF(AR$2:AR3,AR3)=1,AR3,\"\")","v":""},{"$f":"+IFERROR(INDEX(AO$2:AO$955,MATCH(ROW()-ROW(AS$1),AN$2:AN$955,0)),\"\")","v":""},{"$f":"+IFERROR(INDEX(AP$2:AP$955,MATCH(ROW()-ROW(AS$1),AN$2:AN$955,0)),\"\")","v":""},"",null,{"$f":"+IF(BB3=\"\",\"\",MAX(AX$1:AX2)+1)","v":""},{"$f":"IF('Using CMS - Deviation - Limits'!B25=\"\",\"\",'Using CMS - Deviation - Limits'!B25)","v":""},{"$f":"IF('Using CMS - Deviation - Limits'!C25=\"\",\"\",'Using CMS - Deviation - Limits'!C25)","v":""},{"$f":"AY3&AZ3&Table10[[#This Row],[CMS]]","v":""},{"$f":"IF(COUNTIF(BA$2:BA3,BA3)=1,BA3,\"\")","v":""},"","",{"$f":"+IFERROR(INDEX(#REF!,MATCH(ROW()-ROW(BC$1),AX$2:AX$955,0)),\"\")","v":""}]
[{"$f":"+IF(D4=\"\",\"\",MAX(A$1:A3)+1)","v":""},{"$f":"IF('Process_&_CMS_Identification'!C26=\"\",\"\",'Process_&_CMS_Identification'!C26)","v":""},"",{"$f":"IF(COUNTIF(B$2:B4,B4)=1,B4,\"\")","v":""},null,{"$f":"+IF(I4=\"\",\"\",MAX(F$1:F3)+1)","v":""},{"$f":"+IF(Company_Information!B26=\"\",\"\",Company_Information!B26)","v":""},"",{"$f":"IF(COUNTIF(G$2:G4,G4)=1,G4,\"\")","v":""},null,{"$f":"+IF(N4=\"\",\"\",MAX(K$1:K3)+1)","v":""},{"$f":"IF('Process_&_CMS_Identification'!D26=\"\",\"\",'Process_&_CMS_Identification'!D26)","v":""},"",{"$f":"IF(COUNTIF(L$2:L4,L4)=1,L4,\"\")","v":""},null,"Quality Assurance/Quality Control Calibrations",null,"Organic HAP",null,{"$f":"+IF(X4=\"\",\"\",MAX(T$1:T3)+1)","v":""},{"$f":"IF('No CMS - Deviation - Limits'!B26=\"\",\"\",'No CMS - Deviation - Limits'!B26)","v":""},{"$f":"IF('No CMS - Deviation - Limits'!C26=\"\",\"\",'No CMS - Deviation - Limits'!C26)","v":""},"",{"$f":"IF(COUNTIF(V$2:V4,V4)=1,V4,\"\")","v":""},"","",{"$f":"+IFERROR(INDEX(#REF!,MATCH(ROW()-ROW($Y$1),T$2:T$955,0)),\"\")","v":""},null,{"$f":"+IF(AG4=\"\",\"\",MAX(AC$1:AC3)+1)","v":""},{"$f":"IF('Using CMS - Deviation - Limits'!B26=\"\",\"\",'Using CMS - Deviation - Limits'!B26)","v":""},{"$f":"IF('Using CMS - Deviation - Limits'!C26=\"\",\"\",'Using CMS - Deviation - Limits'!C26)","v":""},"",{"$f":"IF(COUNTIF(AF$2:AF4,AF4)=1,AF4,\"\")","v":""},"","",{"$f":"+IFERROR(INDEX(#REF!,MATCH(ROW()-ROW(AG$1),AC$2:AC$955,0)),\"\")","v":""},null,"AR",null,{"$f":"+IF(AS4=\"\",\"\",MAX(AN$1:AN3)+1)","v":""},{"$f":"IF('Using CMS - Inop_OoC - CMS'!B26=\"\",\"\",'Using CMS - Inop_OoC - CMS'!B26)","v":""},{"$f":"IF('Using CMS - Inop_OoC - CMS'!C26=\"\",\"\",'Using CMS - Inop_OoC - CMS'!C26)","v":""},{"$f":"IF('Using CMS - Inop_OoC - CMS'!D26=\"\",\"\",'Using CMS - Inop_OoC - CMS'!D26)","v":""},{"$f":"AO4&AP4&Table10[[#This Row],[CMS]]","v":""},{"$f":"IF(COUNTIF(AR$2:AR4,AR4)=1,AR4,\"\")","v":""},"","","",null,{"$f":"+IF(BB4=\"\",\"\",MAX(AX$1:AX3)+1)","v":""},{"$f":"IF('Using CMS - Deviation - Limits'!B26=\"\",\"\",'Using CMS - Deviation - Limits'!B26)","v":""},{"$f":"IF('Using CMS - Deviation - Limits'!C26=\"\",\"\",'Using CMS - Deviation - Limits'!C26)","v":""},{"$f":"AY4&AZ4&Table10[[#This Row],[CMS]]","v":""},{"$f":"IF(COUNTIF(BA$2:BA4,BA4)=1,BA4,\"\")","v":""},"","",{"$f":"+IFERROR(INDEX(#REF!,MATCH(ROW()-ROW(BC$1),AX$2:AX$955,0)),\"\")","v":""}]
[{"$f":"+IF(D5=\"\",\"\",MAX(A$1:A4)+1)","v":""},{"$f":"IF('Process_&_CMS_Identification'!C27=\"\",\"\",'Process_&_CMS_Identification'!C27)","v":""},"",{"$f":"IF(COUNTIF(B$2:B5,B5)=1,B5,\"\")","v":""},null,{"$f":"+IF(I5=\"\",\"\",MAX(F$1:F4)+1)","v":""},{"$f":"+IF(Company_Information!B27=\"\",\"\",Company_Information!B27)","v":""},"",{"$f":"IF(COUNTIF(G$2:G5,G5)=1,G5,\"\")","v":""},null,{"$f":"+IF(N5=\"\",\"\",MAX(K$1:K4)+1)","v":""},{"$f":"IF('Process_&_CMS_Identification'!D27=\"\",\"\",'Process_&_CMS_Identification'!D27)","v":""},"",{"$f":"IF(COUNTIF(L$2:L5,L5)=1,L5,\"\")","v":""},null,"Other Known Causes",null,"Flow indicator",null,{"$f":"+IF(X5=\"\",\"\",MAX(T$1:T4)+1)","v":""},{"$f":"IF('No CMS - Deviation - Limits'!B27=\"\",\"\",'No CMS - Deviation - Limits'!B27)","v":""},{"$f":"IF('No CMS - Deviation - Limits'!C27=\"\",\"\",'No CMS - Deviation - Limits'!C27)","v":""},"",{"$f":"IF(COUNTIF(V$2:V5,V5)=1,V5,\"\")","v":""},"","",{"$f":"+IFERROR(INDEX(#REF!,MATCH(ROW()-ROW($Y$1),T$2:T$955,0)),\"\")","v":""},null,{"$f":"+IF(AG5=\"\",\"\",MAX(AC$1:AC4)+1)","v":""},{"$f":"IF('Using CMS - Deviation - Limits'!B27=\"\",\"\",'Using CMS - Deviation - Limits'!B27)","v":""},{"$f":"IF('Using CMS - Deviation - Limits'!C27=\"\",\"\",'Using CMS - Deviation - Limits'!C27)","v":""},"",{"$f":"IF(COUNTIF(AF$2:AF5,AF5)=1,AF5,\"\")","v":""},"","",{"$f":"+IFERROR(INDEX(#REF!,MATCH(ROW()-ROW(AG$1),AC$2:AC$955,0)),\"\")","v":""},null,"AS",null,{"$f":"+IF(AS5=\"\",\"\",MAX(AN$1:AN4)+1)","v":""},{"$f":"IF('Using CMS - Inop_OoC - CMS'!B27=\"\",\"\",'Using CMS - Inop_OoC - CMS'!B27)","v":""},{"$f":"IF('Using CMS - Inop_OoC - CMS'!C27=\"\",\"\",'Using CMS - Inop_OoC - CMS'!C27)","v":""},{"$f":"IF('Using CMS - Inop_OoC - CMS'!D27=\"\",\"\",'Using CMS - Inop_OoC - CMS'!D27)","v":""},{"$f":"AO5&AP5&Table10[[#This Row],[CMS]]","v":""},{"$f":"IF(COUNTIF(AR$2:AR5,AR5)=1,AR5,\"\")","v":""},"","","",null,{"$f":"+IF(BB5=\"\",\"\",MAX(AX$1:AX4)+1)","v":""},{"$f":"IF('Using CMS - Deviation - Limits'!B27=\"\",\"\",'Using CMS - Deviation - Limits'!B27)","v":""},{"$f":"IF('Using CMS - Deviation - Limits'!C27=\"\",\"\",'Using CMS - Deviation - Limits'!C27)","v":""},{"$f":"AY5&AZ5&Table10[[#This Row],[CMS]]","v":""},{"$f":"IF(COUNTIF(BA$2:BA5,BA5)=1,BA5,\"\")","v":""},"","",{"$f":"+IFERROR(INDEX(#REF!,MATCH(ROW()-ROW(BC$1),AX$2:AX$955,0)),\"\")","v":""}]
[{"$f":"+IF(D6=\"\",\"\",MAX(A$1:A5)+1)","v":""},{"$f":"IF('Process_&_CMS_Identification'!C28=\"\",\"\",'Process_&_CMS_Identification'!C28)","v":""},"",{"$f":"IF(COUNTIF(B$2:B6,B6)=1,B6,\"\")","v":""},null,{"$f":"+IF(I6=\"\",\"\",MAX(F$1:F5)+1)","v":""},{"$f":"+IF(Company_Information!B28=\"\",\"\",Company_Information!B28)","v":""},"",{"$f":"IF(COUNTIF(G$2:G6,G6)=1,G6,\"\")","v":""},null,{"$f":"+IF(N6=\"\",\"\",MAX(K$1:K5)+1)","v":""},{"$f":"IF('Process_&_CMS_Identification'!D28=\"\",\"\",'Process_&_CMS_Identification'!D28)","v":""},"",{"$f":"IF(COUNTIF(L$2:L6,L6)=1,L6,\"\")","v":""},null,"Unknown Causes",null,"Average condenser outlet gas ",null,{"$f":"+IF(X6=\"\",\"\",MAX(T$1:T5)+1)","v":""},{"$f":"IF('No CMS - Deviation - Limits'!B28=\"\",\"\",'No CMS - Deviation - Limits'!B28)","v":""},{"$f":"IF('No CMS - Deviation - Limits'!C28=\"\",\"\",'No CMS - Deviation - Limits'!C28)","v":""},"",{"$f":"IF(COUNTIF(V$2:V6,V6)=1,V6,\"\")","v":""},"","",{"$f":"+IFERROR(INDEX(#REF!,MATCH(ROW()-ROW($Y$1),T$2:T$955,0)),\"\")","v":""},null,{"$f":"+IF(AG6=\"\",\"\",MAX(AC$1:AC5)+1)","v":""},{"$f":"IF('Using CMS - Deviation - Limits'!B28=\"\",\"\",'Using CMS - Deviation - Limits'!B28)","v":""},{"$f":"IF('Using CMS - Deviation - Limits'!C28=\"\",\"\",'Using CMS - Deviation - Limits'!C28)","v":""},"",{"$f":"IF(COUNTIF(AF$2:AF6,AF6)=1,AF6,\"\")","v":""},"","",{"$f":"+IFERROR(INDEX(#REF!,MATCH(ROW()-ROW(AG$1),AC$2:AC$955,0)),\"\")","v":""},null,"AZ",null,{"$f":"+IF(AS6=\"\",\"\",MAX(AN$1:AN5)+1)","v":""},{"$f":"IF('Using CMS - Inop_OoC - CMS'!B28=\"\",\"\",'Using CMS - Inop_OoC - CMS'!B28)","v":""},{"$f":"IF('Using CMS - Inop_OoC - CMS'!C28=\"\",\"\",'Using CMS - Inop_OoC - CMS'!C28)","v":""},{"$f":"IF('Using CMS - Inop_OoC - CMS'!D28=\"\",\"\",'Using CMS - Inop_OoC - CMS'!D28)","v":""},{"$f":"AO6&AP6&Table10[[#This Row],[CMS]]","v":""},{"$f":"IF(COUNTIF(AR$2:AR6,AR6)=1,AR6,\"\")","v":""},"","","",null,{"$f":"+IF(BB6=\"\",\"\",MAX(AX$1:AX5)+1)","v":""},{"$f":"IF('Using CMS - Deviation - Limits'!B28=\"\",\"\",'Using CMS - Deviation - Limits'!B28)","v":""},{"$f":"IF('Using CMS - Deviation - Limits'!C28=\"\",\"\",'Using CMS - Deviation - Limits'!C28)","v":""},{"$f":"AY6&AZ6&Table10[[#This Row],[CMS]]","v":""},{"$f":"IF(COUNTIF(BA$2:BA6,BA6)=1,BA6,\"\")","v":""},"","",{"$f":"+IFERROR(INDEX(#REF!,MATCH(ROW()-ROW(BC$1),AX$2:AX$955,0)),\"\")","v":""}]
[{"$f":"+IF(D7=\"\",\"\",MAX(A$1:A6)+1)","v":""},{"$f":"IF('Process_&_CMS_Identification'!C29=\"\",\"\",'Process_&_CMS_Identification'!C29)","v":""},"",{"$f":"IF(COUNTIF(B$2:B7,B7)=1,B7,\"\")","v":""},null,{"$f":"+IF(I7=\"\",\"\",MAX(F$1:F6)+1)","v":""},{"$f":"+IF(Company_Information!B29=\"\",\"\",Company_Information!B29)","v":""},"",{"$f":"IF(COUNTIF(G$2:G7,G7)=1,G7,\"\")","v":""},null,{"$f":"+IF(N7=\"\",\"\",MAX(K$1:K6)+1)","v":""},{"$f":"IF('Process_&_CMS_Identification'!D29=\"\",\"\",'Process_&_CMS_Identification'!D29)","v":""},"",{"$f":"IF(COUNTIF(L$2:L7,L7)=1,L7,\"\")","v":""},{"$nulls":3},"Average condensed liquid temperature",null,{"$f":"+IF(X7=\"\",\"\",MAX(T$1:T6)+1)","v":""},{"$f":"IF('No CMS - Deviation - Limits'!B29=\"\",\"\",'No CMS - Deviation - Limits'!B29)","v":""},{"$f":"IF('No CMS - Deviation - Limits'!C29=\"\",\"\",'No CMS - Deviation - Limits'!C29)","v":""},"",{"$f":"IF(COUNTIF(V$2:V7,V7)=1,V7,\"\")","v":""},"","",{"$f":"+IFERROR(INDEX(#REF!,MATCH(ROW()-ROW($Y$1),T$2:T$955,0)),\"\")","v":""},null,{"$f":"+IF(AG7=\"\",\"\",MAX(AC$1:AC6)+1)","v":""},{"$f":"IF('Using CMS - Deviation - Limits'!B29=\"\",\"\",'Using CMS - Deviation - Limits'!B29)","v":""},{"$f":"IF('Using CMS - Deviation - Limits'!C29=\"\",\"\",'Using CMS - Deviation - Limits'!C29)","v":""},"",{"$f":"IF(COUNTIF(AF$2:AF7,AF7)=1,AF7,\"\")","v":""},"","",{"$f":"+IFERROR(INDEX(#REF!,MATCH(ROW()-ROW(AG$1),AC$2:AC$955,0)),\"\")","v":""},null,"CA",null,{"$f":"+IF(AS7=\"\",\"\",MAX(AN$1:AN6)+1)","v":""},{"$f":"IF('Using CMS - Inop_OoC - CMS'!B29=\"\",\"\",'Using CMS - Inop_OoC - CMS'!B29)","v":""},{"$f":"IF('Using CMS - Inop_OoC - CMS'!C29=\"\",\"\",'Using CMS - Inop_OoC - CMS'!C29)","v":""},{"$f":"IF('Using CMS - Inop_OoC - CMS'!D29=\"\",\"\",'Using CMS - Inop_OoC - CMS'!D29)","v":""},{"$f":"AO7&AP7&Table10[[#This Row],[CMS]]","v":""},{"$f":"IF(COUNTIF(AR$2:AR7,AR7)=1,AR7,\"\")","v":""},"","","",null,{"$f":"+IF(BB7=\"\",\"\",MAX(AX$1:AX6)+1)","v":""},{"$f":"IF('Using CMS - Deviation - Limits'!B29=\"\",\"\",'Using CMS - Deviation - Limits'!B29)","v":""},{"$f":"IF('Using CMS - Deviation - Limits'!C29=\"\",\"\",'Using CMS - Deviation - Limits'!C29)","v":""},{"$f":"AY7&AZ7&Table10[[#This Row],[CMS]]","v":""},{"$f":"IF(COUNTIF(BA$2:BA7,BA7)=1,BA7,\"\")","v":""},"","",{"$f":"+IFERROR(INDEX(#REF!,MATCH(ROW()-ROW(BC$1),AX$2:AX$955,0)),\"\")","v":""}]
[{"$f":"+IF(D8=\"\",\"\",MAX(A$1:A7)+1)","v":""},{"$f":"IF('Process_&_CMS_Identification'!C30=\"\",\"\",'Process_&_CMS_Identification'!C30)","v":""},"",{"$f":"IF(COUNTIF(B$2:B8,B8)=1,B8,\"\")","v":""},null,{"$f":"+IF(I8=\"\",\"\",MAX(F$1:F7)+1)","v":""},{"$f":"+IF(Company_Information!B30=\"\",\"\",Company_Information!B30)","v":""},"",{"$f":"IF(COUNTIF(G$2:G8,G8)=1,G8,\"\")","v":""},null,{"$f":"+IF(N8=\"\",\"\",MAX(K$1:K7)+1)","v":""},{"$f":"IF('Process_&_CMS_Identification'!D30=\"\",\"\",'Process_&_CMS_Identification'!D30)","v":""},"",{"$f":"IF(COUNTIF(L$2:L8,L8)=1,L8,\"\")","v":""},{"$nulls":3},"Average thermal oxidizer firebox temperature",null,{"$f":"+IF(X8=\"\",\"\",MAX(T$1:T7)+1)","v":""},{"$f":"IF('No CMS - Deviation - Limits'!B30=\"\",\"\",'No CMS - Deviation - Limits'!B30)","v":""},{"$f":"IF('No CMS - Deviation - Limits'!C30=\"\",\"\",'No CMS - Deviation - Limits'!C30)","v":""},"",{"$f":"IF(COUNTIF(V$2:V8,V8)=1,V8,\"\")","v":""},"","",{"$f":"+IFERROR(INDEX(#REF!,MATCH(ROW()-ROW($Y$1),T$2:T$955,0)),\"\")","v":""},null,{"$f":"+IF(AG8=\"\",\"\",MAX(AC$1:AC7)+1)","v":""},{"$f":"IF('Using CMS - Deviation - Limits'!B30=\"\",\"\",'Using CMS - Deviation - Limits'!B30)","v":""},{"$f":"IF('Using CMS - Deviation - Limits'!C30=\"\",\"\",'Using CMS - Deviation - Limits'!C30)","v":""},"",{"$f":"IF(COUNTIF(AF$2:AF8,AF8)=1,AF8,\"\")","v":""},"","",{"$f":"+IFERROR(INDEX(#REF!,MATCH(ROW()-ROW(AG$1),AC$2:AC$955,0)),\"\")","v":""},null,"CO",null,{"$f":"+IF(AS8=\"\",\"\",MAX(AN$1:AN7)+1)","v":""},{"$f":"IF('Using CMS - Inop_OoC - CMS'!B30=\"\",\"\",'Using CMS - Inop_OoC - CMS'!B30)","v":""},{"$f":"IF('Using CMS - Inop_OoC - CMS'!C30=\"\",\"\",'Using CMS - Inop_OoC - CMS'!C30)","v":""},{"$f":"IF('Using CMS - Inop_OoC - CMS'!D30=\"\",\"\",'Using CMS - Inop_OoC - CMS'!D30)","v":""},{"$f":"AO8&AP8&Table10[[#This Row],[CMS]]","v":""},{"$f":"IF(COUNTIF(AR$2:AR8,AR8)=1,AR8,\"\")","v":""},"","","",null,{"$f":"+IF(BB8=\"\",\"\",MAX(AX$1:AX7)+1)","v":""},{"$f":"IF('Using CMS - Deviation - Limits'!B30=\"\",\"\",'Using CMS - Deviation - Limits'!B30)","v":""},{"$f":"IF('Using CMS - Deviation - Limits'!C30=\"\",\"\",'Using CMS - Deviation - Limits'!C30)","v":""},{"$f":"AY8&AZ8&Table10[[#This Row],[CMS]]","v":""},{"$f":"IF(COUNTIF(BA$2:BA8,BA8)=1,BA8,\"\")","v":""},"","",{"$f":"+IFERROR(INDEX(#REF!,MATCH(ROW()-ROW(BC$1),AX$2:AX$955,0)),\"\")","v":""}]
[{"$f":"+IF(D9=\"\",\"\",MAX(A$1:A8)+1)","v":""},{"$f":"IF('Process_&_CMS_Identification'!C31=\"\",\"\",'Process_&_CMS_Identification'!C31)","v":""},"",{"$f":"IF(COUNTIF(B$2:B9,B9)=1,B9,\"\")","v":""},null,{"$f":"+IF(I9=\"\",\"\",MAX(F$1:F8)+1)","v":""},{"$f":"+IF(Company_Information!B31=\"\",\"\",Company_Information!B31)","v":""},"",{"$f":"IF(COUNTIF(G$2:G9,G9)=1,G9,\"\")","v":""},null,{"$f":"+IF(N9=\"\",\"\",MAX(K$1:K8)+1)","v":""},{"$f":"IF('Process_&_CMS_Identification'!D31=\"\",\"\",'Process_&_CMS_Identification'!D31)","v":""},"",{"$f":"IF(COUNTIF(L$2:L9,L9)=1,L9,\"\")","v":""},{"$nulls":3},"Average scrubber pressure drop",null,{"$f":"+IF(X9=\"\",\"\",MAX(T$1:T8)+1)","v":""},{"$f":"IF('No CMS - Deviation - Limits'!B31=\"\",\"\",'No CMS - Deviation - Limits'!B31)","v":""},{"$f":"IF('No CMS - Deviation - Limits'!C31=\"\",\"\",'No CMS - Deviation - Limits'!C31)","v":""},"",{"$f":"IF(COUNTIF(V$2:V9,V9)=1,V9,\"\")","v":""},"","",{"$f":"+IFERROR(INDEX(#REF!,MATCH(ROW()-ROW($Y$1),T$2:T$955,0)),\"\")","v":""},null,{"$f":"+IF(AG9=\"\",\"\",MAX(AC$1:AC8)+1)","v":""},{"$f":"IF('Using CMS - Deviation - Limits'!B31=\"\",\"\",'Using CMS - Deviation - Limits'!B31)","v":""},{"$f":"IF('Using CMS - Deviation - Limits'!C31=\"\",\"\",'Using CMS - Deviation - Limits'!C31)","v":""},"",{"$f":"IF(COUNTIF(AF$2:AF9,AF9)=1,AF9,\"\")","v":""},"","",{"$f":"+IFERROR(INDEX(#REF!,MATCH(ROW()-ROW(AG$1),AC$2:AC$955,0)),\"\")","v":""},null,"CT",null,{"$f":"+IF(AS9=\"\",\"\",MAX(AN$1:AN8)+1)","v":""},{"$f":"IF('Using CMS - Inop_OoC - CMS'!B31=\"\",\"\",'Using CMS - Inop_OoC - CMS'!B31)","v":""},{"$f":"IF('Using CMS - Inop_OoC - CMS'!C31=\"\",\"\",'Using CMS - Inop_OoC - CMS'!C31)","v":""},{"$f":"IF('Using CMS - Inop_OoC - CMS'!D31=\"\",\"\",'Using CMS - Inop_OoC - CMS'!D31)","v":""},{"$f":"AO9&AP9&Table10[[#This Row],[CMS]]","v":""},{"$f":"IF(COUNTIF(AR$2:AR9,AR9)=1,AR9,\"\")","v":""},"","","",null,{"$f":"+IF(BB9=\"\",\"\",MAX(AX$1:AX8)+1)","v":""},{"$f":"IF('Using CMS - Deviation - Limits'!B31=\"\",\"\",'Using CMS - Deviation - Limits'!B31)","v":""},{"$f":"IF('Using CMS - Deviation - Limits'!C31=\"\",\"\",'Using CMS - Deviation - Limits'!C31)","v":""},{"$f":"AY9&AZ9&Table10[[#This Row],[CMS]]","v":""},{"$f":"IF(COUNTIF(BA$2:BA9,BA9)=1,BA9,\"\")","v":""},"","",{"$f":"+IFERROR(INDEX(#REF!,MATCH(ROW()-ROW(BC$1),AX$2:AX$955,0)),\"\")","v":""}]
[{"$f":"+IF(D10=\"\",\"\",MAX(A$1:A9)+1)","v":""},{"$f":"IF('Process_&_CMS_Identification'!C32=\"\",\"\",'Process_&_CMS_Identification'!C32)","v":""},"",{"$f":"IF(COUNTIF(B$2:B10,B10)=1,B10,\"\")","v":""},null,{"$f":"+IF(I10=\"\",\"\",MAX(F$1:F9)+1)","v":""},{"$f":"+IF(Company_Information!B32=\"\",\"\",Company_Information!B32)","v":""},"",{"$f":"IF(COUNTIF(G$2:G10,G10)=1,G10,\"\")","v":""},null,{"$f":"+IF(N10=\"\",\"\",MAX(K$1:K9)+1)","v":""},{"$f":"IF('Process_&_CMS_Identification'!D32=\"\",\"\",'Process_&_CMS_Identification'!D32)","v":""},"",{"$f":"IF(COUNTIF(L$2:L10,L10)=1,L10,\"\")","v":""},{"$nulls":3},"Average scrubber liquid flow rate",null,{"$f":"+IF(X10=\"\",\"\",MAX(T$1:T9)+1)","v":""},{"$f":"IF('No CMS - Deviation - Limits'!B32=\"\",\"\",'No CMS - Deviation - Limits'!B32)","v":""},{"$f":"IF('No CMS - Deviation - Limits'!C32=\"\",\"\",'No CMS - Deviation - Limits'!C32)","v":""},"",{"$f":"IF(COUNTIF(V$2:V10,V10)=1,V10,\"\")","v":""},"","",{"$f":"+IFERROR(INDEX(#REF!,MATCH(ROW()-ROW($Y$1),T$2:T$955,0)),\"\")","v":""},null,{"$f":"+IF(AG10=\"\",\"\",MAX(AC$1:AC9)+1)","v":""},{"$f":"IF('Using CMS - Deviation - Limits'!B32=\"\",\"\",'Using CMS - Deviation - Limits'!B32)","v":""},{"$f":"IF('Using CMS - Deviation - Limits'!C32=\"\",\"\",'Using CMS - Deviation - Limits'!C32)","v":""},"",{"$f":"IF(COUNTIF(AF$2:AF10,AF10)=1,AF10,\"\")","v":""},"","",{"$f":"+IFERROR(INDEX(#REF!,MATCH(ROW()-ROW(AG$1),AC$2:AC$955,0)),\"\")","v":""},null,"DC",null,{"$f":"+IF(AS10=\"\",\"\",MAX(AN$1:AN9)+1)","v":""},{"$f":"IF('Using CMS - Inop_OoC - CMS'!B32=\"\",\"\",'Using CMS - Inop_OoC - CMS'!B32)","v":""},{"$f":"IF('Using CMS - Inop_OoC - CMS'!C32=\"\",\"\",'Using CMS - Inop_OoC - CMS'!C32)","v":""},{"$f":"IF('Using CMS - Inop_OoC - CMS'!D32=\"\",\"\",'Using CMS - Inop_OoC - CMS'!D32)","v":""},{"$f":"AO10&AP10&Table10[[#This Row],[CMS]]","v":""},{"$f":"IF(COUNTIF(AR$2:AR10,AR10)=1,AR10,\"\")","v":""},"","","",null,{"$f":"+IF(BB10=\"\",\"\",MAX(AX$1:AX9)+1)","v":""},{"$f":"IF('Using CMS - Deviation - Limits'!B32=\"\",\"\",'Using CMS - Deviation - Limits'!B32)","v":""},{"$f":"IF('Using CMS - Deviation - Limits'!C32=\"\",\"\",'Using CMS - Deviation - Limits'!C32)","v":""},{"$f":"AY10&AZ10&Table10[[#This Row],[CMS]]","v":""},{"$f":"IF(COUNTIF(BA$2:BA10,BA10)=1,BA10,\"\")","v":""},"","",{"$f":"+IFERROR(INDEX(#REF!,MATCH(ROW()-ROW(BC$1),AX$2:AX$955,0)),\"\")","v":""}]
[{"$f":"+IF(D11=\"\",\"\",MAX(A$1:A10)+1)","v":""},{"$f":"IF('Process_&_CMS_Identification'!C33=\"\",\"\",'Process_&_CMS_Identification'!C33)","v":""},"",{"$f":"IF(COUNTIF(B$2:B11,B11)=1,B11,\"\")","v":""},null,{"$f":"+IF(I11=\"\",\"\",MAX(F$1:F10)+1)","v":""},{"$f":"+IF(Company_Information!B33=\"\",\"\",Company_Information!B33)","v":""},"",{"$f":"IF(COUNTIF(G$2:G11,G11)=1,G11,\"\")","v":""},null,{"$f":"+IF(N11=\"\",\"\",MAX(K$1:K10)+1)","v":""},{"$f":"IF('Process_&_CMS_Identification'!D33=\"\",\"\",'Process_&_CMS_Identification'!D33)","v":""},"",{"$f":"IF(COUNTIF(L$2:L11,L11)=1,L11,\"\")","v":""},{"$nulls":3},"Scrubber liquid pH",null,{"$f":"+IF(X11=\"\",\"\",MAX(T$1:T10)+1)","v":""},{"$f":"IF('No CMS - Deviation - Limits'!B33=\"\",\"\",'No CMS - Deviation - Limits'!B33)","v":""},{"$f":"IF('No CMS - Deviation - Limits'!C33=\"\",\"\",'No CMS - Deviation - Limits'!C33)","v":""},"",{"$f":"IF(COUNTIF(V$2:V11,V11)=1,V11,\"\")","v":""},"","",{"$f":"+IFERROR(INDEX(#REF!,MATCH(ROW()-ROW($Y$1),T$2:T$955,0)),\"\")","v":""},null,{"$f":"+IF(AG11=\"\",\"\",MAX(AC$1:AC10)+1)","v":""},{"$f":"IF('Using CMS - Deviation - Limits'!B33=\"\",\"\",'Using CMS - Deviation - Limits'!B33)","v":""},{"$f":"IF('Using CMS - Deviation - Limits'!C33=\"\",\"\",'Using CMS - Deviation - Limits'!C33)","v":""},"",{"$f":"IF(COUNTIF(AF$2:AF11,AF11)=1,AF11,\"\")","v":""},"","",{"$f":"+IFERROR(INDEX(#REF!,MATCH(ROW()-ROW(AG$1),AC$2:AC$955,0)),\"\")","v":""},null,"DE",null,{"$f":"+IF(AS11=\"\",\"\",MAX(AN$1:AN10)+1)","v":""},{"$f":"IF('Using CMS - Inop_OoC - CMS'!B33=\"\",\"\",'Using CMS - Inop_OoC - CMS'!B33)","v":""},{"$f":"IF('Using CMS - Inop_OoC - CMS'!C33=\"\",\"\",'Using CMS - Inop_OoC - CMS'!C33)","v":""},{"$f":"IF('Using CMS - Inop_OoC - CMS'!D33=\"\",\"\",'Using CMS - Inop_OoC - CMS'!D33)","v":""},{"$f":"AO11&AP11&Table10[[#This Row],[CMS]]","v":""},{"$f":"IF(COUNTIF(AR$2:AR11,AR11)=1,AR11,\"\")","v":""},"","","",null,{"$f":"+IF(BB11=\"\",\"\",MAX(AX$1:AX10)+1)","v":""},{"$f":"IF('Using CMS - Deviation - Limits'!B33=\"\",\"\",'Using CMS - Deviation - Limits'!B33)","v":""},{"$f":"IF('Using CMS - Deviation - Limits'!C33=\"\",\"\",'Using CMS - Deviation - Limits'!C33)","v":""},{"$f":"AY11&AZ11&Table10[[#This Row],[CMS]]","v":""},{"$f":"IF(COUNTIF(BA$2:BA11,BA11)=1,BA11,\"\")","v":""},"","",{"$f":"+IFERROR(INDEX(#REF!,MATCH(ROW()-ROW(BC$1),AX$2:AX$955,0)),\"\")","v":""}]
[{"$f":"+IF(D12=\"\",\"\",MAX(A$1:A11)+1)","v":""},{"$f":"IF('Process_&_CMS_Identification'!C34=\"\",\"\",'Process_&_CMS_Identification'!C34)","v":""},"",{"$f":"IF(COUNTIF(B$2:B12,B12)=1,B12,\"\")","v":""},{"$nulls":6},{"$f":"+IF(N12=\"\",\"\",MAX(K$1:K11)+1)","v":""},{"$f":"IF('Process_&_CMS_Identification'!D34=\"\",\"\",'Process_&_CMS_Identification'!D34)","v":""},"",{"$f":"IF(COUNTIF(L$2:L12,L12)=1,L12,\"\")","v":""},null,"Malfunction",null,"Conductivity",null,{"$f":"+IF(X12=\"\",\"\",MAX(T$1:T11)+1)","v":""},{"$f":"IF('No CMS - Deviation - Limits'!B34=\"\",\"\",'No CMS - Deviation - Limits'!B34)","v":""},{"$f":"IF('No CMS - Deviation - Limits'!C34=\"\",\"\",'No CMS - Deviation - Limits'!C34)","v":""},"",{"$f":"IF(COUNTIF(V$2:V12,V12)=1,V12,\"\")","v":""},"","",{"$f":"+IFERROR(INDEX(#REF!,MATCH(ROW()-ROW($Y$1),T$2:T$955,0)),\"\")","v":""},null,{"$f":"+IF(AG12=\"\",\"\",MAX(AC$1:AC11)+1)","v":""},{"$f":"IF('Using CMS - Deviation - Limits'!B34=\"\",\"\",'Using CMS - Deviation - Limits'!B34)","v":""},{"$f":"IF('Using CMS - Deviation - Limits'!C34=\"\",\"\",'Using CMS - Deviation - Limits'!C34)","v":""},"",{"$f":"IF(COUNTIF(AF$2:AF12,AF12)=1,AF12,\"\")","v":""},"","",{"$f":"+IFERROR(INDEX(#REF!,MATCH(ROW()-ROW(AG$1),AC$2:AC$955,0)),\"\")","v":""},null,"FL",null,{"$f":"+IF(AS12=\"\",\"\",MAX(AN$1:AN11)+1)","v":""},{"$f":"IF('Using CMS - Inop_OoC - CMS'!B34=\"\",\"\",'Using CMS - Inop_OoC - CMS'!B34)","v":""},{"$f":"IF('Using CMS - Inop_OoC - CMS'!C34=\"\",\"\",'Using CMS - Inop_OoC - CMS'!C34)","v":""},{"$f":"IF('Using CMS - Inop_OoC - CMS'!D34=\"\",\"\",'Using CMS - Inop_OoC - CMS'!D34)","v":""},{"$f":"AO12&AP12&Table10[[#This Row],[CMS]]","v":""},{"$f":"IF(COUNTIF(AR$2:AR12,AR12)=1,AR12,\"\")","v":""},"","","",null,{"$f":"+IF(BB12=\"\",\"\",MAX(AX$1:AX11)+1)","v":""},{"$f":"IF('Using CMS - Deviation - Limits'!B34=\"\",\"\",'Using CMS - Deviation - Limits'!B34)","v":""},{"$f":"IF('Using CMS - Deviation - Limits'!C34=\"\",\"\",'Using CMS - Deviation - Limits'!C34)","v":""},{"$f":"AY12&AZ12&Table10[[#This Row],[CMS]]","v":""},{"$f":"IF(COUNTIF(BA$2:BA12,BA12)=1,BA12,\"\")","v":""},"","",{"$f":"+IFERROR(INDEX(#REF!,MATCH(ROW()-ROW(BC$1),AX$2:AX$955,0)),\"\")","v":""}]
[{"$f":"+IF(D13=\"\",\"\",MAX(A$1:A12)+1)","v":""},{"$f":"IF('Process_&_CMS_Identification'!C35=\"\",\"\",'Process_&_CMS_Identification'!C35)","v":""},"",{"$f":"IF(COUNTIF(B$2:B13,B13)=1,B13,\"\")","v":""},{"$nulls":6},{"$f":"+IF(N13=\"\",\"\",MAX(K$1:K12)+1)","v":""},{"$f":"IF('Process_&_CMS_Identification'!D35=\"\",\"\",'Process_&_CMS_Identification'!D35)","v":""},"",{"$f":"IF(COUNTIF(L$2:L13,L13)=1,L13,\"\")","v":""},null,"Other Period",null,"Alkalinity",null,{"$f":"+IF(X13=\"\",\"\",MAX(T$1:T12)+1)","v":""},{"$f":"IF('No CMS - Deviation - Limits'!B35=\"\",\"\",'No CMS - Deviation - Limits'!B35)","v":""},{"$f":"IF('No CMS - Deviation - Limits'!C35=\"\",\"\",'No CMS - Deviation - Limits'!C35)","v":""},"",{"$f":"IF(COUNTIF(V$2:V13,V13)=1,V13,\"\")","v":""},"","",{"$f":"+IFERROR(INDEX(#REF!,MATCH(ROW()-ROW($Y$1),T$2:T$955,0)),\"\")","v":""},null,{"$f":"+IF(AG13=\"\",\"\",MAX(AC$1:AC12)+1)","v":""},{"$f":"IF('Using CMS - Deviation - Limits'!B35=\"\",\"\",'Using CMS - Deviation - Limits'!B35)","v":""},{"$f":"IF('Using CMS - Deviation - Limits'!C35=\"\",\"\",'Using CMS - Deviation - Limits'!C35)","v":""},"",{"$f":"IF(COUNTIF(AF$2:AF13,AF13)=1,AF13,\"\")","v":""},"","",{"$f":"+IFERROR(INDEX(#REF!,MATCH(ROW()-ROW(AG$1),AC$2:AC$955,0)),\"\")","v":""},null,"GA",null,{"$f":"+IF(AS13=\"\",\"\",MAX(AN$1:AN12)+1)","v":""},{"$f":"IF('Using CMS - Inop_OoC - CMS'!B35=\"\",\"\",'Using CMS - Inop_OoC - CMS'!B35)","v":""},{"$f":"IF('Using CMS - Inop_OoC - CMS'!C35=\"\",\"\",'Using CMS - Inop_OoC - CMS'!C35)","v":""},{"$f":"IF('Using CMS - Inop_OoC - CMS'!D35=\"\",\"\",'Using CMS - Inop_OoC - CMS'!D35)","v":""},{"$f":"AO13&AP13&Table10[[#This Row],[CMS]]","v":""},{"$f":"IF(COUNTIF(AR$2:AR13,AR13)=1,AR13,\"\")","v":""},"","","",null,{"$f":"+IF(BB13=\"\",\"\",MAX(AX$1:AX12)+1)","v":""},{"$f":"IF('Using CMS - Deviation - Limits'!B35=\"\",\"\",'Using CMS - Deviation - Limits'!B35)","v":""},{"$f":"IF('Using CMS - Deviation - Limits'!C35=\"\",\"\",'Using CMS - Deviation - Limits'!C35)","v":""},{"$f":"AY13&AZ13&Table10[[#This Row],[CMS]]","v":""},{"$f":"IF(COUNTIF(BA$2:BA13,BA13)=1,BA13,\"\")","v":""},"","",{"$f":"+IFERROR(INDEX(#REF!,MATCH(ROW()-ROW(BC$1),AX$2:AX$955,0)),\"\")","v":""}]
[{"$f":"+IF(D14=\"\",\"\",MAX(A$1:A13)+1)","v":""},{"$f":"IF('Process_&_CMS_Identification'!C36=\"\",\"\",'Process_&_CMS_Identification'!C36)","v":""},"",{"$f":"IF(COUNTIF(B$2:B14,B14)=1,B14,\"\")","v":""},{"$nulls":6},{"$f":"+IF(N14=\"\",\"\",MAX(K$1:K13)+1)","v":""},{"$f":"IF('Process_&_CMS_Identification'!D36=\"\",\"\",'Process_&_CMS_Identification'!D36)","v":""},"",{"$f":"IF(COUNTIF(L$2:L14,L14)=1,L14,\"\")","v":""},{"$nulls":3},"Presence of pilot flame",null,{"$f":"+IF(X14=\"\",\"\",MAX(T$1:T13)+1)","v":""},{"$f":"IF('No CMS - Deviation - Limits'!B36=\"\",\"\",'No CMS - Deviation - Limits'!B36)","v":""},{"$f":"IF('No CMS - Deviation - Limits'!C36=\"\",\"\",'No CMS - Deviation - Limits'!C36)","v":""},"",{"$f":"IF(COUNTIF(V$2:V14,V14)=1,V14,\"\")","v":""},"","",{"$f":"+IFERROR(INDEX(#REF!,MATCH(ROW()-ROW($Y$1),T$2:T$955,0)),\"\")","v":""},null,{"$f":"+IF(AG14=\"\",\"\",MAX(AC$1:AC13)+1)","v":""},{"$f":"IF('Using CMS - Deviation - Limits'!B36=\"\",\"\",'Using CMS - Deviation - Limits'!B36)","v":""},{"$f":"IF('Using CMS - Deviation - Limits'!C36=\"\",\"\",'Using CMS - Deviation - Limits'!C36)","v":""},"",{"$f":"IF(COUNTIF(AF$2:AF14,AF14)=1,AF14,\"\")","v":""},"","",{"$f":"+IFERROR(INDEX(#REF!,MATCH(ROW()-ROW(AG$1),AC$2:AC$955,0)),\"\")","v":""},null,"GU",null,{"$f":"+IF(AS14=\"\",\"\",MAX(AN$1:AN13)+1)","v":""},{"$f":"IF('Using CMS - Inop_OoC - CMS'!B36=\"\",\"\",'Using CMS - Inop_OoC - CMS'!B36)","v":""},{"$f":"IF('Using CMS - Inop_OoC - CMS'!C36=\"\",\"\",'Using CMS - Inop_OoC - CMS'!C36)","v":""},{"$f":"IF('Using CMS - Inop_OoC - CMS'!D36=\"\",\"\",'Using CMS - Inop_OoC - CMS'!D36)","v":""},{"$f":"AO14&AP14&Table10[[#This Row],[CMS]]","v":""},{"$f":"IF(COUNTIF(AR$2:AR14,AR14)=1,AR14,\"\")","v":""},"","","",null,{"$f":"+IF(BB14=\"\",\"\",MAX(AX$1:AX13)+1)","v":""},{"$f":"IF('Using CMS - Deviation - Limits'!B36=\"\",\"\",'Using CMS - Deviation - Limits'!B36)","v":""},{"$f":"IF('Using CMS - Deviation - Limits'!C36=\"\",\"\",'Using CMS - Deviation - Limits'!C36)","v":""},{"$f":"AY14&AZ14&Table10[[#This Row],[CMS]]","v":""},{"$f":"IF(COUNTIF(BA$2:BA14,BA14)=1,BA14,\"\")","v":""},"","",{"$f":"+IFERROR(INDEX(#REF!,MATCH(ROW()-ROW(BC$1),AX$2:AX$955,0)),\"\")","v":""}]
[{"$f":"+IF(D15=\"\",\"\",MAX(A$1:A14)+1)","v":""},{"$f":"IF('Process_&_CMS_Identification'!C37=\"\",\"\",'Process_&_CMS_Identification'!C37)","v":""},"",{"$f":"IF(COUNTIF(B$2:B15,B15)=1,B15,\"\")","v":""},{"$nulls":6},{"$f":"+IF(N15=\"\",\"\",MAX(K$1:K14)+1)","v":""},{"$f":"IF('Process_&_CMS_Identification'!D37=\"\",\"\",'Process_&_CMS_Identification'!D37)","v":""},"",{"$f":"IF(COUNTIF(L$2:L15,L15)=1,L15,\"\")","v":""},null,"Deviation Causes",null,"Average biofilter inlet gas temperature",null,{"$f":"+IF(X15=\"\",\"\",MAX(T$1:T14)+1)","v":""},{"$f":"IF('No CMS - Deviation - Limits'!B37=\"\",\"\",'No CMS - Deviation - Limits'!B37)","v":""},{"$f":"IF('No CMS - Deviation - Limits'!C37=\"\",\"\",'No CMS - Deviation - Limits'!C37)","v":""},"",{"$f":"IF(COUNTIF(V$2:V15,V15)=1,V15,\"\")","v":""},"","",{"$f":"+IFERROR(INDEX(#REF!,MATCH(ROW()-ROW($Y$1),T$2:T$955,0)),\"\")","v":""},null,{"$f":"+IF(AG15=\"\",\"\",MAX(AC$1:AC14)+1)","v":""},{"$f":"IF('Using CMS - Deviation - Limits'!B37=\"\",\"\",'Using CMS - Deviation - Limits'!B37)","v":""},{"$f":"IF('Using CMS - Deviation - Limits'!C37=\"\",\"\",'Using CMS - Deviation - Limits'!C37)","v":""},"",{"$f":"IF(COUNTIF(AF$2:AF15,AF15)=1,AF15,\"\")","v":""},"","",{"$f":"+IFERROR(INDEX(#REF!,MATCH(ROW()-ROW(AG$1),AC$2:AC$955,0)),\"\")","v":""},null,"HI",null,{"$f":"+IF(AS15=\"\",\"\",MAX(AN$1:AN14)+1)","v":""},{"$f":"IF('Using CMS - Inop_OoC - CMS'!B37=\"\",\"\",'Using CMS - Inop_OoC - CMS'!B37)","v":""},{"$f":"IF('Using CMS - Inop_OoC - CMS'!C37=\"\",\"\",'Using CMS - Inop_OoC - CMS'!C37)","v":""},{"$f":"IF('Using CMS - Inop_OoC - CMS'!D37=\"\",\"\",'Using CMS - Inop_OoC - CMS'!D37)","v":""},{"$f":"AO15&AP15&Table10[[#This Row],[CMS]]","v":""},{"$f":"IF(COUNTIF(AR$2:AR15,AR15)=1,AR15,\"\")","v":""},"","","",null,{"$f":"+IF(BB15=\"\",\"\",MAX(AX$1:AX14)+1)","v":""},{"$f":"IF('Using CMS - Deviation - Limits'!B37=\"\",\"\",'Using CMS - Deviation - Limits'!B37)","v":""},{"$f":"IF('Using CMS - Deviation - Limits'!C37=\"\",\"\",'Using CMS - Deviation - Limits'!C37)","v":""},{"$f":"AY15&AZ15&Table10[[#This Row],[CMS]]","v":""},{"$f":"IF(COUNTIF(BA$2:BA15,BA15)=1,BA15,\"\")","v":""},"","",{"$f":"+IFERROR(INDEX(#REF!,MATCH(ROW()-ROW(BC$1),AX$2:AX$955,0)),\"\")","v":""}]
[{"$f":"+IF(D16=\"\",\"\",MAX(A$1:A15)+1)","v":""},{"$f":"IF('Process_&_CMS_Identification'!C38=\"\",\"\",'Process_&_CMS_Identification'!C38)","v":""},"",{"$f":"IF(COUNTIF(B$2:B16,B16)=1,B16,\"\")","v":""},{"$nulls":6},{"$f":"+IF(N16=\"\",\"\",MAX(K$1:K15)+1)","v":""},{"$f":"IF('Process_&_CMS_Identification'!D38=\"\",\"\",'Process_&_CMS_Identification'!D38)","v":""},"",{"$f":"IF(COUNTIF(L$2:L16,L16)=1,L16,\"\")","v":""},null,"Startup",null,"Biofilter effluent pH",null,{"$f":"+IF(X16=\"\",\"\",MAX(T$1:T15)+1)","v":""},{"$f":"IF('No CMS - Deviation - Limits'!B38=\"\",\"\",'No CMS - Deviation - Limits'!B38)","v":""},{"$f":"IF('No CMS - Deviation - Limits'!C38=\"\",\"\",'No CMS - Deviation - Limits'!C38)","v":""},"",{"$f":"IF(COUNTIF(V$2:V16,V16)=1,V16,\"\")","v":""},"","",{"$f":"+IFERROR(INDEX(#REF!,MATCH(ROW()-ROW($Y$1),T$2:T$955,0)),\"\")","v":""},null,{"$f":"+IF(AG16=\"\",\"\",MAX(AC$1:AC15)+1)","v":""},{"$f":"IF('Using CMS - Deviation - Limits'!B38=\"\",\"\",'Using CMS - Deviation - Limits'!B38)","v":""},{"$f":"IF('Using CMS - Deviation - Limits'!C38=\"\",\"\",'Using CMS - Deviation - Limits'!C38)","v":""},"",{"$f":"IF(COUNTIF(AF$2:AF16,AF16)=1,AF16,\"\")","v":""},"","",{"$f":"+IFERROR(INDEX(#REF!,MATCH(ROW()-ROW(AG$1),AC$2:AC$955,0)),\"\")","v":""},null,"IA",null,{"$f":"+IF(AS16=\"\",\"\",MAX(AN$1:AN15)+1)","v":""},{"$f":"IF('Using CMS - Inop_OoC - CMS'!B38=\"\",\"\",'Using CMS - Inop_OoC - CMS'!B38)","v":""},{"$f":"IF('Using CMS - Inop_OoC - CMS'!C38=\"\",\"\",'Using CMS - Inop_OoC - CMS'!C38)","v":""},{"$f":"IF('Using CMS - Inop_OoC - CMS'!D38=\"\",\"\",'Using CMS - Inop_OoC - CMS'!D38)","v":""},{"$f":"AO16&AP16&Table10[[#This Row],[CMS]]","v":""},{"$f":"IF(COUNTIF(AR$2:AR16,AR16)=1,AR16,\"\")","v":""},"","","",null,{"$f":"+IF(BB16=\"\",\"\",MAX(AX$1:AX15)+1)","v":""},{"$f":"IF('Using CMS - Deviation - Limits'!B38=\"\",\"\",'Using CMS - Deviation - Limits'!B38)","v":""},{"$f":"IF('Using CMS - Deviation - Limits'!C38=\"\",\"\",'Using CMS - Deviation - Limits'!C38)","v":""},{"$f":"AY16&AZ16&Table10[[#This Row],[CMS]]","v":""},{"$f":"IF(COUNTIF(BA$2:BA16,BA16)=1,BA16,\"\")","v":""},"","",{"$f":"+IFERROR(INDEX(#REF!,MATCH(ROW()-ROW(BC$1),AX$2:AX$955,0)),\"\")","v":""}]
[{"$f":"+IF(D17=\"\",\"\",MAX(A$1:A16)+1)","v":""},{"$f":"IF('Process_&_CMS_Identification'!C39=\"\",\"\",'Process_&_CMS_Identification'!C39)","v":""},"",{"$f":"IF(COUNTIF(B$2:B17,B17)=1,B17,\"\")","v":""},{"$nulls":6},{"$f":"+IF(N17=\"\",\"\",MAX(K$1:K16)+1)","v":""},{"$f":"IF('Process_&_CMS_Identification'!D39=\"\",\"\",'Process_&_CMS_Identification'!D39)","v":""},"",{"$f":"IF(COUNTIF(L$2:L17,L17)=1,L17,\"\")","v":""},null,"Shutdown",null,"Biofilter pressure drop",null,{"$f":"+IF(X17=\"\",\"\",MAX(T$1:T16)+1)","v":""},{"$f":"IF('No CMS - Deviation - Limits'!B39=\"\",\"\",'No CMS - Deviation - Limits'!B39)","v":""},{"$f":"IF('No CMS - Deviation - Limits'!C39=\"\",\"\",'No CMS - Deviation - Limits'!C39)","v":""},"",{"$f":"IF(COUNTIF(V$2:V17,V17)=1,V17,\"\")","v":""},"","",{"$f":"+IFERROR(INDEX(#REF!,MATCH(ROW()-ROW($Y$1),T$2:T$955,0)),\"\")","v":""},null,{"$f":"+IF(AG17=\"\",\"\",MAX(AC$1:AC16)+1)","v":""},{"$f":"IF('Using CMS - Deviation - Limits'!B39=\"\",\"\",'Using CMS - Deviation - Limits'!B39)","v":""},{"$f":"IF('Using CMS - Deviation - Limits'!C39=\"\",\"\",'Using CMS - Deviation - Limits'!C39)","v":""},"",{"$f":"IF(COUNTIF(AF$2:AF17,AF17)=1,AF17,\"\")","v":""},"","",{"$f":"+IFERROR(INDEX(#REF!,MATCH(ROW()-ROW(AG$1),AC$2:AC$955,0)),\"\")","v":""},null,"ID",null,{"$f":"+IF(AS17=\"\",\"\",MAX(AN$1:AN16)+1)","v":""},{"$f":"IF('Using CMS - Inop_OoC - CMS'!B39=\"\",\"\",'Using CMS - Inop_OoC - CMS'!B39)","v":""},{"$f":"IF('Using CMS - Inop_OoC - CMS'!C39=\"\",\"\",'Using CMS - Inop_OoC - CMS'!C39)","v":""},{"$f":"IF('Using CMS - Inop_OoC - CMS'!D39=\"\",\"\",'Using CMS - Inop_OoC - CMS'!D39)","v":""},{"$f":"AO17&AP17&Table10[[#This Row],[CMS]]","v":""},{"$f":"IF(COUNTIF(AR$2:AR17,AR17)=1,AR17,\"\")","v":""},"","","",null,{"$f":"+IF(BB17=\"\",\"\",MAX(AX$1:AX16)+1)","v":""},{"$f":"IF('Using CMS - Deviation - Limits'!B39=\"\",\"\",'Using CMS - Deviation - Limits'!B39)","v":""},{"$f":"IF('Using CMS - Deviation - Limits'!C39=\"\",\"\",'Using CMS - Deviation - Limits'!C39)","v":""},{"$f":"AY17&AZ17&Table10[[#This Row],[CMS]]","v":""},{"$f":"IF(COUNTIF(BA$2:BA17,BA17)=1,BA17,\"\")","v":""},"","",{"$f":"+IFERROR(INDEX(#REF!,MATCH(ROW()-ROW(BC$1),AX$2:AX$955,0)),\"\")","v":""}]
[{"$f":"+IF(D18=\"\",\"\",MAX(A$1:A17)+1)","v":""},{"$f":"IF('Process_&_CMS_Identification'!C40=\"\",\"\",'Process_&_CMS_Identification'!C40)","v":""},"",{"$f":"IF(COUNTIF(B$2:B18,B18)=1,B18,\"\")","v":""},{"$nulls":6},{"$f":"+IF(N18=\"\",\"\",MAX(K$1:K17)+1)","v":""},{"$f":"IF('Process_&_CMS_Identification'!D40=\"\",\"\",'Process_&_CMS_Identification'!D40)","v":""},"",{"$f":"IF(COUNTIF(L$2:L18,L18)=1,L18,\"\")","v":""},null,"Control Equipment Problems",null,"Regeneration frequency",null,{"$f":"+IF(X18=\"\",\"\",MAX(T$1:T17)+1)","v":""},{"$f":"IF('No CMS - Deviation - Limits'!B40=\"\",\"\",'No CMS - Deviation - Limits'!B40)","v":""},{"$f":"IF('No CMS - Deviation - Limits'!C40=\"\",\"\",'No CMS - Deviation - Limits'!C40)","v":""},"",{"$f":"IF(COUNTIF(V$2:V18,V18)=1,V18,\"\")","v":""},"","",{"$f":"+IFERROR(INDEX(#REF!,MATCH(ROW()-ROW($Y$1),T$2:T$955,0)),\"\")","v":""},null,{"$f":"+IF(AG18=\"\",\"\",MAX(AC$1:AC17)+1)","v":""},{"$f":"IF('Using CMS - Deviation - Limits'!B40=\"\",\"\",'Using CMS - Deviation - Limits'!B40)","v":""},{"$f":"IF('Using CMS - Deviation - Limits'!C40=\"\",\"\",'Using CMS - Deviation - Limits'!C40)","v":""},"",{"$f":"IF(COUNTIF(AF$2:AF18,AF18)=1,AF18,\"\")","v":""},"","",{"$f":"+IFERROR(INDEX(#REF!,MATCH(ROW()-ROW(AG$1),AC$2:AC$955,0)),\"\")","v":""},null,"IL",null,{"$f":"+IF(AS18=\"\",\"\",MAX(AN$1:AN17)+1)","v":""},{"$f":"IF('Using CMS - Inop_OoC - CMS'!B40=\"\",\"\",'Using CMS - Inop_OoC - CMS'!B40)","v":""},{"$f":"IF('Using CMS - Inop_OoC - CMS'!C40=\"\",\"\",'Using CMS - Inop_OoC - CMS'!C40)","v":""},{"$f":"IF('Using CMS - Inop_OoC - CMS'!D40=\"\",\"\",'Using CMS - Inop_OoC - CMS'!D40)","v":""},{"$f":"AO18&AP18&Table10[[#This Row],[CMS]]","v":""},{"$f":"IF(COUNTIF(AR$2:AR18,AR18)=1,AR18,\"\")","v":""},"","","",null,{"$f":"+IF(BB18=\"\",\"\",MAX(AX$1:AX17)+1)","v":""},{"$f":"IF('Using CMS - Deviation - Limits'!B40=\"\",\"\",'Using CMS - Deviation - Limits'!B40)","v":""},{"$f":"IF('Using CMS - Deviation - Limits'!C40=\"\",\"\",'Using CMS - Deviation - Limits'!C40)","v":""},{"$f":"AY18&AZ18&Table10[[#This Row],[CMS]]","v":""},{"$f":"IF(COUNTIF(BA$2:BA18,BA18)=1,BA18,\"\")","v":""},"","",{"$f":"+IFERROR(INDEX(#REF!,MATCH(ROW()-ROW(BC$1),AX$2:AX$955,0)),\"\")","v":""}]
[{"$f":"+IF(D19=\"\",\"\",MAX(A$1:A18)+1)","v":""},{"$f":"IF('Process_&_CMS_Identification'!C41=\"\",\"\",'Process_&_CMS_Identification'!C41)","v":""},"",{"$f":"IF(COUNTIF(B$2:B19,B19)=1,B19,\"\")","v":""},{"$nulls":6},{"$f":"+IF(N19=\"\",\"\",MAX(K$1:K18)+1)","v":""},{"$f":"IF('Process_&_CMS_Identification'!D41=\"\",\"\",'Process_&_CMS_Identification'!D41)","v":""},"",{"$f":"IF(COUNTIF(L$2:L19,L19)=1,L19,\"\")","v":""},null,"Process Problems",null,"Total regeneration adsorber stream mass",null,{"$f":"+IF(X19=\"\",\"\",MAX(T$1:T18)+1)","v":""},{"$f":"IF('No CMS - Deviation - Limits'!B41=\"\",\"\",'No CMS - Deviation - Limits'!B41)","v":""},{"$f":"IF('No CMS - Deviation - Limits'!C41=\"\",\"\",'No CMS - Deviation - Limits'!C41)","v":""},"",{"$f":"IF(COUNTIF(V$2:V19,V19)=1,V19,\"\")","v":""},"","",{"$f":"+IFERROR(INDEX(#REF!,MATCH(ROW()-ROW($Y$1),T$2:T$955,0)),\"\")","v":""},null,{"$f":"+IF(AG19=\"\",\"\",MAX(AC$1:AC18)+1)","v":""},{"$f":"IF('Using CMS - Deviation - Limits'!B41=\"\",\"\",'Using CMS - Deviation - Limits'!B41)","v":""},{"$f":"IF('Using CMS - Deviation - Limits'!C41=\"\",\"\",'Using CMS - Deviation - Limits'!C41)","v":""},"",{"$f":"IF(COUNTIF(AF$2:AF19,AF19)=1,AF19,\"\")","v":""},"","",{"$f":"+IFERROR(INDEX(#REF!,MATCH(ROW()-ROW(AG$1),AC$2:AC$955,0)),\"\")","v":""},null,"IN",null,{"$f":"+IF(AS19=\"\",\"\",MAX(AN$1:AN18)+1)","v":""},{"$f":"IF('Using CMS - Inop_OoC - CMS'!B41=\"\",\"\",'Using CMS - Inop_OoC - CMS'!B41)","v":""},{"$f":"IF('Using CMS - Inop_OoC - CMS'!C41=\"\",\"\",'Using CMS - Inop_OoC - CMS'!C41)","v":""},{"$f":"IF('Using CMS - Inop_OoC - CMS'!D41=\"\",\"\",'Using CMS - Inop_OoC - CMS'!D41)","v":""},{"$f":"AO19&AP19&Table10[[#This Row],[CMS]]","v":""},{"$f":"IF(COUNTIF(AR$2:AR19,AR19)=1,AR19,\"\")","v":""},"","","",null,{"$f":"+IF(BB19=\"\",\"\",MAX(AX$1:AX18)+1)","v":""},{"$f":"IF('Using CMS - Deviation - Limits'!B41=\"\",\"\",'Using CMS - Deviation - Limits'!B41)","v":""},{"$f":"IF('Using CMS - Deviation - Limits'!C41=\"\",\"\",'Using CMS - Deviation - Limits'!C41)","v":""},{"$f":"AY19&AZ19&Table10[[#This Row],[CMS]]","v":""},{"$f":"IF(COUNTIF(BA$2:BA19,BA19)=1,BA19,\"\")","v":""},"","",{"$f":"+IFERROR(INDEX(#REF!,MATCH(ROW()-ROW(BC$1),AX$2:AX$955,0)),\"\")","v":""}]
[{"$f":"+IF(D20=\"\",\"\",MAX(A$1:A19)+1)","v":""},{"$f":"IF('Process_&_CMS_Identification'!C42=\"\",\"\",'Process_&_CMS_Identification'!C42)","v":""},"",{"$f":"IF(COUNTIF(B$2:B20,B20)=1,B20,\"\")","v":""},{"$nulls":6},{"$f":"+IF(N20=\"\",\"\",MAX(K$1:K19)+1)","v":""},{"$f":"IF('Process_&_CMS_Identification'!D42=\"\",\"\",'Process_&_CMS_Identification'!D42)","v":""},"",{"$f":"IF(COUNTIF(L$2:L20,L20)=1,L20,\"\")","v":""},null,"Other Known Causes",null,"Volumetric flow during carbon bed regeneration",null,{"$f":"+IF(X20=\"\",\"\",MAX(T$1:T19)+1)","v":""},{"$f":"IF('No CMS - Deviation - Limits'!B42=\"\",\"\",'No CMS - Deviation - Limits'!B42)","v":""},{"$f":"IF('No CMS - Deviation - Limits'!C42=\"\",\"\",'No CMS - Deviation - Limits'!C42)","v":""},"",{"$f":"IF(COUNTIF(V$2:V20,V20)=1,V20,\"\")","v":""},"","",{"$f":"+IFERROR(INDEX(#REF!,MATCH(ROW()-ROW($Y$1),T$2:T$955,0)),\"\")","v":""},null,{"$f":"+IF(AG20=\"\",\"\",MAX(AC$1:AC19)+1)","v":""},{"$f":"IF('Using CMS - Deviation - Limits'!B42=\"\",\"\",'Using CMS - Deviation - Limits'!B42)","v":""},{"$f":"IF('Using CMS - Deviation - Limits'!C42=\"\",\"\",'Using CMS - Deviation - Limits'!C42)","v":""},"",{"$f":"IF(COUNTIF(AF$2:AF20,AF20)=1,AF20,\"\")","v":""},"","",{"$f":"+IFERROR(INDEX(#REF!,MATCH(ROW()-ROW(AG$1),AC$2:AC$955,0)),\"\")","v":""},null,"KS",null,{"$f":"+IF(AS20=\"\",\"\",MAX(AN$1:AN19)+1)","v":""},{"$f":"IF('Using CMS - Inop_OoC - CMS'!B42=\"\",\"\",'Using CMS - Inop_OoC - CMS'!B42)","v":""},{"$f":"IF('Using CMS - Inop_OoC - CMS'!C42=\"\",\"\",'Using CMS - Inop_OoC - CMS'!C42)","v":""},{"$f":"IF('Using CMS - Inop_OoC - CMS'!D42=\"\",\"\",'Using CMS - Inop_OoC - CMS'!D42)","v":""},{"$f":"AO20&AP20&Table10[[#This Row],[CMS]]","v":""},{"$f":"IF(COUNTIF(AR$2:AR20,AR20)=1,AR20,\"\")","v":""},"","","",null,{"$f":"+IF(BB20=\"\",\"\",MAX(AX$1:AX19)+1)","v":""},{"$f":"IF('Using CMS - Deviation - Limits'!B42=\"\",\"\",'Using CMS - Deviation - Limits'!B42)","v":""},{"$f":"IF('Using CMS - Deviation - Limits'!C42=\"\",\"\",'Using CMS - Deviation - Limits'!C42)","v":""},{"$f":"AY20&AZ20&Table10[[#This Row],[CMS]]","v":""},{"$f":"IF(COUNTIF(BA$2:BA20,BA20)=1,BA20,\"\")","v":""},"","",{"$f":"+IFERROR(INDEX(#REF!,MATCH(ROW()-ROW(BC$1),AX$2:AX$955,0)),\"\")","v":""}]
[{"$f":"+IF(D21=\"\",\"\",MAX(A$1:A20)+1)","v":""},{"$f":"IF('Process_&_CMS_Identification'!C43=\"\",\"\",'Process_&_CMS_Identification'!C43)","v":""},"",{"$f":"IF(COUNTIF(B$2:B21,B21)=1,B21,\"\")","v":""},{"$nulls":6},{"$f":"+IF(N21=\"\",\"\",MAX(K$1:K20)+1)","v":""},{"$f":"IF('Process_&_CMS_Identification'!D43=\"\",\"\",'Process_&_CMS_Identification'!D43)","v":""},"",{"$f":"IF(COUNTIF(L$2:L21,L21)=1,L21,\"\")","v":""},null,"Unknown Causes",null,"Temperature of the carbon bed after regeneration",null,{"$f":"+IF(X21=\"\",\"\",MAX(T$1:T20)+1)","v":""},{"$f":"IF('No CMS - Deviation - Limits'!B43=\"\",\"\",'No CMS - Deviation - Limits'!B43)","v":""},{"$f":"IF('No CMS - Deviation - Limits'!C43=\"\",\"\",'No CMS - Deviation - Limits'!C43)","v":""},"",{"$f":"IF(COUNTIF(V$2:V21,V21)=1,V21,\"\")","v":""},"","",{"$f":"+IFERROR(INDEX(#REF!,MATCH(ROW()-ROW($Y$1),T$2:T$955,0)),\"\")","v":""},null,{"$f":"+IF(AG21=\"\",\"\",MAX(AC$1:AC20)+1)","v":""},{"$f":"IF('Using CMS - Deviation - Limits'!B43=\"\",\"\",'Using CMS - Deviation - Limits'!B43)","v":""},{"$f":"IF('Using CMS - Deviation - Limits'!C43=\"\",\"\",'Using CMS - Deviation - Limits'!C43)","v":""},"",{"$f":"IF(COUNTIF(AF$2:AF21,AF21)=1,AF21,\"\")","v":""},"","",{"$f":"+IFERROR(INDEX(#REF!,MATCH(ROW()-ROW(AG$1),AC$2:AC$955,0)),\"\")","v":""},null,"KY",null,{"$f":"+IF(AS21=\"\",\"\",MAX(AN$1:AN20)+1)","v":""},{"$f":"IF('Using CMS - Inop_OoC - CMS'!B43=\"\",\"\",'Using CMS - Inop_OoC - CMS'!B43)","v":""},{"$f":"IF('Using CMS - Inop_OoC - CMS'!C43=\"\",\"\",'Using CMS - Inop_OoC - CMS'!C43)","v":""},{"$f":"IF('Using CMS - Inop_OoC - CMS'!D43=\"\",\"\",'Using CMS - Inop_OoC - CMS'!D43)","v":""},{"$f":"AO21&AP21&Table10[[#This Row],[CMS]]","v":""},{"$f":"IF(COUNTIF(AR$2:AR21,AR21)=1,AR21,\"\")","v":""},"","","",null,{"$f":"+IF(BB21=\"\",\"\",MAX(AX$1:AX20)+1)","v":""},{"$f":"IF('Using CMS - Deviation - Limits'!B43=\"\",\"\",'Using CMS - Deviation - Limits'!B43)","v":""},{"$f":"IF('Using CMS - Deviation - Limits'!C43=\"\",\"\",'Using CMS - Deviation - Limits'!C43)","v":""},{"$f":"AY21&AZ21&Table10[[#This Row],[CMS]]","v":""},{"$f":"IF(COUNTIF(BA$2:BA21,BA21)=1,BA21,\"\")","v":""},"","",{"$f":"+IFERROR(INDEX(#REF!,MATCH(ROW()-ROW(BC$1),AX$2:AX$955,0)),\"\")","v":""}]
[{"$f":"+IF(D22=\"\",\"\",MAX(A$1:A21)+1)","v":""},{"$f":"IF('Process_&_CMS_Identification'!C44=\"\",\"\",'Process_&_CMS_Identification'!C44)","v":""},"",{"$f":"IF(COUNTIF(B$2:B22,B22)=1,B22,\"\")","v":""},{"$nulls":6},{"$f":"+IF(N22=\"\",\"\",MAX(K$1:K21)+1)","v":""},{"$f":"IF('Process_&_CMS_Identification'!D44=\"\",\"\",'Process_&_CMS_Identification'!D44)","v":""},"",{"$f":"IF(COUNTIF(L$2:L22,L22)=1,L22,\"\")","v":""},{"$nulls":3},"Average adsorption liquid flow",null,{"$f":"+IF(X22=\"\",\"\",MAX(T$1:T21)+1)","v":""},{"$f":"IF('No CMS - Deviation - Limits'!B44=\"\",\"\",'No CMS - Deviation - Limits'!B44)","v":""},{"$f":"IF('No CMS - Deviation - Limits'!C44=\"\",\"\",'No CMS - Deviation - Limits'!C44)","v":""},"",{"$f":"IF(COUNTIF(V$2:V22,V22)=1,V22,\"\")","v":""},"","",{"$f":"+IFERROR(INDEX(#REF!,MATCH(ROW()-ROW($Y$1),T$2:T$955,0)),\"\")","v":""},null,{"$f":"+IF(AG22=\"\",\"\",MAX(AC$1:AC21)+1)","v":""},{"$f":"IF('Using CMS - Deviation - Limits'!B44=\"\",\"\",'Using CMS - Deviation - Limits'!B44)","v":""},{"$f":"IF('Using CMS - Deviation - Limits'!C44=\"\",\"\",'Using CMS - Deviation - Limits'!C44)","v":""},"",{"$f":"IF(COUNTIF(AF$2:AF22,AF22)=1,AF22,\"\")","v":""},"","",{"$f":"+IFERROR(INDEX(#REF!,MATCH(ROW()-ROW(AG$1),AC$2:AC$955,0)),\"\")","v":""},null,"LA",null,{"$f":"+IF(AS22=\"\",\"\",MAX(AN$1:AN21)+1)","v":""},{"$f":"IF('Using CMS - Inop_OoC - CMS'!B44=\"\",\"\",'Using CMS - Inop_OoC - CMS'!B44)","v":""},{"$f":"IF('Using CMS - Inop_OoC - CMS'!C44=\"\",\"\",'Using CMS - Inop_OoC - CMS'!C44)","v":""},{"$f":"IF('Using CMS - Inop_OoC - CMS'!D44=\"\",\"\",'Using CMS - Inop_OoC - CMS'!D44)","v":""},{"$f":"AO22&AP22&Table10[[#This Row],[CMS]]","v":""},{"$f":"IF(COUNTIF(AR$2:AR22,AR22)=1,AR22,\"\")","v":""},"","","",null,{"$f":"+IF(BB22=\"\",\"\",MAX(AX$1:AX21)+1)","v":""},{"$f":"IF('Using CMS - Deviation - Limits'!B44=\"\",\"\",'Using CMS - Deviation - Limits'!B44)","v":""},{"$f":"IF('Using CMS - Deviation - Limits'!C44=\"\",\"\",'Using CMS - Deviation - Limits'!C44)","v":""},{"$f":"AY22&AZ22&Table10[[#This Row],[CMS]]","v":""},{"$f":"IF(COUNTIF(BA$2:BA22,BA22)=1,BA22,\"\")","v":""},"","",{"$f":"+IFERROR(INDEX(#REF!,MATCH(ROW()-ROW(BC$1),AX$2:AX$955,0)),\"\")","v":""}]
[{"$f":"+IF(D23=\"\",\"\",MAX(A$1:A22)+1)","v":""},{"$f":"IF('Process_&_CMS_Identification'!C45=\"\",\"\",'Process_&_CMS_Identification'!C45)","v":""},"",{"$f":"IF(COUNTIF(B$2:B23,B23)=1,B23,\"\")","v":""},{"$nulls":6},{"$f":"+IF(N23=\"\",\"\",MAX(K$1:K22)+1)","v":""},{"$f":"IF('Process_&_CMS_Identification'!D45=\"\",\"\",'Process_&_CMS_Identification'!D45)","v":""},"",{"$f":"IF(COUNTIF(L$2:L23,L23)=1,L23,\"\")","v":""},{"$nulls":3},"Absorption liquid temperature",null,{"$f":"+IF(X23=\"\",\"\",MAX(T$1:T22)+1)","v":""},{"$f":"IF('No CMS - Deviation - Limits'!B45=\"\",\"\",'No CMS - Deviation - Limits'!B45)","v":""},{"$f":"IF('No CMS - Deviation - Limits'!C45=\"\",\"\",'No CMS - Deviation - Limits'!C45)","v":""},"",{"$f":"IF(COUNTIF(V$2:V23,V23)=1,V23,\"\")","v":""},"","",{"$f":"+IFERROR(INDEX(#REF!,MATCH(ROW()-ROW($Y$1),T$2:T$955,0)),\"\")","v":""},null,{"$f":"+IF(AG23=\"\",\"\",MAX(AC$1:AC22)+1)","v":""},{"$f":"IF('Using CMS - Deviation - Limits'!B45=\"\",\"\",'Using CMS - Deviation - Limits'!B45)","v":""},{"$f":"IF('Using CMS - Deviation - Limits'!C45=\"\",\"\",'Using CMS - Deviation - Limits'!C45)","v":""},"",{"$f":"IF(COUNTIF(AF$2:AF23,AF23)=1,AF23,\"\")","v":""},"","",{"$f":"+IFERROR(INDEX(#REF!,MATCH(ROW()-ROW(AG$1),AC$2:AC$955,0)),\"\")","v":""},null,"MA",null,{"$f":"+IF(AS23=\"\",\"\",MAX(AN$1:AN22)+1)","v":""},{"$f":"IF('Using CMS - Inop_OoC - CMS'!B45=\"\",\"\",'Using CMS - Inop_OoC - CMS'!B45)","v":""},{"$f":"IF('Using CMS - Inop_OoC - CMS'!C45=\"\",\"\",'Using CMS - Inop_OoC - CMS'!C45)","v":""},{"$f":"IF('Using CMS - Inop_OoC - CMS'!D45=\"\",\"\",'Using CMS - Inop_OoC - CMS'!D45)","v":""},{"$f":"AO23&AP23&Table10[[#This Row],[CMS]]","v":""},{"$f":"IF(COUNTIF(AR$2:AR23,AR23)=1,AR23,\"\")","v":""},"","","",null,{"$f":"+IF(BB23=\"\",\"\",MAX(AX$1:AX22)+1)","v":""},{"$f":"IF('Using CMS - Deviation - Limits'!B45=\"\",\"\",'Using CMS - Deviation - Limits'!B45)","v":""},{"$f":"IF('Using CMS - Deviation - Limits'!C45=\"\",\"\",'Using CMS - Deviation - Limits'!C45)","v":""},{"$f":"AY23&AZ23&Table10[[#This Row],[CMS]]","v":""},{"$f":"IF(COUNTIF(BA$2:BA23,BA23)=1,BA23,\"\")","v":""},"","",{"$f":"+IFERROR(INDEX(#REF!,MATCH(ROW()-ROW(BC$1),AX$2:AX$955,0)),\"\")","v":""}]
[{"$f":"+IF(D24=\"\",\"\",MAX(A$1:A23)+1)","v":""},{"$f":"IF('Process_&_CMS_Identification'!C46=\"\",\"\",'Process_&_CMS_Identification'!C46)","v":""},"",{"$f":"IF(COUNTIF(B$2:B24,B24)=1,B24,\"\")","v":""},{"$nulls":6},{"$f":"+IF(N24=\"\",\"\",MAX(K$1:K23)+1)","v":""},{"$f":"IF('Process_&_CMS_Identification'!D46=\"\",\"\",'Process_&_CMS_Identification'!D46)","v":""},"",{"$f":"IF(COUNTIF(L$2:L24,L24)=1,L24,\"\")","v":""},{"$nulls":3},"Steam flow",null,{"$f":"+IF(X24=\"\",\"\",MAX(T$1:T23)+1)","v":""},{"$f":"IF('No CMS - Deviation - Limits'!B46=\"\",\"\",'No CMS - Deviation - Limits'!B46)","v":""},{"$f":"IF('No CMS - Deviation - Limits'!C46=\"\",\"\",'No CMS - Deviation - Limits'!C46)","v":""},"",{"$f":"IF(COUNTIF(V$2:V24,V24)=1,V24,\"\")","v":""},"","",{"$f":"+IFERROR(INDEX(#REF!,MATCH(ROW()-ROW($Y$1),T$2:T$955,0)),\"\")","v":""},null,{"$f":"+IF(AG24=\"\",\"\",MAX(AC$1:AC23)+1)","v":""},{"$f":"IF('Using CMS - Deviation - Limits'!B46=\"\",\"\",'Using CMS - Deviation - Limits'!B46)","v":""},{"$f":"IF('Using CMS - Deviation - Limits'!C46=\"\",\"\",'Using CMS - Deviation - Limits'!C46)","v":""},"",{"$f":"IF(COUNTIF(AF$2:AF24,AF24)=1,AF24,\"\")","v":""},"","",{"$f":"+IFERROR(INDEX(#REF!,MATCH(ROW()-ROW(AG$1),AC$2:AC$955,0)),\"\")","v":""},null,"MD",null,{"$f":"+IF(AS24=\"\",\"\",MAX(AN$1:AN23)+1)","v":""},{"$f":"IF('Using CMS - Inop_OoC - CMS'!B46=\"\",\"\",'Using CMS - Inop_OoC - CMS'!B46)","v":""},{"$f":"IF('Using CMS - Inop_OoC - CMS'!C46=\"\",\"\",'Using CMS - Inop_OoC - CMS'!C46)","v":""},{"$f":"IF('Using CMS - Inop_OoC - CMS'!D46=\"\",\"\",'Using CMS - Inop_OoC - CMS'!D46)","v":""},{"$f":"AO24&AP24&Table10[[#This Row],[CMS]]","v":""},{"$f":"IF(COUNTIF(AR$2:AR24,AR24)=1,AR24,\"\")","v":""},"","","",null,{"$f":"+IF(BB24=\"\",\"\",MAX(AX$1:AX23)+1)","v":""},{"$f":"IF('Using CMS - Deviation - Limits'!B46=\"\",\"\",'Using CMS - Deviation - Limits'!B46)","v":""},{"$f":"IF('Using CMS - Deviation - Limits'!C46=\"\",\"\",'Using CMS - Deviation - Limits'!C46)","v":""},{"$f":"AY24&AZ24&Table10[[#This Row],[CMS]]","v":""},{"$f":"IF(COUNTIF(BA$2:BA24,BA24)=1,BA24,\"\")","v":""},"","",{"$f":"+IFERROR(INDEX(#REF!,MATCH(ROW()-ROW(BC$1),AX$2:AX$955,0)),\"\")","v":""}]
[{"$f":"+IF(D25=\"\",\"\",MAX(A$1:A24)+1)","v":""},{"$f":"IF('Process_&_CMS_Identification'!C47=\"\",\"\",'Process_&_CMS_Identification'!C47)","v":""},"",{"$f":"IF(COUNTIF(B$2:B25,B25)=1,B25,\"\")","v":""},{"$nulls":6},{"$f":"+IF(N25=\"\",\"\",MAX(K$1:K24)+1)","v":""},{"$f":"IF('Process_&_CMS_Identification'!D47=\"\",\"\",'Process_&_CMS_Identification'!D47)","v":""},"",{"$f":"IF(COUNTIF(L$2:L25,L25)=1,L25,\"\")","v":""},{"$nulls":3},"Average control efficiency of each control device",null,{"$f":"+IF(X25=\"\",\"\",MAX(T$1:T24)+1)","v":""},{"$f":"IF('No CMS - Deviation - Limits'!B47=\"\",\"\",'No CMS - Deviation - Limits'!B47)","v":""},{"$f":"IF('No CMS - Deviation - Limits'!C47=\"\",\"\",'No CMS - Deviation - Limits'!C47)","v":""},"",{"$f":"IF(COUNTIF(V$2:V25,V25)=1,V25,\"\")","v":""},"","",{"$f":"+IFERROR(INDEX(#REF!,MATCH(ROW()-ROW($Y$1),T$2:T$955,0)),\"\")","v":""},null,{"$f":"+IF(AG25=\"\",\"\",MAX(AC$1:AC24)+1)","v":""},{"$f":"IF('Using CMS - Deviation - Limits'!B47=\"\",\"\",'Using CMS - Deviation - Limits'!B47)","v":""},{"$f":"IF('Using CMS - Deviation - Limits'!C47=\"\",\"\",'Using CMS - Deviation - Limits'!C47)","v":""},"",{"$f":"IF(COUNTIF(AF$2:AF25,AF25)=1,AF25,\"\")","v":""},"","",{"$f":"+IFERROR(INDEX(#REF!,MATCH(ROW()-ROW(AG$1),AC$2:AC$955,0)),\"\")","v":""},null,"ME",null,{"$f":"+IF(AS25=\"\",\"\",MAX(AN$1:AN24)+1)","v":""},{"$f":"IF('Using CMS - Inop_OoC - CMS'!B47=\"\",\"\",'Using CMS - Inop_OoC - CMS'!B47)","v":""},{"$f":"IF('Using CMS - Inop_OoC - CMS'!C47=\"\",\"\",'Using CMS - Inop_OoC - CMS'!C47)","v":""},{"$f":"IF('Using CMS - Inop_OoC - CMS'!D47=\"\",\"\",'Using CMS - Inop_OoC - CMS'!D47)","v":""},{"$f":"AO25&AP25&Table10[[#This Row],[CMS]]","v":""},{"$f":"IF(COUNTIF(AR$2:AR25,AR25)=1,AR25,\"\")","v":""},"","","",null,{"$f":"+IF(BB25=\"\",\"\",MAX(AX$1:AX24)+1)","v":""},{"$f":"IF('Using CMS - Deviation - Limits'!B47=\"\",\"\",'Using CMS - Deviation - Limits'!B47)","v":""},{"$f":"IF('Using CMS - Deviation - Limits'!C47=\"\",\"\",'Using CMS - Deviation - Limits'!C47)","v":""},{"$f":"AY25&AZ25&Table10[[#This Row],[CMS]]","v":""},{"$f":"IF(COUNTIF(BA$2:BA25,BA25)=1,BA25,\"\")","v":""},"","",{"$f":"+IFERROR(INDEX(#REF!,MATCH(ROW()-ROW(BC$1),AX$2:AX$955,0)),\"\")","v":""}]
[{"$f":"+IF(D26=\"\",\"\",MAX(A$1:A25)+1)","v":""},{"$f":"IF('Process_&_CMS_Identification'!C48=\"\",\"\",'Process_&_CMS_Identification'!C48)","v":""},"",{"$f":"IF(COUNTIF(B$2:B26,B26)=1,B26,\"\")","v":""},{"$nulls":6},{"$f":"+IF(N26=\"\",\"\",MAX(K$1:K25)+1)","v":""},{"$f":"IF('Process_&_CMS_Identification'!D48=\"\",\"\",'Process_&_CMS_Identification'!D48)","v":""},"",{"$f":"IF(COUNTIF(L$2:L26,L26)=1,L26,\"\")","v":""},{"$nulls":5},{"$f":"+IF(X26=\"\",\"\",MAX(T$1:T25)+1)","v":""},{"$f":"IF('No CMS - Deviation - Limits'!B48=\"\",\"\",'No CMS - Deviation - Limits'!B48)","v":""},{"$f":"IF('No CMS - Deviation - Limits'!C48=\"\",\"\",'No CMS - Deviation - Limits'!C48)","v":""},"",{"$f":"IF(COUNTIF(V$2:V26,V26)=1,V26,\"\")","v":""},"","",{"$f":"+IFERROR(INDEX(#REF!,MATCH(ROW()-ROW($Y$1),T$2:T$955,0)),\"\")","v":""},null,{"$f":"+IF(AG26=\"\",\"\",MAX(AC$1:AC25)+1)","v":""},{"$f":"IF('Using CMS - Deviation - Limits'!B48=\"\",\"\",'Using CMS - Deviation - Limits'!B48)","v":""},{"$f":"IF('Using CMS - Deviation - Limits'!C48=\"\",\"\",'Using CMS - Deviation - Limits'!C48)","v":""},"",{"$f":"IF(COUNTIF(AF$2:AF26,AF26)=1,AF26,\"\")","v":""},"","",{"$f":"+IFERROR(INDEX(#REF!,MATCH(ROW()-ROW(AG$1),AC$2:AC$955,0)),\"\")","v":""},null,"MI",null,{"$f":"+IF(AS26=\"\",\"\",MAX(AN$1:AN25)+1)","v":""},{"$f":"IF('Using CMS - Inop_OoC - CMS'!B48=\"\",\"\",'Using CMS - Inop_OoC - CMS'!B48)","v":""},{"$f":"IF('Using CMS - Inop_OoC - CMS'!C48=\"\",\"\",'Using CMS - Inop_OoC - CMS'!C48)","v":""},{"$f":"IF('Using CMS - Inop_OoC - CMS'!D48=\"\",\"\",'Using CMS - Inop_OoC - CMS'!D48)","v":""},{"$f":"AO26&AP26&Table10[[#This Row],[CMS]]","v":""},{"$f":"IF(COUNTIF(AR$2:AR26,AR26)=1,AR26,\"\")","v":""},"","","",null,{"$f":"+IF(BB26=\"\",\"\",MAX(AX$1:AX25)+1)","v":""},{"$f":"IF('Using CMS - Deviation - Limits'!B48=\"\",\"\",'Using CMS - Deviation - Limits'!B48)","v":""},{"$f":"IF('Using CMS - Deviation - Limits'!C48=\"\",\"\",'Using CMS - Deviation - Limits'!C48)","v":""},{"$f":"AY26&AZ26&Table10[[#This Row],[CMS]]","v":""},{"$f":"IF(COUNTIF(BA$2:BA26,BA26)=1,BA26,\"\")","v":""},"","",{"$f":"+IFERROR(INDEX(#REF!,MATCH(ROW()-ROW(BC$1),AX$2:AX$955,0)),\"\")","v":""}]
[{"$f":"+IF(D27=\"\",\"\",MAX(A$1:A26)+1)","v":""},{"$f":"IF('Process_&_CMS_Identification'!C49=\"\",\"\",'Process_&_CMS_Identification'!C49)","v":""},"",{"$f":"IF(COUNTIF(B$2:B27,B27)=1,B27,\"\")","v":""},{"$nulls":6},{"$f":"+IF(N27=\"\",\"\",MAX(K$1:K26)+1)","v":""},{"$f":"IF('Process_&_CMS_Identification'!D49=\"\",\"\",'Process_&_CMS_Identification'!D49)","v":""},"",{"$f":"IF(COUNTIF(L$2:L27,L27)=1,L27,\"\")","v":""},{"$nulls":5},{"$f":"+IF(X27=\"\",\"\",MAX(T$1:T26)+1)","v":""},{"$f":"IF('No CMS - Deviation - Limits'!B49=\"\",\"\",'No CMS - Deviation - Limits'!B49)","v":""},{"$f":"IF('No CMS - Deviation - Limits'!C49=\"\",\"\",'No CMS - Deviation - Limits'!C49)","v":""},"",{"$f":"IF(COUNTIF(V$2:V27,V27)=1,V27,\"\")","v":""},"","",{"$f":"+IFERROR(INDEX(#REF!,MATCH(ROW()-ROW($Y$1),T$2:T$955,0)),\"\")","v":""},null,{"$f":"+IF(AG27=\"\",\"\",MAX(AC$1:AC26)+1)","v":""},{"$f":"IF('Using CMS - Deviation - Limits'!B49=\"\",\"\",'Using CMS - Deviation - Limits'!B49)","v":""},{"$f":"IF('Using CMS - Deviation - Limits'!C49=\"\",\"\",'Using CMS - Deviation - Limits'!C49)","v":""},"",{"$f":"IF(COUNTIF(AF$2:AF27,AF27)=1,AF27,\"\")","v":""},"","",{"$f":"+IFERROR(INDEX(#REF!,MATCH(ROW()-ROW(AG$1),AC$2:AC$955,0)),\"\")","v":""},null,"MN",null,{"$f":"+IF(AS27=\"\",\"\",MAX(AN$1:AN26)+1)","v":""},{"$f":"IF('Using CMS - Inop_OoC - CMS'!B49=\"\",\"\",'Using CMS - Inop_OoC - CMS'!B49)","v":""},{"$f":"IF('Using CMS - Inop_OoC - CMS'!C49=\"\",\"\",'Using CMS - Inop_OoC - CMS'!C49)","v":""},{"$f":"IF('Using CMS - Inop_OoC - CMS'!D49=\"\",\"\",'Using CMS - Inop_OoC - CMS'!D49)","v":""},{"$f":"AO27&AP27&Table10[[#This Row],[CMS]]","v":""},{"$f":"IF(COUNTIF(AR$2:AR27,AR27)=1,AR27,\"\")","v":""},"","","",null,{"$f":"+IF(BB27=\"\",\"\",MAX(AX$1:AX26)+1)","v":""},{"$f":"IF('Using CMS - Deviation - Limits'!B49=\"\",\"\",'Using CMS - Deviation - Limits'!B49)","v":""},{"$f":"IF('Using CMS - Deviation - Limits'!C49=\"\",\"\",'Using CMS - Deviation - Limits'!C49)","v":""},{"$f":"AY27&AZ27&Table10[[#This Row],[CMS]]","v":""},{"$f":"IF(COUNTIF(BA$2:BA27,BA27)=1,BA27,\"\")","v":""},"","",{"$f":"+IFERROR(INDEX(#REF!,MATCH(ROW()-ROW(BC$1),AX$2:AX$955,0)),\"\")","v":""}]
[{"$f":"+IF(D28=\"\",\"\",MAX(A$1:A27)+1)","v":""},{"$f":"IF('Process_&_CMS_Identification'!C50=\"\",\"\",'Process_&_CMS_Identification'!C50)","v":""},"",{"$f":"IF(COUNTIF(B$2:B28,B28)=1,B28,\"\")","v":""},{"$nulls":6},{"$f":"+IF(N28=\"\",\"\",MAX(K$1:K27)+1)","v":""},{"$f":"IF('Process_&_CMS_Identification'!D50=\"\",\"\",'Process_&_CMS_Identification'!D50)","v":""},"",{"$f":"IF(COUNTIF(L$2:L28,L28)=1,L28,\"\")","v":""},{"$nulls":5},{"$f":"+IF(X28=\"\",\"\",MAX(T$1:T27)+1)","v":""},{"$f":"IF('No CMS - Deviation - Limits'!B50=\"\",\"\",'No CMS - Deviation - Limits'!B50)","v":""},{"$f":"IF('No CMS - Deviation - Limits'!C50=\"\",\"\",'No CMS - Deviation - Limits'!C50)","v":""},"",{"$f":"IF(COUNTIF(V$2:V28,V28)=1,V28,\"\")","v":""},"","",{"$f":"+IFERROR(INDEX(#REF!,MATCH(ROW()-ROW($Y$1),T$2:T$955,0)),\"\")","v":""},null,{"$f":"+IF(AG28=\"\",\"\",MAX(AC$1:AC27)+1)","v":""},{"$f":"IF('Using CMS - Deviation - Limits'!B50=\"\",\"\",'Using CMS - Deviation - Limits'!B50)","v":""},{"$f":"IF('Using CMS - Deviation - Limits'!C50=\"\",\"\",'Using CMS - Deviation - Limits'!C50)","v":""},"",{"$f":"IF(COUNTIF(AF$2:AF28,AF28)=1,AF28,\"\")","v":""},"","",{"$f":"+IFERROR(INDEX(#REF!,MATCH(ROW()-ROW(AG$1),AC$2:AC$955,0)),\"\")","v":""},null,"MO",null,{"$f":"+IF(AS28=\"\",\"\",MAX(AN$1:AN27)+1)","v":""},{"$f":"IF('Using CMS - Inop_OoC - CMS'!B50=\"\",\"\",'Using CMS - Inop_OoC - CMS'!B50)","v":""},{"$f":"IF('Using CMS - Inop_OoC - CMS'!C50=\"\",\"\",'Using CMS - Inop_OoC - CMS'!C50)","v":""},{"$f":"IF('Using CMS - Inop_OoC - CMS'!D50=\"\",\"\",'Using CMS - Inop_OoC - CMS'!D50)","v":""},{"$f":"AO28&AP28&Table10[[#This Row],[CMS]]","v":""},{"$f":"IF(COUNTIF(AR$2:AR28,AR28)=1,AR28,\"\")","v":""},"","","",null,{"$f":"+IF(BB28=\"\",\"\",MAX(AX$1:AX27)+1)","v":""},{"$f":"IF('Using CMS - Deviation - Limits'!B50=\"\",\"\",'Using CMS - Deviation - Limits'!B50)","v":""},{"$f":"IF('Using CMS - Deviation - Limits'!C50=\"\",\"\",'Using CMS - Deviation - Limits'!C50)","v":""},{"$f":"AY28&AZ28&Table10[[#This Row],[CMS]]","v":""},{"$f":"IF(COUNTIF(BA$2:BA28,BA28)=1,BA28,\"\")","v":""},"","",{"$f":"+IFERROR(INDEX(#REF!,MATCH(ROW()-ROW(BC$1),AX$2:AX$955,0)),\"\")","v":""}]
[{"$f":"+IF(D29=\"\",\"\",MAX(A$1:A28)+1)","v":""},{"$f":"IF('Process_&_CMS_Identification'!C51=\"\",\"\",'Process_&_CMS_Identification'!C51)","v":""},"",{"$f":"IF(COUNTIF(B$2:B29,B29)=1,B29,\"\")","v":""},{"$nulls":6},{"$f":"+IF(N29=\"\",\"\",MAX(K$1:K28)+1)","v":""},{"$f":"IF('Process_&_CMS_Identification'!D51=\"\",\"\",'Process_&_CMS_Identification'!D51)","v":""},"",{"$f":"IF(COUNTIF(L$2:L29,L29)=1,L29,\"\")","v":""},{"$nulls":5},{"$f":"+IF(X29=\"\",\"\",MAX(T$1:T28)+1)","v":""},{"$f":"IF('No CMS - Deviation - Limits'!B51=\"\",\"\",'No CMS - Deviation - Limits'!B51)","v":""},{"$f":"IF('No CMS - Deviation - Limits'!C51=\"\",\"\",'No CMS - Deviation - Limits'!C51)","v":""},"",{"$f":"IF(COUNTIF(V$2:V29,V29)=1,V29,\"\")","v":""},"","",{"$f":"+IFERROR(INDEX(#REF!,MATCH(ROW()-ROW($Y$1),T$2:T$955,0)),\"\")","v":""},null,{"$f":"+IF(AG29=\"\",\"\",MAX(AC$1:AC28)+1)","v":""},{"$f":"IF('Using CMS - Deviation - Limits'!B51=\"\",\"\",'Using CMS - Deviation - Limits'!B51)","v":""},{"$f":"IF('Using CMS - Deviation - Limits'!C51=\"\",\"\",'Using CMS - Deviation - Limits'!C51)","v":""},"",{"$f":"IF(COUNTIF(AF$2:AF29,AF29)=1,AF29,\"\")","v":""},"","",{"$f":"+IFERROR(INDEX(#REF!,MATCH(ROW()-ROW(AG$1),AC$2:AC$955,0)),\"\")","v":""},null,"MP",null,{"$f":"+IF(AS29=\"\",\"\",MAX(AN$1:AN28)+1)","v":""},{"$f":"IF('Using CMS - Inop_OoC - CMS'!B51=\"\",\"\",'Using CMS - Inop_OoC - CMS'!B51)","v":""},{"$f":"IF('Using CMS - Inop_OoC - CMS'!C51=\"\",\"\",'Using CMS - Inop_OoC - CMS'!C51)","v":""},{"$f":"IF('Using CMS - Inop_OoC - CMS'!D51=\"\",\"\",'Using CMS - Inop_OoC - CMS'!D51)","v":""},{"$f":"AO29&AP29&Table10[[#This Row],[CMS]]","v":""},{"$f":"IF(COUNTIF(AR$2:AR29,AR29)=1,AR29,\"\")","v":""},"","","",null,{"$f":"+IF(BB29=\"\",\"\",MAX(AX$1:AX28)+1)","v":""},{"$f":"IF('Using CMS - Deviation - Limits'!B51=\"\",\"\",'Using CMS - Deviation - Limits'!B51)","v":""},{"$f":"IF('Using CMS - Deviation - Limits'!C51=\"\",\"\",'Using CMS - Deviation - Limits'!C51)","v":""},{"$f":"AY29&AZ29&Table10[[#This Row],[CMS]]","v":""},{"$f":"IF(COUNTIF(BA$2:BA29,BA29)=1,BA29,\"\")","v":""},"","",{"$f":"+IFERROR(INDEX(#REF!,MATCH(ROW()-ROW(BC$1),AX$2:AX$955,0)),\"\")","v":""}]
[{"$f":"+IF(D30=\"\",\"\",MAX(A$1:A29)+1)","v":""},{"$f":"IF('Process_&_CMS_Identification'!C52=\"\",\"\",'Process_&_CMS_Identification'!C52)","v":""},"",{"$f":"IF(COUNTIF(B$2:B30,B30)=1,B30,\"\")","v":""},{"$nulls":6},{"$f":"+IF(N30=\"\",\"\",MAX(K$1:K29)+1)","v":""},{"$f":"IF('Process_&_CMS_Identification'!D52=\"\",\"\",'Process_&_CMS_Identification'!D52)","v":""},"",{"$f":"IF(COUNTIF(L$2:L30,L30)=1,L30,\"\")","v":""},{"$nulls":5},{"$f":"+IF(X30=\"\",\"\",MAX(T$1:T29)+1)","v":""},{"$f":"IF('No CMS - Deviation - Limits'!B52=\"\",\"\",'No CMS - Deviation - Limits'!B52)","v":""},{"$f":"IF('No CMS - Deviation - Limits'!C52=\"\",\"\",'No CMS - Deviation - Limits'!C52)","v":""},"",{"$f":"IF(COUNTIF(V$2:V30,V30)=1,V30,\"\")","v":""},"","",{"$f":"+IFERROR(INDEX(#REF!,MATCH(ROW()-ROW($Y$1),T$2:T$955,0)),\"\")","v":""},null,{"$f":"+IF(AG30=\"\",\"\",MAX(AC$1:AC29)+1)","v":""},{"$f":"IF('Using CMS - Deviation - Limits'!B52=\"\",\"\",'Using CMS - Deviation - Limits'!B52)","v":""},{"$f":"IF('Using CMS - Deviation - Limits'!C52=\"\",\"\",'Using CMS - Deviation - Limits'!C52)","v":""},"",{"$f":"IF(COUNTIF(AF$2:AF30,AF30)=1,AF30,\"\")","v":""},"","",{"$f":"+IFERROR(INDEX(#REF!,MATCH(ROW()-ROW(AG$1),AC$2:AC$955,0)),\"\")","v":""},null,"MS",null,{"$f":"+IF(AS30=\"\",\"\",MAX(AN$1:AN29)+1)","v":""},{"$f":"IF('Using CMS - Inop_OoC - CMS'!B52=\"\",\"\",'Using CMS - Inop_OoC - CMS'!B52)","v":""},{"$f":"IF('Using CMS - Inop_OoC - CMS'!C52=\"\",\"\",'Using CMS - Inop_OoC - CMS'!C52)","v":""},{"$f":"IF('Using CMS - Inop_OoC - CMS'!D52=\"\",\"\",'Using CMS - Inop_OoC - CMS'!D52)","v":""},{"$f":"AO30&AP30&Table10[[#This Row],[CMS]]","v":""},{"$f":"IF(COUNTIF(AR$2:AR30,AR30)=1,AR30,\"\")","v":""},"","","",null,{"$f":"+IF(BB30=\"\",\"\",MAX(AX$1:AX29)+1)","v":""},{"$f":"IF('Using CMS - Deviation - Limits'!B52=\"\",\"\",'Using CMS - Deviation - Limits'!B52)","v":""},{"$f":"IF('Using CMS - Deviation - Limits'!C52=\"\",\"\",'Using CMS - Deviation - Limits'!C52)","v":""},{"$f":"AY30&AZ30&Table10[[#This Row],[CMS]]","v":""},{"$f":"IF(COUNTIF(BA$2:BA30,BA30)=1,BA30,\"\")","v":""},"","",{"$f":"+IFERROR(INDEX(#REF!,MATCH(ROW()-ROW(BC$1),AX$2:AX$955,0)),\"\")","v":""}]
[{"$f":"+IF(D31=\"\",\"\",MAX(A$1:A30)+1)","v":""},{"$f":"IF('Process_&_CMS_Identification'!C53=\"\",\"\",'Process_&_CMS_Identification'!C53)","v":""},"",{"$f":"IF(COUNTIF(B$2:B31,B31)=1,B31,\"\")","v":""},{"$nulls":6},{"$f":"+IF(N31=\"\",\"\",MAX(K$1:K30)+1)","v":""},{"$f":"IF('Process_&_CMS_Identification'!D53=\"\",\"\",'Process_&_CMS_Identification'!D53)","v":""},"",{"$f":"IF(COUNTIF(L$2:L31,L31)=1,L31,\"\")","v":""},{"$nulls":5},{"$f":"+IF(X31=\"\",\"\",MAX(T$1:T30)+1)","v":""},{"$f":"IF('No CMS - Deviation - Limits'!B53=\"\",\"\",'No CMS - Deviation - Limits'!B53)","v":""},{"$f":"IF('No CMS - Deviation - Limits'!C53=\"\",\"\",'No CMS - Deviation - Limits'!C53)","v":""},"",{"$f":"IF(COUNTIF(V$2:V31,V31)=1,V31,\"\")","v":""},"","",{"$f":"+IFERROR(INDEX(#REF!,MATCH(ROW()-ROW($Y$1),T$2:T$955,0)),\"\")","v":""},null,{"$f":"+IF(AG31=\"\",\"\",MAX(AC$1:AC30)+1)","v":""},{"$f":"IF('Using CMS - Deviation - Limits'!B53=\"\",\"\",'Using CMS - Deviation - Limits'!B53)","v":""},{"$f":"IF('Using CMS - Deviation - Limits'!C53=\"\",\"\",'Using CMS - Deviation - Limits'!C53)","v":""},"",{"$f":"IF(COUNTIF(AF$2:AF31,AF31)=1,AF31,\"\")","v":""},"","",{"$f":"+IFERROR(INDEX(#REF!,MATCH(ROW()-ROW(AG$1),AC$2:AC$955,0)),\"\")","v":""},null,"MT",null,{"$f":"+IF(AS31=\"\",\"\",MAX(AN$1:AN30)+1)","v":""},{"$f":"IF('Using CMS - Inop_OoC - CMS'!B53=\"\",\"\",'Using CMS - Inop_OoC - CMS'!B53)","v":""},{"$f":"IF('Using CMS - Inop_OoC - CMS'!C53=\"\",\"\",'Using CMS - Inop_OoC - CMS'!C53)","v":""},{"$f":"IF('Using CMS - Inop_OoC - CMS'!D53=\"\",\"\",'Using CMS - Inop_OoC - CMS'!D53)","v":""},{"$f":"AO31&AP31&Table10[[#This Row],[CMS]]","v":""},{"$f":"IF(COUNTIF(AR$2:AR31,AR31)=1,AR31,\"\")","v":""},"","","",null,{"$f":"+IF(BB31=\"\",\"\",MAX(AX$1:AX30)+1)","v":""},{"$f":"IF('Using CMS - Deviation - Limits'!B53=\"\",\"\",'Using CMS - Deviation - Limits'!B53)","v":""},{"$f":"IF('Using CMS - Deviation - Limits'!C53=\"\",\"\",'Using CMS - Deviation - Limits'!C53)","v":""},{"$f":"AY31&AZ31&Table10[[#This Row],[CMS]]","v":""},{"$f":"IF(COUNTIF(BA$2:BA31,BA31)=1,BA31,\"\")","v":""},"","",{"$f":"+IFERROR(INDEX(#REF!,MATCH(ROW()-ROW(BC$1),AX$2:AX$955,0)),\"\")","v":""}]
[{"$f":"+IF(D32=\"\",\"\",MAX(A$1:A31)+1)","v":""},{"$f":"IF('Process_&_CMS_Identification'!C54=\"\",\"\",'Process_&_CMS_Identification'!C54)","v":""},"",{"$f":"IF(COUNTIF(B$2:B32,B32)=1,B32,\"\")","v":""},{"$nulls":6},{"$f":"+IF(N32=\"\",\"\",MAX(K$1:K31)+1)","v":""},{"$f":"IF('Process_&_CMS_Identification'!D54=\"\",\"\",'Process_&_CMS_Identification'!D54)","v":""},"",{"$f":"IF(COUNTIF(L$2:L32,L32)=1,L32,\"\")","v":""},{"$nulls":5},{"$f":"+IF(X32=\"\",\"\",MAX(T$1:T31)+1)","v":""},{"$f":"IF('No CMS - Deviation - Limits'!B54=\"\",\"\",'No CMS - Deviation - Limits'!B54)","v":""},{"$f":"IF('No CMS - Deviation - Limits'!C54=\"\",\"\",'No CMS - Deviation - Limits'!C54)","v":""},"",{"$f":"IF(COUNTIF(V$2:V32,V32)=1,V32,\"\")","v":""},"","",{"$f":"+IFERROR(INDEX(#REF!,MATCH(ROW()-ROW($Y$1),T$2:T$955,0)),\"\")","v":""},null,{"$f":"+IF(AG32=\"\",\"\",MAX(AC$1:AC31)+1)","v":""},{"$f":"IF('Using CMS - Deviation - Limits'!B54=\"\",\"\",'Using CMS - Deviation - Limits'!B54)","v":""},{"$f":"IF('Using CMS - Deviation - Limits'!C54=\"\",\"\",'Using CMS - Deviation - Limits'!C54)","v":""},"",{"$f":"IF(COUNTIF(AF$2:AF32,AF32)=1,AF32,\"\")","v":""},"","",{"$f":"+IFERROR(INDEX(#REF!,MATCH(ROW()-ROW(AG$1),AC$2:AC$955,0)),\"\")","v":""},null,"NC",null,{"$f":"+IF(AS32=\"\",\"\",MAX(AN$1:AN31)+1)","v":""},{"$f":"IF('Using CMS - Inop_OoC - CMS'!B54=\"\",\"\",'Using CMS - Inop_OoC - CMS'!B54)","v":""},{"$f":"IF('Using CMS - Inop_OoC - CMS'!C54=\"\",\"\",'Using CMS - Inop_OoC - CMS'!C54)","v":""},{"$f":"IF('Using CMS - Inop_OoC - CMS'!D54=\"\",\"\",'Using CMS - Inop_OoC - CMS'!D54)","v":""},{"$f":"AO32&AP32&Table10[[#This Row],[CMS]]","v":""},{"$f":"IF(COUNTIF(AR$2:AR32,AR32)=1,AR32,\"\")","v":""},"","","",null,{"$f":"+IF(BB32=\"\",\"\",MAX(AX$1:AX31)+1)","v":""},{"$f":"IF('Using CMS - Deviation - Limits'!B54=\"\",\"\",'Using CMS - Deviation - Limits'!B54)","v":""},{"$f":"IF('Using CMS - Deviation - Limits'!C54=\"\",\"\",'Using CMS - Deviation - Limits'!C54)","v":""},{"$f":"AY32&AZ32&Table10[[#This Row],[CMS]]","v":""},{"$f":"IF(COUNTIF(BA$2:BA32,BA32)=1,BA32,\"\")","v":""},"","",{"$f":"+IFERROR(INDEX(#REF!,MATCH(ROW()-ROW(BC$1),AX$2:AX$955,0)),\"\")","v":""}]
[{"$f":"+IF(D33=\"\",\"\",MAX(A$1:A32)+1)","v":""},{"$f":"IF('Process_&_CMS_Identification'!C55=\"\",\"\",'Process_&_CMS_Identification'!C55)","v":""},"",{"$f":"IF(COUNTIF(B$2:B33,B33)=1,B33,\"\")","v":""},{"$nulls":6},{"$f":"+IF(N33=\"\",\"\",MAX(K$1:K32)+1)","v":""},{"$f":"IF('Process_&_CMS_Identification'!D55=\"\",\"\",'Process_&_CMS_Identification'!D55)","v":""},"",{"$f":"IF(COUNTIF(L$2:L33,L33)=1,L33,\"\")","v":""},{"$nulls":5},{"$f":"+IF(X33=\"\",\"\",MAX(T$1:T32)+1)","v":""},{"$f":"IF('No CMS - Deviation - Limits'!B55=\"\",\"\",'No CMS - Deviation - Limits'!B55)","v":""},{"$f":"IF('No CMS - Deviation - Limits'!C55=\"\",\"\",'No CMS - Deviation - Limits'!C55)","v":""},"",{"$f":"IF(COUNTIF(V$2:V33,V33)=1,V33,\"\")","v":""},"","",{"$f":"+IFERROR(INDEX(#REF!,MATCH(ROW()-ROW($Y$1),T$2:T$955,0)),\"\")","v":""},null,{"$f":"+IF(AG33=\"\",\"\",MAX(AC$1:AC32)+1)","v":""},{"$f":"IF('Using CMS - Deviation - Limits'!B55=\"\",\"\",'Using CMS - Deviation - Limits'!B55)","v":""},{"$f":"IF('Using CMS - Deviation - Limits'!C55=\"\",\"\",'Using CMS - Deviation - Limits'!C55)","v":""},"",{"$f":"IF(COUNTIF(AF$2:AF33,AF33)=1,AF33,\"\")","v":""},"","",{"$f":"+IFERROR(INDEX(#REF!,MATCH(ROW()-ROW(AG$1),AC$2:AC$955,0)),\"\")","v":""},null,"ND",null,{"$f":"+IF(AS33=\"\",\"\",MAX(AN$1:AN32)+1)","v":""},{"$f":"IF('Using CMS - Inop_OoC - CMS'!B55=\"\",\"\",'Using CMS - Inop_OoC - CMS'!B55)","v":""},{"$f":"IF('Using CMS - Inop_OoC - CMS'!C55=\"\",\"\",'Using CMS - Inop_OoC - CMS'!C55)","v":""},{"$f":"IF('Using CMS - Inop_OoC - CMS'!D55=\"\",\"\",'Using CMS - Inop_OoC - CMS'!D55)","v":""},{"$f":"AO33&AP33&Table10[[#This Row],[CMS]]","v":""},{"$f":"IF(COUNTIF(AR$2:AR33,AR33)=1,AR33,\"\")","v":""},"","","",null,{"$f":"+IF(BB33=\"\",\"\",MAX(AX$1:AX32)+1)","v":""},{"$f":"IF('Using CMS - Deviation - Limits'!B55=\"\",\"\",'Using CMS - Deviation - Limits'!B55)","v":""},{"$f":"IF('Using CMS - Deviation - Limits'!C55=\"\",\"\",'Using CMS - Deviation - Limits'!C55)","v":""},{"$f":"AY33&AZ33&Table10[[#This Row],[CMS]]","v":""},{"$f":"IF(COUNTIF(BA$2:BA33,BA33)=1,BA33,\"\")","v":""},"","",{"$f":"+IFERROR(INDEX(#REF!,MATCH(ROW()-ROW(BC$1),AX$2:AX$955,0)),\"\")","v":""}]
[{"$f":"+IF(D34=\"\",\"\",MAX(A$1:A33)+1)","v":""},{"$f":"IF('Process_&_CMS_Identification'!C56=\"\",\"\",'Process_&_CMS_Identification'!C56)","v":""},"",{"$f":"IF(COUNTIF(B$2:B34,B34)=1,B34,\"\")","v":""},{"$nulls":6},{"$f":"+IF(N34=\"\",\"\",MAX(K$1:K33)+1)","v":""},{"$f":"IF('Process_&_CMS_Identification'!D56=\"\",\"\",'Process_&_CMS_Identification'!D56)","v":""},{"$f":"+IFERROR(INDEX(L$2:L$101,MATCH(ROW()-ROW($M$1),K$2:K$101,0)),\"\")","v":""},{"$f":"IF(COUNTIF(L$2:L34,L34)=1,L34,\"\")","v":""},{"$nulls":5},{"$f":"+IF(X34=\"\",\"\",MAX(T$1:T33)+1)","v":""},{"$f":"IF('No CMS - Deviation - Limits'!B56=\"\",\"\",'No CMS - Deviation - Limits'!B56)","v":""},{"$f":"IF('No CMS - Deviation - Limits'!C56=\"\",\"\",'No CMS - Deviation - Limits'!C56)","v":""},"",{"$f":"IF(COUNTIF(V$2:V34,V34)=1,V34,\"\")","v":""},"","",{"$f":"+IFERROR(INDEX(#REF!,MATCH(ROW()-ROW($Y$1),T$2:T$955,0)),\"\")","v":""},null,{"$f":"+IF(AG34=\"\",\"\",MAX(AC$1:AC33)+1)","v":""},{"$f":"IF('Using CMS - Deviation - Limits'!B56=\"\",\"\",'Using CMS - Deviation - Limits'!B56)","v":""},{"$f":"IF('Using CMS - Deviation - Limits'!C56=\"\",\"\",'Using CMS - Deviation - Limits'!C56)","v":""},"",{"$f":"IF(COUNTIF(AF$2:AF34,AF34)=1,AF34,\"\")","v":""},"","",{"$f":"+IFERROR(INDEX(#REF!,MATCH(ROW()-ROW(AG$1),AC$2:AC$955,0)),\"\")","v":""},null,"NE",null,{"$f":"+IF(AS34=\"\",\"\",MAX(AN$1:AN33)+1)","v":""},{"$f":"IF('Using CMS - Inop_OoC - CMS'!B56=\"\",\"\",'Using CMS - Inop_OoC - CMS'!B56)","v":""},{"$f":"IF('Using CMS - Inop_OoC - CMS'!C56=\"\",\"\",'Using CMS - Inop_OoC - CMS'!C56)","v":""},{"$f":"IF('Using CMS - Inop_OoC - CMS'!D56=\"\",\"\",'Using CMS - Inop_OoC - CMS'!D56)","v":""},{"$f":"AO34&AP34&Table10[[#This Row],[CMS]]","v":""},{"$f":"IF(COUNTIF(AR$2:AR34,AR34)=1,AR34,\"\")","v":""},"","","",null,{"$f":"+IF(BB34=\"\",\"\",MAX(AX$1:AX33)+1)","v":""},{"$f":"IF('Using CMS - Deviation - Limits'!B56=\"\",\"\",'Using CMS - Deviation - Limits'!B56)","v":""},{"$f":"IF('Using CMS - Deviation - Limits'!C56=\"\",\"\",'Using CMS - Deviation - Limits'!C56)","v":""},{"$f":"AY34&AZ34&Table10[[#This Row],[CMS]]","v":""},{"$f":"IF(COUNTIF(BA$2:BA34,BA34)=1,BA34,\"\")","v":""},"","",{"$f":"+IFERROR(INDEX(#REF!,MATCH(ROW()-ROW(BC$1),AX$2:AX$955,0)),\"\")","v":""}]
[{"$f":"+IF(D35=\"\",\"\",MAX(A$1:A34)+1)","v":""},{"$f":"IF('Process_&_CMS_Identification'!C57=\"\",\"\",'Process_&_CMS_Identification'!C57)","v":""},"",{"$f":"IF(COUNTIF(B$2:B35,B35)=1,B35,\"\")","v":""},{"$nulls":6},{"$f":"+IF(N35=\"\",\"\",MAX(K$1:K34)+1)","v":""},{"$f":"IF('Process_&_CMS_Identification'!D57=\"\",\"\",'Process_&_CMS_Identification'!D57)","v":""},"",{"$f":"IF(COUNTIF(L$2:L35,L35)=1,L35,\"\")","v":""},{"$nulls":5},{"$f":"+IF(X35=\"\",\"\",MAX(T$1:T34)+1)","v":""},{"$f":"IF('No CMS - Deviation - Limits'!B57=\"\",\"\",'No CMS - Deviation - Limits'!B57)","v":""},{"$f":"IF('No CMS - Deviation - Limits'!C57=\"\",\"\",'No CMS - Deviation - Limits'!C57)","v":""},"",{"$f":"IF(COUNTIF(V$2:V35,V35)=1,V35,\"\")","v":""},"","",{"$f":"+IFERROR(INDEX(#REF!,MATCH(ROW()-ROW($Y$1),T$2:T$955,0)),\"\")","v":""},null,{"$f":"+IF(AG35=\"\",\"\",MAX(AC$1:AC34)+1)","v":""},{"$f":"IF('Using CMS - Deviation - Limits'!B57=\"\",\"\",'Using CMS - Deviation - Limits'!B57)","v":""},{"$f":"IF('Using CMS - Deviation - Limits'!C57=\"\",\"\",'Using CMS - Deviation - Limits'!C57)","v":""},"",{"$f":"IF(COUNTIF(AF$2:AF35,AF35)=1,AF35,\"\")","v":""},"","",{"$f":"+IFERROR(INDEX(#REF!,MATCH(ROW()-ROW(AG$1),AC$2:AC$955,0)),\"\")","v":""},null,"NH",null,{"$f":"+IF(AS35=\"\",\"\",MAX(AN$1:AN34)+1)","v":""},{"$f":"IF('Using CMS - Inop_OoC - CMS'!B57=\"\",\"\",'Using CMS - Inop_OoC - CMS'!B57)","v":""},{"$f":"IF('Using CMS - Inop_OoC - CMS'!C57=\"\",\"\",'Using CMS - Inop_OoC - CMS'!C57)","v":""},{"$f":"IF('Using CMS - Inop_OoC - CMS'!D57=\"\",\"\",'Using CMS - Inop_OoC - CMS'!D57)","v":""},{"$f":"AO35&AP35&Table10[[#This Row],[CMS]]","v":""},{"$f":"IF(COUNTIF(AR$2:AR35,AR35)=1,AR35,\"\")","v":""},"","","",null,{"$f":"+IF(BB35=\"\",\"\",MAX(AX$1:AX34)+1)","v":""},{"$f":"IF('Using CMS - Deviation - Limits'!B57=\"\",\"\",'Using CMS - Deviation - Limits'!B57)","v":""},{"$f":"IF('Using CMS - Deviation - Limits'!C57=\"\",\"\",'Using CMS - Deviation - Limits'!C57)","v":""},{"$f":"AY35&AZ35&Table10[[#This Row],[CMS]]","v":""},{"$f":"IF(COUNTIF(BA$2:BA35,BA35)=1,BA35,\"\")","v":""},"","",{"$f":"+IFERROR(INDEX(#REF!,MATCH(ROW()-ROW(BC$1),AX$2:AX$955,0)),\"\")","v":""}]
[{"$f":"+IF(D36=\"\",\"\",MAX(A$1:A35)+1)","v":""},{"$f":"IF('Process_&_CMS_Identification'!C58=\"\",\"\",'Process_&_CMS_Identification'!C58)","v":""},"",{"$f":"IF(COUNTIF(B$2:B36,B36)=1,B36,\"\")","v":""},{"$nulls":6},{"$f":"+IF(N36=\"\",\"\",MAX(K$1:K35)+1)","v":""},{"$f":"IF('Process_&_CMS_Identification'!D58=\"\",\"\",'Process_&_CMS_Identification'!D58)","v":""},"",{"$f":"IF(COUNTIF(L$2:L36,L36)=1,L36,\"\")","v":""},{"$nulls":5},{"$f":"+IF(X36=\"\",\"\",MAX(T$1:T35)+1)","v":""},{"$f":"IF('No CMS - Deviation - Limits'!B58=\"\",\"\",'No CMS - Deviation - Limits'!B58)","v":""},{"$f":"IF('No CMS - Deviation - Limits'!C58=\"\",\"\",'No CMS - Deviation - Limits'!C58)","v":""},"",{"$f":"IF(COUNTIF(V$2:V36,V36)=1,V36,\"\")","v":""},"","",{"$f":"+IFERROR(INDEX(#REF!,MATCH(ROW()-ROW($Y$1),T$2:T$955,0)),\"\")","v":""},null,{"$f":"+IF(AG36=\"\",\"\",MAX(AC$1:AC35)+1)","v":""},{"$f":"IF('Using CMS - Deviation - Limits'!B58=\"\",\"\",'Using CMS - Deviation - Limits'!B58)","v":""},{"$f":"IF('Using CMS - Deviation - Limits'!C58=\"\",\"\",'Using CMS - Deviation - Limits'!C58)","v":""},"",{"$f":"IF(COUNTIF(AF$2:AF36,AF36)=1,AF36,\"\")","v":""},"","",{"$f":"+IFERROR(INDEX(#REF!,MATCH(ROW()-ROW(AG$1),AC$2:AC$955,0)),\"\")","v":""},null,"NJ",null,{"$f":"+IF(AS36=\"\",\"\",MAX(AN$1:AN35)+1)","v":""},{"$f":"IF('Using CMS - Inop_OoC - CMS'!B58=\"\",\"\",'Using CMS - Inop_OoC - CMS'!B58)","v":""},{"$f":"IF('Using CMS - Inop_OoC - CMS'!C58=\"\",\"\",'Using CMS - Inop_OoC - CMS'!C58)","v":""},{"$f":"IF('Using CMS - Inop_OoC - CMS'!D58=\"\",\"\",'Using CMS - Inop_OoC - CMS'!D58)","v":""},{"$f":"AO36&AP36&Table10[[#This Row],[CMS]]","v":""},{"$f":"IF(COUNTIF(AR$2:AR36,AR36)=1,AR36,\"\")","v":""},"","","",null,{"$f":"+IF(BB36=\"\",\"\",MAX(AX$1:AX35)+1)","v":""},{"$f":"IF('Using CMS - Deviation - Limits'!B58=\"\",\"\",'Using CMS - Deviation - Limits'!B58)","v":""},{"$f":"IF('Using CMS - Deviation - Limits'!C58=\"\",\"\",'Using CMS - Deviation - Limits'!C58)","v":""},{"$f":"AY36&AZ36&Table10[[#This Row],[CMS]]","v":""},{"$f":"IF(COUNTIF(BA$2:BA36,BA36)=1,BA36,\"\")","v":""},"","",{"$f":"+IFERROR(INDEX(#REF!,MATCH(ROW()-ROW(BC$1),AX$2:AX$955,0)),\"\")","v":""}]
[{"$f":"+IF(D37=\"\",\"\",MAX(A$1:A36)+1)","v":""},{"$f":"IF('Process_&_CMS_Identification'!C59=\"\",\"\",'Process_&_CMS_Identification'!C59)","v":""},"",{"$f":"IF(COUNTIF(B$2:B37,B37)=1,B37,\"\")","v":""},{"$nulls":6},{"$f":"+IF(N37=\"\",\"\",MAX(K$1:K36)+1)","v":""},{"$f":"IF('Process_&_CMS_Identification'!D59=\"\",\"\",'Process_&_CMS_Identification'!D59)","v":""},"",{"$f":"IF(COUNTIF(L$2:L37,L37)=1,L37,\"\")","v":""},{"$nulls":5},{"$f":"+IF(X37=\"\",\"\",MAX(T$1:T36)+1)","v":""},{"$f":"IF('No CMS - Deviation - Limits'!B59=\"\",\"\",'No CMS - Deviation - Limits'!B59)","v":""},{"$f":"IF('No CMS - Deviation - Limits'!C59=\"\",\"\",'No CMS - Deviation - Limits'!C59)","v":""},"",{"$f":"IF(COUNTIF(V$2:V37,V37)=1,V37,\"\")","v":""},"","",{"$f":"+IFERROR(INDEX(#REF!,MATCH(ROW()-ROW($Y$1),T$2:T$955,0)),\"\")","v":""},null,{"$f":"+IF(AG37=\"\",\"\",MAX(AC$1:AC36)+1)","v":""},{"$f":"IF('Using CMS - Deviation - Limits'!B59=\"\",\"\",'Using CMS - Deviation - Limits'!B59)","v":""},{"$f":"IF('Using CMS - Deviation - Limits'!C59=\"\",\"\",'Using CMS - Deviation - Limits'!C59)","v":""},"",{"$f":"IF(COUNTIF(AF$2:AF37,AF37)=1,AF37,\"\")","v":""},"","",{"$f":"+IFERROR(INDEX(#REF!,MATCH(ROW()-ROW(AG$1),AC$2:AC$955,0)),\"\")","v":""},null,"NM",null,{"$f":"+IF(AS37=\"\",\"\",MAX(AN$1:AN36)+1)","v":""},{"$f":"IF('Using CMS - Inop_OoC - CMS'!B59=\"\",\"\",'Using CMS - Inop_OoC - CMS'!B59)","v":""},{"$f":"IF('Using CMS - Inop_OoC - CMS'!C59=\"\",\"\",'Using CMS - Inop_OoC - CMS'!C59)","v":""},{"$f":"IF('Using CMS - Inop_OoC - CMS'!D59=\"\",\"\",'Using CMS - Inop_OoC - CMS'!D59)","v":""},{"$f":"AO37&AP37&Table10[[#This Row],[CMS]]","v":""},{"$f":"IF(COUNTIF(AR$2:AR37,AR37)=1,AR37,\"\")","v":""},"","","",null,{"$f":"+IF(BB37=\"\",\"\",MAX(AX$1:AX36)+1)","v":""},{"$f":"IF('Using CMS - Deviation - Limits'!B59=\"\",\"\",'Using CMS - Deviation - Limits'!B59)","v":""},{"$f":"IF('Using CMS - Deviation - Limits'!C59=\"\",\"\",'Using CMS - Deviation - Limits'!C59)","v":""},{"$f":"AY37&AZ37&Table10[[#This Row],[CMS]]","v":""},{"$f":"IF(COUNTIF(BA$2:BA37,BA37)=1,BA37,\"\")","v":""},"","",{"$f":"+IFERROR(INDEX(#REF!,MATCH(ROW()-ROW(BC$1),AX$2:AX$955,0)),\"\")","v":""}]
[{"$f":"+IF(D38=\"\",\"\",MAX(A$1:A37)+1)","v":""},{"$f":"IF('Process_&_CMS_Identification'!C60=\"\",\"\",'Process_&_CMS_Identification'!C60)","v":""},"",{"$f":"IF(COUNTIF(B$2:B38,B38)=1,B38,\"\")","v":""},{"$nulls":6},{"$f":"+IF(N38=\"\",\"\",MAX(K$1:K37)+1)","v":""},{"$f":"IF('Process_&_CMS_Identification'!D60=\"\",\"\",'Process_&_CMS_Identification'!D60)","v":""},"",{"$f":"IF(COUNTIF(L$2:L38,L38)=1,L38,\"\")","v":""},{"$nulls":5},{"$f":"+IF(X38=\"\",\"\",MAX(T$1:T37)+1)","v":""},{"$f":"IF('No CMS - Deviation - Limits'!B60=\"\",\"\",'No CMS - Deviation - Limits'!B60)","v":""},{"$f":"IF('No CMS - Deviation - Limits'!C60=\"\",\"\",'No CMS - Deviation - Limits'!C60)","v":""},"",{"$f":"IF(COUNTIF(V$2:V38,V38)=1,V38,\"\")","v":""},"","",{"$f":"+IFERROR(INDEX(#REF!,MATCH(ROW()-ROW($Y$1),T$2:T$955,0)),\"\")","v":""},null,{"$f":"+IF(AG38=\"\",\"\",MAX(AC$1:AC37)+1)","v":""},{"$f":"IF('Using CMS - Deviation - Limits'!B60=\"\",\"\",'Using CMS - Deviation - Limits'!B60)","v":""},{"$f":"IF('Using CMS - Deviation - Limits'!C60=\"\",\"\",'Using CMS - Deviation - Limits'!C60)","v":""},"",{"$f":"IF(COUNTIF(AF$2:AF38,AF38)=1,AF38,\"\")","v":""},"","",{"$f":"+IFERROR(INDEX(#REF!,MATCH(ROW()-ROW(AG$1),AC$2:AC$955,0)),\"\")","v":""},null,"NV",null,{"$f":"+IF(AS38=\"\",\"\",MAX(AN$1:AN37)+1)","v":""},{"$f":"IF('Using CMS - Inop_OoC - CMS'!B60=\"\",\"\",'Using CMS - Inop_OoC - CMS'!B60)","v":""},{"$f":"IF('Using CMS - Inop_OoC - CMS'!C60=\"\",\"\",'Using CMS - Inop_OoC - CMS'!C60)","v":""},{"$f":"IF('Using CMS - Inop_OoC - CMS'!D60=\"\",\"\",'Using CMS - Inop_OoC - CMS'!D60)","v":""},{"$f":"AO38&AP38&Table10[[#This Row],[CMS]]","v":""},{"$f":"IF(COUNTIF(AR$2:AR38,AR38)=1,AR38,\"\")","v":""},"","","",null,{"$f":"+IF(BB38=\"\",\"\",MAX(AX$1:AX37)+1)","v":""},{"$f":"IF('Using CMS - Deviation - Limits'!B60=\"\",\"\",'Using CMS - Deviation - Limits'!B60)","v":""},{"$f":"IF('Using CMS - Deviation - Limits'!C60=\"\",\"\",'Using CMS - Deviation - Limits'!C60)","v":""},{"$f":"AY38&AZ38&Table10[[#This Row],[CMS]]","v":""},{"$f":"IF(COUNTIF(BA$2:BA38,BA38)=1,BA38,\"\")","v":""},"","",{"$f":"+IFERROR(INDEX(#REF!,MATCH(ROW()-ROW(BC$1),AX$2:AX$955,0)),\"\")","v":""}]
[{"$f":"+IF(D39=\"\",\"\",MAX(A$1:A38)+1)","v":""},{"$f":"IF('Process_&_CMS_Identification'!C61=\"\",\"\",'Process_&_CMS_Identification'!C61)","v":""},"",{"$f":"IF(COUNTIF(B$2:B39,B39)=1,B39,\"\")","v":""},{"$nulls":6},{"$f":"+IF(N39=\"\",\"\",MAX(K$1:K38)+1)","v":""},{"$f":"IF('Process_&_CMS_Identification'!D61=\"\",\"\",'Process_&_CMS_Identification'!D61)","v":""},"",{"$f":"IF(COUNTIF(L$2:L39,L39)=1,L39,\"\")","v":""},{"$nulls":5},{"$f":"+IF(X39=\"\",\"\",MAX(T$1:T38)+1)","v":""},{"$f":"IF('No CMS - Deviation - Limits'!B61=\"\",\"\",'No CMS - Deviation - Limits'!B61)","v":""},{"$f":"IF('No CMS - Deviation - Limits'!C61=\"\",\"\",'No CMS - Deviation - Limits'!C61)","v":""},"",{"$f":"IF(COUNTIF(V$2:V39,V39)=1,V39,\"\")","v":""},"","",{"$f":"+IFERROR(INDEX(#REF!,MATCH(ROW()-ROW($Y$1),T$2:T$955,0)),\"\")","v":""},null,{"$f":"+IF(AG39=\"\",\"\",MAX(AC$1:AC38)+1)","v":""},{"$f":"IF('Using CMS - Deviation - Limits'!B61=\"\",\"\",'Using CMS - Deviation - Limits'!B61)","v":""},{"$f":"IF('Using CMS - Deviation - Limits'!C61=\"\",\"\",'Using CMS - Deviation - Limits'!C61)","v":""},"",{"$f":"IF(COUNTIF(AF$2:AF39,AF39)=1,AF39,\"\")","v":""},"","",{"$f":"+IFERROR(INDEX(#REF!,MATCH(ROW()-ROW(AG$1),AC$2:AC$955,0)),\"\")","v":""},null,"NY",null,{"$f":"+IF(AS39=\"\",\"\",MAX(AN$1:AN38)+1)","v":""},{"$f":"IF('Using CMS - Inop_OoC - CMS'!B61=\"\",\"\",'Using CMS - Inop_OoC - CMS'!B61)","v":""},{"$f":"IF('Using CMS - Inop_OoC - CMS'!C61=\"\",\"\",'Using CMS - Inop_OoC - CMS'!C61)","v":""},{"$f":"IF('Using CMS - Inop_OoC - CMS'!D61=\"\",\"\",'Using CMS - Inop_OoC - CMS'!D61)","v":""},{"$f":"AO39&AP39&Table10[[#This Row],[CMS]]","v":""},{"$f":"IF(COUNTIF(AR$2:AR39,AR39)=1,AR39,\"\")","v":""},"","","",null,{"$f":"+IF(BB39=\"\",\"\",MAX(AX$1:AX38)+1)","v":""},{"$f":"IF('Using CMS - Deviation - Limits'!B61=\"\",\"\",'Using CMS - Deviation - Limits'!B61)","v":""},{"$f":"IF('Using CMS - Deviation - Limits'!C61=\"\",\"\",'Using CMS - Deviation - Limits'!C61)","v":""},{"$f":"AY39&AZ39&Table10[[#This Row],[CMS]]","v":""},{"$f":"IF(COUNTIF(BA$2:BA39,BA39)=1,BA39,\"\")","v":""},"","",{"$f":"+IFERROR(INDEX(#REF!,MATCH(ROW()-ROW(BC$1),AX$2:AX$955,0)),\"\")","v":""}]
[{"$f":"+IF(D40=\"\",\"\",MAX(A$1:A39)+1)","v":""},{"$f":"IF('Process_&_CMS_Identification'!C62=\"\",\"\",'Process_&_CMS_Identification'!C62)","v":""},"",{"$f":"IF(COUNTIF(B$2:B40,B40)=1,B40,\"\")","v":""},{"$nulls":6},{"$f":"+IF(N40=\"\",\"\",MAX(K$1:K39)+1)","v":""},{"$f":"IF('Process_&_CMS_Identification'!D62=\"\",\"\",'Process_&_CMS_Identification'!D62)","v":""},"",{"$f":"IF(COUNTIF(L$2:L40,L40)=1,L40,\"\")","v":""},{"$nulls":5},{"$f":"+IF(X40=\"\",\"\",MAX(T$1:T39)+1)","v":""},{"$f":"IF('No CMS - Deviation - Limits'!B62=\"\",\"\",'No CMS - Deviation - Limits'!B62)","v":""},{"$f":"IF('No CMS - Deviation - Limits'!C62=\"\",\"\",'No CMS - Deviation - Limits'!C62)","v":""},"",{"$f":"IF(COUNTIF(V$2:V40,V40)=1,V40,\"\")","v":""},"","",{"$f":"+IFERROR(INDEX(#REF!,MATCH(ROW()-ROW($Y$1),T$2:T$955,0)),\"\")","v":""},null,{"$f":"+IF(AG40=\"\",\"\",MAX(AC$1:AC39)+1)","v":""},{"$f":"IF('Using CMS - Deviation - Limits'!B62=\"\",\"\",'Using CMS - Deviation - Limits'!B62)","v":""},{"$f":"IF('Using CMS - Deviation - Limits'!C62=\"\",\"\",'Using CMS - Deviation - Limits'!C62)","v":""},"",{"$f":"IF(COUNTIF(AF$2:AF40,AF40)=1,AF40,\"\")","v":""},"","",{"$f":"+IFERROR(INDEX(#REF!,MATCH(ROW()-ROW(AG$1),AC$2:AC$955,0)),\"\")","v":""},null,"OH",null,{"$f":"+IF(AS40=\"\",\"\",MAX(AN$1:AN39)+1)","v":""},{"$f":"IF('Using CMS - Inop_OoC - CMS'!B62=\"\",\"\",'Using CMS - Inop_OoC - CMS'!B62)","v":""},{"$f":"IF('Using CMS - Inop_OoC - CMS'!C62=\"\",\"\",'Using CMS - Inop_OoC - CMS'!C62)","v":""},{"$f":"IF('Using CMS - Inop_OoC - CMS'!D62=\"\",\"\",'Using CMS - Inop_OoC - CMS'!D62)","v":""},{"$f":"AO40&AP40&Table10[[#This Row],[CMS]]","v":""},{"$f":"IF(COUNTIF(AR$2:AR40,AR40)=1,AR40,\"\")","v":""},"","","",null,{"$f":"+IF(BB40=\"\",\"\",MAX(AX$1:AX39)+1)","v":""},{"$f":"IF('Using CMS - Deviation - Limits'!B62=\"\",\"\",'Using CMS - Deviation - Limits'!B62)","v":""},{"$f":"IF('Using CMS - Deviation - Limits'!C62=\"\",\"\",'Using CMS - Deviation - Limits'!C62)","v":""},{"$f":"AY40&AZ40&Table10[[#This Row],[CMS]]","v":""},{"$f":"IF(COUNTIF(BA$2:BA40,BA40)=1,BA40,\"\")","v":""},"","",{"$f":"+IFERROR(INDEX(#REF!,MATCH(ROW()-ROW(BC$1),AX$2:AX$955,0)),\"\")","v":""}]
[{"$f":"+IF(D41=\"\",\"\",MAX(A$1:A40)+1)","v":""},{"$f":"IF('Process_&_CMS_Identification'!C63=\"\",\"\",'Process_&_CMS_Identification'!C63)","v":""},"",{"$f":"IF(COUNTIF(B$2:B41,B41)=1,B41,\"\")","v":""},{"$nulls":6},{"$f":"+IF(N41=\"\",\"\",MAX(K$1:K40)+1)","v":""},{"$f":"IF('Process_&_CMS_Identification'!D63=\"\",\"\",'Process_&_CMS_Identification'!D63)","v":""},"",{"$f":"IF(COUNTIF(L$2:L41,L41)=1,L41,\"\")","v":""},{"$nulls":5},{"$f":"+IF(X41=\"\",\"\",MAX(T$1:T40)+1)","v":""},{"$f":"IF('No CMS - Deviation - Limits'!B63=\"\",\"\",'No CMS - Deviation - Limits'!B63)","v":""},{"$f":"IF('No CMS - Deviation - Limits'!C63=\"\",\"\",'No CMS - Deviation - Limits'!C63)","v":""},"",{"$f":"IF(COUNTIF(V$2:V41,V41)=1,V41,\"\")","v":""},"","",{"$f":"+IFERROR(INDEX(#REF!,MATCH(ROW()-ROW($Y$1),T$2:T$955,0)),\"\")","v":""},null,{"$f":"+IF(AG41=\"\",\"\",MAX(AC$1:AC40)+1)","v":""},{"$f":"IF('Using CMS - Deviation - Limits'!B63=\"\",\"\",'Using CMS - Deviation - Limits'!B63)","v":""},{"$f":"IF('Using CMS - Deviation - Limits'!C63=\"\",\"\",'Using CMS - Deviation - Limits'!C63)","v":""},"",{"$f":"IF(COUNTIF(AF$2:AF41,AF41)=1,AF41,\"\")","v":""},"","",{"$f":"+IFERROR(INDEX(#REF!,MATCH(ROW()-ROW(AG$1),AC$2:AC$955,0)),\"\")","v":""},null,"OK",null,{"$f":"+IF(AS41=\"\",\"\",MAX(AN$1:AN40)+1)","v":""},{"$f":"IF('Using CMS - Inop_OoC - CMS'!B63=\"\",\"\",'Using CMS - Inop_OoC - CMS'!B63)","v":""},{"$f":"IF('Using CMS - Inop_OoC - CMS'!C63=\"\",\"\",'Using CMS - Inop_OoC - CMS'!C63)","v":""},{"$f":"IF('Using CMS - Inop_OoC - CMS'!D63=\"\",\"\",'Using CMS - Inop_OoC - CMS'!D63)","v":""},{"$f":"AO41&AP41&Table10[[#This Row],[CMS]]","v":""},{"$f":"IF(COUNTIF(AR$2:AR41,AR41)=1,AR41,\"\")","v":""},"","","",null,{"$f":"+IF(BB41=\"\",\"\",MAX(AX$1:AX40)+1)","v":""},{"$f":"IF('Using CMS - Deviation - Limits'!B63=\"\",\"\",'Using CMS - Deviation - Limits'!B63)","v":""},{"$f":"IF('Using CMS - Deviation - Limits'!C63=\"\",\"\",'Using CMS - Deviation - Limits'!C63)","v":""},{"$f":"AY41&AZ41&Table10[[#This Row],[CMS]]","v":""},{"$f":"IF(COUNTIF(BA$2:BA41,BA41)=1,BA41,\"\")","v":""},"","",{"$f":"+IFERROR(INDEX(#REF!,MATCH(ROW()-ROW(BC$1),AX$2:AX$955,0)),\"\")","v":""}]
[{"$f":"+IF(D42=\"\",\"\",MAX(A$1:A41)+1)","v":""},{"$f":"IF('Process_&_CMS_Identification'!C64=\"\",\"\",'Process_&_CMS_Identification'!C64)","v":""},"",{"$f":"IF(COUNTIF(B$2:B42,B42)=1,B42,\"\")","v":""},{"$nulls":6},{"$f":"+IF(N42=\"\",\"\",MAX(K$1:K41)+1)","v":""},{"$f":"IF('Process_&_CMS_Identification'!D64=\"\",\"\",'Process_&_CMS_Identification'!D64)","v":""},"",{"$f":"IF(COUNTIF(L$2:L42,L42)=1,L42,\"\")","v":""},{"$nulls":5},{"$f":"+IF(X42=\"\",\"\",MAX(T$1:T41)+1)","v":""},{"$f":"IF('No CMS - Deviation - Limits'!B64=\"\",\"\",'No CMS - Deviation - Limits'!B64)","v":""},{"$f":"IF('No CMS - Deviation - Limits'!C64=\"\",\"\",'No CMS - Deviation - Limits'!C64)","v":""},"",{"$f":"IF(COUNTIF(V$2:V42,V42)=1,V42,\"\")","v":""},"","",{"$f":"+IFERROR(INDEX(#REF!,MATCH(ROW()-ROW($Y$1),T$2:T$955,0)),\"\")","v":""},null,{"$f":"+IF(AG42=\"\",\"\",MAX(AC$1:AC41)+1)","v":""},{"$f":"IF('Using CMS - Deviation - Limits'!B64=\"\",\"\",'Using CMS - Deviation - Limits'!B64)","v":""},{"$f":"IF('Using CMS - Deviation - Limits'!C64=\"\",\"\",'Using CMS - Deviation - Limits'!C64)","v":""},"",{"$f":"IF(COUNTIF(AF$2:AF42,AF42)=1,AF42,\"\")","v":""},"","",{"$f":"+IFERROR(INDEX(#REF!,MATCH(ROW()-ROW(AG$1),AC$2:AC$955,0)),\"\")","v":""},null,"OR",null,{"$f":"+IF(AS42=\"\",\"\",MAX(AN$1:AN41)+1)","v":""},{"$f":"IF('Using CMS - Inop_OoC - CMS'!B64=\"\",\"\",'Using CMS - Inop_OoC - CMS'!B64)","v":""},{"$f":"IF('Using CMS - Inop_OoC - CMS'!C64=\"\",\"\",'Using CMS - Inop_OoC - CMS'!C64)","v":""},{"$f":"IF('Using CMS - Inop_OoC - CMS'!D64=\"\",\"\",'Using CMS - Inop_OoC - CMS'!D64)","v":""},{"$f":"AO42&AP42&Table10[[#This Row],[CMS]]","v":""},{"$f":"IF(COUNTIF(AR$2:AR42,AR42)=1,AR42,\"\")","v":""},"","","",null,{"$f":"+IF(BB42=\"\",\"\",MAX(AX$1:AX41)+1)","v":""},{"$f":"IF('Using CMS - Deviation - Limits'!B64=\"\",\"\",'Using CMS - Deviation - Limits'!B64)","v":""},{"$f":"IF('Using CMS - Deviation - Limits'!C64=\"\",\"\",'Using CMS - Deviation - Limits'!C64)","v":""},{"$f":"AY42&AZ42&Table10[[#This Row],[CMS]]","v":""},{"$f":"IF(COUNTIF(BA$2:BA42,BA42)=1,BA42,\"\")","v":""},"","",{"$f":"+IFERROR(INDEX(#REF!,MATCH(ROW()-ROW(BC$1),AX$2:AX$955,0)),\"\")","v":""}]
[{"$f":"+IF(D43=\"\",\"\",MAX(A$1:A42)+1)","v":""},{"$f":"IF('Process_&_CMS_Identification'!C65=\"\",\"\",'Process_&_CMS_Identification'!C65)","v":""},"",{"$f":"IF(COUNTIF(B$2:B43,B43)=1,B43,\"\")","v":""},{"$nulls":6},{"$f":"+IF(N43=\"\",\"\",MAX(K$1:K42)+1)","v":""},{"$f":"IF('Process_&_CMS_Identification'!D65=\"\",\"\",'Process_&_CMS_Identification'!D65)","v":""},"",{"$f":"IF(COUNTIF(L$2:L43,L43)=1,L43,\"\")","v":""},{"$nulls":5},{"$f":"+IF(X43=\"\",\"\",MAX(T$1:T42)+1)","v":""},{"$f":"IF('No CMS - Deviation - Limits'!B65=\"\",\"\",'No CMS - Deviation - Limits'!B65)","v":""},{"$f":"IF('No CMS - Deviation - Limits'!C65=\"\",\"\",'No CMS - Deviation - Limits'!C65)","v":""},"",{"$f":"IF(COUNTIF(V$2:V43,V43)=1,V43,\"\")","v":""},"","",{"$f":"+IFERROR(INDEX(#REF!,MATCH(ROW()-ROW($Y$1),T$2:T$955,0)),\"\")","v":""},null,{"$f":"+IF(AG43=\"\",\"\",MAX(AC$1:AC42)+1)","v":""},{"$f":"IF('Using CMS - Deviation - Limits'!B65=\"\",\"\",'Using CMS - Deviation - Limits'!B65)","v":""},{"$f":"IF('Using CMS - Deviation - Limits'!C65=\"\",\"\",'Using CMS - Deviation - Limits'!C65)","v":""},"",{"$f":"IF(COUNTIF(AF$2:AF43,AF43)=1,AF43,\"\")","v":""},"","",{"$f":"+IFERROR(INDEX(#REF!,MATCH(ROW()-ROW(AG$1),AC$2:AC$955,0)),\"\")","v":""},null,"PA",null,{"$f":"+IF(AS43=\"\",\"\",MAX(AN$1:AN42)+1)","v":""},{"$f":"IF('Using CMS - Inop_OoC - CMS'!B65=\"\",\"\",'Using CMS - Inop_OoC - CMS'!B65)","v":""},{"$f":"IF('Using CMS - Inop_OoC - CMS'!C65=\"\",\"\",'Using CMS - Inop_OoC - CMS'!C65)","v":""},{"$f":"IF('Using CMS - Inop_OoC - CMS'!D65=\"\",\"\",'Using CMS - Inop_OoC - CMS'!D65)","v":""},{"$f":"AO43&AP43&Table10[[#This Row],[CMS]]","v":""},{"$f":"IF(COUNTIF(AR$2:AR43,AR43)=1,AR43,\"\")","v":""},"","","",null,{"$f":"+IF(BB43=\"\",\"\",MAX(AX$1:AX42)+1)","v":""},{"$f":"IF('Using CMS - Deviation - Limits'!B65=\"\",\"\",'Using CMS - Deviation - Limits'!B65)","v":""},{"$f":"IF('Using CMS - Deviation - Limits'!C65=\"\",\"\",'Using CMS - Deviation - Limits'!C65)","v":""},{"$f":"AY43&AZ43&Table10[[#This Row],[CMS]]","v":""},{"$f":"IF(COUNTIF(BA$2:BA43,BA43)=1,BA43,\"\")","v":""},"","",{"$f":"+IFERROR(INDEX(#REF!,MATCH(ROW()-ROW(BC$1),AX$2:AX$955,0)),\"\")","v":""}]
[{"$f":"+IF(D44=\"\",\"\",MAX(A$1:A43)+1)","v":""},{"$f":"IF('Process_&_CMS_Identification'!C66=\"\",\"\",'Process_&_CMS_Identification'!C66)","v":""},"",{"$f":"IF(COUNTIF(B$2:B44,B44)=1,B44,\"\")","v":""},{"$nulls":6},{"$f":"+IF(N44=\"\",\"\",MAX(K$1:K43)+1)","v":""},{"$f":"IF('Process_&_CMS_Identification'!D66=\"\",\"\",'Process_&_CMS_Identification'!D66)","v":""},"",{"$f":"IF(COUNTIF(L$2:L44,L44)=1,L44,\"\")","v":""},{"$nulls":5},{"$f":"+IF(X44=\"\",\"\",MAX(T$1:T43)+1)","v":""},{"$f":"IF('No CMS - Deviation - Limits'!B66=\"\",\"\",'No CMS - Deviation - Limits'!B66)","v":""},{"$f":"IF('No CMS - Deviation - Limits'!C66=\"\",\"\",'No CMS - Deviation - Limits'!C66)","v":""},"",{"$f":"IF(COUNTIF(V$2:V44,V44)=1,V44,\"\")","v":""},"","",{"$f":"+IFERROR(INDEX(#REF!,MATCH(ROW()-ROW($Y$1),T$2:T$955,0)),\"\")","v":""},null,{"$f":"+IF(AG44=\"\",\"\",MAX(AC$1:AC43)+1)","v":""},{"$f":"IF('Using CMS - Deviation - Limits'!B66=\"\",\"\",'Using CMS - Deviation - Limits'!B66)","v":""},{"$f":"IF('Using CMS - Deviation - Limits'!C66=\"\",\"\",'Using CMS - Deviation - Limits'!C66)","v":""},"",{"$f":"IF(COUNTIF(AF$2:AF44,AF44)=1,AF44,\"\")","v":""},"","",{"$f":"+IFERROR(INDEX(#REF!,MATCH(ROW()-ROW(AG$1),AC$2:AC$955,0)),\"\")","v":""},null,"PR",null,{"$f":"+IF(AS44=\"\",\"\",MAX(AN$1:AN43)+1)","v":""},{"$f":"IF('Using CMS - Inop_OoC - CMS'!B66=\"\",\"\",'Using CMS - Inop_OoC - CMS'!B66)","v":""},{"$f":"IF('Using CMS - Inop_OoC - CMS'!C66=\"\",\"\",'Using CMS - Inop_OoC - CMS'!C66)","v":""},{"$f":"IF('Using CMS - Inop_OoC - CMS'!D66=\"\",\"\",'Using CMS - Inop_OoC - CMS'!D66)","v":""},{"$f":"AO44&AP44&Table10[[#This Row],[CMS]]","v":""},{"$f":"IF(COUNTIF(AR$2:AR44,AR44)=1,AR44,\"\")","v":""},"","","",null,{"$f":"+IF(BB44=\"\",\"\",MAX(AX$1:AX43)+1)","v":""},{"$f":"IF('Using CMS - Deviation - Limits'!B66=\"\",\"\",'Using CMS - Deviation - Limits'!B66)","v":""},{"$f":"IF('Using CMS - Deviation - Limits'!C66=\"\",\"\",'Using CMS - Deviation - Limits'!C66)","v":""},{"$f":"AY44&AZ44&Table10[[#This Row],[CMS]]","v":""},{"$f":"IF(COUNTIF(BA$2:BA44,BA44)=1,BA44,\"\")","v":""},"","",{"$f":"+IFERROR(INDEX(#REF!,MATCH(ROW()-ROW(BC$1),AX$2:AX$955,0)),\"\")","v":""}]
[{"$f":"+IF(D45=\"\",\"\",MAX(A$1:A44)+1)","v":""},{"$f":"IF('Process_&_CMS_Identification'!C67=\"\",\"\",'Process_&_CMS_Identification'!C67)","v":""},"",{"$f":"IF(COUNTIF(B$2:B45,B45)=1,B45,\"\")","v":""},{"$nulls":6},{"$f":"+IF(N45=\"\",\"\",MAX(K$1:K44)+1)","v":""},{"$f":"IF('Process_&_CMS_Identification'!D67=\"\",\"\",'Process_&_CMS_Identification'!D67)","v":""},"",{"$f":"IF(COUNTIF(L$2:L45,L45)=1,L45,\"\")","v":""},{"$nulls":5},{"$f":"+IF(X45=\"\",\"\",MAX(T$1:T44)+1)","v":""},{"$f":"IF('No CMS - Deviation - Limits'!B67=\"\",\"\",'No CMS - Deviation - Limits'!B67)","v":""},{"$f":"IF('No CMS - Deviation - Limits'!C67=\"\",\"\",'No CMS - Deviation - Limits'!C67)","v":""},"",{"$f":"IF(COUNTIF(V$2:V45,V45)=1,V45,\"\")","v":""},"","",{"$f":"+IFERROR(INDEX(#REF!,MATCH(ROW()-ROW($Y$1),T$2:T$955,0)),\"\")","v":""},null,{"$f":"+IF(AG45=\"\",\"\",MAX(AC$1:AC44)+1)","v":""},{"$f":"IF('Using CMS - Deviation - Limits'!B67=\"\",\"\",'Using CMS - Deviation - Limits'!B67)","v":""},{"$f":"IF('Using CMS - Deviation - Limits'!C67=\"\",\"\",'Using CMS - Deviation - Limits'!C67)","v":""},"",{"$f":"IF(COUNTIF(AF$2:AF45,AF45)=1,AF45,\"\")","v":""},"","",{"$f":"+IFERROR(INDEX(#REF!,MATCH(ROW()-ROW(AG$1),AC$2:AC$955,0)),\"\")","v":""},null,"RI",null,{"$f":"+IF(AS45=\"\",\"\",MAX(AN$1:AN44)+1)","v":""},{"$f":"IF('Using CMS - Inop_OoC - CMS'!B67=\"\",\"\",'Using CMS - Inop_OoC - CMS'!B67)","v":""},{"$f":"IF('Using CMS - Inop_OoC - CMS'!C67=\"\",\"\",'Using CMS - Inop_OoC - CMS'!C67)","v":""},{"$f":"IF('Using CMS - Inop_OoC - CMS'!D67=\"\",\"\",'Using CMS - Inop_OoC - CMS'!D67)","v":""},{"$f":"AO45&AP45&Table10[[#This Row],[CMS]]","v":""},{"$f":"IF(COUNTIF(AR$2:AR45,AR45)=1,AR45,\"\")","v":""},"","","",null,{"$f":"+IF(BB45=\"\",\"\",MAX(AX$1:AX44)+1)","v":""},{"$f":"IF('Using CMS - Deviation - Limits'!B67=\"\",\"\",'Using CMS - Deviation - Limits'!B67)","v":""},{"$f":"IF('Using CMS - Deviation - Limits'!C67=\"\",\"\",'Using CMS - Deviation - Limits'!C67)","v":""},{"$f":"AY45&AZ45&Table10[[#This Row],[CMS]]","v":""},{"$f":"IF(COUNTIF(BA$2:BA45,BA45)=1,BA45,\"\")","v":""},"","",{"$f":"+IFERROR(INDEX(#REF!,MATCH(ROW()-ROW(BC$1),AX$2:AX$955,0)),\"\")","v":""}]
[{"$f":"+IF(D46=\"\",\"\",MAX(A$1:A45)+1)","v":""},{"$f":"IF('Process_&_CMS_Identification'!C68=\"\",\"\",'Process_&_CMS_Identification'!C68)","v":""},"",{"$f":"IF(COUNTIF(B$2:B46,B46)=1,B46,\"\")","v":""},{"$nulls":6},{"$f":"+IF(N46=\"\",\"\",MAX(K$1:K45)+1)","v":""},{"$f":"IF('Process_&_CMS_Identification'!D68=\"\",\"\",'Process_&_CMS_Identification'!D68)","v":""},"",{"$f":"IF(COUNTIF(L$2:L46,L46)=1,L46,\"\")","v":""},{"$nulls":5},{"$f":"+IF(X46=\"\",\"\",MAX(T$1:T45)+1)","v":""},{"$f":"IF('No CMS - Deviation - Limits'!B68=\"\",\"\",'No CMS - Deviation - Limits'!B68)","v":""},{"$f":"IF('No CMS - Deviation - Limits'!C68=\"\",\"\",'No CMS - Deviation - Limits'!C68)","v":""},"",{"$f":"IF(COUNTIF(V$2:V46,V46)=1,V46,\"\")","v":""},"","",{"$f":"+IFERROR(INDEX(#REF!,MATCH(ROW()-ROW($Y$1),T$2:T$955,0)),\"\")","v":""},null,{"$f":"+IF(AG46=\"\",\"\",MAX(AC$1:AC45)+1)","v":""},{"$f":"IF('Using CMS - Deviation - Limits'!B68=\"\",\"\",'Using CMS - Deviation - Limits'!B68)","v":""},{"$f":"IF('Using CMS - Deviation - Limits'!C68=\"\",\"\",'Using CMS - Deviation - Limits'!C68)","v":""},"",{"$f":"IF(COUNTIF(AF$2:AF46,AF46)=1,AF46,\"\")","v":""},"","",{"$f":"+IFERROR(INDEX(#REF!,MATCH(ROW()-ROW(AG$1),AC$2:AC$955,0)),\"\")","v":""},null,"SC",null,{"$f":"+IF(AS46=\"\",\"\",MAX(AN$1:AN45)+1)","v":""},{"$f":"IF('Using CMS - Inop_OoC - CMS'!B68=\"\",\"\",'Using CMS - Inop_OoC - CMS'!B68)","v":""},{"$f":"IF('Using CMS - Inop_OoC - CMS'!C68=\"\",\"\",'Using CMS - Inop_OoC - CMS'!C68)","v":""},{"$f":"IF('Using CMS - Inop_OoC - CMS'!D68=\"\",\"\",'Using CMS - Inop_OoC - CMS'!D68)","v":""},{"$f":"AO46&AP46&Table10[[#This Row],[CMS]]","v":""},{"$f":"IF(COUNTIF(AR$2:AR46,AR46)=1,AR46,\"\")","v":""},"","","",null,{"$f":"+IF(BB46=\"\",\"\",MAX(AX$1:AX45)+1)","v":""},{"$f":"IF('Using CMS - Deviation - Limits'!B68=\"\",\"\",'Using CMS - Deviation - Limits'!B68)","v":""},{"$f":"IF('Using CMS - Deviation - Limits'!C68=\"\",\"\",'Using CMS - Deviation - Limits'!C68)","v":""},{"$f":"AY46&AZ46&Table10[[#This Row],[CMS]]","v":""},{"$f":"IF(COUNTIF(BA$2:BA46,BA46)=1,BA46,\"\")","v":""},"","",{"$f":"+IFERROR(INDEX(#REF!,MATCH(ROW()-ROW(BC$1),AX$2:AX$955,0)),\"\")","v":""}]
[{"$f":"+IF(D47=\"\",\"\",MAX(A$1:A46)+1)","v":""},{"$f":"IF('Process_&_CMS_Identification'!C69=\"\",\"\",'Process_&_CMS_Identification'!C69)","v":""},"",{"$f":"IF(COUNTIF(B$2:B47,B47)=1,B47,\"\")","v":""},{"$nulls":6},{"$f":"+IF(N47=\"\",\"\",MAX(K$1:K46)+1)","v":""},{"$f":"IF('Process_&_CMS_Identification'!D69=\"\",\"\",'Process_&_CMS_Identification'!D69)","v":""},"",{"$f":"IF(COUNTIF(L$2:L47,L47)=1,L47,\"\")","v":""},{"$nulls":5},{"$f":"+IF(X47=\"\",\"\",MAX(T$1:T46)+1)","v":""},{"$f":"IF('No CMS - Deviation - Limits'!B69=\"\",\"\",'No CMS - Deviation - Limits'!B69)","v":""},{"$f":"IF('No CMS - Deviation - Limits'!C69=\"\",\"\",'No CMS - Deviation - Limits'!C69)","v":""},"",{"$f":"IF(COUNTIF(V$2:V47,V47)=1,V47,\"\")","v":""},"","",{"$f":"+IFERROR(INDEX(#REF!,MATCH(ROW()-ROW($Y$1),T$2:T$955,0)),\"\")","v":""},null,{"$f":"+IF(AG47=\"\",\"\",MAX(AC$1:AC46)+1)","v":""},{"$f":"IF('Using CMS - Deviation - Limits'!B69=\"\",\"\",'Using CMS - Deviation - Limits'!B69)","v":""},{"$f":"IF('Using CMS - Deviation - Limits'!C69=\"\",\"\",'Using CMS - Deviation - Limits'!C69)","v":""},"",{"$f":"IF(COUNTIF(AF$2:AF47,AF47)=1,AF47,\"\")","v":""},"","",{"$f":"+IFERROR(INDEX(#REF!,MATCH(ROW()-ROW(AG$1),AC$2:AC$955,0)),\"\")","v":""},null,"SD",null,{"$f":"+IF(AS47=\"\",\"\",MAX(AN$1:AN46)+1)","v":""},{"$f":"IF('Using CMS - Inop_OoC - CMS'!B69=\"\",\"\",'Using CMS - Inop_OoC - CMS'!B69)","v":""},{"$f":"IF('Using CMS - Inop_OoC - CMS'!C69=\"\",\"\",'Using CMS - Inop_OoC - CMS'!C69)","v":""},{"$f":"IF('Using CMS - Inop_OoC - CMS'!D69=\"\",\"\",'Using CMS - Inop_OoC - CMS'!D69)","v":""},{"$f":"AO47&AP47&Table10[[#This Row],[CMS]]","v":""},{"$f":"IF(COUNTIF(AR$2:AR47,AR47)=1,AR47,\"\")","v":""},"","","",null,{"$f":"+IF(BB47=\"\",\"\",MAX(AX$1:AX46)+1)","v":""},{"$f":"IF('Using CMS - Deviation - Limits'!B69=\"\",\"\",'Using CMS - Deviation - Limits'!B69)","v":""},{"$f":"IF('Using CMS - Deviation - Limits'!C69=\"\",\"\",'Using CMS - Deviation - Limits'!C69)","v":""},{"$f":"AY47&AZ47&Table10[[#This Row],[CMS]]","v":""},{"$f":"IF(COUNTIF(BA$2:BA47,BA47)=1,BA47,\"\")","v":""},"","",{"$f":"+IFERROR(INDEX(#REF!,MATCH(ROW()-ROW(BC$1),AX$2:AX$955,0)),\"\")","v":""}]
[{"$f":"+IF(D48=\"\",\"\",MAX(A$1:A47)+1)","v":""},{"$f":"IF('Process_&_CMS_Identification'!C70=\"\",\"\",'Process_&_CMS_Identification'!C70)","v":""},"",{"$f":"IF(COUNTIF(B$2:B48,B48)=1,B48,\"\")","v":""},{"$nulls":6},{"$f":"+IF(N48=\"\",\"\",MAX(K$1:K47)+1)","v":""},{"$f":"IF('Process_&_CMS_Identification'!D70=\"\",\"\",'Process_&_CMS_Identification'!D70)","v":""},"",{"$f":"IF(COUNTIF(L$2:L48,L48)=1,L48,\"\")","v":""},{"$nulls":5},{"$f":"+IF(X48=\"\",\"\",MAX(T$1:T47)+1)","v":""},{"$f":"IF('No CMS - Deviation - Limits'!B70=\"\",\"\",'No CMS - Deviation - Limits'!B70)","v":""},{"$f":"IF('No CMS - Deviation - Limits'!C70=\"\",\"\",'No CMS - Deviation - Limits'!C70)","v":""},"",{"$f":"IF(COUNTIF(V$2:V48,V48)=1,V48,\"\")","v":""},"","",{"$f":"+IFERROR(INDEX(#REF!,MATCH(ROW()-ROW($Y$1),T$2:T$955,0)),\"\")","v":""},null,{"$f":"+IF(AG48=\"\",\"\",MAX(AC$1:AC47)+1)","v":""},{"$f":"IF('Using CMS - Deviation - Limits'!B70=\"\",\"\",'Using CMS - Deviation - Limits'!B70)","v":""},{"$f":"IF('Using CMS - Deviation - Limits'!C70=\"\",\"\",'Using CMS - Deviation - Limits'!C70)","v":""},"",{"$f":"IF(COUNTIF(AF$2:AF48,AF48)=1,AF48,\"\")","v":""},"","",{"$f":"+IFERROR(INDEX(#REF!,MATCH(ROW()-ROW(AG$1),AC$2:AC$955,0)),\"\")","v":""},null,"TN",null,{"$f":"+IF(AS48=\"\",\"\",MAX(AN$1:AN47)+1)","v":""},{"$f":"IF('Using CMS - Inop_OoC - CMS'!B70=\"\",\"\",'Using CMS - Inop_OoC - CMS'!B70)","v":""},{"$f":"IF('Using CMS - Inop_OoC - CMS'!C70=\"\",\"\",'Using CMS - Inop_OoC - CMS'!C70)","v":""},{"$f":"IF('Using CMS - Inop_OoC - CMS'!D70=\"\",\"\",'Using CMS - Inop_OoC - CMS'!D70)","v":""},{"$f":"AO48&AP48&Table10[[#This Row],[CMS]]","v":""},{"$f":"IF(COUNTIF(AR$2:AR48,AR48)=1,AR48,\"\")","v":""},"","","",null,{"$f":"+IF(BB48=\"\",\"\",MAX(AX$1:AX47)+1)","v":""},{"$f":"IF('Using CMS - Deviation - Limits'!B70=\"\",\"\",'Using CMS - Deviation - Limits'!B70)","v":""},{"$f":"IF('Using CMS - Deviation - Limits'!C70=\"\",\"\",'Using CMS - Deviation - Limits'!C70)","v":""},{"$f":"AY48&AZ48&Table10[[#This Row],[CMS]]","v":""},{"$f":"IF(COUNTIF(BA$2:BA48,BA48)=1,BA48,\"\")","v":""},"","",{"$f":"+IFERROR(INDEX(#REF!,MATCH(ROW()-ROW(BC$1),AX$2:AX$955,0)),\"\")","v":""}]
[{"$f":"+IF(D49=\"\",\"\",MAX(A$1:A48)+1)","v":""},{"$f":"IF('Process_&_CMS_Identification'!C71=\"\",\"\",'Process_&_CMS_Identification'!C71)","v":""},"",{"$f":"IF(COUNTIF(B$2:B49,B49)=1,B49,\"\")","v":""},{"$nulls":6},{"$f":"+IF(N49=\"\",\"\",MAX(K$1:K48)+1)","v":""},{"$f":"IF('Process_&_CMS_Identification'!D71=\"\",\"\",'Process_&_CMS_Identification'!D71)","v":""},"",{"$f":"IF(COUNTIF(L$2:L49,L49)=1,L49,\"\")","v":""},{"$nulls":5},{"$f":"+IF(X49=\"\",\"\",MAX(T$1:T48)+1)","v":""},{"$f":"IF('No CMS - Deviation - Limits'!B71=\"\",\"\",'No CMS - Deviation - Limits'!B71)","v":""},{"$f":"IF('No CMS - Deviation - Limits'!C71=\"\",\"\",'No CMS - Deviation - Limits'!C71)","v":""},"",{"$f":"IF(COUNTIF(V$2:V49,V49)=1,V49,\"\")","v":""},"","",{"$f":"+IFERROR(INDEX(#REF!,MATCH(ROW()-ROW($Y$1),T$2:T$955,0)),\"\")","v":""},null,{"$f":"+IF(AG49=\"\",\"\",MAX(AC$1:AC48)+1)","v":""},{"$f":"IF('Using CMS - Deviation - Limits'!B71=\"\",\"\",'Using CMS - Deviation - Limits'!B71)","v":""},{"$f":"IF('Using CMS - Deviation - Limits'!C71=\"\",\"\",'Using CMS - Deviation - Limits'!C71)","v":""},"",{"$f":"IF(COUNTIF(AF$2:AF49,AF49)=1,AF49,\"\")","v":""},"","",{"$f":"+IFERROR(INDEX(#REF!,MATCH(ROW()-ROW(AG$1),AC$2:AC$955,0)),\"\")","v":""},null,"TX",null,{"$f":"+IF(AS49=\"\",\"\",MAX(AN$1:AN48)+1)","v":""},{"$f":"IF('Using CMS - Inop_OoC - CMS'!B71=\"\",\"\",'Using CMS - Inop_OoC - CMS'!B71)","v":""},{"$f":"IF('Using CMS - Inop_OoC - CMS'!C71=\"\",\"\",'Using CMS - Inop_OoC - CMS'!C71)","v":""},{"$f":"IF('Using CMS - Inop_OoC - CMS'!D71=\"\",\"\",'Using CMS - Inop_OoC - CMS'!D71)","v":""},{"$f":"AO49&AP49&Table10[[#This Row],[CMS]]","v":""},{"$f":"IF(COUNTIF(AR$2:AR49,AR49)=1,AR49,\"\")","v":""},"","","",null,{"$f":"+IF(BB49=\"\",\"\",MAX(AX$1:AX48)+1)","v":""},{"$f":"IF('Using CMS - Deviation - Limits'!B71=\"\",\"\",'Using CMS - Deviation - Limits'!B71)","v":""},{"$f":"IF('Using CMS - Deviation - Limits'!C71=\"\",\"\",'Using CMS - Deviation - Limits'!C71)","v":""},{"$f":"AY49&AZ49&Table10[[#This Row],[CMS]]","v":""},{"$f":"IF(COUNTIF(BA$2:BA49,BA49)=1,BA49,\"\")","v":""},"","",{"$f":"+IFERROR(INDEX(#REF!,MATCH(ROW()-ROW(BC$1),AX$2:AX$955,0)),\"\")","v":""}]
[{"$f":"+IF(D50=\"\",\"\",MAX(A$1:A49)+1)","v":""},{"$f":"IF('Process_&_CMS_Identification'!C72=\"\",\"\",'Process_&_CMS_Identification'!C72)","v":""},"",{"$f":"IF(COUNTIF(B$2:B50,B50)=1,B50,\"\")","v":""},{"$nulls":6},{"$f":"+IF(N50=\"\",\"\",MAX(K$1:K49)+1)","v":""},{"$f":"IF('Process_&_CMS_Identification'!D72=\"\",\"\",'Process_&_CMS_Identification'!D72)","v":""},"",{"$f":"IF(COUNTIF(L$2:L50,L50)=1,L50,\"\")","v":""},{"$nulls":5},{"$f":"+IF(X50=\"\",\"\",MAX(T$1:T49)+1)","v":""},{"$f":"IF('No CMS - Deviation - Limits'!B72=\"\",\"\",'No CMS - Deviation - Limits'!B72)","v":""},{"$f":"IF('No CMS - Deviation - Limits'!C72=\"\",\"\",'No CMS - Deviation - Limits'!C72)","v":""},"",{"$f":"IF(COUNTIF(V$2:V50,V50)=1,V50,\"\")","v":""},"","",{"$f":"+IFERROR(INDEX(#REF!,MATCH(ROW()-ROW($Y$1),T$2:T$955,0)),\"\")","v":""},null,{"$f":"+IF(AG50=\"\",\"\",MAX(AC$1:AC49)+1)","v":""},{"$f":"IF('Using CMS - Deviation - Limits'!B72=\"\",\"\",'Using CMS - Deviation - Limits'!B72)","v":""},{"$f":"IF('Using CMS - Deviation - Limits'!C72=\"\",\"\",'Using CMS - Deviation - Limits'!C72)","v":""},"",{"$f":"IF(COUNTIF(AF$2:AF50,AF50)=1,AF50,\"\")","v":""},"","",{"$f":"+IFERROR(INDEX(#REF!,MATCH(ROW()-ROW(AG$1),AC$2:AC$955,0)),\"\")","v":""},null,"UT",null,{"$f":"+IF(AS50=\"\",\"\",MAX(AN$1:AN49)+1)","v":""},{"$f":"IF('Using CMS - Inop_OoC - CMS'!B72=\"\",\"\",'Using CMS - Inop_OoC - CMS'!B72)","v":""},{"$f":"IF('Using CMS - Inop_OoC - CMS'!C72=\"\",\"\",'Using CMS - Inop_OoC - CMS'!C72)","v":""},{"$f":"IF('Using CMS - Inop_OoC - CMS'!D72=\"\",\"\",'Using CMS - Inop_OoC - CMS'!D72)","v":""},{"$f":"AO50&AP50&Table10[[#This Row],[CMS]]","v":""},{"$f":"IF(COUNTIF(AR$2:AR50,AR50)=1,AR50,\"\")","v":""},"","","",null,{"$f":"+IF(BB50=\"\",\"\",MAX(AX$1:AX49)+1)","v":""},{"$f":"IF('Using CMS - Deviation - Limits'!B72=\"\",\"\",'Using CMS - Deviation - Limits'!B72)","v":""},{"$f":"IF('Using CMS - Deviation - Limits'!C72=\"\",\"\",'Using CMS - Deviation - Limits'!C72)","v":""},{"$f":"AY50&AZ50&Table10[[#This Row],[CMS]]","v":""},{"$f":"IF(COUNTIF(BA$2:BA50,BA50)=1,BA50,\"\")","v":""},"","",{"$f":"+IFERROR(INDEX(#REF!,MATCH(ROW()-ROW(BC$1),AX$2:AX$955,0)),\"\")","v":""}]
[{"$f":"+IF(D51=\"\",\"\",MAX(A$1:A50)+1)","v":""},{"$f":"IF('Process_&_CMS_Identification'!C73=\"\",\"\",'Process_&_CMS_Identification'!C73)","v":""},"",{"$f":"IF(COUNTIF(B$2:B51,B51)=1,B51,\"\")","v":""},{"$nulls":6},{"$f":"+IF(N51=\"\",\"\",MAX(K$1:K50)+1)","v":""},{"$f":"IF('Process_&_CMS_Identification'!D73=\"\",\"\",'Process_&_CMS_Identification'!D73)","v":""},"",{"$f":"IF(COUNTIF(L$2:L51,L51)=1,L51,\"\")","v":""},{"$nulls":5},{"$f":"+IF(X51=\"\",\"\",MAX(T$1:T50)+1)","v":""},{"$f":"IF('No CMS - Deviation - Limits'!B73=\"\",\"\",'No CMS - Deviation - Limits'!B73)","v":""},{"$f":"IF('No CMS - Deviation - Limits'!C73=\"\",\"\",'No CMS - Deviation - Limits'!C73)","v":""},"",{"$f":"IF(COUNTIF(V$2:V51,V51)=1,V51,\"\")","v":""},"","",{"$f":"+IFERROR(INDEX(#REF!,MATCH(ROW()-ROW($Y$1),T$2:T$955,0)),\"\")","v":""},null,{"$f":"+IF(AG51=\"\",\"\",MAX(AC$1:AC50)+1)","v":""},{"$f":"IF('Using CMS - Deviation - Limits'!B73=\"\",\"\",'Using CMS - Deviation - Limits'!B73)","v":""},{"$f":"IF('Using CMS - Deviation - Limits'!C73=\"\",\"\",'Using CMS - Deviation - Limits'!C73)","v":""},"",{"$f":"IF(COUNTIF(AF$2:AF51,AF51)=1,AF51,\"\")","v":""},"","",{"$f":"+IFERROR(INDEX(#REF!,MATCH(ROW()-ROW(AG$1),AC$2:AC$955,0)),\"\")","v":""},null,"VA",null,{"$f":"+IF(AS51=\"\",\"\",MAX(AN$1:AN50)+1)","v":""},{"$f":"IF('Using CMS - Inop_OoC - CMS'!B73=\"\",\"\",'Using CMS - Inop_OoC - CMS'!B73)","v":""},{"$f":"IF('Using CMS - Inop_OoC - CMS'!C73=\"\",\"\",'Using CMS - Inop_OoC - CMS'!C73)","v":""},{"$f":"IF('Using CMS - Inop_OoC - CMS'!D73=\"\",\"\",'Using CMS - Inop_OoC - CMS'!D73)","v":""},{"$f":"AO51&AP51&Table10[[#This Row],[CMS]]","v":""},{"$f":"IF(COUNTIF(AR$2:AR51,AR51)=1,AR51,\"\")","v":""},"","","",null,{"$f":"+IF(BB51=\"\",\"\",MAX(AX$1:AX50)+1)","v":""},{"$f":"IF('Using CMS - Deviation - Limits'!B73=\"\",\"\",'Using CMS - Deviation - Limits'!B73)","v":""},{"$f":"IF('Using CMS - Deviation - Limits'!C73=\"\",\"\",'Using CMS - Deviation - Limits'!C73)","v":""},{"$f":"AY51&AZ51&Table10[[#This Row],[CMS]]","v":""},{"$f":"IF(COUNTIF(BA$2:BA51,BA51)=1,BA51,\"\")","v":""},"","",{"$f":"+IFERROR(INDEX(#REF!,MATCH(ROW()-ROW(BC$1),AX$2:AX$955,0)),\"\")","v":""}]
[{"$f":"+IF(D52=\"\",\"\",MAX(A$1:A51)+1)","v":""},{"$f":"IF('Process_&_CMS_Identification'!C74=\"\",\"\",'Process_&_CMS_Identification'!C74)","v":""},"",{"$f":"IF(COUNTIF(B$2:B52,B52)=1,B52,\"\")","v":""},{"$nulls":6},{"$f":"+IF(N52=\"\",\"\",MAX(K$1:K51)+1)","v":""},{"$f":"IF('Process_&_CMS_Identification'!D74=\"\",\"\",'Process_&_CMS_Identification'!D74)","v":""},"",{"$f":"IF(COUNTIF(L$2:L52,L52)=1,L52,\"\")","v":""},{"$nulls":5},{"$f":"+IF(X52=\"\",\"\",MAX(T$1:T51)+1)","v":""},{"$f":"IF('No CMS - Deviation - Limits'!B74=\"\",\"\",'No CMS - Deviation - Limits'!B74)","v":""},{"$f":"IF('No CMS - Deviation - Limits'!C74=\"\",\"\",'No CMS - Deviation - Limits'!C74)","v":""},"",{"$f":"IF(COUNTIF(V$2:V52,V52)=1,V52,\"\")","v":""},"","",{"$f":"+IFERROR(INDEX(#REF!,MATCH(ROW()-ROW($Y$1),T$2:T$955,0)),\"\")","v":""},null,{"$f":"+IF(AG52=\"\",\"\",MAX(AC$1:AC51)+1)","v":""},{"$f":"IF('Using CMS - Deviation - Limits'!B74=\"\",\"\",'Using CMS - Deviation - Limits'!B74)","v":""},{"$f":"IF('Using CMS - Deviation - Limits'!C74=\"\",\"\",'Using CMS - Deviation - Limits'!C74)","v":""},"",{"$f":"IF(COUNTIF(AF$2:AF52,AF52)=1,AF52,\"\")","v":""},"","",{"$f":"+IFERROR(INDEX(#REF!,MATCH(ROW()-ROW(AG$1),AC$2:AC$955,0)),\"\")","v":""},null,"VI",null,{"$f":"+IF(AS52=\"\",\"\",MAX(AN$1:AN51)+1)","v":""},{"$f":"IF('Using CMS - Inop_OoC - CMS'!B74=\"\",\"\",'Using CMS - Inop_OoC - CMS'!B74)","v":""},{"$f":"IF('Using CMS - Inop_OoC - CMS'!C74=\"\",\"\",'Using CMS - Inop_OoC - CMS'!C74)","v":""},{"$f":"IF('Using CMS - Inop_OoC - CMS'!D74=\"\",\"\",'Using CMS - Inop_OoC - CMS'!D74)","v":""},{"$f":"AO52&AP52&Table10[[#This Row],[CMS]]","v":""},{"$f":"IF(COUNTIF(AR$2:AR52,AR52)=1,AR52,\"\")","v":""},"","","",null,{"$f":"+IF(BB52=\"\",\"\",MAX(AX$1:AX51)+1)","v":""},{"$f":"IF('Using CMS - Deviation - Limits'!B74=\"\",\"\",'Using CMS - Deviation - Limits'!B74)","v":""},{"$f":"IF('Using CMS - Deviation - Limits'!C74=\"\",\"\",'Using CMS - Deviation - Limits'!C74)","v":""},{"$f":"AY52&AZ52&Table10[[#This Row],[CMS]]","v":""},{"$f":"IF(COUNTIF(BA$2:BA52,BA52)=1,BA52,\"\")","v":""},"","",{"$f":"+IFERROR(INDEX(#REF!,MATCH(ROW()-ROW(BC$1),AX$2:AX$955,0)),\"\")","v":""}]
[{"$f":"+IF(D53=\"\",\"\",MAX(A$1:A52)+1)","v":""},{"$f":"IF('Process_&_CMS_Identification'!C75=\"\",\"\",'Process_&_CMS_Identification'!C75)","v":""},"",{"$f":"IF(COUNTIF(B$2:B53,B53)=1,B53,\"\")","v":""},{"$nulls":6},{"$f":"+IF(N53=\"\",\"\",MAX(K$1:K52)+1)","v":""},{"$f":"IF('Process_&_CMS_Identification'!D75=\"\",\"\",'Process_&_CMS_Identification'!D75)","v":""},"",{"$f":"IF(COUNTIF(L$2:L53,L53)=1,L53,\"\")","v":""},{"$nulls":5},{"$f":"+IF(X53=\"\",\"\",MAX(T$1:T52)+1)","v":""},{"$f":"IF('No CMS - Deviation - Limits'!B75=\"\",\"\",'No CMS - Deviation - Limits'!B75)","v":""},{"$f":"IF('No CMS - Deviation - Limits'!C75=\"\",\"\",'No CMS - Deviation - Limits'!C75)","v":""},"",{"$f":"IF(COUNTIF(V$2:V53,V53)=1,V53,\"\")","v":""},"","",{"$f":"+IFERROR(INDEX(#REF!,MATCH(ROW()-ROW($Y$1),T$2:T$955,0)),\"\")","v":""},null,{"$f":"+IF(AG53=\"\",\"\",MAX(AC$1:AC52)+1)","v":""},{"$f":"IF('Using CMS - Deviation - Limits'!B75=\"\",\"\",'Using CMS - Deviation - Limits'!B75)","v":""},{"$f":"IF('Using CMS - Deviation - Limits'!C75=\"\",\"\",'Using CMS - Deviation - Limits'!C75)","v":""},"",{"$f":"IF(COUNTIF(AF$2:AF53,AF53)=1,AF53,\"\")","v":""},"","",{"$f":"+IFERROR(INDEX(#REF!,MATCH(ROW()-ROW(AG$1),AC$2:AC$955,0)),\"\")","v":""},null,"VT",null,{"$f":"+IF(AS53=\"\",\"\",MAX(AN$1:AN52)+1)","v":""},{"$f":"IF('Using CMS - Inop_OoC - CMS'!B75=\"\",\"\",'Using CMS - Inop_OoC - CMS'!B75)","v":""},{"$f":"IF('Using CMS - Inop_OoC - CMS'!C75=\"\",\"\",'Using CMS - Inop_OoC - CMS'!C75)","v":""},{"$f":"IF('Using CMS - Inop_OoC - CMS'!D75=\"\",\"\",'Using CMS - Inop_OoC - CMS'!D75)","v":""},{"$f":"AO53&AP53&Table10[[#This Row],[CMS]]","v":""},{"$f":"IF(COUNTIF(AR$2:AR53,AR53)=1,AR53,\"\")","v":""},"","","",null,{"$f":"+IF(BB53=\"\",\"\",MAX(AX$1:AX52)+1)","v":""},{"$f":"IF('Using CMS - Deviation - Limits'!B75=\"\",\"\",'Using CMS - Deviation - Limits'!B75)","v":""},{"$f":"IF('Using CMS - Deviation - Limits'!C75=\"\",\"\",'Using CMS - Deviation - Limits'!C75)","v":""},{"$f":"AY53&AZ53&Table10[[#This Row],[CMS]]","v":""},{"$f":"IF(COUNTIF(BA$2:BA53,BA53)=1,BA53,\"\")","v":""},"","",{"$f":"+IFERROR(INDEX(#REF!,MATCH(ROW()-ROW(BC$1),AX$2:AX$955,0)),\"\")","v":""}]
[{"$f":"+IF(D54=\"\",\"\",MAX(A$1:A53)+1)","v":""},{"$f":"IF('Process_&_CMS_Identification'!C76=\"\",\"\",'Process_&_CMS_Identification'!C76)","v":""},"",{"$f":"IF(COUNTIF(B$2:B54,B54)=1,B54,\"\")","v":""},{"$nulls":6},{"$f":"+IF(N54=\"\",\"\",MAX(K$1:K53)+1)","v":""},{"$f":"IF('Process_&_CMS_Identification'!D76=\"\",\"\",'Process_&_CMS_Identification'!D76)","v":""},"",{"$f":"IF(COUNTIF(L$2:L54,L54)=1,L54,\"\")","v":""},{"$nulls":5},{"$f":"+IF(X54=\"\",\"\",MAX(T$1:T53)+1)","v":""},{"$f":"IF('No CMS - Deviation - Limits'!B76=\"\",\"\",'No CMS - Deviation - Limits'!B76)","v":""},{"$f":"IF('No CMS - Deviation - Limits'!C76=\"\",\"\",'No CMS - Deviation - Limits'!C76)","v":""},"",{"$f":"IF(COUNTIF(V$2:V54,V54)=1,V54,\"\")","v":""},"","",{"$f":"+IFERROR(INDEX(#REF!,MATCH(ROW()-ROW($Y$1),T$2:T$955,0)),\"\")","v":""},null,{"$f":"+IF(AG54=\"\",\"\",MAX(AC$1:AC53)+1)","v":""},{"$f":"IF('Using CMS - Deviation - Limits'!B76=\"\",\"\",'Using CMS - Deviation - Limits'!B76)","v":""},{"$f":"IF('Using CMS - Deviation - Limits'!C76=\"\",\"\",'Using CMS - Deviation - Limits'!C76)","v":""},"",{"$f":"IF(COUNTIF(AF$2:AF54,AF54)=1,AF54,\"\")","v":""},"","",{"$f":"+IFERROR(INDEX(#REF!,MATCH(ROW()-ROW(AG$1),AC$2:AC$955,0)),\"\")","v":""},null,"WA",null,{"$f":"+IF(AS54=\"\",\"\",MAX(AN$1:AN53)+1)","v":""},{"$f":"IF('Using CMS - Inop_OoC - CMS'!B76=\"\",\"\",'Using CMS - Inop_OoC - CMS'!B76)","v":""},{"$f":"IF('Using CMS - Inop_OoC - CMS'!C76=\"\",\"\",'Using CMS - Inop_OoC - CMS'!C76)","v":""},{"$f":"IF('Using CMS - Inop_OoC - CMS'!D76=\"\",\"\",'Using CMS - Inop_OoC - CMS'!D76)","v":""},{"$f":"AO54&AP54&Table10[[#This Row],[CMS]]","v":""},{"$f":"IF(COUNTIF(AR$2:AR54,AR54)=1,AR54,\"\")","v":""},"","","",null,{"$f":"+IF(BB54=\"\",\"\",MAX(AX$1:AX53)+1)","v":""},{"$f":"IF('Using CMS - Deviation - Limits'!B76=\"\",\"\",'Using CMS - Deviation - Limits'!B76)","v":""},{"$f":"IF('Using CMS - Deviation - Limits'!C76=\"\",\"\",'Using CMS - Deviation - Limits'!C76)","v":""},{"$f":"AY54&AZ54&Table10[[#This Row],[CMS]]","v":""},{"$f":"IF(COUNTIF(BA$2:BA54,BA54)=1,BA54,\"\")","v":""},"","",{"$f":"+IFERROR(INDEX(#REF!,MATCH(ROW()-ROW(BC$1),AX$2:AX$955,0)),\"\")","v":""}]
[{"$f":"+IF(D55=\"\",\"\",MAX(A$1:A54)+1)","v":""},{"$f":"IF('Process_&_CMS_Identification'!C77=\"\",\"\",'Process_&_CMS_Identification'!C77)","v":""},"",{"$f":"IF(COUNTIF(B$2:B55,B55)=1,B55,\"\")","v":""},{"$nulls":6},{"$f":"+IF(N55=\"\",\"\",MAX(K$1:K54)+1)","v":""},{"$f":"IF('Process_&_CMS_Identification'!D77=\"\",\"\",'Process_&_CMS_Identification'!D77)","v":""},"",{"$f":"IF(COUNTIF(L$2:L55,L55)=1,L55,\"\")","v":""},{"$nulls":5},{"$f":"+IF(X55=\"\",\"\",MAX(T$1:T54)+1)","v":""},{"$f":"IF('No CMS - Deviation - Limits'!B77=\"\",\"\",'No CMS - Deviation - Limits'!B77)","v":""},{"$f":"IF('No CMS - Deviation - Limits'!C77=\"\",\"\",'No CMS - Deviation - Limits'!C77)","v":""},"",{"$f":"IF(COUNTIF(V$2:V55,V55)=1,V55,\"\")","v":""},"","",{"$f":"+IFERROR(INDEX(#REF!,MATCH(ROW()-ROW($Y$1),T$2:T$955,0)),\"\")","v":""},null,{"$f":"+IF(AG55=\"\",\"\",MAX(AC$1:AC54)+1)","v":""},{"$f":"IF('Using CMS - Deviation - Limits'!B77=\"\",\"\",'Using CMS - Deviation - Limits'!B77)","v":""},{"$f":"IF('Using CMS - Deviation - Limits'!C77=\"\",\"\",'Using CMS - Deviation - Limits'!C77)","v":""},"",{"$f":"IF(COUNTIF(AF$2:AF55,AF55)=1,AF55,\"\")","v":""},"","",{"$f":"+IFERROR(INDEX(#REF!,MATCH(ROW()-ROW(AG$1),AC$2:AC$955,0)),\"\")","v":""},null,"WI",null,{"$f":"+IF(AS55=\"\",\"\",MAX(AN$1:AN54)+1)","v":""},{"$f":"IF('Using CMS - Inop_OoC - CMS'!B77=\"\",\"\",'Using CMS - Inop_OoC - CMS'!B77)","v":""},{"$f":"IF('Using CMS - Inop_OoC - CMS'!C77=\"\",\"\",'Using CMS - Inop_OoC - CMS'!C77)","v":""},{"$f":"IF('Using CMS - Inop_OoC - CMS'!D77=\"\",\"\",'Using CMS - Inop_OoC - CMS'!D77)","v":""},{"$f":"AO55&AP55&Table10[[#This Row],[CMS]]","v":""},{"$f":"IF(COUNTIF(AR$2:AR55,AR55)=1,AR55,\"\")","v":""},"","","",null,{"$f":"+IF(BB55=\"\",\"\",MAX(AX$1:AX54)+1)","v":""},{"$f":"IF('Using CMS - Deviation - Limits'!B77=\"\",\"\",'Using CMS - Deviation - Limits'!B77)","v":""},{"$f":"IF('Using CMS - Deviation - Limits'!C77=\"\",\"\",'Using CMS - Deviation - Limits'!C77)","v":""},{"$f":"AY55&AZ55&Table10[[#This Row],[CMS]]","v":""},{"$f":"IF(COUNTIF(BA$2:BA55,BA55)=1,BA55,\"\")","v":""},"","",{"$f":"+IFERROR(INDEX(#REF!,MATCH(ROW()-ROW(BC$1),AX$2:AX$955,0)),\"\")","v":""}]
[{"$f":"+IF(D56=\"\",\"\",MAX(A$1:A55)+1)","v":""},{"$f":"IF('Process_&_CMS_Identification'!C78=\"\",\"\",'Process_&_CMS_Identification'!C78)","v":""},"",{"$f":"IF(COUNTIF(B$2:B56,B56)=1,B56,\"\")","v":""},{"$nulls":6},{"$f":"+IF(N56=\"\",\"\",MAX(K$1:K55)+1)","v":""},{"$f":"IF('Process_&_CMS_Identification'!D78=\"\",\"\",'Process_&_CMS_Identification'!D78)","v":""},"",{"$f":"IF(COUNTIF(L$2:L56,L56)=1,L56,\"\")","v":""},{"$nulls":5},{"$f":"+IF(X56=\"\",\"\",MAX(T$1:T55)+1)","v":""},{"$f":"IF('No CMS - Deviation - Limits'!B78=\"\",\"\",'No CMS - Deviation - Limits'!B78)","v":""},{"$f":"IF('No CMS - Deviation - Limits'!C78=\"\",\"\",'No CMS - Deviation - Limits'!C78)","v":""},"",{"$f":"IF(COUNTIF(V$2:V56,V56)=1,V56,\"\")","v":""},"","",{"$f":"+IFERROR(INDEX(#REF!,MATCH(ROW()-ROW($Y$1),T$2:T$955,0)),\"\")","v":""},null,{"$f":"+IF(AG56=\"\",\"\",MAX(AC$1:AC55)+1)","v":""},{"$f":"IF('Using CMS - Deviation - Limits'!B78=\"\",\"\",'Using CMS - Deviation - Limits'!B78)","v":""},{"$f":"IF('Using CMS - Deviation - Limits'!C78=\"\",\"\",'Using CMS - Deviation - Limits'!C78)","v":""},"",{"$f":"IF(COUNTIF(AF$2:AF56,AF56)=1,AF56,\"\")","v":""},"","",{"$f":"+IFERROR(INDEX(#REF!,MATCH(ROW()-ROW(AG$1),AC$2:AC$955,0)),\"\")","v":""},null,"WV",null,{"$f":"+IF(AS56=\"\",\"\",MAX(AN$1:AN55)+1)","v":""},{"$f":"IF('Using CMS - Inop_OoC - CMS'!B78=\"\",\"\",'Using CMS - Inop_OoC - CMS'!B78)","v":""},{"$f":"IF('Using CMS - Inop_OoC - CMS'!C78=\"\",\"\",'Using CMS - Inop_OoC - CMS'!C78)","v":""},{"$f":"IF('Using CMS - Inop_OoC - CMS'!D78=\"\",\"\",'Using CMS - Inop_OoC - CMS'!D78)","v":""},{"$f":"AO56&AP56&Table10[[#This Row],[CMS]]","v":""},{"$f":"IF(COUNTIF(AR$2:AR56,AR56)=1,AR56,\"\")","v":""},"","","",null,{"$f":"+IF(BB56=\"\",\"\",MAX(AX$1:AX55)+1)","v":""},{"$f":"IF('Using CMS - Deviation - Limits'!B78=\"\",\"\",'Using CMS - Deviation - Limits'!B78)","v":""},{"$f":"IF('Using CMS - Deviation - Limits'!C78=\"\",\"\",'Using CMS - Deviation - Limits'!C78)","v":""},{"$f":"AY56&AZ56&Table10[[#This Row],[CMS]]","v":""},{"$f":"IF(COUNTIF(BA$2:BA56,BA56)=1,BA56,\"\")","v":""},"","",{"$f":"+IFERROR(INDEX(#REF!,MATCH(ROW()-ROW(BC$1),AX$2:AX$955,0)),\"\")","v":""}]
[{"$f":"+IF(D57=\"\",\"\",MAX(A$1:A56)+1)","v":""},{"$f":"IF('Process_&_CMS_Identification'!C79=\"\",\"\",'Process_&_CMS_Identification'!C79)","v":""},"",{"$f":"IF(COUNTIF(B$2:B57,B57)=1,B57,\"\")","v":""},{"$nulls":6},{"$f":"+IF(N57=\"\",\"\",MAX(K$1:K56)+1)","v":""},{"$f":"IF('Process_&_CMS_Identification'!D79=\"\",\"\",'Process_&_CMS_Identification'!D79)","v":""},"",{"$f":"IF(COUNTIF(L$2:L57,L57)=1,L57,\"\")","v":""},{"$nulls":5},{"$f":"+IF(X57=\"\",\"\",MAX(T$1:T56)+1)","v":""},{"$f":"IF('No CMS - Deviation - Limits'!B79=\"\",\"\",'No CMS - Deviation - Limits'!B79)","v":""},{"$f":"IF('No CMS - Deviation - Limits'!C79=\"\",\"\",'No CMS - Deviation - Limits'!C79)","v":""},"",{"$f":"IF(COUNTIF(V$2:V57,V57)=1,V57,\"\")","v":""},"","",{"$f":"+IFERROR(INDEX(#REF!,MATCH(ROW()-ROW($Y$1),T$2:T$955,0)),\"\")","v":""},null,{"$f":"+IF(AG57=\"\",\"\",MAX(AC$1:AC56)+1)","v":""},{"$f":"IF('Using CMS - Deviation - Limits'!B79=\"\",\"\",'Using CMS - Deviation - Limits'!B79)","v":""},{"$f":"IF('Using CMS - Deviation - Limits'!C79=\"\",\"\",'Using CMS - Deviation - Limits'!C79)","v":""},"",{"$f":"IF(COUNTIF(AF$2:AF57,AF57)=1,AF57,\"\")","v":""},"","",{"$f":"+IFERROR(INDEX(#REF!,MATCH(ROW()-ROW(AG$1),AC$2:AC$955,0)),\"\")","v":""},null,"WY",null,{"$f":"+IF(AS57=\"\",\"\",MAX(AN$1:AN56)+1)","v":""},{"$f":"IF('Using CMS - Inop_OoC - CMS'!B79=\"\",\"\",'Using CMS - Inop_OoC - CMS'!B79)","v":""},{"$f":"IF('Using CMS - Inop_OoC - CMS'!C79=\"\",\"\",'Using CMS - Inop_OoC - CMS'!C79)","v":""},{"$f":"IF('Using CMS - Inop_OoC - CMS'!D79=\"\",\"\",'Using CMS - Inop_OoC - CMS'!D79)","v":""},{"$f":"AO57&AP57&Table10[[#This Row],[CMS]]","v":""},{"$f":"IF(COUNTIF(AR$2:AR57,AR57)=1,AR57,\"\")","v":""},"","","",null,{"$f":"+IF(BB57=\"\",\"\",MAX(AX$1:AX56)+1)","v":""},{"$f":"IF('Using CMS - Deviation - Limits'!B79=\"\",\"\",'Using CMS - Deviation - Limits'!B79)","v":""},{"$f":"IF('Using CMS - Deviation - Limits'!C79=\"\",\"\",'Using CMS - Deviation - Limits'!C79)","v":""},{"$f":"AY57&AZ57&Table10[[#This Row],[CMS]]","v":""},{"$f":"IF(COUNTIF(BA$2:BA57,BA57)=1,BA57,\"\")","v":""},"","",{"$f":"+IFERROR(INDEX(#REF!,MATCH(ROW()-ROW(BC$1),AX$2:AX$955,0)),\"\")","v":""}]
[{"$f":"+IF(D58=\"\",\"\",MAX(A$1:A57)+1)","v":""},{"$f":"IF('Process_&_CMS_Identification'!C80=\"\",\"\",'Process_&_CMS_Identification'!C80)","v":""},"",{"$f":"IF(COUNTIF(B$2:B58,B58)=1,B58,\"\")","v":""},{"$nulls":6},{"$f":"+IF(N58=\"\",\"\",MAX(K$1:K57)+1)","v":""},{"$f":"IF('Process_&_CMS_Identification'!D80=\"\",\"\",'Process_&_CMS_Identification'!D80)","v":""},"",{"$f":"IF(COUNTIF(L$2:L58,L58)=1,L58,\"\")","v":""},{"$nulls":5},{"$f":"+IF(X58=\"\",\"\",MAX(T$1:T57)+1)","v":""},{"$f":"IF('No CMS - Deviation - Limits'!B80=\"\",\"\",'No CMS - Deviation - Limits'!B80)","v":""},{"$f":"IF('No CMS - Deviation - Limits'!C80=\"\",\"\",'No CMS - Deviation - Limits'!C80)","v":""},"",{"$f":"IF(COUNTIF(V$2:V58,V58)=1,V58,\"\")","v":""},"","",{"$f":"+IFERROR(INDEX(#REF!,MATCH(ROW()-ROW($Y$1),T$2:T$955,0)),\"\")","v":""},null,{"$f":"+IF(AG58=\"\",\"\",MAX(AC$1:AC57)+1)","v":""},{"$f":"IF('Using CMS - Deviation - Limits'!B80=\"\",\"\",'Using CMS - Deviation - Limits'!B80)","v":""},{"$f":"IF('Using CMS - Deviation - Limits'!C80=\"\",\"\",'Using CMS - Deviation - Limits'!C80)","v":""},"",{"$f":"IF(COUNTIF(AF$2:AF58,AF58)=1,AF58,\"\")","v":""},"","",{"$f":"+IFERROR(INDEX(#REF!,MATCH(ROW()-ROW(AG$1),AC$2:AC$955,0)),\"\")","v":""},{"$nulls":3},{"$f":"+IF(AS58=\"\",\"\",MAX(AN$1:AN57)+1)","v":""},{"$f":"IF('Using CMS - Inop_OoC - CMS'!B80=\"\",\"\",'Using CMS - Inop_OoC - CMS'!B80)","v":""},{"$f":"IF('Using CMS - Inop_OoC - CMS'!C80=\"\",\"\",'Using CMS - Inop_OoC - CMS'!C80)","v":""},{"$f":"IF('Using CMS - Inop_OoC - CMS'!D80=\"\",\"\",'Using CMS - Inop_OoC - CMS'!D80)","v":""},{"$f":"AO58&AP58&Table10[[#This Row],[CMS]]","v":""},{"$f":"IF(COUNTIF(AR$2:AR58,AR58)=1,AR58,\"\")","v":""},"","","",null,{"$f":"+IF(BB58=\"\",\"\",MAX(AX$1:AX57)+1)","v":""},{"$f":"IF('Using CMS - Deviation - Limits'!B80=\"\",\"\",'Using CMS - Deviation - Limits'!B80)","v":""},{"$f":"IF('Using CMS - Deviation - Limits'!C80=\"\",\"\",'Using CMS - Deviation - Limits'!C80)","v":""},{"$f":"AY58&AZ58&Table10[[#This Row],[CMS]]","v":""},{"$f":"IF(COUNTIF(BA$2:BA58,BA58)=1,BA58,\"\")","v":""},"","",{"$f":"+IFERROR(INDEX(#REF!,MATCH(ROW()-ROW(BC$1),AX$2:AX$955,0)),\"\")","v":""}]
[{"$f":"+IF(D59=\"\",\"\",MAX(A$1:A58)+1)","v":""},{"$f":"IF('Process_&_CMS_Identification'!C81=\"\",\"\",'Process_&_CMS_Identification'!C81)","v":""},"",{"$f":"IF(COUNTIF(B$2:B59,B59)=1,B59,\"\")","v":""},{"$nulls":6},{"$f":"+IF(N59=\"\",\"\",MAX(K$1:K58)+1)","v":""},{"$f":"IF('Process_&_CMS_Identification'!D81=\"\",\"\",'Process_&_CMS_Identification'!D81)","v":""},"",{"$f":"IF(COUNTIF(L$2:L59,L59)=1,L59,\"\")","v":""},{"$nulls":5},{"$f":"+IF(X59=\"\",\"\",MAX(T$1:T58)+1)","v":""},{"$f":"IF('No CMS - Deviation - Limits'!B81=\"\",\"\",'No CMS - Deviation - Limits'!B81)","v":""},{"$f":"IF('No CMS - Deviation - Limits'!C81=\"\",\"\",'No CMS - Deviation - Limits'!C81)","v":""},"",{"$f":"IF(COUNTIF(V$2:V59,V59)=1,V59,\"\")","v":""},"","",{"$f":"+IFERROR(INDEX(#REF!,MATCH(ROW()-ROW($Y$1),T$2:T$955,0)),\"\")","v":""},null,{"$f":"+IF(AG59=\"\",\"\",MAX(AC$1:AC58)+1)","v":""},{"$f":"IF('Using CMS - Deviation - Limits'!B81=\"\",\"\",'Using CMS - Deviation - Limits'!B81)","v":""},{"$f":"IF('Using CMS - Deviation - Limits'!C81=\"\",\"\",'Using CMS - Deviation - Limits'!C81)","v":""},"",{"$f":"IF(COUNTIF(AF$2:AF59,AF59)=1,AF59,\"\")","v":""},"","",{"$f":"+IFERROR(INDEX(#REF!,MATCH(ROW()-ROW(AG$1),AC$2:AC$955,0)),\"\")","v":""},{"$nulls":3},{"$f":"+IF(AS59=\"\",\"\",MAX(AN$1:AN58)+1)","v":""},{"$f":"IF('Using CMS - Inop_OoC - CMS'!B81=\"\",\"\",'Using CMS - Inop_OoC - CMS'!B81)","v":""},{"$f":"IF('Using CMS - Inop_OoC - CMS'!C81=\"\",\"\",'Using CMS - Inop_OoC - CMS'!C81)","v":""},{"$f":"IF('Using CMS - Inop_OoC - CMS'!D81=\"\",\"\",'Using CMS - Inop_OoC - CMS'!D81)","v":""},{"$f":"AO59&AP59&Table10[[#This Row],[CMS]]","v":""},{"$f":"IF(COUNTIF(AR$2:AR59,AR59)=1,AR59,\"\")","v":""},"","","",null,{"$f":"+IF(BB59=\"\",\"\",MAX(AX$1:AX58)+1)","v":""},{"$f":"IF('Using CMS - Deviation - Limits'!B81=\"\",\"\",'Using CMS - Deviation - Limits'!B81)","v":""},{"$f":"IF('Using CMS - Deviation - Limits'!C81=\"\",\"\",'Using CMS - Deviation - Limits'!C81)","v":""},{"$f":"AY59&AZ59&Table10[[#This Row],[CMS]]","v":""},{"$f":"IF(COUNTIF(BA$2:BA59,BA59)=1,BA59,\"\")","v":""},"","",{"$f":"+IFERROR(INDEX(#REF!,MATCH(ROW()-ROW(BC$1),AX$2:AX$955,0)),\"\")","v":""}]
[{"$f":"+IF(D60=\"\",\"\",MAX(A$1:A59)+1)","v":""},{"$f":"IF('Process_&_CMS_Identification'!C82=\"\",\"\",'Process_&_CMS_Identification'!C82)","v":""},"",{"$f":"IF(COUNTIF(B$2:B60,B60)=1,B60,\"\")","v":""},{"$nulls":6},{"$f":"+IF(N60=\"\",\"\",MAX(K$1:K59)+1)","v":""},{"$f":"IF('Process_&_CMS_Identification'!D82=\"\",\"\",'Process_&_CMS_Identification'!D82)","v":""},"",{"$f":"IF(COUNTIF(L$2:L60,L60)=1,L60,\"\")","v":""},{"$nulls":5},{"$f":"+IF(X60=\"\",\"\",MAX(T$1:T59)+1)","v":""},{"$f":"IF('No CMS - Deviation - Limits'!B82=\"\",\"\",'No CMS - Deviation - Limits'!B82)","v":""},{"$f":"IF('No CMS - Deviation - Limits'!C82=\"\",\"\",'No CMS - Deviation - Limits'!C82)","v":""},"",{"$f":"IF(COUNTIF(V$2:V60,V60)=1,V60,\"\")","v":""},"","",{"$f":"+IFERROR(INDEX(#REF!,MATCH(ROW()-ROW($Y$1),T$2:T$955,0)),\"\")","v":""},null,{"$f":"+IF(AG60=\"\",\"\",MAX(AC$1:AC59)+1)","v":""},{"$f":"IF('Using CMS - Deviation - Limits'!B82=\"\",\"\",'Using CMS - Deviation - Limits'!B82)","v":""},{"$f":"IF('Using CMS - Deviation - Limits'!C82=\"\",\"\",'Using CMS - Deviation - Limits'!C82)","v":""},"",{"$f":"IF(COUNTIF(AF$2:AF60,AF60)=1,AF60,\"\")","v":""},"","",{"$f":"+IFERROR(INDEX(#REF!,MATCH(ROW()-ROW(AG$1),AC$2:AC$955,0)),\"\")","v":""},{"$nulls":3},{"$f":"+IF(AS60=\"\",\"\",MAX(AN$1:AN59)+1)","v":""},{"$f":"IF('Using CMS - Inop_OoC - CMS'!B82=\"\",\"\",'Using CMS - Inop_OoC - CMS'!B82)","v":""},{"$f":"IF('Using CMS - Inop_OoC - CMS'!C82=\"\",\"\",'Using CMS - Inop_OoC - CMS'!C82)","v":""},{"$f":"IF('Using CMS - Inop_OoC - CMS'!D82=\"\",\"\",'Using CMS - Inop_OoC - CMS'!D82)","v":""},{"$f":"AO60&AP60&Table10[[#This Row],[CMS]]","v":""},{"$f":"IF(COUNTIF(AR$2:AR60,AR60)=1,AR60,\"\")","v":""},"","","",null,{"$f":"+IF(BB60=\"\",\"\",MAX(AX$1:AX59)+1)","v":""},{"$f":"IF('Using CMS - Deviation - Limits'!B82=\"\",\"\",'Using CMS - Deviation - Limits'!B82)","v":""},{"$f":"IF('Using CMS - Deviation - Limits'!C82=\"\",\"\",'Using CMS - Deviation - Limits'!C82)","v":""},{"$f":"AY60&AZ60&Table10[[#This Row],[CMS]]","v":""},{"$f":"IF(COUNTIF(BA$2:BA60,BA60)=1,BA60,\"\")","v":""},"","",{"$f":"+IFERROR(INDEX(#REF!,MATCH(ROW()-ROW(BC$1),AX$2:AX$955,0)),\"\")","v":""}]
[{"$f":"+IF(D61=\"\",\"\",MAX(A$1:A60)+1)","v":""},{"$f":"IF('Process_&_CMS_Identification'!C83=\"\",\"\",'Process_&_CMS_Identification'!C83)","v":""},"",{"$f":"IF(COUNTIF(B$2:B61,B61)=1,B61,\"\")","v":""},{"$nulls":6},{"$f":"+IF(N61=\"\",\"\",MAX(K$1:K60)+1)","v":""},{"$f":"IF('Process_&_CMS_Identification'!D83=\"\",\"\",'Process_&_CMS_Identification'!D83)","v":""},"",{"$f":"IF(COUNTIF(L$2:L61,L61)=1,L61,\"\")","v":""},{"$nulls":5},{"$f":"+IF(X61=\"\",\"\",MAX(T$1:T60)+1)","v":""},{"$f":"IF('No CMS - Deviation - Limits'!B83=\"\",\"\",'No CMS - Deviation - Limits'!B83)","v":""},{"$f":"IF('No CMS - Deviation - Limits'!C83=\"\",\"\",'No CMS - Deviation - Limits'!C83)","v":""},"",{"$f":"IF(COUNTIF(V$2:V61,V61)=1,V61,\"\")","v":""},"","",{"$f":"+IFERROR(INDEX(#REF!,MATCH(ROW()-ROW($Y$1),T$2:T$955,0)),\"\")","v":""},null,{"$f":"+IF(AG61=\"\",\"\",MAX(AC$1:AC60)+1)","v":""},{"$f":"IF('Using CMS - Deviation - Limits'!B83=\"\",\"\",'Using CMS - Deviation - Limits'!B83)","v":""},{"$f":"IF('Using CMS - Deviation - Limits'!C83=\"\",\"\",'Using CMS - Deviation - Limits'!C83)","v":""},"",{"$f":"IF(COUNTIF(AF$2:AF61,AF61)=1,AF61,\"\")","v":""},"","",{"$f":"+IFERROR(INDEX(#REF!,MATCH(ROW()-ROW(AG$1),AC$2:AC$955,0)),\"\")","v":""},{"$nulls":3},{"$f":"+IF(AS61=\"\",\"\",MAX(AN$1:AN60)+1)","v":""},{"$f":"IF('Using CMS - Inop_OoC - CMS'!B83=\"\",\"\",'Using CMS - Inop_OoC - CMS'!B83)","v":""},{"$f":"IF('Using CMS - Inop_OoC - CMS'!C83=\"\",\"\",'Using CMS - Inop_OoC - CMS'!C83)","v":""},{"$f":"IF('Using CMS - Inop_OoC - CMS'!D83=\"\",\"\",'Using CMS - Inop_OoC - CMS'!D83)","v":""},{"$f":"AO61&AP61&Table10[[#This Row],[CMS]]","v":""},{"$f":"IF(COUNTIF(AR$2:AR61,AR61)=1,AR61,\"\")","v":""},"","","",null,{"$f":"+IF(BB61=\"\",\"\",MAX(AX$1:AX60)+1)","v":""},{"$f":"IF('Using CMS - Deviation - Limits'!B83=\"\",\"\",'Using CMS - Deviation - Limits'!B83)","v":""},{"$f":"IF('Using CMS - Deviation - Limits'!C83=\"\",\"\",'Using CMS - Deviation - Limits'!C83)","v":""},{"$f":"AY61&AZ61&Table10[[#This Row],[CMS]]","v":""},{"$f":"IF(COUNTIF(BA$2:BA61,BA61)=1,BA61,\"\")","v":""},"","",{"$f":"+IFERROR(INDEX(#REF!,MATCH(ROW()-ROW(BC$1),AX$2:AX$955,0)),\"\")","v":""}]
[{"$f":"+IF(D62=\"\",\"\",MAX(A$1:A61)+1)","v":""},{"$f":"IF('Process_&_CMS_Identification'!C84=\"\",\"\",'Process_&_CMS_Identification'!C84)","v":""},"",{"$f":"IF(COUNTIF(B$2:B62,B62)=1,B62,\"\")","v":""},{"$nulls":6},{"$f":"+IF(N62=\"\",\"\",MAX(K$1:K61)+1)","v":""},{"$f":"IF('Process_&_CMS_Identification'!D84=\"\",\"\",'Process_&_CMS_Identification'!D84)","v":""},"",{"$f":"IF(COUNTIF(L$2:L62,L62)=1,L62,\"\")","v":""},{"$nulls":5},{"$f":"+IF(X62=\"\",\"\",MAX(T$1:T61)+1)","v":""},{"$f":"IF('No CMS - Deviation - Limits'!B84=\"\",\"\",'No CMS - Deviation - Limits'!B84)","v":""},{"$f":"IF('No CMS - Deviation - Limits'!C84=\"\",\"\",'No CMS - Deviation - Limits'!C84)","v":""},"",{"$f":"IF(COUNTIF(V$2:V62,V62)=1,V62,\"\")","v":""},"","",{"$f":"+IFERROR(INDEX(#REF!,MATCH(ROW()-ROW($Y$1),T$2:T$955,0)),\"\")","v":""},null,{"$f":"+IF(AG62=\"\",\"\",MAX(AC$1:AC61)+1)","v":""},{"$f":"IF('Using CMS - Deviation - Limits'!B84=\"\",\"\",'Using CMS - Deviation - Limits'!B84)","v":""},{"$f":"IF('Using CMS - Deviation - Limits'!C84=\"\",\"\",'Using CMS - Deviation - Limits'!C84)","v":""},"",{"$f":"IF(COUNTIF(AF$2:AF62,AF62)=1,AF62,\"\")","v":""},"","",{"$f":"+IFERROR(INDEX(#REF!,MATCH(ROW()-ROW(AG$1),AC$2:AC$955,0)),\"\")","v":""},{"$nulls":3},{"$f":"+IF(AS62=\"\",\"\",MAX(AN$1:AN61)+1)","v":""},{"$f":"IF('Using CMS - Inop_OoC - CMS'!B84=\"\",\"\",'Using CMS - Inop_OoC - CMS'!B84)","v":""},{"$f":"IF('Using CMS - Inop_OoC - CMS'!C84=\"\",\"\",'Using CMS - Inop_OoC - CMS'!C84)","v":""},{"$f":"IF('Using CMS - Inop_OoC - CMS'!D84=\"\",\"\",'Using CMS - Inop_OoC - CMS'!D84)","v":""},{"$f":"AO62&AP62&Table10[[#This Row],[CMS]]","v":""},{"$f":"IF(COUNTIF(AR$2:AR62,AR62)=1,AR62,\"\")","v":""},"","","",null,{"$f":"+IF(BB62=\"\",\"\",MAX(AX$1:AX61)+1)","v":""},{"$f":"IF('Using CMS - Deviation - Limits'!B84=\"\",\"\",'Using CMS - Deviation - Limits'!B84)","v":""},{"$f":"IF('Using CMS - Deviation - Limits'!C84=\"\",\"\",'Using CMS - Deviation - Limits'!C84)","v":""},{"$f":"AY62&AZ62&Table10[[#This Row],[CMS]]","v":""},{"$f":"IF(COUNTIF(BA$2:BA62,BA62)=1,BA62,\"\")","v":""},"","",{"$f":"+IFERROR(INDEX(#REF!,MATCH(ROW()-ROW(BC$1),AX$2:AX$955,0)),\"\")","v":""}]
[{"$f":"+IF(D63=\"\",\"\",MAX(A$1:A62)+1)","v":""},{"$f":"IF('Process_&_CMS_Identification'!C85=\"\",\"\",'Process_&_CMS_Identification'!C85)","v":""},"",{"$f":"IF(COUNTIF(B$2:B63,B63)=1,B63,\"\")","v":""},{"$nulls":6},{"$f":"+IF(N63=\"\",\"\",MAX(K$1:K62)+1)","v":""},{"$f":"IF('Process_&_CMS_Identification'!D85=\"\",\"\",'Process_&_CMS_Identification'!D85)","v":""},"",{"$f":"IF(COUNTIF(L$2:L63,L63)=1,L63,\"\")","v":""},{"$nulls":5},{"$f":"+IF(X63=\"\",\"\",MAX(T$1:T62)+1)","v":""},{"$f":"IF('No CMS - Deviation - Limits'!B85=\"\",\"\",'No CMS - Deviation - Limits'!B85)","v":""},{"$f":"IF('No CMS - Deviation - Limits'!C85=\"\",\"\",'No CMS - Deviation - Limits'!C85)","v":""},"",{"$f":"IF(COUNTIF(V$2:V63,V63)=1,V63,\"\")","v":""},"","",{"$f":"+IFERROR(INDEX(#REF!,MATCH(ROW()-ROW($Y$1),T$2:T$955,0)),\"\")","v":""},null,{"$f":"+IF(AG63=\"\",\"\",MAX(AC$1:AC62)+1)","v":""},{"$f":"IF('Using CMS - Deviation - Limits'!B85=\"\",\"\",'Using CMS - Deviation - Limits'!B85)","v":""},{"$f":"IF('Using CMS - Deviation - Limits'!C85=\"\",\"\",'Using CMS - Deviation - Limits'!C85)","v":""},"",{"$f":"IF(COUNTIF(AF$2:AF63,AF63)=1,AF63,\"\")","v":""},"","",{"$f":"+IFERROR(INDEX(#REF!,MATCH(ROW()-ROW(AG$1),AC$2:AC$955,0)),\"\")","v":""},{"$nulls":3},{"$f":"+IF(AS63=\"\",\"\",MAX(AN$1:AN62)+1)","v":""},{"$f":"IF('Using CMS - Inop_OoC - CMS'!B85=\"\",\"\",'Using CMS - Inop_OoC - CMS'!B85)","v":""},{"$f":"IF('Using CMS - Inop_OoC - CMS'!C85=\"\",\"\",'Using CMS - Inop_OoC - CMS'!C85)","v":""},{"$f":"IF('Using CMS - Inop_OoC - CMS'!D85=\"\",\"\",'Using CMS - Inop_OoC - CMS'!D85)","v":""},{"$f":"AO63&AP63&Table10[[#This Row],[CMS]]","v":""},{"$f":"IF(COUNTIF(AR$2:AR63,AR63)=1,AR63,\"\")","v":""},"","","",null,{"$f":"+IF(BB63=\"\",\"\",MAX(AX$1:AX62)+1)","v":""},{"$f":"IF('Using CMS - Deviation - Limits'!B85=\"\",\"\",'Using CMS - Deviation - Limits'!B85)","v":""},{"$f":"IF('Using CMS - Deviation - Limits'!C85=\"\",\"\",'Using CMS - Deviation - Limits'!C85)","v":""},{"$f":"AY63&AZ63&Table10[[#This Row],[CMS]]","v":""},{"$f":"IF(COUNTIF(BA$2:BA63,BA63)=1,BA63,\"\")","v":""},"","",{"$f":"+IFERROR(INDEX(#REF!,MATCH(ROW()-ROW(BC$1),AX$2:AX$955,0)),\"\")","v":""}]
[{"$f":"+IF(D64=\"\",\"\",MAX(A$1:A63)+1)","v":""},{"$f":"IF('Process_&_CMS_Identification'!C86=\"\",\"\",'Process_&_CMS_Identification'!C86)","v":""},"",{"$f":"IF(COUNTIF(B$2:B64,B64)=1,B64,\"\")","v":""},{"$nulls":6},{"$f":"+IF(N64=\"\",\"\",MAX(K$1:K63)+1)","v":""},{"$f":"IF('Process_&_CMS_Identification'!D86=\"\",\"\",'Process_&_CMS_Identification'!D86)","v":""},"",{"$f":"IF(COUNTIF(L$2:L64,L64)=1,L64,\"\")","v":""},{"$nulls":5},{"$f":"+IF(X64=\"\",\"\",MAX(T$1:T63)+1)","v":""},{"$f":"IF('No CMS - Deviation - Limits'!B86=\"\",\"\",'No CMS - Deviation - Limits'!B86)","v":""},{"$f":"IF('No CMS - Deviation - Limits'!C86=\"\",\"\",'No CMS - Deviation - Limits'!C86)","v":""},"",{"$f":"IF(COUNTIF(V$2:V64,V64)=1,V64,\"\")","v":""},"","",{"$f":"+IFERROR(INDEX(#REF!,MATCH(ROW()-ROW($Y$1),T$2:T$955,0)),\"\")","v":""},null,{"$f":"+IF(AG64=\"\",\"\",MAX(AC$1:AC63)+1)","v":""},{"$f":"IF('Using CMS - Deviation - Limits'!B86=\"\",\"\",'Using CMS - Deviation - Limits'!B86)","v":""},{"$f":"IF('Using CMS - Deviation - Limits'!C86=\"\",\"\",'Using CMS - Deviation - Limits'!C86)","v":""},"",{"$f":"IF(COUNTIF(AF$2:AF64,AF64)=1,AF64,\"\")","v":""},"","",{"$f":"+IFERROR(INDEX(#REF!,MATCH(ROW()-ROW(AG$1),AC$2:AC$955,0)),\"\")","v":""},{"$nulls":3},{"$f":"+IF(AS64=\"\",\"\",MAX(AN$1:AN63)+1)","v":""},{"$f":"IF('Using CMS - Inop_OoC - CMS'!B86=\"\",\"\",'Using CMS - Inop_OoC - CMS'!B86)","v":""},{"$f":"IF('Using CMS - Inop_OoC - CMS'!C86=\"\",\"\",'Using CMS - Inop_OoC - CMS'!C86)","v":""},{"$f":"IF('Using CMS - Inop_OoC - CMS'!D86=\"\",\"\",'Using CMS - Inop_OoC - CMS'!D86)","v":""},{"$f":"AO64&AP64&Table10[[#This Row],[CMS]]","v":""},{"$f":"IF(COUNTIF(AR$2:AR64,AR64)=1,AR64,\"\")","v":""},"","","",null,{"$f":"+IF(BB64=\"\",\"\",MAX(AX$1:AX63)+1)","v":""},{"$f":"IF('Using CMS - Deviation - Limits'!B86=\"\",\"\",'Using CMS - Deviation - Limits'!B86)","v":""},{"$f":"IF('Using CMS - Deviation - Limits'!C86=\"\",\"\",'Using CMS - Deviation - Limits'!C86)","v":""},{"$f":"AY64&AZ64&Table10[[#This Row],[CMS]]","v":""},{"$f":"IF(COUNTIF(BA$2:BA64,BA64)=1,BA64,\"\")","v":""},"","",{"$f":"+IFERROR(INDEX(#REF!,MATCH(ROW()-ROW(BC$1),AX$2:AX$955,0)),\"\")","v":""}]
[{"$f":"+IF(D65=\"\",\"\",MAX(A$1:A64)+1)","v":""},{"$f":"IF('Process_&_CMS_Identification'!C87=\"\",\"\",'Process_&_CMS_Identification'!C87)","v":""},"",{"$f":"IF(COUNTIF(B$2:B65,B65)=1,B65,\"\")","v":""},{"$nulls":6},{"$f":"+IF(N65=\"\",\"\",MAX(K$1:K64)+1)","v":""},{"$f":"IF('Process_&_CMS_Identification'!D87=\"\",\"\",'Process_&_CMS_Identification'!D87)","v":""},"",{"$f":"IF(COUNTIF(L$2:L65,L65)=1,L65,\"\")","v":""},{"$nulls":5},{"$f":"+IF(X65=\"\",\"\",MAX(T$1:T64)+1)","v":""},{"$f":"IF('No CMS - Deviation - Limits'!B87=\"\",\"\",'No CMS - Deviation - Limits'!B87)","v":""},{"$f":"IF('No CMS - Deviation - Limits'!C87=\"\",\"\",'No CMS - Deviation - Limits'!C87)","v":""},"",{"$f":"IF(COUNTIF(V$2:V65,V65)=1,V65,\"\")","v":""},"","",{"$f":"+IFERROR(INDEX(#REF!,MATCH(ROW()-ROW($Y$1),T$2:T$955,0)),\"\")","v":""},null,{"$f":"+IF(AG65=\"\",\"\",MAX(AC$1:AC64)+1)","v":""},{"$f":"IF('Using CMS - Deviation - Limits'!B87=\"\",\"\",'Using CMS - Deviation - Limits'!B87)","v":""},{"$f":"IF('Using CMS - Deviation - Limits'!C87=\"\",\"\",'Using CMS - Deviation - Limits'!C87)","v":""},"",{"$f":"IF(COUNTIF(AF$2:AF65,AF65)=1,AF65,\"\")","v":""},"","",{"$f":"+IFERROR(INDEX(#REF!,MATCH(ROW()-ROW(AG$1),AC$2:AC$955,0)),\"\")","v":""},{"$nulls":3},{"$f":"+IF(AS65=\"\",\"\",MAX(AN$1:AN64)+1)","v":""},{"$f":"IF('Using CMS - Inop_OoC - CMS'!B87=\"\",\"\",'Using CMS - Inop_OoC - CMS'!B87)","v":""},{"$f":"IF('Using CMS - Inop_OoC - CMS'!C87=\"\",\"\",'Using CMS - Inop_OoC - CMS'!C87)","v":""},{"$f":"IF('Using CMS - Inop_OoC - CMS'!D87=\"\",\"\",'Using CMS - Inop_OoC - CMS'!D87)","v":""},{"$f":"AO65&AP65&Table10[[#This Row],[CMS]]","v":""},{"$f":"IF(COUNTIF(AR$2:AR65,AR65)=1,AR65,\"\")","v":""},"","","",null,{"$f":"+IF(BB65=\"\",\"\",MAX(AX$1:AX64)+1)","v":""},{"$f":"IF('Using CMS - Deviation - Limits'!B87=\"\",\"\",'Using CMS - Deviation - Limits'!B87)","v":""},{"$f":"IF('Using CMS - Deviation - Limits'!C87=\"\",\"\",'Using CMS - Deviation - Limits'!C87)","v":""},{"$f":"AY65&AZ65&Table10[[#This Row],[CMS]]","v":""},{"$f":"IF(COUNTIF(BA$2:BA65,BA65)=1,BA65,\"\")","v":""},"","",{"$f":"+IFERROR(INDEX(#REF!,MATCH(ROW()-ROW(BC$1),AX$2:AX$955,0)),\"\")","v":""}]
[{"$f":"+IF(D66=\"\",\"\",MAX(A$1:A65)+1)","v":""},{"$f":"IF('Process_&_CMS_Identification'!C88=\"\",\"\",'Process_&_CMS_Identification'!C88)","v":""},{"$f":"+IFERROR(INDEX(B$2:B$501,MATCH(ROW()-ROW($C$1),A$2:A$501,0)),\"\")","v":""},{"$f":"IF(COUNTIF(B$2:B66,B66)=1,B66,\"\")","v":""},{"$nulls":6},{"$f":"+IF(N66=\"\",\"\",MAX(K$1:K65)+1)","v":""},{"$f":"IF('Process_&_CMS_Identification'!D88=\"\",\"\",'Process_&_CMS_Identification'!D88)","v":""},{"$f":"+IFERROR(INDEX(L$2:L$101,MATCH(ROW()-ROW($M$1),K$2:K$101,0)),\"\")","v":""},{"$f":"IF(COUNTIF(L$2:L66,L66)=1,L66,\"\")","v":""},{"$nulls":5},{"$f":"+IF(X66=\"\",\"\",MAX(T$1:T65)+1)","v":""},{"$f":"IF('No CMS - Deviation - Limits'!B88=\"\",\"\",'No CMS - Deviation - Limits'!B88)","v":""},{"$f":"IF('No CMS - Deviation - Limits'!C88=\"\",\"\",'No CMS - Deviation - Limits'!C88)","v":""},{"$f":"U66&V66","v":""},{"$f":"IF(COUNTIF(V$2:V66,V66)=1,V66,\"\")","v":""},{"$f":"+IFERROR(INDEX(U$2:U$955,MATCH(ROW()-ROW($Y$1),T$2:T$955,0)),\"\")","v":""},{"$f":"+IFERROR(INDEX(V$2:V$955,MATCH(ROW()-ROW($Y$1),T$2:T$955,0)),\"\")","v":""},{"$f":"+IFERROR(INDEX(#REF!,MATCH(ROW()-ROW($Y$1),T$2:T$955,0)),\"\")","v":""},null,{"$f":"+IF(AG66=\"\",\"\",MAX(AC$1:AC65)+1)","v":""},{"$f":"IF('Using CMS - Deviation - Limits'!B88=\"\",\"\",'Using CMS - Deviation - Limits'!B88)","v":""},{"$f":"IF('Using CMS - Deviation - Limits'!C88=\"\",\"\",'Using CMS - Deviation - Limits'!C88)","v":""},{"$f":"AD66&AE66","v":""},{"$f":"IF(COUNTIF(AF$2:AF66,AF66)=1,AF66,\"\")","v":""},{"$f":"+IFERROR(INDEX(AD$2:AD$955,MATCH(ROW()-ROW(HX$1),AC$2:AC$955,0)),\"\")","v":""},{"$f":"+IFERROR(INDEX(AE$2:AE$955,MATCH(ROW()-ROW(AG$1),AC$2:AC$955,0)),\"\")","v":""},{"$f":"+IFERROR(INDEX(#REF!,MATCH(ROW()-ROW(AG$1),AC$2:AC$955,0)),\"\")","v":""},{"$nulls":3},{"$f":"+IF(AS66=\"\",\"\",MAX(AN$1:AN65)+1)","v":""},{"$f":"IF('Using CMS - Inop_OoC - CMS'!B88=\"\",\"\",'Using CMS - Inop_OoC - CMS'!B88)","v":""},{"$f":"IF('Using CMS - Inop_OoC - CMS'!C88=\"\",\"\",'Using CMS - Inop_OoC - CMS'!C88)","v":""},{"$f":"IF('Using CMS - Inop_OoC - CMS'!D88=\"\",\"\",'Using CMS - Inop_OoC - CMS'!D88)","v":""},{"$f":"AO66&AP66&Table10[[#This Row],[CMS]]","v":""},{"$f":"IF(COUNTIF(AR$2:AR66,AR66)=1,AR66,\"\")","v":""},"","",{"$f":"+IFERROR(INDEX(AQ$2:AQ$955,MATCH(ROW()-ROW(AT$1),AN$2:AN$955,0)),\"\")","v":""},null,{"$f":"+IF(BB66=\"\",\"\",MAX(AX$1:AX65)+1)","v":""},{"$f":"IF('Using CMS - Deviation - Limits'!B88=\"\",\"\",'Using CMS - Deviation - Limits'!B88)","v":""},{"$f":"IF('Using CMS - Deviation - Limits'!C88=\"\",\"\",'Using CMS - Deviation - Limits'!C88)","v":""},{"$f":"AY66&AZ66&Table10[[#This Row],[CMS]]","v":""},{"$f":"IF(COUNTIF(BA$2:BA66,BA66)=1,BA66,\"\")","v":""},{"$f":"+IFERROR(INDEX(AY$2:AY$955,MATCH(ROW()-ROW(BB$1),AX$2:AX$955,0)),\"\")","v":""},{"$f":"+IFERROR(INDEX(AZ$2:AZ$955,MATCH(ROW()-ROW(BB$1),AX$2:AX$955,0)),\"\")","v":""},{"$f":"+IFERROR(INDEX(#REF!,MATCH(ROW()-ROW(BC$1),AX$2:AX$955,0)),\"\")","v":""}]
[{"$f":"+IF(D67=\"\",\"\",MAX(A$1:A66)+1)","v":""},{"$f":"IF('Process_&_CMS_Identification'!C89=\"\",\"\",'Process_&_CMS_Identification'!C89)","v":""},"",{"$f":"IF(COUNTIF(B$2:B67,B67)=1,B67,\"\")","v":""},{"$nulls":6},{"$f":"+IF(N67=\"\",\"\",MAX(K$1:K66)+1)","v":""},{"$f":"IF('Process_&_CMS_Identification'!D89=\"\",\"\",'Process_&_CMS_Identification'!D89)","v":""},"",{"$f":"IF(COUNTIF(L$2:L67,L67)=1,L67,\"\")","v":""},{"$nulls":5},{"$f":"+IF(X67=\"\",\"\",MAX(T$1:T66)+1)","v":""},{"$f":"IF('No CMS - Deviation - Limits'!B89=\"\",\"\",'No CMS - Deviation - Limits'!B89)","v":""},{"$f":"IF('No CMS - Deviation - Limits'!C89=\"\",\"\",'No CMS - Deviation - Limits'!C89)","v":""},"",{"$f":"IF(COUNTIF(V$2:V67,V67)=1,V67,\"\")","v":""},"","",{"$f":"+IFERROR(INDEX(#REF!,MATCH(ROW()-ROW($Y$1),T$2:T$955,0)),\"\")","v":""},null,{"$f":"+IF(AG67=\"\",\"\",MAX(AC$1:AC66)+1)","v":""},{"$f":"IF('Using CMS - Deviation - Limits'!B89=\"\",\"\",'Using CMS - Deviation - Limits'!B89)","v":""},{"$f":"IF('Using CMS - Deviation - Limits'!C89=\"\",\"\",'Using CMS - Deviation - Limits'!C89)","v":""},"",{"$f":"IF(COUNTIF(AF$2:AF67,AF67)=1,AF67,\"\")","v":""},"","",{"$f":"+IFERROR(INDEX(#REF!,MATCH(ROW()-ROW(AG$1),AC$2:AC$955,0)),\"\")","v":""},{"$nulls":3},{"$f":"+IF(AS67=\"\",\"\",MAX(AN$1:AN66)+1)","v":""},{"$f":"IF('Using CMS - Inop_OoC - CMS'!B89=\"\",\"\",'Using CMS - Inop_OoC - CMS'!B89)","v":""},{"$f":"IF('Using CMS - Inop_OoC - CMS'!C89=\"\",\"\",'Using CMS - Inop_OoC - CMS'!C89)","v":""},{"$f":"IF('Using CMS - Inop_OoC - CMS'!D89=\"\",\"\",'Using CMS - Inop_OoC - CMS'!D89)","v":""},{"$f":"AO67&AP67&Table10[[#This Row],[CMS]]","v":""},{"$f":"IF(COUNTIF(AR$2:AR67,AR67)=1,AR67,\"\")","v":""},{"$f":"+IFERROR(INDEX(AO$2:AO$955,MATCH(ROW()-ROW(AS$1),AN$2:AN$955,0)),\"\")","v":""},{"$f":"+IFERROR(INDEX(AP$2:AP$955,MATCH(ROW()-ROW(AS$1),AN$2:AN$955,0)),\"\")","v":""},"",null,{"$f":"+IF(BB67=\"\",\"\",MAX(AX$1:AX66)+1)","v":""},{"$f":"IF('Using CMS - Deviation - Limits'!B89=\"\",\"\",'Using CMS - Deviation - Limits'!B89)","v":""},{"$f":"IF('Using CMS - Deviation - Limits'!C89=\"\",\"\",'Using CMS - Deviation - Limits'!C89)","v":""},{"$f":"AY67&AZ67&Table10[[#This Row],[CMS]]","v":""},{"$f":"IF(COUNTIF(BA$2:BA67,BA67)=1,BA67,\"\")","v":""},"","",{"$f":"+IFERROR(INDEX(#REF!,MATCH(ROW()-ROW(BC$1),AX$2:AX$955,0)),\"\")","v":""}]
[{"$f":"+IF(D68=\"\",\"\",MAX(A$1:A67)+1)","v":""},{"$f":"IF('Process_&_CMS_Identification'!C90=\"\",\"\",'Process_&_CMS_Identification'!C90)","v":""},"",{"$f":"IF(COUNTIF(B$2:B68,B68)=1,B68,\"\")","v":""},{"$nulls":6},{"$f":"+IF(N68=\"\",\"\",MAX(K$1:K67)+1)","v":""},{"$f":"IF('Process_&_CMS_Identification'!D90=\"\",\"\",'Process_&_CMS_Identification'!D90)","v":""},"",{"$f":"IF(COUNTIF(L$2:L68,L68)=1,L68,\"\")","v":""},{"$nulls":5},{"$f":"+IF(X68=\"\",\"\",MAX(T$1:T67)+1)","v":""},{"$f":"IF('No CMS - Deviation - Limits'!B90=\"\",\"\",'No CMS - Deviation - Limits'!B90)","v":""},{"$f":"IF('No CMS - Deviation - Limits'!C90=\"\",\"\",'No CMS - Deviation - Limits'!C90)","v":""},"",{"$f":"IF(COUNTIF(V$2:V68,V68)=1,V68,\"\")","v":""},"","",{"$f":"+IFERROR(INDEX(#REF!,MATCH(ROW()-ROW($Y$1),T$2:T$955,0)),\"\")","v":""},null,{"$f":"+IF(AG68=\"\",\"\",MAX(AC$1:AC67)+1)","v":""},{"$f":"IF('Using CMS - Deviation - Limits'!B90=\"\",\"\",'Using CMS - Deviation - Limits'!B90)","v":""},{"$f":"IF('Using CMS - Deviation - Limits'!C90=\"\",\"\",'Using CMS - Deviation - Limits'!C90)","v":""},"",{"$f":"IF(COUNTIF(AF$2:AF68,AF68)=1,AF68,\"\")","v":""},"","",{"$f":"+IFERROR(INDEX(#REF!,MATCH(ROW()-ROW(AG$1),AC$2:AC$955,0)),\"\")","v":""},{"$nulls":3},{"$f":"+IF(AS68=\"\",\"\",MAX(AN$1:AN67)+1)","v":""},{"$f":"IF('Using CMS - Inop_OoC - CMS'!B90=\"\",\"\",'Using CMS - Inop_OoC - CMS'!B90)","v":""},{"$f":"IF('Using CMS - Inop_OoC - CMS'!C90=\"\",\"\",'Using CMS - Inop_OoC - CMS'!C90)","v":""},{"$f":"IF('Using CMS - Inop_OoC - CMS'!D90=\"\",\"\",'Using CMS - Inop_OoC - CMS'!D90)","v":""},{"$f":"AO68&AP68&Table10[[#This Row],[CMS]]","v":""},{"$f":"IF(COUNTIF(AR$2:AR68,AR68)=1,AR68,\"\")","v":""},"","","",null,{"$f":"+IF(BB68=\"\",\"\",MAX(AX$1:AX67)+1)","v":""},{"$f":"IF('Using CMS - Deviation - Limits'!B90=\"\",\"\",'Using CMS - Deviation - Limits'!B90)","v":""},{"$f":"IF('Using CMS - Deviation - Limits'!C90=\"\",\"\",'Using CMS - Deviation - Limits'!C90)","v":""},{"$f":"AY68&AZ68&Table10[[#This Row],[CMS]]","v":""},{"$f":"IF(COUNTIF(BA$2:BA68,BA68)=1,BA68,\"\")","v":""},"","",{"$f":"+IFERROR(INDEX(#REF!,MATCH(ROW()-ROW(BC$1),AX$2:AX$955,0)),\"\")","v":""}]
[{"$f":"+IF(D69=\"\",\"\",MAX(A$1:A68)+1)","v":""},{"$f":"IF('Process_&_CMS_Identification'!C91=\"\",\"\",'Process_&_CMS_Identification'!C91)","v":""},"",{"$f":"IF(COUNTIF(B$2:B69,B69)=1,B69,\"\")","v":""},{"$nulls":6},{"$f":"+IF(N69=\"\",\"\",MAX(K$1:K68)+1)","v":""},{"$f":"IF('Process_&_CMS_Identification'!D91=\"\",\"\",'Process_&_CMS_Identification'!D91)","v":""},"",{"$f":"IF(COUNTIF(L$2:L69,L69)=1,L69,\"\")","v":""},{"$nulls":5},{"$f":"+IF(X69=\"\",\"\",MAX(T$1:T68)+1)","v":""},{"$f":"IF('No CMS - Deviation - Limits'!B91=\"\",\"\",'No CMS - Deviation - Limits'!B91)","v":""},{"$f":"IF('No CMS - Deviation - Limits'!C91=\"\",\"\",'No CMS - Deviation - Limits'!C91)","v":""},"",{"$f":"IF(COUNTIF(V$2:V69,V69)=1,V69,\"\")","v":""},"","",{"$f":"+IFERROR(INDEX(#REF!,MATCH(ROW()-ROW($Y$1),T$2:T$955,0)),\"\")","v":""},null,{"$f":"+IF(AG69=\"\",\"\",MAX(AC$1:AC68)+1)","v":""},{"$f":"IF('Using CMS - Deviation - Limits'!B91=\"\",\"\",'Using CMS - Deviation - Limits'!B91)","v":""},{"$f":"IF('Using CMS - Deviation - Limits'!C91=\"\",\"\",'Using CMS - Deviation - Limits'!C91)","v":""},"",{"$f":"IF(COUNTIF(AF$2:AF69,AF69)=1,AF69,\"\")","v":""},"","",{"$f":"+IFERROR(INDEX(#REF!,MATCH(ROW()-ROW(AG$1),AC$2:AC$955,0)),\"\")","v":""},{"$nulls":3},{"$f":"+IF(AS69=\"\",\"\",MAX(AN$1:AN68)+1)","v":""},{"$f":"IF('Using CMS - Inop_OoC - CMS'!B91=\"\",\"\",'Using CMS - Inop_OoC - CMS'!B91)","v":""},{"$f":"IF('Using CMS - Inop_OoC - CMS'!C91=\"\",\"\",'Using CMS - Inop_OoC - CMS'!C91)","v":""},{"$f":"IF('Using CMS - Inop_OoC - CMS'!D91=\"\",\"\",'Using CMS - Inop_OoC - CMS'!D91)","v":""},{"$f":"AO69&AP69&Table10[[#This Row],[CMS]]","v":""},{"$f":"IF(COUNTIF(AR$2:AR69,AR69)=1,AR69,\"\")","v":""},"","","",null,{"$f":"+IF(BB69=\"\",\"\",MAX(AX$1:AX68)+1)","v":""},{"$f":"IF('Using CMS - Deviation - Limits'!B91=\"\",\"\",'Using CMS - Deviation - Limits'!B91)","v":""},{"$f":"IF('Using CMS - Deviation - Limits'!C91=\"\",\"\",'Using CMS - Deviation - Limits'!C91)","v":""},{"$f":"AY69&AZ69&Table10[[#This Row],[CMS]]","v":""},{"$f":"IF(COUNTIF(BA$2:BA69,BA69)=1,BA69,\"\")","v":""},"","",{"$f":"+IFERROR(INDEX(#REF!,MATCH(ROW()-ROW(BC$1),AX$2:AX$955,0)),\"\")","v":""}]
[{"$f":"+IF(D70=\"\",\"\",MAX(A$1:A69)+1)","v":""},{"$f":"IF('Process_&_CMS_Identification'!C92=\"\",\"\",'Process_&_CMS_Identification'!C92)","v":""},"",{"$f":"IF(COUNTIF(B$2:B70,B70)=1,B70,\"\")","v":""},{"$nulls":6},{"$f":"+IF(N70=\"\",\"\",MAX(K$1:K69)+1)","v":""},{"$f":"IF('Process_&_CMS_Identification'!D92=\"\",\"\",'Process_&_CMS_Identification'!D92)","v":""},"",{"$f":"IF(COUNTIF(L$2:L70,L70)=1,L70,\"\")","v":""},{"$nulls":5},{"$f":"+IF(X70=\"\",\"\",MAX(T$1:T69)+1)","v":""},{"$f":"IF('No CMS - Deviation - Limits'!B92=\"\",\"\",'No CMS - Deviation - Limits'!B92)","v":""},{"$f":"IF('No CMS - Deviation - Limits'!C92=\"\",\"\",'No CMS - Deviation - Limits'!C92)","v":""},"",{"$f":"IF(COUNTIF(V$2:V70,V70)=1,V70,\"\")","v":""},"","",{"$f":"+IFERROR(INDEX(#REF!,MATCH(ROW()-ROW($Y$1),T$2:T$955,0)),\"\")","v":""},null,{"$f":"+IF(AG70=\"\",\"\",MAX(AC$1:AC69)+1)","v":""},{"$f":"IF('Using CMS - Deviation - Limits'!B92=\"\",\"\",'Using CMS - Deviation - Limits'!B92)","v":""},{"$f":"IF('Using CMS - Deviation - Limits'!C92=\"\",\"\",'Using CMS - Deviation - Limits'!C92)","v":""},"",{"$f":"IF(COUNTIF(AF$2:AF70,AF70)=1,AF70,\"\")","v":""},"","",{"$f":"+IFERROR(INDEX(#REF!,MATCH(ROW()-ROW(AG$1),AC$2:AC$955,0)),\"\")","v":""},{"$nulls":3},{"$f":"+IF(AS70=\"\",\"\",MAX(AN$1:AN69)+1)","v":""},{"$f":"IF('Using CMS - Inop_OoC - CMS'!B92=\"\",\"\",'Using CMS - Inop_OoC - CMS'!B92)","v":""},{"$f":"IF('Using CMS - Inop_OoC - CMS'!C92=\"\",\"\",'Using CMS - Inop_OoC - CMS'!C92)","v":""},{"$f":"IF('Using CMS - Inop_OoC - CMS'!D92=\"\",\"\",'Using CMS - Inop_OoC - CMS'!D92)","v":""},{"$f":"AO70&AP70&Table10[[#This Row],[CMS]]","v":""},{"$f":"IF(COUNTIF(AR$2:AR70,AR70)=1,AR70,\"\")","v":""},"","","",null,{"$f":"+IF(BB70=\"\",\"\",MAX(AX$1:AX69)+1)","v":""},{"$f":"IF('Using CMS - Deviation - Limits'!B92=\"\",\"\",'Using CMS - Deviation - Limits'!B92)","v":""},{"$f":"IF('Using CMS - Deviation - Limits'!C92=\"\",\"\",'Using CMS - Deviation - Limits'!C92)","v":""},{"$f":"AY70&AZ70&Table10[[#This Row],[CMS]]","v":""},{"$f":"IF(COUNTIF(BA$2:BA70,BA70)=1,BA70,\"\")","v":""},"","",{"$f":"+IFERROR(INDEX(#REF!,MATCH(ROW()-ROW(BC$1),AX$2:AX$955,0)),\"\")","v":""}]
[{"$f":"+IF(D71=\"\",\"\",MAX(A$1:A70)+1)","v":""},{"$f":"IF('Process_&_CMS_Identification'!C93=\"\",\"\",'Process_&_CMS_Identification'!C93)","v":""},"",{"$f":"IF(COUNTIF(B$2:B71,B71)=1,B71,\"\")","v":""},{"$nulls":6},{"$f":"+IF(N71=\"\",\"\",MAX(K$1:K70)+1)","v":""},{"$f":"IF('Process_&_CMS_Identification'!D93=\"\",\"\",'Process_&_CMS_Identification'!D93)","v":""},"",{"$f":"IF(COUNTIF(L$2:L71,L71)=1,L71,\"\")","v":""},{"$nulls":5},{"$f":"+IF(X71=\"\",\"\",MAX(T$1:T70)+1)","v":""},{"$f":"IF('No CMS - Deviation - Limits'!B93=\"\",\"\",'No CMS - Deviation - Limits'!B93)","v":""},{"$f":"IF('No CMS - Deviation - Limits'!C93=\"\",\"\",'No CMS - Deviation - Limits'!C93)","v":""},"",{"$f":"IF(COUNTIF(V$2:V71,V71)=1,V71,\"\")","v":""},"","",{"$f":"+IFERROR(INDEX(#REF!,MATCH(ROW()-ROW($Y$1),T$2:T$955,0)),\"\")","v":""},null,{"$f":"+IF(AG71=\"\",\"\",MAX(AC$1:AC70)+1)","v":""},{"$f":"IF('Using CMS - Deviation - Limits'!B93=\"\",\"\",'Using CMS - Deviation - Limits'!B93)","v":""},{"$f":"IF('Using CMS - Deviation - Limits'!C93=\"\",\"\",'Using CMS - Deviation - Limits'!C93)","v":""},"",{"$f":"IF(COUNTIF(AF$2:AF71,AF71)=1,AF71,\"\")","v":""},"","",{"$f":"+IFERROR(INDEX(#REF!,MATCH(ROW()-ROW(AG$1),AC$2:AC$955,0)),\"\")","v":""},{"$nulls":3},{"$f":"+IF(AS71=\"\",\"\",MAX(AN$1:AN70)+1)","v":""},{"$f":"IF('Using CMS - Inop_OoC - CMS'!B93=\"\",\"\",'Using CMS - Inop_OoC - CMS'!B93)","v":""},{"$f":"IF('Using CMS - Inop_OoC - CMS'!C93=\"\",\"\",'Using CMS - Inop_OoC - CMS'!C93)","v":""},{"$f":"IF('Using CMS - Inop_OoC - CMS'!D93=\"\",\"\",'Using CMS - Inop_OoC - CMS'!D93)","v":""},{"$f":"AO71&AP71&Table10[[#This Row],[CMS]]","v":""},{"$f":"IF(COUNTIF(AR$2:AR71,AR71)=1,AR71,\"\")","v":""},"","","",null,{"$f":"+IF(BB71=\"\",\"\",MAX(AX$1:AX70)+1)","v":""},{"$f":"IF('Using CMS - Deviation - Limits'!B93=\"\",\"\",'Using CMS - Deviation - Limits'!B93)","v":""},{"$f":"IF('Using CMS - Deviation - Limits'!C93=\"\",\"\",'Using CMS - Deviation - Limits'!C93)","v":""},{"$f":"AY71&AZ71&Table10[[#This Row],[CMS]]","v":""},{"$f":"IF(COUNTIF(BA$2:BA71,BA71)=1,BA71,\"\")","v":""},"","",{"$f":"+IFERROR(INDEX(#REF!,MATCH(ROW()-ROW(BC$1),AX$2:AX$955,0)),\"\")","v":""}]
[{"$f":"+IF(D72=\"\",\"\",MAX(A$1:A71)+1)","v":""},{"$f":"IF('Process_&_CMS_Identification'!C94=\"\",\"\",'Process_&_CMS_Identification'!C94)","v":""},"",{"$f":"IF(COUNTIF(B$2:B72,B72)=1,B72,\"\")","v":""},{"$nulls":6},{"$f":"+IF(N72=\"\",\"\",MAX(K$1:K71)+1)","v":""},{"$f":"IF('Process_&_CMS_Identification'!D94=\"\",\"\",'Process_&_CMS_Identification'!D94)","v":""},"",{"$f":"IF(COUNTIF(L$2:L72,L72)=1,L72,\"\")","v":""},{"$nulls":5},{"$f":"+IF(X72=\"\",\"\",MAX(T$1:T71)+1)","v":""},{"$f":"IF('No CMS - Deviation - Limits'!B94=\"\",\"\",'No CMS - Deviation - Limits'!B94)","v":""},{"$f":"IF('No CMS - Deviation - Limits'!C94=\"\",\"\",'No CMS - Deviation - Limits'!C94)","v":""},"",{"$f":"IF(COUNTIF(V$2:V72,V72)=1,V72,\"\")","v":""},"","",{"$f":"+IFERROR(INDEX(#REF!,MATCH(ROW()-ROW($Y$1),T$2:T$955,0)),\"\")","v":""},null,{"$f":"+IF(AG72=\"\",\"\",MAX(AC$1:AC71)+1)","v":""},{"$f":"IF('Using CMS - Deviation - Limits'!B94=\"\",\"\",'Using CMS - Deviation - Limits'!B94)","v":""},{"$f":"IF('Using CMS - Deviation - Limits'!C94=\"\",\"\",'Using CMS - Deviation - Limits'!C94)","v":""},"",{"$f":"IF(COUNTIF(AF$2:AF72,AF72)=1,AF72,\"\")","v":""},"","",{"$f":"+IFERROR(INDEX(#REF!,MATCH(ROW()-ROW(AG$1),AC$2:AC$955,0)),\"\")","v":""},{"$nulls":3},{"$f":"+IF(AS72=\"\",\"\",MAX(AN$1:AN71)+1)","v":""},{"$f":"IF('Using CMS - Inop_OoC - CMS'!B94=\"\",\"\",'Using CMS - Inop_OoC - CMS'!B94)","v":""},{"$f":"IF('Using CMS - Inop_OoC - CMS'!C94=\"\",\"\",'Using CMS - Inop_OoC - CMS'!C94)","v":""},{"$f":"IF('Using CMS - Inop_OoC - CMS'!D94=\"\",\"\",'Using CMS - Inop_OoC - CMS'!D94)","v":""},{"$f":"AO72&AP72&Table10[[#This Row],[CMS]]","v":""},{"$f":"IF(COUNTIF(AR$2:AR72,AR72)=1,AR72,\"\")","v":""},"","","",null,{"$f":"+IF(BB72=\"\",\"\",MAX(AX$1:AX71)+1)","v":""},{"$f":"IF('Using CMS - Deviation - Limits'!B94=\"\",\"\",'Using CMS - Deviation - Limits'!B94)","v":""},{"$f":"IF('Using CMS - Deviation - Limits'!C94=\"\",\"\",'Using CMS - Deviation - Limits'!C94)","v":""},{"$f":"AY72&AZ72&Table10[[#This Row],[CMS]]","v":""},{"$f":"IF(COUNTIF(BA$2:BA72,BA72)=1,BA72,\"\")","v":""},"","",{"$f":"+IFERROR(INDEX(#REF!,MATCH(ROW()-ROW(BC$1),AX$2:AX$955,0)),\"\")","v":""}]
[{"$f":"+IF(D73=\"\",\"\",MAX(A$1:A72)+1)","v":""},{"$f":"IF('Process_&_CMS_Identification'!C95=\"\",\"\",'Process_&_CMS_Identification'!C95)","v":""},"",{"$f":"IF(COUNTIF(B$2:B73,B73)=1,B73,\"\")","v":""},{"$nulls":6},{"$f":"+IF(N73=\"\",\"\",MAX(K$1:K72)+1)","v":""},{"$f":"IF('Process_&_CMS_Identification'!D95=\"\",\"\",'Process_&_CMS_Identification'!D95)","v":""},"",{"$f":"IF(COUNTIF(L$2:L73,L73)=1,L73,\"\")","v":""},{"$nulls":5},{"$f":"+IF(X73=\"\",\"\",MAX(T$1:T72)+1)","v":""},{"$f":"IF('No CMS - Deviation - Limits'!B95=\"\",\"\",'No CMS - Deviation - Limits'!B95)","v":""},{"$f":"IF('No CMS - Deviation - Limits'!C95=\"\",\"\",'No CMS - Deviation - Limits'!C95)","v":""},"",{"$f":"IF(COUNTIF(V$2:V73,V73)=1,V73,\"\")","v":""},"","",{"$f":"+IFERROR(INDEX(#REF!,MATCH(ROW()-ROW($Y$1),T$2:T$955,0)),\"\")","v":""},null,{"$f":"+IF(AG73=\"\",\"\",MAX(AC$1:AC72)+1)","v":""},{"$f":"IF('Using CMS - Deviation - Limits'!B95=\"\",\"\",'Using CMS - Deviation - Limits'!B95)","v":""},{"$f":"IF('Using CMS - Deviation - Limits'!C95=\"\",\"\",'Using CMS - Deviation - Limits'!C95)","v":""},"",{"$f":"IF(COUNTIF(AF$2:AF73,AF73)=1,AF73,\"\")","v":""},"","",{"$f":"+IFERROR(INDEX(#REF!,MATCH(ROW()-ROW(AG$1),AC$2:AC$955,0)),\"\")","v":""},{"$nulls":3},{"$f":"+IF(AS73=\"\",\"\",MAX(AN$1:AN72)+1)","v":""},{"$f":"IF('Using CMS - Inop_OoC - CMS'!B95=\"\",\"\",'Using CMS - Inop_OoC - CMS'!B95)","v":""},{"$f":"IF('Using CMS - Inop_OoC - CMS'!C95=\"\",\"\",'Using CMS - Inop_OoC - CMS'!C95)","v":""},{"$f":"IF('Using CMS - Inop_OoC - CMS'!D95=\"\",\"\",'Using CMS - Inop_OoC - CMS'!D95)","v":""},{"$f":"AO73&AP73&Table10[[#This Row],[CMS]]","v":""},{"$f":"IF(COUNTIF(AR$2:AR73,AR73)=1,AR73,\"\")","v":""},"","","",null,{"$f":"+IF(BB73=\"\",\"\",MAX(AX$1:AX72)+1)","v":""},{"$f":"IF('Using CMS - Deviation - Limits'!B95=\"\",\"\",'Using CMS - Deviation - Limits'!B95)","v":""},{"$f":"IF('Using CMS - Deviation - Limits'!C95=\"\",\"\",'Using CMS - Deviation - Limits'!C95)","v":""},{"$f":"AY73&AZ73&Table10[[#This Row],[CMS]]","v":""},{"$f":"IF(COUNTIF(BA$2:BA73,BA73)=1,BA73,\"\")","v":""},"","",{"$f":"+IFERROR(INDEX(#REF!,MATCH(ROW()-ROW(BC$1),AX$2:AX$955,0)),\"\")","v":""}]
[{"$f":"+IF(D74=\"\",\"\",MAX(A$1:A73)+1)","v":""},{"$f":"IF('Process_&_CMS_Identification'!C96=\"\",\"\",'Process_&_CMS_Identification'!C96)","v":""},"",{"$f":"IF(COUNTIF(B$2:B74,B74)=1,B74,\"\")","v":""},{"$nulls":6},{"$f":"+IF(N74=\"\",\"\",MAX(K$1:K73)+1)","v":""},{"$f":"IF('Process_&_CMS_Identification'!D96=\"\",\"\",'Process_&_CMS_Identification'!D96)","v":""},"",{"$f":"IF(COUNTIF(L$2:L74,L74)=1,L74,\"\")","v":""},{"$nulls":5},{"$f":"+IF(X74=\"\",\"\",MAX(T$1:T73)+1)","v":""},{"$f":"IF('No CMS - Deviation - Limits'!B96=\"\",\"\",'No CMS - Deviation - Limits'!B96)","v":""},{"$f":"IF('No CMS - Deviation - Limits'!C96=\"\",\"\",'No CMS - Deviation - Limits'!C96)","v":""},"",{"$f":"IF(COUNTIF(V$2:V74,V74)=1,V74,\"\")","v":""},"","",{"$f":"+IFERROR(INDEX(#REF!,MATCH(ROW()-ROW($Y$1),T$2:T$955,0)),\"\")","v":""},null,{"$f":"+IF(AG74=\"\",\"\",MAX(AC$1:AC73)+1)","v":""},{"$f":"IF('Using CMS - Deviation - Limits'!B96=\"\",\"\",'Using CMS - Deviation - Limits'!B96)","v":""},{"$f":"IF('Using CMS - Deviation - Limits'!C96=\"\",\"\",'Using CMS - Deviation - Limits'!C96)","v":""},"",{"$f":"IF(COUNTIF(AF$2:AF74,AF74)=1,AF74,\"\")","v":""},"","",{"$f":"+IFERROR(INDEX(#REF!,MATCH(ROW()-ROW(AG$1),AC$2:AC$955,0)),\"\")","v":""},{"$nulls":3},{"$f":"+IF(AS74=\"\",\"\",MAX(AN$1:AN73)+1)","v":""},{"$f":"IF('Using CMS - Inop_OoC - CMS'!B96=\"\",\"\",'Using CMS - Inop_OoC - CMS'!B96)","v":""},{"$f":"IF('Using CMS - Inop_OoC - CMS'!C96=\"\",\"\",'Using CMS - Inop_OoC - CMS'!C96)","v":""},{"$f":"IF('Using CMS - Inop_OoC - CMS'!D96=\"\",\"\",'Using CMS - Inop_OoC - CMS'!D96)","v":""},{"$f":"AO74&AP74&Table10[[#This Row],[CMS]]","v":""},{"$f":"IF(COUNTIF(AR$2:AR74,AR74)=1,AR74,\"\")","v":""},"","","",null,{"$f":"+IF(BB74=\"\",\"\",MAX(AX$1:AX73)+1)","v":""},{"$f":"IF('Using CMS - Deviation - Limits'!B96=\"\",\"\",'Using CMS - Deviation - Limits'!B96)","v":""},{"$f":"IF('Using CMS - Deviation - Limits'!C96=\"\",\"\",'Using CMS - Deviation - Limits'!C96)","v":""},{"$f":"AY74&AZ74&Table10[[#This Row],[CMS]]","v":""},{"$f":"IF(COUNTIF(BA$2:BA74,BA74)=1,BA74,\"\")","v":""},"","",{"$f":"+IFERROR(INDEX(#REF!,MATCH(ROW()-ROW(BC$1),AX$2:AX$955,0)),\"\")","v":""}]
[{"$f":"+IF(D75=\"\",\"\",MAX(A$1:A74)+1)","v":""},{"$f":"IF('Process_&_CMS_Identification'!C97=\"\",\"\",'Process_&_CMS_Identification'!C97)","v":""},"",{"$f":"IF(COUNTIF(B$2:B75,B75)=1,B75,\"\")","v":""},{"$nulls":6},{"$f":"+IF(N75=\"\",\"\",MAX(K$1:K74)+1)","v":""},{"$f":"IF('Process_&_CMS_Identification'!D97=\"\",\"\",'Process_&_CMS_Identification'!D97)","v":""},"",{"$f":"IF(COUNTIF(L$2:L75,L75)=1,L75,\"\")","v":""},{"$nulls":5},{"$f":"+IF(X75=\"\",\"\",MAX(T$1:T74)+1)","v":""},{"$f":"IF('No CMS - Deviation - Limits'!B97=\"\",\"\",'No CMS - Deviation - Limits'!B97)","v":""},{"$f":"IF('No CMS - Deviation - Limits'!C97=\"\",\"\",'No CMS - Deviation - Limits'!C97)","v":""},"",{"$f":"IF(COUNTIF(V$2:V75,V75)=1,V75,\"\")","v":""},"","",{"$f":"+IFERROR(INDEX(#REF!,MATCH(ROW()-ROW($Y$1),T$2:T$955,0)),\"\")","v":""},null,{"$f":"+IF(AG75=\"\",\"\",MAX(AC$1:AC74)+1)","v":""},{"$f":"IF('Using CMS - Deviation - Limits'!B97=\"\",\"\",'Using CMS - Deviation - Limits'!B97)","v":""},{"$f":"IF('Using CMS - Deviation - Limits'!C97=\"\",\"\",'Using CMS - Deviation - Limits'!C97)","v":""},"",{"$f":"IF(COUNTIF(AF$2:AF75,AF75)=1,AF75,\"\")","v":""},"","",{"$f":"+IFERROR(INDEX(#REF!,MATCH(ROW()-ROW(AG$1),AC$2:AC$955,0)),\"\")","v":""},{"$nulls":3},{"$f":"+IF(AS75=\"\",\"\",MAX(AN$1:AN74)+1)","v":""},{"$f":"IF('Using CMS - Inop_OoC - CMS'!B97=\"\",\"\",'Using CMS - Inop_OoC - CMS'!B97)","v":""},{"$f":"IF('Using CMS - Inop_OoC - CMS'!C97=\"\",\"\",'Using CMS - Inop_OoC - CMS'!C97)","v":""},{"$f":"IF('Using CMS - Inop_OoC - CMS'!D97=\"\",\"\",'Using CMS - Inop_OoC - CMS'!D97)","v":""},{"$f":"AO75&AP75&Table10[[#This Row],[CMS]]","v":""},{"$f":"IF(COUNTIF(AR$2:AR75,AR75)=1,AR75,\"\")","v":""},"","","",null,{"$f":"+IF(BB75=\"\",\"\",MAX(AX$1:AX74)+1)","v":""},{"$f":"IF('Using CMS - Deviation - Limits'!B97=\"\",\"\",'Using CMS - Deviation - Limits'!B97)","v":""},{"$f":"IF('Using CMS - Deviation - Limits'!C97=\"\",\"\",'Using CMS - Deviation - Limits'!C97)","v":""},{"$f":"AY75&AZ75&Table10[[#This Row],[CMS]]","v":""},{"$f":"IF(COUNTIF(BA$2:BA75,BA75)=1,BA75,\"\")","v":""},"","",{"$f":"+IFERROR(INDEX(#REF!,MATCH(ROW()-ROW(BC$1),AX$2:AX$955,0)),\"\")","v":""}]
[{"$f":"+IF(D76=\"\",\"\",MAX(A$1:A75)+1)","v":""},{"$f":"IF('Process_&_CMS_Identification'!C98=\"\",\"\",'Process_&_CMS_Identification'!C98)","v":""},"",{"$f":"IF(COUNTIF(B$2:B76,B76)=1,B76,\"\")","v":""},{"$nulls":6},{"$f":"+IF(N76=\"\",\"\",MAX(K$1:K75)+1)","v":""},{"$f":"IF('Process_&_CMS_Identification'!D98=\"\",\"\",'Process_&_CMS_Identification'!D98)","v":""},"",{"$f":"IF(COUNTIF(L$2:L76,L76)=1,L76,\"\")","v":""},{"$nulls":5},{"$f":"+IF(X76=\"\",\"\",MAX(T$1:T75)+1)","v":""},{"$f":"IF('No CMS - Deviation - Limits'!B98=\"\",\"\",'No CMS - Deviation - Limits'!B98)","v":""},{"$f":"IF('No CMS - Deviation - Limits'!C98=\"\",\"\",'No CMS - Deviation - Limits'!C98)","v":""},"",{"$f":"IF(COUNTIF(V$2:V76,V76)=1,V76,\"\")","v":""},"","",{"$f":"+IFERROR(INDEX(#REF!,MATCH(ROW()-ROW($Y$1),T$2:T$955,0)),\"\")","v":""},null,{"$f":"+IF(AG76=\"\",\"\",MAX(AC$1:AC75)+1)","v":""},{"$f":"IF('Using CMS - Deviation - Limits'!B98=\"\",\"\",'Using CMS - Deviation - Limits'!B98)","v":""},{"$f":"IF('Using CMS - Deviation - Limits'!C98=\"\",\"\",'Using CMS - Deviation - Limits'!C98)","v":""},"",{"$f":"IF(COUNTIF(AF$2:AF76,AF76)=1,AF76,\"\")","v":""},"","",{"$f":"+IFERROR(INDEX(#REF!,MATCH(ROW()-ROW(AG$1),AC$2:AC$955,0)),\"\")","v":""},{"$nulls":3},{"$f":"+IF(AS76=\"\",\"\",MAX(AN$1:AN75)+1)","v":""},{"$f":"IF('Using CMS - Inop_OoC - CMS'!B98=\"\",\"\",'Using CMS - Inop_OoC - CMS'!B98)","v":""},{"$f":"IF('Using CMS - Inop_OoC - CMS'!C98=\"\",\"\",'Using CMS - Inop_OoC - CMS'!C98)","v":""},{"$f":"IF('Using CMS - Inop_OoC - CMS'!D98=\"\",\"\",'Using CMS - Inop_OoC - CMS'!D98)","v":""},{"$f":"AO76&AP76&Table10[[#This Row],[CMS]]","v":""},{"$f":"IF(COUNTIF(AR$2:AR76,AR76)=1,AR76,\"\")","v":""},"","","",null,{"$f":"+IF(BB76=\"\",\"\",MAX(AX$1:AX75)+1)","v":""},{"$f":"IF('Using CMS - Deviation - Limits'!B98=\"\",\"\",'Using CMS - Deviation - Limits'!B98)","v":""},{"$f":"IF('Using CMS - Deviation - Limits'!C98=\"\",\"\",'Using CMS - Deviation - Limits'!C98)","v":""},{"$f":"AY76&AZ76&Table10[[#This Row],[CMS]]","v":""},{"$f":"IF(COUNTIF(BA$2:BA76,BA76)=1,BA76,\"\")","v":""},"","",{"$f":"+IFERROR(INDEX(#REF!,MATCH(ROW()-ROW(BC$1),AX$2:AX$955,0)),\"\")","v":""}]
[{"$f":"+IF(D77=\"\",\"\",MAX(A$1:A76)+1)","v":""},{"$f":"IF('Process_&_CMS_Identification'!C99=\"\",\"\",'Process_&_CMS_Identification'!C99)","v":""},"",{"$f":"IF(COUNTIF(B$2:B77,B77)=1,B77,\"\")","v":""},{"$nulls":6},{"$f":"+IF(N77=\"\",\"\",MAX(K$1:K76)+1)","v":""},{"$f":"IF('Process_&_CMS_Identification'!D99=\"\",\"\",'Process_&_CMS_Identification'!D99)","v":""},"",{"$f":"IF(COUNTIF(L$2:L77,L77)=1,L77,\"\")","v":""},{"$nulls":5},{"$f":"+IF(X77=\"\",\"\",MAX(T$1:T76)+1)","v":""},{"$f":"IF('No CMS - Deviation - Limits'!B99=\"\",\"\",'No CMS - Deviation - Limits'!B99)","v":""},{"$f":"IF('No CMS - Deviation - Limits'!C99=\"\",\"\",'No CMS - Deviation - Limits'!C99)","v":""},"",{"$f":"IF(COUNTIF(V$2:V77,V77)=1,V77,\"\")","v":""},"","",{"$f":"+IFERROR(INDEX(#REF!,MATCH(ROW()-ROW($Y$1),T$2:T$955,0)),\"\")","v":""},null,{"$f":"+IF(AG77=\"\",\"\",MAX(AC$1:AC76)+1)","v":""},{"$f":"IF('Using CMS - Deviation - Limits'!B99=\"\",\"\",'Using CMS - Deviation - Limits'!B99)","v":""},{"$f":"IF('Using CMS - Deviation - Limits'!C99=\"\",\"\",'Using CMS - Deviation - Limits'!C99)","v":""},"",{"$f":"IF(COUNTIF(AF$2:AF77,AF77)=1,AF77,\"\")","v":""},"","",{"$f":"+IFERROR(INDEX(#REF!,MATCH(ROW()-ROW(AG$1),AC$2:AC$955,0)),\"\")","v":""},{"$nulls":3},{"$f":"+IF(AS77=\"\",\"\",MAX(AN$1:AN76)+1)","v":""},{"$f":"IF('Using CMS - Inop_OoC - CMS'!B99=\"\",\"\",'Using CMS - Inop_OoC - CMS'!B99)","v":""},{"$f":"IF('Using CMS - Inop_OoC - CMS'!C99=\"\",\"\",'Using CMS - Inop_OoC - CMS'!C99)","v":""},{"$f":"IF('Using CMS - Inop_OoC - CMS'!D99=\"\",\"\",'Using CMS - Inop_OoC - CMS'!D99)","v":""},{"$f":"AO77&AP77&Table10[[#This Row],[CMS]]","v":""},{"$f":"IF(COUNTIF(AR$2:AR77,AR77)=1,AR77,\"\")","v":""},"","","",null,{"$f":"+IF(BB77=\"\",\"\",MAX(AX$1:AX76)+1)","v":""},{"$f":"IF('Using CMS - Deviation - Limits'!B99=\"\",\"\",'Using CMS - Deviation - Limits'!B99)","v":""},{"$f":"IF('Using CMS - Deviation - Limits'!C99=\"\",\"\",'Using CMS - Deviation - Limits'!C99)","v":""},{"$f":"AY77&AZ77&Table10[[#This Row],[CMS]]","v":""},{"$f":"IF(COUNTIF(BA$2:BA77,BA77)=1,BA77,\"\")","v":""},"","",{"$f":"+IFERROR(INDEX(#REF!,MATCH(ROW()-ROW(BC$1),AX$2:AX$955,0)),\"\")","v":""}]
[{"$f":"+IF(D78=\"\",\"\",MAX(A$1:A77)+1)","v":""},{"$f":"IF('Process_&_CMS_Identification'!C100=\"\",\"\",'Process_&_CMS_Identification'!C100)","v":""},"",{"$f":"IF(COUNTIF(B$2:B78,B78)=1,B78,\"\")","v":""},{"$nulls":6},{"$f":"+IF(N78=\"\",\"\",MAX(K$1:K77)+1)","v":""},{"$f":"IF('Process_&_CMS_Identification'!D100=\"\",\"\",'Process_&_CMS_Identification'!D100)","v":""},"",{"$f":"IF(COUNTIF(L$2:L78,L78)=1,L78,\"\")","v":""},{"$nulls":5},{"$f":"+IF(X78=\"\",\"\",MAX(T$1:T77)+1)","v":""},{"$f":"IF('No CMS - Deviation - Limits'!B100=\"\",\"\",'No CMS - Deviation - Limits'!B100)","v":""},{"$f":"IF('No CMS - Deviation - Limits'!C100=\"\",\"\",'No CMS - Deviation - Limits'!C100)","v":""},"",{"$f":"IF(COUNTIF(V$2:V78,V78)=1,V78,\"\")","v":""},"","",{"$f":"+IFERROR(INDEX(#REF!,MATCH(ROW()-ROW($Y$1),T$2:T$955,0)),\"\")","v":""},null,{"$f":"+IF(AG78=\"\",\"\",MAX(AC$1:AC77)+1)","v":""},{"$f":"IF('Using CMS - Deviation - Limits'!B100=\"\",\"\",'Using CMS - Deviation - Limits'!B100)","v":""},{"$f":"IF('Using CMS - Deviation - Limits'!C100=\"\",\"\",'Using CMS - Deviation - Limits'!C100)","v":""},"",{"$f":"IF(COUNTIF(AF$2:AF78,AF78)=1,AF78,\"\")","v":""},"","",{"$f":"+IFERROR(INDEX(#REF!,MATCH(ROW()-ROW(AG$1),AC$2:AC$955,0)),\"\")","v":""},{"$nulls":3},{"$f":"+IF(AS78=\"\",\"\",MAX(AN$1:AN77)+1)","v":""},{"$f":"IF('Using CMS - Inop_OoC - CMS'!B100=\"\",\"\",'Using CMS - Inop_OoC - CMS'!B100)","v":""},{"$f":"IF('Using CMS - Inop_OoC - CMS'!C100=\"\",\"\",'Using CMS - Inop_OoC - CMS'!C100)","v":""},{"$f":"IF('Using CMS - Inop_OoC - CMS'!D100=\"\",\"\",'Using CMS - Inop_OoC - CMS'!D100)","v":""},{"$f":"AO78&AP78&Table10[[#This Row],[CMS]]","v":""},{"$f":"IF(COUNTIF(AR$2:AR78,AR78)=1,AR78,\"\")","v":""},"","","",null,{"$f":"+IF(BB78=\"\",\"\",MAX(AX$1:AX77)+1)","v":""},{"$f":"IF('Using CMS - Deviation - Limits'!B100=\"\",\"\",'Using CMS - Deviation - Limits'!B100)","v":""},{"$f":"IF('Using CMS - Deviation - Limits'!C100=\"\",\"\",'Using CMS - Deviation - Limits'!C100)","v":""},{"$f":"AY78&AZ78&Table10[[#This Row],[CMS]]","v":""},{"$f":"IF(COUNTIF(BA$2:BA78,BA78)=1,BA78,\"\")","v":""},"","",{"$f":"+IFERROR(INDEX(#REF!,MATCH(ROW()-ROW(BC$1),AX$2:AX$955,0)),\"\")","v":""}]
[{"$f":"+IF(D79=\"\",\"\",MAX(A$1:A78)+1)","v":""},{"$f":"IF('Process_&_CMS_Identification'!C101=\"\",\"\",'Process_&_CMS_Identification'!C101)","v":""},"",{"$f":"IF(COUNTIF(B$2:B79,B79)=1,B79,\"\")","v":""},{"$nulls":6},{"$f":"+IF(N79=\"\",\"\",MAX(K$1:K78)+1)","v":""},{"$f":"IF('Process_&_CMS_Identification'!D101=\"\",\"\",'Process_&_CMS_Identification'!D101)","v":""},"",{"$f":"IF(COUNTIF(L$2:L79,L79)=1,L79,\"\")","v":""},{"$nulls":5},{"$f":"+IF(X79=\"\",\"\",MAX(T$1:T78)+1)","v":""},{"$f":"IF('No CMS - Deviation - Limits'!B101=\"\",\"\",'No CMS - Deviation - Limits'!B101)","v":""},{"$f":"IF('No CMS - Deviation - Limits'!C101=\"\",\"\",'No CMS - Deviation - Limits'!C101)","v":""},"",{"$f":"IF(COUNTIF(V$2:V79,V79)=1,V79,\"\")","v":""},"","",{"$f":"+IFERROR(INDEX(#REF!,MATCH(ROW()-ROW($Y$1),T$2:T$955,0)),\"\")","v":""},null,{"$f":"+IF(AG79=\"\",\"\",MAX(AC$1:AC78)+1)","v":""},{"$f":"IF('Using CMS - Deviation - Limits'!B101=\"\",\"\",'Using CMS - Deviation - Limits'!B101)","v":""},{"$f":"IF('Using CMS - Deviation - Limits'!C101=\"\",\"\",'Using CMS - Deviation - Limits'!C101)","v":""},"",{"$f":"IF(COUNTIF(AF$2:AF79,AF79)=1,AF79,\"\")","v":""},"","",{"$f":"+IFERROR(INDEX(#REF!,MATCH(ROW()-ROW(AG$1),AC$2:AC$955,0)),\"\")","v":""},{"$nulls":3},{"$f":"+IF(AS79=\"\",\"\",MAX(AN$1:AN78)+1)","v":""},{"$f":"IF('Using CMS - Inop_OoC - CMS'!B101=\"\",\"\",'Using CMS - Inop_OoC - CMS'!B101)","v":""},{"$f":"IF('Using CMS - Inop_OoC - CMS'!C101=\"\",\"\",'Using CMS - Inop_OoC - CMS'!C101)","v":""},{"$f":"IF('Using CMS - Inop_OoC - CMS'!D101=\"\",\"\",'Using CMS - Inop_OoC - CMS'!D101)","v":""},{"$f":"AO79&AP79&Table10[[#This Row],[CMS]]","v":""},{"$f":"IF(COUNTIF(AR$2:AR79,AR79)=1,AR79,\"\")","v":""},"","","",null,{"$f":"+IF(BB79=\"\",\"\",MAX(AX$1:AX78)+1)","v":""},{"$f":"IF('Using CMS - Deviation - Limits'!B101=\"\",\"\",'Using CMS - Deviation - Limits'!B101)","v":""},{"$f":"IF('Using CMS - Deviation - Limits'!C101=\"\",\"\",'Using CMS - Deviation - Limits'!C101)","v":""},{"$f":"AY79&AZ79&Table10[[#This Row],[CMS]]","v":""},{"$f":"IF(COUNTIF(BA$2:BA79,BA79)=1,BA79,\"\")","v":""},"","",{"$f":"+IFERROR(INDEX(#REF!,MATCH(ROW()-ROW(BC$1),AX$2:AX$955,0)),\"\")","v":""}]
[{"$f":"+IF(D80=\"\",\"\",MAX(A$1:A79)+1)","v":""},{"$f":"IF('Process_&_CMS_Identification'!C102=\"\",\"\",'Process_&_CMS_Identification'!C102)","v":""},"",{"$f":"IF(COUNTIF(B$2:B80,B80)=1,B80,\"\")","v":""},{"$nulls":6},{"$f":"+IF(N80=\"\",\"\",MAX(K$1:K79)+1)","v":""},{"$f":"IF('Process_&_CMS_Identification'!D102=\"\",\"\",'Process_&_CMS_Identification'!D102)","v":""},"",{"$f":"IF(COUNTIF(L$2:L80,L80)=1,L80,\"\")","v":""},{"$nulls":5},{"$f":"+IF(X80=\"\",\"\",MAX(T$1:T79)+1)","v":""},{"$f":"IF('No CMS - Deviation - Limits'!B102=\"\",\"\",'No CMS - Deviation - Limits'!B102)","v":""},{"$f":"IF('No CMS - Deviation - Limits'!C102=\"\",\"\",'No CMS - Deviation - Limits'!C102)","v":""},"",{"$f":"IF(COUNTIF(V$2:V80,V80)=1,V80,\"\")","v":""},"","",{"$f":"+IFERROR(INDEX(#REF!,MATCH(ROW()-ROW($Y$1),T$2:T$955,0)),\"\")","v":""},null,{"$f":"+IF(AG80=\"\",\"\",MAX(AC$1:AC79)+1)","v":""},{"$f":"IF('Using CMS - Deviation - Limits'!B102=\"\",\"\",'Using CMS - Deviation - Limits'!B102)","v":""},{"$f":"IF('Using CMS - Deviation - Limits'!C102=\"\",\"\",'Using CMS - Deviation - Limits'!C102)","v":""},"",{"$f":"IF(COUNTIF(AF$2:AF80,AF80)=1,AF80,\"\")","v":""},"","",{"$f":"+IFERROR(INDEX(#REF!,MATCH(ROW()-ROW(AG$1),AC$2:AC$955,0)),\"\")","v":""},{"$nulls":3},{"$f":"+IF(AS80=\"\",\"\",MAX(AN$1:AN79)+1)","v":""},{"$f":"IF('Using CMS - Inop_OoC - CMS'!B102=\"\",\"\",'Using CMS - Inop_OoC - CMS'!B102)","v":""},{"$f":"IF('Using CMS - Inop_OoC - CMS'!C102=\"\",\"\",'Using CMS - Inop_OoC - CMS'!C102)","v":""},{"$f":"IF('Using CMS - Inop_OoC - CMS'!D102=\"\",\"\",'Using CMS - Inop_OoC - CMS'!D102)","v":""},{"$f":"AO80&AP80&Table10[[#This Row],[CMS]]","v":""},{"$f":"IF(COUNTIF(AR$2:AR80,AR80)=1,AR80,\"\")","v":""},"","","",null,{"$f":"+IF(BB80=\"\",\"\",MAX(AX$1:AX79)+1)","v":""},{"$f":"IF('Using CMS - Deviation - Limits'!B102=\"\",\"\",'Using CMS - Deviation - Limits'!B102)","v":""},{"$f":"IF('Using CMS - Deviation - Limits'!C102=\"\",\"\",'Using CMS - Deviation - Limits'!C102)","v":""},{"$f":"AY80&AZ80&Table10[[#This Row],[CMS]]","v":""},{"$f":"IF(COUNTIF(BA$2:BA80,BA80)=1,BA80,\"\")","v":""},"","",{"$f":"+IFERROR(INDEX(#REF!,MATCH(ROW()-ROW(BC$1),AX$2:AX$955,0)),\"\")","v":""}]
[{"$f":"+IF(D81=\"\",\"\",MAX(A$1:A80)+1)","v":""},{"$f":"IF('Process_&_CMS_Identification'!C103=\"\",\"\",'Process_&_CMS_Identification'!C103)","v":""},"",{"$f":"IF(COUNTIF(B$2:B81,B81)=1,B81,\"\")","v":""},{"$nulls":6},{"$f":"+IF(N81=\"\",\"\",MAX(K$1:K80)+1)","v":""},{"$f":"IF('Process_&_CMS_Identification'!D103=\"\",\"\",'Process_&_CMS_Identification'!D103)","v":""},"",{"$f":"IF(COUNTIF(L$2:L81,L81)=1,L81,\"\")","v":""},{"$nulls":5},{"$f":"+IF(X81=\"\",\"\",MAX(T$1:T80)+1)","v":""},{"$f":"IF('No CMS - Deviation - Limits'!B103=\"\",\"\",'No CMS - Deviation - Limits'!B103)","v":""},{"$f":"IF('No CMS - Deviation - Limits'!C103=\"\",\"\",'No CMS - Deviation - Limits'!C103)","v":""},"",{"$f":"IF(COUNTIF(V$2:V81,V81)=1,V81,\"\")","v":""},"","",{"$f":"+IFERROR(INDEX(#REF!,MATCH(ROW()-ROW($Y$1),T$2:T$955,0)),\"\")","v":""},null,{"$f":"+IF(AG81=\"\",\"\",MAX(AC$1:AC80)+1)","v":""},{"$f":"IF('Using CMS - Deviation - Limits'!B103=\"\",\"\",'Using CMS - Deviation - Limits'!B103)","v":""},{"$f":"IF('Using CMS - Deviation - Limits'!C103=\"\",\"\",'Using CMS - Deviation - Limits'!C103)","v":""},"",{"$f":"IF(COUNTIF(AF$2:AF81,AF81)=1,AF81,\"\")","v":""},"","",{"$f":"+IFERROR(INDEX(#REF!,MATCH(ROW()-ROW(AG$1),AC$2:AC$955,0)),\"\")","v":""},{"$nulls":3},{"$f":"+IF(AS81=\"\",\"\",MAX(AN$1:AN80)+1)","v":""},{"$f":"IF('Using CMS - Inop_OoC - CMS'!B103=\"\",\"\",'Using CMS - Inop_OoC - CMS'!B103)","v":""},{"$f":"IF('Using CMS - Inop_OoC - CMS'!C103=\"\",\"\",'Using CMS - Inop_OoC - CMS'!C103)","v":""},{"$f":"IF('Using CMS - Inop_OoC - CMS'!D103=\"\",\"\",'Using CMS - Inop_OoC - CMS'!D103)","v":""},{"$f":"AO81&AP81&Table10[[#This Row],[CMS]]","v":""},{"$f":"IF(COUNTIF(AR$2:AR81,AR81)=1,AR81,\"\")","v":""},"","","",null,{"$f":"+IF(BB81=\"\",\"\",MAX(AX$1:AX80)+1)","v":""},{"$f":"IF('Using CMS - Deviation - Limits'!B103=\"\",\"\",'Using CMS - Deviation - Limits'!B103)","v":""},{"$f":"IF('Using CMS - Deviation - Limits'!C103=\"\",\"\",'Using CMS - Deviation - Limits'!C103)","v":""},{"$f":"AY81&AZ81&Table10[[#This Row],[CMS]]","v":""},{"$f":"IF(COUNTIF(BA$2:BA81,BA81)=1,BA81,\"\")","v":""},"","",{"$f":"+IFERROR(INDEX(#REF!,MATCH(ROW()-ROW(BC$1),AX$2:AX$955,0)),\"\")","v":""}]
[{"$f":"+IF(D82=\"\",\"\",MAX(A$1:A81)+1)","v":""},{"$f":"IF('Process_&_CMS_Identification'!C104=\"\",\"\",'Process_&_CMS_Identification'!C104)","v":""},"",{"$f":"IF(COUNTIF(B$2:B82,B82)=1,B82,\"\")","v":""},{"$nulls":6},{"$f":"+IF(N82=\"\",\"\",MAX(K$1:K81)+1)","v":""},{"$f":"IF('Process_&_CMS_Identification'!D104=\"\",\"\",'Process_&_CMS_Identification'!D104)","v":""},"",{"$f":"IF(COUNTIF(L$2:L82,L82)=1,L82,\"\")","v":""},{"$nulls":5},{"$f":"+IF(X82=\"\",\"\",MAX(T$1:T81)+1)","v":""},{"$f":"IF('No CMS - Deviation - Limits'!B104=\"\",\"\",'No CMS - Deviation - Limits'!B104)","v":""},{"$f":"IF('No CMS - Deviation - Limits'!C104=\"\",\"\",'No CMS - Deviation - Limits'!C104)","v":""},"",{"$f":"IF(COUNTIF(V$2:V82,V82)=1,V82,\"\")","v":""},"","",{"$f":"+IFERROR(INDEX(#REF!,MATCH(ROW()-ROW($Y$1),T$2:T$955,0)),\"\")","v":""},null,{"$f":"+IF(AG82=\"\",\"\",MAX(AC$1:AC81)+1)","v":""},{"$f":"IF('Using CMS - Deviation - Limits'!B104=\"\",\"\",'Using CMS - Deviation - Limits'!B104)","v":""},{"$f":"IF('Using CMS - Deviation - Limits'!C104=\"\",\"\",'Using CMS - Deviation - Limits'!C104)","v":""},"",{"$f":"IF(COUNTIF(AF$2:AF82,AF82)=1,AF82,\"\")","v":""},"","",{"$f":"+IFERROR(INDEX(#REF!,MATCH(ROW()-ROW(AG$1),AC$2:AC$955,0)),\"\")","v":""},{"$nulls":3},{"$f":"+IF(AS82=\"\",\"\",MAX(AN$1:AN81)+1)","v":""},{"$f":"IF('Using CMS - Inop_OoC - CMS'!B104=\"\",\"\",'Using CMS - Inop_OoC - CMS'!B104)","v":""},{"$f":"IF('Using CMS - Inop_OoC - CMS'!C104=\"\",\"\",'Using CMS - Inop_OoC - CMS'!C104)","v":""},{"$f":"IF('Using CMS - Inop_OoC - CMS'!D104=\"\",\"\",'Using CMS - Inop_OoC - CMS'!D104)","v":""},{"$f":"AO82&AP82&Table10[[#This Row],[CMS]]","v":""},{"$f":"IF(COUNTIF(AR$2:AR82,AR82)=1,AR82,\"\")","v":""},"","","",null,{"$f":"+IF(BB82=\"\",\"\",MAX(AX$1:AX81)+1)","v":""},{"$f":"IF('Using CMS - Deviation - Limits'!B104=\"\",\"\",'Using CMS - Deviation - Limits'!B104)","v":""},{"$f":"IF('Using CMS - Deviation - Limits'!C104=\"\",\"\",'Using CMS - Deviation - Limits'!C104)","v":""},{"$f":"AY82&AZ82&Table10[[#This Row],[CMS]]","v":""},{"$f":"IF(COUNTIF(BA$2:BA82,BA82)=1,BA82,\"\")","v":""},"","",{"$f":"+IFERROR(INDEX(#REF!,MATCH(ROW()-ROW(BC$1),AX$2:AX$955,0)),\"\")","v":""}]
[{"$f":"+IF(D83=\"\",\"\",MAX(A$1:A82)+1)","v":""},{"$f":"IF('Process_&_CMS_Identification'!C105=\"\",\"\",'Process_&_CMS_Identification'!C105)","v":""},"",{"$f":"IF(COUNTIF(B$2:B83,B83)=1,B83,\"\")","v":""},{"$nulls":6},{"$f":"+IF(N83=\"\",\"\",MAX(K$1:K82)+1)","v":""},{"$f":"IF('Process_&_CMS_Identification'!D105=\"\",\"\",'Process_&_CMS_Identification'!D105)","v":""},"",{"$f":"IF(COUNTIF(L$2:L83,L83)=1,L83,\"\")","v":""},{"$nulls":5},{"$f":"+IF(X83=\"\",\"\",MAX(T$1:T82)+1)","v":""},{"$f":"IF('No CMS - Deviation - Limits'!B105=\"\",\"\",'No CMS - Deviation - Limits'!B105)","v":""},{"$f":"IF('No CMS - Deviation - Limits'!C105=\"\",\"\",'No CMS - Deviation - Limits'!C105)","v":""},"",{"$f":"IF(COUNTIF(V$2:V83,V83)=1,V83,\"\")","v":""},"","",{"$f":"+IFERROR(INDEX(#REF!,MATCH(ROW()-ROW($Y$1),T$2:T$955,0)),\"\")","v":""},null,{"$f":"+IF(AG83=\"\",\"\",MAX(AC$1:AC82)+1)","v":""},{"$f":"IF('Using CMS - Deviation - Limits'!B105=\"\",\"\",'Using CMS - Deviation - Limits'!B105)","v":""},{"$f":"IF('Using CMS - Deviation - Limits'!C105=\"\",\"\",'Using CMS - Deviation - Limits'!C105)","v":""},"",{"$f":"IF(COUNTIF(AF$2:AF83,AF83)=1,AF83,\"\")","v":""},"","",{"$f":"+IFERROR(INDEX(#REF!,MATCH(ROW()-ROW(AG$1),AC$2:AC$955,0)),\"\")","v":""},{"$nulls":3},{"$f":"+IF(AS83=\"\",\"\",MAX(AN$1:AN82)+1)","v":""},{"$f":"IF('Using CMS - Inop_OoC - CMS'!B105=\"\",\"\",'Using CMS - Inop_OoC - CMS'!B105)","v":""},{"$f":"IF('Using CMS - Inop_OoC - CMS'!C105=\"\",\"\",'Using CMS - Inop_OoC - CMS'!C105)","v":""},{"$f":"IF('Using CMS - Inop_OoC - CMS'!D105=\"\",\"\",'Using CMS - Inop_OoC - CMS'!D105)","v":""},{"$f":"AO83&AP83&Table10[[#This Row],[CMS]]","v":""},{"$f":"IF(COUNTIF(AR$2:AR83,AR83)=1,AR83,\"\")","v":""},"","","",null,{"$f":"+IF(BB83=\"\",\"\",MAX(AX$1:AX82)+1)","v":""},{"$f":"IF('Using CMS - Deviation - Limits'!B105=\"\",\"\",'Using CMS - Deviation - Limits'!B105)","v":""},{"$f":"IF('Using CMS - Deviation - Limits'!C105=\"\",\"\",'Using CMS - Deviation - Limits'!C105)","v":""},{"$f":"AY83&AZ83&Table10[[#This Row],[CMS]]","v":""},{"$f":"IF(COUNTIF(BA$2:BA83,BA83)=1,BA83,\"\")","v":""},"","",{"$f":"+IFERROR(INDEX(#REF!,MATCH(ROW()-ROW(BC$1),AX$2:AX$955,0)),\"\")","v":""}]
[{"$f":"+IF(D84=\"\",\"\",MAX(A$1:A83)+1)","v":""},{"$f":"IF('Process_&_CMS_Identification'!C106=\"\",\"\",'Process_&_CMS_Identification'!C106)","v":""},"",{"$f":"IF(COUNTIF(B$2:B84,B84)=1,B84,\"\")","v":""},{"$nulls":6},{"$f":"+IF(N84=\"\",\"\",MAX(K$1:K83)+1)","v":""},{"$f":"IF('Process_&_CMS_Identification'!D106=\"\",\"\",'Process_&_CMS_Identification'!D106)","v":""},"",{"$f":"IF(COUNTIF(L$2:L84,L84)=1,L84,\"\")","v":""},{"$nulls":5},{"$f":"+IF(X84=\"\",\"\",MAX(T$1:T83)+1)","v":""},{"$f":"IF('No CMS - Deviation - Limits'!B106=\"\",\"\",'No CMS - Deviation - Limits'!B106)","v":""},{"$f":"IF('No CMS - Deviation - Limits'!C106=\"\",\"\",'No CMS - Deviation - Limits'!C106)","v":""},"",{"$f":"IF(COUNTIF(V$2:V84,V84)=1,V84,\"\")","v":""},"","",{"$f":"+IFERROR(INDEX(#REF!,MATCH(ROW()-ROW($Y$1),T$2:T$955,0)),\"\")","v":""},null,{"$f":"+IF(AG84=\"\",\"\",MAX(AC$1:AC83)+1)","v":""},{"$f":"IF('Using CMS - Deviation - Limits'!B106=\"\",\"\",'Using CMS - Deviation - Limits'!B106)","v":""},{"$f":"IF('Using CMS - Deviation - Limits'!C106=\"\",\"\",'Using CMS - Deviation - Limits'!C106)","v":""},"",{"$f":"IF(COUNTIF(AF$2:AF84,AF84)=1,AF84,\"\")","v":""},"","",{"$f":"+IFERROR(INDEX(#REF!,MATCH(ROW()-ROW(AG$1),AC$2:AC$955,0)),\"\")","v":""},{"$nulls":3},{"$f":"+IF(AS84=\"\",\"\",MAX(AN$1:AN83)+1)","v":""},{"$f":"IF('Using CMS - Inop_OoC - CMS'!B106=\"\",\"\",'Using CMS - Inop_OoC - CMS'!B106)","v":""},{"$f":"IF('Using CMS - Inop_OoC - CMS'!C106=\"\",\"\",'Using CMS - Inop_OoC - CMS'!C106)","v":""},{"$f":"IF('Using CMS - Inop_OoC - CMS'!D106=\"\",\"\",'Using CMS - Inop_OoC - CMS'!D106)","v":""},{"$f":"AO84&AP84&Table10[[#This Row],[CMS]]","v":""},{"$f":"IF(COUNTIF(AR$2:AR84,AR84)=1,AR84,\"\")","v":""},"","","",null,{"$f":"+IF(BB84=\"\",\"\",MAX(AX$1:AX83)+1)","v":""},{"$f":"IF('Using CMS - Deviation - Limits'!B106=\"\",\"\",'Using CMS - Deviation - Limits'!B106)","v":""},{"$f":"IF('Using CMS - Deviation - Limits'!C106=\"\",\"\",'Using CMS - Deviation - Limits'!C106)","v":""},{"$f":"AY84&AZ84&Table10[[#This Row],[CMS]]","v":""},{"$f":"IF(COUNTIF(BA$2:BA84,BA84)=1,BA84,\"\")","v":""},"","",{"$f":"+IFERROR(INDEX(#REF!,MATCH(ROW()-ROW(BC$1),AX$2:AX$955,0)),\"\")","v":""}]
[{"$f":"+IF(D85=\"\",\"\",MAX(A$1:A84)+1)","v":""},{"$f":"IF('Process_&_CMS_Identification'!C107=\"\",\"\",'Process_&_CMS_Identification'!C107)","v":""},"",{"$f":"IF(COUNTIF(B$2:B85,B85)=1,B85,\"\")","v":""},{"$nulls":6},{"$f":"+IF(N85=\"\",\"\",MAX(K$1:K84)+1)","v":""},{"$f":"IF('Process_&_CMS_Identification'!D107=\"\",\"\",'Process_&_CMS_Identification'!D107)","v":""},"",{"$f":"IF(COUNTIF(L$2:L85,L85)=1,L85,\"\")","v":""},{"$nulls":5},{"$f":"+IF(X85=\"\",\"\",MAX(T$1:T84)+1)","v":""},{"$f":"IF('No CMS - Deviation - Limits'!B107=\"\",\"\",'No CMS - Deviation - Limits'!B107)","v":""},{"$f":"IF('No CMS - Deviation - Limits'!C107=\"\",\"\",'No CMS - Deviation - Limits'!C107)","v":""},"",{"$f":"IF(COUNTIF(V$2:V85,V85)=1,V85,\"\")","v":""},"","",{"$f":"+IFERROR(INDEX(#REF!,MATCH(ROW()-ROW($Y$1),T$2:T$955,0)),\"\")","v":""},null,{"$f":"+IF(AG85=\"\",\"\",MAX(AC$1:AC84)+1)","v":""},{"$f":"IF('Using CMS - Deviation - Limits'!B107=\"\",\"\",'Using CMS - Deviation - Limits'!B107)","v":""},{"$f":"IF('Using CMS - Deviation - Limits'!C107=\"\",\"\",'Using CMS - Deviation - Limits'!C107)","v":""},"",{"$f":"IF(COUNTIF(AF$2:AF85,AF85)=1,AF85,\"\")","v":""},"","",{"$f":"+IFERROR(INDEX(#REF!,MATCH(ROW()-ROW(AG$1),AC$2:AC$955,0)),\"\")","v":""},{"$nulls":3},{"$f":"+IF(AS85=\"\",\"\",MAX(AN$1:AN84)+1)","v":""},{"$f":"IF('Using CMS - Inop_OoC - CMS'!B107=\"\",\"\",'Using CMS - Inop_OoC - CMS'!B107)","v":""},{"$f":"IF('Using CMS - Inop_OoC - CMS'!C107=\"\",\"\",'Using CMS - Inop_OoC - CMS'!C107)","v":""},{"$f":"IF('Using CMS - Inop_OoC - CMS'!D107=\"\",\"\",'Using CMS - Inop_OoC - CMS'!D107)","v":""},{"$f":"AO85&AP85&Table10[[#This Row],[CMS]]","v":""},{"$f":"IF(COUNTIF(AR$2:AR85,AR85)=1,AR85,\"\")","v":""},"","","",null,{"$f":"+IF(BB85=\"\",\"\",MAX(AX$1:AX84)+1)","v":""},{"$f":"IF('Using CMS - Deviation - Limits'!B107=\"\",\"\",'Using CMS - Deviation - Limits'!B107)","v":""},{"$f":"IF('Using CMS - Deviation - Limits'!C107=\"\",\"\",'Using CMS - Deviation - Limits'!C107)","v":""},{"$f":"AY85&AZ85&Table10[[#This Row],[CMS]]","v":""},{"$f":"IF(COUNTIF(BA$2:BA85,BA85)=1,BA85,\"\")","v":""},"","",{"$f":"+IFERROR(INDEX(#REF!,MATCH(ROW()-ROW(BC$1),AX$2:AX$955,0)),\"\")","v":""}]
[{"$f":"+IF(D86=\"\",\"\",MAX(A$1:A85)+1)","v":""},{"$f":"IF('Process_&_CMS_Identification'!C108=\"\",\"\",'Process_&_CMS_Identification'!C108)","v":""},"",{"$f":"IF(COUNTIF(B$2:B86,B86)=1,B86,\"\")","v":""},{"$nulls":6},{"$f":"+IF(N86=\"\",\"\",MAX(K$1:K85)+1)","v":""},{"$f":"IF('Process_&_CMS_Identification'!D108=\"\",\"\",'Process_&_CMS_Identification'!D108)","v":""},"",{"$f":"IF(COUNTIF(L$2:L86,L86)=1,L86,\"\")","v":""},{"$nulls":5},{"$f":"+IF(X86=\"\",\"\",MAX(T$1:T85)+1)","v":""},{"$f":"IF('No CMS - Deviation - Limits'!B108=\"\",\"\",'No CMS - Deviation - Limits'!B108)","v":""},{"$f":"IF('No CMS - Deviation - Limits'!C108=\"\",\"\",'No CMS - Deviation - Limits'!C108)","v":""},"",{"$f":"IF(COUNTIF(V$2:V86,V86)=1,V86,\"\")","v":""},"","",{"$f":"+IFERROR(INDEX(#REF!,MATCH(ROW()-ROW($Y$1),T$2:T$955,0)),\"\")","v":""},null,{"$f":"+IF(AG86=\"\",\"\",MAX(AC$1:AC85)+1)","v":""},{"$f":"IF('Using CMS - Deviation - Limits'!B108=\"\",\"\",'Using CMS - Deviation - Limits'!B108)","v":""},{"$f":"IF('Using CMS - Deviation - Limits'!C108=\"\",\"\",'Using CMS - Deviation - Limits'!C108)","v":""},"",{"$f":"IF(COUNTIF(AF$2:AF86,AF86)=1,AF86,\"\")","v":""},"","",{"$f":"+IFERROR(INDEX(#REF!,MATCH(ROW()-ROW(AG$1),AC$2:AC$955,0)),\"\")","v":""},{"$nulls":3},{"$f":"+IF(AS86=\"\",\"\",MAX(AN$1:AN85)+1)","v":""},{"$f":"IF('Using CMS - Inop_OoC - CMS'!B108=\"\",\"\",'Using CMS - Inop_OoC - CMS'!B108)","v":""},{"$f":"IF('Using CMS - Inop_OoC - CMS'!C108=\"\",\"\",'Using CMS - Inop_OoC - CMS'!C108)","v":""},{"$f":"IF('Using CMS - Inop_OoC - CMS'!D108=\"\",\"\",'Using CMS - Inop_OoC - CMS'!D108)","v":""},{"$f":"AO86&AP86&Table10[[#This Row],[CMS]]","v":""},{"$f":"IF(COUNTIF(AR$2:AR86,AR86)=1,AR86,\"\")","v":""},"","","",null,{"$f":"+IF(BB86=\"\",\"\",MAX(AX$1:AX85)+1)","v":""},{"$f":"IF('Using CMS - Deviation - Limits'!B108=\"\",\"\",'Using CMS - Deviation - Limits'!B108)","v":""},{"$f":"IF('Using CMS - Deviation - Limits'!C108=\"\",\"\",'Using CMS - Deviation - Limits'!C108)","v":""},{"$f":"AY86&AZ86&Table10[[#This Row],[CMS]]","v":""},{"$f":"IF(COUNTIF(BA$2:BA86,BA86)=1,BA86,\"\")","v":""},"","",{"$f":"+IFERROR(INDEX(#REF!,MATCH(ROW()-ROW(BC$1),AX$2:AX$955,0)),\"\")","v":""}]
[{"$f":"+IF(D87=\"\",\"\",MAX(A$1:A86)+1)","v":""},{"$f":"IF('Process_&_CMS_Identification'!C109=\"\",\"\",'Process_&_CMS_Identification'!C109)","v":""},"",{"$f":"IF(COUNTIF(B$2:B87,B87)=1,B87,\"\")","v":""},{"$nulls":6},{"$f":"+IF(N87=\"\",\"\",MAX(K$1:K86)+1)","v":""},{"$f":"IF('Process_&_CMS_Identification'!D109=\"\",\"\",'Process_&_CMS_Identification'!D109)","v":""},"",{"$f":"IF(COUNTIF(L$2:L87,L87)=1,L87,\"\")","v":""},{"$nulls":5},{"$f":"+IF(X87=\"\",\"\",MAX(T$1:T86)+1)","v":""},{"$f":"IF('No CMS - Deviation - Limits'!B109=\"\",\"\",'No CMS - Deviation - Limits'!B109)","v":""},{"$f":"IF('No CMS - Deviation - Limits'!C109=\"\",\"\",'No CMS - Deviation - Limits'!C109)","v":""},"",{"$f":"IF(COUNTIF(V$2:V87,V87)=1,V87,\"\")","v":""},"","",{"$f":"+IFERROR(INDEX(#REF!,MATCH(ROW()-ROW($Y$1),T$2:T$955,0)),\"\")","v":""},null,{"$f":"+IF(AG87=\"\",\"\",MAX(AC$1:AC86)+1)","v":""},{"$f":"IF('Using CMS - Deviation - Limits'!B109=\"\",\"\",'Using CMS - Deviation - Limits'!B109)","v":""},{"$f":"IF('Using CMS - Deviation - Limits'!C109=\"\",\"\",'Using CMS - Deviation - Limits'!C109)","v":""},"",{"$f":"IF(COUNTIF(AF$2:AF87,AF87)=1,AF87,\"\")","v":""},"","",{"$f":"+IFERROR(INDEX(#REF!,MATCH(ROW()-ROW(AG$1),AC$2:AC$955,0)),\"\")","v":""},{"$nulls":3},{"$f":"+IF(AS87=\"\",\"\",MAX(AN$1:AN86)+1)","v":""},{"$f":"IF('Using CMS - Inop_OoC - CMS'!B109=\"\",\"\",'Using CMS - Inop_OoC - CMS'!B109)","v":""},{"$f":"IF('Using CMS - Inop_OoC - CMS'!C109=\"\",\"\",'Using CMS - Inop_OoC - CMS'!C109)","v":""},{"$f":"IF('Using CMS - Inop_OoC - CMS'!D109=\"\",\"\",'Using CMS - Inop_OoC - CMS'!D109)","v":""},{"$f":"AO87&AP87&Table10[[#This Row],[CMS]]","v":""},{"$f":"IF(COUNTIF(AR$2:AR87,AR87)=1,AR87,\"\")","v":""},"","","",null,{"$f":"+IF(BB87=\"\",\"\",MAX(AX$1:AX86)+1)","v":""},{"$f":"IF('Using CMS - Deviation - Limits'!B109=\"\",\"\",'Using CMS - Deviation - Limits'!B109)","v":""},{"$f":"IF('Using CMS - Deviation - Limits'!C109=\"\",\"\",'Using CMS - Deviation - Limits'!C109)","v":""},{"$f":"AY87&AZ87&Table10[[#This Row],[CMS]]","v":""},{"$f":"IF(COUNTIF(BA$2:BA87,BA87)=1,BA87,\"\")","v":""},"","",{"$f":"+IFERROR(INDEX(#REF!,MATCH(ROW()-ROW(BC$1),AX$2:AX$955,0)),\"\")","v":""}]
[{"$f":"+IF(D88=\"\",\"\",MAX(A$1:A87)+1)","v":""},{"$f":"IF('Process_&_CMS_Identification'!C110=\"\",\"\",'Process_&_CMS_Identification'!C110)","v":""},"",{"$f":"IF(COUNTIF(B$2:B88,B88)=1,B88,\"\")","v":""},{"$nulls":6},{"$f":"+IF(N88=\"\",\"\",MAX(K$1:K87)+1)","v":""},{"$f":"IF('Process_&_CMS_Identification'!D110=\"\",\"\",'Process_&_CMS_Identification'!D110)","v":""},"",{"$f":"IF(COUNTIF(L$2:L88,L88)=1,L88,\"\")","v":""},{"$nulls":5},{"$f":"+IF(X88=\"\",\"\",MAX(T$1:T87)+1)","v":""},{"$f":"IF('No CMS - Deviation - Limits'!B110=\"\",\"\",'No CMS - Deviation - Limits'!B110)","v":""},{"$f":"IF('No CMS - Deviation - Limits'!C110=\"\",\"\",'No CMS - Deviation - Limits'!C110)","v":""},"",{"$f":"IF(COUNTIF(V$2:V88,V88)=1,V88,\"\")","v":""},"","",{"$f":"+IFERROR(INDEX(#REF!,MATCH(ROW()-ROW($Y$1),T$2:T$955,0)),\"\")","v":""},null,{"$f":"+IF(AG88=\"\",\"\",MAX(AC$1:AC87)+1)","v":""},{"$f":"IF('Using CMS - Deviation - Limits'!B110=\"\",\"\",'Using CMS - Deviation - Limits'!B110)","v":""},{"$f":"IF('Using CMS - Deviation - Limits'!C110=\"\",\"\",'Using CMS - Deviation - Limits'!C110)","v":""},"",{"$f":"IF(COUNTIF(AF$2:AF88,AF88)=1,AF88,\"\")","v":""},"","",{"$f":"+IFERROR(INDEX(#REF!,MATCH(ROW()-ROW(AG$1),AC$2:AC$955,0)),\"\")","v":""},{"$nulls":3},{"$f":"+IF(AS88=\"\",\"\",MAX(AN$1:AN87)+1)","v":""},{"$f":"IF('Using CMS - Inop_OoC - CMS'!B110=\"\",\"\",'Using CMS - Inop_OoC - CMS'!B110)","v":""},{"$f":"IF('Using CMS - Inop_OoC - CMS'!C110=\"\",\"\",'Using CMS - Inop_OoC - CMS'!C110)","v":""},{"$f":"IF('Using CMS - Inop_OoC - CMS'!D110=\"\",\"\",'Using CMS - Inop_OoC - CMS'!D110)","v":""},{"$f":"AO88&AP88&Table10[[#This Row],[CMS]]","v":""},{"$f":"IF(COUNTIF(AR$2:AR88,AR88)=1,AR88,\"\")","v":""},"","","",null,{"$f":"+IF(BB88=\"\",\"\",MAX(AX$1:AX87)+1)","v":""},{"$f":"IF('Using CMS - Deviation - Limits'!B110=\"\",\"\",'Using CMS - Deviation - Limits'!B110)","v":""},{"$f":"IF('Using CMS - Deviation - Limits'!C110=\"\",\"\",'Using CMS - Deviation - Limits'!C110)","v":""},{"$f":"AY88&AZ88&Table10[[#This Row],[CMS]]","v":""},{"$f":"IF(COUNTIF(BA$2:BA88,BA88)=1,BA88,\"\")","v":""},"","",{"$f":"+IFERROR(INDEX(#REF!,MATCH(ROW()-ROW(BC$1),AX$2:AX$955,0)),\"\")","v":""}]
[{"$f":"+IF(D89=\"\",\"\",MAX(A$1:A88)+1)","v":""},{"$f":"IF('Process_&_CMS_Identification'!C111=\"\",\"\",'Process_&_CMS_Identification'!C111)","v":""},"",{"$f":"IF(COUNTIF(B$2:B89,B89)=1,B89,\"\")","v":""},{"$nulls":6},{"$f":"+IF(N89=\"\",\"\",MAX(K$1:K88)+1)","v":""},{"$f":"IF('Process_&_CMS_Identification'!D111=\"\",\"\",'Process_&_CMS_Identification'!D111)","v":""},"",{"$f":"IF(COUNTIF(L$2:L89,L89)=1,L89,\"\")","v":""},{"$nulls":5},{"$f":"+IF(X89=\"\",\"\",MAX(T$1:T88)+1)","v":""},{"$f":"IF('No CMS - Deviation - Limits'!B111=\"\",\"\",'No CMS - Deviation - Limits'!B111)","v":""},{"$f":"IF('No CMS - Deviation - Limits'!C111=\"\",\"\",'No CMS - Deviation - Limits'!C111)","v":""},"",{"$f":"IF(COUNTIF(V$2:V89,V89)=1,V89,\"\")","v":""},"","",{"$f":"+IFERROR(INDEX(#REF!,MATCH(ROW()-ROW($Y$1),T$2:T$955,0)),\"\")","v":""},null,{"$f":"+IF(AG89=\"\",\"\",MAX(AC$1:AC88)+1)","v":""},{"$f":"IF('Using CMS - Deviation - Limits'!B111=\"\",\"\",'Using CMS - Deviation - Limits'!B111)","v":""},{"$f":"IF('Using CMS - Deviation - Limits'!C111=\"\",\"\",'Using CMS - Deviation - Limits'!C111)","v":""},"",{"$f":"IF(COUNTIF(AF$2:AF89,AF89)=1,AF89,\"\")","v":""},"","",{"$f":"+IFERROR(INDEX(#REF!,MATCH(ROW()-ROW(AG$1),AC$2:AC$955,0)),\"\")","v":""},{"$nulls":3},{"$f":"+IF(AS89=\"\",\"\",MAX(AN$1:AN88)+1)","v":""},{"$f":"IF('Using CMS - Inop_OoC - CMS'!B111=\"\",\"\",'Using CMS - Inop_OoC - CMS'!B111)","v":""},{"$f":"IF('Using CMS - Inop_OoC - CMS'!C111=\"\",\"\",'Using CMS - Inop_OoC - CMS'!C111)","v":""},{"$f":"IF('Using CMS - Inop_OoC - CMS'!D111=\"\",\"\",'Using CMS - Inop_OoC - CMS'!D111)","v":""},{"$f":"AO89&AP89&Table10[[#This Row],[CMS]]","v":""},{"$f":"IF(COUNTIF(AR$2:AR89,AR89)=1,AR89,\"\")","v":""},"","","",null,{"$f":"+IF(BB89=\"\",\"\",MAX(AX$1:AX88)+1)","v":""},{"$f":"IF('Using CMS - Deviation - Limits'!B111=\"\",\"\",'Using CMS - Deviation - Limits'!B111)","v":""},{"$f":"IF('Using CMS - Deviation - Limits'!C111=\"\",\"\",'Using CMS - Deviation - Limits'!C111)","v":""},{"$f":"AY89&AZ89&Table10[[#This Row],[CMS]]","v":""},{"$f":"IF(COUNTIF(BA$2:BA89,BA89)=1,BA89,\"\")","v":""},"","",{"$f":"+IFERROR(INDEX(#REF!,MATCH(ROW()-ROW(BC$1),AX$2:AX$955,0)),\"\")","v":""}]
[{"$f":"+IF(D90=\"\",\"\",MAX(A$1:A89)+1)","v":""},{"$f":"IF('Process_&_CMS_Identification'!C112=\"\",\"\",'Process_&_CMS_Identification'!C112)","v":""},"",{"$f":"IF(COUNTIF(B$2:B90,B90)=1,B90,\"\")","v":""},{"$nulls":6},{"$f":"+IF(N90=\"\",\"\",MAX(K$1:K89)+1)","v":""},{"$f":"IF('Process_&_CMS_Identification'!D112=\"\",\"\",'Process_&_CMS_Identification'!D112)","v":""},"",{"$f":"IF(COUNTIF(L$2:L90,L90)=1,L90,\"\")","v":""},{"$nulls":5},{"$f":"+IF(X90=\"\",\"\",MAX(T$1:T89)+1)","v":""},{"$f":"IF('No CMS - Deviation - Limits'!B112=\"\",\"\",'No CMS - Deviation - Limits'!B112)","v":""},{"$f":"IF('No CMS - Deviation - Limits'!C112=\"\",\"\",'No CMS - Deviation - Limits'!C112)","v":""},"",{"$f":"IF(COUNTIF(V$2:V90,V90)=1,V90,\"\")","v":""},"","",{"$f":"+IFERROR(INDEX(#REF!,MATCH(ROW()-ROW($Y$1),T$2:T$955,0)),\"\")","v":""},null,{"$f":"+IF(AG90=\"\",\"\",MAX(AC$1:AC89)+1)","v":""},{"$f":"IF('Using CMS - Deviation - Limits'!B112=\"\",\"\",'Using CMS - Deviation - Limits'!B112)","v":""},{"$f":"IF('Using CMS - Deviation - Limits'!C112=\"\",\"\",'Using CMS - Deviation - Limits'!C112)","v":""},"",{"$f":"IF(COUNTIF(AF$2:AF90,AF90)=1,AF90,\"\")","v":""},"","",{"$f":"+IFERROR(INDEX(#REF!,MATCH(ROW()-ROW(AG$1),AC$2:AC$955,0)),\"\")","v":""},{"$nulls":3},{"$f":"+IF(AS90=\"\",\"\",MAX(AN$1:AN89)+1)","v":""},{"$f":"IF('Using CMS - Inop_OoC - CMS'!B112=\"\",\"\",'Using CMS - Inop_OoC - CMS'!B112)","v":""},{"$f":"IF('Using CMS - Inop_OoC - CMS'!C112=\"\",\"\",'Using CMS - Inop_OoC - CMS'!C112)","v":""},{"$f":"IF('Using CMS - Inop_OoC - CMS'!D112=\"\",\"\",'Using CMS - Inop_OoC - CMS'!D112)","v":""},{"$f":"AO90&AP90&Table10[[#This Row],[CMS]]","v":""},{"$f":"IF(COUNTIF(AR$2:AR90,AR90)=1,AR90,\"\")","v":""},"","","",null,{"$f":"+IF(BB90=\"\",\"\",MAX(AX$1:AX89)+1)","v":""},{"$f":"IF('Using CMS - Deviation - Limits'!B112=\"\",\"\",'Using CMS - Deviation - Limits'!B112)","v":""},{"$f":"IF('Using CMS - Deviation - Limits'!C112=\"\",\"\",'Using CMS - Deviation - Limits'!C112)","v":""},{"$f":"AY90&AZ90&Table10[[#This Row],[CMS]]","v":""},{"$f":"IF(COUNTIF(BA$2:BA90,BA90)=1,BA90,\"\")","v":""},"","",{"$f":"+IFERROR(INDEX(#REF!,MATCH(ROW()-ROW(BC$1),AX$2:AX$955,0)),\"\")","v":""}]
[{"$f":"+IF(D91=\"\",\"\",MAX(A$1:A90)+1)","v":""},{"$f":"IF('Process_&_CMS_Identification'!C113=\"\",\"\",'Process_&_CMS_Identification'!C113)","v":""},"",{"$f":"IF(COUNTIF(B$2:B91,B91)=1,B91,\"\")","v":""},{"$nulls":6},{"$f":"+IF(N91=\"\",\"\",MAX(K$1:K90)+1)","v":""},{"$f":"IF('Process_&_CMS_Identification'!D113=\"\",\"\",'Process_&_CMS_Identification'!D113)","v":""},"",{"$f":"IF(COUNTIF(L$2:L91,L91)=1,L91,\"\")","v":""},{"$nulls":5},{"$f":"+IF(X91=\"\",\"\",MAX(T$1:T90)+1)","v":""},{"$f":"IF('No CMS - Deviation - Limits'!B113=\"\",\"\",'No CMS - Deviation - Limits'!B113)","v":""},{"$f":"IF('No CMS - Deviation - Limits'!C113=\"\",\"\",'No CMS - Deviation - Limits'!C113)","v":""},"",{"$f":"IF(COUNTIF(V$2:V91,V91)=1,V91,\"\")","v":""},"","",{"$f":"+IFERROR(INDEX(#REF!,MATCH(ROW()-ROW($Y$1),T$2:T$955,0)),\"\")","v":""},null,{"$f":"+IF(AG91=\"\",\"\",MAX(AC$1:AC90)+1)","v":""},{"$f":"IF('Using CMS - Deviation - Limits'!B113=\"\",\"\",'Using CMS - Deviation - Limits'!B113)","v":""},{"$f":"IF('Using CMS - Deviation - Limits'!C113=\"\",\"\",'Using CMS - Deviation - Limits'!C113)","v":""},"",{"$f":"IF(COUNTIF(AF$2:AF91,AF91)=1,AF91,\"\")","v":""},"","",{"$f":"+IFERROR(INDEX(#REF!,MATCH(ROW()-ROW(AG$1),AC$2:AC$955,0)),\"\")","v":""},{"$nulls":3},{"$f":"+IF(AS91=\"\",\"\",MAX(AN$1:AN90)+1)","v":""},{"$f":"IF('Using CMS - Inop_OoC - CMS'!B113=\"\",\"\",'Using CMS - Inop_OoC - CMS'!B113)","v":""},{"$f":"IF('Using CMS - Inop_OoC - CMS'!C113=\"\",\"\",'Using CMS - Inop_OoC - CMS'!C113)","v":""},{"$f":"IF('Using CMS - Inop_OoC - CMS'!D113=\"\",\"\",'Using CMS - Inop_OoC - CMS'!D113)","v":""},{"$f":"AO91&AP91&Table10[[#This Row],[CMS]]","v":""},{"$f":"IF(COUNTIF(AR$2:AR91,AR91)=1,AR91,\"\")","v":""},"","","",null,{"$f":"+IF(BB91=\"\",\"\",MAX(AX$1:AX90)+1)","v":""},{"$f":"IF('Using CMS - Deviation - Limits'!B113=\"\",\"\",'Using CMS - Deviation - Limits'!B113)","v":""},{"$f":"IF('Using CMS - Deviation - Limits'!C113=\"\",\"\",'Using CMS - Deviation - Limits'!C113)","v":""},{"$f":"AY91&AZ91&Table10[[#This Row],[CMS]]","v":""},{"$f":"IF(COUNTIF(BA$2:BA91,BA91)=1,BA91,\"\")","v":""},"","",{"$f":"+IFERROR(INDEX(#REF!,MATCH(ROW()-ROW(BC$1),AX$2:AX$955,0)),\"\")","v":""}]
[{"$f":"+IF(D92=\"\",\"\",MAX(A$1:A91)+1)","v":""},{"$f":"IF('Process_&_CMS_Identification'!C114=\"\",\"\",'Process_&_CMS_Identification'!C114)","v":""},"",{"$f":"IF(COUNTIF(B$2:B92,B92)=1,B92,\"\")","v":""},{"$nulls":6},{"$f":"+IF(N92=\"\",\"\",MAX(K$1:K91)+1)","v":""},{"$f":"IF('Process_&_CMS_Identification'!D114=\"\",\"\",'Process_&_CMS_Identification'!D114)","v":""},"",{"$f":"IF(COUNTIF(L$2:L92,L92)=1,L92,\"\")","v":""},{"$nulls":5},{"$f":"+IF(X92=\"\",\"\",MAX(T$1:T91)+1)","v":""},{"$f":"IF('No CMS - Deviation - Limits'!B114=\"\",\"\",'No CMS - Deviation - Limits'!B114)","v":""},{"$f":"IF('No CMS - Deviation - Limits'!C114=\"\",\"\",'No CMS - Deviation - Limits'!C114)","v":""},"",{"$f":"IF(COUNTIF(V$2:V92,V92)=1,V92,\"\")","v":""},"","",{"$f":"+IFERROR(INDEX(#REF!,MATCH(ROW()-ROW($Y$1),T$2:T$955,0)),\"\")","v":""},null,{"$f":"+IF(AG92=\"\",\"\",MAX(AC$1:AC91)+1)","v":""},{"$f":"IF('Using CMS - Deviation - Limits'!B114=\"\",\"\",'Using CMS - Deviation - Limits'!B114)","v":""},{"$f":"IF('Using CMS - Deviation - Limits'!C114=\"\",\"\",'Using CMS - Deviation - Limits'!C114)","v":""},"",{"$f":"IF(COUNTIF(AF$2:AF92,AF92)=1,AF92,\"\")","v":""},"","",{"$f":"+IFERROR(INDEX(#REF!,MATCH(ROW()-ROW(AG$1),AC$2:AC$955,0)),\"\")","v":""},{"$nulls":3},{"$f":"+IF(AS92=\"\",\"\",MAX(AN$1:AN91)+1)","v":""},{"$f":"IF('Using CMS - Inop_OoC - CMS'!B114=\"\",\"\",'Using CMS - Inop_OoC - CMS'!B114)","v":""},{"$f":"IF('Using CMS - Inop_OoC - CMS'!C114=\"\",\"\",'Using CMS - Inop_OoC - CMS'!C114)","v":""},{"$f":"IF('Using CMS - Inop_OoC - CMS'!D114=\"\",\"\",'Using CMS - Inop_OoC - CMS'!D114)","v":""},{"$f":"AO92&AP92&Table10[[#This Row],[CMS]]","v":""},{"$f":"IF(COUNTIF(AR$2:AR92,AR92)=1,AR92,\"\")","v":""},"","","",null,{"$f":"+IF(BB92=\"\",\"\",MAX(AX$1:AX91)+1)","v":""},{"$f":"IF('Using CMS - Deviation - Limits'!B114=\"\",\"\",'Using CMS - Deviation - Limits'!B114)","v":""},{"$f":"IF('Using CMS - Deviation - Limits'!C114=\"\",\"\",'Using CMS - Deviation - Limits'!C114)","v":""},{"$f":"AY92&AZ92&Table10[[#This Row],[CMS]]","v":""},{"$f":"IF(COUNTIF(BA$2:BA92,BA92)=1,BA92,\"\")","v":""},"","",{"$f":"+IFERROR(INDEX(#REF!,MATCH(ROW()-ROW(BC$1),AX$2:AX$955,0)),\"\")","v":""}]
[{"$f":"+IF(D93=\"\",\"\",MAX(A$1:A92)+1)","v":""},{"$f":"IF('Process_&_CMS_Identification'!C115=\"\",\"\",'Process_&_CMS_Identification'!C115)","v":""},"",{"$f":"IF(COUNTIF(B$2:B93,B93)=1,B93,\"\")","v":""},{"$nulls":6},{"$f":"+IF(N93=\"\",\"\",MAX(K$1:K92)+1)","v":""},{"$f":"IF('Process_&_CMS_Identification'!D115=\"\",\"\",'Process_&_CMS_Identification'!D115)","v":""},"",{"$f":"IF(COUNTIF(L$2:L93,L93)=1,L93,\"\")","v":""},{"$nulls":5},{"$f":"+IF(X93=\"\",\"\",MAX(T$1:T92)+1)","v":""},{"$f":"IF('No CMS - Deviation - Limits'!B115=\"\",\"\",'No CMS - Deviation - Limits'!B115)","v":""},{"$f":"IF('No CMS - Deviation - Limits'!C115=\"\",\"\",'No CMS - Deviation - Limits'!C115)","v":""},"",{"$f":"IF(COUNTIF(V$2:V93,V93)=1,V93,\"\")","v":""},"","",{"$f":"+IFERROR(INDEX(#REF!,MATCH(ROW()-ROW($Y$1),T$2:T$955,0)),\"\")","v":""},null,{"$f":"+IF(AG93=\"\",\"\",MAX(AC$1:AC92)+1)","v":""},{"$f":"IF('Using CMS - Deviation - Limits'!B115=\"\",\"\",'Using CMS - Deviation - Limits'!B115)","v":""},{"$f":"IF('Using CMS - Deviation - Limits'!C115=\"\",\"\",'Using CMS - Deviation - Limits'!C115)","v":""},"",{"$f":"IF(COUNTIF(AF$2:AF93,AF93)=1,AF93,\"\")","v":""},"","",{"$f":"+IFERROR(INDEX(#REF!,MATCH(ROW()-ROW(AG$1),AC$2:AC$955,0)),\"\")","v":""},{"$nulls":3},{"$f":"+IF(AS93=\"\",\"\",MAX(AN$1:AN92)+1)","v":""},{"$f":"IF('Using CMS - Inop_OoC - CMS'!B115=\"\",\"\",'Using CMS - Inop_OoC - CMS'!B115)","v":""},{"$f":"IF('Using CMS - Inop_OoC - CMS'!C115=\"\",\"\",'Using CMS - Inop_OoC - CMS'!C115)","v":""},{"$f":"IF('Using CMS - Inop_OoC - CMS'!D115=\"\",\"\",'Using CMS - Inop_OoC - CMS'!D115)","v":""},{"$f":"AO93&AP93&Table10[[#This Row],[CMS]]","v":""},{"$f":"IF(COUNTIF(AR$2:AR93,AR93)=1,AR93,\"\")","v":""},"","","",null,{"$f":"+IF(BB93=\"\",\"\",MAX(AX$1:AX92)+1)","v":""},{"$f":"IF('Using CMS - Deviation - Limits'!B115=\"\",\"\",'Using CMS - Deviation - Limits'!B115)","v":""},{"$f":"IF('Using CMS - Deviation - Limits'!C115=\"\",\"\",'Using CMS - Deviation - Limits'!C115)","v":""},{"$f":"AY93&AZ93&Table10[[#This Row],[CMS]]","v":""},{"$f":"IF(COUNTIF(BA$2:BA93,BA93)=1,BA93,\"\")","v":""},"","",{"$f":"+IFERROR(INDEX(#REF!,MATCH(ROW()-ROW(BC$1),AX$2:AX$955,0)),\"\")","v":""}]
[{"$f":"+IF(D94=\"\",\"\",MAX(A$1:A93)+1)","v":""},{"$f":"IF('Process_&_CMS_Identification'!C116=\"\",\"\",'Process_&_CMS_Identification'!C116)","v":""},"",{"$f":"IF(COUNTIF(B$2:B94,B94)=1,B94,\"\")","v":""},{"$nulls":6},{"$f":"+IF(N94=\"\",\"\",MAX(K$1:K93)+1)","v":""},{"$f":"IF('Process_&_CMS_Identification'!D116=\"\",\"\",'Process_&_CMS_Identification'!D116)","v":""},"",{"$f":"IF(COUNTIF(L$2:L94,L94)=1,L94,\"\")","v":""},{"$nulls":5},{"$f":"+IF(X94=\"\",\"\",MAX(T$1:T93)+1)","v":""},{"$f":"IF('No CMS - Deviation - Limits'!B116=\"\",\"\",'No CMS - Deviation - Limits'!B116)","v":""},{"$f":"IF('No CMS - Deviation - Limits'!C116=\"\",\"\",'No CMS - Deviation - Limits'!C116)","v":""},"",{"$f":"IF(COUNTIF(V$2:V94,V94)=1,V94,\"\")","v":""},"","",{"$f":"+IFERROR(INDEX(#REF!,MATCH(ROW()-ROW($Y$1),T$2:T$955,0)),\"\")","v":""},null,{"$f":"+IF(AG94=\"\",\"\",MAX(AC$1:AC93)+1)","v":""},{"$f":"IF('Using CMS - Deviation - Limits'!B116=\"\",\"\",'Using CMS - Deviation - Limits'!B116)","v":""},{"$f":"IF('Using CMS - Deviation - Limits'!C116=\"\",\"\",'Using CMS - Deviation - Limits'!C116)","v":""},"",{"$f":"IF(COUNTIF(AF$2:AF94,AF94)=1,AF94,\"\")","v":""},"","",{"$f":"+IFERROR(INDEX(#REF!,MATCH(ROW()-ROW(AG$1),AC$2:AC$955,0)),\"\")","v":""},{"$nulls":3},{"$f":"+IF(AS94=\"\",\"\",MAX(AN$1:AN93)+1)","v":""},{"$f":"IF('Using CMS - Inop_OoC - CMS'!B116=\"\",\"\",'Using CMS - Inop_OoC - CMS'!B116)","v":""},{"$f":"IF('Using CMS - Inop_OoC - CMS'!C116=\"\",\"\",'Using CMS - Inop_OoC - CMS'!C116)","v":""},{"$f":"IF('Using CMS - Inop_OoC - CMS'!D116=\"\",\"\",'Using CMS - Inop_OoC - CMS'!D116)","v":""},{"$f":"AO94&AP94&Table10[[#This Row],[CMS]]","v":""},{"$f":"IF(COUNTIF(AR$2:AR94,AR94)=1,AR94,\"\")","v":""},"","","",null,{"$f":"+IF(BB94=\"\",\"\",MAX(AX$1:AX93)+1)","v":""},{"$f":"IF('Using CMS - Deviation - Limits'!B116=\"\",\"\",'Using CMS - Deviation - Limits'!B116)","v":""},{"$f":"IF('Using CMS - Deviation - Limits'!C116=\"\",\"\",'Using CMS - Deviation - Limits'!C116)","v":""},{"$f":"AY94&AZ94&Table10[[#This Row],[CMS]]","v":""},{"$f":"IF(COUNTIF(BA$2:BA94,BA94)=1,BA94,\"\")","v":""},"","",{"$f":"+IFERROR(INDEX(#REF!,MATCH(ROW()-ROW(BC$1),AX$2:AX$955,0)),\"\")","v":""}]
[{"$f":"+IF(D95=\"\",\"\",MAX(A$1:A94)+1)","v":""},{"$f":"IF('Process_&_CMS_Identification'!C117=\"\",\"\",'Process_&_CMS_Identification'!C117)","v":""},"",{"$f":"IF(COUNTIF(B$2:B95,B95)=1,B95,\"\")","v":""},{"$nulls":6},{"$f":"+IF(N95=\"\",\"\",MAX(K$1:K94)+1)","v":""},{"$f":"IF('Process_&_CMS_Identification'!D117=\"\",\"\",'Process_&_CMS_Identification'!D117)","v":""},"",{"$f":"IF(COUNTIF(L$2:L95,L95)=1,L95,\"\")","v":""},{"$nulls":5},{"$f":"+IF(X95=\"\",\"\",MAX(T$1:T94)+1)","v":""},{"$f":"IF('No CMS - Deviation - Limits'!B117=\"\",\"\",'No CMS - Deviation - Limits'!B117)","v":""},{"$f":"IF('No CMS - Deviation - Limits'!C117=\"\",\"\",'No CMS - Deviation - Limits'!C117)","v":""},"",{"$f":"IF(COUNTIF(V$2:V95,V95)=1,V95,\"\")","v":""},"","",{"$f":"+IFERROR(INDEX(#REF!,MATCH(ROW()-ROW($Y$1),T$2:T$955,0)),\"\")","v":""},null,{"$f":"+IF(AG95=\"\",\"\",MAX(AC$1:AC94)+1)","v":""},{"$f":"IF('Using CMS - Deviation - Limits'!B117=\"\",\"\",'Using CMS - Deviation - Limits'!B117)","v":""},{"$f":"IF('Using CMS - Deviation - Limits'!C117=\"\",\"\",'Using CMS - Deviation - Limits'!C117)","v":""},"",{"$f":"IF(COUNTIF(AF$2:AF95,AF95)=1,AF95,\"\")","v":""},"","",{"$f":"+IFERROR(INDEX(#REF!,MATCH(ROW()-ROW(AG$1),AC$2:AC$955,0)),\"\")","v":""},{"$nulls":3},{"$f":"+IF(AS95=\"\",\"\",MAX(AN$1:AN94)+1)","v":""},{"$f":"IF('Using CMS - Inop_OoC - CMS'!B117=\"\",\"\",'Using CMS - Inop_OoC - CMS'!B117)","v":""},{"$f":"IF('Using CMS - Inop_OoC - CMS'!C117=\"\",\"\",'Using CMS - Inop_OoC - CMS'!C117)","v":""},{"$f":"IF('Using CMS - Inop_OoC - CMS'!D117=\"\",\"\",'Using CMS - Inop_OoC - CMS'!D117)","v":""},{"$f":"AO95&AP95&Table10[[#This Row],[CMS]]","v":""},{"$f":"IF(COUNTIF(AR$2:AR95,AR95)=1,AR95,\"\")","v":""},"","","",null,{"$f":"+IF(BB95=\"\",\"\",MAX(AX$1:AX94)+1)","v":""},{"$f":"IF('Using CMS - Deviation - Limits'!B117=\"\",\"\",'Using CMS - Deviation - Limits'!B117)","v":""},{"$f":"IF('Using CMS - Deviation - Limits'!C117=\"\",\"\",'Using CMS - Deviation - Limits'!C117)","v":""},{"$f":"AY95&AZ95&Table10[[#This Row],[CMS]]","v":""},{"$f":"IF(COUNTIF(BA$2:BA95,BA95)=1,BA95,\"\")","v":""},"","",{"$f":"+IFERROR(INDEX(#REF!,MATCH(ROW()-ROW(BC$1),AX$2:AX$955,0)),\"\")","v":""}]
[{"$f":"+IF(D96=\"\",\"\",MAX(A$1:A95)+1)","v":""},{"$f":"IF('Process_&_CMS_Identification'!C118=\"\",\"\",'Process_&_CMS_Identification'!C118)","v":""},"",{"$f":"IF(COUNTIF(B$2:B96,B96)=1,B96,\"\")","v":""},{"$nulls":6},{"$f":"+IF(N96=\"\",\"\",MAX(K$1:K95)+1)","v":""},{"$f":"IF('Process_&_CMS_Identification'!D118=\"\",\"\",'Process_&_CMS_Identification'!D118)","v":""},"",{"$f":"IF(COUNTIF(L$2:L96,L96)=1,L96,\"\")","v":""},{"$nulls":5},{"$f":"+IF(X96=\"\",\"\",MAX(T$1:T95)+1)","v":""},{"$f":"IF('No CMS - Deviation - Limits'!B118=\"\",\"\",'No CMS - Deviation - Limits'!B118)","v":""},{"$f":"IF('No CMS - Deviation - Limits'!C118=\"\",\"\",'No CMS - Deviation - Limits'!C118)","v":""},"",{"$f":"IF(COUNTIF(V$2:V96,V96)=1,V96,\"\")","v":""},"","",{"$f":"+IFERROR(INDEX(#REF!,MATCH(ROW()-ROW($Y$1),T$2:T$955,0)),\"\")","v":""},null,{"$f":"+IF(AG96=\"\",\"\",MAX(AC$1:AC95)+1)","v":""},{"$f":"IF('Using CMS - Deviation - Limits'!B118=\"\",\"\",'Using CMS - Deviation - Limits'!B118)","v":""},{"$f":"IF('Using CMS - Deviation - Limits'!C118=\"\",\"\",'Using CMS - Deviation - Limits'!C118)","v":""},"",{"$f":"IF(COUNTIF(AF$2:AF96,AF96)=1,AF96,\"\")","v":""},"","",{"$f":"+IFERROR(INDEX(#REF!,MATCH(ROW()-ROW(AG$1),AC$2:AC$955,0)),\"\")","v":""},{"$nulls":3},{"$f":"+IF(AS96=\"\",\"\",MAX(AN$1:AN95)+1)","v":""},{"$f":"IF('Using CMS - Inop_OoC - CMS'!B118=\"\",\"\",'Using CMS - Inop_OoC - CMS'!B118)","v":""},{"$f":"IF('Using CMS - Inop_OoC - CMS'!C118=\"\",\"\",'Using CMS - Inop_OoC - CMS'!C118)","v":""},{"$f":"IF('Using CMS - Inop_OoC - CMS'!D118=\"\",\"\",'Using CMS - Inop_OoC - CMS'!D118)","v":""},{"$f":"AO96&AP96&Table10[[#This Row],[CMS]]","v":""},{"$f":"IF(COUNTIF(AR$2:AR96,AR96)=1,AR96,\"\")","v":""},"","","",null,{"$f":"+IF(BB96=\"\",\"\",MAX(AX$1:AX95)+1)","v":""},{"$f":"IF('Using CMS - Deviation - Limits'!B118=\"\",\"\",'Using CMS - Deviation - Limits'!B118)","v":""},{"$f":"IF('Using CMS - Deviation - Limits'!C118=\"\",\"\",'Using CMS - Deviation - Limits'!C118)","v":""},{"$f":"AY96&AZ96&Table10[[#This Row],[CMS]]","v":""},{"$f":"IF(COUNTIF(BA$2:BA96,BA96)=1,BA96,\"\")","v":""},"","",{"$f":"+IFERROR(INDEX(#REF!,MATCH(ROW()-ROW(BC$1),AX$2:AX$955,0)),\"\")","v":""}]
[{"$f":"+IF(D97=\"\",\"\",MAX(A$1:A96)+1)","v":""},{"$f":"IF('Process_&_CMS_Identification'!C119=\"\",\"\",'Process_&_CMS_Identification'!C119)","v":""},"",{"$f":"IF(COUNTIF(B$2:B97,B97)=1,B97,\"\")","v":""},{"$nulls":6},{"$f":"+IF(N97=\"\",\"\",MAX(K$1:K96)+1)","v":""},{"$f":"IF('Process_&_CMS_Identification'!D119=\"\",\"\",'Process_&_CMS_Identification'!D119)","v":""},"",{"$f":"IF(COUNTIF(L$2:L97,L97)=1,L97,\"\")","v":""},{"$nulls":5},{"$f":"+IF(X97=\"\",\"\",MAX(T$1:T96)+1)","v":""},{"$f":"IF('No CMS - Deviation - Limits'!B119=\"\",\"\",'No CMS - Deviation - Limits'!B119)","v":""},{"$f":"IF('No CMS - Deviation - Limits'!C119=\"\",\"\",'No CMS - Deviation - Limits'!C119)","v":""},"",{"$f":"IF(COUNTIF(V$2:V97,V97)=1,V97,\"\")","v":""},"","",{"$f":"+IFERROR(INDEX(#REF!,MATCH(ROW()-ROW($Y$1),T$2:T$955,0)),\"\")","v":""},null,{"$f":"+IF(AG97=\"\",\"\",MAX(AC$1:AC96)+1)","v":""},{"$f":"IF('Using CMS - Deviation - Limits'!B119=\"\",\"\",'Using CMS - Deviation - Limits'!B119)","v":""},{"$f":"IF('Using CMS - Deviation - Limits'!C119=\"\",\"\",'Using CMS - Deviation - Limits'!C119)","v":""},"",{"$f":"IF(COUNTIF(AF$2:AF97,AF97)=1,AF97,\"\")","v":""},"","",{"$f":"+IFERROR(INDEX(#REF!,MATCH(ROW()-ROW(AG$1),AC$2:AC$955,0)),\"\")","v":""},{"$nulls":3},{"$f":"+IF(AS97=\"\",\"\",MAX(AN$1:AN96)+1)","v":""},{"$f":"IF('Using CMS - Inop_OoC - CMS'!B119=\"\",\"\",'Using CMS - Inop_OoC - CMS'!B119)","v":""},{"$f":"IF('Using CMS - Inop_OoC - CMS'!C119=\"\",\"\",'Using CMS - Inop_OoC - CMS'!C119)","v":""},{"$f":"IF('Using CMS - Inop_OoC - CMS'!D119=\"\",\"\",'Using CMS - Inop_OoC - CMS'!D119)","v":""},{"$f":"AO97&AP97&Table10[[#This Row],[CMS]]","v":""},{"$f":"IF(COUNTIF(AR$2:AR97,AR97)=1,AR97,\"\")","v":""},"","","",null,{"$f":"+IF(BB97=\"\",\"\",MAX(AX$1:AX96)+1)","v":""},{"$f":"IF('Using CMS - Deviation - Limits'!B119=\"\",\"\",'Using CMS - Deviation - Limits'!B119)","v":""},{"$f":"IF('Using CMS - Deviation - Limits'!C119=\"\",\"\",'Using CMS - Deviation - Limits'!C119)","v":""},{"$f":"AY97&AZ97&Table10[[#This Row],[CMS]]","v":""},{"$f":"IF(COUNTIF(BA$2:BA97,BA97)=1,BA97,\"\")","v":""},"","",{"$f":"+IFERROR(INDEX(#REF!,MATCH(ROW()-ROW(BC$1),AX$2:AX$955,0)),\"\")","v":""}]
[{"$f":"+IF(D98=\"\",\"\",MAX(A$1:A97)+1)","v":""},{"$f":"IF('Process_&_CMS_Identification'!C120=\"\",\"\",'Process_&_CMS_Identification'!C120)","v":""},"",{"$f":"IF(COUNTIF(B$2:B98,B98)=1,B98,\"\")","v":""},{"$nulls":6},{"$f":"+IF(N98=\"\",\"\",MAX(K$1:K97)+1)","v":""},{"$f":"IF('Process_&_CMS_Identification'!D120=\"\",\"\",'Process_&_CMS_Identification'!D120)","v":""},{"$f":"+IFERROR(INDEX(L$2:L$101,MATCH(ROW()-ROW($M$1),K$2:K$101,0)),\"\")","v":""},{"$f":"IF(COUNTIF(L$2:L98,L98)=1,L98,\"\")","v":""},{"$nulls":5},{"$f":"+IF(X98=\"\",\"\",MAX(T$1:T97)+1)","v":""},{"$f":"IF('No CMS - Deviation - Limits'!B120=\"\",\"\",'No CMS - Deviation - Limits'!B120)","v":""},{"$f":"IF('No CMS - Deviation - Limits'!C120=\"\",\"\",'No CMS - Deviation - Limits'!C120)","v":""},"",{"$f":"IF(COUNTIF(V$2:V98,V98)=1,V98,\"\")","v":""},"","",{"$f":"+IFERROR(INDEX(#REF!,MATCH(ROW()-ROW($Y$1),T$2:T$955,0)),\"\")","v":""},null,{"$f":"+IF(AG98=\"\",\"\",MAX(AC$1:AC97)+1)","v":""},{"$f":"IF('Using CMS - Deviation - Limits'!B120=\"\",\"\",'Using CMS - Deviation - Limits'!B120)","v":""},{"$f":"IF('Using CMS - Deviation - Limits'!C120=\"\",\"\",'Using CMS - Deviation - Limits'!C120)","v":""},"",{"$f":"IF(COUNTIF(AF$2:AF98,AF98)=1,AF98,\"\")","v":""},"","",{"$f":"+IFERROR(INDEX(#REF!,MATCH(ROW()-ROW(AG$1),AC$2:AC$955,0)),\"\")","v":""},{"$nulls":3},{"$f":"+IF(AS98=\"\",\"\",MAX(AN$1:AN97)+1)","v":""},{"$f":"IF('Using CMS - Inop_OoC - CMS'!B120=\"\",\"\",'Using CMS - Inop_OoC - CMS'!B120)","v":""},{"$f":"IF('Using CMS - Inop_OoC - CMS'!C120=\"\",\"\",'Using CMS - Inop_OoC - CMS'!C120)","v":""},{"$f":"IF('Using CMS - Inop_OoC - CMS'!D120=\"\",\"\",'Using CMS - Inop_OoC - CMS'!D120)","v":""},{"$f":"AO98&AP98&Table10[[#This Row],[CMS]]","v":""},{"$f":"IF(COUNTIF(AR$2:AR98,AR98)=1,AR98,\"\")","v":""},"","","",null,{"$f":"+IF(BB98=\"\",\"\",MAX(AX$1:AX97)+1)","v":""},{"$f":"IF('Using CMS - Deviation - Limits'!B120=\"\",\"\",'Using CMS - Deviation - Limits'!B120)","v":""},{"$f":"IF('Using CMS - Deviation - Limits'!C120=\"\",\"\",'Using CMS - Deviation - Limits'!C120)","v":""},{"$f":"AY98&AZ98&Table10[[#This Row],[CMS]]","v":""},{"$f":"IF(COUNTIF(BA$2:BA98,BA98)=1,BA98,\"\")","v":""},"","",{"$f":"+IFERROR(INDEX(#REF!,MATCH(ROW()-ROW(BC$1),AX$2:AX$955,0)),\"\")","v":""}]
[{"$f":"+IF(D99=\"\",\"\",MAX(A$1:A98)+1)","v":""},{"$f":"IF('Process_&_CMS_Identification'!C121=\"\",\"\",'Process_&_CMS_Identification'!C121)","v":""},"",{"$f":"IF(COUNTIF(B$2:B99,B99)=1,B99,\"\")","v":""},{"$nulls":6},{"$f":"+IF(N99=\"\",\"\",MAX(K$1:K98)+1)","v":""},{"$f":"IF('Process_&_CMS_Identification'!D121=\"\",\"\",'Process_&_CMS_Identification'!D121)","v":""},{"$f":"+IFERROR(INDEX(L$2:L$101,MATCH(ROW()-ROW($M$1),K$2:K$101,0)),\"\")","v":""},{"$f":"IF(COUNTIF(L$2:L99,L99)=1,L99,\"\")","v":""},{"$nulls":5},{"$f":"+IF(X99=\"\",\"\",MAX(T$1:T98)+1)","v":""},{"$f":"IF('No CMS - Deviation - Limits'!B121=\"\",\"\",'No CMS - Deviation - Limits'!B121)","v":""},{"$f":"IF('No CMS - Deviation - Limits'!C121=\"\",\"\",'No CMS - Deviation - Limits'!C121)","v":""},"",{"$f":"IF(COUNTIF(V$2:V99,V99)=1,V99,\"\")","v":""},"","",{"$f":"+IFERROR(INDEX(#REF!,MATCH(ROW()-ROW($Y$1),T$2:T$955,0)),\"\")","v":""},null,{"$f":"+IF(AG99=\"\",\"\",MAX(AC$1:AC98)+1)","v":""},{"$f":"IF('Using CMS - Deviation - Limits'!B121=\"\",\"\",'Using CMS - Deviation - Limits'!B121)","v":""},{"$f":"IF('Using CMS - Deviation - Limits'!C121=\"\",\"\",'Using CMS - Deviation - Limits'!C121)","v":""},"",{"$f":"IF(COUNTIF(AF$2:AF99,AF99)=1,AF99,\"\")","v":""},"","",{"$f":"+IFERROR(INDEX(#REF!,MATCH(ROW()-ROW(AG$1),AC$2:AC$955,0)),\"\")","v":""},{"$nulls":3},{"$f":"+IF(AS99=\"\",\"\",MAX(AN$1:AN98)+1)","v":""},{"$f":"IF('Using CMS - Inop_OoC - CMS'!B121=\"\",\"\",'Using CMS - Inop_OoC - CMS'!B121)","v":""},{"$f":"IF('Using CMS - Inop_OoC - CMS'!C121=\"\",\"\",'Using CMS - Inop_OoC - CMS'!C121)","v":""},{"$f":"IF('Using CMS - Inop_OoC - CMS'!D121=\"\",\"\",'Using CMS - Inop_OoC - CMS'!D121)","v":""},{"$f":"AO99&AP99&Table10[[#This Row],[CMS]]","v":""},{"$f":"IF(COUNTIF(AR$2:AR99,AR99)=1,AR99,\"\")","v":""},"","","",null,{"$f":"+IF(BB99=\"\",\"\",MAX(AX$1:AX98)+1)","v":""},{"$f":"IF('Using CMS - Deviation - Limits'!B121=\"\",\"\",'Using CMS - Deviation - Limits'!B121)","v":""},{"$f":"IF('Using CMS - Deviation - Limits'!C121=\"\",\"\",'Using CMS - Deviation - Limits'!C121)","v":""},{"$f":"AY99&AZ99&Table10[[#This Row],[CMS]]","v":""},{"$f":"IF(COUNTIF(BA$2:BA99,BA99)=1,BA99,\"\")","v":""},"","",{"$f":"+IFERROR(INDEX(#REF!,MATCH(ROW()-ROW(BC$1),AX$2:AX$955,0)),\"\")","v":""}]
[{"$f":"+IF(D100=\"\",\"\",MAX(A$1:A99)+1)","v":""},{"$f":"IF('Process_&_CMS_Identification'!C122=\"\",\"\",'Process_&_CMS_Identification'!C122)","v":""},"",{"$f":"IF(COUNTIF(B$2:B100,B100)=1,B100,\"\")","v":""},{"$nulls":6},{"$f":"+IF(N100=\"\",\"\",MAX(K$1:K99)+1)","v":""},{"$f":"IF('Process_&_CMS_Identification'!D122=\"\",\"\",'Process_&_CMS_Identification'!D122)","v":""},{"$f":"+IFERROR(INDEX(L$2:L$101,MATCH(ROW()-ROW($M$1),K$2:K$101,0)),\"\")","v":""},{"$f":"IF(COUNTIF(L$2:L100,L100)=1,L100,\"\")","v":""},{"$nulls":5},{"$f":"+IF(X100=\"\",\"\",MAX(T$1:T99)+1)","v":""},{"$f":"IF('No CMS - Deviation - Limits'!B122=\"\",\"\",'No CMS - Deviation - Limits'!B122)","v":""},{"$f":"IF('No CMS - Deviation - Limits'!C122=\"\",\"\",'No CMS - Deviation - Limits'!C122)","v":""},"",{"$f":"IF(COUNTIF(V$2:V100,V100)=1,V100,\"\")","v":""},"","",{"$f":"+IFERROR(INDEX(#REF!,MATCH(ROW()-ROW($Y$1),T$2:T$955,0)),\"\")","v":""},null,{"$f":"+IF(AG100=\"\",\"\",MAX(AC$1:AC99)+1)","v":""},{"$f":"IF('Using CMS - Deviation - Limits'!B122=\"\",\"\",'Using CMS - Deviation - Limits'!B122)","v":""},{"$f":"IF('Using CMS - Deviation - Limits'!C122=\"\",\"\",'Using CMS - Deviation - Limits'!C122)","v":""},"",{"$f":"IF(COUNTIF(AF$2:AF100,AF100)=1,AF100,\"\")","v":""},"","",{"$f":"+IFERROR(INDEX(#REF!,MATCH(ROW()-ROW(AG$1),AC$2:AC$955,0)),\"\")","v":""},{"$nulls":3},{"$f":"+IF(AS100=\"\",\"\",MAX(AN$1:AN99)+1)","v":""},{"$f":"IF('Using CMS - Inop_OoC - CMS'!B122=\"\",\"\",'Using CMS - Inop_OoC - CMS'!B122)","v":""},{"$f":"IF('Using CMS - Inop_OoC - CMS'!C122=\"\",\"\",'Using CMS - Inop_OoC - CMS'!C122)","v":""},{"$f":"IF('Using CMS - Inop_OoC - CMS'!D122=\"\",\"\",'Using CMS - Inop_OoC - CMS'!D122)","v":""},{"$f":"AO100&AP100&Table10[[#This Row],[CMS]]","v":""},{"$f":"IF(COUNTIF(AR$2:AR100,AR100)=1,AR100,\"\")","v":""},"","","",null,{"$f":"+IF(BB100=\"\",\"\",MAX(AX$1:AX99)+1)","v":""},{"$f":"IF('Using CMS - Deviation - Limits'!B122=\"\",\"\",'Using CMS - Deviation - Limits'!B122)","v":""},{"$f":"IF('Using CMS - Deviation - Limits'!C122=\"\",\"\",'Using CMS - Deviation - Limits'!C122)","v":""},{"$f":"AY100&AZ100&Table10[[#This Row],[CMS]]","v":""},{"$f":"IF(COUNTIF(BA$2:BA100,BA100)=1,BA100,\"\")","v":""},"","",{"$f":"+IFERROR(INDEX(#REF!,MATCH(ROW()-ROW(BC$1),AX$2:AX$955,0)),\"\")","v":""}]
[{"$f":"+IF(D101=\"\",\"\",MAX(A$1:A100)+1)","v":""},{"$f":"IF('Process_&_CMS_Identification'!C123=\"\",\"\",'Process_&_CMS_Identification'!C123)","v":""},"",{"$f":"IF(COUNTIF(B$2:B101,B101)=1,B101,\"\")","v":""},{"$nulls":6},{"$f":"+IF(N101=\"\",\"\",MAX(K$1:K100)+1)","v":""},{"$f":"IF('Process_&_CMS_Identification'!D123=\"\",\"\",'Process_&_CMS_Identification'!D123)","v":""},{"$f":"+IFERROR(INDEX(L$2:L$101,MATCH(ROW()-ROW($M$1),K$2:K$101,0)),\"\")","v":""},{"$f":"IF(COUNTIF(L$2:L101,L101)=1,L101,\"\")","v":""},{"$nulls":5},{"$f":"+IF(X101=\"\",\"\",MAX(T$1:T100)+1)","v":""},{"$f":"IF('No CMS - Deviation - Limits'!B123=\"\",\"\",'No CMS - Deviation - Limits'!B123)","v":""},{"$f":"IF('No CMS - Deviation - Limits'!C123=\"\",\"\",'No CMS - Deviation - Limits'!C123)","v":""},"",{"$f":"IF(COUNTIF(V$2:V101,V101)=1,V101,\"\")","v":""},"","",{"$f":"+IFERROR(INDEX(#REF!,MATCH(ROW()-ROW($Y$1),T$2:T$955,0)),\"\")","v":""},null,{"$f":"+IF(AG101=\"\",\"\",MAX(AC$1:AC100)+1)","v":""},{"$f":"IF('Using CMS - Deviation - Limits'!B123=\"\",\"\",'Using CMS - Deviation - Limits'!B123)","v":""},{"$f":"IF('Using CMS - Deviation - Limits'!C123=\"\",\"\",'Using CMS - Deviation - Limits'!C123)","v":""},"",{"$f":"IF(COUNTIF(AF$2:AF101,AF101)=1,AF101,\"\")","v":""},"","",{"$f":"+IFERROR(INDEX(#REF!,MATCH(ROW()-ROW(AG$1),AC$2:AC$955,0)),\"\")","v":""},{"$nulls":3},{"$f":"+IF(AS101=\"\",\"\",MAX(AN$1:AN100)+1)","v":""},{"$f":"IF('Using CMS - Inop_OoC - CMS'!B123=\"\",\"\",'Using CMS - Inop_OoC - CMS'!B123)","v":""},{"$f":"IF('Using CMS - Inop_OoC - CMS'!C123=\"\",\"\",'Using CMS - Inop_OoC - CMS'!C123)","v":""},{"$f":"IF('Using CMS - Inop_OoC - CMS'!D123=\"\",\"\",'Using CMS - Inop_OoC - CMS'!D123)","v":""},{"$f":"AO101&AP101&Table10[[#This Row],[CMS]]","v":""},{"$f":"IF(COUNTIF(AR$2:AR101,AR101)=1,AR101,\"\")","v":""},"","","",null,{"$f":"+IF(BB101=\"\",\"\",MAX(AX$1:AX100)+1)","v":""},{"$f":"IF('Using CMS - Deviation - Limits'!B123=\"\",\"\",'Using CMS - Deviation - Limits'!B123)","v":""},{"$f":"IF('Using CMS - Deviation - Limits'!C123=\"\",\"\",'Using CMS - Deviation - Limits'!C123)","v":""},{"$f":"AY101&AZ101&Table10[[#This Row],[CMS]]","v":""},{"$f":"IF(COUNTIF(BA$2:BA101,BA101)=1,BA101,\"\")","v":""},"","",{"$f":"+IFERROR(INDEX(#REF!,MATCH(ROW()-ROW(BC$1),AX$2:AX$955,0)),\"\")","v":""}]
[{"$f":"+IF(D102=\"\",\"\",MAX(A$1:A101)+1)","v":""},{"$f":"IF('Process_&_CMS_Identification'!C124=\"\",\"\",'Process_&_CMS_Identification'!C124)","v":""},"",{"$f":"IF(COUNTIF(B$2:B102,B102)=1,B102,\"\")","v":""},{"$nulls":15},{"$f":"+IF(X102=\"\",\"\",MAX(T$1:T101)+1)","v":""},{"$f":"IF('No CMS - Deviation - Limits'!B124=\"\",\"\",'No CMS - Deviation - Limits'!B124)","v":""},{"$f":"IF('No CMS - Deviation - Limits'!C124=\"\",\"\",'No CMS - Deviation - Limits'!C124)","v":""},"",{"$f":"IF(COUNTIF(V$2:V102,V102)=1,V102,\"\")","v":""},"","",{"$f":"+IFERROR(INDEX(#REF!,MATCH(ROW()-ROW($Y$1),T$2:T$955,0)),\"\")","v":""},null,{"$f":"+IF(AG102=\"\",\"\",MAX(AC$1:AC101)+1)","v":""},{"$f":"IF('Using CMS - Deviation - Limits'!B124=\"\",\"\",'Using CMS - Deviation - Limits'!B124)","v":""},{"$f":"IF('Using CMS - Deviation - Limits'!C124=\"\",\"\",'Using CMS - Deviation - Limits'!C124)","v":""},"",{"$f":"IF(COUNTIF(AF$2:AF102,AF102)=1,AF102,\"\")","v":""},"","",{"$f":"+IFERROR(INDEX(#REF!,MATCH(ROW()-ROW(AG$1),AC$2:AC$955,0)),\"\")","v":""},{"$nulls":3},{"$f":"+IF(AS102=\"\",\"\",MAX(AN$1:AN101)+1)","v":""},{"$f":"IF('Using CMS - Inop_OoC - CMS'!B124=\"\",\"\",'Using CMS - Inop_OoC - CMS'!B124)","v":""},{"$f":"IF('Using CMS - Inop_OoC - CMS'!C124=\"\",\"\",'Using CMS - Inop_OoC - CMS'!C124)","v":""},{"$f":"IF('Using CMS - Inop_OoC - CMS'!D124=\"\",\"\",'Using CMS - Inop_OoC - CMS'!D124)","v":""},{"$f":"AO102&AP102&Table10[[#This Row],[CMS]]","v":""},{"$f":"IF(COUNTIF(AR$2:AR102,AR102)=1,AR102,\"\")","v":""},"","","",null,{"$f":"+IF(BB102=\"\",\"\",MAX(AX$1:AX101)+1)","v":""},{"$f":"IF('Using CMS - Deviation - Limits'!B124=\"\",\"\",'Using CMS - Deviation - Limits'!B124)","v":""},{"$f":"IF('Using CMS - Deviation - Limits'!C124=\"\",\"\",'Using CMS - Deviation - Limits'!C124)","v":""},{"$f":"AY102&AZ102&Table10[[#This Row],[CMS]]","v":""},{"$f":"IF(COUNTIF(BA$2:BA102,BA102)=1,BA102,\"\")","v":""},"","",{"$f":"+IFERROR(INDEX(#REF!,MATCH(ROW()-ROW(BC$1),AX$2:AX$955,0)),\"\")","v":""}]
[{"$f":"+IF(D103=\"\",\"\",MAX(A$1:A102)+1)","v":""},{"$f":"IF('Process_&_CMS_Identification'!C125=\"\",\"\",'Process_&_CMS_Identification'!C125)","v":""},"",{"$f":"IF(COUNTIF(B$2:B103,B103)=1,B103,\"\")","v":""},{"$nulls":15},{"$f":"+IF(X103=\"\",\"\",MAX(T$1:T102)+1)","v":""},{"$f":"IF('No CMS - Deviation - Limits'!B125=\"\",\"\",'No CMS - Deviation - Limits'!B125)","v":""},{"$f":"IF('No CMS - Deviation - Limits'!C125=\"\",\"\",'No CMS - Deviation - Limits'!C125)","v":""},"",{"$f":"IF(COUNTIF(V$2:V103,V103)=1,V103,\"\")","v":""},"","",{"$f":"+IFERROR(INDEX(#REF!,MATCH(ROW()-ROW($Y$1),T$2:T$955,0)),\"\")","v":""},null,{"$f":"+IF(AG103=\"\",\"\",MAX(AC$1:AC102)+1)","v":""},{"$f":"IF('Using CMS - Deviation - Limits'!B125=\"\",\"\",'Using CMS - Deviation - Limits'!B125)","v":""},{"$f":"IF('Using CMS - Deviation - Limits'!C125=\"\",\"\",'Using CMS - Deviation - Limits'!C125)","v":""},"",{"$f":"IF(COUNTIF(AF$2:AF103,AF103)=1,AF103,\"\")","v":""},"","",{"$f":"+IFERROR(INDEX(#REF!,MATCH(ROW()-ROW(AG$1),AC$2:AC$955,0)),\"\")","v":""},{"$nulls":3},{"$f":"+IF(AS103=\"\",\"\",MAX(AN$1:AN102)+1)","v":""},{"$f":"IF('Using CMS - Inop_OoC - CMS'!B125=\"\",\"\",'Using CMS - Inop_OoC - CMS'!B125)","v":""},{"$f":"IF('Using CMS - Inop_OoC - CMS'!C125=\"\",\"\",'Using CMS - Inop_OoC - CMS'!C125)","v":""},{"$f":"IF('Using CMS - Inop_OoC - CMS'!D125=\"\",\"\",'Using CMS - Inop_OoC - CMS'!D125)","v":""},{"$f":"AO103&AP103&Table10[[#This Row],[CMS]]","v":""},{"$f":"IF(COUNTIF(AR$2:AR103,AR103)=1,AR103,\"\")","v":""},"","","",null,{"$f":"+IF(BB103=\"\",\"\",MAX(AX$1:AX102)+1)","v":""},{"$f":"IF('Using CMS - Deviation - Limits'!B125=\"\",\"\",'Using CMS - Deviation - Limits'!B125)","v":""},{"$f":"IF('Using CMS - Deviation - Limits'!C125=\"\",\"\",'Using CMS - Deviation - Limits'!C125)","v":""},{"$f":"AY103&AZ103&Table10[[#This Row],[CMS]]","v":""},{"$f":"IF(COUNTIF(BA$2:BA103,BA103)=1,BA103,\"\")","v":""},"","",{"$f":"+IFERROR(INDEX(#REF!,MATCH(ROW()-ROW(BC$1),AX$2:AX$955,0)),\"\")","v":""}]
[{"$f":"+IF(D104=\"\",\"\",MAX(A$1:A103)+1)","v":""},{"$f":"IF('Process_&_CMS_Identification'!C126=\"\",\"\",'Process_&_CMS_Identification'!C126)","v":""},"",{"$f":"IF(COUNTIF(B$2:B104,B104)=1,B104,\"\")","v":""},{"$nulls":15},{"$f":"+IF(X104=\"\",\"\",MAX(T$1:T103)+1)","v":""},{"$f":"IF('No CMS - Deviation - Limits'!B126=\"\",\"\",'No CMS - Deviation - Limits'!B126)","v":""},{"$f":"IF('No CMS - Deviation - Limits'!C126=\"\",\"\",'No CMS - Deviation - Limits'!C126)","v":""},"",{"$f":"IF(COUNTIF(V$2:V104,V104)=1,V104,\"\")","v":""},"","",{"$f":"+IFERROR(INDEX(#REF!,MATCH(ROW()-ROW($Y$1),T$2:T$955,0)),\"\")","v":""},null,{"$f":"+IF(AG104=\"\",\"\",MAX(AC$1:AC103)+1)","v":""},{"$f":"IF('Using CMS - Deviation - Limits'!B126=\"\",\"\",'Using CMS - Deviation - Limits'!B126)","v":""},{"$f":"IF('Using CMS - Deviation - Limits'!C126=\"\",\"\",'Using CMS - Deviation - Limits'!C126)","v":""},"",{"$f":"IF(COUNTIF(AF$2:AF104,AF104)=1,AF104,\"\")","v":""},"","",{"$f":"+IFERROR(INDEX(#REF!,MATCH(ROW()-ROW(AG$1),AC$2:AC$955,0)),\"\")","v":""},{"$nulls":3},{"$f":"+IF(AS104=\"\",\"\",MAX(AN$1:AN103)+1)","v":""},{"$f":"IF('Using CMS - Inop_OoC - CMS'!B126=\"\",\"\",'Using CMS - Inop_OoC - CMS'!B126)","v":""},{"$f":"IF('Using CMS - Inop_OoC - CMS'!C126=\"\",\"\",'Using CMS - Inop_OoC - CMS'!C126)","v":""},{"$f":"IF('Using CMS - Inop_OoC - CMS'!D126=\"\",\"\",'Using CMS - Inop_OoC - CMS'!D126)","v":""},{"$f":"AO104&AP104&Table10[[#This Row],[CMS]]","v":""},{"$f":"IF(COUNTIF(AR$2:AR104,AR104)=1,AR104,\"\")","v":""},"","","",null,{"$f":"+IF(BB104=\"\",\"\",MAX(AX$1:AX103)+1)","v":""},{"$f":"IF('Using CMS - Deviation - Limits'!B126=\"\",\"\",'Using CMS - Deviation - Limits'!B126)","v":""},{"$f":"IF('Using CMS - Deviation - Limits'!C126=\"\",\"\",'Using CMS - Deviation - Limits'!C126)","v":""},{"$f":"AY104&AZ104&Table10[[#This Row],[CMS]]","v":""},{"$f":"IF(COUNTIF(BA$2:BA104,BA104)=1,BA104,\"\")","v":""},"","",{"$f":"+IFERROR(INDEX(#REF!,MATCH(ROW()-ROW(BC$1),AX$2:AX$955,0)),\"\")","v":""}]
[{"$f":"+IF(D105=\"\",\"\",MAX(A$1:A104)+1)","v":""},{"$f":"IF('Process_&_CMS_Identification'!C127=\"\",\"\",'Process_&_CMS_Identification'!C127)","v":""},"",{"$f":"IF(COUNTIF(B$2:B105,B105)=1,B105,\"\")","v":""},{"$nulls":15},{"$f":"+IF(X105=\"\",\"\",MAX(T$1:T104)+1)","v":""},{"$f":"IF('No CMS - Deviation - Limits'!B127=\"\",\"\",'No CMS - Deviation - Limits'!B127)","v":""},{"$f":"IF('No CMS - Deviation - Limits'!C127=\"\",\"\",'No CMS - Deviation - Limits'!C127)","v":""},"",{"$f":"IF(COUNTIF(V$2:V105,V105)=1,V105,\"\")","v":""},"","",{"$f":"+IFERROR(INDEX(#REF!,MATCH(ROW()-ROW($Y$1),T$2:T$955,0)),\"\")","v":""},null,{"$f":"+IF(AG105=\"\",\"\",MAX(AC$1:AC104)+1)","v":""},{"$f":"IF('Using CMS - Deviation - Limits'!B127=\"\",\"\",'Using CMS - Deviation - Limits'!B127)","v":""},{"$f":"IF('Using CMS - Deviation - Limits'!C127=\"\",\"\",'Using CMS - Deviation - Limits'!C127)","v":""},"",{"$f":"IF(COUNTIF(AF$2:AF105,AF105)=1,AF105,\"\")","v":""},"","",{"$f":"+IFERROR(INDEX(#REF!,MATCH(ROW()-ROW(AG$1),AC$2:AC$955,0)),\"\")","v":""},{"$nulls":3},{"$f":"+IF(AS105=\"\",\"\",MAX(AN$1:AN104)+1)","v":""},{"$f":"IF('Using CMS - Inop_OoC - CMS'!B127=\"\",\"\",'Using CMS - Inop_OoC - CMS'!B127)","v":""},{"$f":"IF('Using CMS - Inop_OoC - CMS'!C127=\"\",\"\",'Using CMS - Inop_OoC - CMS'!C127)","v":""},{"$f":"IF('Using CMS - Inop_OoC - CMS'!D127=\"\",\"\",'Using CMS - Inop_OoC - CMS'!D127)","v":""},{"$f":"AO105&AP105&Table10[[#This Row],[CMS]]","v":""},{"$f":"IF(COUNTIF(AR$2:AR105,AR105)=1,AR105,\"\")","v":""},"","","",null,{"$f":"+IF(BB105=\"\",\"\",MAX(AX$1:AX104)+1)","v":""},{"$f":"IF('Using CMS - Deviation - Limits'!B127=\"\",\"\",'Using CMS - Deviation - Limits'!B127)","v":""},{"$f":"IF('Using CMS - Deviation - Limits'!C127=\"\",\"\",'Using CMS - Deviation - Limits'!C127)","v":""},{"$f":"AY105&AZ105&Table10[[#This Row],[CMS]]","v":""},{"$f":"IF(COUNTIF(BA$2:BA105,BA105)=1,BA105,\"\")","v":""},"","",{"$f":"+IFERROR(INDEX(#REF!,MATCH(ROW()-ROW(BC$1),AX$2:AX$955,0)),\"\")","v":""}]
[{"$f":"+IF(D106=\"\",\"\",MAX(A$1:A105)+1)","v":""},{"$f":"IF('Process_&_CMS_Identification'!C128=\"\",\"\",'Process_&_CMS_Identification'!C128)","v":""},"",{"$f":"IF(COUNTIF(B$2:B106,B106)=1,B106,\"\")","v":""},{"$nulls":15},{"$f":"+IF(X106=\"\",\"\",MAX(T$1:T105)+1)","v":""},{"$f":"IF('No CMS - Deviation - Limits'!B128=\"\",\"\",'No CMS - Deviation - Limits'!B128)","v":""},{"$f":"IF('No CMS - Deviation - Limits'!C128=\"\",\"\",'No CMS - Deviation - Limits'!C128)","v":""},"",{"$f":"IF(COUNTIF(V$2:V106,V106)=1,V106,\"\")","v":""},"","",{"$f":"+IFERROR(INDEX(#REF!,MATCH(ROW()-ROW($Y$1),T$2:T$955,0)),\"\")","v":""},null,{"$f":"+IF(AG106=\"\",\"\",MAX(AC$1:AC105)+1)","v":""},{"$f":"IF('Using CMS - Deviation - Limits'!B128=\"\",\"\",'Using CMS - Deviation - Limits'!B128)","v":""},{"$f":"IF('Using CMS - Deviation - Limits'!C128=\"\",\"\",'Using CMS - Deviation - Limits'!C128)","v":""},"",{"$f":"IF(COUNTIF(AF$2:AF106,AF106)=1,AF106,\"\")","v":""},"","",{"$f":"+IFERROR(INDEX(#REF!,MATCH(ROW()-ROW(AG$1),AC$2:AC$955,0)),\"\")","v":""},{"$nulls":3},{"$f":"+IF(AS106=\"\",\"\",MAX(AN$1:AN105)+1)","v":""},{"$f":"IF('Using CMS - Inop_OoC - CMS'!B128=\"\",\"\",'Using CMS - Inop_OoC - CMS'!B128)","v":""},{"$f":"IF('Using CMS - Inop_OoC - CMS'!C128=\"\",\"\",'Using CMS - Inop_OoC - CMS'!C128)","v":""},{"$f":"IF('Using CMS - Inop_OoC - CMS'!D128=\"\",\"\",'Using CMS - Inop_OoC - CMS'!D128)","v":""},{"$f":"AO106&AP106&Table10[[#This Row],[CMS]]","v":""},{"$f":"IF(COUNTIF(AR$2:AR106,AR106)=1,AR106,\"\")","v":""},"","","",null,{"$f":"+IF(BB106=\"\",\"\",MAX(AX$1:AX105)+1)","v":""},{"$f":"IF('Using CMS - Deviation - Limits'!B128=\"\",\"\",'Using CMS - Deviation - Limits'!B128)","v":""},{"$f":"IF('Using CMS - Deviation - Limits'!C128=\"\",\"\",'Using CMS - Deviation - Limits'!C128)","v":""},{"$f":"AY106&AZ106&Table10[[#This Row],[CMS]]","v":""},{"$f":"IF(COUNTIF(BA$2:BA106,BA106)=1,BA106,\"\")","v":""},"","",{"$f":"+IFERROR(INDEX(#REF!,MATCH(ROW()-ROW(BC$1),AX$2:AX$955,0)),\"\")","v":""}]
[{"$f":"+IF(D107=\"\",\"\",MAX(A$1:A106)+1)","v":""},{"$f":"IF('Process_&_CMS_Identification'!C129=\"\",\"\",'Process_&_CMS_Identification'!C129)","v":""},"",{"$f":"IF(COUNTIF(B$2:B107,B107)=1,B107,\"\")","v":""},{"$nulls":15},{"$f":"+IF(X107=\"\",\"\",MAX(T$1:T106)+1)","v":""},{"$f":"IF('No CMS - Deviation - Limits'!B129=\"\",\"\",'No CMS - Deviation - Limits'!B129)","v":""},{"$f":"IF('No CMS - Deviation - Limits'!C129=\"\",\"\",'No CMS - Deviation - Limits'!C129)","v":""},"",{"$f":"IF(COUNTIF(V$2:V107,V107)=1,V107,\"\")","v":""},"","",{"$f":"+IFERROR(INDEX(#REF!,MATCH(ROW()-ROW($Y$1),T$2:T$955,0)),\"\")","v":""},null,{"$f":"+IF(AG107=\"\",\"\",MAX(AC$1:AC106)+1)","v":""},{"$f":"IF('Using CMS - Deviation - Limits'!B129=\"\",\"\",'Using CMS - Deviation - Limits'!B129)","v":""},{"$f":"IF('Using CMS - Deviation - Limits'!C129=\"\",\"\",'Using CMS - Deviation - Limits'!C129)","v":""},"",{"$f":"IF(COUNTIF(AF$2:AF107,AF107)=1,AF107,\"\")","v":""},"","",{"$f":"+IFERROR(INDEX(#REF!,MATCH(ROW()-ROW(AG$1),AC$2:AC$955,0)),\"\")","v":""},{"$nulls":3},{"$f":"+IF(AS107=\"\",\"\",MAX(AN$1:AN106)+1)","v":""},{"$f":"IF('Using CMS - Inop_OoC - CMS'!B129=\"\",\"\",'Using CMS - Inop_OoC - CMS'!B129)","v":""},{"$f":"IF('Using CMS - Inop_OoC - CMS'!C129=\"\",\"\",'Using CMS - Inop_OoC - CMS'!C129)","v":""},{"$f":"IF('Using CMS - Inop_OoC - CMS'!D129=\"\",\"\",'Using CMS - Inop_OoC - CMS'!D129)","v":""},{"$f":"AO107&AP107&Table10[[#This Row],[CMS]]","v":""},{"$f":"IF(COUNTIF(AR$2:AR107,AR107)=1,AR107,\"\")","v":""},"","","",null,{"$f":"+IF(BB107=\"\",\"\",MAX(AX$1:AX106)+1)","v":""},{"$f":"IF('Using CMS - Deviation - Limits'!B129=\"\",\"\",'Using CMS - Deviation - Limits'!B129)","v":""},{"$f":"IF('Using CMS - Deviation - Limits'!C129=\"\",\"\",'Using CMS - Deviation - Limits'!C129)","v":""},{"$f":"AY107&AZ107&Table10[[#This Row],[CMS]]","v":""},{"$f":"IF(COUNTIF(BA$2:BA107,BA107)=1,BA107,\"\")","v":""},"","",{"$f":"+IFERROR(INDEX(#REF!,MATCH(ROW()-ROW(BC$1),AX$2:AX$955,0)),\"\")","v":""}]
[{"$f":"+IF(D108=\"\",\"\",MAX(A$1:A107)+1)","v":""},{"$f":"IF('Process_&_CMS_Identification'!C130=\"\",\"\",'Process_&_CMS_Identification'!C130)","v":""},"",{"$f":"IF(COUNTIF(B$2:B108,B108)=1,B108,\"\")","v":""},{"$nulls":15},{"$f":"+IF(X108=\"\",\"\",MAX(T$1:T107)+1)","v":""},{"$f":"IF('No CMS - Deviation - Limits'!B130=\"\",\"\",'No CMS - Deviation - Limits'!B130)","v":""},{"$f":"IF('No CMS - Deviation - Limits'!C130=\"\",\"\",'No CMS - Deviation - Limits'!C130)","v":""},"",{"$f":"IF(COUNTIF(V$2:V108,V108)=1,V108,\"\")","v":""},"","",{"$f":"+IFERROR(INDEX(#REF!,MATCH(ROW()-ROW($Y$1),T$2:T$955,0)),\"\")","v":""},null,{"$f":"+IF(AG108=\"\",\"\",MAX(AC$1:AC107)+1)","v":""},{"$f":"IF('Using CMS - Deviation - Limits'!B130=\"\",\"\",'Using CMS - Deviation - Limits'!B130)","v":""},{"$f":"IF('Using CMS - Deviation - Limits'!C130=\"\",\"\",'Using CMS - Deviation - Limits'!C130)","v":""},"",{"$f":"IF(COUNTIF(AF$2:AF108,AF108)=1,AF108,\"\")","v":""},"","",{"$f":"+IFERROR(INDEX(#REF!,MATCH(ROW()-ROW(AG$1),AC$2:AC$955,0)),\"\")","v":""},{"$nulls":3},{"$f":"+IF(AS108=\"\",\"\",MAX(AN$1:AN107)+1)","v":""},{"$f":"IF('Using CMS - Inop_OoC - CMS'!B130=\"\",\"\",'Using CMS - Inop_OoC - CMS'!B130)","v":""},{"$f":"IF('Using CMS - Inop_OoC - CMS'!C130=\"\",\"\",'Using CMS - Inop_OoC - CMS'!C130)","v":""},{"$f":"IF('Using CMS - Inop_OoC - CMS'!D130=\"\",\"\",'Using CMS - Inop_OoC - CMS'!D130)","v":""},{"$f":"AO108&AP108&Table10[[#This Row],[CMS]]","v":""},{"$f":"IF(COUNTIF(AR$2:AR108,AR108)=1,AR108,\"\")","v":""},"","","",null,{"$f":"+IF(BB108=\"\",\"\",MAX(AX$1:AX107)+1)","v":""},{"$f":"IF('Using CMS - Deviation - Limits'!B130=\"\",\"\",'Using CMS - Deviation - Limits'!B130)","v":""},{"$f":"IF('Using CMS - Deviation - Limits'!C130=\"\",\"\",'Using CMS - Deviation - Limits'!C130)","v":""},{"$f":"AY108&AZ108&Table10[[#This Row],[CMS]]","v":""},{"$f":"IF(COUNTIF(BA$2:BA108,BA108)=1,BA108,\"\")","v":""},"","",{"$f":"+IFERROR(INDEX(#REF!,MATCH(ROW()-ROW(BC$1),AX$2:AX$955,0)),\"\")","v":""}]
[{"$f":"+IF(D109=\"\",\"\",MAX(A$1:A108)+1)","v":""},{"$f":"IF('Process_&_CMS_Identification'!C131=\"\",\"\",'Process_&_CMS_Identification'!C131)","v":""},"",{"$f":"IF(COUNTIF(B$2:B109,B109)=1,B109,\"\")","v":""},{"$nulls":15},{"$f":"+IF(X109=\"\",\"\",MAX(T$1:T108)+1)","v":""},{"$f":"IF('No CMS - Deviation - Limits'!B131=\"\",\"\",'No CMS - Deviation - Limits'!B131)","v":""},{"$f":"IF('No CMS - Deviation - Limits'!C131=\"\",\"\",'No CMS - Deviation - Limits'!C131)","v":""},"",{"$f":"IF(COUNTIF(V$2:V109,V109)=1,V109,\"\")","v":""},"","",{"$f":"+IFERROR(INDEX(#REF!,MATCH(ROW()-ROW($Y$1),T$2:T$955,0)),\"\")","v":""},null,{"$f":"+IF(AG109=\"\",\"\",MAX(AC$1:AC108)+1)","v":""},{"$f":"IF('Using CMS - Deviation - Limits'!B131=\"\",\"\",'Using CMS - Deviation - Limits'!B131)","v":""},{"$f":"IF('Using CMS - Deviation - Limits'!C131=\"\",\"\",'Using CMS - Deviation - Limits'!C131)","v":""},"",{"$f":"IF(COUNTIF(AF$2:AF109,AF109)=1,AF109,\"\")","v":""},"","",{"$f":"+IFERROR(INDEX(#REF!,MATCH(ROW()-ROW(AG$1),AC$2:AC$955,0)),\"\")","v":""},{"$nulls":3},{"$f":"+IF(AS109=\"\",\"\",MAX(AN$1:AN108)+1)","v":""},{"$f":"IF('Using CMS - Inop_OoC - CMS'!B131=\"\",\"\",'Using CMS - Inop_OoC - CMS'!B131)","v":""},{"$f":"IF('Using CMS - Inop_OoC - CMS'!C131=\"\",\"\",'Using CMS - Inop_OoC - CMS'!C131)","v":""},{"$f":"IF('Using CMS - Inop_OoC - CMS'!D131=\"\",\"\",'Using CMS - Inop_OoC - CMS'!D131)","v":""},{"$f":"AO109&AP109&Table10[[#This Row],[CMS]]","v":""},{"$f":"IF(COUNTIF(AR$2:AR109,AR109)=1,AR109,\"\")","v":""},"","","",null,{"$f":"+IF(BB109=\"\",\"\",MAX(AX$1:AX108)+1)","v":""},{"$f":"IF('Using CMS - Deviation - Limits'!B131=\"\",\"\",'Using CMS - Deviation - Limits'!B131)","v":""},{"$f":"IF('Using CMS - Deviation - Limits'!C131=\"\",\"\",'Using CMS - Deviation - Limits'!C131)","v":""},{"$f":"AY109&AZ109&Table10[[#This Row],[CMS]]","v":""},{"$f":"IF(COUNTIF(BA$2:BA109,BA109)=1,BA109,\"\")","v":""},"","",{"$f":"+IFERROR(INDEX(#REF!,MATCH(ROW()-ROW(BC$1),AX$2:AX$955,0)),\"\")","v":""}]
[{"$f":"+IF(D110=\"\",\"\",MAX(A$1:A109)+1)","v":""},{"$f":"IF('Process_&_CMS_Identification'!C132=\"\",\"\",'Process_&_CMS_Identification'!C132)","v":""},"",{"$f":"IF(COUNTIF(B$2:B110,B110)=1,B110,\"\")","v":""},{"$nulls":15},{"$f":"+IF(X110=\"\",\"\",MAX(T$1:T109)+1)","v":""},{"$f":"IF('No CMS - Deviation - Limits'!B132=\"\",\"\",'No CMS - Deviation - Limits'!B132)","v":""},{"$f":"IF('No CMS - Deviation - Limits'!C132=\"\",\"\",'No CMS - Deviation - Limits'!C132)","v":""},"",{"$f":"IF(COUNTIF(V$2:V110,V110)=1,V110,\"\")","v":""},"","",{"$f":"+IFERROR(INDEX(#REF!,MATCH(ROW()-ROW($Y$1),T$2:T$955,0)),\"\")","v":""},null,{"$f":"+IF(AG110=\"\",\"\",MAX(AC$1:AC109)+1)","v":""},{"$f":"IF('Using CMS - Deviation - Limits'!B132=\"\",\"\",'Using CMS - Deviation - Limits'!B132)","v":""},{"$f":"IF('Using CMS - Deviation - Limits'!C132=\"\",\"\",'Using CMS - Deviation - Limits'!C132)","v":""},"",{"$f":"IF(COUNTIF(AF$2:AF110,AF110)=1,AF110,\"\")","v":""},"","",{"$f":"+IFERROR(INDEX(#REF!,MATCH(ROW()-ROW(AG$1),AC$2:AC$955,0)),\"\")","v":""},{"$nulls":3},{"$f":"+IF(AS110=\"\",\"\",MAX(AN$1:AN109)+1)","v":""},{"$f":"IF('Using CMS - Inop_OoC - CMS'!B132=\"\",\"\",'Using CMS - Inop_OoC - CMS'!B132)","v":""},{"$f":"IF('Using CMS - Inop_OoC - CMS'!C132=\"\",\"\",'Using CMS - Inop_OoC - CMS'!C132)","v":""},{"$f":"IF('Using CMS - Inop_OoC - CMS'!D132=\"\",\"\",'Using CMS - Inop_OoC - CMS'!D132)","v":""},{"$f":"AO110&AP110&Table10[[#This Row],[CMS]]","v":""},{"$f":"IF(COUNTIF(AR$2:AR110,AR110)=1,AR110,\"\")","v":""},"","","",null,{"$f":"+IF(BB110=\"\",\"\",MAX(AX$1:AX109)+1)","v":""},{"$f":"IF('Using CMS - Deviation - Limits'!B132=\"\",\"\",'Using CMS - Deviation - Limits'!B132)","v":""},{"$f":"IF('Using CMS - Deviation - Limits'!C132=\"\",\"\",'Using CMS - Deviation - Limits'!C132)","v":""},{"$f":"AY110&AZ110&Table10[[#This Row],[CMS]]","v":""},{"$f":"IF(COUNTIF(BA$2:BA110,BA110)=1,BA110,\"\")","v":""},"","",{"$f":"+IFERROR(INDEX(#REF!,MATCH(ROW()-ROW(BC$1),AX$2:AX$955,0)),\"\")","v":""}]
[{"$f":"+IF(D111=\"\",\"\",MAX(A$1:A110)+1)","v":""},{"$f":"IF('Process_&_CMS_Identification'!C133=\"\",\"\",'Process_&_CMS_Identification'!C133)","v":""},"",{"$f":"IF(COUNTIF(B$2:B111,B111)=1,B111,\"\")","v":""},{"$nulls":15},{"$f":"+IF(X111=\"\",\"\",MAX(T$1:T110)+1)","v":""},{"$f":"IF('No CMS - Deviation - Limits'!B133=\"\",\"\",'No CMS - Deviation - Limits'!B133)","v":""},{"$f":"IF('No CMS - Deviation - Limits'!C133=\"\",\"\",'No CMS - Deviation - Limits'!C133)","v":""},"",{"$f":"IF(COUNTIF(V$2:V111,V111)=1,V111,\"\")","v":""},"","",{"$f":"+IFERROR(INDEX(#REF!,MATCH(ROW()-ROW($Y$1),T$2:T$955,0)),\"\")","v":""},null,{"$f":"+IF(AG111=\"\",\"\",MAX(AC$1:AC110)+1)","v":""},{"$f":"IF('Using CMS - Deviation - Limits'!B133=\"\",\"\",'Using CMS - Deviation - Limits'!B133)","v":""},{"$f":"IF('Using CMS - Deviation - Limits'!C133=\"\",\"\",'Using CMS - Deviation - Limits'!C133)","v":""},"",{"$f":"IF(COUNTIF(AF$2:AF111,AF111)=1,AF111,\"\")","v":""},"","",{"$f":"+IFERROR(INDEX(#REF!,MATCH(ROW()-ROW(AG$1),AC$2:AC$955,0)),\"\")","v":""},{"$nulls":3},{"$f":"+IF(AS111=\"\",\"\",MAX(AN$1:AN110)+1)","v":""},{"$f":"IF('Using CMS - Inop_OoC - CMS'!B133=\"\",\"\",'Using CMS - Inop_OoC - CMS'!B133)","v":""},{"$f":"IF('Using CMS - Inop_OoC - CMS'!C133=\"\",\"\",'Using CMS - Inop_OoC - CMS'!C133)","v":""},{"$f":"IF('Using CMS - Inop_OoC - CMS'!D133=\"\",\"\",'Using CMS - Inop_OoC - CMS'!D133)","v":""},{"$f":"AO111&AP111&Table10[[#This Row],[CMS]]","v":""},{"$f":"IF(COUNTIF(AR$2:AR111,AR111)=1,AR111,\"\")","v":""},"","","",null,{"$f":"+IF(BB111=\"\",\"\",MAX(AX$1:AX110)+1)","v":""},{"$f":"IF('Using CMS - Deviation - Limits'!B133=\"\",\"\",'Using CMS - Deviation - Limits'!B133)","v":""},{"$f":"IF('Using CMS - Deviation - Limits'!C133=\"\",\"\",'Using CMS - Deviation - Limits'!C133)","v":""},{"$f":"AY111&AZ111&Table10[[#This Row],[CMS]]","v":""},{"$f":"IF(COUNTIF(BA$2:BA111,BA111)=1,BA111,\"\")","v":""},"","",{"$f":"+IFERROR(INDEX(#REF!,MATCH(ROW()-ROW(BC$1),AX$2:AX$955,0)),\"\")","v":""}]
[{"$f":"+IF(D112=\"\",\"\",MAX(A$1:A111)+1)","v":""},{"$f":"IF('Process_&_CMS_Identification'!C134=\"\",\"\",'Process_&_CMS_Identification'!C134)","v":""},"",{"$f":"IF(COUNTIF(B$2:B112,B112)=1,B112,\"\")","v":""},{"$nulls":15},{"$f":"+IF(X112=\"\",\"\",MAX(T$1:T111)+1)","v":""},{"$f":"IF('No CMS - Deviation - Limits'!B134=\"\",\"\",'No CMS - Deviation - Limits'!B134)","v":""},{"$f":"IF('No CMS - Deviation - Limits'!C134=\"\",\"\",'No CMS - Deviation - Limits'!C134)","v":""},"",{"$f":"IF(COUNTIF(V$2:V112,V112)=1,V112,\"\")","v":""},"","",{"$f":"+IFERROR(INDEX(#REF!,MATCH(ROW()-ROW($Y$1),T$2:T$955,0)),\"\")","v":""},null,{"$f":"+IF(AG112=\"\",\"\",MAX(AC$1:AC111)+1)","v":""},{"$f":"IF('Using CMS - Deviation - Limits'!B134=\"\",\"\",'Using CMS - Deviation - Limits'!B134)","v":""},{"$f":"IF('Using CMS - Deviation - Limits'!C134=\"\",\"\",'Using CMS - Deviation - Limits'!C134)","v":""},"",{"$f":"IF(COUNTIF(AF$2:AF112,AF112)=1,AF112,\"\")","v":""},"","",{"$f":"+IFERROR(INDEX(#REF!,MATCH(ROW()-ROW(AG$1),AC$2:AC$955,0)),\"\")","v":""},{"$nulls":3},{"$f":"+IF(AS112=\"\",\"\",MAX(AN$1:AN111)+1)","v":""},{"$f":"IF('Using CMS - Inop_OoC - CMS'!B134=\"\",\"\",'Using CMS - Inop_OoC - CMS'!B134)","v":""},{"$f":"IF('Using CMS - Inop_OoC - CMS'!C134=\"\",\"\",'Using CMS - Inop_OoC - CMS'!C134)","v":""},{"$f":"IF('Using CMS - Inop_OoC - CMS'!D134=\"\",\"\",'Using CMS - Inop_OoC - CMS'!D134)","v":""},{"$f":"AO112&AP112&Table10[[#This Row],[CMS]]","v":""},{"$f":"IF(COUNTIF(AR$2:AR112,AR112)=1,AR112,\"\")","v":""},"","","",null,{"$f":"+IF(BB112=\"\",\"\",MAX(AX$1:AX111)+1)","v":""},{"$f":"IF('Using CMS - Deviation - Limits'!B134=\"\",\"\",'Using CMS - Deviation - Limits'!B134)","v":""},{"$f":"IF('Using CMS - Deviation - Limits'!C134=\"\",\"\",'Using CMS - Deviation - Limits'!C134)","v":""},{"$f":"AY112&AZ112&Table10[[#This Row],[CMS]]","v":""},{"$f":"IF(COUNTIF(BA$2:BA112,BA112)=1,BA112,\"\")","v":""},"","",{"$f":"+IFERROR(INDEX(#REF!,MATCH(ROW()-ROW(BC$1),AX$2:AX$955,0)),\"\")","v":""}]
[{"$f":"+IF(D113=\"\",\"\",MAX(A$1:A112)+1)","v":""},{"$f":"IF('Process_&_CMS_Identification'!C135=\"\",\"\",'Process_&_CMS_Identification'!C135)","v":""},"",{"$f":"IF(COUNTIF(B$2:B113,B113)=1,B113,\"\")","v":""},{"$nulls":15},{"$f":"+IF(X113=\"\",\"\",MAX(T$1:T112)+1)","v":""},{"$f":"IF('No CMS - Deviation - Limits'!B135=\"\",\"\",'No CMS - Deviation - Limits'!B135)","v":""},{"$f":"IF('No CMS - Deviation - Limits'!C135=\"\",\"\",'No CMS - Deviation - Limits'!C135)","v":""},"",{"$f":"IF(COUNTIF(V$2:V113,V113)=1,V113,\"\")","v":""},"","",{"$f":"+IFERROR(INDEX(#REF!,MATCH(ROW()-ROW($Y$1),T$2:T$955,0)),\"\")","v":""},null,{"$f":"+IF(AG113=\"\",\"\",MAX(AC$1:AC112)+1)","v":""},{"$f":"IF('Using CMS - Deviation - Limits'!B135=\"\",\"\",'Using CMS - Deviation - Limits'!B135)","v":""},{"$f":"IF('Using CMS - Deviation - Limits'!C135=\"\",\"\",'Using CMS - Deviation - Limits'!C135)","v":""},"",{"$f":"IF(COUNTIF(AF$2:AF113,AF113)=1,AF113,\"\")","v":""},"","",{"$f":"+IFERROR(INDEX(#REF!,MATCH(ROW()-ROW(AG$1),AC$2:AC$955,0)),\"\")","v":""},{"$nulls":3},{"$f":"+IF(AS113=\"\",\"\",MAX(AN$1:AN112)+1)","v":""},{"$f":"IF('Using CMS - Inop_OoC - CMS'!B135=\"\",\"\",'Using CMS - Inop_OoC - CMS'!B135)","v":""},{"$f":"IF('Using CMS - Inop_OoC - CMS'!C135=\"\",\"\",'Using CMS - Inop_OoC - CMS'!C135)","v":""},{"$f":"IF('Using CMS - Inop_OoC - CMS'!D135=\"\",\"\",'Using CMS - Inop_OoC - CMS'!D135)","v":""},{"$f":"AO113&AP113&Table10[[#This Row],[CMS]]","v":""},{"$f":"IF(COUNTIF(AR$2:AR113,AR113)=1,AR113,\"\")","v":""},"","","",null,{"$f":"+IF(BB113=\"\",\"\",MAX(AX$1:AX112)+1)","v":""},{"$f":"IF('Using CMS - Deviation - Limits'!B135=\"\",\"\",'Using CMS - Deviation - Limits'!B135)","v":""},{"$f":"IF('Using CMS - Deviation - Limits'!C135=\"\",\"\",'Using CMS - Deviation - Limits'!C135)","v":""},{"$f":"AY113&AZ113&Table10[[#This Row],[CMS]]","v":""},{"$f":"IF(COUNTIF(BA$2:BA113,BA113)=1,BA113,\"\")","v":""},"","",{"$f":"+IFERROR(INDEX(#REF!,MATCH(ROW()-ROW(BC$1),AX$2:AX$955,0)),\"\")","v":""}]
[{"$f":"+IF(D114=\"\",\"\",MAX(A$1:A113)+1)","v":""},{"$f":"IF('Process_&_CMS_Identification'!C136=\"\",\"\",'Process_&_CMS_Identification'!C136)","v":""},"",{"$f":"IF(COUNTIF(B$2:B114,B114)=1,B114,\"\")","v":""},{"$nulls":15},{"$f":"+IF(X114=\"\",\"\",MAX(T$1:T113)+1)","v":""},{"$f":"IF('No CMS - Deviation - Limits'!B136=\"\",\"\",'No CMS - Deviation - Limits'!B136)","v":""},{"$f":"IF('No CMS - Deviation - Limits'!C136=\"\",\"\",'No CMS - Deviation - Limits'!C136)","v":""},"",{"$f":"IF(COUNTIF(V$2:V114,V114)=1,V114,\"\")","v":""},"","",{"$f":"+IFERROR(INDEX(#REF!,MATCH(ROW()-ROW($Y$1),T$2:T$955,0)),\"\")","v":""},null,{"$f":"+IF(AG114=\"\",\"\",MAX(AC$1:AC113)+1)","v":""},{"$f":"IF('Using CMS - Deviation - Limits'!B136=\"\",\"\",'Using CMS - Deviation - Limits'!B136)","v":""},{"$f":"IF('Using CMS - Deviation - Limits'!C136=\"\",\"\",'Using CMS - Deviation - Limits'!C136)","v":""},"",{"$f":"IF(COUNTIF(AF$2:AF114,AF114)=1,AF114,\"\")","v":""},"","",{"$f":"+IFERROR(INDEX(#REF!,MATCH(ROW()-ROW(AG$1),AC$2:AC$955,0)),\"\")","v":""},{"$nulls":3},{"$f":"+IF(AS114=\"\",\"\",MAX(AN$1:AN113)+1)","v":""},{"$f":"IF('Using CMS - Inop_OoC - CMS'!B136=\"\",\"\",'Using CMS - Inop_OoC - CMS'!B136)","v":""},{"$f":"IF('Using CMS - Inop_OoC - CMS'!C136=\"\",\"\",'Using CMS - Inop_OoC - CMS'!C136)","v":""},{"$f":"IF('Using CMS - Inop_OoC - CMS'!D136=\"\",\"\",'Using CMS - Inop_OoC - CMS'!D136)","v":""},{"$f":"AO114&AP114&Table10[[#This Row],[CMS]]","v":""},{"$f":"IF(COUNTIF(AR$2:AR114,AR114)=1,AR114,\"\")","v":""},"","","",null,{"$f":"+IF(BB114=\"\",\"\",MAX(AX$1:AX113)+1)","v":""},{"$f":"IF('Using CMS - Deviation - Limits'!B136=\"\",\"\",'Using CMS - Deviation - Limits'!B136)","v":""},{"$f":"IF('Using CMS - Deviation - Limits'!C136=\"\",\"\",'Using CMS - Deviation - Limits'!C136)","v":""},{"$f":"AY114&AZ114&Table10[[#This Row],[CMS]]","v":""},{"$f":"IF(COUNTIF(BA$2:BA114,BA114)=1,BA114,\"\")","v":""},"","",{"$f":"+IFERROR(INDEX(#REF!,MATCH(ROW()-ROW(BC$1),AX$2:AX$955,0)),\"\")","v":""}]
[{"$f":"+IF(D115=\"\",\"\",MAX(A$1:A114)+1)","v":""},{"$f":"IF('Process_&_CMS_Identification'!C137=\"\",\"\",'Process_&_CMS_Identification'!C137)","v":""},"",{"$f":"IF(COUNTIF(B$2:B115,B115)=1,B115,\"\")","v":""},{"$nulls":15},{"$f":"+IF(X115=\"\",\"\",MAX(T$1:T114)+1)","v":""},{"$f":"IF('No CMS - Deviation - Limits'!B137=\"\",\"\",'No CMS - Deviation - Limits'!B137)","v":""},{"$f":"IF('No CMS - Deviation - Limits'!C137=\"\",\"\",'No CMS - Deviation - Limits'!C137)","v":""},"",{"$f":"IF(COUNTIF(V$2:V115,V115)=1,V115,\"\")","v":""},"","",{"$f":"+IFERROR(INDEX(#REF!,MATCH(ROW()-ROW($Y$1),T$2:T$955,0)),\"\")","v":""},null,{"$f":"+IF(AG115=\"\",\"\",MAX(AC$1:AC114)+1)","v":""},{"$f":"IF('Using CMS - Deviation - Limits'!B137=\"\",\"\",'Using CMS - Deviation - Limits'!B137)","v":""},{"$f":"IF('Using CMS - Deviation - Limits'!C137=\"\",\"\",'Using CMS - Deviation - Limits'!C137)","v":""},"",{"$f":"IF(COUNTIF(AF$2:AF115,AF115)=1,AF115,\"\")","v":""},"","",{"$f":"+IFERROR(INDEX(#REF!,MATCH(ROW()-ROW(AG$1),AC$2:AC$955,0)),\"\")","v":""},{"$nulls":3},{"$f":"+IF(AS115=\"\",\"\",MAX(AN$1:AN114)+1)","v":""},{"$f":"IF('Using CMS - Inop_OoC - CMS'!B137=\"\",\"\",'Using CMS - Inop_OoC - CMS'!B137)","v":""},{"$f":"IF('Using CMS - Inop_OoC - CMS'!C137=\"\",\"\",'Using CMS - Inop_OoC - CMS'!C137)","v":""},{"$f":"IF('Using CMS - Inop_OoC - CMS'!D137=\"\",\"\",'Using CMS - Inop_OoC - CMS'!D137)","v":""},{"$f":"AO115&AP115&Table10[[#This Row],[CMS]]","v":""},{"$f":"IF(COUNTIF(AR$2:AR115,AR115)=1,AR115,\"\")","v":""},"","","",null,{"$f":"+IF(BB115=\"\",\"\",MAX(AX$1:AX114)+1)","v":""},{"$f":"IF('Using CMS - Deviation - Limits'!B137=\"\",\"\",'Using CMS - Deviation - Limits'!B137)","v":""},{"$f":"IF('Using CMS - Deviation - Limits'!C137=\"\",\"\",'Using CMS - Deviation - Limits'!C137)","v":""},{"$f":"AY115&AZ115&Table10[[#This Row],[CMS]]","v":""},{"$f":"IF(COUNTIF(BA$2:BA115,BA115)=1,BA115,\"\")","v":""},"","",{"$f":"+IFERROR(INDEX(#REF!,MATCH(ROW()-ROW(BC$1),AX$2:AX$955,0)),\"\")","v":""}]
[{"$f":"+IF(D116=\"\",\"\",MAX(A$1:A115)+1)","v":""},{"$f":"IF('Process_&_CMS_Identification'!C138=\"\",\"\",'Process_&_CMS_Identification'!C138)","v":""},"",{"$f":"IF(COUNTIF(B$2:B116,B116)=1,B116,\"\")","v":""},{"$nulls":15},{"$f":"+IF(X116=\"\",\"\",MAX(T$1:T115)+1)","v":""},{"$f":"IF('No CMS - Deviation - Limits'!B138=\"\",\"\",'No CMS - Deviation - Limits'!B138)","v":""},{"$f":"IF('No CMS - Deviation - Limits'!C138=\"\",\"\",'No CMS - Deviation - Limits'!C138)","v":""},"",{"$f":"IF(COUNTIF(V$2:V116,V116)=1,V116,\"\")","v":""},"","",{"$f":"+IFERROR(INDEX(#REF!,MATCH(ROW()-ROW($Y$1),T$2:T$955,0)),\"\")","v":""},null,{"$f":"+IF(AG116=\"\",\"\",MAX(AC$1:AC115)+1)","v":""},{"$f":"IF('Using CMS - Deviation - Limits'!B138=\"\",\"\",'Using CMS - Deviation - Limits'!B138)","v":""},{"$f":"IF('Using CMS - Deviation - Limits'!C138=\"\",\"\",'Using CMS - Deviation - Limits'!C138)","v":""},"",{"$f":"IF(COUNTIF(AF$2:AF116,AF116)=1,AF116,\"\")","v":""},"","",{"$f":"+IFERROR(INDEX(#REF!,MATCH(ROW()-ROW(AG$1),AC$2:AC$955,0)),\"\")","v":""},{"$nulls":3},{"$f":"+IF(AS116=\"\",\"\",MAX(AN$1:AN115)+1)","v":""},{"$f":"IF('Using CMS - Inop_OoC - CMS'!B138=\"\",\"\",'Using CMS - Inop_OoC - CMS'!B138)","v":""},{"$f":"IF('Using CMS - Inop_OoC - CMS'!C138=\"\",\"\",'Using CMS - Inop_OoC - CMS'!C138)","v":""},{"$f":"IF('Using CMS - Inop_OoC - CMS'!D138=\"\",\"\",'Using CMS - Inop_OoC - CMS'!D138)","v":""},{"$f":"AO116&AP116&Table10[[#This Row],[CMS]]","v":""},{"$f":"IF(COUNTIF(AR$2:AR116,AR116)=1,AR116,\"\")","v":""},"","","",null,{"$f":"+IF(BB116=\"\",\"\",MAX(AX$1:AX115)+1)","v":""},{"$f":"IF('Using CMS - Deviation - Limits'!B138=\"\",\"\",'Using CMS - Deviation - Limits'!B138)","v":""},{"$f":"IF('Using CMS - Deviation - Limits'!C138=\"\",\"\",'Using CMS - Deviation - Limits'!C138)","v":""},{"$f":"AY116&AZ116&Table10[[#This Row],[CMS]]","v":""},{"$f":"IF(COUNTIF(BA$2:BA116,BA116)=1,BA116,\"\")","v":""},"","",{"$f":"+IFERROR(INDEX(#REF!,MATCH(ROW()-ROW(BC$1),AX$2:AX$955,0)),\"\")","v":""}]
[{"$f":"+IF(D117=\"\",\"\",MAX(A$1:A116)+1)","v":""},{"$f":"IF('Process_&_CMS_Identification'!C139=\"\",\"\",'Process_&_CMS_Identification'!C139)","v":""},"",{"$f":"IF(COUNTIF(B$2:B117,B117)=1,B117,\"\")","v":""},{"$nulls":15},{"$f":"+IF(X117=\"\",\"\",MAX(T$1:T116)+1)","v":""},{"$f":"IF('No CMS - Deviation - Limits'!B139=\"\",\"\",'No CMS - Deviation - Limits'!B139)","v":""},{"$f":"IF('No CMS - Deviation - Limits'!C139=\"\",\"\",'No CMS - Deviation - Limits'!C139)","v":""},"",{"$f":"IF(COUNTIF(V$2:V117,V117)=1,V117,\"\")","v":""},"","",{"$f":"+IFERROR(INDEX(#REF!,MATCH(ROW()-ROW($Y$1),T$2:T$955,0)),\"\")","v":""},null,{"$f":"+IF(AG117=\"\",\"\",MAX(AC$1:AC116)+1)","v":""},{"$f":"IF('Using CMS - Deviation - Limits'!B139=\"\",\"\",'Using CMS - Deviation - Limits'!B139)","v":""},{"$f":"IF('Using CMS - Deviation - Limits'!C139=\"\",\"\",'Using CMS - Deviation - Limits'!C139)","v":""},"",{"$f":"IF(COUNTIF(AF$2:AF117,AF117)=1,AF117,\"\")","v":""},"","",{"$f":"+IFERROR(INDEX(#REF!,MATCH(ROW()-ROW(AG$1),AC$2:AC$955,0)),\"\")","v":""},{"$nulls":3},{"$f":"+IF(AS117=\"\",\"\",MAX(AN$1:AN116)+1)","v":""},{"$f":"IF('Using CMS - Inop_OoC - CMS'!B139=\"\",\"\",'Using CMS - Inop_OoC - CMS'!B139)","v":""},{"$f":"IF('Using CMS - Inop_OoC - CMS'!C139=\"\",\"\",'Using CMS - Inop_OoC - CMS'!C139)","v":""},{"$f":"IF('Using CMS - Inop_OoC - CMS'!D139=\"\",\"\",'Using CMS - Inop_OoC - CMS'!D139)","v":""},{"$f":"AO117&AP117&Table10[[#This Row],[CMS]]","v":""},{"$f":"IF(COUNTIF(AR$2:AR117,AR117)=1,AR117,\"\")","v":""},"","","",null,{"$f":"+IF(BB117=\"\",\"\",MAX(AX$1:AX116)+1)","v":""},{"$f":"IF('Using CMS - Deviation - Limits'!B139=\"\",\"\",'Using CMS - Deviation - Limits'!B139)","v":""},{"$f":"IF('Using CMS - Deviation - Limits'!C139=\"\",\"\",'Using CMS - Deviation - Limits'!C139)","v":""},{"$f":"AY117&AZ117&Table10[[#This Row],[CMS]]","v":""},{"$f":"IF(COUNTIF(BA$2:BA117,BA117)=1,BA117,\"\")","v":""},"","",{"$f":"+IFERROR(INDEX(#REF!,MATCH(ROW()-ROW(BC$1),AX$2:AX$955,0)),\"\")","v":""}]
[{"$f":"+IF(D118=\"\",\"\",MAX(A$1:A117)+1)","v":""},{"$f":"IF('Process_&_CMS_Identification'!C140=\"\",\"\",'Process_&_CMS_Identification'!C140)","v":""},"",{"$f":"IF(COUNTIF(B$2:B118,B118)=1,B118,\"\")","v":""},{"$nulls":15},{"$f":"+IF(X118=\"\",\"\",MAX(T$1:T117)+1)","v":""},{"$f":"IF('No CMS - Deviation - Limits'!B140=\"\",\"\",'No CMS - Deviation - Limits'!B140)","v":""},{"$f":"IF('No CMS - Deviation - Limits'!C140=\"\",\"\",'No CMS - Deviation - Limits'!C140)","v":""},"",{"$f":"IF(COUNTIF(V$2:V118,V118)=1,V118,\"\")","v":""},"","",{"$f":"+IFERROR(INDEX(#REF!,MATCH(ROW()-ROW($Y$1),T$2:T$955,0)),\"\")","v":""},null,{"$f":"+IF(AG118=\"\",\"\",MAX(AC$1:AC117)+1)","v":""},{"$f":"IF('Using CMS - Deviation - Limits'!B140=\"\",\"\",'Using CMS - Deviation - Limits'!B140)","v":""},{"$f":"IF('Using CMS - Deviation - Limits'!C140=\"\",\"\",'Using CMS - Deviation - Limits'!C140)","v":""},"",{"$f":"IF(COUNTIF(AF$2:AF118,AF118)=1,AF118,\"\")","v":""},"","",{"$f":"+IFERROR(INDEX(#REF!,MATCH(ROW()-ROW(AG$1),AC$2:AC$955,0)),\"\")","v":""},{"$nulls":3},{"$f":"+IF(AS118=\"\",\"\",MAX(AN$1:AN117)+1)","v":""},{"$f":"IF('Using CMS - Inop_OoC - CMS'!B140=\"\",\"\",'Using CMS - Inop_OoC - CMS'!B140)","v":""},{"$f":"IF('Using CMS - Inop_OoC - CMS'!C140=\"\",\"\",'Using CMS - Inop_OoC - CMS'!C140)","v":""},{"$f":"IF('Using CMS - Inop_OoC - CMS'!D140=\"\",\"\",'Using CMS - Inop_OoC - CMS'!D140)","v":""},{"$f":"AO118&AP118&Table10[[#This Row],[CMS]]","v":""},{"$f":"IF(COUNTIF(AR$2:AR118,AR118)=1,AR118,\"\")","v":""},"","","",null,{"$f":"+IF(BB118=\"\",\"\",MAX(AX$1:AX117)+1)","v":""},{"$f":"IF('Using CMS - Deviation - Limits'!B140=\"\",\"\",'Using CMS - Deviation - Limits'!B140)","v":""},{"$f":"IF('Using CMS - Deviation - Limits'!C140=\"\",\"\",'Using CMS - Deviation - Limits'!C140)","v":""},{"$f":"AY118&AZ118&Table10[[#This Row],[CMS]]","v":""},{"$f":"IF(COUNTIF(BA$2:BA118,BA118)=1,BA118,\"\")","v":""},"","",{"$f":"+IFERROR(INDEX(#REF!,MATCH(ROW()-ROW(BC$1),AX$2:AX$955,0)),\"\")","v":""}]
[{"$f":"+IF(D119=\"\",\"\",MAX(A$1:A118)+1)","v":""},{"$f":"IF('Process_&_CMS_Identification'!C141=\"\",\"\",'Process_&_CMS_Identification'!C141)","v":""},"",{"$f":"IF(COUNTIF(B$2:B119,B119)=1,B119,\"\")","v":""},{"$nulls":15},{"$f":"+IF(X119=\"\",\"\",MAX(T$1:T118)+1)","v":""},{"$f":"IF('No CMS - Deviation - Limits'!B141=\"\",\"\",'No CMS - Deviation - Limits'!B141)","v":""},{"$f":"IF('No CMS - Deviation - Limits'!C141=\"\",\"\",'No CMS - Deviation - Limits'!C141)","v":""},"",{"$f":"IF(COUNTIF(V$2:V119,V119)=1,V119,\"\")","v":""},"","",{"$f":"+IFERROR(INDEX(#REF!,MATCH(ROW()-ROW($Y$1),T$2:T$955,0)),\"\")","v":""},null,{"$f":"+IF(AG119=\"\",\"\",MAX(AC$1:AC118)+1)","v":""},{"$f":"IF('Using CMS - Deviation - Limits'!B141=\"\",\"\",'Using CMS - Deviation - Limits'!B141)","v":""},{"$f":"IF('Using CMS - Deviation - Limits'!C141=\"\",\"\",'Using CMS - Deviation - Limits'!C141)","v":""},"",{"$f":"IF(COUNTIF(AF$2:AF119,AF119)=1,AF119,\"\")","v":""},"","",{"$f":"+IFERROR(INDEX(#REF!,MATCH(ROW()-ROW(AG$1),AC$2:AC$955,0)),\"\")","v":""},{"$nulls":3},{"$f":"+IF(AS119=\"\",\"\",MAX(AN$1:AN118)+1)","v":""},{"$f":"IF('Using CMS - Inop_OoC - CMS'!B141=\"\",\"\",'Using CMS - Inop_OoC - CMS'!B141)","v":""},{"$f":"IF('Using CMS - Inop_OoC - CMS'!C141=\"\",\"\",'Using CMS - Inop_OoC - CMS'!C141)","v":""},{"$f":"IF('Using CMS - Inop_OoC - CMS'!D141=\"\",\"\",'Using CMS - Inop_OoC - CMS'!D141)","v":""},{"$f":"AO119&AP119&Table10[[#This Row],[CMS]]","v":""},{"$f":"IF(COUNTIF(AR$2:AR119,AR119)=1,AR119,\"\")","v":""},"","","",null,{"$f":"+IF(BB119=\"\",\"\",MAX(AX$1:AX118)+1)","v":""},{"$f":"IF('Using CMS - Deviation - Limits'!B141=\"\",\"\",'Using CMS - Deviation - Limits'!B141)","v":""},{"$f":"IF('Using CMS - Deviation - Limits'!C141=\"\",\"\",'Using CMS - Deviation - Limits'!C141)","v":""},{"$f":"AY119&AZ119&Table10[[#This Row],[CMS]]","v":""},{"$f":"IF(COUNTIF(BA$2:BA119,BA119)=1,BA119,\"\")","v":""},"","",{"$f":"+IFERROR(INDEX(#REF!,MATCH(ROW()-ROW(BC$1),AX$2:AX$955,0)),\"\")","v":""}]
[{"$f":"+IF(D120=\"\",\"\",MAX(A$1:A119)+1)","v":""},{"$f":"IF('Process_&_CMS_Identification'!C142=\"\",\"\",'Process_&_CMS_Identification'!C142)","v":""},"",{"$f":"IF(COUNTIF(B$2:B120,B120)=1,B120,\"\")","v":""},{"$nulls":15},{"$f":"+IF(X120=\"\",\"\",MAX(T$1:T119)+1)","v":""},{"$f":"IF('No CMS - Deviation - Limits'!B142=\"\",\"\",'No CMS - Deviation - Limits'!B142)","v":""},{"$f":"IF('No CMS - Deviation - Limits'!C142=\"\",\"\",'No CMS - Deviation - Limits'!C142)","v":""},"",{"$f":"IF(COUNTIF(V$2:V120,V120)=1,V120,\"\")","v":""},"","",{"$f":"+IFERROR(INDEX(#REF!,MATCH(ROW()-ROW($Y$1),T$2:T$955,0)),\"\")","v":""},null,{"$f":"+IF(AG120=\"\",\"\",MAX(AC$1:AC119)+1)","v":""},{"$f":"IF('Using CMS - Deviation - Limits'!B142=\"\",\"\",'Using CMS - Deviation - Limits'!B142)","v":""},{"$f":"IF('Using CMS - Deviation - Limits'!C142=\"\",\"\",'Using CMS - Deviation - Limits'!C142)","v":""},"",{"$f":"IF(COUNTIF(AF$2:AF120,AF120)=1,AF120,\"\")","v":""},"","",{"$f":"+IFERROR(INDEX(#REF!,MATCH(ROW()-ROW(AG$1),AC$2:AC$955,0)),\"\")","v":""},{"$nulls":3},{"$f":"+IF(AS120=\"\",\"\",MAX(AN$1:AN119)+1)","v":""},{"$f":"IF('Using CMS - Inop_OoC - CMS'!B142=\"\",\"\",'Using CMS - Inop_OoC - CMS'!B142)","v":""},{"$f":"IF('Using CMS - Inop_OoC - CMS'!C142=\"\",\"\",'Using CMS - Inop_OoC - CMS'!C142)","v":""},{"$f":"IF('Using CMS - Inop_OoC - CMS'!D142=\"\",\"\",'Using CMS - Inop_OoC - CMS'!D142)","v":""},{"$f":"AO120&AP120&Table10[[#This Row],[CMS]]","v":""},{"$f":"IF(COUNTIF(AR$2:AR120,AR120)=1,AR120,\"\")","v":""},"","","",null,{"$f":"+IF(BB120=\"\",\"\",MAX(AX$1:AX119)+1)","v":""},{"$f":"IF('Using CMS - Deviation - Limits'!B142=\"\",\"\",'Using CMS - Deviation - Limits'!B142)","v":""},{"$f":"IF('Using CMS - Deviation - Limits'!C142=\"\",\"\",'Using CMS - Deviation - Limits'!C142)","v":""},{"$f":"AY120&AZ120&Table10[[#This Row],[CMS]]","v":""},{"$f":"IF(COUNTIF(BA$2:BA120,BA120)=1,BA120,\"\")","v":""},"","",{"$f":"+IFERROR(INDEX(#REF!,MATCH(ROW()-ROW(BC$1),AX$2:AX$955,0)),\"\")","v":""}]
[{"$f":"+IF(D121=\"\",\"\",MAX(A$1:A120)+1)","v":""},{"$f":"IF('Process_&_CMS_Identification'!C143=\"\",\"\",'Process_&_CMS_Identification'!C143)","v":""},"",{"$f":"IF(COUNTIF(B$2:B121,B121)=1,B121,\"\")","v":""},{"$nulls":15},{"$f":"+IF(X121=\"\",\"\",MAX(T$1:T120)+1)","v":""},{"$f":"IF('No CMS - Deviation - Limits'!B143=\"\",\"\",'No CMS - Deviation - Limits'!B143)","v":""},{"$f":"IF('No CMS - Deviation - Limits'!C143=\"\",\"\",'No CMS - Deviation - Limits'!C143)","v":""},"",{"$f":"IF(COUNTIF(V$2:V121,V121)=1,V121,\"\")","v":""},"","",{"$f":"+IFERROR(INDEX(#REF!,MATCH(ROW()-ROW($Y$1),T$2:T$955,0)),\"\")","v":""},null,{"$f":"+IF(AG121=\"\",\"\",MAX(AC$1:AC120)+1)","v":""},{"$f":"IF('Using CMS - Deviation - Limits'!B143=\"\",\"\",'Using CMS - Deviation - Limits'!B143)","v":""},{"$f":"IF('Using CMS - Deviation - Limits'!C143=\"\",\"\",'Using CMS - Deviation - Limits'!C143)","v":""},"",{"$f":"IF(COUNTIF(AF$2:AF121,AF121)=1,AF121,\"\")","v":""},"","",{"$f":"+IFERROR(INDEX(#REF!,MATCH(ROW()-ROW(AG$1),AC$2:AC$955,0)),\"\")","v":""},{"$nulls":3},{"$f":"+IF(AS121=\"\",\"\",MAX(AN$1:AN120)+1)","v":""},{"$f":"IF('Using CMS - Inop_OoC - CMS'!B143=\"\",\"\",'Using CMS - Inop_OoC - CMS'!B143)","v":""},{"$f":"IF('Using CMS - Inop_OoC - CMS'!C143=\"\",\"\",'Using CMS - Inop_OoC - CMS'!C143)","v":""},{"$f":"IF('Using CMS - Inop_OoC - CMS'!D143=\"\",\"\",'Using CMS - Inop_OoC - CMS'!D143)","v":""},{"$f":"AO121&AP121&Table10[[#This Row],[CMS]]","v":""},{"$f":"IF(COUNTIF(AR$2:AR121,AR121)=1,AR121,\"\")","v":""},"","","",null,{"$f":"+IF(BB121=\"\",\"\",MAX(AX$1:AX120)+1)","v":""},{"$f":"IF('Using CMS - Deviation - Limits'!B143=\"\",\"\",'Using CMS - Deviation - Limits'!B143)","v":""},{"$f":"IF('Using CMS - Deviation - Limits'!C143=\"\",\"\",'Using CMS - Deviation - Limits'!C143)","v":""},{"$f":"AY121&AZ121&Table10[[#This Row],[CMS]]","v":""},{"$f":"IF(COUNTIF(BA$2:BA121,BA121)=1,BA121,\"\")","v":""},"","",{"$f":"+IFERROR(INDEX(#REF!,MATCH(ROW()-ROW(BC$1),AX$2:AX$955,0)),\"\")","v":""}]
[{"$f":"+IF(D122=\"\",\"\",MAX(A$1:A121)+1)","v":""},{"$f":"IF('Process_&_CMS_Identification'!C144=\"\",\"\",'Process_&_CMS_Identification'!C144)","v":""},"",{"$f":"IF(COUNTIF(B$2:B122,B122)=1,B122,\"\")","v":""},{"$nulls":15},{"$f":"+IF(X122=\"\",\"\",MAX(T$1:T121)+1)","v":""},{"$f":"IF('No CMS - Deviation - Limits'!B144=\"\",\"\",'No CMS - Deviation - Limits'!B144)","v":""},{"$f":"IF('No CMS - Deviation - Limits'!C144=\"\",\"\",'No CMS - Deviation - Limits'!C144)","v":""},"",{"$f":"IF(COUNTIF(V$2:V122,V122)=1,V122,\"\")","v":""},"","",{"$f":"+IFERROR(INDEX(#REF!,MATCH(ROW()-ROW($Y$1),T$2:T$955,0)),\"\")","v":""},null,{"$f":"+IF(AG122=\"\",\"\",MAX(AC$1:AC121)+1)","v":""},{"$f":"IF('Using CMS - Deviation - Limits'!B144=\"\",\"\",'Using CMS - Deviation - Limits'!B144)","v":""},{"$f":"IF('Using CMS - Deviation - Limits'!C144=\"\",\"\",'Using CMS - Deviation - Limits'!C144)","v":""},"",{"$f":"IF(COUNTIF(AF$2:AF122,AF122)=1,AF122,\"\")","v":""},"","",{"$f":"+IFERROR(INDEX(#REF!,MATCH(ROW()-ROW(AG$1),AC$2:AC$955,0)),\"\")","v":""},{"$nulls":3},{"$f":"+IF(AS122=\"\",\"\",MAX(AN$1:AN121)+1)","v":""},{"$f":"IF('Using CMS - Inop_OoC - CMS'!B144=\"\",\"\",'Using CMS - Inop_OoC - CMS'!B144)","v":""},{"$f":"IF('Using CMS - Inop_OoC - CMS'!C144=\"\",\"\",'Using CMS - Inop_OoC - CMS'!C144)","v":""},{"$f":"IF('Using CMS - Inop_OoC - CMS'!D144=\"\",\"\",'Using CMS - Inop_OoC - CMS'!D144)","v":""},{"$f":"AO122&AP122&Table10[[#This Row],[CMS]]","v":""},{"$f":"IF(COUNTIF(AR$2:AR122,AR122)=1,AR122,\"\")","v":""},"","","",null,{"$f":"+IF(BB122=\"\",\"\",MAX(AX$1:AX121)+1)","v":""},{"$f":"IF('Using CMS - Deviation - Limits'!B144=\"\",\"\",'Using CMS - Deviation - Limits'!B144)","v":""},{"$f":"IF('Using CMS - Deviation - Limits'!C144=\"\",\"\",'Using CMS - Deviation - Limits'!C144)","v":""},{"$f":"AY122&AZ122&Table10[[#This Row],[CMS]]","v":""},{"$f":"IF(COUNTIF(BA$2:BA122,BA122)=1,BA122,\"\")","v":""},"","",{"$f":"+IFERROR(INDEX(#REF!,MATCH(ROW()-ROW(BC$1),AX$2:AX$955,0)),\"\")","v":""}]
[{"$f":"+IF(D123=\"\",\"\",MAX(A$1:A122)+1)","v":""},{"$f":"IF('Process_&_CMS_Identification'!C145=\"\",\"\",'Process_&_CMS_Identification'!C145)","v":""},"",{"$f":"IF(COUNTIF(B$2:B123,B123)=1,B123,\"\")","v":""},{"$nulls":15},{"$f":"+IF(X123=\"\",\"\",MAX(T$1:T122)+1)","v":""},{"$f":"IF('No CMS - Deviation - Limits'!B145=\"\",\"\",'No CMS - Deviation - Limits'!B145)","v":""},{"$f":"IF('No CMS - Deviation - Limits'!C145=\"\",\"\",'No CMS - Deviation - Limits'!C145)","v":""},"",{"$f":"IF(COUNTIF(V$2:V123,V123)=1,V123,\"\")","v":""},"","",{"$f":"+IFERROR(INDEX(#REF!,MATCH(ROW()-ROW($Y$1),T$2:T$955,0)),\"\")","v":""},null,{"$f":"+IF(AG123=\"\",\"\",MAX(AC$1:AC122)+1)","v":""},{"$f":"IF('Using CMS - Deviation - Limits'!B145=\"\",\"\",'Using CMS - Deviation - Limits'!B145)","v":""},{"$f":"IF('Using CMS - Deviation - Limits'!C145=\"\",\"\",'Using CMS - Deviation - Limits'!C145)","v":""},"",{"$f":"IF(COUNTIF(AF$2:AF123,AF123)=1,AF123,\"\")","v":""},"","",{"$f":"+IFERROR(INDEX(#REF!,MATCH(ROW()-ROW(AG$1),AC$2:AC$955,0)),\"\")","v":""},{"$nulls":3},{"$f":"+IF(AS123=\"\",\"\",MAX(AN$1:AN122)+1)","v":""},{"$f":"IF('Using CMS - Inop_OoC - CMS'!B145=\"\",\"\",'Using CMS - Inop_OoC - CMS'!B145)","v":""},{"$f":"IF('Using CMS - Inop_OoC - CMS'!C145=\"\",\"\",'Using CMS - Inop_OoC - CMS'!C145)","v":""},{"$f":"IF('Using CMS - Inop_OoC - CMS'!D145=\"\",\"\",'Using CMS - Inop_OoC - CMS'!D145)","v":""},{"$f":"AO123&AP123&Table10[[#This Row],[CMS]]","v":""},{"$f":"IF(COUNTIF(AR$2:AR123,AR123)=1,AR123,\"\")","v":""},"","","",null,{"$f":"+IF(BB123=\"\",\"\",MAX(AX$1:AX122)+1)","v":""},{"$f":"IF('Using CMS - Deviation - Limits'!B145=\"\",\"\",'Using CMS - Deviation - Limits'!B145)","v":""},{"$f":"IF('Using CMS - Deviation - Limits'!C145=\"\",\"\",'Using CMS - Deviation - Limits'!C145)","v":""},{"$f":"AY123&AZ123&Table10[[#This Row],[CMS]]","v":""},{"$f":"IF(COUNTIF(BA$2:BA123,BA123)=1,BA123,\"\")","v":""},"","",{"$f":"+IFERROR(INDEX(#REF!,MATCH(ROW()-ROW(BC$1),AX$2:AX$955,0)),\"\")","v":""}]
[{"$f":"+IF(D124=\"\",\"\",MAX(A$1:A123)+1)","v":""},{"$f":"IF('Process_&_CMS_Identification'!C146=\"\",\"\",'Process_&_CMS_Identification'!C146)","v":""},"",{"$f":"IF(COUNTIF(B$2:B124,B124)=1,B124,\"\")","v":""},{"$nulls":15},{"$f":"+IF(X124=\"\",\"\",MAX(T$1:T123)+1)","v":""},{"$f":"IF('No CMS - Deviation - Limits'!B146=\"\",\"\",'No CMS - Deviation - Limits'!B146)","v":""},{"$f":"IF('No CMS - Deviation - Limits'!C146=\"\",\"\",'No CMS - Deviation - Limits'!C146)","v":""},"",{"$f":"IF(COUNTIF(V$2:V124,V124)=1,V124,\"\")","v":""},"","",{"$f":"+IFERROR(INDEX(#REF!,MATCH(ROW()-ROW($Y$1),T$2:T$955,0)),\"\")","v":""},null,{"$f":"+IF(AG124=\"\",\"\",MAX(AC$1:AC123)+1)","v":""},{"$f":"IF('Using CMS - Deviation - Limits'!B146=\"\",\"\",'Using CMS - Deviation - Limits'!B146)","v":""},{"$f":"IF('Using CMS - Deviation - Limits'!C146=\"\",\"\",'Using CMS - Deviation - Limits'!C146)","v":""},"",{"$f":"IF(COUNTIF(AF$2:AF124,AF124)=1,AF124,\"\")","v":""},"","",{"$f":"+IFERROR(INDEX(#REF!,MATCH(ROW()-ROW(AG$1),AC$2:AC$955,0)),\"\")","v":""},{"$nulls":3},{"$f":"+IF(AS124=\"\",\"\",MAX(AN$1:AN123)+1)","v":""},{"$f":"IF('Using CMS - Inop_OoC - CMS'!B146=\"\",\"\",'Using CMS - Inop_OoC - CMS'!B146)","v":""},{"$f":"IF('Using CMS - Inop_OoC - CMS'!C146=\"\",\"\",'Using CMS - Inop_OoC - CMS'!C146)","v":""},{"$f":"IF('Using CMS - Inop_OoC - CMS'!D146=\"\",\"\",'Using CMS - Inop_OoC - CMS'!D146)","v":""},{"$f":"AO124&AP124&Table10[[#This Row],[CMS]]","v":""},{"$f":"IF(COUNTIF(AR$2:AR124,AR124)=1,AR124,\"\")","v":""},"","","",null,{"$f":"+IF(BB124=\"\",\"\",MAX(AX$1:AX123)+1)","v":""},{"$f":"IF('Using CMS - Deviation - Limits'!B146=\"\",\"\",'Using CMS - Deviation - Limits'!B146)","v":""},{"$f":"IF('Using CMS - Deviation - Limits'!C146=\"\",\"\",'Using CMS - Deviation - Limits'!C146)","v":""},{"$f":"AY124&AZ124&Table10[[#This Row],[CMS]]","v":""},{"$f":"IF(COUNTIF(BA$2:BA124,BA124)=1,BA124,\"\")","v":""},"","",{"$f":"+IFERROR(INDEX(#REF!,MATCH(ROW()-ROW(BC$1),AX$2:AX$955,0)),\"\")","v":""}]
[{"$f":"+IF(D125=\"\",\"\",MAX(A$1:A124)+1)","v":""},{"$f":"IF('Process_&_CMS_Identification'!C147=\"\",\"\",'Process_&_CMS_Identification'!C147)","v":""},"",{"$f":"IF(COUNTIF(B$2:B125,B125)=1,B125,\"\")","v":""},{"$nulls":15},{"$f":"+IF(X125=\"\",\"\",MAX(T$1:T124)+1)","v":""},{"$f":"IF('No CMS - Deviation - Limits'!B147=\"\",\"\",'No CMS - Deviation - Limits'!B147)","v":""},{"$f":"IF('No CMS - Deviation - Limits'!C147=\"\",\"\",'No CMS - Deviation - Limits'!C147)","v":""},"",{"$f":"IF(COUNTIF(V$2:V125,V125)=1,V125,\"\")","v":""},"","",{"$f":"+IFERROR(INDEX(#REF!,MATCH(ROW()-ROW($Y$1),T$2:T$955,0)),\"\")","v":""},null,{"$f":"+IF(AG125=\"\",\"\",MAX(AC$1:AC124)+1)","v":""},{"$f":"IF('Using CMS - Deviation - Limits'!B147=\"\",\"\",'Using CMS - Deviation - Limits'!B147)","v":""},{"$f":"IF('Using CMS - Deviation - Limits'!C147=\"\",\"\",'Using CMS - Deviation - Limits'!C147)","v":""},"",{"$f":"IF(COUNTIF(AF$2:AF125,AF125)=1,AF125,\"\")","v":""},"","",{"$f":"+IFERROR(INDEX(#REF!,MATCH(ROW()-ROW(AG$1),AC$2:AC$955,0)),\"\")","v":""},{"$nulls":3},{"$f":"+IF(AS125=\"\",\"\",MAX(AN$1:AN124)+1)","v":""},{"$f":"IF('Using CMS - Inop_OoC - CMS'!B147=\"\",\"\",'Using CMS - Inop_OoC - CMS'!B147)","v":""},{"$f":"IF('Using CMS - Inop_OoC - CMS'!C147=\"\",\"\",'Using CMS - Inop_OoC - CMS'!C147)","v":""},{"$f":"IF('Using CMS - Inop_OoC - CMS'!D147=\"\",\"\",'Using CMS - Inop_OoC - CMS'!D147)","v":""},{"$f":"AO125&AP125&Table10[[#This Row],[CMS]]","v":""},{"$f":"IF(COUNTIF(AR$2:AR125,AR125)=1,AR125,\"\")","v":""},"","","",null,{"$f":"+IF(BB125=\"\",\"\",MAX(AX$1:AX124)+1)","v":""},{"$f":"IF('Using CMS - Deviation - Limits'!B147=\"\",\"\",'Using CMS - Deviation - Limits'!B147)","v":""},{"$f":"IF('Using CMS - Deviation - Limits'!C147=\"\",\"\",'Using CMS - Deviation - Limits'!C147)","v":""},{"$f":"AY125&AZ125&Table10[[#This Row],[CMS]]","v":""},{"$f":"IF(COUNTIF(BA$2:BA125,BA125)=1,BA125,\"\")","v":""},"","",{"$f":"+IFERROR(INDEX(#REF!,MATCH(ROW()-ROW(BC$1),AX$2:AX$955,0)),\"\")","v":""}]
[{"$f":"+IF(D126=\"\",\"\",MAX(A$1:A125)+1)","v":""},{"$f":"IF('Process_&_CMS_Identification'!C148=\"\",\"\",'Process_&_CMS_Identification'!C148)","v":""},"",{"$f":"IF(COUNTIF(B$2:B126,B126)=1,B126,\"\")","v":""},{"$nulls":15},{"$f":"+IF(X126=\"\",\"\",MAX(T$1:T125)+1)","v":""},{"$f":"IF('No CMS - Deviation - Limits'!B148=\"\",\"\",'No CMS - Deviation - Limits'!B148)","v":""},{"$f":"IF('No CMS - Deviation - Limits'!C148=\"\",\"\",'No CMS - Deviation - Limits'!C148)","v":""},"",{"$f":"IF(COUNTIF(V$2:V126,V126)=1,V126,\"\")","v":""},"","",{"$f":"+IFERROR(INDEX(#REF!,MATCH(ROW()-ROW($Y$1),T$2:T$955,0)),\"\")","v":""},null,{"$f":"+IF(AG126=\"\",\"\",MAX(AC$1:AC125)+1)","v":""},{"$f":"IF('Using CMS - Deviation - Limits'!B148=\"\",\"\",'Using CMS - Deviation - Limits'!B148)","v":""},{"$f":"IF('Using CMS - Deviation - Limits'!C148=\"\",\"\",'Using CMS - Deviation - Limits'!C148)","v":""},"",{"$f":"IF(COUNTIF(AF$2:AF126,AF126)=1,AF126,\"\")","v":""},"","",{"$f":"+IFERROR(INDEX(#REF!,MATCH(ROW()-ROW(AG$1),AC$2:AC$955,0)),\"\")","v":""},{"$nulls":3},{"$f":"+IF(AS126=\"\",\"\",MAX(AN$1:AN125)+1)","v":""},{"$f":"IF('Using CMS - Inop_OoC - CMS'!B148=\"\",\"\",'Using CMS - Inop_OoC - CMS'!B148)","v":""},{"$f":"IF('Using CMS - Inop_OoC - CMS'!C148=\"\",\"\",'Using CMS - Inop_OoC - CMS'!C148)","v":""},{"$f":"IF('Using CMS - Inop_OoC - CMS'!D148=\"\",\"\",'Using CMS - Inop_OoC - CMS'!D148)","v":""},{"$f":"AO126&AP126&Table10[[#This Row],[CMS]]","v":""},{"$f":"IF(COUNTIF(AR$2:AR126,AR126)=1,AR126,\"\")","v":""},"","","",null,{"$f":"+IF(BB126=\"\",\"\",MAX(AX$1:AX125)+1)","v":""},{"$f":"IF('Using CMS - Deviation - Limits'!B148=\"\",\"\",'Using CMS - Deviation - Limits'!B148)","v":""},{"$f":"IF('Using CMS - Deviation - Limits'!C148=\"\",\"\",'Using CMS - Deviation - Limits'!C148)","v":""},{"$f":"AY126&AZ126&Table10[[#This Row],[CMS]]","v":""},{"$f":"IF(COUNTIF(BA$2:BA126,BA126)=1,BA126,\"\")","v":""},"","",{"$f":"+IFERROR(INDEX(#REF!,MATCH(ROW()-ROW(BC$1),AX$2:AX$955,0)),\"\")","v":""}]
[{"$f":"+IF(D127=\"\",\"\",MAX(A$1:A126)+1)","v":""},{"$f":"IF('Process_&_CMS_Identification'!C149=\"\",\"\",'Process_&_CMS_Identification'!C149)","v":""},"",{"$f":"IF(COUNTIF(B$2:B127,B127)=1,B127,\"\")","v":""},{"$nulls":15},{"$f":"+IF(X127=\"\",\"\",MAX(T$1:T126)+1)","v":""},{"$f":"IF('No CMS - Deviation - Limits'!B149=\"\",\"\",'No CMS - Deviation - Limits'!B149)","v":""},{"$f":"IF('No CMS - Deviation - Limits'!C149=\"\",\"\",'No CMS - Deviation - Limits'!C149)","v":""},"",{"$f":"IF(COUNTIF(V$2:V127,V127)=1,V127,\"\")","v":""},"","",{"$f":"+IFERROR(INDEX(#REF!,MATCH(ROW()-ROW($Y$1),T$2:T$955,0)),\"\")","v":""},null,{"$f":"+IF(AG127=\"\",\"\",MAX(AC$1:AC126)+1)","v":""},{"$f":"IF('Using CMS - Deviation - Limits'!B149=\"\",\"\",'Using CMS - Deviation - Limits'!B149)","v":""},{"$f":"IF('Using CMS - Deviation - Limits'!C149=\"\",\"\",'Using CMS - Deviation - Limits'!C149)","v":""},"",{"$f":"IF(COUNTIF(AF$2:AF127,AF127)=1,AF127,\"\")","v":""},"","",{"$f":"+IFERROR(INDEX(#REF!,MATCH(ROW()-ROW(AG$1),AC$2:AC$955,0)),\"\")","v":""},{"$nulls":3},{"$f":"+IF(AS127=\"\",\"\",MAX(AN$1:AN126)+1)","v":""},{"$f":"IF('Using CMS - Inop_OoC - CMS'!B149=\"\",\"\",'Using CMS - Inop_OoC - CMS'!B149)","v":""},{"$f":"IF('Using CMS - Inop_OoC - CMS'!C149=\"\",\"\",'Using CMS - Inop_OoC - CMS'!C149)","v":""},{"$f":"IF('Using CMS - Inop_OoC - CMS'!D149=\"\",\"\",'Using CMS - Inop_OoC - CMS'!D149)","v":""},{"$f":"AO127&AP127&Table10[[#This Row],[CMS]]","v":""},{"$f":"IF(COUNTIF(AR$2:AR127,AR127)=1,AR127,\"\")","v":""},"","","",null,{"$f":"+IF(BB127=\"\",\"\",MAX(AX$1:AX126)+1)","v":""},{"$f":"IF('Using CMS - Deviation - Limits'!B149=\"\",\"\",'Using CMS - Deviation - Limits'!B149)","v":""},{"$f":"IF('Using CMS - Deviation - Limits'!C149=\"\",\"\",'Using CMS - Deviation - Limits'!C149)","v":""},{"$f":"AY127&AZ127&Table10[[#This Row],[CMS]]","v":""},{"$f":"IF(COUNTIF(BA$2:BA127,BA127)=1,BA127,\"\")","v":""},"","",{"$f":"+IFERROR(INDEX(#REF!,MATCH(ROW()-ROW(BC$1),AX$2:AX$955,0)),\"\")","v":""}]
[{"$f":"+IF(D128=\"\",\"\",MAX(A$1:A127)+1)","v":""},{"$f":"IF('Process_&_CMS_Identification'!C150=\"\",\"\",'Process_&_CMS_Identification'!C150)","v":""},"",{"$f":"IF(COUNTIF(B$2:B128,B128)=1,B128,\"\")","v":""},{"$nulls":15},{"$f":"+IF(X128=\"\",\"\",MAX(T$1:T127)+1)","v":""},{"$f":"IF('No CMS - Deviation - Limits'!B150=\"\",\"\",'No CMS - Deviation - Limits'!B150)","v":""},{"$f":"IF('No CMS - Deviation - Limits'!C150=\"\",\"\",'No CMS - Deviation - Limits'!C150)","v":""},"",{"$f":"IF(COUNTIF(V$2:V128,V128)=1,V128,\"\")","v":""},"","",{"$f":"+IFERROR(INDEX(#REF!,MATCH(ROW()-ROW($Y$1),T$2:T$955,0)),\"\")","v":""},null,{"$f":"+IF(AG128=\"\",\"\",MAX(AC$1:AC127)+1)","v":""},{"$f":"IF('Using CMS - Deviation - Limits'!B150=\"\",\"\",'Using CMS - Deviation - Limits'!B150)","v":""},{"$f":"IF('Using CMS - Deviation - Limits'!C150=\"\",\"\",'Using CMS - Deviation - Limits'!C150)","v":""},"",{"$f":"IF(COUNTIF(AF$2:AF128,AF128)=1,AF128,\"\")","v":""},"","",{"$f":"+IFERROR(INDEX(#REF!,MATCH(ROW()-ROW(AG$1),AC$2:AC$955,0)),\"\")","v":""},{"$nulls":3},{"$f":"+IF(AS128=\"\",\"\",MAX(AN$1:AN127)+1)","v":""},{"$f":"IF('Using CMS - Inop_OoC - CMS'!B150=\"\",\"\",'Using CMS - Inop_OoC - CMS'!B150)","v":""},{"$f":"IF('Using CMS - Inop_OoC - CMS'!C150=\"\",\"\",'Using CMS - Inop_OoC - CMS'!C150)","v":""},{"$f":"IF('Using CMS - Inop_OoC - CMS'!D150=\"\",\"\",'Using CMS - Inop_OoC - CMS'!D150)","v":""},{"$f":"AO128&AP128&Table10[[#This Row],[CMS]]","v":""},{"$f":"IF(COUNTIF(AR$2:AR128,AR128)=1,AR128,\"\")","v":""},"","","",null,{"$f":"+IF(BB128=\"\",\"\",MAX(AX$1:AX127)+1)","v":""},{"$f":"IF('Using CMS - Deviation - Limits'!B150=\"\",\"\",'Using CMS - Deviation - Limits'!B150)","v":""},{"$f":"IF('Using CMS - Deviation - Limits'!C150=\"\",\"\",'Using CMS - Deviation - Limits'!C150)","v":""},{"$f":"AY128&AZ128&Table10[[#This Row],[CMS]]","v":""},{"$f":"IF(COUNTIF(BA$2:BA128,BA128)=1,BA128,\"\")","v":""},"","",{"$f":"+IFERROR(INDEX(#REF!,MATCH(ROW()-ROW(BC$1),AX$2:AX$955,0)),\"\")","v":""}]
[{"$f":"+IF(D129=\"\",\"\",MAX(A$1:A128)+1)","v":""},{"$f":"IF('Process_&_CMS_Identification'!C151=\"\",\"\",'Process_&_CMS_Identification'!C151)","v":""},"",{"$f":"IF(COUNTIF(B$2:B129,B129)=1,B129,\"\")","v":""},{"$nulls":15},{"$f":"+IF(X129=\"\",\"\",MAX(T$1:T128)+1)","v":""},{"$f":"IF('No CMS - Deviation - Limits'!B151=\"\",\"\",'No CMS - Deviation - Limits'!B151)","v":""},{"$f":"IF('No CMS - Deviation - Limits'!C151=\"\",\"\",'No CMS - Deviation - Limits'!C151)","v":""},"",{"$f":"IF(COUNTIF(V$2:V129,V129)=1,V129,\"\")","v":""},"","",{"$f":"+IFERROR(INDEX(#REF!,MATCH(ROW()-ROW($Y$1),T$2:T$955,0)),\"\")","v":""},null,{"$f":"+IF(AG129=\"\",\"\",MAX(AC$1:AC128)+1)","v":""},{"$f":"IF('Using CMS - Deviation - Limits'!B151=\"\",\"\",'Using CMS - Deviation - Limits'!B151)","v":""},{"$f":"IF('Using CMS - Deviation - Limits'!C151=\"\",\"\",'Using CMS - Deviation - Limits'!C151)","v":""},"",{"$f":"IF(COUNTIF(AF$2:AF129,AF129)=1,AF129,\"\")","v":""},"","",{"$f":"+IFERROR(INDEX(#REF!,MATCH(ROW()-ROW(AG$1),AC$2:AC$955,0)),\"\")","v":""},{"$nulls":3},{"$f":"+IF(AS129=\"\",\"\",MAX(AN$1:AN128)+1)","v":""},{"$f":"IF('Using CMS - Inop_OoC - CMS'!B151=\"\",\"\",'Using CMS - Inop_OoC - CMS'!B151)","v":""},{"$f":"IF('Using CMS - Inop_OoC - CMS'!C151=\"\",\"\",'Using CMS - Inop_OoC - CMS'!C151)","v":""},{"$f":"IF('Using CMS - Inop_OoC - CMS'!D151=\"\",\"\",'Using CMS - Inop_OoC - CMS'!D151)","v":""},{"$f":"AO129&AP129&Table10[[#This Row],[CMS]]","v":""},{"$f":"IF(COUNTIF(AR$2:AR129,AR129)=1,AR129,\"\")","v":""},"","","",null,{"$f":"+IF(BB129=\"\",\"\",MAX(AX$1:AX128)+1)","v":""},{"$f":"IF('Using CMS - Deviation - Limits'!B151=\"\",\"\",'Using CMS - Deviation - Limits'!B151)","v":""},{"$f":"IF('Using CMS - Deviation - Limits'!C151=\"\",\"\",'Using CMS - Deviation - Limits'!C151)","v":""},{"$f":"AY129&AZ129&Table10[[#This Row],[CMS]]","v":""},{"$f":"IF(COUNTIF(BA$2:BA129,BA129)=1,BA129,\"\")","v":""},"","",{"$f":"+IFERROR(INDEX(#REF!,MATCH(ROW()-ROW(BC$1),AX$2:AX$955,0)),\"\")","v":""}]
[{"$f":"+IF(D130=\"\",\"\",MAX(A$1:A129)+1)","v":""},{"$f":"IF('Process_&_CMS_Identification'!C152=\"\",\"\",'Process_&_CMS_Identification'!C152)","v":""},{"$f":"+IFERROR(INDEX(B$2:B$501,MATCH(ROW()-ROW($C$1),A$2:A$501,0)),\"\")","v":""},{"$f":"IF(COUNTIF(B$2:B130,B130)=1,B130,\"\")","v":""},{"$nulls":15},{"$f":"+IF(X130=\"\",\"\",MAX(T$1:T129)+1)","v":""},{"$f":"IF('No CMS - Deviation - Limits'!B152=\"\",\"\",'No CMS - Deviation - Limits'!B152)","v":""},{"$f":"IF('No CMS - Deviation - Limits'!C152=\"\",\"\",'No CMS - Deviation - Limits'!C152)","v":""},{"$f":"U130&V130","v":""},{"$f":"IF(COUNTIF(V$2:V130,V130)=1,V130,\"\")","v":""},{"$f":"+IFERROR(INDEX(U$2:U$955,MATCH(ROW()-ROW($Y$1),T$2:T$955,0)),\"\")","v":""},{"$f":"+IFERROR(INDEX(V$2:V$955,MATCH(ROW()-ROW($Y$1),T$2:T$955,0)),\"\")","v":""},{"$f":"+IFERROR(INDEX(#REF!,MATCH(ROW()-ROW($Y$1),T$2:T$955,0)),\"\")","v":""},null,{"$f":"+IF(AG130=\"\",\"\",MAX(AC$1:AC129)+1)","v":""},{"$f":"IF('Using CMS - Deviation - Limits'!B152=\"\",\"\",'Using CMS - Deviation - Limits'!B152)","v":""},{"$f":"IF('Using CMS - Deviation - Limits'!C152=\"\",\"\",'Using CMS - Deviation - Limits'!C152)","v":""},{"$f":"AD130&AE130","v":""},{"$f":"IF(COUNTIF(AF$2:AF130,AF130)=1,AF130,\"\")","v":""},{"$f":"+IFERROR(INDEX(AD$2:AD$955,MATCH(ROW()-ROW(HX$1),AC$2:AC$955,0)),\"\")","v":""},{"$f":"+IFERROR(INDEX(AE$2:AE$955,MATCH(ROW()-ROW(AG$1),AC$2:AC$955,0)),\"\")","v":""},{"$f":"+IFERROR(INDEX(#REF!,MATCH(ROW()-ROW(AG$1),AC$2:AC$955,0)),\"\")","v":""},{"$nulls":3},{"$f":"+IF(AS130=\"\",\"\",MAX(AN$1:AN129)+1)","v":""},{"$f":"IF('Using CMS - Inop_OoC - CMS'!B152=\"\",\"\",'Using CMS - Inop_OoC - CMS'!B152)","v":""},{"$f":"IF('Using CMS - Inop_OoC - CMS'!C152=\"\",\"\",'Using CMS - Inop_OoC - CMS'!C152)","v":""},{"$f":"IF('Using CMS - Inop_OoC - CMS'!D152=\"\",\"\",'Using CMS - Inop_OoC - CMS'!D152)","v":""},{"$f":"AO130&AP130&Table10[[#This Row],[CMS]]","v":""},{"$f":"IF(COUNTIF(AR$2:AR130,AR130)=1,AR130,\"\")","v":""},"","",{"$f":"+IFERROR(INDEX(AQ$2:AQ$955,MATCH(ROW()-ROW(AT$1),AN$2:AN$955,0)),\"\")","v":""},null,{"$f":"+IF(BB130=\"\",\"\",MAX(AX$1:AX129)+1)","v":""},{"$f":"IF('Using CMS - Deviation - Limits'!B152=\"\",\"\",'Using CMS - Deviation - Limits'!B152)","v":""},{"$f":"IF('Using CMS - Deviation - Limits'!C152=\"\",\"\",'Using CMS - Deviation - Limits'!C152)","v":""},{"$f":"AY130&AZ130&Table10[[#This Row],[CMS]]","v":""},{"$f":"IF(COUNTIF(BA$2:BA130,BA130)=1,BA130,\"\")","v":""},{"$f":"+IFERROR(INDEX(AY$2:AY$955,MATCH(ROW()-ROW(BB$1),AX$2:AX$955,0)),\"\")","v":""},{"$f":"+IFERROR(INDEX(AZ$2:AZ$955,MATCH(ROW()-ROW(BB$1),AX$2:AX$955,0)),\"\")","v":""},{"$f":"+IFERROR(INDEX(#REF!,MATCH(ROW()-ROW(BC$1),AX$2:AX$955,0)),\"\")","v":""}]
[{"$f":"+IF(D131=\"\",\"\",MAX(A$1:A130)+1)","v":""},{"$f":"IF('Process_&_CMS_Identification'!C153=\"\",\"\",'Process_&_CMS_Identification'!C153)","v":""},"",{"$f":"IF(COUNTIF(B$2:B131,B131)=1,B131,\"\")","v":""},{"$nulls":15},{"$f":"+IF(X131=\"\",\"\",MAX(T$1:T130)+1)","v":""},{"$f":"IF('No CMS - Deviation - Limits'!B153=\"\",\"\",'No CMS - Deviation - Limits'!B153)","v":""},{"$f":"IF('No CMS - Deviation - Limits'!C153=\"\",\"\",'No CMS - Deviation - Limits'!C153)","v":""},"",{"$f":"IF(COUNTIF(V$2:V131,V131)=1,V131,\"\")","v":""},"","",{"$f":"+IFERROR(INDEX(#REF!,MATCH(ROW()-ROW($Y$1),T$2:T$955,0)),\"\")","v":""},null,{"$f":"+IF(AG131=\"\",\"\",MAX(AC$1:AC130)+1)","v":""},{"$f":"IF('Using CMS - Deviation - Limits'!B153=\"\",\"\",'Using CMS - Deviation - Limits'!B153)","v":""},{"$f":"IF('Using CMS - Deviation - Limits'!C153=\"\",\"\",'Using CMS - Deviation - Limits'!C153)","v":""},"",{"$f":"IF(COUNTIF(AF$2:AF131,AF131)=1,AF131,\"\")","v":""},"","",{"$f":"+IFERROR(INDEX(#REF!,MATCH(ROW()-ROW(AG$1),AC$2:AC$955,0)),\"\")","v":""},{"$nulls":3},{"$f":"+IF(AS131=\"\",\"\",MAX(AN$1:AN130)+1)","v":""},{"$f":"IF('Using CMS - Inop_OoC - CMS'!B153=\"\",\"\",'Using CMS - Inop_OoC - CMS'!B153)","v":""},{"$f":"IF('Using CMS - Inop_OoC - CMS'!C153=\"\",\"\",'Using CMS - Inop_OoC - CMS'!C153)","v":""},{"$f":"IF('Using CMS - Inop_OoC - CMS'!D153=\"\",\"\",'Using CMS - Inop_OoC - CMS'!D153)","v":""},{"$f":"AO131&AP131&Table10[[#This Row],[CMS]]","v":""},{"$f":"IF(COUNTIF(AR$2:AR131,AR131)=1,AR131,\"\")","v":""},{"$f":"+IFERROR(INDEX(AO$2:AO$955,MATCH(ROW()-ROW(AS$1),AN$2:AN$955,0)),\"\")","v":""},{"$f":"+IFERROR(INDEX(AP$2:AP$955,MATCH(ROW()-ROW(AS$1),AN$2:AN$955,0)),\"\")","v":""},"",null,{"$f":"+IF(BB131=\"\",\"\",MAX(AX$1:AX130)+1)","v":""},{"$f":"IF('Using CMS - Deviation - Limits'!B153=\"\",\"\",'Using CMS - Deviation - Limits'!B153)","v":""},{"$f":"IF('Using CMS - Deviation - Limits'!C153=\"\",\"\",'Using CMS - Deviation - Limits'!C153)","v":""},{"$f":"AY131&AZ131&Table10[[#This Row],[CMS]]","v":""},{"$f":"IF(COUNTIF(BA$2:BA131,BA131)=1,BA131,\"\")","v":""},"","",{"$f":"+IFERROR(INDEX(#REF!,MATCH(ROW()-ROW(BC$1),AX$2:AX$955,0)),\"\")","v":""}]
[{"$f":"+IF(D132=\"\",\"\",MAX(A$1:A131)+1)","v":""},{"$f":"IF('Process_&_CMS_Identification'!C154=\"\",\"\",'Process_&_CMS_Identification'!C154)","v":""},"",{"$f":"IF(COUNTIF(B$2:B132,B132)=1,B132,\"\")","v":""},{"$nulls":15},{"$f":"+IF(X132=\"\",\"\",MAX(T$1:T131)+1)","v":""},{"$f":"IF('No CMS - Deviation - Limits'!B154=\"\",\"\",'No CMS - Deviation - Limits'!B154)","v":""},{"$f":"IF('No CMS - Deviation - Limits'!C154=\"\",\"\",'No CMS - Deviation - Limits'!C154)","v":""},"",{"$f":"IF(COUNTIF(V$2:V132,V132)=1,V132,\"\")","v":""},"","",{"$f":"+IFERROR(INDEX(#REF!,MATCH(ROW()-ROW($Y$1),T$2:T$955,0)),\"\")","v":""},null,{"$f":"+IF(AG132=\"\",\"\",MAX(AC$1:AC131)+1)","v":""},{"$f":"IF('Using CMS - Deviation - Limits'!B154=\"\",\"\",'Using CMS - Deviation - Limits'!B154)","v":""},{"$f":"IF('Using CMS - Deviation - Limits'!C154=\"\",\"\",'Using CMS - Deviation - Limits'!C154)","v":""},"",{"$f":"IF(COUNTIF(AF$2:AF132,AF132)=1,AF132,\"\")","v":""},"","",{"$f":"+IFERROR(INDEX(#REF!,MATCH(ROW()-ROW(AG$1),AC$2:AC$955,0)),\"\")","v":""},{"$nulls":3},{"$f":"+IF(AS132=\"\",\"\",MAX(AN$1:AN131)+1)","v":""},{"$f":"IF('Using CMS - Inop_OoC - CMS'!B154=\"\",\"\",'Using CMS - Inop_OoC - CMS'!B154)","v":""},{"$f":"IF('Using CMS - Inop_OoC - CMS'!C154=\"\",\"\",'Using CMS - Inop_OoC - CMS'!C154)","v":""},{"$f":"IF('Using CMS - Inop_OoC - CMS'!D154=\"\",\"\",'Using CMS - Inop_OoC - CMS'!D154)","v":""},{"$f":"AO132&AP132&Table10[[#This Row],[CMS]]","v":""},{"$f":"IF(COUNTIF(AR$2:AR132,AR132)=1,AR132,\"\")","v":""},"","","",null,{"$f":"+IF(BB132=\"\",\"\",MAX(AX$1:AX131)+1)","v":""},{"$f":"IF('Using CMS - Deviation - Limits'!B154=\"\",\"\",'Using CMS - Deviation - Limits'!B154)","v":""},{"$f":"IF('Using CMS - Deviation - Limits'!C154=\"\",\"\",'Using CMS - Deviation - Limits'!C154)","v":""},{"$f":"AY132&AZ132&Table10[[#This Row],[CMS]]","v":""},{"$f":"IF(COUNTIF(BA$2:BA132,BA132)=1,BA132,\"\")","v":""},"","",{"$f":"+IFERROR(INDEX(#REF!,MATCH(ROW()-ROW(BC$1),AX$2:AX$955,0)),\"\")","v":""}]
[{"$f":"+IF(D133=\"\",\"\",MAX(A$1:A132)+1)","v":""},{"$f":"IF('Process_&_CMS_Identification'!C155=\"\",\"\",'Process_&_CMS_Identification'!C155)","v":""},"",{"$f":"IF(COUNTIF(B$2:B133,B133)=1,B133,\"\")","v":""},{"$nulls":15},{"$f":"+IF(X133=\"\",\"\",MAX(T$1:T132)+1)","v":""},{"$f":"IF('No CMS - Deviation - Limits'!B155=\"\",\"\",'No CMS - Deviation - Limits'!B155)","v":""},{"$f":"IF('No CMS - Deviation - Limits'!C155=\"\",\"\",'No CMS - Deviation - Limits'!C155)","v":""},"",{"$f":"IF(COUNTIF(V$2:V133,V133)=1,V133,\"\")","v":""},"","",{"$f":"+IFERROR(INDEX(#REF!,MATCH(ROW()-ROW($Y$1),T$2:T$955,0)),\"\")","v":""},null,{"$f":"+IF(AG133=\"\",\"\",MAX(AC$1:AC132)+1)","v":""},{"$f":"IF('Using CMS - Deviation - Limits'!B155=\"\",\"\",'Using CMS - Deviation - Limits'!B155)","v":""},{"$f":"IF('Using CMS - Deviation - Limits'!C155=\"\",\"\",'Using CMS - Deviation - Limits'!C155)","v":""},"",{"$f":"IF(COUNTIF(AF$2:AF133,AF133)=1,AF133,\"\")","v":""},"","",{"$f":"+IFERROR(INDEX(#REF!,MATCH(ROW()-ROW(AG$1),AC$2:AC$955,0)),\"\")","v":""},{"$nulls":3},{"$f":"+IF(AS133=\"\",\"\",MAX(AN$1:AN132)+1)","v":""},{"$f":"IF('Using CMS - Inop_OoC - CMS'!B155=\"\",\"\",'Using CMS - Inop_OoC - CMS'!B155)","v":""},{"$f":"IF('Using CMS - Inop_OoC - CMS'!C155=\"\",\"\",'Using CMS - Inop_OoC - CMS'!C155)","v":""},{"$f":"IF('Using CMS - Inop_OoC - CMS'!D155=\"\",\"\",'Using CMS - Inop_OoC - CMS'!D155)","v":""},{"$f":"AO133&AP133&Table10[[#This Row],[CMS]]","v":""},{"$f":"IF(COUNTIF(AR$2:AR133,AR133)=1,AR133,\"\")","v":""},"","","",null,{"$f":"+IF(BB133=\"\",\"\",MAX(AX$1:AX132)+1)","v":""},{"$f":"IF('Using CMS - Deviation - Limits'!B155=\"\",\"\",'Using CMS - Deviation - Limits'!B155)","v":""},{"$f":"IF('Using CMS - Deviation - Limits'!C155=\"\",\"\",'Using CMS - Deviation - Limits'!C155)","v":""},{"$f":"AY133&AZ133&Table10[[#This Row],[CMS]]","v":""},{"$f":"IF(COUNTIF(BA$2:BA133,BA133)=1,BA133,\"\")","v":""},"","",{"$f":"+IFERROR(INDEX(#REF!,MATCH(ROW()-ROW(BC$1),AX$2:AX$955,0)),\"\")","v":""}]
[{"$f":"+IF(D134=\"\",\"\",MAX(A$1:A133)+1)","v":""},{"$f":"IF('Process_&_CMS_Identification'!C156=\"\",\"\",'Process_&_CMS_Identification'!C156)","v":""},"",{"$f":"IF(COUNTIF(B$2:B134,B134)=1,B134,\"\")","v":""},{"$nulls":15},{"$f":"+IF(X134=\"\",\"\",MAX(T$1:T133)+1)","v":""},{"$f":"IF('No CMS - Deviation - Limits'!B156=\"\",\"\",'No CMS - Deviation - Limits'!B156)","v":""},{"$f":"IF('No CMS - Deviation - Limits'!C156=\"\",\"\",'No CMS - Deviation - Limits'!C156)","v":""},"",{"$f":"IF(COUNTIF(V$2:V134,V134)=1,V134,\"\")","v":""},"","",{"$f":"+IFERROR(INDEX(#REF!,MATCH(ROW()-ROW($Y$1),T$2:T$955,0)),\"\")","v":""},null,{"$f":"+IF(AG134=\"\",\"\",MAX(AC$1:AC133)+1)","v":""},{"$f":"IF('Using CMS - Deviation - Limits'!B156=\"\",\"\",'Using CMS - Deviation - Limits'!B156)","v":""},{"$f":"IF('Using CMS - Deviation - Limits'!C156=\"\",\"\",'Using CMS - Deviation - Limits'!C156)","v":""},"",{"$f":"IF(COUNTIF(AF$2:AF134,AF134)=1,AF134,\"\")","v":""},"","",{"$f":"+IFERROR(INDEX(#REF!,MATCH(ROW()-ROW(AG$1),AC$2:AC$955,0)),\"\")","v":""},{"$nulls":3},{"$f":"+IF(AS134=\"\",\"\",MAX(AN$1:AN133)+1)","v":""},{"$f":"IF('Using CMS - Inop_OoC - CMS'!B156=\"\",\"\",'Using CMS - Inop_OoC - CMS'!B156)","v":""},{"$f":"IF('Using CMS - Inop_OoC - CMS'!C156=\"\",\"\",'Using CMS - Inop_OoC - CMS'!C156)","v":""},{"$f":"IF('Using CMS - Inop_OoC - CMS'!D156=\"\",\"\",'Using CMS - Inop_OoC - CMS'!D156)","v":""},{"$f":"AO134&AP134&Table10[[#This Row],[CMS]]","v":""},{"$f":"IF(COUNTIF(AR$2:AR134,AR134)=1,AR134,\"\")","v":""},"","","",null,{"$f":"+IF(BB134=\"\",\"\",MAX(AX$1:AX133)+1)","v":""},{"$f":"IF('Using CMS - Deviation - Limits'!B156=\"\",\"\",'Using CMS - Deviation - Limits'!B156)","v":""},{"$f":"IF('Using CMS - Deviation - Limits'!C156=\"\",\"\",'Using CMS - Deviation - Limits'!C156)","v":""},{"$f":"AY134&AZ134&Table10[[#This Row],[CMS]]","v":""},{"$f":"IF(COUNTIF(BA$2:BA134,BA134)=1,BA134,\"\")","v":""},"","",{"$f":"+IFERROR(INDEX(#REF!,MATCH(ROW()-ROW(BC$1),AX$2:AX$955,0)),\"\")","v":""}]
[{"$f":"+IF(D135=\"\",\"\",MAX(A$1:A134)+1)","v":""},{"$f":"IF('Process_&_CMS_Identification'!C157=\"\",\"\",'Process_&_CMS_Identification'!C157)","v":""},"",{"$f":"IF(COUNTIF(B$2:B135,B135)=1,B135,\"\")","v":""},{"$nulls":15},{"$f":"+IF(X135=\"\",\"\",MAX(T$1:T134)+1)","v":""},{"$f":"IF('No CMS - Deviation - Limits'!B157=\"\",\"\",'No CMS - Deviation - Limits'!B157)","v":""},{"$f":"IF('No CMS - Deviation - Limits'!C157=\"\",\"\",'No CMS - Deviation - Limits'!C157)","v":""},"",{"$f":"IF(COUNTIF(V$2:V135,V135)=1,V135,\"\")","v":""},"","",{"$f":"+IFERROR(INDEX(#REF!,MATCH(ROW()-ROW($Y$1),T$2:T$955,0)),\"\")","v":""},null,{"$f":"+IF(AG135=\"\",\"\",MAX(AC$1:AC134)+1)","v":""},{"$f":"IF('Using CMS - Deviation - Limits'!B157=\"\",\"\",'Using CMS - Deviation - Limits'!B157)","v":""},{"$f":"IF('Using CMS - Deviation - Limits'!C157=\"\",\"\",'Using CMS - Deviation - Limits'!C157)","v":""},"",{"$f":"IF(COUNTIF(AF$2:AF135,AF135)=1,AF135,\"\")","v":""},"","",{"$f":"+IFERROR(INDEX(#REF!,MATCH(ROW()-ROW(AG$1),AC$2:AC$955,0)),\"\")","v":""},{"$nulls":3},{"$f":"+IF(AS135=\"\",\"\",MAX(AN$1:AN134)+1)","v":""},{"$f":"IF('Using CMS - Inop_OoC - CMS'!B157=\"\",\"\",'Using CMS - Inop_OoC - CMS'!B157)","v":""},{"$f":"IF('Using CMS - Inop_OoC - CMS'!C157=\"\",\"\",'Using CMS - Inop_OoC - CMS'!C157)","v":""},{"$f":"IF('Using CMS - Inop_OoC - CMS'!D157=\"\",\"\",'Using CMS - Inop_OoC - CMS'!D157)","v":""},{"$f":"AO135&AP135&Table10[[#This Row],[CMS]]","v":""},{"$f":"IF(COUNTIF(AR$2:AR135,AR135)=1,AR135,\"\")","v":""},"","","",null,{"$f":"+IF(BB135=\"\",\"\",MAX(AX$1:AX134)+1)","v":""},{"$f":"IF('Using CMS - Deviation - Limits'!B157=\"\",\"\",'Using CMS - Deviation - Limits'!B157)","v":""},{"$f":"IF('Using CMS - Deviation - Limits'!C157=\"\",\"\",'Using CMS - Deviation - Limits'!C157)","v":""},{"$f":"AY135&AZ135&Table10[[#This Row],[CMS]]","v":""},{"$f":"IF(COUNTIF(BA$2:BA135,BA135)=1,BA135,\"\")","v":""},"","",{"$f":"+IFERROR(INDEX(#REF!,MATCH(ROW()-ROW(BC$1),AX$2:AX$955,0)),\"\")","v":""}]
[{"$f":"+IF(D136=\"\",\"\",MAX(A$1:A135)+1)","v":""},{"$f":"IF('Process_&_CMS_Identification'!C158=\"\",\"\",'Process_&_CMS_Identification'!C158)","v":""},"",{"$f":"IF(COUNTIF(B$2:B136,B136)=1,B136,\"\")","v":""},{"$nulls":15},{"$f":"+IF(X136=\"\",\"\",MAX(T$1:T135)+1)","v":""},{"$f":"IF('No CMS - Deviation - Limits'!B158=\"\",\"\",'No CMS - Deviation - Limits'!B158)","v":""},{"$f":"IF('No CMS - Deviation - Limits'!C158=\"\",\"\",'No CMS - Deviation - Limits'!C158)","v":""},"",{"$f":"IF(COUNTIF(V$2:V136,V136)=1,V136,\"\")","v":""},"","",{"$f":"+IFERROR(INDEX(#REF!,MATCH(ROW()-ROW($Y$1),T$2:T$955,0)),\"\")","v":""},null,{"$f":"+IF(AG136=\"\",\"\",MAX(AC$1:AC135)+1)","v":""},{"$f":"IF('Using CMS - Deviation - Limits'!B158=\"\",\"\",'Using CMS - Deviation - Limits'!B158)","v":""},{"$f":"IF('Using CMS - Deviation - Limits'!C158=\"\",\"\",'Using CMS - Deviation - Limits'!C158)","v":""},"",{"$f":"IF(COUNTIF(AF$2:AF136,AF136)=1,AF136,\"\")","v":""},"","",{"$f":"+IFERROR(INDEX(#REF!,MATCH(ROW()-ROW(AG$1),AC$2:AC$955,0)),\"\")","v":""},{"$nulls":3},{"$f":"+IF(AS136=\"\",\"\",MAX(AN$1:AN135)+1)","v":""},{"$f":"IF('Using CMS - Inop_OoC - CMS'!B158=\"\",\"\",'Using CMS - Inop_OoC - CMS'!B158)","v":""},{"$f":"IF('Using CMS - Inop_OoC - CMS'!C158=\"\",\"\",'Using CMS - Inop_OoC - CMS'!C158)","v":""},{"$f":"IF('Using CMS - Inop_OoC - CMS'!D158=\"\",\"\",'Using CMS - Inop_OoC - CMS'!D158)","v":""},{"$f":"AO136&AP136&Table10[[#This Row],[CMS]]","v":""},{"$f":"IF(COUNTIF(AR$2:AR136,AR136)=1,AR136,\"\")","v":""},"","","",null,{"$f":"+IF(BB136=\"\",\"\",MAX(AX$1:AX135)+1)","v":""},{"$f":"IF('Using CMS - Deviation - Limits'!B158=\"\",\"\",'Using CMS - Deviation - Limits'!B158)","v":""},{"$f":"IF('Using CMS - Deviation - Limits'!C158=\"\",\"\",'Using CMS - Deviation - Limits'!C158)","v":""},{"$f":"AY136&AZ136&Table10[[#This Row],[CMS]]","v":""},{"$f":"IF(COUNTIF(BA$2:BA136,BA136)=1,BA136,\"\")","v":""},"","",{"$f":"+IFERROR(INDEX(#REF!,MATCH(ROW()-ROW(BC$1),AX$2:AX$955,0)),\"\")","v":""}]
[{"$f":"+IF(D137=\"\",\"\",MAX(A$1:A136)+1)","v":""},{"$f":"IF('Process_&_CMS_Identification'!C159=\"\",\"\",'Process_&_CMS_Identification'!C159)","v":""},"",{"$f":"IF(COUNTIF(B$2:B137,B137)=1,B137,\"\")","v":""},{"$nulls":15},{"$f":"+IF(X137=\"\",\"\",MAX(T$1:T136)+1)","v":""},{"$f":"IF('No CMS - Deviation - Limits'!B159=\"\",\"\",'No CMS - Deviation - Limits'!B159)","v":""},{"$f":"IF('No CMS - Deviation - Limits'!C159=\"\",\"\",'No CMS - Deviation - Limits'!C159)","v":""},"",{"$f":"IF(COUNTIF(V$2:V137,V137)=1,V137,\"\")","v":""},"","",{"$f":"+IFERROR(INDEX(#REF!,MATCH(ROW()-ROW($Y$1),T$2:T$955,0)),\"\")","v":""},null,{"$f":"+IF(AG137=\"\",\"\",MAX(AC$1:AC136)+1)","v":""},{"$f":"IF('Using CMS - Deviation - Limits'!B159=\"\",\"\",'Using CMS - Deviation - Limits'!B159)","v":""},{"$f":"IF('Using CMS - Deviation - Limits'!C159=\"\",\"\",'Using CMS - Deviation - Limits'!C159)","v":""},"",{"$f":"IF(COUNTIF(AF$2:AF137,AF137)=1,AF137,\"\")","v":""},"","",{"$f":"+IFERROR(INDEX(#REF!,MATCH(ROW()-ROW(AG$1),AC$2:AC$955,0)),\"\")","v":""},{"$nulls":3},{"$f":"+IF(AS137=\"\",\"\",MAX(AN$1:AN136)+1)","v":""},{"$f":"IF('Using CMS - Inop_OoC - CMS'!B159=\"\",\"\",'Using CMS - Inop_OoC - CMS'!B159)","v":""},{"$f":"IF('Using CMS - Inop_OoC - CMS'!C159=\"\",\"\",'Using CMS - Inop_OoC - CMS'!C159)","v":""},{"$f":"IF('Using CMS - Inop_OoC - CMS'!D159=\"\",\"\",'Using CMS - Inop_OoC - CMS'!D159)","v":""},{"$f":"AO137&AP137&Table10[[#This Row],[CMS]]","v":""},{"$f":"IF(COUNTIF(AR$2:AR137,AR137)=1,AR137,\"\")","v":""},"","","",null,{"$f":"+IF(BB137=\"\",\"\",MAX(AX$1:AX136)+1)","v":""},{"$f":"IF('Using CMS - Deviation - Limits'!B159=\"\",\"\",'Using CMS - Deviation - Limits'!B159)","v":""},{"$f":"IF('Using CMS - Deviation - Limits'!C159=\"\",\"\",'Using CMS - Deviation - Limits'!C159)","v":""},{"$f":"AY137&AZ137&Table10[[#This Row],[CMS]]","v":""},{"$f":"IF(COUNTIF(BA$2:BA137,BA137)=1,BA137,\"\")","v":""},"","",{"$f":"+IFERROR(INDEX(#REF!,MATCH(ROW()-ROW(BC$1),AX$2:AX$955,0)),\"\")","v":""}]
[{"$f":"+IF(D138=\"\",\"\",MAX(A$1:A137)+1)","v":""},{"$f":"IF('Process_&_CMS_Identification'!C160=\"\",\"\",'Process_&_CMS_Identification'!C160)","v":""},"",{"$f":"IF(COUNTIF(B$2:B138,B138)=1,B138,\"\")","v":""},{"$nulls":15},{"$f":"+IF(X138=\"\",\"\",MAX(T$1:T137)+1)","v":""},{"$f":"IF('No CMS - Deviation - Limits'!B160=\"\",\"\",'No CMS - Deviation - Limits'!B160)","v":""},{"$f":"IF('No CMS - Deviation - Limits'!C160=\"\",\"\",'No CMS - Deviation - Limits'!C160)","v":""},"",{"$f":"IF(COUNTIF(V$2:V138,V138)=1,V138,\"\")","v":""},"","",{"$f":"+IFERROR(INDEX(#REF!,MATCH(ROW()-ROW($Y$1),T$2:T$955,0)),\"\")","v":""},null,{"$f":"+IF(AG138=\"\",\"\",MAX(AC$1:AC137)+1)","v":""},{"$f":"IF('Using CMS - Deviation - Limits'!B160=\"\",\"\",'Using CMS - Deviation - Limits'!B160)","v":""},{"$f":"IF('Using CMS - Deviation - Limits'!C160=\"\",\"\",'Using CMS - Deviation - Limits'!C160)","v":""},"",{"$f":"IF(COUNTIF(AF$2:AF138,AF138)=1,AF138,\"\")","v":""},"","",{"$f":"+IFERROR(INDEX(#REF!,MATCH(ROW()-ROW(AG$1),AC$2:AC$955,0)),\"\")","v":""},{"$nulls":3},{"$f":"+IF(AS138=\"\",\"\",MAX(AN$1:AN137)+1)","v":""},{"$f":"IF('Using CMS - Inop_OoC - CMS'!B160=\"\",\"\",'Using CMS - Inop_OoC - CMS'!B160)","v":""},{"$f":"IF('Using CMS - Inop_OoC - CMS'!C160=\"\",\"\",'Using CMS - Inop_OoC - CMS'!C160)","v":""},{"$f":"IF('Using CMS - Inop_OoC - CMS'!D160=\"\",\"\",'Using CMS - Inop_OoC - CMS'!D160)","v":""},{"$f":"AO138&AP138&Table10[[#This Row],[CMS]]","v":""},{"$f":"IF(COUNTIF(AR$2:AR138,AR138)=1,AR138,\"\")","v":""},"","","",null,{"$f":"+IF(BB138=\"\",\"\",MAX(AX$1:AX137)+1)","v":""},{"$f":"IF('Using CMS - Deviation - Limits'!B160=\"\",\"\",'Using CMS - Deviation - Limits'!B160)","v":""},{"$f":"IF('Using CMS - Deviation - Limits'!C160=\"\",\"\",'Using CMS - Deviation - Limits'!C160)","v":""},{"$f":"AY138&AZ138&Table10[[#This Row],[CMS]]","v":""},{"$f":"IF(COUNTIF(BA$2:BA138,BA138)=1,BA138,\"\")","v":""},"","",{"$f":"+IFERROR(INDEX(#REF!,MATCH(ROW()-ROW(BC$1),AX$2:AX$955,0)),\"\")","v":""}]
[{"$f":"+IF(D139=\"\",\"\",MAX(A$1:A138)+1)","v":""},{"$f":"IF('Process_&_CMS_Identification'!C161=\"\",\"\",'Process_&_CMS_Identification'!C161)","v":""},"",{"$f":"IF(COUNTIF(B$2:B139,B139)=1,B139,\"\")","v":""},{"$nulls":15},{"$f":"+IF(X139=\"\",\"\",MAX(T$1:T138)+1)","v":""},{"$f":"IF('No CMS - Deviation - Limits'!B161=\"\",\"\",'No CMS - Deviation - Limits'!B161)","v":""},{"$f":"IF('No CMS - Deviation - Limits'!C161=\"\",\"\",'No CMS - Deviation - Limits'!C161)","v":""},"",{"$f":"IF(COUNTIF(V$2:V139,V139)=1,V139,\"\")","v":""},"","",{"$f":"+IFERROR(INDEX(#REF!,MATCH(ROW()-ROW($Y$1),T$2:T$955,0)),\"\")","v":""},null,{"$f":"+IF(AG139=\"\",\"\",MAX(AC$1:AC138)+1)","v":""},{"$f":"IF('Using CMS - Deviation - Limits'!B161=\"\",\"\",'Using CMS - Deviation - Limits'!B161)","v":""},{"$f":"IF('Using CMS - Deviation - Limits'!C161=\"\",\"\",'Using CMS - Deviation - Limits'!C161)","v":""},"",{"$f":"IF(COUNTIF(AF$2:AF139,AF139)=1,AF139,\"\")","v":""},"","",{"$f":"+IFERROR(INDEX(#REF!,MATCH(ROW()-ROW(AG$1),AC$2:AC$955,0)),\"\")","v":""},{"$nulls":3},{"$f":"+IF(AS139=\"\",\"\",MAX(AN$1:AN138)+1)","v":""},{"$f":"IF('Using CMS - Inop_OoC - CMS'!B161=\"\",\"\",'Using CMS - Inop_OoC - CMS'!B161)","v":""},{"$f":"IF('Using CMS - Inop_OoC - CMS'!C161=\"\",\"\",'Using CMS - Inop_OoC - CMS'!C161)","v":""},{"$f":"IF('Using CMS - Inop_OoC - CMS'!D161=\"\",\"\",'Using CMS - Inop_OoC - CMS'!D161)","v":""},{"$f":"AO139&AP139&Table10[[#This Row],[CMS]]","v":""},{"$f":"IF(COUNTIF(AR$2:AR139,AR139)=1,AR139,\"\")","v":""},"","","",null,{"$f":"+IF(BB139=\"\",\"\",MAX(AX$1:AX138)+1)","v":""},{"$f":"IF('Using CMS - Deviation - Limits'!B161=\"\",\"\",'Using CMS - Deviation - Limits'!B161)","v":""},{"$f":"IF('Using CMS - Deviation - Limits'!C161=\"\",\"\",'Using CMS - Deviation - Limits'!C161)","v":""},{"$f":"AY139&AZ139&Table10[[#This Row],[CMS]]","v":""},{"$f":"IF(COUNTIF(BA$2:BA139,BA139)=1,BA139,\"\")","v":""},"","",{"$f":"+IFERROR(INDEX(#REF!,MATCH(ROW()-ROW(BC$1),AX$2:AX$955,0)),\"\")","v":""}]
[{"$f":"+IF(D140=\"\",\"\",MAX(A$1:A139)+1)","v":""},{"$f":"IF('Process_&_CMS_Identification'!C162=\"\",\"\",'Process_&_CMS_Identification'!C162)","v":""},"",{"$f":"IF(COUNTIF(B$2:B140,B140)=1,B140,\"\")","v":""},{"$nulls":15},{"$f":"+IF(X140=\"\",\"\",MAX(T$1:T139)+1)","v":""},{"$f":"IF('No CMS - Deviation - Limits'!B162=\"\",\"\",'No CMS - Deviation - Limits'!B162)","v":""},{"$f":"IF('No CMS - Deviation - Limits'!C162=\"\",\"\",'No CMS - Deviation - Limits'!C162)","v":""},"",{"$f":"IF(COUNTIF(V$2:V140,V140)=1,V140,\"\")","v":""},"","",{"$f":"+IFERROR(INDEX(#REF!,MATCH(ROW()-ROW($Y$1),T$2:T$955,0)),\"\")","v":""},null,{"$f":"+IF(AG140=\"\",\"\",MAX(AC$1:AC139)+1)","v":""},{"$f":"IF('Using CMS - Deviation - Limits'!B162=\"\",\"\",'Using CMS - Deviation - Limits'!B162)","v":""},{"$f":"IF('Using CMS - Deviation - Limits'!C162=\"\",\"\",'Using CMS - Deviation - Limits'!C162)","v":""},"",{"$f":"IF(COUNTIF(AF$2:AF140,AF140)=1,AF140,\"\")","v":""},"","",{"$f":"+IFERROR(INDEX(#REF!,MATCH(ROW()-ROW(AG$1),AC$2:AC$955,0)),\"\")","v":""},{"$nulls":3},{"$f":"+IF(AS140=\"\",\"\",MAX(AN$1:AN139)+1)","v":""},{"$f":"IF('Using CMS - Inop_OoC - CMS'!B162=\"\",\"\",'Using CMS - Inop_OoC - CMS'!B162)","v":""},{"$f":"IF('Using CMS - Inop_OoC - CMS'!C162=\"\",\"\",'Using CMS - Inop_OoC - CMS'!C162)","v":""},{"$f":"IF('Using CMS - Inop_OoC - CMS'!D162=\"\",\"\",'Using CMS - Inop_OoC - CMS'!D162)","v":""},{"$f":"AO140&AP140&Table10[[#This Row],[CMS]]","v":""},{"$f":"IF(COUNTIF(AR$2:AR140,AR140)=1,AR140,\"\")","v":""},"","","",null,{"$f":"+IF(BB140=\"\",\"\",MAX(AX$1:AX139)+1)","v":""},{"$f":"IF('Using CMS - Deviation - Limits'!B162=\"\",\"\",'Using CMS - Deviation - Limits'!B162)","v":""},{"$f":"IF('Using CMS - Deviation - Limits'!C162=\"\",\"\",'Using CMS - Deviation - Limits'!C162)","v":""},{"$f":"AY140&AZ140&Table10[[#This Row],[CMS]]","v":""},{"$f":"IF(COUNTIF(BA$2:BA140,BA140)=1,BA140,\"\")","v":""},"","",{"$f":"+IFERROR(INDEX(#REF!,MATCH(ROW()-ROW(BC$1),AX$2:AX$955,0)),\"\")","v":""}]
[{"$f":"+IF(D141=\"\",\"\",MAX(A$1:A140)+1)","v":""},{"$f":"IF('Process_&_CMS_Identification'!C163=\"\",\"\",'Process_&_CMS_Identification'!C163)","v":""},"",{"$f":"IF(COUNTIF(B$2:B141,B141)=1,B141,\"\")","v":""},{"$nulls":15},{"$f":"+IF(X141=\"\",\"\",MAX(T$1:T140)+1)","v":""},{"$f":"IF('No CMS - Deviation - Limits'!B163=\"\",\"\",'No CMS - Deviation - Limits'!B163)","v":""},{"$f":"IF('No CMS - Deviation - Limits'!C163=\"\",\"\",'No CMS - Deviation - Limits'!C163)","v":""},"",{"$f":"IF(COUNTIF(V$2:V141,V141)=1,V141,\"\")","v":""},"","",{"$f":"+IFERROR(INDEX(#REF!,MATCH(ROW()-ROW($Y$1),T$2:T$955,0)),\"\")","v":""},null,{"$f":"+IF(AG141=\"\",\"\",MAX(AC$1:AC140)+1)","v":""},{"$f":"IF('Using CMS - Deviation - Limits'!B163=\"\",\"\",'Using CMS - Deviation - Limits'!B163)","v":""},{"$f":"IF('Using CMS - Deviation - Limits'!C163=\"\",\"\",'Using CMS - Deviation - Limits'!C163)","v":""},"",{"$f":"IF(COUNTIF(AF$2:AF141,AF141)=1,AF141,\"\")","v":""},"","",{"$f":"+IFERROR(INDEX(#REF!,MATCH(ROW()-ROW(AG$1),AC$2:AC$955,0)),\"\")","v":""},{"$nulls":3},{"$f":"+IF(AS141=\"\",\"\",MAX(AN$1:AN140)+1)","v":""},{"$f":"IF('Using CMS - Inop_OoC - CMS'!B163=\"\",\"\",'Using CMS - Inop_OoC - CMS'!B163)","v":""},{"$f":"IF('Using CMS - Inop_OoC - CMS'!C163=\"\",\"\",'Using CMS - Inop_OoC - CMS'!C163)","v":""},{"$f":"IF('Using CMS - Inop_OoC - CMS'!D163=\"\",\"\",'Using CMS - Inop_OoC - CMS'!D163)","v":""},{"$f":"AO141&AP141&Table10[[#This Row],[CMS]]","v":""},{"$f":"IF(COUNTIF(AR$2:AR141,AR141)=1,AR141,\"\")","v":""},"","","",null,{"$f":"+IF(BB141=\"\",\"\",MAX(AX$1:AX140)+1)","v":""},{"$f":"IF('Using CMS - Deviation - Limits'!B163=\"\",\"\",'Using CMS - Deviation - Limits'!B163)","v":""},{"$f":"IF('Using CMS - Deviation - Limits'!C163=\"\",\"\",'Using CMS - Deviation - Limits'!C163)","v":""},{"$f":"AY141&AZ141&Table10[[#This Row],[CMS]]","v":""},{"$f":"IF(COUNTIF(BA$2:BA141,BA141)=1,BA141,\"\")","v":""},"","",{"$f":"+IFERROR(INDEX(#REF!,MATCH(ROW()-ROW(BC$1),AX$2:AX$955,0)),\"\")","v":""}]
[{"$f":"+IF(D142=\"\",\"\",MAX(A$1:A141)+1)","v":""},{"$f":"IF('Process_&_CMS_Identification'!C164=\"\",\"\",'Process_&_CMS_Identification'!C164)","v":""},"",{"$f":"IF(COUNTIF(B$2:B142,B142)=1,B142,\"\")","v":""},{"$nulls":15},{"$f":"+IF(X142=\"\",\"\",MAX(T$1:T141)+1)","v":""},{"$f":"IF('No CMS - Deviation - Limits'!B164=\"\",\"\",'No CMS - Deviation - Limits'!B164)","v":""},{"$f":"IF('No CMS - Deviation - Limits'!C164=\"\",\"\",'No CMS - Deviation - Limits'!C164)","v":""},"",{"$f":"IF(COUNTIF(V$2:V142,V142)=1,V142,\"\")","v":""},"","",{"$f":"+IFERROR(INDEX(#REF!,MATCH(ROW()-ROW($Y$1),T$2:T$955,0)),\"\")","v":""},null,{"$f":"+IF(AG142=\"\",\"\",MAX(AC$1:AC141)+1)","v":""},{"$f":"IF('Using CMS - Deviation - Limits'!B164=\"\",\"\",'Using CMS - Deviation - Limits'!B164)","v":""},{"$f":"IF('Using CMS - Deviation - Limits'!C164=\"\",\"\",'Using CMS - Deviation - Limits'!C164)","v":""},"",{"$f":"IF(COUNTIF(AF$2:AF142,AF142)=1,AF142,\"\")","v":""},"","",{"$f":"+IFERROR(INDEX(#REF!,MATCH(ROW()-ROW(AG$1),AC$2:AC$955,0)),\"\")","v":""},{"$nulls":3},{"$f":"+IF(AS142=\"\",\"\",MAX(AN$1:AN141)+1)","v":""},{"$f":"IF('Using CMS - Inop_OoC - CMS'!B164=\"\",\"\",'Using CMS - Inop_OoC - CMS'!B164)","v":""},{"$f":"IF('Using CMS - Inop_OoC - CMS'!C164=\"\",\"\",'Using CMS - Inop_OoC - CMS'!C164)","v":""},{"$f":"IF('Using CMS - Inop_OoC - CMS'!D164=\"\",\"\",'Using CMS - Inop_OoC - CMS'!D164)","v":""},{"$f":"AO142&AP142&Table10[[#This Row],[CMS]]","v":""},{"$f":"IF(COUNTIF(AR$2:AR142,AR142)=1,AR142,\"\")","v":""},"","","",null,{"$f":"+IF(BB142=\"\",\"\",MAX(AX$1:AX141)+1)","v":""},{"$f":"IF('Using CMS - Deviation - Limits'!B164=\"\",\"\",'Using CMS - Deviation - Limits'!B164)","v":""},{"$f":"IF('Using CMS - Deviation - Limits'!C164=\"\",\"\",'Using CMS - Deviation - Limits'!C164)","v":""},{"$f":"AY142&AZ142&Table10[[#This Row],[CMS]]","v":""},{"$f":"IF(COUNTIF(BA$2:BA142,BA142)=1,BA142,\"\")","v":""},"","",{"$f":"+IFERROR(INDEX(#REF!,MATCH(ROW()-ROW(BC$1),AX$2:AX$955,0)),\"\")","v":""}]
[{"$f":"+IF(D143=\"\",\"\",MAX(A$1:A142)+1)","v":""},{"$f":"IF('Process_&_CMS_Identification'!C165=\"\",\"\",'Process_&_CMS_Identification'!C165)","v":""},"",{"$f":"IF(COUNTIF(B$2:B143,B143)=1,B143,\"\")","v":""},{"$nulls":15},{"$f":"+IF(X143=\"\",\"\",MAX(T$1:T142)+1)","v":""},{"$f":"IF('No CMS - Deviation - Limits'!B165=\"\",\"\",'No CMS - Deviation - Limits'!B165)","v":""},{"$f":"IF('No CMS - Deviation - Limits'!C165=\"\",\"\",'No CMS - Deviation - Limits'!C165)","v":""},"",{"$f":"IF(COUNTIF(V$2:V143,V143)=1,V143,\"\")","v":""},"","",{"$f":"+IFERROR(INDEX(#REF!,MATCH(ROW()-ROW($Y$1),T$2:T$955,0)),\"\")","v":""},null,{"$f":"+IF(AG143=\"\",\"\",MAX(AC$1:AC142)+1)","v":""},{"$f":"IF('Using CMS - Deviation - Limits'!B165=\"\",\"\",'Using CMS - Deviation - Limits'!B165)","v":""},{"$f":"IF('Using CMS - Deviation - Limits'!C165=\"\",\"\",'Using CMS - Deviation - Limits'!C165)","v":""},"",{"$f":"IF(COUNTIF(AF$2:AF143,AF143)=1,AF143,\"\")","v":""},"","",{"$f":"+IFERROR(INDEX(#REF!,MATCH(ROW()-ROW(AG$1),AC$2:AC$955,0)),\"\")","v":""},{"$nulls":3},{"$f":"+IF(AS143=\"\",\"\",MAX(AN$1:AN142)+1)","v":""},{"$f":"IF('Using CMS - Inop_OoC - CMS'!B165=\"\",\"\",'Using CMS - Inop_OoC - CMS'!B165)","v":""},{"$f":"IF('Using CMS - Inop_OoC - CMS'!C165=\"\",\"\",'Using CMS - Inop_OoC - CMS'!C165)","v":""},{"$f":"IF('Using CMS - Inop_OoC - CMS'!D165=\"\",\"\",'Using CMS - Inop_OoC - CMS'!D165)","v":""},{"$f":"AO143&AP143&Table10[[#This Row],[CMS]]","v":""},{"$f":"IF(COUNTIF(AR$2:AR143,AR143)=1,AR143,\"\")","v":""},"","","",null,{"$f":"+IF(BB143=\"\",\"\",MAX(AX$1:AX142)+1)","v":""},{"$f":"IF('Using CMS - Deviation - Limits'!B165=\"\",\"\",'Using CMS - Deviation - Limits'!B165)","v":""},{"$f":"IF('Using CMS - Deviation - Limits'!C165=\"\",\"\",'Using CMS - Deviation - Limits'!C165)","v":""},{"$f":"AY143&AZ143&Table10[[#This Row],[CMS]]","v":""},{"$f":"IF(COUNTIF(BA$2:BA143,BA143)=1,BA143,\"\")","v":""},"","",{"$f":"+IFERROR(INDEX(#REF!,MATCH(ROW()-ROW(BC$1),AX$2:AX$955,0)),\"\")","v":""}]
[{"$f":"+IF(D144=\"\",\"\",MAX(A$1:A143)+1)","v":""},{"$f":"IF('Process_&_CMS_Identification'!C166=\"\",\"\",'Process_&_CMS_Identification'!C166)","v":""},"",{"$f":"IF(COUNTIF(B$2:B144,B144)=1,B144,\"\")","v":""},{"$nulls":15},{"$f":"+IF(X144=\"\",\"\",MAX(T$1:T143)+1)","v":""},{"$f":"IF('No CMS - Deviation - Limits'!B166=\"\",\"\",'No CMS - Deviation - Limits'!B166)","v":""},{"$f":"IF('No CMS - Deviation - Limits'!C166=\"\",\"\",'No CMS - Deviation - Limits'!C166)","v":""},"",{"$f":"IF(COUNTIF(V$2:V144,V144)=1,V144,\"\")","v":""},"","",{"$f":"+IFERROR(INDEX(#REF!,MATCH(ROW()-ROW($Y$1),T$2:T$955,0)),\"\")","v":""},null,{"$f":"+IF(AG144=\"\",\"\",MAX(AC$1:AC143)+1)","v":""},{"$f":"IF('Using CMS - Deviation - Limits'!B166=\"\",\"\",'Using CMS - Deviation - Limits'!B166)","v":""},{"$f":"IF('Using CMS - Deviation - Limits'!C166=\"\",\"\",'Using CMS - Deviation - Limits'!C166)","v":""},"",{"$f":"IF(COUNTIF(AF$2:AF144,AF144)=1,AF144,\"\")","v":""},"","",{"$f":"+IFERROR(INDEX(#REF!,MATCH(ROW()-ROW(AG$1),AC$2:AC$955,0)),\"\")","v":""},{"$nulls":3},{"$f":"+IF(AS144=\"\",\"\",MAX(AN$1:AN143)+1)","v":""},{"$f":"IF('Using CMS - Inop_OoC - CMS'!B166=\"\",\"\",'Using CMS - Inop_OoC - CMS'!B166)","v":""},{"$f":"IF('Using CMS - Inop_OoC - CMS'!C166=\"\",\"\",'Using CMS - Inop_OoC - CMS'!C166)","v":""},{"$f":"IF('Using CMS - Inop_OoC - CMS'!D166=\"\",\"\",'Using CMS - Inop_OoC - CMS'!D166)","v":""},{"$f":"AO144&AP144&Table10[[#This Row],[CMS]]","v":""},{"$f":"IF(COUNTIF(AR$2:AR144,AR144)=1,AR144,\"\")","v":""},"","","",null,{"$f":"+IF(BB144=\"\",\"\",MAX(AX$1:AX143)+1)","v":""},{"$f":"IF('Using CMS - Deviation - Limits'!B166=\"\",\"\",'Using CMS - Deviation - Limits'!B166)","v":""},{"$f":"IF('Using CMS - Deviation - Limits'!C166=\"\",\"\",'Using CMS - Deviation - Limits'!C166)","v":""},{"$f":"AY144&AZ144&Table10[[#This Row],[CMS]]","v":""},{"$f":"IF(COUNTIF(BA$2:BA144,BA144)=1,BA144,\"\")","v":""},"","",{"$f":"+IFERROR(INDEX(#REF!,MATCH(ROW()-ROW(BC$1),AX$2:AX$955,0)),\"\")","v":""}]
[{"$f":"+IF(D145=\"\",\"\",MAX(A$1:A144)+1)","v":""},{"$f":"IF('Process_&_CMS_Identification'!C167=\"\",\"\",'Process_&_CMS_Identification'!C167)","v":""},"",{"$f":"IF(COUNTIF(B$2:B145,B145)=1,B145,\"\")","v":""},{"$nulls":15},{"$f":"+IF(X145=\"\",\"\",MAX(T$1:T144)+1)","v":""},{"$f":"IF('No CMS - Deviation - Limits'!B167=\"\",\"\",'No CMS - Deviation - Limits'!B167)","v":""},{"$f":"IF('No CMS - Deviation - Limits'!C167=\"\",\"\",'No CMS - Deviation - Limits'!C167)","v":""},"",{"$f":"IF(COUNTIF(V$2:V145,V145)=1,V145,\"\")","v":""},"","",{"$f":"+IFERROR(INDEX(#REF!,MATCH(ROW()-ROW($Y$1),T$2:T$955,0)),\"\")","v":""},null,{"$f":"+IF(AG145=\"\",\"\",MAX(AC$1:AC144)+1)","v":""},{"$f":"IF('Using CMS - Deviation - Limits'!B167=\"\",\"\",'Using CMS - Deviation - Limits'!B167)","v":""},{"$f":"IF('Using CMS - Deviation - Limits'!C167=\"\",\"\",'Using CMS - Deviation - Limits'!C167)","v":""},"",{"$f":"IF(COUNTIF(AF$2:AF145,AF145)=1,AF145,\"\")","v":""},"","",{"$f":"+IFERROR(INDEX(#REF!,MATCH(ROW()-ROW(AG$1),AC$2:AC$955,0)),\"\")","v":""},{"$nulls":3},{"$f":"+IF(AS145=\"\",\"\",MAX(AN$1:AN144)+1)","v":""},{"$f":"IF('Using CMS - Inop_OoC - CMS'!B167=\"\",\"\",'Using CMS - Inop_OoC - CMS'!B167)","v":""},{"$f":"IF('Using CMS - Inop_OoC - CMS'!C167=\"\",\"\",'Using CMS - Inop_OoC - CMS'!C167)","v":""},{"$f":"IF('Using CMS - Inop_OoC - CMS'!D167=\"\",\"\",'Using CMS - Inop_OoC - CMS'!D167)","v":""},{"$f":"AO145&AP145&Table10[[#This Row],[CMS]]","v":""},{"$f":"IF(COUNTIF(AR$2:AR145,AR145)=1,AR145,\"\")","v":""},"","","",null,{"$f":"+IF(BB145=\"\",\"\",MAX(AX$1:AX144)+1)","v":""},{"$f":"IF('Using CMS - Deviation - Limits'!B167=\"\",\"\",'Using CMS - Deviation - Limits'!B167)","v":""},{"$f":"IF('Using CMS - Deviation - Limits'!C167=\"\",\"\",'Using CMS - Deviation - Limits'!C167)","v":""},{"$f":"AY145&AZ145&Table10[[#This Row],[CMS]]","v":""},{"$f":"IF(COUNTIF(BA$2:BA145,BA145)=1,BA145,\"\")","v":""},"","",{"$f":"+IFERROR(INDEX(#REF!,MATCH(ROW()-ROW(BC$1),AX$2:AX$955,0)),\"\")","v":""}]
[{"$f":"+IF(D146=\"\",\"\",MAX(A$1:A145)+1)","v":""},{"$f":"IF('Process_&_CMS_Identification'!C168=\"\",\"\",'Process_&_CMS_Identification'!C168)","v":""},"",{"$f":"IF(COUNTIF(B$2:B146,B146)=1,B146,\"\")","v":""},{"$nulls":15},{"$f":"+IF(X146=\"\",\"\",MAX(T$1:T145)+1)","v":""},{"$f":"IF('No CMS - Deviation - Limits'!B168=\"\",\"\",'No CMS - Deviation - Limits'!B168)","v":""},{"$f":"IF('No CMS - Deviation - Limits'!C168=\"\",\"\",'No CMS - Deviation - Limits'!C168)","v":""},"",{"$f":"IF(COUNTIF(V$2:V146,V146)=1,V146,\"\")","v":""},"","",{"$f":"+IFERROR(INDEX(#REF!,MATCH(ROW()-ROW($Y$1),T$2:T$955,0)),\"\")","v":""},null,{"$f":"+IF(AG146=\"\",\"\",MAX(AC$1:AC145)+1)","v":""},{"$f":"IF('Using CMS - Deviation - Limits'!B168=\"\",\"\",'Using CMS - Deviation - Limits'!B168)","v":""},{"$f":"IF('Using CMS - Deviation - Limits'!C168=\"\",\"\",'Using CMS - Deviation - Limits'!C168)","v":""},"",{"$f":"IF(COUNTIF(AF$2:AF146,AF146)=1,AF146,\"\")","v":""},"","",{"$f":"+IFERROR(INDEX(#REF!,MATCH(ROW()-ROW(AG$1),AC$2:AC$955,0)),\"\")","v":""},{"$nulls":3},{"$f":"+IF(AS146=\"\",\"\",MAX(AN$1:AN145)+1)","v":""},{"$f":"IF('Using CMS - Inop_OoC - CMS'!B168=\"\",\"\",'Using CMS - Inop_OoC - CMS'!B168)","v":""},{"$f":"IF('Using CMS - Inop_OoC - CMS'!C168=\"\",\"\",'Using CMS - Inop_OoC - CMS'!C168)","v":""},{"$f":"IF('Using CMS - Inop_OoC - CMS'!D168=\"\",\"\",'Using CMS - Inop_OoC - CMS'!D168)","v":""},{"$f":"AO146&AP146&Table10[[#This Row],[CMS]]","v":""},{"$f":"IF(COUNTIF(AR$2:AR146,AR146)=1,AR146,\"\")","v":""},"","","",null,{"$f":"+IF(BB146=\"\",\"\",MAX(AX$1:AX145)+1)","v":""},{"$f":"IF('Using CMS - Deviation - Limits'!B168=\"\",\"\",'Using CMS - Deviation - Limits'!B168)","v":""},{"$f":"IF('Using CMS - Deviation - Limits'!C168=\"\",\"\",'Using CMS - Deviation - Limits'!C168)","v":""},{"$f":"AY146&AZ146&Table10[[#This Row],[CMS]]","v":""},{"$f":"IF(COUNTIF(BA$2:BA146,BA146)=1,BA146,\"\")","v":""},"","",{"$f":"+IFERROR(INDEX(#REF!,MATCH(ROW()-ROW(BC$1),AX$2:AX$955,0)),\"\")","v":""}]
[{"$f":"+IF(D147=\"\",\"\",MAX(A$1:A146)+1)","v":""},{"$f":"IF('Process_&_CMS_Identification'!C169=\"\",\"\",'Process_&_CMS_Identification'!C169)","v":""},"",{"$f":"IF(COUNTIF(B$2:B147,B147)=1,B147,\"\")","v":""},{"$nulls":15},{"$f":"+IF(X147=\"\",\"\",MAX(T$1:T146)+1)","v":""},{"$f":"IF('No CMS - Deviation - Limits'!B169=\"\",\"\",'No CMS - Deviation - Limits'!B169)","v":""},{"$f":"IF('No CMS - Deviation - Limits'!C169=\"\",\"\",'No CMS - Deviation - Limits'!C169)","v":""},"",{"$f":"IF(COUNTIF(V$2:V147,V147)=1,V147,\"\")","v":""},"","",{"$f":"+IFERROR(INDEX(#REF!,MATCH(ROW()-ROW($Y$1),T$2:T$955,0)),\"\")","v":""},null,{"$f":"+IF(AG147=\"\",\"\",MAX(AC$1:AC146)+1)","v":""},{"$f":"IF('Using CMS - Deviation - Limits'!B169=\"\",\"\",'Using CMS - Deviation - Limits'!B169)","v":""},{"$f":"IF('Using CMS - Deviation - Limits'!C169=\"\",\"\",'Using CMS - Deviation - Limits'!C169)","v":""},"",{"$f":"IF(COUNTIF(AF$2:AF147,AF147)=1,AF147,\"\")","v":""},"","",{"$f":"+IFERROR(INDEX(#REF!,MATCH(ROW()-ROW(AG$1),AC$2:AC$955,0)),\"\")","v":""},{"$nulls":3},{"$f":"+IF(AS147=\"\",\"\",MAX(AN$1:AN146)+1)","v":""},{"$f":"IF('Using CMS - Inop_OoC - CMS'!B169=\"\",\"\",'Using CMS - Inop_OoC - CMS'!B169)","v":""},{"$f":"IF('Using CMS - Inop_OoC - CMS'!C169=\"\",\"\",'Using CMS - Inop_OoC - CMS'!C169)","v":""},{"$f":"IF('Using CMS - Inop_OoC - CMS'!D169=\"\",\"\",'Using CMS - Inop_OoC - CMS'!D169)","v":""},{"$f":"AO147&AP147&Table10[[#This Row],[CMS]]","v":""},{"$f":"IF(COUNTIF(AR$2:AR147,AR147)=1,AR147,\"\")","v":""},"","","",null,{"$f":"+IF(BB147=\"\",\"\",MAX(AX$1:AX146)+1)","v":""},{"$f":"IF('Using CMS - Deviation - Limits'!B169=\"\",\"\",'Using CMS - Deviation - Limits'!B169)","v":""},{"$f":"IF('Using CMS - Deviation - Limits'!C169=\"\",\"\",'Using CMS - Deviation - Limits'!C169)","v":""},{"$f":"AY147&AZ147&Table10[[#This Row],[CMS]]","v":""},{"$f":"IF(COUNTIF(BA$2:BA147,BA147)=1,BA147,\"\")","v":""},"","",{"$f":"+IFERROR(INDEX(#REF!,MATCH(ROW()-ROW(BC$1),AX$2:AX$955,0)),\"\")","v":""}]
[{"$f":"+IF(D148=\"\",\"\",MAX(A$1:A147)+1)","v":""},{"$f":"IF('Process_&_CMS_Identification'!C170=\"\",\"\",'Process_&_CMS_Identification'!C170)","v":""},"",{"$f":"IF(COUNTIF(B$2:B148,B148)=1,B148,\"\")","v":""},{"$nulls":15},{"$f":"+IF(X148=\"\",\"\",MAX(T$1:T147)+1)","v":""},{"$f":"IF('No CMS - Deviation - Limits'!B170=\"\",\"\",'No CMS - Deviation - Limits'!B170)","v":""},{"$f":"IF('No CMS - Deviation - Limits'!C170=\"\",\"\",'No CMS - Deviation - Limits'!C170)","v":""},"",{"$f":"IF(COUNTIF(V$2:V148,V148)=1,V148,\"\")","v":""},"","",{"$f":"+IFERROR(INDEX(#REF!,MATCH(ROW()-ROW($Y$1),T$2:T$955,0)),\"\")","v":""},null,{"$f":"+IF(AG148=\"\",\"\",MAX(AC$1:AC147)+1)","v":""},{"$f":"IF('Using CMS - Deviation - Limits'!B170=\"\",\"\",'Using CMS - Deviation - Limits'!B170)","v":""},{"$f":"IF('Using CMS - Deviation - Limits'!C170=\"\",\"\",'Using CMS - Deviation - Limits'!C170)","v":""},"",{"$f":"IF(COUNTIF(AF$2:AF148,AF148)=1,AF148,\"\")","v":""},"","",{"$f":"+IFERROR(INDEX(#REF!,MATCH(ROW()-ROW(AG$1),AC$2:AC$955,0)),\"\")","v":""},{"$nulls":3},{"$f":"+IF(AS148=\"\",\"\",MAX(AN$1:AN147)+1)","v":""},{"$f":"IF('Using CMS - Inop_OoC - CMS'!B170=\"\",\"\",'Using CMS - Inop_OoC - CMS'!B170)","v":""},{"$f":"IF('Using CMS - Inop_OoC - CMS'!C170=\"\",\"\",'Using CMS - Inop_OoC - CMS'!C170)","v":""},{"$f":"IF('Using CMS - Inop_OoC - CMS'!D170=\"\",\"\",'Using CMS - Inop_OoC - CMS'!D170)","v":""},{"$f":"AO148&AP148&Table10[[#This Row],[CMS]]","v":""},{"$f":"IF(COUNTIF(AR$2:AR148,AR148)=1,AR148,\"\")","v":""},"","","",null,{"$f":"+IF(BB148=\"\",\"\",MAX(AX$1:AX147)+1)","v":""},{"$f":"IF('Using CMS - Deviation - Limits'!B170=\"\",\"\",'Using CMS - Deviation - Limits'!B170)","v":""},{"$f":"IF('Using CMS - Deviation - Limits'!C170=\"\",\"\",'Using CMS - Deviation - Limits'!C170)","v":""},{"$f":"AY148&AZ148&Table10[[#This Row],[CMS]]","v":""},{"$f":"IF(COUNTIF(BA$2:BA148,BA148)=1,BA148,\"\")","v":""},"","",{"$f":"+IFERROR(INDEX(#REF!,MATCH(ROW()-ROW(BC$1),AX$2:AX$955,0)),\"\")","v":""}]
[{"$f":"+IF(D149=\"\",\"\",MAX(A$1:A148)+1)","v":""},{"$f":"IF('Process_&_CMS_Identification'!C171=\"\",\"\",'Process_&_CMS_Identification'!C171)","v":""},"",{"$f":"IF(COUNTIF(B$2:B149,B149)=1,B149,\"\")","v":""},{"$nulls":15},{"$f":"+IF(X149=\"\",\"\",MAX(T$1:T148)+1)","v":""},{"$f":"IF('No CMS - Deviation - Limits'!B171=\"\",\"\",'No CMS - Deviation - Limits'!B171)","v":""},{"$f":"IF('No CMS - Deviation - Limits'!C171=\"\",\"\",'No CMS - Deviation - Limits'!C171)","v":""},"",{"$f":"IF(COUNTIF(V$2:V149,V149)=1,V149,\"\")","v":""},"","",{"$f":"+IFERROR(INDEX(#REF!,MATCH(ROW()-ROW($Y$1),T$2:T$955,0)),\"\")","v":""},null,{"$f":"+IF(AG149=\"\",\"\",MAX(AC$1:AC148)+1)","v":""},{"$f":"IF('Using CMS - Deviation - Limits'!B171=\"\",\"\",'Using CMS - Deviation - Limits'!B171)","v":""},{"$f":"IF('Using CMS - Deviation - Limits'!C171=\"\",\"\",'Using CMS - Deviation - Limits'!C171)","v":""},"",{"$f":"IF(COUNTIF(AF$2:AF149,AF149)=1,AF149,\"\")","v":""},"","",{"$f":"+IFERROR(INDEX(#REF!,MATCH(ROW()-ROW(AG$1),AC$2:AC$955,0)),\"\")","v":""},{"$nulls":3},{"$f":"+IF(AS149=\"\",\"\",MAX(AN$1:AN148)+1)","v":""},{"$f":"IF('Using CMS - Inop_OoC - CMS'!B171=\"\",\"\",'Using CMS - Inop_OoC - CMS'!B171)","v":""},{"$f":"IF('Using CMS - Inop_OoC - CMS'!C171=\"\",\"\",'Using CMS - Inop_OoC - CMS'!C171)","v":""},{"$f":"IF('Using CMS - Inop_OoC - CMS'!D171=\"\",\"\",'Using CMS - Inop_OoC - CMS'!D171)","v":""},{"$f":"AO149&AP149&Table10[[#This Row],[CMS]]","v":""},{"$f":"IF(COUNTIF(AR$2:AR149,AR149)=1,AR149,\"\")","v":""},"","","",null,{"$f":"+IF(BB149=\"\",\"\",MAX(AX$1:AX148)+1)","v":""},{"$f":"IF('Using CMS - Deviation - Limits'!B171=\"\",\"\",'Using CMS - Deviation - Limits'!B171)","v":""},{"$f":"IF('Using CMS - Deviation - Limits'!C171=\"\",\"\",'Using CMS - Deviation - Limits'!C171)","v":""},{"$f":"AY149&AZ149&Table10[[#This Row],[CMS]]","v":""},{"$f":"IF(COUNTIF(BA$2:BA149,BA149)=1,BA149,\"\")","v":""},"","",{"$f":"+IFERROR(INDEX(#REF!,MATCH(ROW()-ROW(BC$1),AX$2:AX$955,0)),\"\")","v":""}]
[{"$f":"+IF(D150=\"\",\"\",MAX(A$1:A149)+1)","v":""},{"$f":"IF('Process_&_CMS_Identification'!C172=\"\",\"\",'Process_&_CMS_Identification'!C172)","v":""},"",{"$f":"IF(COUNTIF(B$2:B150,B150)=1,B150,\"\")","v":""},{"$nulls":15},{"$f":"+IF(X150=\"\",\"\",MAX(T$1:T149)+1)","v":""},{"$f":"IF('No CMS - Deviation - Limits'!B172=\"\",\"\",'No CMS - Deviation - Limits'!B172)","v":""},{"$f":"IF('No CMS - Deviation - Limits'!C172=\"\",\"\",'No CMS - Deviation - Limits'!C172)","v":""},"",{"$f":"IF(COUNTIF(V$2:V150,V150)=1,V150,\"\")","v":""},"","",{"$f":"+IFERROR(INDEX(#REF!,MATCH(ROW()-ROW($Y$1),T$2:T$955,0)),\"\")","v":""},null,{"$f":"+IF(AG150=\"\",\"\",MAX(AC$1:AC149)+1)","v":""},{"$f":"IF('Using CMS - Deviation - Limits'!B172=\"\",\"\",'Using CMS - Deviation - Limits'!B172)","v":""},{"$f":"IF('Using CMS - Deviation - Limits'!C172=\"\",\"\",'Using CMS - Deviation - Limits'!C172)","v":""},"",{"$f":"IF(COUNTIF(AF$2:AF150,AF150)=1,AF150,\"\")","v":""},"","",{"$f":"+IFERROR(INDEX(#REF!,MATCH(ROW()-ROW(AG$1),AC$2:AC$955,0)),\"\")","v":""},{"$nulls":3},{"$f":"+IF(AS150=\"\",\"\",MAX(AN$1:AN149)+1)","v":""},{"$f":"IF('Using CMS - Inop_OoC - CMS'!B172=\"\",\"\",'Using CMS - Inop_OoC - CMS'!B172)","v":""},{"$f":"IF('Using CMS - Inop_OoC - CMS'!C172=\"\",\"\",'Using CMS - Inop_OoC - CMS'!C172)","v":""},{"$f":"IF('Using CMS - Inop_OoC - CMS'!D172=\"\",\"\",'Using CMS - Inop_OoC - CMS'!D172)","v":""},{"$f":"AO150&AP150&Table10[[#This Row],[CMS]]","v":""},{"$f":"IF(COUNTIF(AR$2:AR150,AR150)=1,AR150,\"\")","v":""},"","","",null,{"$f":"+IF(BB150=\"\",\"\",MAX(AX$1:AX149)+1)","v":""},{"$f":"IF('Using CMS - Deviation - Limits'!B172=\"\",\"\",'Using CMS - Deviation - Limits'!B172)","v":""},{"$f":"IF('Using CMS - Deviation - Limits'!C172=\"\",\"\",'Using CMS - Deviation - Limits'!C172)","v":""},{"$f":"AY150&AZ150&Table10[[#This Row],[CMS]]","v":""},{"$f":"IF(COUNTIF(BA$2:BA150,BA150)=1,BA150,\"\")","v":""},"","",{"$f":"+IFERROR(INDEX(#REF!,MATCH(ROW()-ROW(BC$1),AX$2:AX$955,0)),\"\")","v":""}]
[{"$f":"+IF(D151=\"\",\"\",MAX(A$1:A150)+1)","v":""},{"$f":"IF('Process_&_CMS_Identification'!C173=\"\",\"\",'Process_&_CMS_Identification'!C173)","v":""},"",{"$f":"IF(COUNTIF(B$2:B151,B151)=1,B151,\"\")","v":""},{"$nulls":15},{"$f":"+IF(X151=\"\",\"\",MAX(T$1:T150)+1)","v":""},{"$f":"IF('No CMS - Deviation - Limits'!B173=\"\",\"\",'No CMS - Deviation - Limits'!B173)","v":""},{"$f":"IF('No CMS - Deviation - Limits'!C173=\"\",\"\",'No CMS - Deviation - Limits'!C173)","v":""},"",{"$f":"IF(COUNTIF(V$2:V151,V151)=1,V151,\"\")","v":""},"","",{"$f":"+IFERROR(INDEX(#REF!,MATCH(ROW()-ROW($Y$1),T$2:T$955,0)),\"\")","v":""},null,{"$f":"+IF(AG151=\"\",\"\",MAX(AC$1:AC150)+1)","v":""},{"$f":"IF('Using CMS - Deviation - Limits'!B173=\"\",\"\",'Using CMS - Deviation - Limits'!B173)","v":""},{"$f":"IF('Using CMS - Deviation - Limits'!C173=\"\",\"\",'Using CMS - Deviation - Limits'!C173)","v":""},"",{"$f":"IF(COUNTIF(AF$2:AF151,AF151)=1,AF151,\"\")","v":""},"","",{"$f":"+IFERROR(INDEX(#REF!,MATCH(ROW()-ROW(AG$1),AC$2:AC$955,0)),\"\")","v":""},{"$nulls":3},{"$f":"+IF(AS151=\"\",\"\",MAX(AN$1:AN150)+1)","v":""},{"$f":"IF('Using CMS - Inop_OoC - CMS'!B173=\"\",\"\",'Using CMS - Inop_OoC - CMS'!B173)","v":""},{"$f":"IF('Using CMS - Inop_OoC - CMS'!C173=\"\",\"\",'Using CMS - Inop_OoC - CMS'!C173)","v":""},{"$f":"IF('Using CMS - Inop_OoC - CMS'!D173=\"\",\"\",'Using CMS - Inop_OoC - CMS'!D173)","v":""},{"$f":"AO151&AP151&Table10[[#This Row],[CMS]]","v":""},{"$f":"IF(COUNTIF(AR$2:AR151,AR151)=1,AR151,\"\")","v":""},"","","",null,{"$f":"+IF(BB151=\"\",\"\",MAX(AX$1:AX150)+1)","v":""},{"$f":"IF('Using CMS - Deviation - Limits'!B173=\"\",\"\",'Using CMS - Deviation - Limits'!B173)","v":""},{"$f":"IF('Using CMS - Deviation - Limits'!C173=\"\",\"\",'Using CMS - Deviation - Limits'!C173)","v":""},{"$f":"AY151&AZ151&Table10[[#This Row],[CMS]]","v":""},{"$f":"IF(COUNTIF(BA$2:BA151,BA151)=1,BA151,\"\")","v":""},"","",{"$f":"+IFERROR(INDEX(#REF!,MATCH(ROW()-ROW(BC$1),AX$2:AX$955,0)),\"\")","v":""}]
[{"$f":"+IF(D152=\"\",\"\",MAX(A$1:A151)+1)","v":""},{"$f":"IF('Process_&_CMS_Identification'!C174=\"\",\"\",'Process_&_CMS_Identification'!C174)","v":""},"",{"$f":"IF(COUNTIF(B$2:B152,B152)=1,B152,\"\")","v":""},{"$nulls":15},{"$f":"+IF(X152=\"\",\"\",MAX(T$1:T151)+1)","v":""},{"$f":"IF('No CMS - Deviation - Limits'!B174=\"\",\"\",'No CMS - Deviation - Limits'!B174)","v":""},{"$f":"IF('No CMS - Deviation - Limits'!C174=\"\",\"\",'No CMS - Deviation - Limits'!C174)","v":""},"",{"$f":"IF(COUNTIF(V$2:V152,V152)=1,V152,\"\")","v":""},"","",{"$f":"+IFERROR(INDEX(#REF!,MATCH(ROW()-ROW($Y$1),T$2:T$955,0)),\"\")","v":""},null,{"$f":"+IF(AG152=\"\",\"\",MAX(AC$1:AC151)+1)","v":""},{"$f":"IF('Using CMS - Deviation - Limits'!B174=\"\",\"\",'Using CMS - Deviation - Limits'!B174)","v":""},{"$f":"IF('Using CMS - Deviation - Limits'!C174=\"\",\"\",'Using CMS - Deviation - Limits'!C174)","v":""},"",{"$f":"IF(COUNTIF(AF$2:AF152,AF152)=1,AF152,\"\")","v":""},"","",{"$f":"+IFERROR(INDEX(#REF!,MATCH(ROW()-ROW(AG$1),AC$2:AC$955,0)),\"\")","v":""},{"$nulls":3},{"$f":"+IF(AS152=\"\",\"\",MAX(AN$1:AN151)+1)","v":""},{"$f":"IF('Using CMS - Inop_OoC - CMS'!B174=\"\",\"\",'Using CMS - Inop_OoC - CMS'!B174)","v":""},{"$f":"IF('Using CMS - Inop_OoC - CMS'!C174=\"\",\"\",'Using CMS - Inop_OoC - CMS'!C174)","v":""},{"$f":"IF('Using CMS - Inop_OoC - CMS'!D174=\"\",\"\",'Using CMS - Inop_OoC - CMS'!D174)","v":""},{"$f":"AO152&AP152&Table10[[#This Row],[CMS]]","v":""},{"$f":"IF(COUNTIF(AR$2:AR152,AR152)=1,AR152,\"\")","v":""},"","","",null,{"$f":"+IF(BB152=\"\",\"\",MAX(AX$1:AX151)+1)","v":""},{"$f":"IF('Using CMS - Deviation - Limits'!B174=\"\",\"\",'Using CMS - Deviation - Limits'!B174)","v":""},{"$f":"IF('Using CMS - Deviation - Limits'!C174=\"\",\"\",'Using CMS - Deviation - Limits'!C174)","v":""},{"$f":"AY152&AZ152&Table10[[#This Row],[CMS]]","v":""},{"$f":"IF(COUNTIF(BA$2:BA152,BA152)=1,BA152,\"\")","v":""},"","",{"$f":"+IFERROR(INDEX(#REF!,MATCH(ROW()-ROW(BC$1),AX$2:AX$955,0)),\"\")","v":""}]
[{"$f":"+IF(D153=\"\",\"\",MAX(A$1:A152)+1)","v":""},{"$f":"IF('Process_&_CMS_Identification'!C175=\"\",\"\",'Process_&_CMS_Identification'!C175)","v":""},"",{"$f":"IF(COUNTIF(B$2:B153,B153)=1,B153,\"\")","v":""},{"$nulls":15},{"$f":"+IF(X153=\"\",\"\",MAX(T$1:T152)+1)","v":""},{"$f":"IF('No CMS - Deviation - Limits'!B175=\"\",\"\",'No CMS - Deviation - Limits'!B175)","v":""},{"$f":"IF('No CMS - Deviation - Limits'!C175=\"\",\"\",'No CMS - Deviation - Limits'!C175)","v":""},"",{"$f":"IF(COUNTIF(V$2:V153,V153)=1,V153,\"\")","v":""},"","",{"$f":"+IFERROR(INDEX(#REF!,MATCH(ROW()-ROW($Y$1),T$2:T$955,0)),\"\")","v":""},null,{"$f":"+IF(AG153=\"\",\"\",MAX(AC$1:AC152)+1)","v":""},{"$f":"IF('Using CMS - Deviation - Limits'!B175=\"\",\"\",'Using CMS - Deviation - Limits'!B175)","v":""},{"$f":"IF('Using CMS - Deviation - Limits'!C175=\"\",\"\",'Using CMS - Deviation - Limits'!C175)","v":""},"",{"$f":"IF(COUNTIF(AF$2:AF153,AF153)=1,AF153,\"\")","v":""},"","",{"$f":"+IFERROR(INDEX(#REF!,MATCH(ROW()-ROW(AG$1),AC$2:AC$955,0)),\"\")","v":""},{"$nulls":3},{"$f":"+IF(AS153=\"\",\"\",MAX(AN$1:AN152)+1)","v":""},{"$f":"IF('Using CMS - Inop_OoC - CMS'!B175=\"\",\"\",'Using CMS - Inop_OoC - CMS'!B175)","v":""},{"$f":"IF('Using CMS - Inop_OoC - CMS'!C175=\"\",\"\",'Using CMS - Inop_OoC - CMS'!C175)","v":""},{"$f":"IF('Using CMS - Inop_OoC - CMS'!D175=\"\",\"\",'Using CMS - Inop_OoC - CMS'!D175)","v":""},{"$f":"AO153&AP153&Table10[[#This Row],[CMS]]","v":""},{"$f":"IF(COUNTIF(AR$2:AR153,AR153)=1,AR153,\"\")","v":""},"","","",null,{"$f":"+IF(BB153=\"\",\"\",MAX(AX$1:AX152)+1)","v":""},{"$f":"IF('Using CMS - Deviation - Limits'!B175=\"\",\"\",'Using CMS - Deviation - Limits'!B175)","v":""},{"$f":"IF('Using CMS - Deviation - Limits'!C175=\"\",\"\",'Using CMS - Deviation - Limits'!C175)","v":""},{"$f":"AY153&AZ153&Table10[[#This Row],[CMS]]","v":""},{"$f":"IF(COUNTIF(BA$2:BA153,BA153)=1,BA153,\"\")","v":""},"","",{"$f":"+IFERROR(INDEX(#REF!,MATCH(ROW()-ROW(BC$1),AX$2:AX$955,0)),\"\")","v":""}]
[{"$f":"+IF(D154=\"\",\"\",MAX(A$1:A153)+1)","v":""},{"$f":"IF('Process_&_CMS_Identification'!C176=\"\",\"\",'Process_&_CMS_Identification'!C176)","v":""},"",{"$f":"IF(COUNTIF(B$2:B154,B154)=1,B154,\"\")","v":""},{"$nulls":15},{"$f":"+IF(X154=\"\",\"\",MAX(T$1:T153)+1)","v":""},{"$f":"IF('No CMS - Deviation - Limits'!B176=\"\",\"\",'No CMS - Deviation - Limits'!B176)","v":""},{"$f":"IF('No CMS - Deviation - Limits'!C176=\"\",\"\",'No CMS - Deviation - Limits'!C176)","v":""},"",{"$f":"IF(COUNTIF(V$2:V154,V154)=1,V154,\"\")","v":""},"","",{"$f":"+IFERROR(INDEX(#REF!,MATCH(ROW()-ROW($Y$1),T$2:T$955,0)),\"\")","v":""},null,{"$f":"+IF(AG154=\"\",\"\",MAX(AC$1:AC153)+1)","v":""},{"$f":"IF('Using CMS - Deviation - Limits'!B176=\"\",\"\",'Using CMS - Deviation - Limits'!B176)","v":""},{"$f":"IF('Using CMS - Deviation - Limits'!C176=\"\",\"\",'Using CMS - Deviation - Limits'!C176)","v":""},"",{"$f":"IF(COUNTIF(AF$2:AF154,AF154)=1,AF154,\"\")","v":""},"","",{"$f":"+IFERROR(INDEX(#REF!,MATCH(ROW()-ROW(AG$1),AC$2:AC$955,0)),\"\")","v":""},{"$nulls":3},{"$f":"+IF(AS154=\"\",\"\",MAX(AN$1:AN153)+1)","v":""},{"$f":"IF('Using CMS - Inop_OoC - CMS'!B176=\"\",\"\",'Using CMS - Inop_OoC - CMS'!B176)","v":""},{"$f":"IF('Using CMS - Inop_OoC - CMS'!C176=\"\",\"\",'Using CMS - Inop_OoC - CMS'!C176)","v":""},{"$f":"IF('Using CMS - Inop_OoC - CMS'!D176=\"\",\"\",'Using CMS - Inop_OoC - CMS'!D176)","v":""},{"$f":"AO154&AP154&Table10[[#This Row],[CMS]]","v":""},{"$f":"IF(COUNTIF(AR$2:AR154,AR154)=1,AR154,\"\")","v":""},"","","",null,{"$f":"+IF(BB154=\"\",\"\",MAX(AX$1:AX153)+1)","v":""},{"$f":"IF('Using CMS - Deviation - Limits'!B176=\"\",\"\",'Using CMS - Deviation - Limits'!B176)","v":""},{"$f":"IF('Using CMS - Deviation - Limits'!C176=\"\",\"\",'Using CMS - Deviation - Limits'!C176)","v":""},{"$f":"AY154&AZ154&Table10[[#This Row],[CMS]]","v":""},{"$f":"IF(COUNTIF(BA$2:BA154,BA154)=1,BA154,\"\")","v":""},"","",{"$f":"+IFERROR(INDEX(#REF!,MATCH(ROW()-ROW(BC$1),AX$2:AX$955,0)),\"\")","v":""}]
[{"$f":"+IF(D155=\"\",\"\",MAX(A$1:A154)+1)","v":""},{"$f":"IF('Process_&_CMS_Identification'!C177=\"\",\"\",'Process_&_CMS_Identification'!C177)","v":""},"",{"$f":"IF(COUNTIF(B$2:B155,B155)=1,B155,\"\")","v":""},{"$nulls":15},{"$f":"+IF(X155=\"\",\"\",MAX(T$1:T154)+1)","v":""},{"$f":"IF('No CMS - Deviation - Limits'!B177=\"\",\"\",'No CMS - Deviation - Limits'!B177)","v":""},{"$f":"IF('No CMS - Deviation - Limits'!C177=\"\",\"\",'No CMS - Deviation - Limits'!C177)","v":""},"",{"$f":"IF(COUNTIF(V$2:V155,V155)=1,V155,\"\")","v":""},"","",{"$f":"+IFERROR(INDEX(#REF!,MATCH(ROW()-ROW($Y$1),T$2:T$955,0)),\"\")","v":""},null,{"$f":"+IF(AG155=\"\",\"\",MAX(AC$1:AC154)+1)","v":""},{"$f":"IF('Using CMS - Deviation - Limits'!B177=\"\",\"\",'Using CMS - Deviation - Limits'!B177)","v":""},{"$f":"IF('Using CMS - Deviation - Limits'!C177=\"\",\"\",'Using CMS - Deviation - Limits'!C177)","v":""},"",{"$f":"IF(COUNTIF(AF$2:AF155,AF155)=1,AF155,\"\")","v":""},"","",{"$f":"+IFERROR(INDEX(#REF!,MATCH(ROW()-ROW(AG$1),AC$2:AC$955,0)),\"\")","v":""},{"$nulls":3},{"$f":"+IF(AS155=\"\",\"\",MAX(AN$1:AN154)+1)","v":""},{"$f":"IF('Using CMS - Inop_OoC - CMS'!B177=\"\",\"\",'Using CMS - Inop_OoC - CMS'!B177)","v":""},{"$f":"IF('Using CMS - Inop_OoC - CMS'!C177=\"\",\"\",'Using CMS - Inop_OoC - CMS'!C177)","v":""},{"$f":"IF('Using CMS - Inop_OoC - CMS'!D177=\"\",\"\",'Using CMS - Inop_OoC - CMS'!D177)","v":""},{"$f":"AO155&AP155&Table10[[#This Row],[CMS]]","v":""},{"$f":"IF(COUNTIF(AR$2:AR155,AR155)=1,AR155,\"\")","v":""},"","","",null,{"$f":"+IF(BB155=\"\",\"\",MAX(AX$1:AX154)+1)","v":""},{"$f":"IF('Using CMS - Deviation - Limits'!B177=\"\",\"\",'Using CMS - Deviation - Limits'!B177)","v":""},{"$f":"IF('Using CMS - Deviation - Limits'!C177=\"\",\"\",'Using CMS - Deviation - Limits'!C177)","v":""},{"$f":"AY155&AZ155&Table10[[#This Row],[CMS]]","v":""},{"$f":"IF(COUNTIF(BA$2:BA155,BA155)=1,BA155,\"\")","v":""},"","",{"$f":"+IFERROR(INDEX(#REF!,MATCH(ROW()-ROW(BC$1),AX$2:AX$955,0)),\"\")","v":""}]
[{"$f":"+IF(D156=\"\",\"\",MAX(A$1:A155)+1)","v":""},{"$f":"IF('Process_&_CMS_Identification'!C178=\"\",\"\",'Process_&_CMS_Identification'!C178)","v":""},"",{"$f":"IF(COUNTIF(B$2:B156,B156)=1,B156,\"\")","v":""},{"$nulls":15},{"$f":"+IF(X156=\"\",\"\",MAX(T$1:T155)+1)","v":""},{"$f":"IF('No CMS - Deviation - Limits'!B178=\"\",\"\",'No CMS - Deviation - Limits'!B178)","v":""},{"$f":"IF('No CMS - Deviation - Limits'!C178=\"\",\"\",'No CMS - Deviation - Limits'!C178)","v":""},"",{"$f":"IF(COUNTIF(V$2:V156,V156)=1,V156,\"\")","v":""},"","",{"$f":"+IFERROR(INDEX(#REF!,MATCH(ROW()-ROW($Y$1),T$2:T$955,0)),\"\")","v":""},null,{"$f":"+IF(AG156=\"\",\"\",MAX(AC$1:AC155)+1)","v":""},{"$f":"IF('Using CMS - Deviation - Limits'!B178=\"\",\"\",'Using CMS - Deviation - Limits'!B178)","v":""},{"$f":"IF('Using CMS - Deviation - Limits'!C178=\"\",\"\",'Using CMS - Deviation - Limits'!C178)","v":""},"",{"$f":"IF(COUNTIF(AF$2:AF156,AF156)=1,AF156,\"\")","v":""},"","",{"$f":"+IFERROR(INDEX(#REF!,MATCH(ROW()-ROW(AG$1),AC$2:AC$955,0)),\"\")","v":""},{"$nulls":3},{"$f":"+IF(AS156=\"\",\"\",MAX(AN$1:AN155)+1)","v":""},{"$f":"IF('Using CMS - Inop_OoC - CMS'!B178=\"\",\"\",'Using CMS - Inop_OoC - CMS'!B178)","v":""},{"$f":"IF('Using CMS - Inop_OoC - CMS'!C178=\"\",\"\",'Using CMS - Inop_OoC - CMS'!C178)","v":""},{"$f":"IF('Using CMS - Inop_OoC - CMS'!D178=\"\",\"\",'Using CMS - Inop_OoC - CMS'!D178)","v":""},{"$f":"AO156&AP156&Table10[[#This Row],[CMS]]","v":""},{"$f":"IF(COUNTIF(AR$2:AR156,AR156)=1,AR156,\"\")","v":""},"","","",null,{"$f":"+IF(BB156=\"\",\"\",MAX(AX$1:AX155)+1)","v":""},{"$f":"IF('Using CMS - Deviation - Limits'!B178=\"\",\"\",'Using CMS - Deviation - Limits'!B178)","v":""},{"$f":"IF('Using CMS - Deviation - Limits'!C178=\"\",\"\",'Using CMS - Deviation - Limits'!C178)","v":""},{"$f":"AY156&AZ156&Table10[[#This Row],[CMS]]","v":""},{"$f":"IF(COUNTIF(BA$2:BA156,BA156)=1,BA156,\"\")","v":""},"","",{"$f":"+IFERROR(INDEX(#REF!,MATCH(ROW()-ROW(BC$1),AX$2:AX$955,0)),\"\")","v":""}]
[{"$f":"+IF(D157=\"\",\"\",MAX(A$1:A156)+1)","v":""},{"$f":"IF('Process_&_CMS_Identification'!C179=\"\",\"\",'Process_&_CMS_Identification'!C179)","v":""},"",{"$f":"IF(COUNTIF(B$2:B157,B157)=1,B157,\"\")","v":""},{"$nulls":15},{"$f":"+IF(X157=\"\",\"\",MAX(T$1:T156)+1)","v":""},{"$f":"IF('No CMS - Deviation - Limits'!B179=\"\",\"\",'No CMS - Deviation - Limits'!B179)","v":""},{"$f":"IF('No CMS - Deviation - Limits'!C179=\"\",\"\",'No CMS - Deviation - Limits'!C179)","v":""},"",{"$f":"IF(COUNTIF(V$2:V157,V157)=1,V157,\"\")","v":""},"","",{"$f":"+IFERROR(INDEX(#REF!,MATCH(ROW()-ROW($Y$1),T$2:T$955,0)),\"\")","v":""},null,{"$f":"+IF(AG157=\"\",\"\",MAX(AC$1:AC156)+1)","v":""},{"$f":"IF('Using CMS - Deviation - Limits'!B179=\"\",\"\",'Using CMS - Deviation - Limits'!B179)","v":""},{"$f":"IF('Using CMS - Deviation - Limits'!C179=\"\",\"\",'Using CMS - Deviation - Limits'!C179)","v":""},"",{"$f":"IF(COUNTIF(AF$2:AF157,AF157)=1,AF157,\"\")","v":""},"","",{"$f":"+IFERROR(INDEX(#REF!,MATCH(ROW()-ROW(AG$1),AC$2:AC$955,0)),\"\")","v":""},{"$nulls":3},{"$f":"+IF(AS157=\"\",\"\",MAX(AN$1:AN156)+1)","v":""},{"$f":"IF('Using CMS - Inop_OoC - CMS'!B179=\"\",\"\",'Using CMS - Inop_OoC - CMS'!B179)","v":""},{"$f":"IF('Using CMS - Inop_OoC - CMS'!C179=\"\",\"\",'Using CMS - Inop_OoC - CMS'!C179)","v":""},{"$f":"IF('Using CMS - Inop_OoC - CMS'!D179=\"\",\"\",'Using CMS - Inop_OoC - CMS'!D179)","v":""},{"$f":"AO157&AP157&Table10[[#This Row],[CMS]]","v":""},{"$f":"IF(COUNTIF(AR$2:AR157,AR157)=1,AR157,\"\")","v":""},"","","",null,{"$f":"+IF(BB157=\"\",\"\",MAX(AX$1:AX156)+1)","v":""},{"$f":"IF('Using CMS - Deviation - Limits'!B179=\"\",\"\",'Using CMS - Deviation - Limits'!B179)","v":""},{"$f":"IF('Using CMS - Deviation - Limits'!C179=\"\",\"\",'Using CMS - Deviation - Limits'!C179)","v":""},{"$f":"AY157&AZ157&Table10[[#This Row],[CMS]]","v":""},{"$f":"IF(COUNTIF(BA$2:BA157,BA157)=1,BA157,\"\")","v":""},"","",{"$f":"+IFERROR(INDEX(#REF!,MATCH(ROW()-ROW(BC$1),AX$2:AX$955,0)),\"\")","v":""}]
[{"$f":"+IF(D158=\"\",\"\",MAX(A$1:A157)+1)","v":""},{"$f":"IF('Process_&_CMS_Identification'!C180=\"\",\"\",'Process_&_CMS_Identification'!C180)","v":""},"",{"$f":"IF(COUNTIF(B$2:B158,B158)=1,B158,\"\")","v":""},{"$nulls":15},{"$f":"+IF(X158=\"\",\"\",MAX(T$1:T157)+1)","v":""},{"$f":"IF('No CMS - Deviation - Limits'!B180=\"\",\"\",'No CMS - Deviation - Limits'!B180)","v":""},{"$f":"IF('No CMS - Deviation - Limits'!C180=\"\",\"\",'No CMS - Deviation - Limits'!C180)","v":""},"",{"$f":"IF(COUNTIF(V$2:V158,V158)=1,V158,\"\")","v":""},"","",{"$f":"+IFERROR(INDEX(#REF!,MATCH(ROW()-ROW($Y$1),T$2:T$955,0)),\"\")","v":""},null,{"$f":"+IF(AG158=\"\",\"\",MAX(AC$1:AC157)+1)","v":""},{"$f":"IF('Using CMS - Deviation - Limits'!B180=\"\",\"\",'Using CMS - Deviation - Limits'!B180)","v":""},{"$f":"IF('Using CMS - Deviation - Limits'!C180=\"\",\"\",'Using CMS - Deviation - Limits'!C180)","v":""},"",{"$f":"IF(COUNTIF(AF$2:AF158,AF158)=1,AF158,\"\")","v":""},"","",{"$f":"+IFERROR(INDEX(#REF!,MATCH(ROW()-ROW(AG$1),AC$2:AC$955,0)),\"\")","v":""},{"$nulls":3},{"$f":"+IF(AS158=\"\",\"\",MAX(AN$1:AN157)+1)","v":""},{"$f":"IF('Using CMS - Inop_OoC - CMS'!B180=\"\",\"\",'Using CMS - Inop_OoC - CMS'!B180)","v":""},{"$f":"IF('Using CMS - Inop_OoC - CMS'!C180=\"\",\"\",'Using CMS - Inop_OoC - CMS'!C180)","v":""},{"$f":"IF('Using CMS - Inop_OoC - CMS'!D180=\"\",\"\",'Using CMS - Inop_OoC - CMS'!D180)","v":""},{"$f":"AO158&AP158&Table10[[#This Row],[CMS]]","v":""},{"$f":"IF(COUNTIF(AR$2:AR158,AR158)=1,AR158,\"\")","v":""},"","","",null,{"$f":"+IF(BB158=\"\",\"\",MAX(AX$1:AX157)+1)","v":""},{"$f":"IF('Using CMS - Deviation - Limits'!B180=\"\",\"\",'Using CMS - Deviation - Limits'!B180)","v":""},{"$f":"IF('Using CMS - Deviation - Limits'!C180=\"\",\"\",'Using CMS - Deviation - Limits'!C180)","v":""},{"$f":"AY158&AZ158&Table10[[#This Row],[CMS]]","v":""},{"$f":"IF(COUNTIF(BA$2:BA158,BA158)=1,BA158,\"\")","v":""},"","",{"$f":"+IFERROR(INDEX(#REF!,MATCH(ROW()-ROW(BC$1),AX$2:AX$955,0)),\"\")","v":""}]
[{"$f":"+IF(D159=\"\",\"\",MAX(A$1:A158)+1)","v":""},{"$f":"IF('Process_&_CMS_Identification'!C181=\"\",\"\",'Process_&_CMS_Identification'!C181)","v":""},"",{"$f":"IF(COUNTIF(B$2:B159,B159)=1,B159,\"\")","v":""},{"$nulls":15},{"$f":"+IF(X159=\"\",\"\",MAX(T$1:T158)+1)","v":""},{"$f":"IF('No CMS - Deviation - Limits'!B181=\"\",\"\",'No CMS - Deviation - Limits'!B181)","v":""},{"$f":"IF('No CMS - Deviation - Limits'!C181=\"\",\"\",'No CMS - Deviation - Limits'!C181)","v":""},"",{"$f":"IF(COUNTIF(V$2:V159,V159)=1,V159,\"\")","v":""},"","",{"$f":"+IFERROR(INDEX(#REF!,MATCH(ROW()-ROW($Y$1),T$2:T$955,0)),\"\")","v":""},null,{"$f":"+IF(AG159=\"\",\"\",MAX(AC$1:AC158)+1)","v":""},{"$f":"IF('Using CMS - Deviation - Limits'!B181=\"\",\"\",'Using CMS - Deviation - Limits'!B181)","v":""},{"$f":"IF('Using CMS - Deviation - Limits'!C181=\"\",\"\",'Using CMS - Deviation - Limits'!C181)","v":""},"",{"$f":"IF(COUNTIF(AF$2:AF159,AF159)=1,AF159,\"\")","v":""},"","",{"$f":"+IFERROR(INDEX(#REF!,MATCH(ROW()-ROW(AG$1),AC$2:AC$955,0)),\"\")","v":""},{"$nulls":3},{"$f":"+IF(AS159=\"\",\"\",MAX(AN$1:AN158)+1)","v":""},{"$f":"IF('Using CMS - Inop_OoC - CMS'!B181=\"\",\"\",'Using CMS - Inop_OoC - CMS'!B181)","v":""},{"$f":"IF('Using CMS - Inop_OoC - CMS'!C181=\"\",\"\",'Using CMS - Inop_OoC - CMS'!C181)","v":""},{"$f":"IF('Using CMS - Inop_OoC - CMS'!D181=\"\",\"\",'Using CMS - Inop_OoC - CMS'!D181)","v":""},{"$f":"AO159&AP159&Table10[[#This Row],[CMS]]","v":""},{"$f":"IF(COUNTIF(AR$2:AR159,AR159)=1,AR159,\"\")","v":""},"","","",null,{"$f":"+IF(BB159=\"\",\"\",MAX(AX$1:AX158)+1)","v":""},{"$f":"IF('Using CMS - Deviation - Limits'!B181=\"\",\"\",'Using CMS - Deviation - Limits'!B181)","v":""},{"$f":"IF('Using CMS - Deviation - Limits'!C181=\"\",\"\",'Using CMS - Deviation - Limits'!C181)","v":""},{"$f":"AY159&AZ159&Table10[[#This Row],[CMS]]","v":""},{"$f":"IF(COUNTIF(BA$2:BA159,BA159)=1,BA159,\"\")","v":""},"","",{"$f":"+IFERROR(INDEX(#REF!,MATCH(ROW()-ROW(BC$1),AX$2:AX$955,0)),\"\")","v":""}]
[{"$f":"+IF(D160=\"\",\"\",MAX(A$1:A159)+1)","v":""},{"$f":"IF('Process_&_CMS_Identification'!C182=\"\",\"\",'Process_&_CMS_Identification'!C182)","v":""},"",{"$f":"IF(COUNTIF(B$2:B160,B160)=1,B160,\"\")","v":""},{"$nulls":15},{"$f":"+IF(X160=\"\",\"\",MAX(T$1:T159)+1)","v":""},{"$f":"IF('No CMS - Deviation - Limits'!B182=\"\",\"\",'No CMS - Deviation - Limits'!B182)","v":""},{"$f":"IF('No CMS - Deviation - Limits'!C182=\"\",\"\",'No CMS - Deviation - Limits'!C182)","v":""},"",{"$f":"IF(COUNTIF(V$2:V160,V160)=1,V160,\"\")","v":""},"","",{"$f":"+IFERROR(INDEX(#REF!,MATCH(ROW()-ROW($Y$1),T$2:T$955,0)),\"\")","v":""},null,{"$f":"+IF(AG160=\"\",\"\",MAX(AC$1:AC159)+1)","v":""},{"$f":"IF('Using CMS - Deviation - Limits'!B182=\"\",\"\",'Using CMS - Deviation - Limits'!B182)","v":""},{"$f":"IF('Using CMS - Deviation - Limits'!C182=\"\",\"\",'Using CMS - Deviation - Limits'!C182)","v":""},"",{"$f":"IF(COUNTIF(AF$2:AF160,AF160)=1,AF160,\"\")","v":""},"","",{"$f":"+IFERROR(INDEX(#REF!,MATCH(ROW()-ROW(AG$1),AC$2:AC$955,0)),\"\")","v":""},{"$nulls":3},{"$f":"+IF(AS160=\"\",\"\",MAX(AN$1:AN159)+1)","v":""},{"$f":"IF('Using CMS - Inop_OoC - CMS'!B182=\"\",\"\",'Using CMS - Inop_OoC - CMS'!B182)","v":""},{"$f":"IF('Using CMS - Inop_OoC - CMS'!C182=\"\",\"\",'Using CMS - Inop_OoC - CMS'!C182)","v":""},{"$f":"IF('Using CMS - Inop_OoC - CMS'!D182=\"\",\"\",'Using CMS - Inop_OoC - CMS'!D182)","v":""},{"$f":"AO160&AP160&Table10[[#This Row],[CMS]]","v":""},{"$f":"IF(COUNTIF(AR$2:AR160,AR160)=1,AR160,\"\")","v":""},"","","",null,{"$f":"+IF(BB160=\"\",\"\",MAX(AX$1:AX159)+1)","v":""},{"$f":"IF('Using CMS - Deviation - Limits'!B182=\"\",\"\",'Using CMS - Deviation - Limits'!B182)","v":""},{"$f":"IF('Using CMS - Deviation - Limits'!C182=\"\",\"\",'Using CMS - Deviation - Limits'!C182)","v":""},{"$f":"AY160&AZ160&Table10[[#This Row],[CMS]]","v":""},{"$f":"IF(COUNTIF(BA$2:BA160,BA160)=1,BA160,\"\")","v":""},"","",{"$f":"+IFERROR(INDEX(#REF!,MATCH(ROW()-ROW(BC$1),AX$2:AX$955,0)),\"\")","v":""}]
[{"$f":"+IF(D161=\"\",\"\",MAX(A$1:A160)+1)","v":""},{"$f":"IF('Process_&_CMS_Identification'!C183=\"\",\"\",'Process_&_CMS_Identification'!C183)","v":""},"",{"$f":"IF(COUNTIF(B$2:B161,B161)=1,B161,\"\")","v":""},{"$nulls":15},{"$f":"+IF(X161=\"\",\"\",MAX(T$1:T160)+1)","v":""},{"$f":"IF('No CMS - Deviation - Limits'!B183=\"\",\"\",'No CMS - Deviation - Limits'!B183)","v":""},{"$f":"IF('No CMS - Deviation - Limits'!C183=\"\",\"\",'No CMS - Deviation - Limits'!C183)","v":""},"",{"$f":"IF(COUNTIF(V$2:V161,V161)=1,V161,\"\")","v":""},"","",{"$f":"+IFERROR(INDEX(#REF!,MATCH(ROW()-ROW($Y$1),T$2:T$955,0)),\"\")","v":""},null,{"$f":"+IF(AG161=\"\",\"\",MAX(AC$1:AC160)+1)","v":""},{"$f":"IF('Using CMS - Deviation - Limits'!B183=\"\",\"\",'Using CMS - Deviation - Limits'!B183)","v":""},{"$f":"IF('Using CMS - Deviation - Limits'!C183=\"\",\"\",'Using CMS - Deviation - Limits'!C183)","v":""},"",{"$f":"IF(COUNTIF(AF$2:AF161,AF161)=1,AF161,\"\")","v":""},"","",{"$f":"+IFERROR(INDEX(#REF!,MATCH(ROW()-ROW(AG$1),AC$2:AC$955,0)),\"\")","v":""},{"$nulls":3},{"$f":"+IF(AS161=\"\",\"\",MAX(AN$1:AN160)+1)","v":""},{"$f":"IF('Using CMS - Inop_OoC - CMS'!B183=\"\",\"\",'Using CMS - Inop_OoC - CMS'!B183)","v":""},{"$f":"IF('Using CMS - Inop_OoC - CMS'!C183=\"\",\"\",'Using CMS - Inop_OoC - CMS'!C183)","v":""},{"$f":"IF('Using CMS - Inop_OoC - CMS'!D183=\"\",\"\",'Using CMS - Inop_OoC - CMS'!D183)","v":""},{"$f":"AO161&AP161&Table10[[#This Row],[CMS]]","v":""},{"$f":"IF(COUNTIF(AR$2:AR161,AR161)=1,AR161,\"\")","v":""},"","","",null,{"$f":"+IF(BB161=\"\",\"\",MAX(AX$1:AX160)+1)","v":""},{"$f":"IF('Using CMS - Deviation - Limits'!B183=\"\",\"\",'Using CMS - Deviation - Limits'!B183)","v":""},{"$f":"IF('Using CMS - Deviation - Limits'!C183=\"\",\"\",'Using CMS - Deviation - Limits'!C183)","v":""},{"$f":"AY161&AZ161&Table10[[#This Row],[CMS]]","v":""},{"$f":"IF(COUNTIF(BA$2:BA161,BA161)=1,BA161,\"\")","v":""},"","",{"$f":"+IFERROR(INDEX(#REF!,MATCH(ROW()-ROW(BC$1),AX$2:AX$955,0)),\"\")","v":""}]
[{"$f":"+IF(D162=\"\",\"\",MAX(A$1:A161)+1)","v":""},{"$f":"IF('Process_&_CMS_Identification'!C184=\"\",\"\",'Process_&_CMS_Identification'!C184)","v":""},"",{"$f":"IF(COUNTIF(B$2:B162,B162)=1,B162,\"\")","v":""},{"$nulls":15},{"$f":"+IF(X162=\"\",\"\",MAX(T$1:T161)+1)","v":""},{"$f":"IF('No CMS - Deviation - Limits'!B184=\"\",\"\",'No CMS - Deviation - Limits'!B184)","v":""},{"$f":"IF('No CMS - Deviation - Limits'!C184=\"\",\"\",'No CMS - Deviation - Limits'!C184)","v":""},"",{"$f":"IF(COUNTIF(V$2:V162,V162)=1,V162,\"\")","v":""},"","",{"$f":"+IFERROR(INDEX(#REF!,MATCH(ROW()-ROW($Y$1),T$2:T$955,0)),\"\")","v":""},null,{"$f":"+IF(AG162=\"\",\"\",MAX(AC$1:AC161)+1)","v":""},{"$f":"IF('Using CMS - Deviation - Limits'!B184=\"\",\"\",'Using CMS - Deviation - Limits'!B184)","v":""},{"$f":"IF('Using CMS - Deviation - Limits'!C184=\"\",\"\",'Using CMS - Deviation - Limits'!C184)","v":""},"",{"$f":"IF(COUNTIF(AF$2:AF162,AF162)=1,AF162,\"\")","v":""},"","",{"$f":"+IFERROR(INDEX(#REF!,MATCH(ROW()-ROW(AG$1),AC$2:AC$955,0)),\"\")","v":""},{"$nulls":3},{"$f":"+IF(AS162=\"\",\"\",MAX(AN$1:AN161)+1)","v":""},{"$f":"IF('Using CMS - Inop_OoC - CMS'!B184=\"\",\"\",'Using CMS - Inop_OoC - CMS'!B184)","v":""},{"$f":"IF('Using CMS - Inop_OoC - CMS'!C184=\"\",\"\",'Using CMS - Inop_OoC - CMS'!C184)","v":""},{"$f":"IF('Using CMS - Inop_OoC - CMS'!D184=\"\",\"\",'Using CMS - Inop_OoC - CMS'!D184)","v":""},{"$f":"AO162&AP162&Table10[[#This Row],[CMS]]","v":""},{"$f":"IF(COUNTIF(AR$2:AR162,AR162)=1,AR162,\"\")","v":""},"","","",null,{"$f":"+IF(BB162=\"\",\"\",MAX(AX$1:AX161)+1)","v":""},{"$f":"IF('Using CMS - Deviation - Limits'!B184=\"\",\"\",'Using CMS - Deviation - Limits'!B184)","v":""},{"$f":"IF('Using CMS - Deviation - Limits'!C184=\"\",\"\",'Using CMS - Deviation - Limits'!C184)","v":""},{"$f":"AY162&AZ162&Table10[[#This Row],[CMS]]","v":""},{"$f":"IF(COUNTIF(BA$2:BA162,BA162)=1,BA162,\"\")","v":""},"","",{"$f":"+IFERROR(INDEX(#REF!,MATCH(ROW()-ROW(BC$1),AX$2:AX$955,0)),\"\")","v":""}]
[{"$f":"+IF(D163=\"\",\"\",MAX(A$1:A162)+1)","v":""},{"$f":"IF('Process_&_CMS_Identification'!C185=\"\",\"\",'Process_&_CMS_Identification'!C185)","v":""},"",{"$f":"IF(COUNTIF(B$2:B163,B163)=1,B163,\"\")","v":""},{"$nulls":15},{"$f":"+IF(X163=\"\",\"\",MAX(T$1:T162)+1)","v":""},{"$f":"IF('No CMS - Deviation - Limits'!B185=\"\",\"\",'No CMS - Deviation - Limits'!B185)","v":""},{"$f":"IF('No CMS - Deviation - Limits'!C185=\"\",\"\",'No CMS - Deviation - Limits'!C185)","v":""},"",{"$f":"IF(COUNTIF(V$2:V163,V163)=1,V163,\"\")","v":""},"","",{"$f":"+IFERROR(INDEX(#REF!,MATCH(ROW()-ROW($Y$1),T$2:T$955,0)),\"\")","v":""},null,{"$f":"+IF(AG163=\"\",\"\",MAX(AC$1:AC162)+1)","v":""},{"$f":"IF('Using CMS - Deviation - Limits'!B185=\"\",\"\",'Using CMS - Deviation - Limits'!B185)","v":""},{"$f":"IF('Using CMS - Deviation - Limits'!C185=\"\",\"\",'Using CMS - Deviation - Limits'!C185)","v":""},"",{"$f":"IF(COUNTIF(AF$2:AF163,AF163)=1,AF163,\"\")","v":""},"","",{"$f":"+IFERROR(INDEX(#REF!,MATCH(ROW()-ROW(AG$1),AC$2:AC$955,0)),\"\")","v":""},{"$nulls":3},{"$f":"+IF(AS163=\"\",\"\",MAX(AN$1:AN162)+1)","v":""},{"$f":"IF('Using CMS - Inop_OoC - CMS'!B185=\"\",\"\",'Using CMS - Inop_OoC - CMS'!B185)","v":""},{"$f":"IF('Using CMS - Inop_OoC - CMS'!C185=\"\",\"\",'Using CMS - Inop_OoC - CMS'!C185)","v":""},{"$f":"IF('Using CMS - Inop_OoC - CMS'!D185=\"\",\"\",'Using CMS - Inop_OoC - CMS'!D185)","v":""},{"$f":"AO163&AP163&Table10[[#This Row],[CMS]]","v":""},{"$f":"IF(COUNTIF(AR$2:AR163,AR163)=1,AR163,\"\")","v":""},"","","",null,{"$f":"+IF(BB163=\"\",\"\",MAX(AX$1:AX162)+1)","v":""},{"$f":"IF('Using CMS - Deviation - Limits'!B185=\"\",\"\",'Using CMS - Deviation - Limits'!B185)","v":""},{"$f":"IF('Using CMS - Deviation - Limits'!C185=\"\",\"\",'Using CMS - Deviation - Limits'!C185)","v":""},{"$f":"AY163&AZ163&Table10[[#This Row],[CMS]]","v":""},{"$f":"IF(COUNTIF(BA$2:BA163,BA163)=1,BA163,\"\")","v":""},"","",{"$f":"+IFERROR(INDEX(#REF!,MATCH(ROW()-ROW(BC$1),AX$2:AX$955,0)),\"\")","v":""}]
[{"$f":"+IF(D164=\"\",\"\",MAX(A$1:A163)+1)","v":""},{"$f":"IF('Process_&_CMS_Identification'!C186=\"\",\"\",'Process_&_CMS_Identification'!C186)","v":""},"",{"$f":"IF(COUNTIF(B$2:B164,B164)=1,B164,\"\")","v":""},{"$nulls":15},{"$f":"+IF(X164=\"\",\"\",MAX(T$1:T163)+1)","v":""},{"$f":"IF('No CMS - Deviation - Limits'!B186=\"\",\"\",'No CMS - Deviation - Limits'!B186)","v":""},{"$f":"IF('No CMS - Deviation - Limits'!C186=\"\",\"\",'No CMS - Deviation - Limits'!C186)","v":""},"",{"$f":"IF(COUNTIF(V$2:V164,V164)=1,V164,\"\")","v":""},"","",{"$f":"+IFERROR(INDEX(#REF!,MATCH(ROW()-ROW($Y$1),T$2:T$955,0)),\"\")","v":""},null,{"$f":"+IF(AG164=\"\",\"\",MAX(AC$1:AC163)+1)","v":""},{"$f":"IF('Using CMS - Deviation - Limits'!B186=\"\",\"\",'Using CMS - Deviation - Limits'!B186)","v":""},{"$f":"IF('Using CMS - Deviation - Limits'!C186=\"\",\"\",'Using CMS - Deviation - Limits'!C186)","v":""},"",{"$f":"IF(COUNTIF(AF$2:AF164,AF164)=1,AF164,\"\")","v":""},"","",{"$f":"+IFERROR(INDEX(#REF!,MATCH(ROW()-ROW(AG$1),AC$2:AC$955,0)),\"\")","v":""},{"$nulls":3},{"$f":"+IF(AS164=\"\",\"\",MAX(AN$1:AN163)+1)","v":""},{"$f":"IF('Using CMS - Inop_OoC - CMS'!B186=\"\",\"\",'Using CMS - Inop_OoC - CMS'!B186)","v":""},{"$f":"IF('Using CMS - Inop_OoC - CMS'!C186=\"\",\"\",'Using CMS - Inop_OoC - CMS'!C186)","v":""},{"$f":"IF('Using CMS - Inop_OoC - CMS'!D186=\"\",\"\",'Using CMS - Inop_OoC - CMS'!D186)","v":""},{"$f":"AO164&AP164&Table10[[#This Row],[CMS]]","v":""},{"$f":"IF(COUNTIF(AR$2:AR164,AR164)=1,AR164,\"\")","v":""},"","","",null,{"$f":"+IF(BB164=\"\",\"\",MAX(AX$1:AX163)+1)","v":""},{"$f":"IF('Using CMS - Deviation - Limits'!B186=\"\",\"\",'Using CMS - Deviation - Limits'!B186)","v":""},{"$f":"IF('Using CMS - Deviation - Limits'!C186=\"\",\"\",'Using CMS - Deviation - Limits'!C186)","v":""},{"$f":"AY164&AZ164&Table10[[#This Row],[CMS]]","v":""},{"$f":"IF(COUNTIF(BA$2:BA164,BA164)=1,BA164,\"\")","v":""},"","",{"$f":"+IFERROR(INDEX(#REF!,MATCH(ROW()-ROW(BC$1),AX$2:AX$955,0)),\"\")","v":""}]
[{"$f":"+IF(D165=\"\",\"\",MAX(A$1:A164)+1)","v":""},{"$f":"IF('Process_&_CMS_Identification'!C187=\"\",\"\",'Process_&_CMS_Identification'!C187)","v":""},"",{"$f":"IF(COUNTIF(B$2:B165,B165)=1,B165,\"\")","v":""},{"$nulls":15},{"$f":"+IF(X165=\"\",\"\",MAX(T$1:T164)+1)","v":""},{"$f":"IF('No CMS - Deviation - Limits'!B187=\"\",\"\",'No CMS - Deviation - Limits'!B187)","v":""},{"$f":"IF('No CMS - Deviation - Limits'!C187=\"\",\"\",'No CMS - Deviation - Limits'!C187)","v":""},"",{"$f":"IF(COUNTIF(V$2:V165,V165)=1,V165,\"\")","v":""},"","",{"$f":"+IFERROR(INDEX(#REF!,MATCH(ROW()-ROW($Y$1),T$2:T$955,0)),\"\")","v":""},null,{"$f":"+IF(AG165=\"\",\"\",MAX(AC$1:AC164)+1)","v":""},{"$f":"IF('Using CMS - Deviation - Limits'!B187=\"\",\"\",'Using CMS - Deviation - Limits'!B187)","v":""},{"$f":"IF('Using CMS - Deviation - Limits'!C187=\"\",\"\",'Using CMS - Deviation - Limits'!C187)","v":""},"",{"$f":"IF(COUNTIF(AF$2:AF165,AF165)=1,AF165,\"\")","v":""},"","",{"$f":"+IFERROR(INDEX(#REF!,MATCH(ROW()-ROW(AG$1),AC$2:AC$955,0)),\"\")","v":""},{"$nulls":3},{"$f":"+IF(AS165=\"\",\"\",MAX(AN$1:AN164)+1)","v":""},{"$f":"IF('Using CMS - Inop_OoC - CMS'!B187=\"\",\"\",'Using CMS - Inop_OoC - CMS'!B187)","v":""},{"$f":"IF('Using CMS - Inop_OoC - CMS'!C187=\"\",\"\",'Using CMS - Inop_OoC - CMS'!C187)","v":""},{"$f":"IF('Using CMS - Inop_OoC - CMS'!D187=\"\",\"\",'Using CMS - Inop_OoC - CMS'!D187)","v":""},{"$f":"AO165&AP165&Table10[[#This Row],[CMS]]","v":""},{"$f":"IF(COUNTIF(AR$2:AR165,AR165)=1,AR165,\"\")","v":""},"","","",null,{"$f":"+IF(BB165=\"\",\"\",MAX(AX$1:AX164)+1)","v":""},{"$f":"IF('Using CMS - Deviation - Limits'!B187=\"\",\"\",'Using CMS - Deviation - Limits'!B187)","v":""},{"$f":"IF('Using CMS - Deviation - Limits'!C187=\"\",\"\",'Using CMS - Deviation - Limits'!C187)","v":""},{"$f":"AY165&AZ165&Table10[[#This Row],[CMS]]","v":""},{"$f":"IF(COUNTIF(BA$2:BA165,BA165)=1,BA165,\"\")","v":""},"","",{"$f":"+IFERROR(INDEX(#REF!,MATCH(ROW()-ROW(BC$1),AX$2:AX$955,0)),\"\")","v":""}]
[{"$f":"+IF(D166=\"\",\"\",MAX(A$1:A165)+1)","v":""},{"$f":"IF('Process_&_CMS_Identification'!C188=\"\",\"\",'Process_&_CMS_Identification'!C188)","v":""},"",{"$f":"IF(COUNTIF(B$2:B166,B166)=1,B166,\"\")","v":""},{"$nulls":15},{"$f":"+IF(X166=\"\",\"\",MAX(T$1:T165)+1)","v":""},{"$f":"IF('No CMS - Deviation - Limits'!B188=\"\",\"\",'No CMS - Deviation - Limits'!B188)","v":""},{"$f":"IF('No CMS - Deviation - Limits'!C188=\"\",\"\",'No CMS - Deviation - Limits'!C188)","v":""},"",{"$f":"IF(COUNTIF(V$2:V166,V166)=1,V166,\"\")","v":""},"","",{"$f":"+IFERROR(INDEX(#REF!,MATCH(ROW()-ROW($Y$1),T$2:T$955,0)),\"\")","v":""},null,{"$f":"+IF(AG166=\"\",\"\",MAX(AC$1:AC165)+1)","v":""},{"$f":"IF('Using CMS - Deviation - Limits'!B188=\"\",\"\",'Using CMS - Deviation - Limits'!B188)","v":""},{"$f":"IF('Using CMS - Deviation - Limits'!C188=\"\",\"\",'Using CMS - Deviation - Limits'!C188)","v":""},"",{"$f":"IF(COUNTIF(AF$2:AF166,AF166)=1,AF166,\"\")","v":""},"","",{"$f":"+IFERROR(INDEX(#REF!,MATCH(ROW()-ROW(AG$1),AC$2:AC$955,0)),\"\")","v":""},{"$nulls":3},{"$f":"+IF(AS166=\"\",\"\",MAX(AN$1:AN165)+1)","v":""},{"$f":"IF('Using CMS - Inop_OoC - CMS'!B188=\"\",\"\",'Using CMS - Inop_OoC - CMS'!B188)","v":""},{"$f":"IF('Using CMS - Inop_OoC - CMS'!C188=\"\",\"\",'Using CMS - Inop_OoC - CMS'!C188)","v":""},{"$f":"IF('Using CMS - Inop_OoC - CMS'!D188=\"\",\"\",'Using CMS - Inop_OoC - CMS'!D188)","v":""},{"$f":"AO166&AP166&Table10[[#This Row],[CMS]]","v":""},{"$f":"IF(COUNTIF(AR$2:AR166,AR166)=1,AR166,\"\")","v":""},"","","",null,{"$f":"+IF(BB166=\"\",\"\",MAX(AX$1:AX165)+1)","v":""},{"$f":"IF('Using CMS - Deviation - Limits'!B188=\"\",\"\",'Using CMS - Deviation - Limits'!B188)","v":""},{"$f":"IF('Using CMS - Deviation - Limits'!C188=\"\",\"\",'Using CMS - Deviation - Limits'!C188)","v":""},{"$f":"AY166&AZ166&Table10[[#This Row],[CMS]]","v":""},{"$f":"IF(COUNTIF(BA$2:BA166,BA166)=1,BA166,\"\")","v":""},"","",{"$f":"+IFERROR(INDEX(#REF!,MATCH(ROW()-ROW(BC$1),AX$2:AX$955,0)),\"\")","v":""}]
[{"$f":"+IF(D167=\"\",\"\",MAX(A$1:A166)+1)","v":""},{"$f":"IF('Process_&_CMS_Identification'!C189=\"\",\"\",'Process_&_CMS_Identification'!C189)","v":""},"",{"$f":"IF(COUNTIF(B$2:B167,B167)=1,B167,\"\")","v":""},{"$nulls":15},{"$f":"+IF(X167=\"\",\"\",MAX(T$1:T166)+1)","v":""},{"$f":"IF('No CMS - Deviation - Limits'!B189=\"\",\"\",'No CMS - Deviation - Limits'!B189)","v":""},{"$f":"IF('No CMS - Deviation - Limits'!C189=\"\",\"\",'No CMS - Deviation - Limits'!C189)","v":""},"",{"$f":"IF(COUNTIF(V$2:V167,V167)=1,V167,\"\")","v":""},"","",{"$f":"+IFERROR(INDEX(#REF!,MATCH(ROW()-ROW($Y$1),T$2:T$955,0)),\"\")","v":""},null,{"$f":"+IF(AG167=\"\",\"\",MAX(AC$1:AC166)+1)","v":""},{"$f":"IF('Using CMS - Deviation - Limits'!B189=\"\",\"\",'Using CMS - Deviation - Limits'!B189)","v":""},{"$f":"IF('Using CMS - Deviation - Limits'!C189=\"\",\"\",'Using CMS - Deviation - Limits'!C189)","v":""},"",{"$f":"IF(COUNTIF(AF$2:AF167,AF167)=1,AF167,\"\")","v":""},"","",{"$f":"+IFERROR(INDEX(#REF!,MATCH(ROW()-ROW(AG$1),AC$2:AC$955,0)),\"\")","v":""},{"$nulls":3},{"$f":"+IF(AS167=\"\",\"\",MAX(AN$1:AN166)+1)","v":""},{"$f":"IF('Using CMS - Inop_OoC - CMS'!B189=\"\",\"\",'Using CMS - Inop_OoC - CMS'!B189)","v":""},{"$f":"IF('Using CMS - Inop_OoC - CMS'!C189=\"\",\"\",'Using CMS - Inop_OoC - CMS'!C189)","v":""},{"$f":"IF('Using CMS - Inop_OoC - CMS'!D189=\"\",\"\",'Using CMS - Inop_OoC - CMS'!D189)","v":""},{"$f":"AO167&AP167&Table10[[#This Row],[CMS]]","v":""},{"$f":"IF(COUNTIF(AR$2:AR167,AR167)=1,AR167,\"\")","v":""},"","","",null,{"$f":"+IF(BB167=\"\",\"\",MAX(AX$1:AX166)+1)","v":""},{"$f":"IF('Using CMS - Deviation - Limits'!B189=\"\",\"\",'Using CMS - Deviation - Limits'!B189)","v":""},{"$f":"IF('Using CMS - Deviation - Limits'!C189=\"\",\"\",'Using CMS - Deviation - Limits'!C189)","v":""},{"$f":"AY167&AZ167&Table10[[#This Row],[CMS]]","v":""},{"$f":"IF(COUNTIF(BA$2:BA167,BA167)=1,BA167,\"\")","v":""},"","",{"$f":"+IFERROR(INDEX(#REF!,MATCH(ROW()-ROW(BC$1),AX$2:AX$955,0)),\"\")","v":""}]
[{"$f":"+IF(D168=\"\",\"\",MAX(A$1:A167)+1)","v":""},{"$f":"IF('Process_&_CMS_Identification'!C190=\"\",\"\",'Process_&_CMS_Identification'!C190)","v":""},"",{"$f":"IF(COUNTIF(B$2:B168,B168)=1,B168,\"\")","v":""},{"$nulls":15},{"$f":"+IF(X168=\"\",\"\",MAX(T$1:T167)+1)","v":""},{"$f":"IF('No CMS - Deviation - Limits'!B190=\"\",\"\",'No CMS - Deviation - Limits'!B190)","v":""},{"$f":"IF('No CMS - Deviation - Limits'!C190=\"\",\"\",'No CMS - Deviation - Limits'!C190)","v":""},"",{"$f":"IF(COUNTIF(V$2:V168,V168)=1,V168,\"\")","v":""},"","",{"$f":"+IFERROR(INDEX(#REF!,MATCH(ROW()-ROW($Y$1),T$2:T$955,0)),\"\")","v":""},null,{"$f":"+IF(AG168=\"\",\"\",MAX(AC$1:AC167)+1)","v":""},{"$f":"IF('Using CMS - Deviation - Limits'!B190=\"\",\"\",'Using CMS - Deviation - Limits'!B190)","v":""},{"$f":"IF('Using CMS - Deviation - Limits'!C190=\"\",\"\",'Using CMS - Deviation - Limits'!C190)","v":""},"",{"$f":"IF(COUNTIF(AF$2:AF168,AF168)=1,AF168,\"\")","v":""},"","",{"$f":"+IFERROR(INDEX(#REF!,MATCH(ROW()-ROW(AG$1),AC$2:AC$955,0)),\"\")","v":""},{"$nulls":3},{"$f":"+IF(AS168=\"\",\"\",MAX(AN$1:AN167)+1)","v":""},{"$f":"IF('Using CMS - Inop_OoC - CMS'!B190=\"\",\"\",'Using CMS - Inop_OoC - CMS'!B190)","v":""},{"$f":"IF('Using CMS - Inop_OoC - CMS'!C190=\"\",\"\",'Using CMS - Inop_OoC - CMS'!C190)","v":""},{"$f":"IF('Using CMS - Inop_OoC - CMS'!D190=\"\",\"\",'Using CMS - Inop_OoC - CMS'!D190)","v":""},{"$f":"AO168&AP168&Table10[[#This Row],[CMS]]","v":""},{"$f":"IF(COUNTIF(AR$2:AR168,AR168)=1,AR168,\"\")","v":""},"","","",null,{"$f":"+IF(BB168=\"\",\"\",MAX(AX$1:AX167)+1)","v":""},{"$f":"IF('Using CMS - Deviation - Limits'!B190=\"\",\"\",'Using CMS - Deviation - Limits'!B190)","v":""},{"$f":"IF('Using CMS - Deviation - Limits'!C190=\"\",\"\",'Using CMS - Deviation - Limits'!C190)","v":""},{"$f":"AY168&AZ168&Table10[[#This Row],[CMS]]","v":""},{"$f":"IF(COUNTIF(BA$2:BA168,BA168)=1,BA168,\"\")","v":""},"","",{"$f":"+IFERROR(INDEX(#REF!,MATCH(ROW()-ROW(BC$1),AX$2:AX$955,0)),\"\")","v":""}]
[{"$f":"+IF(D169=\"\",\"\",MAX(A$1:A168)+1)","v":""},{"$f":"IF('Process_&_CMS_Identification'!C191=\"\",\"\",'Process_&_CMS_Identification'!C191)","v":""},"",{"$f":"IF(COUNTIF(B$2:B169,B169)=1,B169,\"\")","v":""},{"$nulls":15},{"$f":"+IF(X169=\"\",\"\",MAX(T$1:T168)+1)","v":""},{"$f":"IF('No CMS - Deviation - Limits'!B191=\"\",\"\",'No CMS - Deviation - Limits'!B191)","v":""},{"$f":"IF('No CMS - Deviation - Limits'!C191=\"\",\"\",'No CMS - Deviation - Limits'!C191)","v":""},"",{"$f":"IF(COUNTIF(V$2:V169,V169)=1,V169,\"\")","v":""},"","",{"$f":"+IFERROR(INDEX(#REF!,MATCH(ROW()-ROW($Y$1),T$2:T$955,0)),\"\")","v":""},null,{"$f":"+IF(AG169=\"\",\"\",MAX(AC$1:AC168)+1)","v":""},{"$f":"IF('Using CMS - Deviation - Limits'!B191=\"\",\"\",'Using CMS - Deviation - Limits'!B191)","v":""},{"$f":"IF('Using CMS - Deviation - Limits'!C191=\"\",\"\",'Using CMS - Deviation - Limits'!C191)","v":""},"",{"$f":"IF(COUNTIF(AF$2:AF169,AF169)=1,AF169,\"\")","v":""},"","",{"$f":"+IFERROR(INDEX(#REF!,MATCH(ROW()-ROW(AG$1),AC$2:AC$955,0)),\"\")","v":""},{"$nulls":3},{"$f":"+IF(AS169=\"\",\"\",MAX(AN$1:AN168)+1)","v":""},{"$f":"IF('Using CMS - Inop_OoC - CMS'!B191=\"\",\"\",'Using CMS - Inop_OoC - CMS'!B191)","v":""},{"$f":"IF('Using CMS - Inop_OoC - CMS'!C191=\"\",\"\",'Using CMS - Inop_OoC - CMS'!C191)","v":""},{"$f":"IF('Using CMS - Inop_OoC - CMS'!D191=\"\",\"\",'Using CMS - Inop_OoC - CMS'!D191)","v":""},{"$f":"AO169&AP169&Table10[[#This Row],[CMS]]","v":""},{"$f":"IF(COUNTIF(AR$2:AR169,AR169)=1,AR169,\"\")","v":""},"","","",null,{"$f":"+IF(BB169=\"\",\"\",MAX(AX$1:AX168)+1)","v":""},{"$f":"IF('Using CMS - Deviation - Limits'!B191=\"\",\"\",'Using CMS - Deviation - Limits'!B191)","v":""},{"$f":"IF('Using CMS - Deviation - Limits'!C191=\"\",\"\",'Using CMS - Deviation - Limits'!C191)","v":""},{"$f":"AY169&AZ169&Table10[[#This Row],[CMS]]","v":""},{"$f":"IF(COUNTIF(BA$2:BA169,BA169)=1,BA169,\"\")","v":""},"","",{"$f":"+IFERROR(INDEX(#REF!,MATCH(ROW()-ROW(BC$1),AX$2:AX$955,0)),\"\")","v":""}]
[{"$f":"+IF(D170=\"\",\"\",MAX(A$1:A169)+1)","v":""},{"$f":"IF('Process_&_CMS_Identification'!C192=\"\",\"\",'Process_&_CMS_Identification'!C192)","v":""},"",{"$f":"IF(COUNTIF(B$2:B170,B170)=1,B170,\"\")","v":""},{"$nulls":15},{"$f":"+IF(X170=\"\",\"\",MAX(T$1:T169)+1)","v":""},{"$f":"IF('No CMS - Deviation - Limits'!B192=\"\",\"\",'No CMS - Deviation - Limits'!B192)","v":""},{"$f":"IF('No CMS - Deviation - Limits'!C192=\"\",\"\",'No CMS - Deviation - Limits'!C192)","v":""},"",{"$f":"IF(COUNTIF(V$2:V170,V170)=1,V170,\"\")","v":""},"","",{"$f":"+IFERROR(INDEX(#REF!,MATCH(ROW()-ROW($Y$1),T$2:T$955,0)),\"\")","v":""},null,{"$f":"+IF(AG170=\"\",\"\",MAX(AC$1:AC169)+1)","v":""},{"$f":"IF('Using CMS - Deviation - Limits'!B192=\"\",\"\",'Using CMS - Deviation - Limits'!B192)","v":""},{"$f":"IF('Using CMS - Deviation - Limits'!C192=\"\",\"\",'Using CMS - Deviation - Limits'!C192)","v":""},"",{"$f":"IF(COUNTIF(AF$2:AF170,AF170)=1,AF170,\"\")","v":""},"","",{"$f":"+IFERROR(INDEX(#REF!,MATCH(ROW()-ROW(AG$1),AC$2:AC$955,0)),\"\")","v":""},{"$nulls":3},{"$f":"+IF(AS170=\"\",\"\",MAX(AN$1:AN169)+1)","v":""},{"$f":"IF('Using CMS - Inop_OoC - CMS'!B192=\"\",\"\",'Using CMS - Inop_OoC - CMS'!B192)","v":""},{"$f":"IF('Using CMS - Inop_OoC - CMS'!C192=\"\",\"\",'Using CMS - Inop_OoC - CMS'!C192)","v":""},{"$f":"IF('Using CMS - Inop_OoC - CMS'!D192=\"\",\"\",'Using CMS - Inop_OoC - CMS'!D192)","v":""},{"$f":"AO170&AP170&Table10[[#This Row],[CMS]]","v":""},{"$f":"IF(COUNTIF(AR$2:AR170,AR170)=1,AR170,\"\")","v":""},"","","",null,{"$f":"+IF(BB170=\"\",\"\",MAX(AX$1:AX169)+1)","v":""},{"$f":"IF('Using CMS - Deviation - Limits'!B192=\"\",\"\",'Using CMS - Deviation - Limits'!B192)","v":""},{"$f":"IF('Using CMS - Deviation - Limits'!C192=\"\",\"\",'Using CMS - Deviation - Limits'!C192)","v":""},{"$f":"AY170&AZ170&Table10[[#This Row],[CMS]]","v":""},{"$f":"IF(COUNTIF(BA$2:BA170,BA170)=1,BA170,\"\")","v":""},"","",{"$f":"+IFERROR(INDEX(#REF!,MATCH(ROW()-ROW(BC$1),AX$2:AX$955,0)),\"\")","v":""}]
[{"$f":"+IF(D171=\"\",\"\",MAX(A$1:A170)+1)","v":""},{"$f":"IF('Process_&_CMS_Identification'!C193=\"\",\"\",'Process_&_CMS_Identification'!C193)","v":""},"",{"$f":"IF(COUNTIF(B$2:B171,B171)=1,B171,\"\")","v":""},{"$nulls":15},{"$f":"+IF(X171=\"\",\"\",MAX(T$1:T170)+1)","v":""},{"$f":"IF('No CMS - Deviation - Limits'!B193=\"\",\"\",'No CMS - Deviation - Limits'!B193)","v":""},{"$f":"IF('No CMS - Deviation - Limits'!C193=\"\",\"\",'No CMS - Deviation - Limits'!C193)","v":""},"",{"$f":"IF(COUNTIF(V$2:V171,V171)=1,V171,\"\")","v":""},"","",{"$f":"+IFERROR(INDEX(#REF!,MATCH(ROW()-ROW($Y$1),T$2:T$955,0)),\"\")","v":""},null,{"$f":"+IF(AG171=\"\",\"\",MAX(AC$1:AC170)+1)","v":""},{"$f":"IF('Using CMS - Deviation - Limits'!B193=\"\",\"\",'Using CMS - Deviation - Limits'!B193)","v":""},{"$f":"IF('Using CMS - Deviation - Limits'!C193=\"\",\"\",'Using CMS - Deviation - Limits'!C193)","v":""},"",{"$f":"IF(COUNTIF(AF$2:AF171,AF171)=1,AF171,\"\")","v":""},"","",{"$f":"+IFERROR(INDEX(#REF!,MATCH(ROW()-ROW(AG$1),AC$2:AC$955,0)),\"\")","v":""},{"$nulls":3},{"$f":"+IF(AS171=\"\",\"\",MAX(AN$1:AN170)+1)","v":""},{"$f":"IF('Using CMS - Inop_OoC - CMS'!B193=\"\",\"\",'Using CMS - Inop_OoC - CMS'!B193)","v":""},{"$f":"IF('Using CMS - Inop_OoC - CMS'!C193=\"\",\"\",'Using CMS - Inop_OoC - CMS'!C193)","v":""},{"$f":"IF('Using CMS - Inop_OoC - CMS'!D193=\"\",\"\",'Using CMS - Inop_OoC - CMS'!D193)","v":""},{"$f":"AO171&AP171&Table10[[#This Row],[CMS]]","v":""},{"$f":"IF(COUNTIF(AR$2:AR171,AR171)=1,AR171,\"\")","v":""},"","","",null,{"$f":"+IF(BB171=\"\",\"\",MAX(AX$1:AX170)+1)","v":""},{"$f":"IF('Using CMS - Deviation - Limits'!B193=\"\",\"\",'Using CMS - Deviation - Limits'!B193)","v":""},{"$f":"IF('Using CMS - Deviation - Limits'!C193=\"\",\"\",'Using CMS - Deviation - Limits'!C193)","v":""},{"$f":"AY171&AZ171&Table10[[#This Row],[CMS]]","v":""},{"$f":"IF(COUNTIF(BA$2:BA171,BA171)=1,BA171,\"\")","v":""},"","",{"$f":"+IFERROR(INDEX(#REF!,MATCH(ROW()-ROW(BC$1),AX$2:AX$955,0)),\"\")","v":""}]
[{"$f":"+IF(D172=\"\",\"\",MAX(A$1:A171)+1)","v":""},{"$f":"IF('Process_&_CMS_Identification'!C194=\"\",\"\",'Process_&_CMS_Identification'!C194)","v":""},"",{"$f":"IF(COUNTIF(B$2:B172,B172)=1,B172,\"\")","v":""},{"$nulls":15},{"$f":"+IF(X172=\"\",\"\",MAX(T$1:T171)+1)","v":""},{"$f":"IF('No CMS - Deviation - Limits'!B194=\"\",\"\",'No CMS - Deviation - Limits'!B194)","v":""},{"$f":"IF('No CMS - Deviation - Limits'!C194=\"\",\"\",'No CMS - Deviation - Limits'!C194)","v":""},"",{"$f":"IF(COUNTIF(V$2:V172,V172)=1,V172,\"\")","v":""},"","",{"$f":"+IFERROR(INDEX(#REF!,MATCH(ROW()-ROW($Y$1),T$2:T$955,0)),\"\")","v":""},null,{"$f":"+IF(AG172=\"\",\"\",MAX(AC$1:AC171)+1)","v":""},{"$f":"IF('Using CMS - Deviation - Limits'!B194=\"\",\"\",'Using CMS - Deviation - Limits'!B194)","v":""},{"$f":"IF('Using CMS - Deviation - Limits'!C194=\"\",\"\",'Using CMS - Deviation - Limits'!C194)","v":""},"",{"$f":"IF(COUNTIF(AF$2:AF172,AF172)=1,AF172,\"\")","v":""},"","",{"$f":"+IFERROR(INDEX(#REF!,MATCH(ROW()-ROW(AG$1),AC$2:AC$955,0)),\"\")","v":""},{"$nulls":3},{"$f":"+IF(AS172=\"\",\"\",MAX(AN$1:AN171)+1)","v":""},{"$f":"IF('Using CMS - Inop_OoC - CMS'!B194=\"\",\"\",'Using CMS - Inop_OoC - CMS'!B194)","v":""},{"$f":"IF('Using CMS - Inop_OoC - CMS'!C194=\"\",\"\",'Using CMS - Inop_OoC - CMS'!C194)","v":""},{"$f":"IF('Using CMS - Inop_OoC - CMS'!D194=\"\",\"\",'Using CMS - Inop_OoC - CMS'!D194)","v":""},{"$f":"AO172&AP172&Table10[[#This Row],[CMS]]","v":""},{"$f":"IF(COUNTIF(AR$2:AR172,AR172)=1,AR172,\"\")","v":""},"","","",null,{"$f":"+IF(BB172=\"\",\"\",MAX(AX$1:AX171)+1)","v":""},{"$f":"IF('Using CMS - Deviation - Limits'!B194=\"\",\"\",'Using CMS - Deviation - Limits'!B194)","v":""},{"$f":"IF('Using CMS - Deviation - Limits'!C194=\"\",\"\",'Using CMS - Deviation - Limits'!C194)","v":""},{"$f":"AY172&AZ172&Table10[[#This Row],[CMS]]","v":""},{"$f":"IF(COUNTIF(BA$2:BA172,BA172)=1,BA172,\"\")","v":""},"","",{"$f":"+IFERROR(INDEX(#REF!,MATCH(ROW()-ROW(BC$1),AX$2:AX$955,0)),\"\")","v":""}]
[{"$f":"+IF(D173=\"\",\"\",MAX(A$1:A172)+1)","v":""},{"$f":"IF('Process_&_CMS_Identification'!C195=\"\",\"\",'Process_&_CMS_Identification'!C195)","v":""},"",{"$f":"IF(COUNTIF(B$2:B173,B173)=1,B173,\"\")","v":""},{"$nulls":15},{"$f":"+IF(X173=\"\",\"\",MAX(T$1:T172)+1)","v":""},{"$f":"IF('No CMS - Deviation - Limits'!B195=\"\",\"\",'No CMS - Deviation - Limits'!B195)","v":""},{"$f":"IF('No CMS - Deviation - Limits'!C195=\"\",\"\",'No CMS - Deviation - Limits'!C195)","v":""},"",{"$f":"IF(COUNTIF(V$2:V173,V173)=1,V173,\"\")","v":""},"","",{"$f":"+IFERROR(INDEX(#REF!,MATCH(ROW()-ROW($Y$1),T$2:T$955,0)),\"\")","v":""},null,{"$f":"+IF(AG173=\"\",\"\",MAX(AC$1:AC172)+1)","v":""},{"$f":"IF('Using CMS - Deviation - Limits'!B195=\"\",\"\",'Using CMS - Deviation - Limits'!B195)","v":""},{"$f":"IF('Using CMS - Deviation - Limits'!C195=\"\",\"\",'Using CMS - Deviation - Limits'!C195)","v":""},"",{"$f":"IF(COUNTIF(AF$2:AF173,AF173)=1,AF173,\"\")","v":""},"","",{"$f":"+IFERROR(INDEX(#REF!,MATCH(ROW()-ROW(AG$1),AC$2:AC$955,0)),\"\")","v":""},{"$nulls":3},{"$f":"+IF(AS173=\"\",\"\",MAX(AN$1:AN172)+1)","v":""},{"$f":"IF('Using CMS - Inop_OoC - CMS'!B195=\"\",\"\",'Using CMS - Inop_OoC - CMS'!B195)","v":""},{"$f":"IF('Using CMS - Inop_OoC - CMS'!C195=\"\",\"\",'Using CMS - Inop_OoC - CMS'!C195)","v":""},{"$f":"IF('Using CMS - Inop_OoC - CMS'!D195=\"\",\"\",'Using CMS - Inop_OoC - CMS'!D195)","v":""},{"$f":"AO173&AP173&Table10[[#This Row],[CMS]]","v":""},{"$f":"IF(COUNTIF(AR$2:AR173,AR173)=1,AR173,\"\")","v":""},"","","",null,{"$f":"+IF(BB173=\"\",\"\",MAX(AX$1:AX172)+1)","v":""},{"$f":"IF('Using CMS - Deviation - Limits'!B195=\"\",\"\",'Using CMS - Deviation - Limits'!B195)","v":""},{"$f":"IF('Using CMS - Deviation - Limits'!C195=\"\",\"\",'Using CMS - Deviation - Limits'!C195)","v":""},{"$f":"AY173&AZ173&Table10[[#This Row],[CMS]]","v":""},{"$f":"IF(COUNTIF(BA$2:BA173,BA173)=1,BA173,\"\")","v":""},"","",{"$f":"+IFERROR(INDEX(#REF!,MATCH(ROW()-ROW(BC$1),AX$2:AX$955,0)),\"\")","v":""}]
[{"$f":"+IF(D174=\"\",\"\",MAX(A$1:A173)+1)","v":""},{"$f":"IF('Process_&_CMS_Identification'!C196=\"\",\"\",'Process_&_CMS_Identification'!C196)","v":""},"",{"$f":"IF(COUNTIF(B$2:B174,B174)=1,B174,\"\")","v":""},{"$nulls":15},{"$f":"+IF(X174=\"\",\"\",MAX(T$1:T173)+1)","v":""},{"$f":"IF('No CMS - Deviation - Limits'!B196=\"\",\"\",'No CMS - Deviation - Limits'!B196)","v":""},{"$f":"IF('No CMS - Deviation - Limits'!C196=\"\",\"\",'No CMS - Deviation - Limits'!C196)","v":""},"",{"$f":"IF(COUNTIF(V$2:V174,V174)=1,V174,\"\")","v":""},"","",{"$f":"+IFERROR(INDEX(#REF!,MATCH(ROW()-ROW($Y$1),T$2:T$955,0)),\"\")","v":""},null,{"$f":"+IF(AG174=\"\",\"\",MAX(AC$1:AC173)+1)","v":""},{"$f":"IF('Using CMS - Deviation - Limits'!B196=\"\",\"\",'Using CMS - Deviation - Limits'!B196)","v":""},{"$f":"IF('Using CMS - Deviation - Limits'!C196=\"\",\"\",'Using CMS - Deviation - Limits'!C196)","v":""},"",{"$f":"IF(COUNTIF(AF$2:AF174,AF174)=1,AF174,\"\")","v":""},"","",{"$f":"+IFERROR(INDEX(#REF!,MATCH(ROW()-ROW(AG$1),AC$2:AC$955,0)),\"\")","v":""},{"$nulls":3},{"$f":"+IF(AS174=\"\",\"\",MAX(AN$1:AN173)+1)","v":""},{"$f":"IF('Using CMS - Inop_OoC - CMS'!B196=\"\",\"\",'Using CMS - Inop_OoC - CMS'!B196)","v":""},{"$f":"IF('Using CMS - Inop_OoC - CMS'!C196=\"\",\"\",'Using CMS - Inop_OoC - CMS'!C196)","v":""},{"$f":"IF('Using CMS - Inop_OoC - CMS'!D196=\"\",\"\",'Using CMS - Inop_OoC - CMS'!D196)","v":""},{"$f":"AO174&AP174&Table10[[#This Row],[CMS]]","v":""},{"$f":"IF(COUNTIF(AR$2:AR174,AR174)=1,AR174,\"\")","v":""},"","","",null,{"$f":"+IF(BB174=\"\",\"\",MAX(AX$1:AX173)+1)","v":""},{"$f":"IF('Using CMS - Deviation - Limits'!B196=\"\",\"\",'Using CMS - Deviation - Limits'!B196)","v":""},{"$f":"IF('Using CMS - Deviation - Limits'!C196=\"\",\"\",'Using CMS - Deviation - Limits'!C196)","v":""},{"$f":"AY174&AZ174&Table10[[#This Row],[CMS]]","v":""},{"$f":"IF(COUNTIF(BA$2:BA174,BA174)=1,BA174,\"\")","v":""},"","",{"$f":"+IFERROR(INDEX(#REF!,MATCH(ROW()-ROW(BC$1),AX$2:AX$955,0)),\"\")","v":""}]
[{"$f":"+IF(D175=\"\",\"\",MAX(A$1:A174)+1)","v":""},{"$f":"IF('Process_&_CMS_Identification'!C197=\"\",\"\",'Process_&_CMS_Identification'!C197)","v":""},"",{"$f":"IF(COUNTIF(B$2:B175,B175)=1,B175,\"\")","v":""},{"$nulls":15},{"$f":"+IF(X175=\"\",\"\",MAX(T$1:T174)+1)","v":""},{"$f":"IF('No CMS - Deviation - Limits'!B197=\"\",\"\",'No CMS - Deviation - Limits'!B197)","v":""},{"$f":"IF('No CMS - Deviation - Limits'!C197=\"\",\"\",'No CMS - Deviation - Limits'!C197)","v":""},"",{"$f":"IF(COUNTIF(V$2:V175,V175)=1,V175,\"\")","v":""},"","",{"$f":"+IFERROR(INDEX(#REF!,MATCH(ROW()-ROW($Y$1),T$2:T$955,0)),\"\")","v":""},null,{"$f":"+IF(AG175=\"\",\"\",MAX(AC$1:AC174)+1)","v":""},{"$f":"IF('Using CMS - Deviation - Limits'!B197=\"\",\"\",'Using CMS - Deviation - Limits'!B197)","v":""},{"$f":"IF('Using CMS - Deviation - Limits'!C197=\"\",\"\",'Using CMS - Deviation - Limits'!C197)","v":""},"",{"$f":"IF(COUNTIF(AF$2:AF175,AF175)=1,AF175,\"\")","v":""},"","",{"$f":"+IFERROR(INDEX(#REF!,MATCH(ROW()-ROW(AG$1),AC$2:AC$955,0)),\"\")","v":""},{"$nulls":3},{"$f":"+IF(AS175=\"\",\"\",MAX(AN$1:AN174)+1)","v":""},{"$f":"IF('Using CMS - Inop_OoC - CMS'!B197=\"\",\"\",'Using CMS - Inop_OoC - CMS'!B197)","v":""},{"$f":"IF('Using CMS - Inop_OoC - CMS'!C197=\"\",\"\",'Using CMS - Inop_OoC - CMS'!C197)","v":""},{"$f":"IF('Using CMS - Inop_OoC - CMS'!D197=\"\",\"\",'Using CMS - Inop_OoC - CMS'!D197)","v":""},{"$f":"AO175&AP175&Table10[[#This Row],[CMS]]","v":""},{"$f":"IF(COUNTIF(AR$2:AR175,AR175)=1,AR175,\"\")","v":""},"","","",null,{"$f":"+IF(BB175=\"\",\"\",MAX(AX$1:AX174)+1)","v":""},{"$f":"IF('Using CMS - Deviation - Limits'!B197=\"\",\"\",'Using CMS - Deviation - Limits'!B197)","v":""},{"$f":"IF('Using CMS - Deviation - Limits'!C197=\"\",\"\",'Using CMS - Deviation - Limits'!C197)","v":""},{"$f":"AY175&AZ175&Table10[[#This Row],[CMS]]","v":""},{"$f":"IF(COUNTIF(BA$2:BA175,BA175)=1,BA175,\"\")","v":""},"","",{"$f":"+IFERROR(INDEX(#REF!,MATCH(ROW()-ROW(BC$1),AX$2:AX$955,0)),\"\")","v":""}]
[{"$f":"+IF(D176=\"\",\"\",MAX(A$1:A175)+1)","v":""},{"$f":"IF('Process_&_CMS_Identification'!C198=\"\",\"\",'Process_&_CMS_Identification'!C198)","v":""},"",{"$f":"IF(COUNTIF(B$2:B176,B176)=1,B176,\"\")","v":""},{"$nulls":15},{"$f":"+IF(X176=\"\",\"\",MAX(T$1:T175)+1)","v":""},{"$f":"IF('No CMS - Deviation - Limits'!B198=\"\",\"\",'No CMS - Deviation - Limits'!B198)","v":""},{"$f":"IF('No CMS - Deviation - Limits'!C198=\"\",\"\",'No CMS - Deviation - Limits'!C198)","v":""},"",{"$f":"IF(COUNTIF(V$2:V176,V176)=1,V176,\"\")","v":""},"","",{"$f":"+IFERROR(INDEX(#REF!,MATCH(ROW()-ROW($Y$1),T$2:T$955,0)),\"\")","v":""},null,{"$f":"+IF(AG176=\"\",\"\",MAX(AC$1:AC175)+1)","v":""},{"$f":"IF('Using CMS - Deviation - Limits'!B198=\"\",\"\",'Using CMS - Deviation - Limits'!B198)","v":""},{"$f":"IF('Using CMS - Deviation - Limits'!C198=\"\",\"\",'Using CMS - Deviation - Limits'!C198)","v":""},"",{"$f":"IF(COUNTIF(AF$2:AF176,AF176)=1,AF176,\"\")","v":""},"","",{"$f":"+IFERROR(INDEX(#REF!,MATCH(ROW()-ROW(AG$1),AC$2:AC$955,0)),\"\")","v":""},{"$nulls":3},{"$f":"+IF(AS176=\"\",\"\",MAX(AN$1:AN175)+1)","v":""},{"$f":"IF('Using CMS - Inop_OoC - CMS'!B198=\"\",\"\",'Using CMS - Inop_OoC - CMS'!B198)","v":""},{"$f":"IF('Using CMS - Inop_OoC - CMS'!C198=\"\",\"\",'Using CMS - Inop_OoC - CMS'!C198)","v":""},{"$f":"IF('Using CMS - Inop_OoC - CMS'!D198=\"\",\"\",'Using CMS - Inop_OoC - CMS'!D198)","v":""},{"$f":"AO176&AP176&Table10[[#This Row],[CMS]]","v":""},{"$f":"IF(COUNTIF(AR$2:AR176,AR176)=1,AR176,\"\")","v":""},"","","",null,{"$f":"+IF(BB176=\"\",\"\",MAX(AX$1:AX175)+1)","v":""},{"$f":"IF('Using CMS - Deviation - Limits'!B198=\"\",\"\",'Using CMS - Deviation - Limits'!B198)","v":""},{"$f":"IF('Using CMS - Deviation - Limits'!C198=\"\",\"\",'Using CMS - Deviation - Limits'!C198)","v":""},{"$f":"AY176&AZ176&Table10[[#This Row],[CMS]]","v":""},{"$f":"IF(COUNTIF(BA$2:BA176,BA176)=1,BA176,\"\")","v":""},"","",{"$f":"+IFERROR(INDEX(#REF!,MATCH(ROW()-ROW(BC$1),AX$2:AX$955,0)),\"\")","v":""}]
[{"$f":"+IF(D177=\"\",\"\",MAX(A$1:A176)+1)","v":""},{"$f":"IF('Process_&_CMS_Identification'!C199=\"\",\"\",'Process_&_CMS_Identification'!C199)","v":""},"",{"$f":"IF(COUNTIF(B$2:B177,B177)=1,B177,\"\")","v":""},{"$nulls":15},{"$f":"+IF(X177=\"\",\"\",MAX(T$1:T176)+1)","v":""},{"$f":"IF('No CMS - Deviation - Limits'!B199=\"\",\"\",'No CMS - Deviation - Limits'!B199)","v":""},{"$f":"IF('No CMS - Deviation - Limits'!C199=\"\",\"\",'No CMS - Deviation - Limits'!C199)","v":""},"",{"$f":"IF(COUNTIF(V$2:V177,V177)=1,V177,\"\")","v":""},"","",{"$f":"+IFERROR(INDEX(#REF!,MATCH(ROW()-ROW($Y$1),T$2:T$955,0)),\"\")","v":""},null,{"$f":"+IF(AG177=\"\",\"\",MAX(AC$1:AC176)+1)","v":""},{"$f":"IF('Using CMS - Deviation - Limits'!B199=\"\",\"\",'Using CMS - Deviation - Limits'!B199)","v":""},{"$f":"IF('Using CMS - Deviation - Limits'!C199=\"\",\"\",'Using CMS - Deviation - Limits'!C199)","v":""},"",{"$f":"IF(COUNTIF(AF$2:AF177,AF177)=1,AF177,\"\")","v":""},"","",{"$f":"+IFERROR(INDEX(#REF!,MATCH(ROW()-ROW(AG$1),AC$2:AC$955,0)),\"\")","v":""},{"$nulls":3},{"$f":"+IF(AS177=\"\",\"\",MAX(AN$1:AN176)+1)","v":""},{"$f":"IF('Using CMS - Inop_OoC - CMS'!B199=\"\",\"\",'Using CMS - Inop_OoC - CMS'!B199)","v":""},{"$f":"IF('Using CMS - Inop_OoC - CMS'!C199=\"\",\"\",'Using CMS - Inop_OoC - CMS'!C199)","v":""},{"$f":"IF('Using CMS - Inop_OoC - CMS'!D199=\"\",\"\",'Using CMS - Inop_OoC - CMS'!D199)","v":""},{"$f":"AO177&AP177&Table10[[#This Row],[CMS]]","v":""},{"$f":"IF(COUNTIF(AR$2:AR177,AR177)=1,AR177,\"\")","v":""},"","","",null,{"$f":"+IF(BB177=\"\",\"\",MAX(AX$1:AX176)+1)","v":""},{"$f":"IF('Using CMS - Deviation - Limits'!B199=\"\",\"\",'Using CMS - Deviation - Limits'!B199)","v":""},{"$f":"IF('Using CMS - Deviation - Limits'!C199=\"\",\"\",'Using CMS - Deviation - Limits'!C199)","v":""},{"$f":"AY177&AZ177&Table10[[#This Row],[CMS]]","v":""},{"$f":"IF(COUNTIF(BA$2:BA177,BA177)=1,BA177,\"\")","v":""},"","",{"$f":"+IFERROR(INDEX(#REF!,MATCH(ROW()-ROW(BC$1),AX$2:AX$955,0)),\"\")","v":""}]
[{"$f":"+IF(D178=\"\",\"\",MAX(A$1:A177)+1)","v":""},{"$f":"IF('Process_&_CMS_Identification'!C200=\"\",\"\",'Process_&_CMS_Identification'!C200)","v":""},"",{"$f":"IF(COUNTIF(B$2:B178,B178)=1,B178,\"\")","v":""},{"$nulls":15},{"$f":"+IF(X178=\"\",\"\",MAX(T$1:T177)+1)","v":""},{"$f":"IF('No CMS - Deviation - Limits'!B200=\"\",\"\",'No CMS - Deviation - Limits'!B200)","v":""},{"$f":"IF('No CMS - Deviation - Limits'!C200=\"\",\"\",'No CMS - Deviation - Limits'!C200)","v":""},"",{"$f":"IF(COUNTIF(V$2:V178,V178)=1,V178,\"\")","v":""},"","",{"$f":"+IFERROR(INDEX(#REF!,MATCH(ROW()-ROW($Y$1),T$2:T$955,0)),\"\")","v":""},null,{"$f":"+IF(AG178=\"\",\"\",MAX(AC$1:AC177)+1)","v":""},{"$f":"IF('Using CMS - Deviation - Limits'!B200=\"\",\"\",'Using CMS - Deviation - Limits'!B200)","v":""},{"$f":"IF('Using CMS - Deviation - Limits'!C200=\"\",\"\",'Using CMS - Deviation - Limits'!C200)","v":""},"",{"$f":"IF(COUNTIF(AF$2:AF178,AF178)=1,AF178,\"\")","v":""},"","",{"$f":"+IFERROR(INDEX(#REF!,MATCH(ROW()-ROW(AG$1),AC$2:AC$955,0)),\"\")","v":""},{"$nulls":3},{"$f":"+IF(AS178=\"\",\"\",MAX(AN$1:AN177)+1)","v":""},{"$f":"IF('Using CMS - Inop_OoC - CMS'!B200=\"\",\"\",'Using CMS - Inop_OoC - CMS'!B200)","v":""},{"$f":"IF('Using CMS - Inop_OoC - CMS'!C200=\"\",\"\",'Using CMS - Inop_OoC - CMS'!C200)","v":""},{"$f":"IF('Using CMS - Inop_OoC - CMS'!D200=\"\",\"\",'Using CMS - Inop_OoC - CMS'!D200)","v":""},{"$f":"AO178&AP178&Table10[[#This Row],[CMS]]","v":""},{"$f":"IF(COUNTIF(AR$2:AR178,AR178)=1,AR178,\"\")","v":""},"","","",null,{"$f":"+IF(BB178=\"\",\"\",MAX(AX$1:AX177)+1)","v":""},{"$f":"IF('Using CMS - Deviation - Limits'!B200=\"\",\"\",'Using CMS - Deviation - Limits'!B200)","v":""},{"$f":"IF('Using CMS - Deviation - Limits'!C200=\"\",\"\",'Using CMS - Deviation - Limits'!C200)","v":""},{"$f":"AY178&AZ178&Table10[[#This Row],[CMS]]","v":""},{"$f":"IF(COUNTIF(BA$2:BA178,BA178)=1,BA178,\"\")","v":""},"","",{"$f":"+IFERROR(INDEX(#REF!,MATCH(ROW()-ROW(BC$1),AX$2:AX$955,0)),\"\")","v":""}]
[{"$f":"+IF(D179=\"\",\"\",MAX(A$1:A178)+1)","v":""},{"$f":"IF('Process_&_CMS_Identification'!C201=\"\",\"\",'Process_&_CMS_Identification'!C201)","v":""},"",{"$f":"IF(COUNTIF(B$2:B179,B179)=1,B179,\"\")","v":""},{"$nulls":15},{"$f":"+IF(X179=\"\",\"\",MAX(T$1:T178)+1)","v":""},{"$f":"IF('No CMS - Deviation - Limits'!B201=\"\",\"\",'No CMS - Deviation - Limits'!B201)","v":""},{"$f":"IF('No CMS - Deviation - Limits'!C201=\"\",\"\",'No CMS - Deviation - Limits'!C201)","v":""},"",{"$f":"IF(COUNTIF(V$2:V179,V179)=1,V179,\"\")","v":""},"","",{"$f":"+IFERROR(INDEX(#REF!,MATCH(ROW()-ROW($Y$1),T$2:T$955,0)),\"\")","v":""},null,{"$f":"+IF(AG179=\"\",\"\",MAX(AC$1:AC178)+1)","v":""},{"$f":"IF('Using CMS - Deviation - Limits'!B201=\"\",\"\",'Using CMS - Deviation - Limits'!B201)","v":""},{"$f":"IF('Using CMS - Deviation - Limits'!C201=\"\",\"\",'Using CMS - Deviation - Limits'!C201)","v":""},"",{"$f":"IF(COUNTIF(AF$2:AF179,AF179)=1,AF179,\"\")","v":""},"","",{"$f":"+IFERROR(INDEX(#REF!,MATCH(ROW()-ROW(AG$1),AC$2:AC$955,0)),\"\")","v":""},{"$nulls":3},{"$f":"+IF(AS179=\"\",\"\",MAX(AN$1:AN178)+1)","v":""},{"$f":"IF('Using CMS - Inop_OoC - CMS'!B201=\"\",\"\",'Using CMS - Inop_OoC - CMS'!B201)","v":""},{"$f":"IF('Using CMS - Inop_OoC - CMS'!C201=\"\",\"\",'Using CMS - Inop_OoC - CMS'!C201)","v":""},{"$f":"IF('Using CMS - Inop_OoC - CMS'!D201=\"\",\"\",'Using CMS - Inop_OoC - CMS'!D201)","v":""},{"$f":"AO179&AP179&Table10[[#This Row],[CMS]]","v":""},{"$f":"IF(COUNTIF(AR$2:AR179,AR179)=1,AR179,\"\")","v":""},"","","",null,{"$f":"+IF(BB179=\"\",\"\",MAX(AX$1:AX178)+1)","v":""},{"$f":"IF('Using CMS - Deviation - Limits'!B201=\"\",\"\",'Using CMS - Deviation - Limits'!B201)","v":""},{"$f":"IF('Using CMS - Deviation - Limits'!C201=\"\",\"\",'Using CMS - Deviation - Limits'!C201)","v":""},{"$f":"AY179&AZ179&Table10[[#This Row],[CMS]]","v":""},{"$f":"IF(COUNTIF(BA$2:BA179,BA179)=1,BA179,\"\")","v":""},"","",{"$f":"+IFERROR(INDEX(#REF!,MATCH(ROW()-ROW(BC$1),AX$2:AX$955,0)),\"\")","v":""}]
[{"$f":"+IF(D180=\"\",\"\",MAX(A$1:A179)+1)","v":""},{"$f":"IF('Process_&_CMS_Identification'!C202=\"\",\"\",'Process_&_CMS_Identification'!C202)","v":""},"",{"$f":"IF(COUNTIF(B$2:B180,B180)=1,B180,\"\")","v":""},{"$nulls":15},{"$f":"+IF(X180=\"\",\"\",MAX(T$1:T179)+1)","v":""},{"$f":"IF('No CMS - Deviation - Limits'!B202=\"\",\"\",'No CMS - Deviation - Limits'!B202)","v":""},{"$f":"IF('No CMS - Deviation - Limits'!C202=\"\",\"\",'No CMS - Deviation - Limits'!C202)","v":""},"",{"$f":"IF(COUNTIF(V$2:V180,V180)=1,V180,\"\")","v":""},"","",{"$f":"+IFERROR(INDEX(#REF!,MATCH(ROW()-ROW($Y$1),T$2:T$955,0)),\"\")","v":""},null,{"$f":"+IF(AG180=\"\",\"\",MAX(AC$1:AC179)+1)","v":""},{"$f":"IF('Using CMS - Deviation - Limits'!B202=\"\",\"\",'Using CMS - Deviation - Limits'!B202)","v":""},{"$f":"IF('Using CMS - Deviation - Limits'!C202=\"\",\"\",'Using CMS - Deviation - Limits'!C202)","v":""},"",{"$f":"IF(COUNTIF(AF$2:AF180,AF180)=1,AF180,\"\")","v":""},"","",{"$f":"+IFERROR(INDEX(#REF!,MATCH(ROW()-ROW(AG$1),AC$2:AC$955,0)),\"\")","v":""},{"$nulls":3},{"$f":"+IF(AS180=\"\",\"\",MAX(AN$1:AN179)+1)","v":""},{"$f":"IF('Using CMS - Inop_OoC - CMS'!B202=\"\",\"\",'Using CMS - Inop_OoC - CMS'!B202)","v":""},{"$f":"IF('Using CMS - Inop_OoC - CMS'!C202=\"\",\"\",'Using CMS - Inop_OoC - CMS'!C202)","v":""},{"$f":"IF('Using CMS - Inop_OoC - CMS'!D202=\"\",\"\",'Using CMS - Inop_OoC - CMS'!D202)","v":""},{"$f":"AO180&AP180&Table10[[#This Row],[CMS]]","v":""},{"$f":"IF(COUNTIF(AR$2:AR180,AR180)=1,AR180,\"\")","v":""},"","","",null,{"$f":"+IF(BB180=\"\",\"\",MAX(AX$1:AX179)+1)","v":""},{"$f":"IF('Using CMS - Deviation - Limits'!B202=\"\",\"\",'Using CMS - Deviation - Limits'!B202)","v":""},{"$f":"IF('Using CMS - Deviation - Limits'!C202=\"\",\"\",'Using CMS - Deviation - Limits'!C202)","v":""},{"$f":"AY180&AZ180&Table10[[#This Row],[CMS]]","v":""},{"$f":"IF(COUNTIF(BA$2:BA180,BA180)=1,BA180,\"\")","v":""},"","",{"$f":"+IFERROR(INDEX(#REF!,MATCH(ROW()-ROW(BC$1),AX$2:AX$955,0)),\"\")","v":""}]
[{"$f":"+IF(D181=\"\",\"\",MAX(A$1:A180)+1)","v":""},{"$f":"IF('Process_&_CMS_Identification'!C203=\"\",\"\",'Process_&_CMS_Identification'!C203)","v":""},"",{"$f":"IF(COUNTIF(B$2:B181,B181)=1,B181,\"\")","v":""},{"$nulls":15},{"$f":"+IF(X181=\"\",\"\",MAX(T$1:T180)+1)","v":""},{"$f":"IF('No CMS - Deviation - Limits'!B203=\"\",\"\",'No CMS - Deviation - Limits'!B203)","v":""},{"$f":"IF('No CMS - Deviation - Limits'!C203=\"\",\"\",'No CMS - Deviation - Limits'!C203)","v":""},"",{"$f":"IF(COUNTIF(V$2:V181,V181)=1,V181,\"\")","v":""},"","",{"$f":"+IFERROR(INDEX(#REF!,MATCH(ROW()-ROW($Y$1),T$2:T$955,0)),\"\")","v":""},null,{"$f":"+IF(AG181=\"\",\"\",MAX(AC$1:AC180)+1)","v":""},{"$f":"IF('Using CMS - Deviation - Limits'!B203=\"\",\"\",'Using CMS - Deviation - Limits'!B203)","v":""},{"$f":"IF('Using CMS - Deviation - Limits'!C203=\"\",\"\",'Using CMS - Deviation - Limits'!C203)","v":""},"",{"$f":"IF(COUNTIF(AF$2:AF181,AF181)=1,AF181,\"\")","v":""},"","",{"$f":"+IFERROR(INDEX(#REF!,MATCH(ROW()-ROW(AG$1),AC$2:AC$955,0)),\"\")","v":""},{"$nulls":3},{"$f":"+IF(AS181=\"\",\"\",MAX(AN$1:AN180)+1)","v":""},{"$f":"IF('Using CMS - Inop_OoC - CMS'!B203=\"\",\"\",'Using CMS - Inop_OoC - CMS'!B203)","v":""},{"$f":"IF('Using CMS - Inop_OoC - CMS'!C203=\"\",\"\",'Using CMS - Inop_OoC - CMS'!C203)","v":""},{"$f":"IF('Using CMS - Inop_OoC - CMS'!D203=\"\",\"\",'Using CMS - Inop_OoC - CMS'!D203)","v":""},{"$f":"AO181&AP181&Table10[[#This Row],[CMS]]","v":""},{"$f":"IF(COUNTIF(AR$2:AR181,AR181)=1,AR181,\"\")","v":""},"","","",null,{"$f":"+IF(BB181=\"\",\"\",MAX(AX$1:AX180)+1)","v":""},{"$f":"IF('Using CMS - Deviation - Limits'!B203=\"\",\"\",'Using CMS - Deviation - Limits'!B203)","v":""},{"$f":"IF('Using CMS - Deviation - Limits'!C203=\"\",\"\",'Using CMS - Deviation - Limits'!C203)","v":""},{"$f":"AY181&AZ181&Table10[[#This Row],[CMS]]","v":""},{"$f":"IF(COUNTIF(BA$2:BA181,BA181)=1,BA181,\"\")","v":""},"","",{"$f":"+IFERROR(INDEX(#REF!,MATCH(ROW()-ROW(BC$1),AX$2:AX$955,0)),\"\")","v":""}]
[{"$f":"+IF(D182=\"\",\"\",MAX(A$1:A181)+1)","v":""},{"$f":"IF('Process_&_CMS_Identification'!C204=\"\",\"\",'Process_&_CMS_Identification'!C204)","v":""},"",{"$f":"IF(COUNTIF(B$2:B182,B182)=1,B182,\"\")","v":""},{"$nulls":15},{"$f":"+IF(X182=\"\",\"\",MAX(T$1:T181)+1)","v":""},{"$f":"IF('No CMS - Deviation - Limits'!B204=\"\",\"\",'No CMS - Deviation - Limits'!B204)","v":""},{"$f":"IF('No CMS - Deviation - Limits'!C204=\"\",\"\",'No CMS - Deviation - Limits'!C204)","v":""},"",{"$f":"IF(COUNTIF(V$2:V182,V182)=1,V182,\"\")","v":""},"","",{"$f":"+IFERROR(INDEX(#REF!,MATCH(ROW()-ROW($Y$1),T$2:T$955,0)),\"\")","v":""},null,{"$f":"+IF(AG182=\"\",\"\",MAX(AC$1:AC181)+1)","v":""},{"$f":"IF('Using CMS - Deviation - Limits'!B204=\"\",\"\",'Using CMS - Deviation - Limits'!B204)","v":""},{"$f":"IF('Using CMS - Deviation - Limits'!C204=\"\",\"\",'Using CMS - Deviation - Limits'!C204)","v":""},"",{"$f":"IF(COUNTIF(AF$2:AF182,AF182)=1,AF182,\"\")","v":""},"","",{"$f":"+IFERROR(INDEX(#REF!,MATCH(ROW()-ROW(AG$1),AC$2:AC$955,0)),\"\")","v":""},{"$nulls":3},{"$f":"+IF(AS182=\"\",\"\",MAX(AN$1:AN181)+1)","v":""},{"$f":"IF('Using CMS - Inop_OoC - CMS'!B204=\"\",\"\",'Using CMS - Inop_OoC - CMS'!B204)","v":""},{"$f":"IF('Using CMS - Inop_OoC - CMS'!C204=\"\",\"\",'Using CMS - Inop_OoC - CMS'!C204)","v":""},{"$f":"IF('Using CMS - Inop_OoC - CMS'!D204=\"\",\"\",'Using CMS - Inop_OoC - CMS'!D204)","v":""},{"$f":"AO182&AP182&Table10[[#This Row],[CMS]]","v":""},{"$f":"IF(COUNTIF(AR$2:AR182,AR182)=1,AR182,\"\")","v":""},"","","",null,{"$f":"+IF(BB182=\"\",\"\",MAX(AX$1:AX181)+1)","v":""},{"$f":"IF('Using CMS - Deviation - Limits'!B204=\"\",\"\",'Using CMS - Deviation - Limits'!B204)","v":""},{"$f":"IF('Using CMS - Deviation - Limits'!C204=\"\",\"\",'Using CMS - Deviation - Limits'!C204)","v":""},{"$f":"AY182&AZ182&Table10[[#This Row],[CMS]]","v":""},{"$f":"IF(COUNTIF(BA$2:BA182,BA182)=1,BA182,\"\")","v":""},"","",{"$f":"+IFERROR(INDEX(#REF!,MATCH(ROW()-ROW(BC$1),AX$2:AX$955,0)),\"\")","v":""}]
[{"$f":"+IF(D183=\"\",\"\",MAX(A$1:A182)+1)","v":""},{"$f":"IF('Process_&_CMS_Identification'!C205=\"\",\"\",'Process_&_CMS_Identification'!C205)","v":""},"",{"$f":"IF(COUNTIF(B$2:B183,B183)=1,B183,\"\")","v":""},{"$nulls":15},{"$f":"+IF(X183=\"\",\"\",MAX(T$1:T182)+1)","v":""},{"$f":"IF('No CMS - Deviation - Limits'!B205=\"\",\"\",'No CMS - Deviation - Limits'!B205)","v":""},{"$f":"IF('No CMS - Deviation - Limits'!C205=\"\",\"\",'No CMS - Deviation - Limits'!C205)","v":""},"",{"$f":"IF(COUNTIF(V$2:V183,V183)=1,V183,\"\")","v":""},"","",{"$f":"+IFERROR(INDEX(#REF!,MATCH(ROW()-ROW($Y$1),T$2:T$955,0)),\"\")","v":""},null,{"$f":"+IF(AG183=\"\",\"\",MAX(AC$1:AC182)+1)","v":""},{"$f":"IF('Using CMS - Deviation - Limits'!B205=\"\",\"\",'Using CMS - Deviation - Limits'!B205)","v":""},{"$f":"IF('Using CMS - Deviation - Limits'!C205=\"\",\"\",'Using CMS - Deviation - Limits'!C205)","v":""},"",{"$f":"IF(COUNTIF(AF$2:AF183,AF183)=1,AF183,\"\")","v":""},"","",{"$f":"+IFERROR(INDEX(#REF!,MATCH(ROW()-ROW(AG$1),AC$2:AC$955,0)),\"\")","v":""},{"$nulls":3},{"$f":"+IF(AS183=\"\",\"\",MAX(AN$1:AN182)+1)","v":""},{"$f":"IF('Using CMS - Inop_OoC - CMS'!B205=\"\",\"\",'Using CMS - Inop_OoC - CMS'!B205)","v":""},{"$f":"IF('Using CMS - Inop_OoC - CMS'!C205=\"\",\"\",'Using CMS - Inop_OoC - CMS'!C205)","v":""},{"$f":"IF('Using CMS - Inop_OoC - CMS'!D205=\"\",\"\",'Using CMS - Inop_OoC - CMS'!D205)","v":""},{"$f":"AO183&AP183&Table10[[#This Row],[CMS]]","v":""},{"$f":"IF(COUNTIF(AR$2:AR183,AR183)=1,AR183,\"\")","v":""},"","","",null,{"$f":"+IF(BB183=\"\",\"\",MAX(AX$1:AX182)+1)","v":""},{"$f":"IF('Using CMS - Deviation - Limits'!B205=\"\",\"\",'Using CMS - Deviation - Limits'!B205)","v":""},{"$f":"IF('Using CMS - Deviation - Limits'!C205=\"\",\"\",'Using CMS - Deviation - Limits'!C205)","v":""},{"$f":"AY183&AZ183&Table10[[#This Row],[CMS]]","v":""},{"$f":"IF(COUNTIF(BA$2:BA183,BA183)=1,BA183,\"\")","v":""},"","",{"$f":"+IFERROR(INDEX(#REF!,MATCH(ROW()-ROW(BC$1),AX$2:AX$955,0)),\"\")","v":""}]
[{"$f":"+IF(D184=\"\",\"\",MAX(A$1:A183)+1)","v":""},{"$f":"IF('Process_&_CMS_Identification'!C206=\"\",\"\",'Process_&_CMS_Identification'!C206)","v":""},"",{"$f":"IF(COUNTIF(B$2:B184,B184)=1,B184,\"\")","v":""},{"$nulls":15},{"$f":"+IF(X184=\"\",\"\",MAX(T$1:T183)+1)","v":""},{"$f":"IF('No CMS - Deviation - Limits'!B206=\"\",\"\",'No CMS - Deviation - Limits'!B206)","v":""},{"$f":"IF('No CMS - Deviation - Limits'!C206=\"\",\"\",'No CMS - Deviation - Limits'!C206)","v":""},"",{"$f":"IF(COUNTIF(V$2:V184,V184)=1,V184,\"\")","v":""},"","",{"$f":"+IFERROR(INDEX(#REF!,MATCH(ROW()-ROW($Y$1),T$2:T$955,0)),\"\")","v":""},null,{"$f":"+IF(AG184=\"\",\"\",MAX(AC$1:AC183)+1)","v":""},{"$f":"IF('Using CMS - Deviation - Limits'!B206=\"\",\"\",'Using CMS - Deviation - Limits'!B206)","v":""},{"$f":"IF('Using CMS - Deviation - Limits'!C206=\"\",\"\",'Using CMS - Deviation - Limits'!C206)","v":""},"",{"$f":"IF(COUNTIF(AF$2:AF184,AF184)=1,AF184,\"\")","v":""},"","",{"$f":"+IFERROR(INDEX(#REF!,MATCH(ROW()-ROW(AG$1),AC$2:AC$955,0)),\"\")","v":""},{"$nulls":3},{"$f":"+IF(AS184=\"\",\"\",MAX(AN$1:AN183)+1)","v":""},{"$f":"IF('Using CMS - Inop_OoC - CMS'!B206=\"\",\"\",'Using CMS - Inop_OoC - CMS'!B206)","v":""},{"$f":"IF('Using CMS - Inop_OoC - CMS'!C206=\"\",\"\",'Using CMS - Inop_OoC - CMS'!C206)","v":""},{"$f":"IF('Using CMS - Inop_OoC - CMS'!D206=\"\",\"\",'Using CMS - Inop_OoC - CMS'!D206)","v":""},{"$f":"AO184&AP184&Table10[[#This Row],[CMS]]","v":""},{"$f":"IF(COUNTIF(AR$2:AR184,AR184)=1,AR184,\"\")","v":""},"","","",null,{"$f":"+IF(BB184=\"\",\"\",MAX(AX$1:AX183)+1)","v":""},{"$f":"IF('Using CMS - Deviation - Limits'!B206=\"\",\"\",'Using CMS - Deviation - Limits'!B206)","v":""},{"$f":"IF('Using CMS - Deviation - Limits'!C206=\"\",\"\",'Using CMS - Deviation - Limits'!C206)","v":""},{"$f":"AY184&AZ184&Table10[[#This Row],[CMS]]","v":""},{"$f":"IF(COUNTIF(BA$2:BA184,BA184)=1,BA184,\"\")","v":""},"","",{"$f":"+IFERROR(INDEX(#REF!,MATCH(ROW()-ROW(BC$1),AX$2:AX$955,0)),\"\")","v":""}]
[{"$f":"+IF(D185=\"\",\"\",MAX(A$1:A184)+1)","v":""},{"$f":"IF('Process_&_CMS_Identification'!C207=\"\",\"\",'Process_&_CMS_Identification'!C207)","v":""},"",{"$f":"IF(COUNTIF(B$2:B185,B185)=1,B185,\"\")","v":""},{"$nulls":15},{"$f":"+IF(X185=\"\",\"\",MAX(T$1:T184)+1)","v":""},{"$f":"IF('No CMS - Deviation - Limits'!B207=\"\",\"\",'No CMS - Deviation - Limits'!B207)","v":""},{"$f":"IF('No CMS - Deviation - Limits'!C207=\"\",\"\",'No CMS - Deviation - Limits'!C207)","v":""},"",{"$f":"IF(COUNTIF(V$2:V185,V185)=1,V185,\"\")","v":""},"","",{"$f":"+IFERROR(INDEX(#REF!,MATCH(ROW()-ROW($Y$1),T$2:T$955,0)),\"\")","v":""},null,{"$f":"+IF(AG185=\"\",\"\",MAX(AC$1:AC184)+1)","v":""},{"$f":"IF('Using CMS - Deviation - Limits'!B207=\"\",\"\",'Using CMS - Deviation - Limits'!B207)","v":""},{"$f":"IF('Using CMS - Deviation - Limits'!C207=\"\",\"\",'Using CMS - Deviation - Limits'!C207)","v":""},"",{"$f":"IF(COUNTIF(AF$2:AF185,AF185)=1,AF185,\"\")","v":""},"","",{"$f":"+IFERROR(INDEX(#REF!,MATCH(ROW()-ROW(AG$1),AC$2:AC$955,0)),\"\")","v":""},{"$nulls":3},{"$f":"+IF(AS185=\"\",\"\",MAX(AN$1:AN184)+1)","v":""},{"$f":"IF('Using CMS - Inop_OoC - CMS'!B207=\"\",\"\",'Using CMS - Inop_OoC - CMS'!B207)","v":""},{"$f":"IF('Using CMS - Inop_OoC - CMS'!C207=\"\",\"\",'Using CMS - Inop_OoC - CMS'!C207)","v":""},{"$f":"IF('Using CMS - Inop_OoC - CMS'!D207=\"\",\"\",'Using CMS - Inop_OoC - CMS'!D207)","v":""},{"$f":"AO185&AP185&Table10[[#This Row],[CMS]]","v":""},{"$f":"IF(COUNTIF(AR$2:AR185,AR185)=1,AR185,\"\")","v":""},"","","",null,{"$f":"+IF(BB185=\"\",\"\",MAX(AX$1:AX184)+1)","v":""},{"$f":"IF('Using CMS - Deviation - Limits'!B207=\"\",\"\",'Using CMS - Deviation - Limits'!B207)","v":""},{"$f":"IF('Using CMS - Deviation - Limits'!C207=\"\",\"\",'Using CMS - Deviation - Limits'!C207)","v":""},{"$f":"AY185&AZ185&Table10[[#This Row],[CMS]]","v":""},{"$f":"IF(COUNTIF(BA$2:BA185,BA185)=1,BA185,\"\")","v":""},"","",{"$f":"+IFERROR(INDEX(#REF!,MATCH(ROW()-ROW(BC$1),AX$2:AX$955,0)),\"\")","v":""}]
[{"$f":"+IF(D186=\"\",\"\",MAX(A$1:A185)+1)","v":""},{"$f":"IF('Process_&_CMS_Identification'!C208=\"\",\"\",'Process_&_CMS_Identification'!C208)","v":""},"",{"$f":"IF(COUNTIF(B$2:B186,B186)=1,B186,\"\")","v":""},{"$nulls":15},{"$f":"+IF(X186=\"\",\"\",MAX(T$1:T185)+1)","v":""},{"$f":"IF('No CMS - Deviation - Limits'!B208=\"\",\"\",'No CMS - Deviation - Limits'!B208)","v":""},{"$f":"IF('No CMS - Deviation - Limits'!C208=\"\",\"\",'No CMS - Deviation - Limits'!C208)","v":""},"",{"$f":"IF(COUNTIF(V$2:V186,V186)=1,V186,\"\")","v":""},"","",{"$f":"+IFERROR(INDEX(#REF!,MATCH(ROW()-ROW($Y$1),T$2:T$955,0)),\"\")","v":""},null,{"$f":"+IF(AG186=\"\",\"\",MAX(AC$1:AC185)+1)","v":""},{"$f":"IF('Using CMS - Deviation - Limits'!B208=\"\",\"\",'Using CMS - Deviation - Limits'!B208)","v":""},{"$f":"IF('Using CMS - Deviation - Limits'!C208=\"\",\"\",'Using CMS - Deviation - Limits'!C208)","v":""},"",{"$f":"IF(COUNTIF(AF$2:AF186,AF186)=1,AF186,\"\")","v":""},"","",{"$f":"+IFERROR(INDEX(#REF!,MATCH(ROW()-ROW(AG$1),AC$2:AC$955,0)),\"\")","v":""},{"$nulls":3},{"$f":"+IF(AS186=\"\",\"\",MAX(AN$1:AN185)+1)","v":""},{"$f":"IF('Using CMS - Inop_OoC - CMS'!B208=\"\",\"\",'Using CMS - Inop_OoC - CMS'!B208)","v":""},{"$f":"IF('Using CMS - Inop_OoC - CMS'!C208=\"\",\"\",'Using CMS - Inop_OoC - CMS'!C208)","v":""},{"$f":"IF('Using CMS - Inop_OoC - CMS'!D208=\"\",\"\",'Using CMS - Inop_OoC - CMS'!D208)","v":""},{"$f":"AO186&AP186&Table10[[#This Row],[CMS]]","v":""},{"$f":"IF(COUNTIF(AR$2:AR186,AR186)=1,AR186,\"\")","v":""},"","","",null,{"$f":"+IF(BB186=\"\",\"\",MAX(AX$1:AX185)+1)","v":""},{"$f":"IF('Using CMS - Deviation - Limits'!B208=\"\",\"\",'Using CMS - Deviation - Limits'!B208)","v":""},{"$f":"IF('Using CMS - Deviation - Limits'!C208=\"\",\"\",'Using CMS - Deviation - Limits'!C208)","v":""},{"$f":"AY186&AZ186&Table10[[#This Row],[CMS]]","v":""},{"$f":"IF(COUNTIF(BA$2:BA186,BA186)=1,BA186,\"\")","v":""},"","",{"$f":"+IFERROR(INDEX(#REF!,MATCH(ROW()-ROW(BC$1),AX$2:AX$955,0)),\"\")","v":""}]
[{"$f":"+IF(D187=\"\",\"\",MAX(A$1:A186)+1)","v":""},{"$f":"IF('Process_&_CMS_Identification'!C209=\"\",\"\",'Process_&_CMS_Identification'!C209)","v":""},"",{"$f":"IF(COUNTIF(B$2:B187,B187)=1,B187,\"\")","v":""},{"$nulls":15},{"$f":"+IF(X187=\"\",\"\",MAX(T$1:T186)+1)","v":""},{"$f":"IF('No CMS - Deviation - Limits'!B209=\"\",\"\",'No CMS - Deviation - Limits'!B209)","v":""},{"$f":"IF('No CMS - Deviation - Limits'!C209=\"\",\"\",'No CMS - Deviation - Limits'!C209)","v":""},"",{"$f":"IF(COUNTIF(V$2:V187,V187)=1,V187,\"\")","v":""},"","",{"$f":"+IFERROR(INDEX(#REF!,MATCH(ROW()-ROW($Y$1),T$2:T$955,0)),\"\")","v":""},null,{"$f":"+IF(AG187=\"\",\"\",MAX(AC$1:AC186)+1)","v":""},{"$f":"IF('Using CMS - Deviation - Limits'!B209=\"\",\"\",'Using CMS - Deviation - Limits'!B209)","v":""},{"$f":"IF('Using CMS - Deviation - Limits'!C209=\"\",\"\",'Using CMS - Deviation - Limits'!C209)","v":""},"",{"$f":"IF(COUNTIF(AF$2:AF187,AF187)=1,AF187,\"\")","v":""},"","",{"$f":"+IFERROR(INDEX(#REF!,MATCH(ROW()-ROW(AG$1),AC$2:AC$955,0)),\"\")","v":""},{"$nulls":3},{"$f":"+IF(AS187=\"\",\"\",MAX(AN$1:AN186)+1)","v":""},{"$f":"IF('Using CMS - Inop_OoC - CMS'!B209=\"\",\"\",'Using CMS - Inop_OoC - CMS'!B209)","v":""},{"$f":"IF('Using CMS - Inop_OoC - CMS'!C209=\"\",\"\",'Using CMS - Inop_OoC - CMS'!C209)","v":""},{"$f":"IF('Using CMS - Inop_OoC - CMS'!D209=\"\",\"\",'Using CMS - Inop_OoC - CMS'!D209)","v":""},{"$f":"AO187&AP187&Table10[[#This Row],[CMS]]","v":""},{"$f":"IF(COUNTIF(AR$2:AR187,AR187)=1,AR187,\"\")","v":""},"","","",null,{"$f":"+IF(BB187=\"\",\"\",MAX(AX$1:AX186)+1)","v":""},{"$f":"IF('Using CMS - Deviation - Limits'!B209=\"\",\"\",'Using CMS - Deviation - Limits'!B209)","v":""},{"$f":"IF('Using CMS - Deviation - Limits'!C209=\"\",\"\",'Using CMS - Deviation - Limits'!C209)","v":""},{"$f":"AY187&AZ187&Table10[[#This Row],[CMS]]","v":""},{"$f":"IF(COUNTIF(BA$2:BA187,BA187)=1,BA187,\"\")","v":""},"","",{"$f":"+IFERROR(INDEX(#REF!,MATCH(ROW()-ROW(BC$1),AX$2:AX$955,0)),\"\")","v":""}]
[{"$f":"+IF(D188=\"\",\"\",MAX(A$1:A187)+1)","v":""},{"$f":"IF('Process_&_CMS_Identification'!C210=\"\",\"\",'Process_&_CMS_Identification'!C210)","v":""},"",{"$f":"IF(COUNTIF(B$2:B188,B188)=1,B188,\"\")","v":""},{"$nulls":15},{"$f":"+IF(X188=\"\",\"\",MAX(T$1:T187)+1)","v":""},{"$f":"IF('No CMS - Deviation - Limits'!B210=\"\",\"\",'No CMS - Deviation - Limits'!B210)","v":""},{"$f":"IF('No CMS - Deviation - Limits'!C210=\"\",\"\",'No CMS - Deviation - Limits'!C210)","v":""},"",{"$f":"IF(COUNTIF(V$2:V188,V188)=1,V188,\"\")","v":""},"","",{"$f":"+IFERROR(INDEX(#REF!,MATCH(ROW()-ROW($Y$1),T$2:T$955,0)),\"\")","v":""},null,{"$f":"+IF(AG188=\"\",\"\",MAX(AC$1:AC187)+1)","v":""},{"$f":"IF('Using CMS - Deviation - Limits'!B210=\"\",\"\",'Using CMS - Deviation - Limits'!B210)","v":""},{"$f":"IF('Using CMS - Deviation - Limits'!C210=\"\",\"\",'Using CMS - Deviation - Limits'!C210)","v":""},"",{"$f":"IF(COUNTIF(AF$2:AF188,AF188)=1,AF188,\"\")","v":""},"","",{"$f":"+IFERROR(INDEX(#REF!,MATCH(ROW()-ROW(AG$1),AC$2:AC$955,0)),\"\")","v":""},{"$nulls":3},{"$f":"+IF(AS188=\"\",\"\",MAX(AN$1:AN187)+1)","v":""},{"$f":"IF('Using CMS - Inop_OoC - CMS'!B210=\"\",\"\",'Using CMS - Inop_OoC - CMS'!B210)","v":""},{"$f":"IF('Using CMS - Inop_OoC - CMS'!C210=\"\",\"\",'Using CMS - Inop_OoC - CMS'!C210)","v":""},{"$f":"IF('Using CMS - Inop_OoC - CMS'!D210=\"\",\"\",'Using CMS - Inop_OoC - CMS'!D210)","v":""},{"$f":"AO188&AP188&Table10[[#This Row],[CMS]]","v":""},{"$f":"IF(COUNTIF(AR$2:AR188,AR188)=1,AR188,\"\")","v":""},"","","",null,{"$f":"+IF(BB188=\"\",\"\",MAX(AX$1:AX187)+1)","v":""},{"$f":"IF('Using CMS - Deviation - Limits'!B210=\"\",\"\",'Using CMS - Deviation - Limits'!B210)","v":""},{"$f":"IF('Using CMS - Deviation - Limits'!C210=\"\",\"\",'Using CMS - Deviation - Limits'!C210)","v":""},{"$f":"AY188&AZ188&Table10[[#This Row],[CMS]]","v":""},{"$f":"IF(COUNTIF(BA$2:BA188,BA188)=1,BA188,\"\")","v":""},"","",{"$f":"+IFERROR(INDEX(#REF!,MATCH(ROW()-ROW(BC$1),AX$2:AX$955,0)),\"\")","v":""}]
[{"$f":"+IF(D189=\"\",\"\",MAX(A$1:A188)+1)","v":""},{"$f":"IF('Process_&_CMS_Identification'!C211=\"\",\"\",'Process_&_CMS_Identification'!C211)","v":""},"",{"$f":"IF(COUNTIF(B$2:B189,B189)=1,B189,\"\")","v":""},{"$nulls":15},{"$f":"+IF(X189=\"\",\"\",MAX(T$1:T188)+1)","v":""},{"$f":"IF('No CMS - Deviation - Limits'!B211=\"\",\"\",'No CMS - Deviation - Limits'!B211)","v":""},{"$f":"IF('No CMS - Deviation - Limits'!C211=\"\",\"\",'No CMS - Deviation - Limits'!C211)","v":""},"",{"$f":"IF(COUNTIF(V$2:V189,V189)=1,V189,\"\")","v":""},"","",{"$f":"+IFERROR(INDEX(#REF!,MATCH(ROW()-ROW($Y$1),T$2:T$955,0)),\"\")","v":""},null,{"$f":"+IF(AG189=\"\",\"\",MAX(AC$1:AC188)+1)","v":""},{"$f":"IF('Using CMS - Deviation - Limits'!B211=\"\",\"\",'Using CMS - Deviation - Limits'!B211)","v":""},{"$f":"IF('Using CMS - Deviation - Limits'!C211=\"\",\"\",'Using CMS - Deviation - Limits'!C211)","v":""},"",{"$f":"IF(COUNTIF(AF$2:AF189,AF189)=1,AF189,\"\")","v":""},"","",{"$f":"+IFERROR(INDEX(#REF!,MATCH(ROW()-ROW(AG$1),AC$2:AC$955,0)),\"\")","v":""},{"$nulls":3},{"$f":"+IF(AS189=\"\",\"\",MAX(AN$1:AN188)+1)","v":""},{"$f":"IF('Using CMS - Inop_OoC - CMS'!B211=\"\",\"\",'Using CMS - Inop_OoC - CMS'!B211)","v":""},{"$f":"IF('Using CMS - Inop_OoC - CMS'!C211=\"\",\"\",'Using CMS - Inop_OoC - CMS'!C211)","v":""},{"$f":"IF('Using CMS - Inop_OoC - CMS'!D211=\"\",\"\",'Using CMS - Inop_OoC - CMS'!D211)","v":""},{"$f":"AO189&AP189&Table10[[#This Row],[CMS]]","v":""},{"$f":"IF(COUNTIF(AR$2:AR189,AR189)=1,AR189,\"\")","v":""},"","","",null,{"$f":"+IF(BB189=\"\",\"\",MAX(AX$1:AX188)+1)","v":""},{"$f":"IF('Using CMS - Deviation - Limits'!B211=\"\",\"\",'Using CMS - Deviation - Limits'!B211)","v":""},{"$f":"IF('Using CMS - Deviation - Limits'!C211=\"\",\"\",'Using CMS - Deviation - Limits'!C211)","v":""},{"$f":"AY189&AZ189&Table10[[#This Row],[CMS]]","v":""},{"$f":"IF(COUNTIF(BA$2:BA189,BA189)=1,BA189,\"\")","v":""},"","",{"$f":"+IFERROR(INDEX(#REF!,MATCH(ROW()-ROW(BC$1),AX$2:AX$955,0)),\"\")","v":""}]
[{"$f":"+IF(D190=\"\",\"\",MAX(A$1:A189)+1)","v":""},{"$f":"IF('Process_&_CMS_Identification'!C212=\"\",\"\",'Process_&_CMS_Identification'!C212)","v":""},"",{"$f":"IF(COUNTIF(B$2:B190,B190)=1,B190,\"\")","v":""},{"$nulls":15},{"$f":"+IF(X190=\"\",\"\",MAX(T$1:T189)+1)","v":""},{"$f":"IF('No CMS - Deviation - Limits'!B212=\"\",\"\",'No CMS - Deviation - Limits'!B212)","v":""},{"$f":"IF('No CMS - Deviation - Limits'!C212=\"\",\"\",'No CMS - Deviation - Limits'!C212)","v":""},"",{"$f":"IF(COUNTIF(V$2:V190,V190)=1,V190,\"\")","v":""},"","",{"$f":"+IFERROR(INDEX(#REF!,MATCH(ROW()-ROW($Y$1),T$2:T$955,0)),\"\")","v":""},null,{"$f":"+IF(AG190=\"\",\"\",MAX(AC$1:AC189)+1)","v":""},{"$f":"IF('Using CMS - Deviation - Limits'!B212=\"\",\"\",'Using CMS - Deviation - Limits'!B212)","v":""},{"$f":"IF('Using CMS - Deviation - Limits'!C212=\"\",\"\",'Using CMS - Deviation - Limits'!C212)","v":""},"",{"$f":"IF(COUNTIF(AF$2:AF190,AF190)=1,AF190,\"\")","v":""},"","",{"$f":"+IFERROR(INDEX(#REF!,MATCH(ROW()-ROW(AG$1),AC$2:AC$955,0)),\"\")","v":""},{"$nulls":3},{"$f":"+IF(AS190=\"\",\"\",MAX(AN$1:AN189)+1)","v":""},{"$f":"IF('Using CMS - Inop_OoC - CMS'!B212=\"\",\"\",'Using CMS - Inop_OoC - CMS'!B212)","v":""},{"$f":"IF('Using CMS - Inop_OoC - CMS'!C212=\"\",\"\",'Using CMS - Inop_OoC - CMS'!C212)","v":""},{"$f":"IF('Using CMS - Inop_OoC - CMS'!D212=\"\",\"\",'Using CMS - Inop_OoC - CMS'!D212)","v":""},{"$f":"AO190&AP190&Table10[[#This Row],[CMS]]","v":""},{"$f":"IF(COUNTIF(AR$2:AR190,AR190)=1,AR190,\"\")","v":""},"","","",null,{"$f":"+IF(BB190=\"\",\"\",MAX(AX$1:AX189)+1)","v":""},{"$f":"IF('Using CMS - Deviation - Limits'!B212=\"\",\"\",'Using CMS - Deviation - Limits'!B212)","v":""},{"$f":"IF('Using CMS - Deviation - Limits'!C212=\"\",\"\",'Using CMS - Deviation - Limits'!C212)","v":""},{"$f":"AY190&AZ190&Table10[[#This Row],[CMS]]","v":""},{"$f":"IF(COUNTIF(BA$2:BA190,BA190)=1,BA190,\"\")","v":""},"","",{"$f":"+IFERROR(INDEX(#REF!,MATCH(ROW()-ROW(BC$1),AX$2:AX$955,0)),\"\")","v":""}]
[{"$f":"+IF(D191=\"\",\"\",MAX(A$1:A190)+1)","v":""},{"$f":"IF('Process_&_CMS_Identification'!C213=\"\",\"\",'Process_&_CMS_Identification'!C213)","v":""},"",{"$f":"IF(COUNTIF(B$2:B191,B191)=1,B191,\"\")","v":""},{"$nulls":15},{"$f":"+IF(X191=\"\",\"\",MAX(T$1:T190)+1)","v":""},{"$f":"IF('No CMS - Deviation - Limits'!B213=\"\",\"\",'No CMS - Deviation - Limits'!B213)","v":""},{"$f":"IF('No CMS - Deviation - Limits'!C213=\"\",\"\",'No CMS - Deviation - Limits'!C213)","v":""},"",{"$f":"IF(COUNTIF(V$2:V191,V191)=1,V191,\"\")","v":""},"","",{"$f":"+IFERROR(INDEX(#REF!,MATCH(ROW()-ROW($Y$1),T$2:T$955,0)),\"\")","v":""},null,{"$f":"+IF(AG191=\"\",\"\",MAX(AC$1:AC190)+1)","v":""},{"$f":"IF('Using CMS - Deviation - Limits'!B213=\"\",\"\",'Using CMS - Deviation - Limits'!B213)","v":""},{"$f":"IF('Using CMS - Deviation - Limits'!C213=\"\",\"\",'Using CMS - Deviation - Limits'!C213)","v":""},"",{"$f":"IF(COUNTIF(AF$2:AF191,AF191)=1,AF191,\"\")","v":""},"","",{"$f":"+IFERROR(INDEX(#REF!,MATCH(ROW()-ROW(AG$1),AC$2:AC$955,0)),\"\")","v":""},{"$nulls":3},{"$f":"+IF(AS191=\"\",\"\",MAX(AN$1:AN190)+1)","v":""},{"$f":"IF('Using CMS - Inop_OoC - CMS'!B213=\"\",\"\",'Using CMS - Inop_OoC - CMS'!B213)","v":""},{"$f":"IF('Using CMS - Inop_OoC - CMS'!C213=\"\",\"\",'Using CMS - Inop_OoC - CMS'!C213)","v":""},{"$f":"IF('Using CMS - Inop_OoC - CMS'!D213=\"\",\"\",'Using CMS - Inop_OoC - CMS'!D213)","v":""},{"$f":"AO191&AP191&Table10[[#This Row],[CMS]]","v":""},{"$f":"IF(COUNTIF(AR$2:AR191,AR191)=1,AR191,\"\")","v":""},"","","",null,{"$f":"+IF(BB191=\"\",\"\",MAX(AX$1:AX190)+1)","v":""},{"$f":"IF('Using CMS - Deviation - Limits'!B213=\"\",\"\",'Using CMS - Deviation - Limits'!B213)","v":""},{"$f":"IF('Using CMS - Deviation - Limits'!C213=\"\",\"\",'Using CMS - Deviation - Limits'!C213)","v":""},{"$f":"AY191&AZ191&Table10[[#This Row],[CMS]]","v":""},{"$f":"IF(COUNTIF(BA$2:BA191,BA191)=1,BA191,\"\")","v":""},"","",{"$f":"+IFERROR(INDEX(#REF!,MATCH(ROW()-ROW(BC$1),AX$2:AX$955,0)),\"\")","v":""}]
[{"$f":"+IF(D192=\"\",\"\",MAX(A$1:A191)+1)","v":""},{"$f":"IF('Process_&_CMS_Identification'!C214=\"\",\"\",'Process_&_CMS_Identification'!C214)","v":""},"",{"$f":"IF(COUNTIF(B$2:B192,B192)=1,B192,\"\")","v":""},{"$nulls":15},{"$f":"+IF(X192=\"\",\"\",MAX(T$1:T191)+1)","v":""},{"$f":"IF('No CMS - Deviation - Limits'!B214=\"\",\"\",'No CMS - Deviation - Limits'!B214)","v":""},{"$f":"IF('No CMS - Deviation - Limits'!C214=\"\",\"\",'No CMS - Deviation - Limits'!C214)","v":""},"",{"$f":"IF(COUNTIF(V$2:V192,V192)=1,V192,\"\")","v":""},"","",{"$f":"+IFERROR(INDEX(#REF!,MATCH(ROW()-ROW($Y$1),T$2:T$955,0)),\"\")","v":""},null,{"$f":"+IF(AG192=\"\",\"\",MAX(AC$1:AC191)+1)","v":""},{"$f":"IF('Using CMS - Deviation - Limits'!B214=\"\",\"\",'Using CMS - Deviation - Limits'!B214)","v":""},{"$f":"IF('Using CMS - Deviation - Limits'!C214=\"\",\"\",'Using CMS - Deviation - Limits'!C214)","v":""},"",{"$f":"IF(COUNTIF(AF$2:AF192,AF192)=1,AF192,\"\")","v":""},"","",{"$f":"+IFERROR(INDEX(#REF!,MATCH(ROW()-ROW(AG$1),AC$2:AC$955,0)),\"\")","v":""},{"$nulls":3},{"$f":"+IF(AS192=\"\",\"\",MAX(AN$1:AN191)+1)","v":""},{"$f":"IF('Using CMS - Inop_OoC - CMS'!B214=\"\",\"\",'Using CMS - Inop_OoC - CMS'!B214)","v":""},{"$f":"IF('Using CMS - Inop_OoC - CMS'!C214=\"\",\"\",'Using CMS - Inop_OoC - CMS'!C214)","v":""},{"$f":"IF('Using CMS - Inop_OoC - CMS'!D214=\"\",\"\",'Using CMS - Inop_OoC - CMS'!D214)","v":""},{"$f":"AO192&AP192&Table10[[#This Row],[CMS]]","v":""},{"$f":"IF(COUNTIF(AR$2:AR192,AR192)=1,AR192,\"\")","v":""},"","","",null,{"$f":"+IF(BB192=\"\",\"\",MAX(AX$1:AX191)+1)","v":""},{"$f":"IF('Using CMS - Deviation - Limits'!B214=\"\",\"\",'Using CMS - Deviation - Limits'!B214)","v":""},{"$f":"IF('Using CMS - Deviation - Limits'!C214=\"\",\"\",'Using CMS - Deviation - Limits'!C214)","v":""},{"$f":"AY192&AZ192&Table10[[#This Row],[CMS]]","v":""},{"$f":"IF(COUNTIF(BA$2:BA192,BA192)=1,BA192,\"\")","v":""},"","",{"$f":"+IFERROR(INDEX(#REF!,MATCH(ROW()-ROW(BC$1),AX$2:AX$955,0)),\"\")","v":""}]
[{"$f":"+IF(D193=\"\",\"\",MAX(A$1:A192)+1)","v":""},{"$f":"IF('Process_&_CMS_Identification'!C215=\"\",\"\",'Process_&_CMS_Identification'!C215)","v":""},"",{"$f":"IF(COUNTIF(B$2:B193,B193)=1,B193,\"\")","v":""},{"$nulls":15},{"$f":"+IF(X193=\"\",\"\",MAX(T$1:T192)+1)","v":""},{"$f":"IF('No CMS - Deviation - Limits'!B215=\"\",\"\",'No CMS - Deviation - Limits'!B215)","v":""},{"$f":"IF('No CMS - Deviation - Limits'!C215=\"\",\"\",'No CMS - Deviation - Limits'!C215)","v":""},"",{"$f":"IF(COUNTIF(V$2:V193,V193)=1,V193,\"\")","v":""},"","",{"$f":"+IFERROR(INDEX(#REF!,MATCH(ROW()-ROW($Y$1),T$2:T$955,0)),\"\")","v":""},null,{"$f":"+IF(AG193=\"\",\"\",MAX(AC$1:AC192)+1)","v":""},{"$f":"IF('Using CMS - Deviation - Limits'!B215=\"\",\"\",'Using CMS - Deviation - Limits'!B215)","v":""},{"$f":"IF('Using CMS - Deviation - Limits'!C215=\"\",\"\",'Using CMS - Deviation - Limits'!C215)","v":""},"",{"$f":"IF(COUNTIF(AF$2:AF193,AF193)=1,AF193,\"\")","v":""},"","",{"$f":"+IFERROR(INDEX(#REF!,MATCH(ROW()-ROW(AG$1),AC$2:AC$955,0)),\"\")","v":""},{"$nulls":3},{"$f":"+IF(AS193=\"\",\"\",MAX(AN$1:AN192)+1)","v":""},{"$f":"IF('Using CMS - Inop_OoC - CMS'!B215=\"\",\"\",'Using CMS - Inop_OoC - CMS'!B215)","v":""},{"$f":"IF('Using CMS - Inop_OoC - CMS'!C215=\"\",\"\",'Using CMS - Inop_OoC - CMS'!C215)","v":""},{"$f":"IF('Using CMS - Inop_OoC - CMS'!D215=\"\",\"\",'Using CMS - Inop_OoC - CMS'!D215)","v":""},{"$f":"AO193&AP193&Table10[[#This Row],[CMS]]","v":""},{"$f":"IF(COUNTIF(AR$2:AR193,AR193)=1,AR193,\"\")","v":""},"","","",null,{"$f":"+IF(BB193=\"\",\"\",MAX(AX$1:AX192)+1)","v":""},{"$f":"IF('Using CMS - Deviation - Limits'!B215=\"\",\"\",'Using CMS - Deviation - Limits'!B215)","v":""},{"$f":"IF('Using CMS - Deviation - Limits'!C215=\"\",\"\",'Using CMS - Deviation - Limits'!C215)","v":""},{"$f":"AY193&AZ193&Table10[[#This Row],[CMS]]","v":""},{"$f":"IF(COUNTIF(BA$2:BA193,BA193)=1,BA193,\"\")","v":""},"","",{"$f":"+IFERROR(INDEX(#REF!,MATCH(ROW()-ROW(BC$1),AX$2:AX$955,0)),\"\")","v":""}]
[{"$f":"+IF(D194=\"\",\"\",MAX(A$1:A193)+1)","v":""},{"$f":"IF('Process_&_CMS_Identification'!C216=\"\",\"\",'Process_&_CMS_Identification'!C216)","v":""},{"$f":"+IFERROR(INDEX(B$2:B$501,MATCH(ROW()-ROW($C$1),A$2:A$501,0)),\"\")","v":""},{"$f":"IF(COUNTIF(B$2:B194,B194)=1,B194,\"\")","v":""},{"$nulls":15},{"$f":"+IF(X194=\"\",\"\",MAX(T$1:T193)+1)","v":""},{"$f":"IF('No CMS - Deviation - Limits'!B216=\"\",\"\",'No CMS - Deviation - Limits'!B216)","v":""},{"$f":"IF('No CMS - Deviation - Limits'!C216=\"\",\"\",'No CMS - Deviation - Limits'!C216)","v":""},{"$f":"U194&V194","v":""},{"$f":"IF(COUNTIF(V$2:V194,V194)=1,V194,\"\")","v":""},{"$f":"+IFERROR(INDEX(U$2:U$955,MATCH(ROW()-ROW($Y$1),T$2:T$955,0)),\"\")","v":""},{"$f":"+IFERROR(INDEX(V$2:V$955,MATCH(ROW()-ROW($Y$1),T$2:T$955,0)),\"\")","v":""},{"$f":"+IFERROR(INDEX(#REF!,MATCH(ROW()-ROW($Y$1),T$2:T$955,0)),\"\")","v":""},null,{"$f":"+IF(AG194=\"\",\"\",MAX(AC$1:AC193)+1)","v":""},{"$f":"IF('Using CMS - Deviation - Limits'!B216=\"\",\"\",'Using CMS - Deviation - Limits'!B216)","v":""},{"$f":"IF('Using CMS - Deviation - Limits'!C216=\"\",\"\",'Using CMS - Deviation - Limits'!C216)","v":""},{"$f":"AD194&AE194","v":""},{"$f":"IF(COUNTIF(AF$2:AF194,AF194)=1,AF194,\"\")","v":""},{"$f":"+IFERROR(INDEX(AD$2:AD$955,MATCH(ROW()-ROW(HX$1),AC$2:AC$955,0)),\"\")","v":""},{"$f":"+IFERROR(INDEX(AE$2:AE$955,MATCH(ROW()-ROW(AG$1),AC$2:AC$955,0)),\"\")","v":""},{"$f":"+IFERROR(INDEX(#REF!,MATCH(ROW()-ROW(AG$1),AC$2:AC$955,0)),\"\")","v":""},{"$nulls":3},{"$f":"+IF(AS194=\"\",\"\",MAX(AN$1:AN193)+1)","v":""},{"$f":"IF('Using CMS - Inop_OoC - CMS'!B216=\"\",\"\",'Using CMS - Inop_OoC - CMS'!B216)","v":""},{"$f":"IF('Using CMS - Inop_OoC - CMS'!C216=\"\",\"\",'Using CMS - Inop_OoC - CMS'!C216)","v":""},{"$f":"IF('Using CMS - Inop_OoC - CMS'!D216=\"\",\"\",'Using CMS - Inop_OoC - CMS'!D216)","v":""},{"$f":"AO194&AP194&Table10[[#This Row],[CMS]]","v":""},{"$f":"IF(COUNTIF(AR$2:AR194,AR194)=1,AR194,\"\")","v":""},"","",{"$f":"+IFERROR(INDEX(AQ$2:AQ$955,MATCH(ROW()-ROW(AT$1),AN$2:AN$955,0)),\"\")","v":""},null,{"$f":"+IF(BB194=\"\",\"\",MAX(AX$1:AX193)+1)","v":""},{"$f":"IF('Using CMS - Deviation - Limits'!B216=\"\",\"\",'Using CMS - Deviation - Limits'!B216)","v":""},{"$f":"IF('Using CMS - Deviation - Limits'!C216=\"\",\"\",'Using CMS - Deviation - Limits'!C216)","v":""},{"$f":"AY194&AZ194&Table10[[#This Row],[CMS]]","v":""},{"$f":"IF(COUNTIF(BA$2:BA194,BA194)=1,BA194,\"\")","v":""},{"$f":"+IFERROR(INDEX(AY$2:AY$955,MATCH(ROW()-ROW(BB$1),AX$2:AX$955,0)),\"\")","v":""},{"$f":"+IFERROR(INDEX(AZ$2:AZ$955,MATCH(ROW()-ROW(BB$1),AX$2:AX$955,0)),\"\")","v":""},{"$f":"+IFERROR(INDEX(#REF!,MATCH(ROW()-ROW(BC$1),AX$2:AX$955,0)),\"\")","v":""}]
[{"$f":"+IF(D195=\"\",\"\",MAX(A$1:A194)+1)","v":""},{"$f":"IF('Process_&_CMS_Identification'!C217=\"\",\"\",'Process_&_CMS_Identification'!C217)","v":""},"",{"$f":"IF(COUNTIF(B$2:B195,B195)=1,B195,\"\")","v":""},{"$nulls":15},{"$f":"+IF(X195=\"\",\"\",MAX(T$1:T194)+1)","v":""},{"$f":"IF('No CMS - Deviation - Limits'!B217=\"\",\"\",'No CMS - Deviation - Limits'!B217)","v":""},{"$f":"IF('No CMS - Deviation - Limits'!C217=\"\",\"\",'No CMS - Deviation - Limits'!C217)","v":""},"",{"$f":"IF(COUNTIF(V$2:V195,V195)=1,V195,\"\")","v":""},"","",{"$f":"+IFERROR(INDEX(#REF!,MATCH(ROW()-ROW($Y$1),T$2:T$955,0)),\"\")","v":""},null,{"$f":"+IF(AG195=\"\",\"\",MAX(AC$1:AC194)+1)","v":""},{"$f":"IF('Using CMS - Deviation - Limits'!B217=\"\",\"\",'Using CMS - Deviation - Limits'!B217)","v":""},{"$f":"IF('Using CMS - Deviation - Limits'!C217=\"\",\"\",'Using CMS - Deviation - Limits'!C217)","v":""},"",{"$f":"IF(COUNTIF(AF$2:AF195,AF195)=1,AF195,\"\")","v":""},"","",{"$f":"+IFERROR(INDEX(#REF!,MATCH(ROW()-ROW(AG$1),AC$2:AC$955,0)),\"\")","v":""},{"$nulls":3},{"$f":"+IF(AS195=\"\",\"\",MAX(AN$1:AN194)+1)","v":""},{"$f":"IF('Using CMS - Inop_OoC - CMS'!B217=\"\",\"\",'Using CMS - Inop_OoC - CMS'!B217)","v":""},{"$f":"IF('Using CMS - Inop_OoC - CMS'!C217=\"\",\"\",'Using CMS - Inop_OoC - CMS'!C217)","v":""},{"$f":"IF('Using CMS - Inop_OoC - CMS'!D217=\"\",\"\",'Using CMS - Inop_OoC - CMS'!D217)","v":""},{"$f":"AO195&AP195&Table10[[#This Row],[CMS]]","v":""},{"$f":"IF(COUNTIF(AR$2:AR195,AR195)=1,AR195,\"\")","v":""},{"$f":"+IFERROR(INDEX(AO$2:AO$955,MATCH(ROW()-ROW(AS$1),AN$2:AN$955,0)),\"\")","v":""},{"$f":"+IFERROR(INDEX(AP$2:AP$955,MATCH(ROW()-ROW(AS$1),AN$2:AN$955,0)),\"\")","v":""},"",null,{"$f":"+IF(BB195=\"\",\"\",MAX(AX$1:AX194)+1)","v":""},{"$f":"IF('Using CMS - Deviation - Limits'!B217=\"\",\"\",'Using CMS - Deviation - Limits'!B217)","v":""},{"$f":"IF('Using CMS - Deviation - Limits'!C217=\"\",\"\",'Using CMS - Deviation - Limits'!C217)","v":""},{"$f":"AY195&AZ195&Table10[[#This Row],[CMS]]","v":""},{"$f":"IF(COUNTIF(BA$2:BA195,BA195)=1,BA195,\"\")","v":""},"","",{"$f":"+IFERROR(INDEX(#REF!,MATCH(ROW()-ROW(BC$1),AX$2:AX$955,0)),\"\")","v":""}]
[{"$f":"+IF(D196=\"\",\"\",MAX(A$1:A195)+1)","v":""},{"$f":"IF('Process_&_CMS_Identification'!C218=\"\",\"\",'Process_&_CMS_Identification'!C218)","v":""},"",{"$f":"IF(COUNTIF(B$2:B196,B196)=1,B196,\"\")","v":""},{"$nulls":15},{"$f":"+IF(X196=\"\",\"\",MAX(T$1:T195)+1)","v":""},{"$f":"IF('No CMS - Deviation - Limits'!B218=\"\",\"\",'No CMS - Deviation - Limits'!B218)","v":""},{"$f":"IF('No CMS - Deviation - Limits'!C218=\"\",\"\",'No CMS - Deviation - Limits'!C218)","v":""},"",{"$f":"IF(COUNTIF(V$2:V196,V196)=1,V196,\"\")","v":""},"","",{"$f":"+IFERROR(INDEX(#REF!,MATCH(ROW()-ROW($Y$1),T$2:T$955,0)),\"\")","v":""},null,{"$f":"+IF(AG196=\"\",\"\",MAX(AC$1:AC195)+1)","v":""},{"$f":"IF('Using CMS - Deviation - Limits'!B218=\"\",\"\",'Using CMS - Deviation - Limits'!B218)","v":""},{"$f":"IF('Using CMS - Deviation - Limits'!C218=\"\",\"\",'Using CMS - Deviation - Limits'!C218)","v":""},"",{"$f":"IF(COUNTIF(AF$2:AF196,AF196)=1,AF196,\"\")","v":""},"","",{"$f":"+IFERROR(INDEX(#REF!,MATCH(ROW()-ROW(AG$1),AC$2:AC$955,0)),\"\")","v":""},{"$nulls":3},{"$f":"+IF(AS196=\"\",\"\",MAX(AN$1:AN195)+1)","v":""},{"$f":"IF('Using CMS - Inop_OoC - CMS'!B218=\"\",\"\",'Using CMS - Inop_OoC - CMS'!B218)","v":""},{"$f":"IF('Using CMS - Inop_OoC - CMS'!C218=\"\",\"\",'Using CMS - Inop_OoC - CMS'!C218)","v":""},{"$f":"IF('Using CMS - Inop_OoC - CMS'!D218=\"\",\"\",'Using CMS - Inop_OoC - CMS'!D218)","v":""},{"$f":"AO196&AP196&Table10[[#This Row],[CMS]]","v":""},{"$f":"IF(COUNTIF(AR$2:AR196,AR196)=1,AR196,\"\")","v":""},"","","",null,{"$f":"+IF(BB196=\"\",\"\",MAX(AX$1:AX195)+1)","v":""},{"$f":"IF('Using CMS - Deviation - Limits'!B218=\"\",\"\",'Using CMS - Deviation - Limits'!B218)","v":""},{"$f":"IF('Using CMS - Deviation - Limits'!C218=\"\",\"\",'Using CMS - Deviation - Limits'!C218)","v":""},{"$f":"AY196&AZ196&Table10[[#This Row],[CMS]]","v":""},{"$f":"IF(COUNTIF(BA$2:BA196,BA196)=1,BA196,\"\")","v":""},"","",{"$f":"+IFERROR(INDEX(#REF!,MATCH(ROW()-ROW(BC$1),AX$2:AX$955,0)),\"\")","v":""}]
[{"$f":"+IF(D197=\"\",\"\",MAX(A$1:A196)+1)","v":""},{"$f":"IF('Process_&_CMS_Identification'!C219=\"\",\"\",'Process_&_CMS_Identification'!C219)","v":""},"",{"$f":"IF(COUNTIF(B$2:B197,B197)=1,B197,\"\")","v":""},{"$nulls":15},{"$f":"+IF(X197=\"\",\"\",MAX(T$1:T196)+1)","v":""},{"$f":"IF('No CMS - Deviation - Limits'!B219=\"\",\"\",'No CMS - Deviation - Limits'!B219)","v":""},{"$f":"IF('No CMS - Deviation - Limits'!C219=\"\",\"\",'No CMS - Deviation - Limits'!C219)","v":""},"",{"$f":"IF(COUNTIF(V$2:V197,V197)=1,V197,\"\")","v":""},"","",{"$f":"+IFERROR(INDEX(#REF!,MATCH(ROW()-ROW($Y$1),T$2:T$955,0)),\"\")","v":""},null,{"$f":"+IF(AG197=\"\",\"\",MAX(AC$1:AC196)+1)","v":""},{"$f":"IF('Using CMS - Deviation - Limits'!B219=\"\",\"\",'Using CMS - Deviation - Limits'!B219)","v":""},{"$f":"IF('Using CMS - Deviation - Limits'!C219=\"\",\"\",'Using CMS - Deviation - Limits'!C219)","v":""},"",{"$f":"IF(COUNTIF(AF$2:AF197,AF197)=1,AF197,\"\")","v":""},"","",{"$f":"+IFERROR(INDEX(#REF!,MATCH(ROW()-ROW(AG$1),AC$2:AC$955,0)),\"\")","v":""},{"$nulls":3},{"$f":"+IF(AS197=\"\",\"\",MAX(AN$1:AN196)+1)","v":""},{"$f":"IF('Using CMS - Inop_OoC - CMS'!B219=\"\",\"\",'Using CMS - Inop_OoC - CMS'!B219)","v":""},{"$f":"IF('Using CMS - Inop_OoC - CMS'!C219=\"\",\"\",'Using CMS - Inop_OoC - CMS'!C219)","v":""},{"$f":"IF('Using CMS - Inop_OoC - CMS'!D219=\"\",\"\",'Using CMS - Inop_OoC - CMS'!D219)","v":""},{"$f":"AO197&AP197&Table10[[#This Row],[CMS]]","v":""},{"$f":"IF(COUNTIF(AR$2:AR197,AR197)=1,AR197,\"\")","v":""},"","","",null,{"$f":"+IF(BB197=\"\",\"\",MAX(AX$1:AX196)+1)","v":""},{"$f":"IF('Using CMS - Deviation - Limits'!B219=\"\",\"\",'Using CMS - Deviation - Limits'!B219)","v":""},{"$f":"IF('Using CMS - Deviation - Limits'!C219=\"\",\"\",'Using CMS - Deviation - Limits'!C219)","v":""},{"$f":"AY197&AZ197&Table10[[#This Row],[CMS]]","v":""},{"$f":"IF(COUNTIF(BA$2:BA197,BA197)=1,BA197,\"\")","v":""},"","",{"$f":"+IFERROR(INDEX(#REF!,MATCH(ROW()-ROW(BC$1),AX$2:AX$955,0)),\"\")","v":""}]
[{"$f":"+IF(D198=\"\",\"\",MAX(A$1:A197)+1)","v":""},{"$f":"IF('Process_&_CMS_Identification'!C220=\"\",\"\",'Process_&_CMS_Identification'!C220)","v":""},"",{"$f":"IF(COUNTIF(B$2:B198,B198)=1,B198,\"\")","v":""},{"$nulls":15},{"$f":"+IF(X198=\"\",\"\",MAX(T$1:T197)+1)","v":""},{"$f":"IF('No CMS - Deviation - Limits'!B220=\"\",\"\",'No CMS - Deviation - Limits'!B220)","v":""},{"$f":"IF('No CMS - Deviation - Limits'!C220=\"\",\"\",'No CMS - Deviation - Limits'!C220)","v":""},"",{"$f":"IF(COUNTIF(V$2:V198,V198)=1,V198,\"\")","v":""},"","",{"$f":"+IFERROR(INDEX(#REF!,MATCH(ROW()-ROW($Y$1),T$2:T$955,0)),\"\")","v":""},null,{"$f":"+IF(AG198=\"\",\"\",MAX(AC$1:AC197)+1)","v":""},{"$f":"IF('Using CMS - Deviation - Limits'!B220=\"\",\"\",'Using CMS - Deviation - Limits'!B220)","v":""},{"$f":"IF('Using CMS - Deviation - Limits'!C220=\"\",\"\",'Using CMS - Deviation - Limits'!C220)","v":""},"",{"$f":"IF(COUNTIF(AF$2:AF198,AF198)=1,AF198,\"\")","v":""},"","",{"$f":"+IFERROR(INDEX(#REF!,MATCH(ROW()-ROW(AG$1),AC$2:AC$955,0)),\"\")","v":""},{"$nulls":3},{"$f":"+IF(AS198=\"\",\"\",MAX(AN$1:AN197)+1)","v":""},{"$f":"IF('Using CMS - Inop_OoC - CMS'!B220=\"\",\"\",'Using CMS - Inop_OoC - CMS'!B220)","v":""},{"$f":"IF('Using CMS - Inop_OoC - CMS'!C220=\"\",\"\",'Using CMS - Inop_OoC - CMS'!C220)","v":""},{"$f":"IF('Using CMS - Inop_OoC - CMS'!D220=\"\",\"\",'Using CMS - Inop_OoC - CMS'!D220)","v":""},{"$f":"AO198&AP198&Table10[[#This Row],[CMS]]","v":""},{"$f":"IF(COUNTIF(AR$2:AR198,AR198)=1,AR198,\"\")","v":""},"","","",null,{"$f":"+IF(BB198=\"\",\"\",MAX(AX$1:AX197)+1)","v":""},{"$f":"IF('Using CMS - Deviation - Limits'!B220=\"\",\"\",'Using CMS - Deviation - Limits'!B220)","v":""},{"$f":"IF('Using CMS - Deviation - Limits'!C220=\"\",\"\",'Using CMS - Deviation - Limits'!C220)","v":""},{"$f":"AY198&AZ198&Table10[[#This Row],[CMS]]","v":""},{"$f":"IF(COUNTIF(BA$2:BA198,BA198)=1,BA198,\"\")","v":""},"","",{"$f":"+IFERROR(INDEX(#REF!,MATCH(ROW()-ROW(BC$1),AX$2:AX$955,0)),\"\")","v":""}]
[{"$f":"+IF(D199=\"\",\"\",MAX(A$1:A198)+1)","v":""},{"$f":"IF('Process_&_CMS_Identification'!C221=\"\",\"\",'Process_&_CMS_Identification'!C221)","v":""},"",{"$f":"IF(COUNTIF(B$2:B199,B199)=1,B199,\"\")","v":""},{"$nulls":15},{"$f":"+IF(X199=\"\",\"\",MAX(T$1:T198)+1)","v":""},{"$f":"IF('No CMS - Deviation - Limits'!B221=\"\",\"\",'No CMS - Deviation - Limits'!B221)","v":""},{"$f":"IF('No CMS - Deviation - Limits'!C221=\"\",\"\",'No CMS - Deviation - Limits'!C221)","v":""},"",{"$f":"IF(COUNTIF(V$2:V199,V199)=1,V199,\"\")","v":""},"","",{"$f":"+IFERROR(INDEX(#REF!,MATCH(ROW()-ROW($Y$1),T$2:T$955,0)),\"\")","v":""},null,{"$f":"+IF(AG199=\"\",\"\",MAX(AC$1:AC198)+1)","v":""},{"$f":"IF('Using CMS - Deviation - Limits'!B221=\"\",\"\",'Using CMS - Deviation - Limits'!B221)","v":""},{"$f":"IF('Using CMS - Deviation - Limits'!C221=\"\",\"\",'Using CMS - Deviation - Limits'!C221)","v":""},"",{"$f":"IF(COUNTIF(AF$2:AF199,AF199)=1,AF199,\"\")","v":""},"","",{"$f":"+IFERROR(INDEX(#REF!,MATCH(ROW()-ROW(AG$1),AC$2:AC$955,0)),\"\")","v":""},{"$nulls":3},{"$f":"+IF(AS199=\"\",\"\",MAX(AN$1:AN198)+1)","v":""},{"$f":"IF('Using CMS - Inop_OoC - CMS'!B221=\"\",\"\",'Using CMS - Inop_OoC - CMS'!B221)","v":""},{"$f":"IF('Using CMS - Inop_OoC - CMS'!C221=\"\",\"\",'Using CMS - Inop_OoC - CMS'!C221)","v":""},{"$f":"IF('Using CMS - Inop_OoC - CMS'!D221=\"\",\"\",'Using CMS - Inop_OoC - CMS'!D221)","v":""},{"$f":"AO199&AP199&Table10[[#This Row],[CMS]]","v":""},{"$f":"IF(COUNTIF(AR$2:AR199,AR199)=1,AR199,\"\")","v":""},"","","",null,{"$f":"+IF(BB199=\"\",\"\",MAX(AX$1:AX198)+1)","v":""},{"$f":"IF('Using CMS - Deviation - Limits'!B221=\"\",\"\",'Using CMS - Deviation - Limits'!B221)","v":""},{"$f":"IF('Using CMS - Deviation - Limits'!C221=\"\",\"\",'Using CMS - Deviation - Limits'!C221)","v":""},{"$f":"AY199&AZ199&Table10[[#This Row],[CMS]]","v":""},{"$f":"IF(COUNTIF(BA$2:BA199,BA199)=1,BA199,\"\")","v":""},"","",{"$f":"+IFERROR(INDEX(#REF!,MATCH(ROW()-ROW(BC$1),AX$2:AX$955,0)),\"\")","v":""}]
[{"$f":"+IF(D200=\"\",\"\",MAX(A$1:A199)+1)","v":""},{"$f":"IF('Process_&_CMS_Identification'!C222=\"\",\"\",'Process_&_CMS_Identification'!C222)","v":""},"",{"$f":"IF(COUNTIF(B$2:B200,B200)=1,B200,\"\")","v":""},{"$nulls":15},{"$f":"+IF(X200=\"\",\"\",MAX(T$1:T199)+1)","v":""},{"$f":"IF('No CMS - Deviation - Limits'!B222=\"\",\"\",'No CMS - Deviation - Limits'!B222)","v":""},{"$f":"IF('No CMS - Deviation - Limits'!C222=\"\",\"\",'No CMS - Deviation - Limits'!C222)","v":""},"",{"$f":"IF(COUNTIF(V$2:V200,V200)=1,V200,\"\")","v":""},"","",{"$f":"+IFERROR(INDEX(#REF!,MATCH(ROW()-ROW($Y$1),T$2:T$955,0)),\"\")","v":""},null,{"$f":"+IF(AG200=\"\",\"\",MAX(AC$1:AC199)+1)","v":""},{"$f":"IF('Using CMS - Deviation - Limits'!B222=\"\",\"\",'Using CMS - Deviation - Limits'!B222)","v":""},{"$f":"IF('Using CMS - Deviation - Limits'!C222=\"\",\"\",'Using CMS - Deviation - Limits'!C222)","v":""},"",{"$f":"IF(COUNTIF(AF$2:AF200,AF200)=1,AF200,\"\")","v":""},"","",{"$f":"+IFERROR(INDEX(#REF!,MATCH(ROW()-ROW(AG$1),AC$2:AC$955,0)),\"\")","v":""},{"$nulls":3},{"$f":"+IF(AS200=\"\",\"\",MAX(AN$1:AN199)+1)","v":""},{"$f":"IF('Using CMS - Inop_OoC - CMS'!B222=\"\",\"\",'Using CMS - Inop_OoC - CMS'!B222)","v":""},{"$f":"IF('Using CMS - Inop_OoC - CMS'!C222=\"\",\"\",'Using CMS - Inop_OoC - CMS'!C222)","v":""},{"$f":"IF('Using CMS - Inop_OoC - CMS'!D222=\"\",\"\",'Using CMS - Inop_OoC - CMS'!D222)","v":""},{"$f":"AO200&AP200&Table10[[#This Row],[CMS]]","v":""},{"$f":"IF(COUNTIF(AR$2:AR200,AR200)=1,AR200,\"\")","v":""},"","","",null,{"$f":"+IF(BB200=\"\",\"\",MAX(AX$1:AX199)+1)","v":""},{"$f":"IF('Using CMS - Deviation - Limits'!B222=\"\",\"\",'Using CMS - Deviation - Limits'!B222)","v":""},{"$f":"IF('Using CMS - Deviation - Limits'!C222=\"\",\"\",'Using CMS - Deviation - Limits'!C222)","v":""},{"$f":"AY200&AZ200&Table10[[#This Row],[CMS]]","v":""},{"$f":"IF(COUNTIF(BA$2:BA200,BA200)=1,BA200,\"\")","v":""},"","",{"$f":"+IFERROR(INDEX(#REF!,MATCH(ROW()-ROW(BC$1),AX$2:AX$955,0)),\"\")","v":""}]
[{"$f":"+IF(D201=\"\",\"\",MAX(A$1:A200)+1)","v":""},{"$f":"IF('Process_&_CMS_Identification'!C223=\"\",\"\",'Process_&_CMS_Identification'!C223)","v":""},"",{"$f":"IF(COUNTIF(B$2:B201,B201)=1,B201,\"\")","v":""},{"$nulls":15},{"$f":"+IF(X201=\"\",\"\",MAX(T$1:T200)+1)","v":""},{"$f":"IF('No CMS - Deviation - Limits'!B223=\"\",\"\",'No CMS - Deviation - Limits'!B223)","v":""},{"$f":"IF('No CMS - Deviation - Limits'!C223=\"\",\"\",'No CMS - Deviation - Limits'!C223)","v":""},"",{"$f":"IF(COUNTIF(V$2:V201,V201)=1,V201,\"\")","v":""},"","",{"$f":"+IFERROR(INDEX(#REF!,MATCH(ROW()-ROW($Y$1),T$2:T$955,0)),\"\")","v":""},null,{"$f":"+IF(AG201=\"\",\"\",MAX(AC$1:AC200)+1)","v":""},{"$f":"IF('Using CMS - Deviation - Limits'!B223=\"\",\"\",'Using CMS - Deviation - Limits'!B223)","v":""},{"$f":"IF('Using CMS - Deviation - Limits'!C223=\"\",\"\",'Using CMS - Deviation - Limits'!C223)","v":""},"",{"$f":"IF(COUNTIF(AF$2:AF201,AF201)=1,AF201,\"\")","v":""},"","",{"$f":"+IFERROR(INDEX(#REF!,MATCH(ROW()-ROW(AG$1),AC$2:AC$955,0)),\"\")","v":""},{"$nulls":3},{"$f":"+IF(AS201=\"\",\"\",MAX(AN$1:AN200)+1)","v":""},{"$f":"IF('Using CMS - Inop_OoC - CMS'!B223=\"\",\"\",'Using CMS - Inop_OoC - CMS'!B223)","v":""},{"$f":"IF('Using CMS - Inop_OoC - CMS'!C223=\"\",\"\",'Using CMS - Inop_OoC - CMS'!C223)","v":""},{"$f":"IF('Using CMS - Inop_OoC - CMS'!D223=\"\",\"\",'Using CMS - Inop_OoC - CMS'!D223)","v":""},{"$f":"AO201&AP201&Table10[[#This Row],[CMS]]","v":""},{"$f":"IF(COUNTIF(AR$2:AR201,AR201)=1,AR201,\"\")","v":""},"","","",null,{"$f":"+IF(BB201=\"\",\"\",MAX(AX$1:AX200)+1)","v":""},{"$f":"IF('Using CMS - Deviation - Limits'!B223=\"\",\"\",'Using CMS - Deviation - Limits'!B223)","v":""},{"$f":"IF('Using CMS - Deviation - Limits'!C223=\"\",\"\",'Using CMS - Deviation - Limits'!C223)","v":""},{"$f":"AY201&AZ201&Table10[[#This Row],[CMS]]","v":""},{"$f":"IF(COUNTIF(BA$2:BA201,BA201)=1,BA201,\"\")","v":""},"","",{"$f":"+IFERROR(INDEX(#REF!,MATCH(ROW()-ROW(BC$1),AX$2:AX$955,0)),\"\")","v":""}]
[{"$f":"+IF(D202=\"\",\"\",MAX(A$1:A201)+1)","v":""},{"$f":"IF('Process_&_CMS_Identification'!C224=\"\",\"\",'Process_&_CMS_Identification'!C224)","v":""},"",{"$f":"IF(COUNTIF(B$2:B202,B202)=1,B202,\"\")","v":""},{"$nulls":15},{"$f":"+IF(X202=\"\",\"\",MAX(T$1:T201)+1)","v":""},{"$f":"IF('No CMS - Deviation - Limits'!B224=\"\",\"\",'No CMS - Deviation - Limits'!B224)","v":""},{"$f":"IF('No CMS - Deviation - Limits'!C224=\"\",\"\",'No CMS - Deviation - Limits'!C224)","v":""},"",{"$f":"IF(COUNTIF(V$2:V202,V202)=1,V202,\"\")","v":""},"","",{"$f":"+IFERROR(INDEX(#REF!,MATCH(ROW()-ROW($Y$1),T$2:T$955,0)),\"\")","v":""},null,{"$f":"+IF(AG202=\"\",\"\",MAX(AC$1:AC201)+1)","v":""},{"$f":"IF('Using CMS - Deviation - Limits'!B224=\"\",\"\",'Using CMS - Deviation - Limits'!B224)","v":""},{"$f":"IF('Using CMS - Deviation - Limits'!C224=\"\",\"\",'Using CMS - Deviation - Limits'!C224)","v":""},"",{"$f":"IF(COUNTIF(AF$2:AF202,AF202)=1,AF202,\"\")","v":""},"","",{"$f":"+IFERROR(INDEX(#REF!,MATCH(ROW()-ROW(AG$1),AC$2:AC$955,0)),\"\")","v":""},{"$nulls":3},{"$f":"+IF(AS202=\"\",\"\",MAX(AN$1:AN201)+1)","v":""},{"$f":"IF('Using CMS - Inop_OoC - CMS'!B224=\"\",\"\",'Using CMS - Inop_OoC - CMS'!B224)","v":""},{"$f":"IF('Using CMS - Inop_OoC - CMS'!C224=\"\",\"\",'Using CMS - Inop_OoC - CMS'!C224)","v":""},{"$f":"IF('Using CMS - Inop_OoC - CMS'!D224=\"\",\"\",'Using CMS - Inop_OoC - CMS'!D224)","v":""},{"$f":"AO202&AP202&Table10[[#This Row],[CMS]]","v":""},{"$f":"IF(COUNTIF(AR$2:AR202,AR202)=1,AR202,\"\")","v":""},"","","",null,{"$f":"+IF(BB202=\"\",\"\",MAX(AX$1:AX201)+1)","v":""},{"$f":"IF('Using CMS - Deviation - Limits'!B224=\"\",\"\",'Using CMS - Deviation - Limits'!B224)","v":""},{"$f":"IF('Using CMS - Deviation - Limits'!C224=\"\",\"\",'Using CMS - Deviation - Limits'!C224)","v":""},{"$f":"AY202&AZ202&Table10[[#This Row],[CMS]]","v":""},{"$f":"IF(COUNTIF(BA$2:BA202,BA202)=1,BA202,\"\")","v":""},"","",{"$f":"+IFERROR(INDEX(#REF!,MATCH(ROW()-ROW(BC$1),AX$2:AX$955,0)),\"\")","v":""}]
[{"$f":"+IF(D203=\"\",\"\",MAX(A$1:A202)+1)","v":""},{"$f":"IF('Process_&_CMS_Identification'!C225=\"\",\"\",'Process_&_CMS_Identification'!C225)","v":""},"",{"$f":"IF(COUNTIF(B$2:B203,B203)=1,B203,\"\")","v":""},{"$nulls":15},{"$f":"+IF(X203=\"\",\"\",MAX(T$1:T202)+1)","v":""},{"$f":"IF('No CMS - Deviation - Limits'!B225=\"\",\"\",'No CMS - Deviation - Limits'!B225)","v":""},{"$f":"IF('No CMS - Deviation - Limits'!C225=\"\",\"\",'No CMS - Deviation - Limits'!C225)","v":""},"",{"$f":"IF(COUNTIF(V$2:V203,V203)=1,V203,\"\")","v":""},"","",{"$f":"+IFERROR(INDEX(#REF!,MATCH(ROW()-ROW($Y$1),T$2:T$955,0)),\"\")","v":""},null,{"$f":"+IF(AG203=\"\",\"\",MAX(AC$1:AC202)+1)","v":""},{"$f":"IF('Using CMS - Deviation - Limits'!B225=\"\",\"\",'Using CMS - Deviation - Limits'!B225)","v":""},{"$f":"IF('Using CMS - Deviation - Limits'!C225=\"\",\"\",'Using CMS - Deviation - Limits'!C225)","v":""},"",{"$f":"IF(COUNTIF(AF$2:AF203,AF203)=1,AF203,\"\")","v":""},"","",{"$f":"+IFERROR(INDEX(#REF!,MATCH(ROW()-ROW(AG$1),AC$2:AC$955,0)),\"\")","v":""},{"$nulls":3},{"$f":"+IF(AS203=\"\",\"\",MAX(AN$1:AN202)+1)","v":""},{"$f":"IF('Using CMS - Inop_OoC - CMS'!B225=\"\",\"\",'Using CMS - Inop_OoC - CMS'!B225)","v":""},{"$f":"IF('Using CMS - Inop_OoC - CMS'!C225=\"\",\"\",'Using CMS - Inop_OoC - CMS'!C225)","v":""},{"$f":"IF('Using CMS - Inop_OoC - CMS'!D225=\"\",\"\",'Using CMS - Inop_OoC - CMS'!D225)","v":""},{"$f":"AO203&AP203&Table10[[#This Row],[CMS]]","v":""},{"$f":"IF(COUNTIF(AR$2:AR203,AR203)=1,AR203,\"\")","v":""},"","","",null,{"$f":"+IF(BB203=\"\",\"\",MAX(AX$1:AX202)+1)","v":""},{"$f":"IF('Using CMS - Deviation - Limits'!B225=\"\",\"\",'Using CMS - Deviation - Limits'!B225)","v":""},{"$f":"IF('Using CMS - Deviation - Limits'!C225=\"\",\"\",'Using CMS - Deviation - Limits'!C225)","v":""},{"$f":"AY203&AZ203&Table10[[#This Row],[CMS]]","v":""},{"$f":"IF(COUNTIF(BA$2:BA203,BA203)=1,BA203,\"\")","v":""},"","",{"$f":"+IFERROR(INDEX(#REF!,MATCH(ROW()-ROW(BC$1),AX$2:AX$955,0)),\"\")","v":""}]
[{"$f":"+IF(D204=\"\",\"\",MAX(A$1:A203)+1)","v":""},{"$f":"IF('Process_&_CMS_Identification'!C226=\"\",\"\",'Process_&_CMS_Identification'!C226)","v":""},"",{"$f":"IF(COUNTIF(B$2:B204,B204)=1,B204,\"\")","v":""},{"$nulls":15},{"$f":"+IF(X204=\"\",\"\",MAX(T$1:T203)+1)","v":""},{"$f":"IF('No CMS - Deviation - Limits'!B226=\"\",\"\",'No CMS - Deviation - Limits'!B226)","v":""},{"$f":"IF('No CMS - Deviation - Limits'!C226=\"\",\"\",'No CMS - Deviation - Limits'!C226)","v":""},"",{"$f":"IF(COUNTIF(V$2:V204,V204)=1,V204,\"\")","v":""},"","",{"$f":"+IFERROR(INDEX(#REF!,MATCH(ROW()-ROW($Y$1),T$2:T$955,0)),\"\")","v":""},null,{"$f":"+IF(AG204=\"\",\"\",MAX(AC$1:AC203)+1)","v":""},{"$f":"IF('Using CMS - Deviation - Limits'!B226=\"\",\"\",'Using CMS - Deviation - Limits'!B226)","v":""},{"$f":"IF('Using CMS - Deviation - Limits'!C226=\"\",\"\",'Using CMS - Deviation - Limits'!C226)","v":""},"",{"$f":"IF(COUNTIF(AF$2:AF204,AF204)=1,AF204,\"\")","v":""},"","",{"$f":"+IFERROR(INDEX(#REF!,MATCH(ROW()-ROW(AG$1),AC$2:AC$955,0)),\"\")","v":""},{"$nulls":3},{"$f":"+IF(AS204=\"\",\"\",MAX(AN$1:AN203)+1)","v":""},{"$f":"IF('Using CMS - Inop_OoC - CMS'!B226=\"\",\"\",'Using CMS - Inop_OoC - CMS'!B226)","v":""},{"$f":"IF('Using CMS - Inop_OoC - CMS'!C226=\"\",\"\",'Using CMS - Inop_OoC - CMS'!C226)","v":""},{"$f":"IF('Using CMS - Inop_OoC - CMS'!D226=\"\",\"\",'Using CMS - Inop_OoC - CMS'!D226)","v":""},{"$f":"AO204&AP204&Table10[[#This Row],[CMS]]","v":""},{"$f":"IF(COUNTIF(AR$2:AR204,AR204)=1,AR204,\"\")","v":""},"","","",null,{"$f":"+IF(BB204=\"\",\"\",MAX(AX$1:AX203)+1)","v":""},{"$f":"IF('Using CMS - Deviation - Limits'!B226=\"\",\"\",'Using CMS - Deviation - Limits'!B226)","v":""},{"$f":"IF('Using CMS - Deviation - Limits'!C226=\"\",\"\",'Using CMS - Deviation - Limits'!C226)","v":""},{"$f":"AY204&AZ204&Table10[[#This Row],[CMS]]","v":""},{"$f":"IF(COUNTIF(BA$2:BA204,BA204)=1,BA204,\"\")","v":""},"","",{"$f":"+IFERROR(INDEX(#REF!,MATCH(ROW()-ROW(BC$1),AX$2:AX$955,0)),\"\")","v":""}]
[{"$f":"+IF(D205=\"\",\"\",MAX(A$1:A204)+1)","v":""},{"$f":"IF('Process_&_CMS_Identification'!C227=\"\",\"\",'Process_&_CMS_Identification'!C227)","v":""},"",{"$f":"IF(COUNTIF(B$2:B205,B205)=1,B205,\"\")","v":""},{"$nulls":15},{"$f":"+IF(X205=\"\",\"\",MAX(T$1:T204)+1)","v":""},{"$f":"IF('No CMS - Deviation - Limits'!B227=\"\",\"\",'No CMS - Deviation - Limits'!B227)","v":""},{"$f":"IF('No CMS - Deviation - Limits'!C227=\"\",\"\",'No CMS - Deviation - Limits'!C227)","v":""},"",{"$f":"IF(COUNTIF(V$2:V205,V205)=1,V205,\"\")","v":""},"","",{"$f":"+IFERROR(INDEX(#REF!,MATCH(ROW()-ROW($Y$1),T$2:T$955,0)),\"\")","v":""},null,{"$f":"+IF(AG205=\"\",\"\",MAX(AC$1:AC204)+1)","v":""},{"$f":"IF('Using CMS - Deviation - Limits'!B227=\"\",\"\",'Using CMS - Deviation - Limits'!B227)","v":""},{"$f":"IF('Using CMS - Deviation - Limits'!C227=\"\",\"\",'Using CMS - Deviation - Limits'!C227)","v":""},"",{"$f":"IF(COUNTIF(AF$2:AF205,AF205)=1,AF205,\"\")","v":""},"","",{"$f":"+IFERROR(INDEX(#REF!,MATCH(ROW()-ROW(AG$1),AC$2:AC$955,0)),\"\")","v":""},{"$nulls":3},{"$f":"+IF(AS205=\"\",\"\",MAX(AN$1:AN204)+1)","v":""},{"$f":"IF('Using CMS - Inop_OoC - CMS'!B227=\"\",\"\",'Using CMS - Inop_OoC - CMS'!B227)","v":""},{"$f":"IF('Using CMS - Inop_OoC - CMS'!C227=\"\",\"\",'Using CMS - Inop_OoC - CMS'!C227)","v":""},{"$f":"IF('Using CMS - Inop_OoC - CMS'!D227=\"\",\"\",'Using CMS - Inop_OoC - CMS'!D227)","v":""},{"$f":"AO205&AP205&Table10[[#This Row],[CMS]]","v":""},{"$f":"IF(COUNTIF(AR$2:AR205,AR205)=1,AR205,\"\")","v":""},"","","",null,{"$f":"+IF(BB205=\"\",\"\",MAX(AX$1:AX204)+1)","v":""},{"$f":"IF('Using CMS - Deviation - Limits'!B227=\"\",\"\",'Using CMS - Deviation - Limits'!B227)","v":""},{"$f":"IF('Using CMS - Deviation - Limits'!C227=\"\",\"\",'Using CMS - Deviation - Limits'!C227)","v":""},{"$f":"AY205&AZ205&Table10[[#This Row],[CMS]]","v":""},{"$f":"IF(COUNTIF(BA$2:BA205,BA205)=1,BA205,\"\")","v":""},"","",{"$f":"+IFERROR(INDEX(#REF!,MATCH(ROW()-ROW(BC$1),AX$2:AX$955,0)),\"\")","v":""}]
[{"$f":"+IF(D206=\"\",\"\",MAX(A$1:A205)+1)","v":""},{"$f":"IF('Process_&_CMS_Identification'!C228=\"\",\"\",'Process_&_CMS_Identification'!C228)","v":""},"",{"$f":"IF(COUNTIF(B$2:B206,B206)=1,B206,\"\")","v":""},{"$nulls":15},{"$f":"+IF(X206=\"\",\"\",MAX(T$1:T205)+1)","v":""},{"$f":"IF('No CMS - Deviation - Limits'!B228=\"\",\"\",'No CMS - Deviation - Limits'!B228)","v":""},{"$f":"IF('No CMS - Deviation - Limits'!C228=\"\",\"\",'No CMS - Deviation - Limits'!C228)","v":""},"",{"$f":"IF(COUNTIF(V$2:V206,V206)=1,V206,\"\")","v":""},"","",{"$f":"+IFERROR(INDEX(#REF!,MATCH(ROW()-ROW($Y$1),T$2:T$955,0)),\"\")","v":""},null,{"$f":"+IF(AG206=\"\",\"\",MAX(AC$1:AC205)+1)","v":""},{"$f":"IF('Using CMS - Deviation - Limits'!B228=\"\",\"\",'Using CMS - Deviation - Limits'!B228)","v":""},{"$f":"IF('Using CMS - Deviation - Limits'!C228=\"\",\"\",'Using CMS - Deviation - Limits'!C228)","v":""},"",{"$f":"IF(COUNTIF(AF$2:AF206,AF206)=1,AF206,\"\")","v":""},"","",{"$f":"+IFERROR(INDEX(#REF!,MATCH(ROW()-ROW(AG$1),AC$2:AC$955,0)),\"\")","v":""},{"$nulls":3},{"$f":"+IF(AS206=\"\",\"\",MAX(AN$1:AN205)+1)","v":""},{"$f":"IF('Using CMS - Inop_OoC - CMS'!B228=\"\",\"\",'Using CMS - Inop_OoC - CMS'!B228)","v":""},{"$f":"IF('Using CMS - Inop_OoC - CMS'!C228=\"\",\"\",'Using CMS - Inop_OoC - CMS'!C228)","v":""},{"$f":"IF('Using CMS - Inop_OoC - CMS'!D228=\"\",\"\",'Using CMS - Inop_OoC - CMS'!D228)","v":""},{"$f":"AO206&AP206&Table10[[#This Row],[CMS]]","v":""},{"$f":"IF(COUNTIF(AR$2:AR206,AR206)=1,AR206,\"\")","v":""},"","","",null,{"$f":"+IF(BB206=\"\",\"\",MAX(AX$1:AX205)+1)","v":""},{"$f":"IF('Using CMS - Deviation - Limits'!B228=\"\",\"\",'Using CMS - Deviation - Limits'!B228)","v":""},{"$f":"IF('Using CMS - Deviation - Limits'!C228=\"\",\"\",'Using CMS - Deviation - Limits'!C228)","v":""},{"$f":"AY206&AZ206&Table10[[#This Row],[CMS]]","v":""},{"$f":"IF(COUNTIF(BA$2:BA206,BA206)=1,BA206,\"\")","v":""},"","",{"$f":"+IFERROR(INDEX(#REF!,MATCH(ROW()-ROW(BC$1),AX$2:AX$955,0)),\"\")","v":""}]
[{"$f":"+IF(D207=\"\",\"\",MAX(A$1:A206)+1)","v":""},{"$f":"IF('Process_&_CMS_Identification'!C229=\"\",\"\",'Process_&_CMS_Identification'!C229)","v":""},"",{"$f":"IF(COUNTIF(B$2:B207,B207)=1,B207,\"\")","v":""},{"$nulls":15},{"$f":"+IF(X207=\"\",\"\",MAX(T$1:T206)+1)","v":""},{"$f":"IF('No CMS - Deviation - Limits'!B229=\"\",\"\",'No CMS - Deviation - Limits'!B229)","v":""},{"$f":"IF('No CMS - Deviation - Limits'!C229=\"\",\"\",'No CMS - Deviation - Limits'!C229)","v":""},"",{"$f":"IF(COUNTIF(V$2:V207,V207)=1,V207,\"\")","v":""},"","",{"$f":"+IFERROR(INDEX(#REF!,MATCH(ROW()-ROW($Y$1),T$2:T$955,0)),\"\")","v":""},null,{"$f":"+IF(AG207=\"\",\"\",MAX(AC$1:AC206)+1)","v":""},{"$f":"IF('Using CMS - Deviation - Limits'!B229=\"\",\"\",'Using CMS - Deviation - Limits'!B229)","v":""},{"$f":"IF('Using CMS - Deviation - Limits'!C229=\"\",\"\",'Using CMS - Deviation - Limits'!C229)","v":""},"",{"$f":"IF(COUNTIF(AF$2:AF207,AF207)=1,AF207,\"\")","v":""},"","",{"$f":"+IFERROR(INDEX(#REF!,MATCH(ROW()-ROW(AG$1),AC$2:AC$955,0)),\"\")","v":""},{"$nulls":3},{"$f":"+IF(AS207=\"\",\"\",MAX(AN$1:AN206)+1)","v":""},{"$f":"IF('Using CMS - Inop_OoC - CMS'!B229=\"\",\"\",'Using CMS - Inop_OoC - CMS'!B229)","v":""},{"$f":"IF('Using CMS - Inop_OoC - CMS'!C229=\"\",\"\",'Using CMS - Inop_OoC - CMS'!C229)","v":""},{"$f":"IF('Using CMS - Inop_OoC - CMS'!D229=\"\",\"\",'Using CMS - Inop_OoC - CMS'!D229)","v":""},{"$f":"AO207&AP207&Table10[[#This Row],[CMS]]","v":""},{"$f":"IF(COUNTIF(AR$2:AR207,AR207)=1,AR207,\"\")","v":""},"","","",null,{"$f":"+IF(BB207=\"\",\"\",MAX(AX$1:AX206)+1)","v":""},{"$f":"IF('Using CMS - Deviation - Limits'!B229=\"\",\"\",'Using CMS - Deviation - Limits'!B229)","v":""},{"$f":"IF('Using CMS - Deviation - Limits'!C229=\"\",\"\",'Using CMS - Deviation - Limits'!C229)","v":""},{"$f":"AY207&AZ207&Table10[[#This Row],[CMS]]","v":""},{"$f":"IF(COUNTIF(BA$2:BA207,BA207)=1,BA207,\"\")","v":""},"","",{"$f":"+IFERROR(INDEX(#REF!,MATCH(ROW()-ROW(BC$1),AX$2:AX$955,0)),\"\")","v":""}]
[{"$f":"+IF(D208=\"\",\"\",MAX(A$1:A207)+1)","v":""},{"$f":"IF('Process_&_CMS_Identification'!C230=\"\",\"\",'Process_&_CMS_Identification'!C230)","v":""},"",{"$f":"IF(COUNTIF(B$2:B208,B208)=1,B208,\"\")","v":""},{"$nulls":15},{"$f":"+IF(X208=\"\",\"\",MAX(T$1:T207)+1)","v":""},{"$f":"IF('No CMS - Deviation - Limits'!B230=\"\",\"\",'No CMS - Deviation - Limits'!B230)","v":""},{"$f":"IF('No CMS - Deviation - Limits'!C230=\"\",\"\",'No CMS - Deviation - Limits'!C230)","v":""},"",{"$f":"IF(COUNTIF(V$2:V208,V208)=1,V208,\"\")","v":""},"","",{"$f":"+IFERROR(INDEX(#REF!,MATCH(ROW()-ROW($Y$1),T$2:T$955,0)),\"\")","v":""},null,{"$f":"+IF(AG208=\"\",\"\",MAX(AC$1:AC207)+1)","v":""},{"$f":"IF('Using CMS - Deviation - Limits'!B230=\"\",\"\",'Using CMS - Deviation - Limits'!B230)","v":""},{"$f":"IF('Using CMS - Deviation - Limits'!C230=\"\",\"\",'Using CMS - Deviation - Limits'!C230)","v":""},"",{"$f":"IF(COUNTIF(AF$2:AF208,AF208)=1,AF208,\"\")","v":""},"","",{"$f":"+IFERROR(INDEX(#REF!,MATCH(ROW()-ROW(AG$1),AC$2:AC$955,0)),\"\")","v":""},{"$nulls":3},{"$f":"+IF(AS208=\"\",\"\",MAX(AN$1:AN207)+1)","v":""},{"$f":"IF('Using CMS - Inop_OoC - CMS'!B230=\"\",\"\",'Using CMS - Inop_OoC - CMS'!B230)","v":""},{"$f":"IF('Using CMS - Inop_OoC - CMS'!C230=\"\",\"\",'Using CMS - Inop_OoC - CMS'!C230)","v":""},{"$f":"IF('Using CMS - Inop_OoC - CMS'!D230=\"\",\"\",'Using CMS - Inop_OoC - CMS'!D230)","v":""},{"$f":"AO208&AP208&Table10[[#This Row],[CMS]]","v":""},{"$f":"IF(COUNTIF(AR$2:AR208,AR208)=1,AR208,\"\")","v":""},"","","",null,{"$f":"+IF(BB208=\"\",\"\",MAX(AX$1:AX207)+1)","v":""},{"$f":"IF('Using CMS - Deviation - Limits'!B230=\"\",\"\",'Using CMS - Deviation - Limits'!B230)","v":""},{"$f":"IF('Using CMS - Deviation - Limits'!C230=\"\",\"\",'Using CMS - Deviation - Limits'!C230)","v":""},{"$f":"AY208&AZ208&Table10[[#This Row],[CMS]]","v":""},{"$f":"IF(COUNTIF(BA$2:BA208,BA208)=1,BA208,\"\")","v":""},"","",{"$f":"+IFERROR(INDEX(#REF!,MATCH(ROW()-ROW(BC$1),AX$2:AX$955,0)),\"\")","v":""}]
[{"$f":"+IF(D209=\"\",\"\",MAX(A$1:A208)+1)","v":""},{"$f":"IF('Process_&_CMS_Identification'!C231=\"\",\"\",'Process_&_CMS_Identification'!C231)","v":""},"",{"$f":"IF(COUNTIF(B$2:B209,B209)=1,B209,\"\")","v":""},{"$nulls":15},{"$f":"+IF(X209=\"\",\"\",MAX(T$1:T208)+1)","v":""},{"$f":"IF('No CMS - Deviation - Limits'!B231=\"\",\"\",'No CMS - Deviation - Limits'!B231)","v":""},{"$f":"IF('No CMS - Deviation - Limits'!C231=\"\",\"\",'No CMS - Deviation - Limits'!C231)","v":""},"",{"$f":"IF(COUNTIF(V$2:V209,V209)=1,V209,\"\")","v":""},"","",{"$f":"+IFERROR(INDEX(#REF!,MATCH(ROW()-ROW($Y$1),T$2:T$955,0)),\"\")","v":""},null,{"$f":"+IF(AG209=\"\",\"\",MAX(AC$1:AC208)+1)","v":""},{"$f":"IF('Using CMS - Deviation - Limits'!B231=\"\",\"\",'Using CMS - Deviation - Limits'!B231)","v":""},{"$f":"IF('Using CMS - Deviation - Limits'!C231=\"\",\"\",'Using CMS - Deviation - Limits'!C231)","v":""},"",{"$f":"IF(COUNTIF(AF$2:AF209,AF209)=1,AF209,\"\")","v":""},"","",{"$f":"+IFERROR(INDEX(#REF!,MATCH(ROW()-ROW(AG$1),AC$2:AC$955,0)),\"\")","v":""},{"$nulls":3},{"$f":"+IF(AS209=\"\",\"\",MAX(AN$1:AN208)+1)","v":""},{"$f":"IF('Using CMS - Inop_OoC - CMS'!B231=\"\",\"\",'Using CMS - Inop_OoC - CMS'!B231)","v":""},{"$f":"IF('Using CMS - Inop_OoC - CMS'!C231=\"\",\"\",'Using CMS - Inop_OoC - CMS'!C231)","v":""},{"$f":"IF('Using CMS - Inop_OoC - CMS'!D231=\"\",\"\",'Using CMS - Inop_OoC - CMS'!D231)","v":""},{"$f":"AO209&AP209&Table10[[#This Row],[CMS]]","v":""},{"$f":"IF(COUNTIF(AR$2:AR209,AR209)=1,AR209,\"\")","v":""},"","","",null,{"$f":"+IF(BB209=\"\",\"\",MAX(AX$1:AX208)+1)","v":""},{"$f":"IF('Using CMS - Deviation - Limits'!B231=\"\",\"\",'Using CMS - Deviation - Limits'!B231)","v":""},{"$f":"IF('Using CMS - Deviation - Limits'!C231=\"\",\"\",'Using CMS - Deviation - Limits'!C231)","v":""},{"$f":"AY209&AZ209&Table10[[#This Row],[CMS]]","v":""},{"$f":"IF(COUNTIF(BA$2:BA209,BA209)=1,BA209,\"\")","v":""},"","",{"$f":"+IFERROR(INDEX(#REF!,MATCH(ROW()-ROW(BC$1),AX$2:AX$955,0)),\"\")","v":""}]
[{"$f":"+IF(D210=\"\",\"\",MAX(A$1:A209)+1)","v":""},{"$f":"IF('Process_&_CMS_Identification'!C232=\"\",\"\",'Process_&_CMS_Identification'!C232)","v":""},"",{"$f":"IF(COUNTIF(B$2:B210,B210)=1,B210,\"\")","v":""},{"$nulls":15},{"$f":"+IF(X210=\"\",\"\",MAX(T$1:T209)+1)","v":""},{"$f":"IF('No CMS - Deviation - Limits'!B232=\"\",\"\",'No CMS - Deviation - Limits'!B232)","v":""},{"$f":"IF('No CMS - Deviation - Limits'!C232=\"\",\"\",'No CMS - Deviation - Limits'!C232)","v":""},"",{"$f":"IF(COUNTIF(V$2:V210,V210)=1,V210,\"\")","v":""},"","",{"$f":"+IFERROR(INDEX(#REF!,MATCH(ROW()-ROW($Y$1),T$2:T$955,0)),\"\")","v":""},null,{"$f":"+IF(AG210=\"\",\"\",MAX(AC$1:AC209)+1)","v":""},{"$f":"IF('Using CMS - Deviation - Limits'!B232=\"\",\"\",'Using CMS - Deviation - Limits'!B232)","v":""},{"$f":"IF('Using CMS - Deviation - Limits'!C232=\"\",\"\",'Using CMS - Deviation - Limits'!C232)","v":""},"",{"$f":"IF(COUNTIF(AF$2:AF210,AF210)=1,AF210,\"\")","v":""},"","",{"$f":"+IFERROR(INDEX(#REF!,MATCH(ROW()-ROW(AG$1),AC$2:AC$955,0)),\"\")","v":""},{"$nulls":3},{"$f":"+IF(AS210=\"\",\"\",MAX(AN$1:AN209)+1)","v":""},{"$f":"IF('Using CMS - Inop_OoC - CMS'!B232=\"\",\"\",'Using CMS - Inop_OoC - CMS'!B232)","v":""},{"$f":"IF('Using CMS - Inop_OoC - CMS'!C232=\"\",\"\",'Using CMS - Inop_OoC - CMS'!C232)","v":""},{"$f":"IF('Using CMS - Inop_OoC - CMS'!D232=\"\",\"\",'Using CMS - Inop_OoC - CMS'!D232)","v":""},{"$f":"AO210&AP210&Table10[[#This Row],[CMS]]","v":""},{"$f":"IF(COUNTIF(AR$2:AR210,AR210)=1,AR210,\"\")","v":""},"","","",null,{"$f":"+IF(BB210=\"\",\"\",MAX(AX$1:AX209)+1)","v":""},{"$f":"IF('Using CMS - Deviation - Limits'!B232=\"\",\"\",'Using CMS - Deviation - Limits'!B232)","v":""},{"$f":"IF('Using CMS - Deviation - Limits'!C232=\"\",\"\",'Using CMS - Deviation - Limits'!C232)","v":""},{"$f":"AY210&AZ210&Table10[[#This Row],[CMS]]","v":""},{"$f":"IF(COUNTIF(BA$2:BA210,BA210)=1,BA210,\"\")","v":""},"","",{"$f":"+IFERROR(INDEX(#REF!,MATCH(ROW()-ROW(BC$1),AX$2:AX$955,0)),\"\")","v":""}]
[{"$f":"+IF(D211=\"\",\"\",MAX(A$1:A210)+1)","v":""},{"$f":"IF('Process_&_CMS_Identification'!C233=\"\",\"\",'Process_&_CMS_Identification'!C233)","v":""},"",{"$f":"IF(COUNTIF(B$2:B211,B211)=1,B211,\"\")","v":""},{"$nulls":15},{"$f":"+IF(X211=\"\",\"\",MAX(T$1:T210)+1)","v":""},{"$f":"IF('No CMS - Deviation - Limits'!B233=\"\",\"\",'No CMS - Deviation - Limits'!B233)","v":""},{"$f":"IF('No CMS - Deviation - Limits'!C233=\"\",\"\",'No CMS - Deviation - Limits'!C233)","v":""},"",{"$f":"IF(COUNTIF(V$2:V211,V211)=1,V211,\"\")","v":""},"","",{"$f":"+IFERROR(INDEX(#REF!,MATCH(ROW()-ROW($Y$1),T$2:T$955,0)),\"\")","v":""},null,{"$f":"+IF(AG211=\"\",\"\",MAX(AC$1:AC210)+1)","v":""},{"$f":"IF('Using CMS - Deviation - Limits'!B233=\"\",\"\",'Using CMS - Deviation - Limits'!B233)","v":""},{"$f":"IF('Using CMS - Deviation - Limits'!C233=\"\",\"\",'Using CMS - Deviation - Limits'!C233)","v":""},"",{"$f":"IF(COUNTIF(AF$2:AF211,AF211)=1,AF211,\"\")","v":""},"","",{"$f":"+IFERROR(INDEX(#REF!,MATCH(ROW()-ROW(AG$1),AC$2:AC$955,0)),\"\")","v":""},{"$nulls":3},{"$f":"+IF(AS211=\"\",\"\",MAX(AN$1:AN210)+1)","v":""},{"$f":"IF('Using CMS - Inop_OoC - CMS'!B233=\"\",\"\",'Using CMS - Inop_OoC - CMS'!B233)","v":""},{"$f":"IF('Using CMS - Inop_OoC - CMS'!C233=\"\",\"\",'Using CMS - Inop_OoC - CMS'!C233)","v":""},{"$f":"IF('Using CMS - Inop_OoC - CMS'!D233=\"\",\"\",'Using CMS - Inop_OoC - CMS'!D233)","v":""},{"$f":"AO211&AP211&Table10[[#This Row],[CMS]]","v":""},{"$f":"IF(COUNTIF(AR$2:AR211,AR211)=1,AR211,\"\")","v":""},"","","",null,{"$f":"+IF(BB211=\"\",\"\",MAX(AX$1:AX210)+1)","v":""},{"$f":"IF('Using CMS - Deviation - Limits'!B233=\"\",\"\",'Using CMS - Deviation - Limits'!B233)","v":""},{"$f":"IF('Using CMS - Deviation - Limits'!C233=\"\",\"\",'Using CMS - Deviation - Limits'!C233)","v":""},{"$f":"AY211&AZ211&Table10[[#This Row],[CMS]]","v":""},{"$f":"IF(COUNTIF(BA$2:BA211,BA211)=1,BA211,\"\")","v":""},"","",{"$f":"+IFERROR(INDEX(#REF!,MATCH(ROW()-ROW(BC$1),AX$2:AX$955,0)),\"\")","v":""}]
[{"$f":"+IF(D212=\"\",\"\",MAX(A$1:A211)+1)","v":""},{"$f":"IF('Process_&_CMS_Identification'!C234=\"\",\"\",'Process_&_CMS_Identification'!C234)","v":""},"",{"$f":"IF(COUNTIF(B$2:B212,B212)=1,B212,\"\")","v":""},{"$nulls":15},{"$f":"+IF(X212=\"\",\"\",MAX(T$1:T211)+1)","v":""},{"$f":"IF('No CMS - Deviation - Limits'!B234=\"\",\"\",'No CMS - Deviation - Limits'!B234)","v":""},{"$f":"IF('No CMS - Deviation - Limits'!C234=\"\",\"\",'No CMS - Deviation - Limits'!C234)","v":""},"",{"$f":"IF(COUNTIF(V$2:V212,V212)=1,V212,\"\")","v":""},"","",{"$f":"+IFERROR(INDEX(#REF!,MATCH(ROW()-ROW($Y$1),T$2:T$955,0)),\"\")","v":""},null,{"$f":"+IF(AG212=\"\",\"\",MAX(AC$1:AC211)+1)","v":""},{"$f":"IF('Using CMS - Deviation - Limits'!B234=\"\",\"\",'Using CMS - Deviation - Limits'!B234)","v":""},{"$f":"IF('Using CMS - Deviation - Limits'!C234=\"\",\"\",'Using CMS - Deviation - Limits'!C234)","v":""},"",{"$f":"IF(COUNTIF(AF$2:AF212,AF212)=1,AF212,\"\")","v":""},"","",{"$f":"+IFERROR(INDEX(#REF!,MATCH(ROW()-ROW(AG$1),AC$2:AC$955,0)),\"\")","v":""},{"$nulls":3},{"$f":"+IF(AS212=\"\",\"\",MAX(AN$1:AN211)+1)","v":""},{"$f":"IF('Using CMS - Inop_OoC - CMS'!B234=\"\",\"\",'Using CMS - Inop_OoC - CMS'!B234)","v":""},{"$f":"IF('Using CMS - Inop_OoC - CMS'!C234=\"\",\"\",'Using CMS - Inop_OoC - CMS'!C234)","v":""},{"$f":"IF('Using CMS - Inop_OoC - CMS'!D234=\"\",\"\",'Using CMS - Inop_OoC - CMS'!D234)","v":""},{"$f":"AO212&AP212&Table10[[#This Row],[CMS]]","v":""},{"$f":"IF(COUNTIF(AR$2:AR212,AR212)=1,AR212,\"\")","v":""},"","","",null,{"$f":"+IF(BB212=\"\",\"\",MAX(AX$1:AX211)+1)","v":""},{"$f":"IF('Using CMS - Deviation - Limits'!B234=\"\",\"\",'Using CMS - Deviation - Limits'!B234)","v":""},{"$f":"IF('Using CMS - Deviation - Limits'!C234=\"\",\"\",'Using CMS - Deviation - Limits'!C234)","v":""},{"$f":"AY212&AZ212&Table10[[#This Row],[CMS]]","v":""},{"$f":"IF(COUNTIF(BA$2:BA212,BA212)=1,BA212,\"\")","v":""},"","",{"$f":"+IFERROR(INDEX(#REF!,MATCH(ROW()-ROW(BC$1),AX$2:AX$955,0)),\"\")","v":""}]
[{"$f":"+IF(D213=\"\",\"\",MAX(A$1:A212)+1)","v":""},{"$f":"IF('Process_&_CMS_Identification'!C235=\"\",\"\",'Process_&_CMS_Identification'!C235)","v":""},"",{"$f":"IF(COUNTIF(B$2:B213,B213)=1,B213,\"\")","v":""},{"$nulls":15},{"$f":"+IF(X213=\"\",\"\",MAX(T$1:T212)+1)","v":""},{"$f":"IF('No CMS - Deviation - Limits'!B235=\"\",\"\",'No CMS - Deviation - Limits'!B235)","v":""},{"$f":"IF('No CMS - Deviation - Limits'!C235=\"\",\"\",'No CMS - Deviation - Limits'!C235)","v":""},"",{"$f":"IF(COUNTIF(V$2:V213,V213)=1,V213,\"\")","v":""},"","",{"$f":"+IFERROR(INDEX(#REF!,MATCH(ROW()-ROW($Y$1),T$2:T$955,0)),\"\")","v":""},null,{"$f":"+IF(AG213=\"\",\"\",MAX(AC$1:AC212)+1)","v":""},{"$f":"IF('Using CMS - Deviation - Limits'!B235=\"\",\"\",'Using CMS - Deviation - Limits'!B235)","v":""},{"$f":"IF('Using CMS - Deviation - Limits'!C235=\"\",\"\",'Using CMS - Deviation - Limits'!C235)","v":""},"",{"$f":"IF(COUNTIF(AF$2:AF213,AF213)=1,AF213,\"\")","v":""},"","",{"$f":"+IFERROR(INDEX(#REF!,MATCH(ROW()-ROW(AG$1),AC$2:AC$955,0)),\"\")","v":""},{"$nulls":3},{"$f":"+IF(AS213=\"\",\"\",MAX(AN$1:AN212)+1)","v":""},{"$f":"IF('Using CMS - Inop_OoC - CMS'!B235=\"\",\"\",'Using CMS - Inop_OoC - CMS'!B235)","v":""},{"$f":"IF('Using CMS - Inop_OoC - CMS'!C235=\"\",\"\",'Using CMS - Inop_OoC - CMS'!C235)","v":""},{"$f":"IF('Using CMS - Inop_OoC - CMS'!D235=\"\",\"\",'Using CMS - Inop_OoC - CMS'!D235)","v":""},{"$f":"AO213&AP213&Table10[[#This Row],[CMS]]","v":""},{"$f":"IF(COUNTIF(AR$2:AR213,AR213)=1,AR213,\"\")","v":""},"","","",null,{"$f":"+IF(BB213=\"\",\"\",MAX(AX$1:AX212)+1)","v":""},{"$f":"IF('Using CMS - Deviation - Limits'!B235=\"\",\"\",'Using CMS - Deviation - Limits'!B235)","v":""},{"$f":"IF('Using CMS - Deviation - Limits'!C235=\"\",\"\",'Using CMS - Deviation - Limits'!C235)","v":""},{"$f":"AY213&AZ213&Table10[[#This Row],[CMS]]","v":""},{"$f":"IF(COUNTIF(BA$2:BA213,BA213)=1,BA213,\"\")","v":""},"","",{"$f":"+IFERROR(INDEX(#REF!,MATCH(ROW()-ROW(BC$1),AX$2:AX$955,0)),\"\")","v":""}]
[{"$f":"+IF(D214=\"\",\"\",MAX(A$1:A213)+1)","v":""},{"$f":"IF('Process_&_CMS_Identification'!C236=\"\",\"\",'Process_&_CMS_Identification'!C236)","v":""},"",{"$f":"IF(COUNTIF(B$2:B214,B214)=1,B214,\"\")","v":""},{"$nulls":15},{"$f":"+IF(X214=\"\",\"\",MAX(T$1:T213)+1)","v":""},{"$f":"IF('No CMS - Deviation - Limits'!B236=\"\",\"\",'No CMS - Deviation - Limits'!B236)","v":""},{"$f":"IF('No CMS - Deviation - Limits'!C236=\"\",\"\",'No CMS - Deviation - Limits'!C236)","v":""},"",{"$f":"IF(COUNTIF(V$2:V214,V214)=1,V214,\"\")","v":""},"","",{"$f":"+IFERROR(INDEX(#REF!,MATCH(ROW()-ROW($Y$1),T$2:T$955,0)),\"\")","v":""},null,{"$f":"+IF(AG214=\"\",\"\",MAX(AC$1:AC213)+1)","v":""},{"$f":"IF('Using CMS - Deviation - Limits'!B236=\"\",\"\",'Using CMS - Deviation - Limits'!B236)","v":""},{"$f":"IF('Using CMS - Deviation - Limits'!C236=\"\",\"\",'Using CMS - Deviation - Limits'!C236)","v":""},"",{"$f":"IF(COUNTIF(AF$2:AF214,AF214)=1,AF214,\"\")","v":""},"","",{"$f":"+IFERROR(INDEX(#REF!,MATCH(ROW()-ROW(AG$1),AC$2:AC$955,0)),\"\")","v":""},{"$nulls":3},{"$f":"+IF(AS214=\"\",\"\",MAX(AN$1:AN213)+1)","v":""},{"$f":"IF('Using CMS - Inop_OoC - CMS'!B236=\"\",\"\",'Using CMS - Inop_OoC - CMS'!B236)","v":""},{"$f":"IF('Using CMS - Inop_OoC - CMS'!C236=\"\",\"\",'Using CMS - Inop_OoC - CMS'!C236)","v":""},{"$f":"IF('Using CMS - Inop_OoC - CMS'!D236=\"\",\"\",'Using CMS - Inop_OoC - CMS'!D236)","v":""},{"$f":"AO214&AP214&Table10[[#This Row],[CMS]]","v":""},{"$f":"IF(COUNTIF(AR$2:AR214,AR214)=1,AR214,\"\")","v":""},"","","",null,{"$f":"+IF(BB214=\"\",\"\",MAX(AX$1:AX213)+1)","v":""},{"$f":"IF('Using CMS - Deviation - Limits'!B236=\"\",\"\",'Using CMS - Deviation - Limits'!B236)","v":""},{"$f":"IF('Using CMS - Deviation - Limits'!C236=\"\",\"\",'Using CMS - Deviation - Limits'!C236)","v":""},{"$f":"AY214&AZ214&Table10[[#This Row],[CMS]]","v":""},{"$f":"IF(COUNTIF(BA$2:BA214,BA214)=1,BA214,\"\")","v":""},"","",{"$f":"+IFERROR(INDEX(#REF!,MATCH(ROW()-ROW(BC$1),AX$2:AX$955,0)),\"\")","v":""}]
[{"$f":"+IF(D215=\"\",\"\",MAX(A$1:A214)+1)","v":""},{"$f":"IF('Process_&_CMS_Identification'!C237=\"\",\"\",'Process_&_CMS_Identification'!C237)","v":""},"",{"$f":"IF(COUNTIF(B$2:B215,B215)=1,B215,\"\")","v":""},{"$nulls":15},{"$f":"+IF(X215=\"\",\"\",MAX(T$1:T214)+1)","v":""},{"$f":"IF('No CMS - Deviation - Limits'!B237=\"\",\"\",'No CMS - Deviation - Limits'!B237)","v":""},{"$f":"IF('No CMS - Deviation - Limits'!C237=\"\",\"\",'No CMS - Deviation - Limits'!C237)","v":""},"",{"$f":"IF(COUNTIF(V$2:V215,V215)=1,V215,\"\")","v":""},"","",{"$f":"+IFERROR(INDEX(#REF!,MATCH(ROW()-ROW($Y$1),T$2:T$955,0)),\"\")","v":""},null,{"$f":"+IF(AG215=\"\",\"\",MAX(AC$1:AC214)+1)","v":""},{"$f":"IF('Using CMS - Deviation - Limits'!B237=\"\",\"\",'Using CMS - Deviation - Limits'!B237)","v":""},{"$f":"IF('Using CMS - Deviation - Limits'!C237=\"\",\"\",'Using CMS - Deviation - Limits'!C237)","v":""},"",{"$f":"IF(COUNTIF(AF$2:AF215,AF215)=1,AF215,\"\")","v":""},"","",{"$f":"+IFERROR(INDEX(#REF!,MATCH(ROW()-ROW(AG$1),AC$2:AC$955,0)),\"\")","v":""},{"$nulls":3},{"$f":"+IF(AS215=\"\",\"\",MAX(AN$1:AN214)+1)","v":""},{"$f":"IF('Using CMS - Inop_OoC - CMS'!B237=\"\",\"\",'Using CMS - Inop_OoC - CMS'!B237)","v":""},{"$f":"IF('Using CMS - Inop_OoC - CMS'!C237=\"\",\"\",'Using CMS - Inop_OoC - CMS'!C237)","v":""},{"$f":"IF('Using CMS - Inop_OoC - CMS'!D237=\"\",\"\",'Using CMS - Inop_OoC - CMS'!D237)","v":""},{"$f":"AO215&AP215&Table10[[#This Row],[CMS]]","v":""},{"$f":"IF(COUNTIF(AR$2:AR215,AR215)=1,AR215,\"\")","v":""},"","","",null,{"$f":"+IF(BB215=\"\",\"\",MAX(AX$1:AX214)+1)","v":""},{"$f":"IF('Using CMS - Deviation - Limits'!B237=\"\",\"\",'Using CMS - Deviation - Limits'!B237)","v":""},{"$f":"IF('Using CMS - Deviation - Limits'!C237=\"\",\"\",'Using CMS - Deviation - Limits'!C237)","v":""},{"$f":"AY215&AZ215&Table10[[#This Row],[CMS]]","v":""},{"$f":"IF(COUNTIF(BA$2:BA215,BA215)=1,BA215,\"\")","v":""},"","",{"$f":"+IFERROR(INDEX(#REF!,MATCH(ROW()-ROW(BC$1),AX$2:AX$955,0)),\"\")","v":""}]
[{"$f":"+IF(D216=\"\",\"\",MAX(A$1:A215)+1)","v":""},{"$f":"IF('Process_&_CMS_Identification'!C238=\"\",\"\",'Process_&_CMS_Identification'!C238)","v":""},"",{"$f":"IF(COUNTIF(B$2:B216,B216)=1,B216,\"\")","v":""},{"$nulls":15},{"$f":"+IF(X216=\"\",\"\",MAX(T$1:T215)+1)","v":""},{"$f":"IF('No CMS - Deviation - Limits'!B238=\"\",\"\",'No CMS - Deviation - Limits'!B238)","v":""},{"$f":"IF('No CMS - Deviation - Limits'!C238=\"\",\"\",'No CMS - Deviation - Limits'!C238)","v":""},"",{"$f":"IF(COUNTIF(V$2:V216,V216)=1,V216,\"\")","v":""},"","",{"$f":"+IFERROR(INDEX(#REF!,MATCH(ROW()-ROW($Y$1),T$2:T$955,0)),\"\")","v":""},null,{"$f":"+IF(AG216=\"\",\"\",MAX(AC$1:AC215)+1)","v":""},{"$f":"IF('Using CMS - Deviation - Limits'!B238=\"\",\"\",'Using CMS - Deviation - Limits'!B238)","v":""},{"$f":"IF('Using CMS - Deviation - Limits'!C238=\"\",\"\",'Using CMS - Deviation - Limits'!C238)","v":""},"",{"$f":"IF(COUNTIF(AF$2:AF216,AF216)=1,AF216,\"\")","v":""},"","",{"$f":"+IFERROR(INDEX(#REF!,MATCH(ROW()-ROW(AG$1),AC$2:AC$955,0)),\"\")","v":""},{"$nulls":3},{"$f":"+IF(AS216=\"\",\"\",MAX(AN$1:AN215)+1)","v":""},{"$f":"IF('Using CMS - Inop_OoC - CMS'!B238=\"\",\"\",'Using CMS - Inop_OoC - CMS'!B238)","v":""},{"$f":"IF('Using CMS - Inop_OoC - CMS'!C238=\"\",\"\",'Using CMS - Inop_OoC - CMS'!C238)","v":""},{"$f":"IF('Using CMS - Inop_OoC - CMS'!D238=\"\",\"\",'Using CMS - Inop_OoC - CMS'!D238)","v":""},{"$f":"AO216&AP216&Table10[[#This Row],[CMS]]","v":""},{"$f":"IF(COUNTIF(AR$2:AR216,AR216)=1,AR216,\"\")","v":""},"","","",null,{"$f":"+IF(BB216=\"\",\"\",MAX(AX$1:AX215)+1)","v":""},{"$f":"IF('Using CMS - Deviation - Limits'!B238=\"\",\"\",'Using CMS - Deviation - Limits'!B238)","v":""},{"$f":"IF('Using CMS - Deviation - Limits'!C238=\"\",\"\",'Using CMS - Deviation - Limits'!C238)","v":""},{"$f":"AY216&AZ216&Table10[[#This Row],[CMS]]","v":""},{"$f":"IF(COUNTIF(BA$2:BA216,BA216)=1,BA216,\"\")","v":""},"","",{"$f":"+IFERROR(INDEX(#REF!,MATCH(ROW()-ROW(BC$1),AX$2:AX$955,0)),\"\")","v":""}]
[{"$f":"+IF(D217=\"\",\"\",MAX(A$1:A216)+1)","v":""},{"$f":"IF('Process_&_CMS_Identification'!C239=\"\",\"\",'Process_&_CMS_Identification'!C239)","v":""},"",{"$f":"IF(COUNTIF(B$2:B217,B217)=1,B217,\"\")","v":""},{"$nulls":15},{"$f":"+IF(X217=\"\",\"\",MAX(T$1:T216)+1)","v":""},{"$f":"IF('No CMS - Deviation - Limits'!B239=\"\",\"\",'No CMS - Deviation - Limits'!B239)","v":""},{"$f":"IF('No CMS - Deviation - Limits'!C239=\"\",\"\",'No CMS - Deviation - Limits'!C239)","v":""},"",{"$f":"IF(COUNTIF(V$2:V217,V217)=1,V217,\"\")","v":""},"","",{"$f":"+IFERROR(INDEX(#REF!,MATCH(ROW()-ROW($Y$1),T$2:T$955,0)),\"\")","v":""},null,{"$f":"+IF(AG217=\"\",\"\",MAX(AC$1:AC216)+1)","v":""},{"$f":"IF('Using CMS - Deviation - Limits'!B239=\"\",\"\",'Using CMS - Deviation - Limits'!B239)","v":""},{"$f":"IF('Using CMS - Deviation - Limits'!C239=\"\",\"\",'Using CMS - Deviation - Limits'!C239)","v":""},"",{"$f":"IF(COUNTIF(AF$2:AF217,AF217)=1,AF217,\"\")","v":""},"","",{"$f":"+IFERROR(INDEX(#REF!,MATCH(ROW()-ROW(AG$1),AC$2:AC$955,0)),\"\")","v":""},{"$nulls":3},{"$f":"+IF(AS217=\"\",\"\",MAX(AN$1:AN216)+1)","v":""},{"$f":"IF('Using CMS - Inop_OoC - CMS'!B239=\"\",\"\",'Using CMS - Inop_OoC - CMS'!B239)","v":""},{"$f":"IF('Using CMS - Inop_OoC - CMS'!C239=\"\",\"\",'Using CMS - Inop_OoC - CMS'!C239)","v":""},{"$f":"IF('Using CMS - Inop_OoC - CMS'!D239=\"\",\"\",'Using CMS - Inop_OoC - CMS'!D239)","v":""},{"$f":"AO217&AP217&Table10[[#This Row],[CMS]]","v":""},{"$f":"IF(COUNTIF(AR$2:AR217,AR217)=1,AR217,\"\")","v":""},"","","",null,{"$f":"+IF(BB217=\"\",\"\",MAX(AX$1:AX216)+1)","v":""},{"$f":"IF('Using CMS - Deviation - Limits'!B239=\"\",\"\",'Using CMS - Deviation - Limits'!B239)","v":""},{"$f":"IF('Using CMS - Deviation - Limits'!C239=\"\",\"\",'Using CMS - Deviation - Limits'!C239)","v":""},{"$f":"AY217&AZ217&Table10[[#This Row],[CMS]]","v":""},{"$f":"IF(COUNTIF(BA$2:BA217,BA217)=1,BA217,\"\")","v":""},"","",{"$f":"+IFERROR(INDEX(#REF!,MATCH(ROW()-ROW(BC$1),AX$2:AX$955,0)),\"\")","v":""}]
[{"$f":"+IF(D218=\"\",\"\",MAX(A$1:A217)+1)","v":""},{"$f":"IF('Process_&_CMS_Identification'!C240=\"\",\"\",'Process_&_CMS_Identification'!C240)","v":""},"",{"$f":"IF(COUNTIF(B$2:B218,B218)=1,B218,\"\")","v":""},{"$nulls":15},{"$f":"+IF(X218=\"\",\"\",MAX(T$1:T217)+1)","v":""},{"$f":"IF('No CMS - Deviation - Limits'!B240=\"\",\"\",'No CMS - Deviation - Limits'!B240)","v":""},{"$f":"IF('No CMS - Deviation - Limits'!C240=\"\",\"\",'No CMS - Deviation - Limits'!C240)","v":""},"",{"$f":"IF(COUNTIF(V$2:V218,V218)=1,V218,\"\")","v":""},"","",{"$f":"+IFERROR(INDEX(#REF!,MATCH(ROW()-ROW($Y$1),T$2:T$955,0)),\"\")","v":""},null,{"$f":"+IF(AG218=\"\",\"\",MAX(AC$1:AC217)+1)","v":""},{"$f":"IF('Using CMS - Deviation - Limits'!B240=\"\",\"\",'Using CMS - Deviation - Limits'!B240)","v":""},{"$f":"IF('Using CMS - Deviation - Limits'!C240=\"\",\"\",'Using CMS - Deviation - Limits'!C240)","v":""},"",{"$f":"IF(COUNTIF(AF$2:AF218,AF218)=1,AF218,\"\")","v":""},"","",{"$f":"+IFERROR(INDEX(#REF!,MATCH(ROW()-ROW(AG$1),AC$2:AC$955,0)),\"\")","v":""},{"$nulls":3},{"$f":"+IF(AS218=\"\",\"\",MAX(AN$1:AN217)+1)","v":""},{"$f":"IF('Using CMS - Inop_OoC - CMS'!B240=\"\",\"\",'Using CMS - Inop_OoC - CMS'!B240)","v":""},{"$f":"IF('Using CMS - Inop_OoC - CMS'!C240=\"\",\"\",'Using CMS - Inop_OoC - CMS'!C240)","v":""},{"$f":"IF('Using CMS - Inop_OoC - CMS'!D240=\"\",\"\",'Using CMS - Inop_OoC - CMS'!D240)","v":""},{"$f":"AO218&AP218&Table10[[#This Row],[CMS]]","v":""},{"$f":"IF(COUNTIF(AR$2:AR218,AR218)=1,AR218,\"\")","v":""},"","","",null,{"$f":"+IF(BB218=\"\",\"\",MAX(AX$1:AX217)+1)","v":""},{"$f":"IF('Using CMS - Deviation - Limits'!B240=\"\",\"\",'Using CMS - Deviation - Limits'!B240)","v":""},{"$f":"IF('Using CMS - Deviation - Limits'!C240=\"\",\"\",'Using CMS - Deviation - Limits'!C240)","v":""},{"$f":"AY218&AZ218&Table10[[#This Row],[CMS]]","v":""},{"$f":"IF(COUNTIF(BA$2:BA218,BA218)=1,BA218,\"\")","v":""},"","",{"$f":"+IFERROR(INDEX(#REF!,MATCH(ROW()-ROW(BC$1),AX$2:AX$955,0)),\"\")","v":""}]
[{"$f":"+IF(D219=\"\",\"\",MAX(A$1:A218)+1)","v":""},{"$f":"IF('Process_&_CMS_Identification'!C241=\"\",\"\",'Process_&_CMS_Identification'!C241)","v":""},"",{"$f":"IF(COUNTIF(B$2:B219,B219)=1,B219,\"\")","v":""},{"$nulls":15},{"$f":"+IF(X219=\"\",\"\",MAX(T$1:T218)+1)","v":""},{"$f":"IF('No CMS - Deviation - Limits'!B241=\"\",\"\",'No CMS - Deviation - Limits'!B241)","v":""},{"$f":"IF('No CMS - Deviation - Limits'!C241=\"\",\"\",'No CMS - Deviation - Limits'!C241)","v":""},"",{"$f":"IF(COUNTIF(V$2:V219,V219)=1,V219,\"\")","v":""},"","",{"$f":"+IFERROR(INDEX(#REF!,MATCH(ROW()-ROW($Y$1),T$2:T$955,0)),\"\")","v":""},null,{"$f":"+IF(AG219=\"\",\"\",MAX(AC$1:AC218)+1)","v":""},{"$f":"IF('Using CMS - Deviation - Limits'!B241=\"\",\"\",'Using CMS - Deviation - Limits'!B241)","v":""},{"$f":"IF('Using CMS - Deviation - Limits'!C241=\"\",\"\",'Using CMS - Deviation - Limits'!C241)","v":""},"",{"$f":"IF(COUNTIF(AF$2:AF219,AF219)=1,AF219,\"\")","v":""},"","",{"$f":"+IFERROR(INDEX(#REF!,MATCH(ROW()-ROW(AG$1),AC$2:AC$955,0)),\"\")","v":""},{"$nulls":3},{"$f":"+IF(AS219=\"\",\"\",MAX(AN$1:AN218)+1)","v":""},{"$f":"IF('Using CMS - Inop_OoC - CMS'!B241=\"\",\"\",'Using CMS - Inop_OoC - CMS'!B241)","v":""},{"$f":"IF('Using CMS - Inop_OoC - CMS'!C241=\"\",\"\",'Using CMS - Inop_OoC - CMS'!C241)","v":""},{"$f":"IF('Using CMS - Inop_OoC - CMS'!D241=\"\",\"\",'Using CMS - Inop_OoC - CMS'!D241)","v":""},{"$f":"AO219&AP219&Table10[[#This Row],[CMS]]","v":""},{"$f":"IF(COUNTIF(AR$2:AR219,AR219)=1,AR219,\"\")","v":""},"","","",null,{"$f":"+IF(BB219=\"\",\"\",MAX(AX$1:AX218)+1)","v":""},{"$f":"IF('Using CMS - Deviation - Limits'!B241=\"\",\"\",'Using CMS - Deviation - Limits'!B241)","v":""},{"$f":"IF('Using CMS - Deviation - Limits'!C241=\"\",\"\",'Using CMS - Deviation - Limits'!C241)","v":""},{"$f":"AY219&AZ219&Table10[[#This Row],[CMS]]","v":""},{"$f":"IF(COUNTIF(BA$2:BA219,BA219)=1,BA219,\"\")","v":""},"","",{"$f":"+IFERROR(INDEX(#REF!,MATCH(ROW()-ROW(BC$1),AX$2:AX$955,0)),\"\")","v":""}]
[{"$f":"+IF(D220=\"\",\"\",MAX(A$1:A219)+1)","v":""},{"$f":"IF('Process_&_CMS_Identification'!C242=\"\",\"\",'Process_&_CMS_Identification'!C242)","v":""},"",{"$f":"IF(COUNTIF(B$2:B220,B220)=1,B220,\"\")","v":""},{"$nulls":15},{"$f":"+IF(X220=\"\",\"\",MAX(T$1:T219)+1)","v":""},{"$f":"IF('No CMS - Deviation - Limits'!B242=\"\",\"\",'No CMS - Deviation - Limits'!B242)","v":""},{"$f":"IF('No CMS - Deviation - Limits'!C242=\"\",\"\",'No CMS - Deviation - Limits'!C242)","v":""},"",{"$f":"IF(COUNTIF(V$2:V220,V220)=1,V220,\"\")","v":""},"","",{"$f":"+IFERROR(INDEX(#REF!,MATCH(ROW()-ROW($Y$1),T$2:T$955,0)),\"\")","v":""},null,{"$f":"+IF(AG220=\"\",\"\",MAX(AC$1:AC219)+1)","v":""},{"$f":"IF('Using CMS - Deviation - Limits'!B242=\"\",\"\",'Using CMS - Deviation - Limits'!B242)","v":""},{"$f":"IF('Using CMS - Deviation - Limits'!C242=\"\",\"\",'Using CMS - Deviation - Limits'!C242)","v":""},"",{"$f":"IF(COUNTIF(AF$2:AF220,AF220)=1,AF220,\"\")","v":""},"","",{"$f":"+IFERROR(INDEX(#REF!,MATCH(ROW()-ROW(AG$1),AC$2:AC$955,0)),\"\")","v":""},{"$nulls":3},{"$f":"+IF(AS220=\"\",\"\",MAX(AN$1:AN219)+1)","v":""},{"$f":"IF('Using CMS - Inop_OoC - CMS'!B242=\"\",\"\",'Using CMS - Inop_OoC - CMS'!B242)","v":""},{"$f":"IF('Using CMS - Inop_OoC - CMS'!C242=\"\",\"\",'Using CMS - Inop_OoC - CMS'!C242)","v":""},{"$f":"IF('Using CMS - Inop_OoC - CMS'!D242=\"\",\"\",'Using CMS - Inop_OoC - CMS'!D242)","v":""},{"$f":"AO220&AP220&Table10[[#This Row],[CMS]]","v":""},{"$f":"IF(COUNTIF(AR$2:AR220,AR220)=1,AR220,\"\")","v":""},"","","",null,{"$f":"+IF(BB220=\"\",\"\",MAX(AX$1:AX219)+1)","v":""},{"$f":"IF('Using CMS - Deviation - Limits'!B242=\"\",\"\",'Using CMS - Deviation - Limits'!B242)","v":""},{"$f":"IF('Using CMS - Deviation - Limits'!C242=\"\",\"\",'Using CMS - Deviation - Limits'!C242)","v":""},{"$f":"AY220&AZ220&Table10[[#This Row],[CMS]]","v":""},{"$f":"IF(COUNTIF(BA$2:BA220,BA220)=1,BA220,\"\")","v":""},"","",{"$f":"+IFERROR(INDEX(#REF!,MATCH(ROW()-ROW(BC$1),AX$2:AX$955,0)),\"\")","v":""}]
[{"$f":"+IF(D221=\"\",\"\",MAX(A$1:A220)+1)","v":""},{"$f":"IF('Process_&_CMS_Identification'!C243=\"\",\"\",'Process_&_CMS_Identification'!C243)","v":""},"",{"$f":"IF(COUNTIF(B$2:B221,B221)=1,B221,\"\")","v":""},{"$nulls":15},{"$f":"+IF(X221=\"\",\"\",MAX(T$1:T220)+1)","v":""},{"$f":"IF('No CMS - Deviation - Limits'!B243=\"\",\"\",'No CMS - Deviation - Limits'!B243)","v":""},{"$f":"IF('No CMS - Deviation - Limits'!C243=\"\",\"\",'No CMS - Deviation - Limits'!C243)","v":""},"",{"$f":"IF(COUNTIF(V$2:V221,V221)=1,V221,\"\")","v":""},"","",{"$f":"+IFERROR(INDEX(#REF!,MATCH(ROW()-ROW($Y$1),T$2:T$955,0)),\"\")","v":""},null,{"$f":"+IF(AG221=\"\",\"\",MAX(AC$1:AC220)+1)","v":""},{"$f":"IF('Using CMS - Deviation - Limits'!B243=\"\",\"\",'Using CMS - Deviation - Limits'!B243)","v":""},{"$f":"IF('Using CMS - Deviation - Limits'!C243=\"\",\"\",'Using CMS - Deviation - Limits'!C243)","v":""},"",{"$f":"IF(COUNTIF(AF$2:AF221,AF221)=1,AF221,\"\")","v":""},"","",{"$f":"+IFERROR(INDEX(#REF!,MATCH(ROW()-ROW(AG$1),AC$2:AC$955,0)),\"\")","v":""},{"$nulls":3},{"$f":"+IF(AS221=\"\",\"\",MAX(AN$1:AN220)+1)","v":""},{"$f":"IF('Using CMS - Inop_OoC - CMS'!B243=\"\",\"\",'Using CMS - Inop_OoC - CMS'!B243)","v":""},{"$f":"IF('Using CMS - Inop_OoC - CMS'!C243=\"\",\"\",'Using CMS - Inop_OoC - CMS'!C243)","v":""},{"$f":"IF('Using CMS - Inop_OoC - CMS'!D243=\"\",\"\",'Using CMS - Inop_OoC - CMS'!D243)","v":""},{"$f":"AO221&AP221&Table10[[#This Row],[CMS]]","v":""},{"$f":"IF(COUNTIF(AR$2:AR221,AR221)=1,AR221,\"\")","v":""},"","","",null,{"$f":"+IF(BB221=\"\",\"\",MAX(AX$1:AX220)+1)","v":""},{"$f":"IF('Using CMS - Deviation - Limits'!B243=\"\",\"\",'Using CMS - Deviation - Limits'!B243)","v":""},{"$f":"IF('Using CMS - Deviation - Limits'!C243=\"\",\"\",'Using CMS - Deviation - Limits'!C243)","v":""},{"$f":"AY221&AZ221&Table10[[#This Row],[CMS]]","v":""},{"$f":"IF(COUNTIF(BA$2:BA221,BA221)=1,BA221,\"\")","v":""},"","",{"$f":"+IFERROR(INDEX(#REF!,MATCH(ROW()-ROW(BC$1),AX$2:AX$955,0)),\"\")","v":""}]
[{"$f":"+IF(D222=\"\",\"\",MAX(A$1:A221)+1)","v":""},{"$f":"IF('Process_&_CMS_Identification'!C244=\"\",\"\",'Process_&_CMS_Identification'!C244)","v":""},"",{"$f":"IF(COUNTIF(B$2:B222,B222)=1,B222,\"\")","v":""},{"$nulls":15},{"$f":"+IF(X222=\"\",\"\",MAX(T$1:T221)+1)","v":""},{"$f":"IF('No CMS - Deviation - Limits'!B244=\"\",\"\",'No CMS - Deviation - Limits'!B244)","v":""},{"$f":"IF('No CMS - Deviation - Limits'!C244=\"\",\"\",'No CMS - Deviation - Limits'!C244)","v":""},"",{"$f":"IF(COUNTIF(V$2:V222,V222)=1,V222,\"\")","v":""},"","",{"$f":"+IFERROR(INDEX(#REF!,MATCH(ROW()-ROW($Y$1),T$2:T$955,0)),\"\")","v":""},null,{"$f":"+IF(AG222=\"\",\"\",MAX(AC$1:AC221)+1)","v":""},{"$f":"IF('Using CMS - Deviation - Limits'!B244=\"\",\"\",'Using CMS - Deviation - Limits'!B244)","v":""},{"$f":"IF('Using CMS - Deviation - Limits'!C244=\"\",\"\",'Using CMS - Deviation - Limits'!C244)","v":""},"",{"$f":"IF(COUNTIF(AF$2:AF222,AF222)=1,AF222,\"\")","v":""},"","",{"$f":"+IFERROR(INDEX(#REF!,MATCH(ROW()-ROW(AG$1),AC$2:AC$955,0)),\"\")","v":""},{"$nulls":3},{"$f":"+IF(AS222=\"\",\"\",MAX(AN$1:AN221)+1)","v":""},{"$f":"IF('Using CMS - Inop_OoC - CMS'!B244=\"\",\"\",'Using CMS - Inop_OoC - CMS'!B244)","v":""},{"$f":"IF('Using CMS - Inop_OoC - CMS'!C244=\"\",\"\",'Using CMS - Inop_OoC - CMS'!C244)","v":""},{"$f":"IF('Using CMS - Inop_OoC - CMS'!D244=\"\",\"\",'Using CMS - Inop_OoC - CMS'!D244)","v":""},{"$f":"AO222&AP222&Table10[[#This Row],[CMS]]","v":""},{"$f":"IF(COUNTIF(AR$2:AR222,AR222)=1,AR222,\"\")","v":""},"","","",null,{"$f":"+IF(BB222=\"\",\"\",MAX(AX$1:AX221)+1)","v":""},{"$f":"IF('Using CMS - Deviation - Limits'!B244=\"\",\"\",'Using CMS - Deviation - Limits'!B244)","v":""},{"$f":"IF('Using CMS - Deviation - Limits'!C244=\"\",\"\",'Using CMS - Deviation - Limits'!C244)","v":""},{"$f":"AY222&AZ222&Table10[[#This Row],[CMS]]","v":""},{"$f":"IF(COUNTIF(BA$2:BA222,BA222)=1,BA222,\"\")","v":""},"","",{"$f":"+IFERROR(INDEX(#REF!,MATCH(ROW()-ROW(BC$1),AX$2:AX$955,0)),\"\")","v":""}]
[{"$f":"+IF(D223=\"\",\"\",MAX(A$1:A222)+1)","v":""},{"$f":"IF('Process_&_CMS_Identification'!C245=\"\",\"\",'Process_&_CMS_Identification'!C245)","v":""},"",{"$f":"IF(COUNTIF(B$2:B223,B223)=1,B223,\"\")","v":""},{"$nulls":15},{"$f":"+IF(X223=\"\",\"\",MAX(T$1:T222)+1)","v":""},{"$f":"IF('No CMS - Deviation - Limits'!B245=\"\",\"\",'No CMS - Deviation - Limits'!B245)","v":""},{"$f":"IF('No CMS - Deviation - Limits'!C245=\"\",\"\",'No CMS - Deviation - Limits'!C245)","v":""},"",{"$f":"IF(COUNTIF(V$2:V223,V223)=1,V223,\"\")","v":""},"","",{"$f":"+IFERROR(INDEX(#REF!,MATCH(ROW()-ROW($Y$1),T$2:T$955,0)),\"\")","v":""},null,{"$f":"+IF(AG223=\"\",\"\",MAX(AC$1:AC222)+1)","v":""},{"$f":"IF('Using CMS - Deviation - Limits'!B245=\"\",\"\",'Using CMS - Deviation - Limits'!B245)","v":""},{"$f":"IF('Using CMS - Deviation - Limits'!C245=\"\",\"\",'Using CMS - Deviation - Limits'!C245)","v":""},"",{"$f":"IF(COUNTIF(AF$2:AF223,AF223)=1,AF223,\"\")","v":""},"","",{"$f":"+IFERROR(INDEX(#REF!,MATCH(ROW()-ROW(AG$1),AC$2:AC$955,0)),\"\")","v":""},{"$nulls":3},{"$f":"+IF(AS223=\"\",\"\",MAX(AN$1:AN222)+1)","v":""},{"$f":"IF('Using CMS - Inop_OoC - CMS'!B245=\"\",\"\",'Using CMS - Inop_OoC - CMS'!B245)","v":""},{"$f":"IF('Using CMS - Inop_OoC - CMS'!C245=\"\",\"\",'Using CMS - Inop_OoC - CMS'!C245)","v":""},{"$f":"IF('Using CMS - Inop_OoC - CMS'!D245=\"\",\"\",'Using CMS - Inop_OoC - CMS'!D245)","v":""},{"$f":"AO223&AP223&Table10[[#This Row],[CMS]]","v":""},{"$f":"IF(COUNTIF(AR$2:AR223,AR223)=1,AR223,\"\")","v":""},"","","",null,{"$f":"+IF(BB223=\"\",\"\",MAX(AX$1:AX222)+1)","v":""},{"$f":"IF('Using CMS - Deviation - Limits'!B245=\"\",\"\",'Using CMS - Deviation - Limits'!B245)","v":""},{"$f":"IF('Using CMS - Deviation - Limits'!C245=\"\",\"\",'Using CMS - Deviation - Limits'!C245)","v":""},{"$f":"AY223&AZ223&Table10[[#This Row],[CMS]]","v":""},{"$f":"IF(COUNTIF(BA$2:BA223,BA223)=1,BA223,\"\")","v":""},"","",{"$f":"+IFERROR(INDEX(#REF!,MATCH(ROW()-ROW(BC$1),AX$2:AX$955,0)),\"\")","v":""}]
[{"$f":"+IF(D224=\"\",\"\",MAX(A$1:A223)+1)","v":""},{"$f":"IF('Process_&_CMS_Identification'!C246=\"\",\"\",'Process_&_CMS_Identification'!C246)","v":""},"",{"$f":"IF(COUNTIF(B$2:B224,B224)=1,B224,\"\")","v":""},{"$nulls":15},{"$f":"+IF(X224=\"\",\"\",MAX(T$1:T223)+1)","v":""},{"$f":"IF('No CMS - Deviation - Limits'!B246=\"\",\"\",'No CMS - Deviation - Limits'!B246)","v":""},{"$f":"IF('No CMS - Deviation - Limits'!C246=\"\",\"\",'No CMS - Deviation - Limits'!C246)","v":""},"",{"$f":"IF(COUNTIF(V$2:V224,V224)=1,V224,\"\")","v":""},"","",{"$f":"+IFERROR(INDEX(#REF!,MATCH(ROW()-ROW($Y$1),T$2:T$955,0)),\"\")","v":""},null,{"$f":"+IF(AG224=\"\",\"\",MAX(AC$1:AC223)+1)","v":""},{"$f":"IF('Using CMS - Deviation - Limits'!B246=\"\",\"\",'Using CMS - Deviation - Limits'!B246)","v":""},{"$f":"IF('Using CMS - Deviation - Limits'!C246=\"\",\"\",'Using CMS - Deviation - Limits'!C246)","v":""},"",{"$f":"IF(COUNTIF(AF$2:AF224,AF224)=1,AF224,\"\")","v":""},"","",{"$f":"+IFERROR(INDEX(#REF!,MATCH(ROW()-ROW(AG$1),AC$2:AC$955,0)),\"\")","v":""},{"$nulls":3},{"$f":"+IF(AS224=\"\",\"\",MAX(AN$1:AN223)+1)","v":""},{"$f":"IF('Using CMS - Inop_OoC - CMS'!B246=\"\",\"\",'Using CMS - Inop_OoC - CMS'!B246)","v":""},{"$f":"IF('Using CMS - Inop_OoC - CMS'!C246=\"\",\"\",'Using CMS - Inop_OoC - CMS'!C246)","v":""},{"$f":"IF('Using CMS - Inop_OoC - CMS'!D246=\"\",\"\",'Using CMS - Inop_OoC - CMS'!D246)","v":""},{"$f":"AO224&AP224&Table10[[#This Row],[CMS]]","v":""},{"$f":"IF(COUNTIF(AR$2:AR224,AR224)=1,AR224,\"\")","v":""},"","","",null,{"$f":"+IF(BB224=\"\",\"\",MAX(AX$1:AX223)+1)","v":""},{"$f":"IF('Using CMS - Deviation - Limits'!B246=\"\",\"\",'Using CMS - Deviation - Limits'!B246)","v":""},{"$f":"IF('Using CMS - Deviation - Limits'!C246=\"\",\"\",'Using CMS - Deviation - Limits'!C246)","v":""},{"$f":"AY224&AZ224&Table10[[#This Row],[CMS]]","v":""},{"$f":"IF(COUNTIF(BA$2:BA224,BA224)=1,BA224,\"\")","v":""},"","",{"$f":"+IFERROR(INDEX(#REF!,MATCH(ROW()-ROW(BC$1),AX$2:AX$955,0)),\"\")","v":""}]
[{"$f":"+IF(D225=\"\",\"\",MAX(A$1:A224)+1)","v":""},{"$f":"IF('Process_&_CMS_Identification'!C247=\"\",\"\",'Process_&_CMS_Identification'!C247)","v":""},"",{"$f":"IF(COUNTIF(B$2:B225,B225)=1,B225,\"\")","v":""},{"$nulls":15},{"$f":"+IF(X225=\"\",\"\",MAX(T$1:T224)+1)","v":""},{"$f":"IF('No CMS - Deviation - Limits'!B247=\"\",\"\",'No CMS - Deviation - Limits'!B247)","v":""},{"$f":"IF('No CMS - Deviation - Limits'!C247=\"\",\"\",'No CMS - Deviation - Limits'!C247)","v":""},"",{"$f":"IF(COUNTIF(V$2:V225,V225)=1,V225,\"\")","v":""},"","",{"$f":"+IFERROR(INDEX(#REF!,MATCH(ROW()-ROW($Y$1),T$2:T$955,0)),\"\")","v":""},null,{"$f":"+IF(AG225=\"\",\"\",MAX(AC$1:AC224)+1)","v":""},{"$f":"IF('Using CMS - Deviation - Limits'!B247=\"\",\"\",'Using CMS - Deviation - Limits'!B247)","v":""},{"$f":"IF('Using CMS - Deviation - Limits'!C247=\"\",\"\",'Using CMS - Deviation - Limits'!C247)","v":""},"",{"$f":"IF(COUNTIF(AF$2:AF225,AF225)=1,AF225,\"\")","v":""},"","",{"$f":"+IFERROR(INDEX(#REF!,MATCH(ROW()-ROW(AG$1),AC$2:AC$955,0)),\"\")","v":""},{"$nulls":3},{"$f":"+IF(AS225=\"\",\"\",MAX(AN$1:AN224)+1)","v":""},{"$f":"IF('Using CMS - Inop_OoC - CMS'!B247=\"\",\"\",'Using CMS - Inop_OoC - CMS'!B247)","v":""},{"$f":"IF('Using CMS - Inop_OoC - CMS'!C247=\"\",\"\",'Using CMS - Inop_OoC - CMS'!C247)","v":""},{"$f":"IF('Using CMS - Inop_OoC - CMS'!D247=\"\",\"\",'Using CMS - Inop_OoC - CMS'!D247)","v":""},{"$f":"AO225&AP225&Table10[[#This Row],[CMS]]","v":""},{"$f":"IF(COUNTIF(AR$2:AR225,AR225)=1,AR225,\"\")","v":""},"","","",null,{"$f":"+IF(BB225=\"\",\"\",MAX(AX$1:AX224)+1)","v":""},{"$f":"IF('Using CMS - Deviation - Limits'!B247=\"\",\"\",'Using CMS - Deviation - Limits'!B247)","v":""},{"$f":"IF('Using CMS - Deviation - Limits'!C247=\"\",\"\",'Using CMS - Deviation - Limits'!C247)","v":""},{"$f":"AY225&AZ225&Table10[[#This Row],[CMS]]","v":""},{"$f":"IF(COUNTIF(BA$2:BA225,BA225)=1,BA225,\"\")","v":""},"","",{"$f":"+IFERROR(INDEX(#REF!,MATCH(ROW()-ROW(BC$1),AX$2:AX$955,0)),\"\")","v":""}]
[{"$f":"+IF(D226=\"\",\"\",MAX(A$1:A225)+1)","v":""},{"$f":"IF('Process_&_CMS_Identification'!C248=\"\",\"\",'Process_&_CMS_Identification'!C248)","v":""},"",{"$f":"IF(COUNTIF(B$2:B226,B226)=1,B226,\"\")","v":""},{"$nulls":15},{"$f":"+IF(X226=\"\",\"\",MAX(T$1:T225)+1)","v":""},{"$f":"IF('No CMS - Deviation - Limits'!B248=\"\",\"\",'No CMS - Deviation - Limits'!B248)","v":""},{"$f":"IF('No CMS - Deviation - Limits'!C248=\"\",\"\",'No CMS - Deviation - Limits'!C248)","v":""},"",{"$f":"IF(COUNTIF(V$2:V226,V226)=1,V226,\"\")","v":""},"","",{"$f":"+IFERROR(INDEX(#REF!,MATCH(ROW()-ROW($Y$1),T$2:T$955,0)),\"\")","v":""},null,{"$f":"+IF(AG226=\"\",\"\",MAX(AC$1:AC225)+1)","v":""},{"$f":"IF('Using CMS - Deviation - Limits'!B248=\"\",\"\",'Using CMS - Deviation - Limits'!B248)","v":""},{"$f":"IF('Using CMS - Deviation - Limits'!C248=\"\",\"\",'Using CMS - Deviation - Limits'!C248)","v":""},"",{"$f":"IF(COUNTIF(AF$2:AF226,AF226)=1,AF226,\"\")","v":""},"","",{"$f":"+IFERROR(INDEX(#REF!,MATCH(ROW()-ROW(AG$1),AC$2:AC$955,0)),\"\")","v":""},{"$nulls":3},{"$f":"+IF(AS226=\"\",\"\",MAX(AN$1:AN225)+1)","v":""},{"$f":"IF('Using CMS - Inop_OoC - CMS'!B248=\"\",\"\",'Using CMS - Inop_OoC - CMS'!B248)","v":""},{"$f":"IF('Using CMS - Inop_OoC - CMS'!C248=\"\",\"\",'Using CMS - Inop_OoC - CMS'!C248)","v":""},{"$f":"IF('Using CMS - Inop_OoC - CMS'!D248=\"\",\"\",'Using CMS - Inop_OoC - CMS'!D248)","v":""},{"$f":"AO226&AP226&Table10[[#This Row],[CMS]]","v":""},{"$f":"IF(COUNTIF(AR$2:AR226,AR226)=1,AR226,\"\")","v":""},"","","",null,{"$f":"+IF(BB226=\"\",\"\",MAX(AX$1:AX225)+1)","v":""},{"$f":"IF('Using CMS - Deviation - Limits'!B248=\"\",\"\",'Using CMS - Deviation - Limits'!B248)","v":""},{"$f":"IF('Using CMS - Deviation - Limits'!C248=\"\",\"\",'Using CMS - Deviation - Limits'!C248)","v":""},{"$f":"AY226&AZ226&Table10[[#This Row],[CMS]]","v":""},{"$f":"IF(COUNTIF(BA$2:BA226,BA226)=1,BA226,\"\")","v":""},"","",{"$f":"+IFERROR(INDEX(#REF!,MATCH(ROW()-ROW(BC$1),AX$2:AX$955,0)),\"\")","v":""}]
[{"$f":"+IF(D227=\"\",\"\",MAX(A$1:A226)+1)","v":""},{"$f":"IF('Process_&_CMS_Identification'!C249=\"\",\"\",'Process_&_CMS_Identification'!C249)","v":""},"",{"$f":"IF(COUNTIF(B$2:B227,B227)=1,B227,\"\")","v":""},{"$nulls":15},{"$f":"+IF(X227=\"\",\"\",MAX(T$1:T226)+1)","v":""},{"$f":"IF('No CMS - Deviation - Limits'!B249=\"\",\"\",'No CMS - Deviation - Limits'!B249)","v":""},{"$f":"IF('No CMS - Deviation - Limits'!C249=\"\",\"\",'No CMS - Deviation - Limits'!C249)","v":""},"",{"$f":"IF(COUNTIF(V$2:V227,V227)=1,V227,\"\")","v":""},"","",{"$f":"+IFERROR(INDEX(#REF!,MATCH(ROW()-ROW($Y$1),T$2:T$955,0)),\"\")","v":""},null,{"$f":"+IF(AG227=\"\",\"\",MAX(AC$1:AC226)+1)","v":""},{"$f":"IF('Using CMS - Deviation - Limits'!B249=\"\",\"\",'Using CMS - Deviation - Limits'!B249)","v":""},{"$f":"IF('Using CMS - Deviation - Limits'!C249=\"\",\"\",'Using CMS - Deviation - Limits'!C249)","v":""},"",{"$f":"IF(COUNTIF(AF$2:AF227,AF227)=1,AF227,\"\")","v":""},"","",{"$f":"+IFERROR(INDEX(#REF!,MATCH(ROW()-ROW(AG$1),AC$2:AC$955,0)),\"\")","v":""},{"$nulls":3},{"$f":"+IF(AS227=\"\",\"\",MAX(AN$1:AN226)+1)","v":""},{"$f":"IF('Using CMS - Inop_OoC - CMS'!B249=\"\",\"\",'Using CMS - Inop_OoC - CMS'!B249)","v":""},{"$f":"IF('Using CMS - Inop_OoC - CMS'!C249=\"\",\"\",'Using CMS - Inop_OoC - CMS'!C249)","v":""},{"$f":"IF('Using CMS - Inop_OoC - CMS'!D249=\"\",\"\",'Using CMS - Inop_OoC - CMS'!D249)","v":""},{"$f":"AO227&AP227&Table10[[#This Row],[CMS]]","v":""},{"$f":"IF(COUNTIF(AR$2:AR227,AR227)=1,AR227,\"\")","v":""},"","","",null,{"$f":"+IF(BB227=\"\",\"\",MAX(AX$1:AX226)+1)","v":""},{"$f":"IF('Using CMS - Deviation - Limits'!B249=\"\",\"\",'Using CMS - Deviation - Limits'!B249)","v":""},{"$f":"IF('Using CMS - Deviation - Limits'!C249=\"\",\"\",'Using CMS - Deviation - Limits'!C249)","v":""},{"$f":"AY227&AZ227&Table10[[#This Row],[CMS]]","v":""},{"$f":"IF(COUNTIF(BA$2:BA227,BA227)=1,BA227,\"\")","v":""},"","",{"$f":"+IFERROR(INDEX(#REF!,MATCH(ROW()-ROW(BC$1),AX$2:AX$955,0)),\"\")","v":""}]
[{"$f":"+IF(D228=\"\",\"\",MAX(A$1:A227)+1)","v":""},{"$f":"IF('Process_&_CMS_Identification'!C250=\"\",\"\",'Process_&_CMS_Identification'!C250)","v":""},"",{"$f":"IF(COUNTIF(B$2:B228,B228)=1,B228,\"\")","v":""},{"$nulls":15},{"$f":"+IF(X228=\"\",\"\",MAX(T$1:T227)+1)","v":""},{"$f":"IF('No CMS - Deviation - Limits'!B250=\"\",\"\",'No CMS - Deviation - Limits'!B250)","v":""},{"$f":"IF('No CMS - Deviation - Limits'!C250=\"\",\"\",'No CMS - Deviation - Limits'!C250)","v":""},"",{"$f":"IF(COUNTIF(V$2:V228,V228)=1,V228,\"\")","v":""},"","",{"$f":"+IFERROR(INDEX(#REF!,MATCH(ROW()-ROW($Y$1),T$2:T$955,0)),\"\")","v":""},null,{"$f":"+IF(AG228=\"\",\"\",MAX(AC$1:AC227)+1)","v":""},{"$f":"IF('Using CMS - Deviation - Limits'!B250=\"\",\"\",'Using CMS - Deviation - Limits'!B250)","v":""},{"$f":"IF('Using CMS - Deviation - Limits'!C250=\"\",\"\",'Using CMS - Deviation - Limits'!C250)","v":""},"",{"$f":"IF(COUNTIF(AF$2:AF228,AF228)=1,AF228,\"\")","v":""},"","",{"$f":"+IFERROR(INDEX(#REF!,MATCH(ROW()-ROW(AG$1),AC$2:AC$955,0)),\"\")","v":""},{"$nulls":3},{"$f":"+IF(AS228=\"\",\"\",MAX(AN$1:AN227)+1)","v":""},{"$f":"IF('Using CMS - Inop_OoC - CMS'!B250=\"\",\"\",'Using CMS - Inop_OoC - CMS'!B250)","v":""},{"$f":"IF('Using CMS - Inop_OoC - CMS'!C250=\"\",\"\",'Using CMS - Inop_OoC - CMS'!C250)","v":""},{"$f":"IF('Using CMS - Inop_OoC - CMS'!D250=\"\",\"\",'Using CMS - Inop_OoC - CMS'!D250)","v":""},{"$f":"AO228&AP228&Table10[[#This Row],[CMS]]","v":""},{"$f":"IF(COUNTIF(AR$2:AR228,AR228)=1,AR228,\"\")","v":""},"","","",null,{"$f":"+IF(BB228=\"\",\"\",MAX(AX$1:AX227)+1)","v":""},{"$f":"IF('Using CMS - Deviation - Limits'!B250=\"\",\"\",'Using CMS - Deviation - Limits'!B250)","v":""},{"$f":"IF('Using CMS - Deviation - Limits'!C250=\"\",\"\",'Using CMS - Deviation - Limits'!C250)","v":""},{"$f":"AY228&AZ228&Table10[[#This Row],[CMS]]","v":""},{"$f":"IF(COUNTIF(BA$2:BA228,BA228)=1,BA228,\"\")","v":""},"","",{"$f":"+IFERROR(INDEX(#REF!,MATCH(ROW()-ROW(BC$1),AX$2:AX$955,0)),\"\")","v":""}]
[{"$f":"+IF(D229=\"\",\"\",MAX(A$1:A228)+1)","v":""},{"$f":"IF('Process_&_CMS_Identification'!C251=\"\",\"\",'Process_&_CMS_Identification'!C251)","v":""},"",{"$f":"IF(COUNTIF(B$2:B229,B229)=1,B229,\"\")","v":""},{"$nulls":15},{"$f":"+IF(X229=\"\",\"\",MAX(T$1:T228)+1)","v":""},{"$f":"IF('No CMS - Deviation - Limits'!B251=\"\",\"\",'No CMS - Deviation - Limits'!B251)","v":""},{"$f":"IF('No CMS - Deviation - Limits'!C251=\"\",\"\",'No CMS - Deviation - Limits'!C251)","v":""},"",{"$f":"IF(COUNTIF(V$2:V229,V229)=1,V229,\"\")","v":""},"","",{"$f":"+IFERROR(INDEX(#REF!,MATCH(ROW()-ROW($Y$1),T$2:T$955,0)),\"\")","v":""},null,{"$f":"+IF(AG229=\"\",\"\",MAX(AC$1:AC228)+1)","v":""},{"$f":"IF('Using CMS - Deviation - Limits'!B251=\"\",\"\",'Using CMS - Deviation - Limits'!B251)","v":""},{"$f":"IF('Using CMS - Deviation - Limits'!C251=\"\",\"\",'Using CMS - Deviation - Limits'!C251)","v":""},"",{"$f":"IF(COUNTIF(AF$2:AF229,AF229)=1,AF229,\"\")","v":""},"","",{"$f":"+IFERROR(INDEX(#REF!,MATCH(ROW()-ROW(AG$1),AC$2:AC$955,0)),\"\")","v":""},{"$nulls":3},{"$f":"+IF(AS229=\"\",\"\",MAX(AN$1:AN228)+1)","v":""},{"$f":"IF('Using CMS - Inop_OoC - CMS'!B251=\"\",\"\",'Using CMS - Inop_OoC - CMS'!B251)","v":""},{"$f":"IF('Using CMS - Inop_OoC - CMS'!C251=\"\",\"\",'Using CMS - Inop_OoC - CMS'!C251)","v":""},{"$f":"IF('Using CMS - Inop_OoC - CMS'!D251=\"\",\"\",'Using CMS - Inop_OoC - CMS'!D251)","v":""},{"$f":"AO229&AP229&Table10[[#This Row],[CMS]]","v":""},{"$f":"IF(COUNTIF(AR$2:AR229,AR229)=1,AR229,\"\")","v":""},"","","",null,{"$f":"+IF(BB229=\"\",\"\",MAX(AX$1:AX228)+1)","v":""},{"$f":"IF('Using CMS - Deviation - Limits'!B251=\"\",\"\",'Using CMS - Deviation - Limits'!B251)","v":""},{"$f":"IF('Using CMS - Deviation - Limits'!C251=\"\",\"\",'Using CMS - Deviation - Limits'!C251)","v":""},{"$f":"AY229&AZ229&Table10[[#This Row],[CMS]]","v":""},{"$f":"IF(COUNTIF(BA$2:BA229,BA229)=1,BA229,\"\")","v":""},"","",{"$f":"+IFERROR(INDEX(#REF!,MATCH(ROW()-ROW(BC$1),AX$2:AX$955,0)),\"\")","v":""}]
[{"$f":"+IF(D230=\"\",\"\",MAX(A$1:A229)+1)","v":""},{"$f":"IF('Process_&_CMS_Identification'!C252=\"\",\"\",'Process_&_CMS_Identification'!C252)","v":""},"",{"$f":"IF(COUNTIF(B$2:B230,B230)=1,B230,\"\")","v":""},{"$nulls":15},{"$f":"+IF(X230=\"\",\"\",MAX(T$1:T229)+1)","v":""},{"$f":"IF('No CMS - Deviation - Limits'!B252=\"\",\"\",'No CMS - Deviation - Limits'!B252)","v":""},{"$f":"IF('No CMS - Deviation - Limits'!C252=\"\",\"\",'No CMS - Deviation - Limits'!C252)","v":""},"",{"$f":"IF(COUNTIF(V$2:V230,V230)=1,V230,\"\")","v":""},"","",{"$f":"+IFERROR(INDEX(#REF!,MATCH(ROW()-ROW($Y$1),T$2:T$955,0)),\"\")","v":""},null,{"$f":"+IF(AG230=\"\",\"\",MAX(AC$1:AC229)+1)","v":""},{"$f":"IF('Using CMS - Deviation - Limits'!B252=\"\",\"\",'Using CMS - Deviation - Limits'!B252)","v":""},{"$f":"IF('Using CMS - Deviation - Limits'!C252=\"\",\"\",'Using CMS - Deviation - Limits'!C252)","v":""},"",{"$f":"IF(COUNTIF(AF$2:AF230,AF230)=1,AF230,\"\")","v":""},"","",{"$f":"+IFERROR(INDEX(#REF!,MATCH(ROW()-ROW(AG$1),AC$2:AC$955,0)),\"\")","v":""},{"$nulls":3},{"$f":"+IF(AS230=\"\",\"\",MAX(AN$1:AN229)+1)","v":""},{"$f":"IF('Using CMS - Inop_OoC - CMS'!B252=\"\",\"\",'Using CMS - Inop_OoC - CMS'!B252)","v":""},{"$f":"IF('Using CMS - Inop_OoC - CMS'!C252=\"\",\"\",'Using CMS - Inop_OoC - CMS'!C252)","v":""},{"$f":"IF('Using CMS - Inop_OoC - CMS'!D252=\"\",\"\",'Using CMS - Inop_OoC - CMS'!D252)","v":""},{"$f":"AO230&AP230&Table10[[#This Row],[CMS]]","v":""},{"$f":"IF(COUNTIF(AR$2:AR230,AR230)=1,AR230,\"\")","v":""},"","","",null,{"$f":"+IF(BB230=\"\",\"\",MAX(AX$1:AX229)+1)","v":""},{"$f":"IF('Using CMS - Deviation - Limits'!B252=\"\",\"\",'Using CMS - Deviation - Limits'!B252)","v":""},{"$f":"IF('Using CMS - Deviation - Limits'!C252=\"\",\"\",'Using CMS - Deviation - Limits'!C252)","v":""},{"$f":"AY230&AZ230&Table10[[#This Row],[CMS]]","v":""},{"$f":"IF(COUNTIF(BA$2:BA230,BA230)=1,BA230,\"\")","v":""},"","",{"$f":"+IFERROR(INDEX(#REF!,MATCH(ROW()-ROW(BC$1),AX$2:AX$955,0)),\"\")","v":""}]
[{"$f":"+IF(D231=\"\",\"\",MAX(A$1:A230)+1)","v":""},{"$f":"IF('Process_&_CMS_Identification'!C253=\"\",\"\",'Process_&_CMS_Identification'!C253)","v":""},"",{"$f":"IF(COUNTIF(B$2:B231,B231)=1,B231,\"\")","v":""},{"$nulls":15},{"$f":"+IF(X231=\"\",\"\",MAX(T$1:T230)+1)","v":""},{"$f":"IF('No CMS - Deviation - Limits'!B253=\"\",\"\",'No CMS - Deviation - Limits'!B253)","v":""},{"$f":"IF('No CMS - Deviation - Limits'!C253=\"\",\"\",'No CMS - Deviation - Limits'!C253)","v":""},"",{"$f":"IF(COUNTIF(V$2:V231,V231)=1,V231,\"\")","v":""},"","",{"$f":"+IFERROR(INDEX(#REF!,MATCH(ROW()-ROW($Y$1),T$2:T$955,0)),\"\")","v":""},null,{"$f":"+IF(AG231=\"\",\"\",MAX(AC$1:AC230)+1)","v":""},{"$f":"IF('Using CMS - Deviation - Limits'!B253=\"\",\"\",'Using CMS - Deviation - Limits'!B253)","v":""},{"$f":"IF('Using CMS - Deviation - Limits'!C253=\"\",\"\",'Using CMS - Deviation - Limits'!C253)","v":""},"",{"$f":"IF(COUNTIF(AF$2:AF231,AF231)=1,AF231,\"\")","v":""},"","",{"$f":"+IFERROR(INDEX(#REF!,MATCH(ROW()-ROW(AG$1),AC$2:AC$955,0)),\"\")","v":""},{"$nulls":3},{"$f":"+IF(AS231=\"\",\"\",MAX(AN$1:AN230)+1)","v":""},{"$f":"IF('Using CMS - Inop_OoC - CMS'!B253=\"\",\"\",'Using CMS - Inop_OoC - CMS'!B253)","v":""},{"$f":"IF('Using CMS - Inop_OoC - CMS'!C253=\"\",\"\",'Using CMS - Inop_OoC - CMS'!C253)","v":""},{"$f":"IF('Using CMS - Inop_OoC - CMS'!D253=\"\",\"\",'Using CMS - Inop_OoC - CMS'!D253)","v":""},{"$f":"AO231&AP231&Table10[[#This Row],[CMS]]","v":""},{"$f":"IF(COUNTIF(AR$2:AR231,AR231)=1,AR231,\"\")","v":""},"","","",null,{"$f":"+IF(BB231=\"\",\"\",MAX(AX$1:AX230)+1)","v":""},{"$f":"IF('Using CMS - Deviation - Limits'!B253=\"\",\"\",'Using CMS - Deviation - Limits'!B253)","v":""},{"$f":"IF('Using CMS - Deviation - Limits'!C253=\"\",\"\",'Using CMS - Deviation - Limits'!C253)","v":""},{"$f":"AY231&AZ231&Table10[[#This Row],[CMS]]","v":""},{"$f":"IF(COUNTIF(BA$2:BA231,BA231)=1,BA231,\"\")","v":""},"","",{"$f":"+IFERROR(INDEX(#REF!,MATCH(ROW()-ROW(BC$1),AX$2:AX$955,0)),\"\")","v":""}]
[{"$f":"+IF(D232=\"\",\"\",MAX(A$1:A231)+1)","v":""},{"$f":"IF('Process_&_CMS_Identification'!C254=\"\",\"\",'Process_&_CMS_Identification'!C254)","v":""},"",{"$f":"IF(COUNTIF(B$2:B232,B232)=1,B232,\"\")","v":""},{"$nulls":15},{"$f":"+IF(X232=\"\",\"\",MAX(T$1:T231)+1)","v":""},{"$f":"IF('No CMS - Deviation - Limits'!B254=\"\",\"\",'No CMS - Deviation - Limits'!B254)","v":""},{"$f":"IF('No CMS - Deviation - Limits'!C254=\"\",\"\",'No CMS - Deviation - Limits'!C254)","v":""},"",{"$f":"IF(COUNTIF(V$2:V232,V232)=1,V232,\"\")","v":""},"","",{"$f":"+IFERROR(INDEX(#REF!,MATCH(ROW()-ROW($Y$1),T$2:T$955,0)),\"\")","v":""},null,{"$f":"+IF(AG232=\"\",\"\",MAX(AC$1:AC231)+1)","v":""},{"$f":"IF('Using CMS - Deviation - Limits'!B254=\"\",\"\",'Using CMS - Deviation - Limits'!B254)","v":""},{"$f":"IF('Using CMS - Deviation - Limits'!C254=\"\",\"\",'Using CMS - Deviation - Limits'!C254)","v":""},"",{"$f":"IF(COUNTIF(AF$2:AF232,AF232)=1,AF232,\"\")","v":""},"","",{"$f":"+IFERROR(INDEX(#REF!,MATCH(ROW()-ROW(AG$1),AC$2:AC$955,0)),\"\")","v":""},{"$nulls":3},{"$f":"+IF(AS232=\"\",\"\",MAX(AN$1:AN231)+1)","v":""},{"$f":"IF('Using CMS - Inop_OoC - CMS'!B254=\"\",\"\",'Using CMS - Inop_OoC - CMS'!B254)","v":""},{"$f":"IF('Using CMS - Inop_OoC - CMS'!C254=\"\",\"\",'Using CMS - Inop_OoC - CMS'!C254)","v":""},{"$f":"IF('Using CMS - Inop_OoC - CMS'!D254=\"\",\"\",'Using CMS - Inop_OoC - CMS'!D254)","v":""},{"$f":"AO232&AP232&Table10[[#This Row],[CMS]]","v":""},{"$f":"IF(COUNTIF(AR$2:AR232,AR232)=1,AR232,\"\")","v":""},"","","",null,{"$f":"+IF(BB232=\"\",\"\",MAX(AX$1:AX231)+1)","v":""},{"$f":"IF('Using CMS - Deviation - Limits'!B254=\"\",\"\",'Using CMS - Deviation - Limits'!B254)","v":""},{"$f":"IF('Using CMS - Deviation - Limits'!C254=\"\",\"\",'Using CMS - Deviation - Limits'!C254)","v":""},{"$f":"AY232&AZ232&Table10[[#This Row],[CMS]]","v":""},{"$f":"IF(COUNTIF(BA$2:BA232,BA232)=1,BA232,\"\")","v":""},"","",{"$f":"+IFERROR(INDEX(#REF!,MATCH(ROW()-ROW(BC$1),AX$2:AX$955,0)),\"\")","v":""}]
[{"$f":"+IF(D233=\"\",\"\",MAX(A$1:A232)+1)","v":""},{"$f":"IF('Process_&_CMS_Identification'!C255=\"\",\"\",'Process_&_CMS_Identification'!C255)","v":""},"",{"$f":"IF(COUNTIF(B$2:B233,B233)=1,B233,\"\")","v":""},{"$nulls":15},{"$f":"+IF(X233=\"\",\"\",MAX(T$1:T232)+1)","v":""},{"$f":"IF('No CMS - Deviation - Limits'!B255=\"\",\"\",'No CMS - Deviation - Limits'!B255)","v":""},{"$f":"IF('No CMS - Deviation - Limits'!C255=\"\",\"\",'No CMS - Deviation - Limits'!C255)","v":""},"",{"$f":"IF(COUNTIF(V$2:V233,V233)=1,V233,\"\")","v":""},"","",{"$f":"+IFERROR(INDEX(#REF!,MATCH(ROW()-ROW($Y$1),T$2:T$955,0)),\"\")","v":""},null,{"$f":"+IF(AG233=\"\",\"\",MAX(AC$1:AC232)+1)","v":""},{"$f":"IF('Using CMS - Deviation - Limits'!B255=\"\",\"\",'Using CMS - Deviation - Limits'!B255)","v":""},{"$f":"IF('Using CMS - Deviation - Limits'!C255=\"\",\"\",'Using CMS - Deviation - Limits'!C255)","v":""},"",{"$f":"IF(COUNTIF(AF$2:AF233,AF233)=1,AF233,\"\")","v":""},"","",{"$f":"+IFERROR(INDEX(#REF!,MATCH(ROW()-ROW(AG$1),AC$2:AC$955,0)),\"\")","v":""},{"$nulls":3},{"$f":"+IF(AS233=\"\",\"\",MAX(AN$1:AN232)+1)","v":""},{"$f":"IF('Using CMS - Inop_OoC - CMS'!B255=\"\",\"\",'Using CMS - Inop_OoC - CMS'!B255)","v":""},{"$f":"IF('Using CMS - Inop_OoC - CMS'!C255=\"\",\"\",'Using CMS - Inop_OoC - CMS'!C255)","v":""},{"$f":"IF('Using CMS - Inop_OoC - CMS'!D255=\"\",\"\",'Using CMS - Inop_OoC - CMS'!D255)","v":""},{"$f":"AO233&AP233&Table10[[#This Row],[CMS]]","v":""},{"$f":"IF(COUNTIF(AR$2:AR233,AR233)=1,AR233,\"\")","v":""},"","","",null,{"$f":"+IF(BB233=\"\",\"\",MAX(AX$1:AX232)+1)","v":""},{"$f":"IF('Using CMS - Deviation - Limits'!B255=\"\",\"\",'Using CMS - Deviation - Limits'!B255)","v":""},{"$f":"IF('Using CMS - Deviation - Limits'!C255=\"\",\"\",'Using CMS - Deviation - Limits'!C255)","v":""},{"$f":"AY233&AZ233&Table10[[#This Row],[CMS]]","v":""},{"$f":"IF(COUNTIF(BA$2:BA233,BA233)=1,BA233,\"\")","v":""},"","",{"$f":"+IFERROR(INDEX(#REF!,MATCH(ROW()-ROW(BC$1),AX$2:AX$955,0)),\"\")","v":""}]
[{"$f":"+IF(D234=\"\",\"\",MAX(A$1:A233)+1)","v":""},{"$f":"IF('Process_&_CMS_Identification'!C256=\"\",\"\",'Process_&_CMS_Identification'!C256)","v":""},"",{"$f":"IF(COUNTIF(B$2:B234,B234)=1,B234,\"\")","v":""},{"$nulls":15},{"$f":"+IF(X234=\"\",\"\",MAX(T$1:T233)+1)","v":""},{"$f":"IF('No CMS - Deviation - Limits'!B256=\"\",\"\",'No CMS - Deviation - Limits'!B256)","v":""},{"$f":"IF('No CMS - Deviation - Limits'!C256=\"\",\"\",'No CMS - Deviation - Limits'!C256)","v":""},"",{"$f":"IF(COUNTIF(V$2:V234,V234)=1,V234,\"\")","v":""},"","",{"$f":"+IFERROR(INDEX(#REF!,MATCH(ROW()-ROW($Y$1),T$2:T$955,0)),\"\")","v":""},null,{"$f":"+IF(AG234=\"\",\"\",MAX(AC$1:AC233)+1)","v":""},{"$f":"IF('Using CMS - Deviation - Limits'!B256=\"\",\"\",'Using CMS - Deviation - Limits'!B256)","v":""},{"$f":"IF('Using CMS - Deviation - Limits'!C256=\"\",\"\",'Using CMS - Deviation - Limits'!C256)","v":""},"",{"$f":"IF(COUNTIF(AF$2:AF234,AF234)=1,AF234,\"\")","v":""},"","",{"$f":"+IFERROR(INDEX(#REF!,MATCH(ROW()-ROW(AG$1),AC$2:AC$955,0)),\"\")","v":""},{"$nulls":3},{"$f":"+IF(AS234=\"\",\"\",MAX(AN$1:AN233)+1)","v":""},{"$f":"IF('Using CMS - Inop_OoC - CMS'!B256=\"\",\"\",'Using CMS - Inop_OoC - CMS'!B256)","v":""},{"$f":"IF('Using CMS - Inop_OoC - CMS'!C256=\"\",\"\",'Using CMS - Inop_OoC - CMS'!C256)","v":""},{"$f":"IF('Using CMS - Inop_OoC - CMS'!D256=\"\",\"\",'Using CMS - Inop_OoC - CMS'!D256)","v":""},{"$f":"AO234&AP234&Table10[[#This Row],[CMS]]","v":""},{"$f":"IF(COUNTIF(AR$2:AR234,AR234)=1,AR234,\"\")","v":""},"","","",null,{"$f":"+IF(BB234=\"\",\"\",MAX(AX$1:AX233)+1)","v":""},{"$f":"IF('Using CMS - Deviation - Limits'!B256=\"\",\"\",'Using CMS - Deviation - Limits'!B256)","v":""},{"$f":"IF('Using CMS - Deviation - Limits'!C256=\"\",\"\",'Using CMS - Deviation - Limits'!C256)","v":""},{"$f":"AY234&AZ234&Table10[[#This Row],[CMS]]","v":""},{"$f":"IF(COUNTIF(BA$2:BA234,BA234)=1,BA234,\"\")","v":""},"","",{"$f":"+IFERROR(INDEX(#REF!,MATCH(ROW()-ROW(BC$1),AX$2:AX$955,0)),\"\")","v":""}]
[{"$f":"+IF(D235=\"\",\"\",MAX(A$1:A234)+1)","v":""},{"$f":"IF('Process_&_CMS_Identification'!C257=\"\",\"\",'Process_&_CMS_Identification'!C257)","v":""},"",{"$f":"IF(COUNTIF(B$2:B235,B235)=1,B235,\"\")","v":""},{"$nulls":15},{"$f":"+IF(X235=\"\",\"\",MAX(T$1:T234)+1)","v":""},{"$f":"IF('No CMS - Deviation - Limits'!B257=\"\",\"\",'No CMS - Deviation - Limits'!B257)","v":""},{"$f":"IF('No CMS - Deviation - Limits'!C257=\"\",\"\",'No CMS - Deviation - Limits'!C257)","v":""},"",{"$f":"IF(COUNTIF(V$2:V235,V235)=1,V235,\"\")","v":""},"","",{"$f":"+IFERROR(INDEX(#REF!,MATCH(ROW()-ROW($Y$1),T$2:T$955,0)),\"\")","v":""},null,{"$f":"+IF(AG235=\"\",\"\",MAX(AC$1:AC234)+1)","v":""},{"$f":"IF('Using CMS - Deviation - Limits'!B257=\"\",\"\",'Using CMS - Deviation - Limits'!B257)","v":""},{"$f":"IF('Using CMS - Deviation - Limits'!C257=\"\",\"\",'Using CMS - Deviation - Limits'!C257)","v":""},"",{"$f":"IF(COUNTIF(AF$2:AF235,AF235)=1,AF235,\"\")","v":""},"","",{"$f":"+IFERROR(INDEX(#REF!,MATCH(ROW()-ROW(AG$1),AC$2:AC$955,0)),\"\")","v":""},{"$nulls":3},{"$f":"+IF(AS235=\"\",\"\",MAX(AN$1:AN234)+1)","v":""},{"$f":"IF('Using CMS - Inop_OoC - CMS'!B257=\"\",\"\",'Using CMS - Inop_OoC - CMS'!B257)","v":""},{"$f":"IF('Using CMS - Inop_OoC - CMS'!C257=\"\",\"\",'Using CMS - Inop_OoC - CMS'!C257)","v":""},{"$f":"IF('Using CMS - Inop_OoC - CMS'!D257=\"\",\"\",'Using CMS - Inop_OoC - CMS'!D257)","v":""},{"$f":"AO235&AP235&Table10[[#This Row],[CMS]]","v":""},{"$f":"IF(COUNTIF(AR$2:AR235,AR235)=1,AR235,\"\")","v":""},"","","",null,{"$f":"+IF(BB235=\"\",\"\",MAX(AX$1:AX234)+1)","v":""},{"$f":"IF('Using CMS - Deviation - Limits'!B257=\"\",\"\",'Using CMS - Deviation - Limits'!B257)","v":""},{"$f":"IF('Using CMS - Deviation - Limits'!C257=\"\",\"\",'Using CMS - Deviation - Limits'!C257)","v":""},{"$f":"AY235&AZ235&Table10[[#This Row],[CMS]]","v":""},{"$f":"IF(COUNTIF(BA$2:BA235,BA235)=1,BA235,\"\")","v":""},"","",{"$f":"+IFERROR(INDEX(#REF!,MATCH(ROW()-ROW(BC$1),AX$2:AX$955,0)),\"\")","v":""}]
[{"$f":"+IF(D236=\"\",\"\",MAX(A$1:A235)+1)","v":""},{"$f":"IF('Process_&_CMS_Identification'!C258=\"\",\"\",'Process_&_CMS_Identification'!C258)","v":""},"",{"$f":"IF(COUNTIF(B$2:B236,B236)=1,B236,\"\")","v":""},{"$nulls":15},{"$f":"+IF(X236=\"\",\"\",MAX(T$1:T235)+1)","v":""},{"$f":"IF('No CMS - Deviation - Limits'!B258=\"\",\"\",'No CMS - Deviation - Limits'!B258)","v":""},{"$f":"IF('No CMS - Deviation - Limits'!C258=\"\",\"\",'No CMS - Deviation - Limits'!C258)","v":""},"",{"$f":"IF(COUNTIF(V$2:V236,V236)=1,V236,\"\")","v":""},"","",{"$f":"+IFERROR(INDEX(#REF!,MATCH(ROW()-ROW($Y$1),T$2:T$955,0)),\"\")","v":""},null,{"$f":"+IF(AG236=\"\",\"\",MAX(AC$1:AC235)+1)","v":""},{"$f":"IF('Using CMS - Deviation - Limits'!B258=\"\",\"\",'Using CMS - Deviation - Limits'!B258)","v":""},{"$f":"IF('Using CMS - Deviation - Limits'!C258=\"\",\"\",'Using CMS - Deviation - Limits'!C258)","v":""},"",{"$f":"IF(COUNTIF(AF$2:AF236,AF236)=1,AF236,\"\")","v":""},"","",{"$f":"+IFERROR(INDEX(#REF!,MATCH(ROW()-ROW(AG$1),AC$2:AC$955,0)),\"\")","v":""},{"$nulls":3},{"$f":"+IF(AS236=\"\",\"\",MAX(AN$1:AN235)+1)","v":""},{"$f":"IF('Using CMS - Inop_OoC - CMS'!B258=\"\",\"\",'Using CMS - Inop_OoC - CMS'!B258)","v":""},{"$f":"IF('Using CMS - Inop_OoC - CMS'!C258=\"\",\"\",'Using CMS - Inop_OoC - CMS'!C258)","v":""},{"$f":"IF('Using CMS - Inop_OoC - CMS'!D258=\"\",\"\",'Using CMS - Inop_OoC - CMS'!D258)","v":""},{"$f":"AO236&AP236&Table10[[#This Row],[CMS]]","v":""},{"$f":"IF(COUNTIF(AR$2:AR236,AR236)=1,AR236,\"\")","v":""},"","","",null,{"$f":"+IF(BB236=\"\",\"\",MAX(AX$1:AX235)+1)","v":""},{"$f":"IF('Using CMS - Deviation - Limits'!B258=\"\",\"\",'Using CMS - Deviation - Limits'!B258)","v":""},{"$f":"IF('Using CMS - Deviation - Limits'!C258=\"\",\"\",'Using CMS - Deviation - Limits'!C258)","v":""},{"$f":"AY236&AZ236&Table10[[#This Row],[CMS]]","v":""},{"$f":"IF(COUNTIF(BA$2:BA236,BA236)=1,BA236,\"\")","v":""},"","",{"$f":"+IFERROR(INDEX(#REF!,MATCH(ROW()-ROW(BC$1),AX$2:AX$955,0)),\"\")","v":""}]
[{"$f":"+IF(D237=\"\",\"\",MAX(A$1:A236)+1)","v":""},{"$f":"IF('Process_&_CMS_Identification'!C259=\"\",\"\",'Process_&_CMS_Identification'!C259)","v":""},"",{"$f":"IF(COUNTIF(B$2:B237,B237)=1,B237,\"\")","v":""},{"$nulls":15},{"$f":"+IF(X237=\"\",\"\",MAX(T$1:T236)+1)","v":""},{"$f":"IF('No CMS - Deviation - Limits'!B259=\"\",\"\",'No CMS - Deviation - Limits'!B259)","v":""},{"$f":"IF('No CMS - Deviation - Limits'!C259=\"\",\"\",'No CMS - Deviation - Limits'!C259)","v":""},"",{"$f":"IF(COUNTIF(V$2:V237,V237)=1,V237,\"\")","v":""},"","",{"$f":"+IFERROR(INDEX(#REF!,MATCH(ROW()-ROW($Y$1),T$2:T$955,0)),\"\")","v":""},null,{"$f":"+IF(AG237=\"\",\"\",MAX(AC$1:AC236)+1)","v":""},{"$f":"IF('Using CMS - Deviation - Limits'!B259=\"\",\"\",'Using CMS - Deviation - Limits'!B259)","v":""},{"$f":"IF('Using CMS - Deviation - Limits'!C259=\"\",\"\",'Using CMS - Deviation - Limits'!C259)","v":""},"",{"$f":"IF(COUNTIF(AF$2:AF237,AF237)=1,AF237,\"\")","v":""},"","",{"$f":"+IFERROR(INDEX(#REF!,MATCH(ROW()-ROW(AG$1),AC$2:AC$955,0)),\"\")","v":""},{"$nulls":3},{"$f":"+IF(AS237=\"\",\"\",MAX(AN$1:AN236)+1)","v":""},{"$f":"IF('Using CMS - Inop_OoC - CMS'!B259=\"\",\"\",'Using CMS - Inop_OoC - CMS'!B259)","v":""},{"$f":"IF('Using CMS - Inop_OoC - CMS'!C259=\"\",\"\",'Using CMS - Inop_OoC - CMS'!C259)","v":""},{"$f":"IF('Using CMS - Inop_OoC - CMS'!D259=\"\",\"\",'Using CMS - Inop_OoC - CMS'!D259)","v":""},{"$f":"AO237&AP237&Table10[[#This Row],[CMS]]","v":""},{"$f":"IF(COUNTIF(AR$2:AR237,AR237)=1,AR237,\"\")","v":""},"","","",null,{"$f":"+IF(BB237=\"\",\"\",MAX(AX$1:AX236)+1)","v":""},{"$f":"IF('Using CMS - Deviation - Limits'!B259=\"\",\"\",'Using CMS - Deviation - Limits'!B259)","v":""},{"$f":"IF('Using CMS - Deviation - Limits'!C259=\"\",\"\",'Using CMS - Deviation - Limits'!C259)","v":""},{"$f":"AY237&AZ237&Table10[[#This Row],[CMS]]","v":""},{"$f":"IF(COUNTIF(BA$2:BA237,BA237)=1,BA237,\"\")","v":""},"","",{"$f":"+IFERROR(INDEX(#REF!,MATCH(ROW()-ROW(BC$1),AX$2:AX$955,0)),\"\")","v":""}]
[{"$f":"+IF(D238=\"\",\"\",MAX(A$1:A237)+1)","v":""},{"$f":"IF('Process_&_CMS_Identification'!C260=\"\",\"\",'Process_&_CMS_Identification'!C260)","v":""},"",{"$f":"IF(COUNTIF(B$2:B238,B238)=1,B238,\"\")","v":""},{"$nulls":15},{"$f":"+IF(X238=\"\",\"\",MAX(T$1:T237)+1)","v":""},{"$f":"IF('No CMS - Deviation - Limits'!B260=\"\",\"\",'No CMS - Deviation - Limits'!B260)","v":""},{"$f":"IF('No CMS - Deviation - Limits'!C260=\"\",\"\",'No CMS - Deviation - Limits'!C260)","v":""},"",{"$f":"IF(COUNTIF(V$2:V238,V238)=1,V238,\"\")","v":""},"","",{"$f":"+IFERROR(INDEX(#REF!,MATCH(ROW()-ROW($Y$1),T$2:T$955,0)),\"\")","v":""},null,{"$f":"+IF(AG238=\"\",\"\",MAX(AC$1:AC237)+1)","v":""},{"$f":"IF('Using CMS - Deviation - Limits'!B260=\"\",\"\",'Using CMS - Deviation - Limits'!B260)","v":""},{"$f":"IF('Using CMS - Deviation - Limits'!C260=\"\",\"\",'Using CMS - Deviation - Limits'!C260)","v":""},"",{"$f":"IF(COUNTIF(AF$2:AF238,AF238)=1,AF238,\"\")","v":""},"","",{"$f":"+IFERROR(INDEX(#REF!,MATCH(ROW()-ROW(AG$1),AC$2:AC$955,0)),\"\")","v":""},{"$nulls":3},{"$f":"+IF(AS238=\"\",\"\",MAX(AN$1:AN237)+1)","v":""},{"$f":"IF('Using CMS - Inop_OoC - CMS'!B260=\"\",\"\",'Using CMS - Inop_OoC - CMS'!B260)","v":""},{"$f":"IF('Using CMS - Inop_OoC - CMS'!C260=\"\",\"\",'Using CMS - Inop_OoC - CMS'!C260)","v":""},{"$f":"IF('Using CMS - Inop_OoC - CMS'!D260=\"\",\"\",'Using CMS - Inop_OoC - CMS'!D260)","v":""},{"$f":"AO238&AP238&Table10[[#This Row],[CMS]]","v":""},{"$f":"IF(COUNTIF(AR$2:AR238,AR238)=1,AR238,\"\")","v":""},"","","",null,{"$f":"+IF(BB238=\"\",\"\",MAX(AX$1:AX237)+1)","v":""},{"$f":"IF('Using CMS - Deviation - Limits'!B260=\"\",\"\",'Using CMS - Deviation - Limits'!B260)","v":""},{"$f":"IF('Using CMS - Deviation - Limits'!C260=\"\",\"\",'Using CMS - Deviation - Limits'!C260)","v":""},{"$f":"AY238&AZ238&Table10[[#This Row],[CMS]]","v":""},{"$f":"IF(COUNTIF(BA$2:BA238,BA238)=1,BA238,\"\")","v":""},"","",{"$f":"+IFERROR(INDEX(#REF!,MATCH(ROW()-ROW(BC$1),AX$2:AX$955,0)),\"\")","v":""}]
[{"$f":"+IF(D239=\"\",\"\",MAX(A$1:A238)+1)","v":""},{"$f":"IF('Process_&_CMS_Identification'!C261=\"\",\"\",'Process_&_CMS_Identification'!C261)","v":""},"",{"$f":"IF(COUNTIF(B$2:B239,B239)=1,B239,\"\")","v":""},{"$nulls":15},{"$f":"+IF(X239=\"\",\"\",MAX(T$1:T238)+1)","v":""},{"$f":"IF('No CMS - Deviation - Limits'!B261=\"\",\"\",'No CMS - Deviation - Limits'!B261)","v":""},{"$f":"IF('No CMS - Deviation - Limits'!C261=\"\",\"\",'No CMS - Deviation - Limits'!C261)","v":""},"",{"$f":"IF(COUNTIF(V$2:V239,V239)=1,V239,\"\")","v":""},"","",{"$f":"+IFERROR(INDEX(#REF!,MATCH(ROW()-ROW($Y$1),T$2:T$955,0)),\"\")","v":""},null,{"$f":"+IF(AG239=\"\",\"\",MAX(AC$1:AC238)+1)","v":""},{"$f":"IF('Using CMS - Deviation - Limits'!B261=\"\",\"\",'Using CMS - Deviation - Limits'!B261)","v":""},{"$f":"IF('Using CMS - Deviation - Limits'!C261=\"\",\"\",'Using CMS - Deviation - Limits'!C261)","v":""},"",{"$f":"IF(COUNTIF(AF$2:AF239,AF239)=1,AF239,\"\")","v":""},"","",{"$f":"+IFERROR(INDEX(#REF!,MATCH(ROW()-ROW(AG$1),AC$2:AC$955,0)),\"\")","v":""},{"$nulls":3},{"$f":"+IF(AS239=\"\",\"\",MAX(AN$1:AN238)+1)","v":""},{"$f":"IF('Using CMS - Inop_OoC - CMS'!B261=\"\",\"\",'Using CMS - Inop_OoC - CMS'!B261)","v":""},{"$f":"IF('Using CMS - Inop_OoC - CMS'!C261=\"\",\"\",'Using CMS - Inop_OoC - CMS'!C261)","v":""},{"$f":"IF('Using CMS - Inop_OoC - CMS'!D261=\"\",\"\",'Using CMS - Inop_OoC - CMS'!D261)","v":""},{"$f":"AO239&AP239&Table10[[#This Row],[CMS]]","v":""},{"$f":"IF(COUNTIF(AR$2:AR239,AR239)=1,AR239,\"\")","v":""},"","","",null,{"$f":"+IF(BB239=\"\",\"\",MAX(AX$1:AX238)+1)","v":""},{"$f":"IF('Using CMS - Deviation - Limits'!B261=\"\",\"\",'Using CMS - Deviation - Limits'!B261)","v":""},{"$f":"IF('Using CMS - Deviation - Limits'!C261=\"\",\"\",'Using CMS - Deviation - Limits'!C261)","v":""},{"$f":"AY239&AZ239&Table10[[#This Row],[CMS]]","v":""},{"$f":"IF(COUNTIF(BA$2:BA239,BA239)=1,BA239,\"\")","v":""},"","",{"$f":"+IFERROR(INDEX(#REF!,MATCH(ROW()-ROW(BC$1),AX$2:AX$955,0)),\"\")","v":""}]
[{"$f":"+IF(D240=\"\",\"\",MAX(A$1:A239)+1)","v":""},{"$f":"IF('Process_&_CMS_Identification'!C262=\"\",\"\",'Process_&_CMS_Identification'!C262)","v":""},"",{"$f":"IF(COUNTIF(B$2:B240,B240)=1,B240,\"\")","v":""},{"$nulls":15},{"$f":"+IF(X240=\"\",\"\",MAX(T$1:T239)+1)","v":""},{"$f":"IF('No CMS - Deviation - Limits'!B262=\"\",\"\",'No CMS - Deviation - Limits'!B262)","v":""},{"$f":"IF('No CMS - Deviation - Limits'!C262=\"\",\"\",'No CMS - Deviation - Limits'!C262)","v":""},"",{"$f":"IF(COUNTIF(V$2:V240,V240)=1,V240,\"\")","v":""},"","",{"$f":"+IFERROR(INDEX(#REF!,MATCH(ROW()-ROW($Y$1),T$2:T$955,0)),\"\")","v":""},null,{"$f":"+IF(AG240=\"\",\"\",MAX(AC$1:AC239)+1)","v":""},{"$f":"IF('Using CMS - Deviation - Limits'!B262=\"\",\"\",'Using CMS - Deviation - Limits'!B262)","v":""},{"$f":"IF('Using CMS - Deviation - Limits'!C262=\"\",\"\",'Using CMS - Deviation - Limits'!C262)","v":""},"",{"$f":"IF(COUNTIF(AF$2:AF240,AF240)=1,AF240,\"\")","v":""},"","",{"$f":"+IFERROR(INDEX(#REF!,MATCH(ROW()-ROW(AG$1),AC$2:AC$955,0)),\"\")","v":""},{"$nulls":3},{"$f":"+IF(AS240=\"\",\"\",MAX(AN$1:AN239)+1)","v":""},{"$f":"IF('Using CMS - Inop_OoC - CMS'!B262=\"\",\"\",'Using CMS - Inop_OoC - CMS'!B262)","v":""},{"$f":"IF('Using CMS - Inop_OoC - CMS'!C262=\"\",\"\",'Using CMS - Inop_OoC - CMS'!C262)","v":""},{"$f":"IF('Using CMS - Inop_OoC - CMS'!D262=\"\",\"\",'Using CMS - Inop_OoC - CMS'!D262)","v":""},{"$f":"AO240&AP240&Table10[[#This Row],[CMS]]","v":""},{"$f":"IF(COUNTIF(AR$2:AR240,AR240)=1,AR240,\"\")","v":""},"","","",null,{"$f":"+IF(BB240=\"\",\"\",MAX(AX$1:AX239)+1)","v":""},{"$f":"IF('Using CMS - Deviation - Limits'!B262=\"\",\"\",'Using CMS - Deviation - Limits'!B262)","v":""},{"$f":"IF('Using CMS - Deviation - Limits'!C262=\"\",\"\",'Using CMS - Deviation - Limits'!C262)","v":""},{"$f":"AY240&AZ240&Table10[[#This Row],[CMS]]","v":""},{"$f":"IF(COUNTIF(BA$2:BA240,BA240)=1,BA240,\"\")","v":""},"","",{"$f":"+IFERROR(INDEX(#REF!,MATCH(ROW()-ROW(BC$1),AX$2:AX$955,0)),\"\")","v":""}]
[{"$f":"+IF(D241=\"\",\"\",MAX(A$1:A240)+1)","v":""},{"$f":"IF('Process_&_CMS_Identification'!C263=\"\",\"\",'Process_&_CMS_Identification'!C263)","v":""},"",{"$f":"IF(COUNTIF(B$2:B241,B241)=1,B241,\"\")","v":""},{"$nulls":15},{"$f":"+IF(X241=\"\",\"\",MAX(T$1:T240)+1)","v":""},{"$f":"IF('No CMS - Deviation - Limits'!B263=\"\",\"\",'No CMS - Deviation - Limits'!B263)","v":""},{"$f":"IF('No CMS - Deviation - Limits'!C263=\"\",\"\",'No CMS - Deviation - Limits'!C263)","v":""},"",{"$f":"IF(COUNTIF(V$2:V241,V241)=1,V241,\"\")","v":""},"","",{"$f":"+IFERROR(INDEX(#REF!,MATCH(ROW()-ROW($Y$1),T$2:T$955,0)),\"\")","v":""},null,{"$f":"+IF(AG241=\"\",\"\",MAX(AC$1:AC240)+1)","v":""},{"$f":"IF('Using CMS - Deviation - Limits'!B263=\"\",\"\",'Using CMS - Deviation - Limits'!B263)","v":""},{"$f":"IF('Using CMS - Deviation - Limits'!C263=\"\",\"\",'Using CMS - Deviation - Limits'!C263)","v":""},"",{"$f":"IF(COUNTIF(AF$2:AF241,AF241)=1,AF241,\"\")","v":""},"","",{"$f":"+IFERROR(INDEX(#REF!,MATCH(ROW()-ROW(AG$1),AC$2:AC$955,0)),\"\")","v":""},{"$nulls":3},{"$f":"+IF(AS241=\"\",\"\",MAX(AN$1:AN240)+1)","v":""},{"$f":"IF('Using CMS - Inop_OoC - CMS'!B263=\"\",\"\",'Using CMS - Inop_OoC - CMS'!B263)","v":""},{"$f":"IF('Using CMS - Inop_OoC - CMS'!C263=\"\",\"\",'Using CMS - Inop_OoC - CMS'!C263)","v":""},{"$f":"IF('Using CMS - Inop_OoC - CMS'!D263=\"\",\"\",'Using CMS - Inop_OoC - CMS'!D263)","v":""},{"$f":"AO241&AP241&Table10[[#This Row],[CMS]]","v":""},{"$f":"IF(COUNTIF(AR$2:AR241,AR241)=1,AR241,\"\")","v":""},"","","",null,{"$f":"+IF(BB241=\"\",\"\",MAX(AX$1:AX240)+1)","v":""},{"$f":"IF('Using CMS - Deviation - Limits'!B263=\"\",\"\",'Using CMS - Deviation - Limits'!B263)","v":""},{"$f":"IF('Using CMS - Deviation - Limits'!C263=\"\",\"\",'Using CMS - Deviation - Limits'!C263)","v":""},{"$f":"AY241&AZ241&Table10[[#This Row],[CMS]]","v":""},{"$f":"IF(COUNTIF(BA$2:BA241,BA241)=1,BA241,\"\")","v":""},"","",{"$f":"+IFERROR(INDEX(#REF!,MATCH(ROW()-ROW(BC$1),AX$2:AX$955,0)),\"\")","v":""}]
[{"$f":"+IF(D242=\"\",\"\",MAX(A$1:A241)+1)","v":""},{"$f":"IF('Process_&_CMS_Identification'!C264=\"\",\"\",'Process_&_CMS_Identification'!C264)","v":""},"",{"$f":"IF(COUNTIF(B$2:B242,B242)=1,B242,\"\")","v":""},{"$nulls":15},{"$f":"+IF(X242=\"\",\"\",MAX(T$1:T241)+1)","v":""},{"$f":"IF('No CMS - Deviation - Limits'!B264=\"\",\"\",'No CMS - Deviation - Limits'!B264)","v":""},{"$f":"IF('No CMS - Deviation - Limits'!C264=\"\",\"\",'No CMS - Deviation - Limits'!C264)","v":""},"",{"$f":"IF(COUNTIF(V$2:V242,V242)=1,V242,\"\")","v":""},"","",{"$f":"+IFERROR(INDEX(#REF!,MATCH(ROW()-ROW($Y$1),T$2:T$955,0)),\"\")","v":""},null,{"$f":"+IF(AG242=\"\",\"\",MAX(AC$1:AC241)+1)","v":""},{"$f":"IF('Using CMS - Deviation - Limits'!B264=\"\",\"\",'Using CMS - Deviation - Limits'!B264)","v":""},{"$f":"IF('Using CMS - Deviation - Limits'!C264=\"\",\"\",'Using CMS - Deviation - Limits'!C264)","v":""},"",{"$f":"IF(COUNTIF(AF$2:AF242,AF242)=1,AF242,\"\")","v":""},"","",{"$f":"+IFERROR(INDEX(#REF!,MATCH(ROW()-ROW(AG$1),AC$2:AC$955,0)),\"\")","v":""},{"$nulls":3},{"$f":"+IF(AS242=\"\",\"\",MAX(AN$1:AN241)+1)","v":""},{"$f":"IF('Using CMS - Inop_OoC - CMS'!B264=\"\",\"\",'Using CMS - Inop_OoC - CMS'!B264)","v":""},{"$f":"IF('Using CMS - Inop_OoC - CMS'!C264=\"\",\"\",'Using CMS - Inop_OoC - CMS'!C264)","v":""},{"$f":"IF('Using CMS - Inop_OoC - CMS'!D264=\"\",\"\",'Using CMS - Inop_OoC - CMS'!D264)","v":""},{"$f":"AO242&AP242&Table10[[#This Row],[CMS]]","v":""},{"$f":"IF(COUNTIF(AR$2:AR242,AR242)=1,AR242,\"\")","v":""},"","","",null,{"$f":"+IF(BB242=\"\",\"\",MAX(AX$1:AX241)+1)","v":""},{"$f":"IF('Using CMS - Deviation - Limits'!B264=\"\",\"\",'Using CMS - Deviation - Limits'!B264)","v":""},{"$f":"IF('Using CMS - Deviation - Limits'!C264=\"\",\"\",'Using CMS - Deviation - Limits'!C264)","v":""},{"$f":"AY242&AZ242&Table10[[#This Row],[CMS]]","v":""},{"$f":"IF(COUNTIF(BA$2:BA242,BA242)=1,BA242,\"\")","v":""},"","",{"$f":"+IFERROR(INDEX(#REF!,MATCH(ROW()-ROW(BC$1),AX$2:AX$955,0)),\"\")","v":""}]
[{"$f":"+IF(D243=\"\",\"\",MAX(A$1:A242)+1)","v":""},{"$f":"IF('Process_&_CMS_Identification'!C265=\"\",\"\",'Process_&_CMS_Identification'!C265)","v":""},"",{"$f":"IF(COUNTIF(B$2:B243,B243)=1,B243,\"\")","v":""},{"$nulls":15},{"$f":"+IF(X243=\"\",\"\",MAX(T$1:T242)+1)","v":""},{"$f":"IF('No CMS - Deviation - Limits'!B265=\"\",\"\",'No CMS - Deviation - Limits'!B265)","v":""},{"$f":"IF('No CMS - Deviation - Limits'!C265=\"\",\"\",'No CMS - Deviation - Limits'!C265)","v":""},"",{"$f":"IF(COUNTIF(V$2:V243,V243)=1,V243,\"\")","v":""},"","",{"$f":"+IFERROR(INDEX(#REF!,MATCH(ROW()-ROW($Y$1),T$2:T$955,0)),\"\")","v":""},null,{"$f":"+IF(AG243=\"\",\"\",MAX(AC$1:AC242)+1)","v":""},{"$f":"IF('Using CMS - Deviation - Limits'!B265=\"\",\"\",'Using CMS - Deviation - Limits'!B265)","v":""},{"$f":"IF('Using CMS - Deviation - Limits'!C265=\"\",\"\",'Using CMS - Deviation - Limits'!C265)","v":""},"",{"$f":"IF(COUNTIF(AF$2:AF243,AF243)=1,AF243,\"\")","v":""},"","",{"$f":"+IFERROR(INDEX(#REF!,MATCH(ROW()-ROW(AG$1),AC$2:AC$955,0)),\"\")","v":""},{"$nulls":3},{"$f":"+IF(AS243=\"\",\"\",MAX(AN$1:AN242)+1)","v":""},{"$f":"IF('Using CMS - Inop_OoC - CMS'!B265=\"\",\"\",'Using CMS - Inop_OoC - CMS'!B265)","v":""},{"$f":"IF('Using CMS - Inop_OoC - CMS'!C265=\"\",\"\",'Using CMS - Inop_OoC - CMS'!C265)","v":""},{"$f":"IF('Using CMS - Inop_OoC - CMS'!D265=\"\",\"\",'Using CMS - Inop_OoC - CMS'!D265)","v":""},{"$f":"AO243&AP243&Table10[[#This Row],[CMS]]","v":""},{"$f":"IF(COUNTIF(AR$2:AR243,AR243)=1,AR243,\"\")","v":""},"","","",null,{"$f":"+IF(BB243=\"\",\"\",MAX(AX$1:AX242)+1)","v":""},{"$f":"IF('Using CMS - Deviation - Limits'!B265=\"\",\"\",'Using CMS - Deviation - Limits'!B265)","v":""},{"$f":"IF('Using CMS - Deviation - Limits'!C265=\"\",\"\",'Using CMS - Deviation - Limits'!C265)","v":""},{"$f":"AY243&AZ243&Table10[[#This Row],[CMS]]","v":""},{"$f":"IF(COUNTIF(BA$2:BA243,BA243)=1,BA243,\"\")","v":""},"","",{"$f":"+IFERROR(INDEX(#REF!,MATCH(ROW()-ROW(BC$1),AX$2:AX$955,0)),\"\")","v":""}]
[{"$f":"+IF(D244=\"\",\"\",MAX(A$1:A243)+1)","v":""},{"$f":"IF('Process_&_CMS_Identification'!C266=\"\",\"\",'Process_&_CMS_Identification'!C266)","v":""},"",{"$f":"IF(COUNTIF(B$2:B244,B244)=1,B244,\"\")","v":""},{"$nulls":15},{"$f":"+IF(X244=\"\",\"\",MAX(T$1:T243)+1)","v":""},{"$f":"IF('No CMS - Deviation - Limits'!B266=\"\",\"\",'No CMS - Deviation - Limits'!B266)","v":""},{"$f":"IF('No CMS - Deviation - Limits'!C266=\"\",\"\",'No CMS - Deviation - Limits'!C266)","v":""},"",{"$f":"IF(COUNTIF(V$2:V244,V244)=1,V244,\"\")","v":""},"","",{"$f":"+IFERROR(INDEX(#REF!,MATCH(ROW()-ROW($Y$1),T$2:T$955,0)),\"\")","v":""},null,{"$f":"+IF(AG244=\"\",\"\",MAX(AC$1:AC243)+1)","v":""},{"$f":"IF('Using CMS - Deviation - Limits'!B266=\"\",\"\",'Using CMS - Deviation - Limits'!B266)","v":""},{"$f":"IF('Using CMS - Deviation - Limits'!C266=\"\",\"\",'Using CMS - Deviation - Limits'!C266)","v":""},"",{"$f":"IF(COUNTIF(AF$2:AF244,AF244)=1,AF244,\"\")","v":""},"","",{"$f":"+IFERROR(INDEX(#REF!,MATCH(ROW()-ROW(AG$1),AC$2:AC$955,0)),\"\")","v":""},{"$nulls":3},{"$f":"+IF(AS244=\"\",\"\",MAX(AN$1:AN243)+1)","v":""},{"$f":"IF('Using CMS - Inop_OoC - CMS'!B266=\"\",\"\",'Using CMS - Inop_OoC - CMS'!B266)","v":""},{"$f":"IF('Using CMS - Inop_OoC - CMS'!C266=\"\",\"\",'Using CMS - Inop_OoC - CMS'!C266)","v":""},{"$f":"IF('Using CMS - Inop_OoC - CMS'!D266=\"\",\"\",'Using CMS - Inop_OoC - CMS'!D266)","v":""},{"$f":"AO244&AP244&Table10[[#This Row],[CMS]]","v":""},{"$f":"IF(COUNTIF(AR$2:AR244,AR244)=1,AR244,\"\")","v":""},"","","",null,{"$f":"+IF(BB244=\"\",\"\",MAX(AX$1:AX243)+1)","v":""},{"$f":"IF('Using CMS - Deviation - Limits'!B266=\"\",\"\",'Using CMS - Deviation - Limits'!B266)","v":""},{"$f":"IF('Using CMS - Deviation - Limits'!C266=\"\",\"\",'Using CMS - Deviation - Limits'!C266)","v":""},{"$f":"AY244&AZ244&Table10[[#This Row],[CMS]]","v":""},{"$f":"IF(COUNTIF(BA$2:BA244,BA244)=1,BA244,\"\")","v":""},"","",{"$f":"+IFERROR(INDEX(#REF!,MATCH(ROW()-ROW(BC$1),AX$2:AX$955,0)),\"\")","v":""}]
[{"$f":"+IF(D245=\"\",\"\",MAX(A$1:A244)+1)","v":""},{"$f":"IF('Process_&_CMS_Identification'!C267=\"\",\"\",'Process_&_CMS_Identification'!C267)","v":""},"",{"$f":"IF(COUNTIF(B$2:B245,B245)=1,B245,\"\")","v":""},{"$nulls":15},{"$f":"+IF(X245=\"\",\"\",MAX(T$1:T244)+1)","v":""},{"$f":"IF('No CMS - Deviation - Limits'!B267=\"\",\"\",'No CMS - Deviation - Limits'!B267)","v":""},{"$f":"IF('No CMS - Deviation - Limits'!C267=\"\",\"\",'No CMS - Deviation - Limits'!C267)","v":""},"",{"$f":"IF(COUNTIF(V$2:V245,V245)=1,V245,\"\")","v":""},"","",{"$f":"+IFERROR(INDEX(#REF!,MATCH(ROW()-ROW($Y$1),T$2:T$955,0)),\"\")","v":""},null,{"$f":"+IF(AG245=\"\",\"\",MAX(AC$1:AC244)+1)","v":""},{"$f":"IF('Using CMS - Deviation - Limits'!B267=\"\",\"\",'Using CMS - Deviation - Limits'!B267)","v":""},{"$f":"IF('Using CMS - Deviation - Limits'!C267=\"\",\"\",'Using CMS - Deviation - Limits'!C267)","v":""},"",{"$f":"IF(COUNTIF(AF$2:AF245,AF245)=1,AF245,\"\")","v":""},"","",{"$f":"+IFERROR(INDEX(#REF!,MATCH(ROW()-ROW(AG$1),AC$2:AC$955,0)),\"\")","v":""},{"$nulls":3},{"$f":"+IF(AS245=\"\",\"\",MAX(AN$1:AN244)+1)","v":""},{"$f":"IF('Using CMS - Inop_OoC - CMS'!B267=\"\",\"\",'Using CMS - Inop_OoC - CMS'!B267)","v":""},{"$f":"IF('Using CMS - Inop_OoC - CMS'!C267=\"\",\"\",'Using CMS - Inop_OoC - CMS'!C267)","v":""},{"$f":"IF('Using CMS - Inop_OoC - CMS'!D267=\"\",\"\",'Using CMS - Inop_OoC - CMS'!D267)","v":""},{"$f":"AO245&AP245&Table10[[#This Row],[CMS]]","v":""},{"$f":"IF(COUNTIF(AR$2:AR245,AR245)=1,AR245,\"\")","v":""},"","","",null,{"$f":"+IF(BB245=\"\",\"\",MAX(AX$1:AX244)+1)","v":""},{"$f":"IF('Using CMS - Deviation - Limits'!B267=\"\",\"\",'Using CMS - Deviation - Limits'!B267)","v":""},{"$f":"IF('Using CMS - Deviation - Limits'!C267=\"\",\"\",'Using CMS - Deviation - Limits'!C267)","v":""},{"$f":"AY245&AZ245&Table10[[#This Row],[CMS]]","v":""},{"$f":"IF(COUNTIF(BA$2:BA245,BA245)=1,BA245,\"\")","v":""},"","",{"$f":"+IFERROR(INDEX(#REF!,MATCH(ROW()-ROW(BC$1),AX$2:AX$955,0)),\"\")","v":""}]
[{"$f":"+IF(D246=\"\",\"\",MAX(A$1:A245)+1)","v":""},{"$f":"IF('Process_&_CMS_Identification'!C268=\"\",\"\",'Process_&_CMS_Identification'!C268)","v":""},"",{"$f":"IF(COUNTIF(B$2:B246,B246)=1,B246,\"\")","v":""},{"$nulls":15},{"$f":"+IF(X246=\"\",\"\",MAX(T$1:T245)+1)","v":""},{"$f":"IF('No CMS - Deviation - Limits'!B268=\"\",\"\",'No CMS - Deviation - Limits'!B268)","v":""},{"$f":"IF('No CMS - Deviation - Limits'!C268=\"\",\"\",'No CMS - Deviation - Limits'!C268)","v":""},"",{"$f":"IF(COUNTIF(V$2:V246,V246)=1,V246,\"\")","v":""},"","",{"$f":"+IFERROR(INDEX(#REF!,MATCH(ROW()-ROW($Y$1),T$2:T$955,0)),\"\")","v":""},null,{"$f":"+IF(AG246=\"\",\"\",MAX(AC$1:AC245)+1)","v":""},{"$f":"IF('Using CMS - Deviation - Limits'!B268=\"\",\"\",'Using CMS - Deviation - Limits'!B268)","v":""},{"$f":"IF('Using CMS - Deviation - Limits'!C268=\"\",\"\",'Using CMS - Deviation - Limits'!C268)","v":""},"",{"$f":"IF(COUNTIF(AF$2:AF246,AF246)=1,AF246,\"\")","v":""},"","",{"$f":"+IFERROR(INDEX(#REF!,MATCH(ROW()-ROW(AG$1),AC$2:AC$955,0)),\"\")","v":""},{"$nulls":3},{"$f":"+IF(AS246=\"\",\"\",MAX(AN$1:AN245)+1)","v":""},{"$f":"IF('Using CMS - Inop_OoC - CMS'!B268=\"\",\"\",'Using CMS - Inop_OoC - CMS'!B268)","v":""},{"$f":"IF('Using CMS - Inop_OoC - CMS'!C268=\"\",\"\",'Using CMS - Inop_OoC - CMS'!C268)","v":""},{"$f":"IF('Using CMS - Inop_OoC - CMS'!D268=\"\",\"\",'Using CMS - Inop_OoC - CMS'!D268)","v":""},{"$f":"AO246&AP246&Table10[[#This Row],[CMS]]","v":""},{"$f":"IF(COUNTIF(AR$2:AR246,AR246)=1,AR246,\"\")","v":""},"","","",null,{"$f":"+IF(BB246=\"\",\"\",MAX(AX$1:AX245)+1)","v":""},{"$f":"IF('Using CMS - Deviation - Limits'!B268=\"\",\"\",'Using CMS - Deviation - Limits'!B268)","v":""},{"$f":"IF('Using CMS - Deviation - Limits'!C268=\"\",\"\",'Using CMS - Deviation - Limits'!C268)","v":""},{"$f":"AY246&AZ246&Table10[[#This Row],[CMS]]","v":""},{"$f":"IF(COUNTIF(BA$2:BA246,BA246)=1,BA246,\"\")","v":""},"","",{"$f":"+IFERROR(INDEX(#REF!,MATCH(ROW()-ROW(BC$1),AX$2:AX$955,0)),\"\")","v":""}]
[{"$f":"+IF(D247=\"\",\"\",MAX(A$1:A246)+1)","v":""},{"$f":"IF('Process_&_CMS_Identification'!C269=\"\",\"\",'Process_&_CMS_Identification'!C269)","v":""},"",{"$f":"IF(COUNTIF(B$2:B247,B247)=1,B247,\"\")","v":""},{"$nulls":15},{"$f":"+IF(X247=\"\",\"\",MAX(T$1:T246)+1)","v":""},{"$f":"IF('No CMS - Deviation - Limits'!B269=\"\",\"\",'No CMS - Deviation - Limits'!B269)","v":""},{"$f":"IF('No CMS - Deviation - Limits'!C269=\"\",\"\",'No CMS - Deviation - Limits'!C269)","v":""},"",{"$f":"IF(COUNTIF(V$2:V247,V247)=1,V247,\"\")","v":""},"","",{"$f":"+IFERROR(INDEX(#REF!,MATCH(ROW()-ROW($Y$1),T$2:T$955,0)),\"\")","v":""},null,{"$f":"+IF(AG247=\"\",\"\",MAX(AC$1:AC246)+1)","v":""},{"$f":"IF('Using CMS - Deviation - Limits'!B269=\"\",\"\",'Using CMS - Deviation - Limits'!B269)","v":""},{"$f":"IF('Using CMS - Deviation - Limits'!C269=\"\",\"\",'Using CMS - Deviation - Limits'!C269)","v":""},"",{"$f":"IF(COUNTIF(AF$2:AF247,AF247)=1,AF247,\"\")","v":""},"","",{"$f":"+IFERROR(INDEX(#REF!,MATCH(ROW()-ROW(AG$1),AC$2:AC$955,0)),\"\")","v":""},{"$nulls":3},{"$f":"+IF(AS247=\"\",\"\",MAX(AN$1:AN246)+1)","v":""},{"$f":"IF('Using CMS - Inop_OoC - CMS'!B269=\"\",\"\",'Using CMS - Inop_OoC - CMS'!B269)","v":""},{"$f":"IF('Using CMS - Inop_OoC - CMS'!C269=\"\",\"\",'Using CMS - Inop_OoC - CMS'!C269)","v":""},{"$f":"IF('Using CMS - Inop_OoC - CMS'!D269=\"\",\"\",'Using CMS - Inop_OoC - CMS'!D269)","v":""},{"$f":"AO247&AP247&Table10[[#This Row],[CMS]]","v":""},{"$f":"IF(COUNTIF(AR$2:AR247,AR247)=1,AR247,\"\")","v":""},"","","",null,{"$f":"+IF(BB247=\"\",\"\",MAX(AX$1:AX246)+1)","v":""},{"$f":"IF('Using CMS - Deviation - Limits'!B269=\"\",\"\",'Using CMS - Deviation - Limits'!B269)","v":""},{"$f":"IF('Using CMS - Deviation - Limits'!C269=\"\",\"\",'Using CMS - Deviation - Limits'!C269)","v":""},{"$f":"AY247&AZ247&Table10[[#This Row],[CMS]]","v":""},{"$f":"IF(COUNTIF(BA$2:BA247,BA247)=1,BA247,\"\")","v":""},"","",{"$f":"+IFERROR(INDEX(#REF!,MATCH(ROW()-ROW(BC$1),AX$2:AX$955,0)),\"\")","v":""}]
[{"$f":"+IF(D248=\"\",\"\",MAX(A$1:A247)+1)","v":""},{"$f":"IF('Process_&_CMS_Identification'!C270=\"\",\"\",'Process_&_CMS_Identification'!C270)","v":""},"",{"$f":"IF(COUNTIF(B$2:B248,B248)=1,B248,\"\")","v":""},{"$nulls":15},{"$f":"+IF(X248=\"\",\"\",MAX(T$1:T247)+1)","v":""},{"$f":"IF('No CMS - Deviation - Limits'!B270=\"\",\"\",'No CMS - Deviation - Limits'!B270)","v":""},{"$f":"IF('No CMS - Deviation - Limits'!C270=\"\",\"\",'No CMS - Deviation - Limits'!C270)","v":""},"",{"$f":"IF(COUNTIF(V$2:V248,V248)=1,V248,\"\")","v":""},"","",{"$f":"+IFERROR(INDEX(#REF!,MATCH(ROW()-ROW($Y$1),T$2:T$955,0)),\"\")","v":""},null,{"$f":"+IF(AG248=\"\",\"\",MAX(AC$1:AC247)+1)","v":""},{"$f":"IF('Using CMS - Deviation - Limits'!B270=\"\",\"\",'Using CMS - Deviation - Limits'!B270)","v":""},{"$f":"IF('Using CMS - Deviation - Limits'!C270=\"\",\"\",'Using CMS - Deviation - Limits'!C270)","v":""},"",{"$f":"IF(COUNTIF(AF$2:AF248,AF248)=1,AF248,\"\")","v":""},"","",{"$f":"+IFERROR(INDEX(#REF!,MATCH(ROW()-ROW(AG$1),AC$2:AC$955,0)),\"\")","v":""},{"$nulls":3},{"$f":"+IF(AS248=\"\",\"\",MAX(AN$1:AN247)+1)","v":""},{"$f":"IF('Using CMS - Inop_OoC - CMS'!B270=\"\",\"\",'Using CMS - Inop_OoC - CMS'!B270)","v":""},{"$f":"IF('Using CMS - Inop_OoC - CMS'!C270=\"\",\"\",'Using CMS - Inop_OoC - CMS'!C270)","v":""},{"$f":"IF('Using CMS - Inop_OoC - CMS'!D270=\"\",\"\",'Using CMS - Inop_OoC - CMS'!D270)","v":""},{"$f":"AO248&AP248&Table10[[#This Row],[CMS]]","v":""},{"$f":"IF(COUNTIF(AR$2:AR248,AR248)=1,AR248,\"\")","v":""},"","","",null,{"$f":"+IF(BB248=\"\",\"\",MAX(AX$1:AX247)+1)","v":""},{"$f":"IF('Using CMS - Deviation - Limits'!B270=\"\",\"\",'Using CMS - Deviation - Limits'!B270)","v":""},{"$f":"IF('Using CMS - Deviation - Limits'!C270=\"\",\"\",'Using CMS - Deviation - Limits'!C270)","v":""},{"$f":"AY248&AZ248&Table10[[#This Row],[CMS]]","v":""},{"$f":"IF(COUNTIF(BA$2:BA248,BA248)=1,BA248,\"\")","v":""},"","",{"$f":"+IFERROR(INDEX(#REF!,MATCH(ROW()-ROW(BC$1),AX$2:AX$955,0)),\"\")","v":""}]
[{"$f":"+IF(D249=\"\",\"\",MAX(A$1:A248)+1)","v":""},{"$f":"IF('Process_&_CMS_Identification'!C271=\"\",\"\",'Process_&_CMS_Identification'!C271)","v":""},"",{"$f":"IF(COUNTIF(B$2:B249,B249)=1,B249,\"\")","v":""},{"$nulls":15},{"$f":"+IF(X249=\"\",\"\",MAX(T$1:T248)+1)","v":""},{"$f":"IF('No CMS - Deviation - Limits'!B271=\"\",\"\",'No CMS - Deviation - Limits'!B271)","v":""},{"$f":"IF('No CMS - Deviation - Limits'!C271=\"\",\"\",'No CMS - Deviation - Limits'!C271)","v":""},"",{"$f":"IF(COUNTIF(V$2:V249,V249)=1,V249,\"\")","v":""},"","",{"$f":"+IFERROR(INDEX(#REF!,MATCH(ROW()-ROW($Y$1),T$2:T$955,0)),\"\")","v":""},null,{"$f":"+IF(AG249=\"\",\"\",MAX(AC$1:AC248)+1)","v":""},{"$f":"IF('Using CMS - Deviation - Limits'!B271=\"\",\"\",'Using CMS - Deviation - Limits'!B271)","v":""},{"$f":"IF('Using CMS - Deviation - Limits'!C271=\"\",\"\",'Using CMS - Deviation - Limits'!C271)","v":""},"",{"$f":"IF(COUNTIF(AF$2:AF249,AF249)=1,AF249,\"\")","v":""},"","",{"$f":"+IFERROR(INDEX(#REF!,MATCH(ROW()-ROW(AG$1),AC$2:AC$955,0)),\"\")","v":""},{"$nulls":3},{"$f":"+IF(AS249=\"\",\"\",MAX(AN$1:AN248)+1)","v":""},{"$f":"IF('Using CMS - Inop_OoC - CMS'!B271=\"\",\"\",'Using CMS - Inop_OoC - CMS'!B271)","v":""},{"$f":"IF('Using CMS - Inop_OoC - CMS'!C271=\"\",\"\",'Using CMS - Inop_OoC - CMS'!C271)","v":""},{"$f":"IF('Using CMS - Inop_OoC - CMS'!D271=\"\",\"\",'Using CMS - Inop_OoC - CMS'!D271)","v":""},{"$f":"AO249&AP249&Table10[[#This Row],[CMS]]","v":""},{"$f":"IF(COUNTIF(AR$2:AR249,AR249)=1,AR249,\"\")","v":""},"","","",null,{"$f":"+IF(BB249=\"\",\"\",MAX(AX$1:AX248)+1)","v":""},{"$f":"IF('Using CMS - Deviation - Limits'!B271=\"\",\"\",'Using CMS - Deviation - Limits'!B271)","v":""},{"$f":"IF('Using CMS - Deviation - Limits'!C271=\"\",\"\",'Using CMS - Deviation - Limits'!C271)","v":""},{"$f":"AY249&AZ249&Table10[[#This Row],[CMS]]","v":""},{"$f":"IF(COUNTIF(BA$2:BA249,BA249)=1,BA249,\"\")","v":""},"","",{"$f":"+IFERROR(INDEX(#REF!,MATCH(ROW()-ROW(BC$1),AX$2:AX$955,0)),\"\")","v":""}]
[{"$f":"+IF(D250=\"\",\"\",MAX(A$1:A249)+1)","v":""},{"$f":"IF('Process_&_CMS_Identification'!C272=\"\",\"\",'Process_&_CMS_Identification'!C272)","v":""},"",{"$f":"IF(COUNTIF(B$2:B250,B250)=1,B250,\"\")","v":""},{"$nulls":15},{"$f":"+IF(X250=\"\",\"\",MAX(T$1:T249)+1)","v":""},{"$f":"IF('No CMS - Deviation - Limits'!B272=\"\",\"\",'No CMS - Deviation - Limits'!B272)","v":""},{"$f":"IF('No CMS - Deviation - Limits'!C272=\"\",\"\",'No CMS - Deviation - Limits'!C272)","v":""},"",{"$f":"IF(COUNTIF(V$2:V250,V250)=1,V250,\"\")","v":""},"","",{"$f":"+IFERROR(INDEX(#REF!,MATCH(ROW()-ROW($Y$1),T$2:T$955,0)),\"\")","v":""},null,{"$f":"+IF(AG250=\"\",\"\",MAX(AC$1:AC249)+1)","v":""},{"$f":"IF('Using CMS - Deviation - Limits'!B272=\"\",\"\",'Using CMS - Deviation - Limits'!B272)","v":""},{"$f":"IF('Using CMS - Deviation - Limits'!C272=\"\",\"\",'Using CMS - Deviation - Limits'!C272)","v":""},"",{"$f":"IF(COUNTIF(AF$2:AF250,AF250)=1,AF250,\"\")","v":""},"","",{"$f":"+IFERROR(INDEX(#REF!,MATCH(ROW()-ROW(AG$1),AC$2:AC$955,0)),\"\")","v":""},{"$nulls":3},{"$f":"+IF(AS250=\"\",\"\",MAX(AN$1:AN249)+1)","v":""},{"$f":"IF('Using CMS - Inop_OoC - CMS'!B272=\"\",\"\",'Using CMS - Inop_OoC - CMS'!B272)","v":""},{"$f":"IF('Using CMS - Inop_OoC - CMS'!C272=\"\",\"\",'Using CMS - Inop_OoC - CMS'!C272)","v":""},{"$f":"IF('Using CMS - Inop_OoC - CMS'!D272=\"\",\"\",'Using CMS - Inop_OoC - CMS'!D272)","v":""},{"$f":"AO250&AP250&Table10[[#This Row],[CMS]]","v":""},{"$f":"IF(COUNTIF(AR$2:AR250,AR250)=1,AR250,\"\")","v":""},"","","",null,{"$f":"+IF(BB250=\"\",\"\",MAX(AX$1:AX249)+1)","v":""},{"$f":"IF('Using CMS - Deviation - Limits'!B272=\"\",\"\",'Using CMS - Deviation - Limits'!B272)","v":""},{"$f":"IF('Using CMS - Deviation - Limits'!C272=\"\",\"\",'Using CMS - Deviation - Limits'!C272)","v":""},{"$f":"AY250&AZ250&Table10[[#This Row],[CMS]]","v":""},{"$f":"IF(COUNTIF(BA$2:BA250,BA250)=1,BA250,\"\")","v":""},"","",{"$f":"+IFERROR(INDEX(#REF!,MATCH(ROW()-ROW(BC$1),AX$2:AX$955,0)),\"\")","v":""}]
[{"$f":"+IF(D251=\"\",\"\",MAX(A$1:A250)+1)","v":""},{"$f":"IF('Process_&_CMS_Identification'!C273=\"\",\"\",'Process_&_CMS_Identification'!C273)","v":""},"",{"$f":"IF(COUNTIF(B$2:B251,B251)=1,B251,\"\")","v":""},{"$nulls":15},{"$f":"+IF(X251=\"\",\"\",MAX(T$1:T250)+1)","v":""},{"$f":"IF('No CMS - Deviation - Limits'!B273=\"\",\"\",'No CMS - Deviation - Limits'!B273)","v":""},{"$f":"IF('No CMS - Deviation - Limits'!C273=\"\",\"\",'No CMS - Deviation - Limits'!C273)","v":""},"",{"$f":"IF(COUNTIF(V$2:V251,V251)=1,V251,\"\")","v":""},"","",{"$f":"+IFERROR(INDEX(#REF!,MATCH(ROW()-ROW($Y$1),T$2:T$955,0)),\"\")","v":""},null,{"$f":"+IF(AG251=\"\",\"\",MAX(AC$1:AC250)+1)","v":""},{"$f":"IF('Using CMS - Deviation - Limits'!B273=\"\",\"\",'Using CMS - Deviation - Limits'!B273)","v":""},{"$f":"IF('Using CMS - Deviation - Limits'!C273=\"\",\"\",'Using CMS - Deviation - Limits'!C273)","v":""},"",{"$f":"IF(COUNTIF(AF$2:AF251,AF251)=1,AF251,\"\")","v":""},"","",{"$f":"+IFERROR(INDEX(#REF!,MATCH(ROW()-ROW(AG$1),AC$2:AC$955,0)),\"\")","v":""},{"$nulls":3},{"$f":"+IF(AS251=\"\",\"\",MAX(AN$1:AN250)+1)","v":""},{"$f":"IF('Using CMS - Inop_OoC - CMS'!B273=\"\",\"\",'Using CMS - Inop_OoC - CMS'!B273)","v":""},{"$f":"IF('Using CMS - Inop_OoC - CMS'!C273=\"\",\"\",'Using CMS - Inop_OoC - CMS'!C273)","v":""},{"$f":"IF('Using CMS - Inop_OoC - CMS'!D273=\"\",\"\",'Using CMS - Inop_OoC - CMS'!D273)","v":""},{"$f":"AO251&AP251&Table10[[#This Row],[CMS]]","v":""},{"$f":"IF(COUNTIF(AR$2:AR251,AR251)=1,AR251,\"\")","v":""},"","","",null,{"$f":"+IF(BB251=\"\",\"\",MAX(AX$1:AX250)+1)","v":""},{"$f":"IF('Using CMS - Deviation - Limits'!B273=\"\",\"\",'Using CMS - Deviation - Limits'!B273)","v":""},{"$f":"IF('Using CMS - Deviation - Limits'!C273=\"\",\"\",'Using CMS - Deviation - Limits'!C273)","v":""},{"$f":"AY251&AZ251&Table10[[#This Row],[CMS]]","v":""},{"$f":"IF(COUNTIF(BA$2:BA251,BA251)=1,BA251,\"\")","v":""},"","",{"$f":"+IFERROR(INDEX(#REF!,MATCH(ROW()-ROW(BC$1),AX$2:AX$955,0)),\"\")","v":""}]
[{"$f":"+IF(D252=\"\",\"\",MAX(A$1:A251)+1)","v":""},{"$f":"IF('Process_&_CMS_Identification'!C274=\"\",\"\",'Process_&_CMS_Identification'!C274)","v":""},"",{"$f":"IF(COUNTIF(B$2:B252,B252)=1,B252,\"\")","v":""},{"$nulls":15},{"$f":"+IF(X252=\"\",\"\",MAX(T$1:T251)+1)","v":""},{"$f":"IF('No CMS - Deviation - Limits'!B274=\"\",\"\",'No CMS - Deviation - Limits'!B274)","v":""},{"$f":"IF('No CMS - Deviation - Limits'!C274=\"\",\"\",'No CMS - Deviation - Limits'!C274)","v":""},"",{"$f":"IF(COUNTIF(V$2:V252,V252)=1,V252,\"\")","v":""},"","",{"$f":"+IFERROR(INDEX(#REF!,MATCH(ROW()-ROW($Y$1),T$2:T$955,0)),\"\")","v":""},null,{"$f":"+IF(AG252=\"\",\"\",MAX(AC$1:AC251)+1)","v":""},{"$f":"IF('Using CMS - Deviation - Limits'!B274=\"\",\"\",'Using CMS - Deviation - Limits'!B274)","v":""},{"$f":"IF('Using CMS - Deviation - Limits'!C274=\"\",\"\",'Using CMS - Deviation - Limits'!C274)","v":""},"",{"$f":"IF(COUNTIF(AF$2:AF252,AF252)=1,AF252,\"\")","v":""},"","",{"$f":"+IFERROR(INDEX(#REF!,MATCH(ROW()-ROW(AG$1),AC$2:AC$955,0)),\"\")","v":""},{"$nulls":3},{"$f":"+IF(AS252=\"\",\"\",MAX(AN$1:AN251)+1)","v":""},{"$f":"IF('Using CMS - Inop_OoC - CMS'!B274=\"\",\"\",'Using CMS - Inop_OoC - CMS'!B274)","v":""},{"$f":"IF('Using CMS - Inop_OoC - CMS'!C274=\"\",\"\",'Using CMS - Inop_OoC - CMS'!C274)","v":""},{"$f":"IF('Using CMS - Inop_OoC - CMS'!D274=\"\",\"\",'Using CMS - Inop_OoC - CMS'!D274)","v":""},{"$f":"AO252&AP252&Table10[[#This Row],[CMS]]","v":""},{"$f":"IF(COUNTIF(AR$2:AR252,AR252)=1,AR252,\"\")","v":""},"","","",null,{"$f":"+IF(BB252=\"\",\"\",MAX(AX$1:AX251)+1)","v":""},{"$f":"IF('Using CMS - Deviation - Limits'!B274=\"\",\"\",'Using CMS - Deviation - Limits'!B274)","v":""},{"$f":"IF('Using CMS - Deviation - Limits'!C274=\"\",\"\",'Using CMS - Deviation - Limits'!C274)","v":""},{"$f":"AY252&AZ252&Table10[[#This Row],[CMS]]","v":""},{"$f":"IF(COUNTIF(BA$2:BA252,BA252)=1,BA252,\"\")","v":""},"","",{"$f":"+IFERROR(INDEX(#REF!,MATCH(ROW()-ROW(BC$1),AX$2:AX$955,0)),\"\")","v":""}]
[{"$f":"+IF(D253=\"\",\"\",MAX(A$1:A252)+1)","v":""},{"$f":"IF('Process_&_CMS_Identification'!C275=\"\",\"\",'Process_&_CMS_Identification'!C275)","v":""},"",{"$f":"IF(COUNTIF(B$2:B253,B253)=1,B253,\"\")","v":""},{"$nulls":15},{"$f":"+IF(X253=\"\",\"\",MAX(T$1:T252)+1)","v":""},{"$f":"IF('No CMS - Deviation - Limits'!B275=\"\",\"\",'No CMS - Deviation - Limits'!B275)","v":""},{"$f":"IF('No CMS - Deviation - Limits'!C275=\"\",\"\",'No CMS - Deviation - Limits'!C275)","v":""},"",{"$f":"IF(COUNTIF(V$2:V253,V253)=1,V253,\"\")","v":""},"","",{"$f":"+IFERROR(INDEX(#REF!,MATCH(ROW()-ROW($Y$1),T$2:T$955,0)),\"\")","v":""},null,{"$f":"+IF(AG253=\"\",\"\",MAX(AC$1:AC252)+1)","v":""},{"$f":"IF('Using CMS - Deviation - Limits'!B275=\"\",\"\",'Using CMS - Deviation - Limits'!B275)","v":""},{"$f":"IF('Using CMS - Deviation - Limits'!C275=\"\",\"\",'Using CMS - Deviation - Limits'!C275)","v":""},"",{"$f":"IF(COUNTIF(AF$2:AF253,AF253)=1,AF253,\"\")","v":""},"","",{"$f":"+IFERROR(INDEX(#REF!,MATCH(ROW()-ROW(AG$1),AC$2:AC$955,0)),\"\")","v":""},{"$nulls":3},{"$f":"+IF(AS253=\"\",\"\",MAX(AN$1:AN252)+1)","v":""},{"$f":"IF('Using CMS - Inop_OoC - CMS'!B275=\"\",\"\",'Using CMS - Inop_OoC - CMS'!B275)","v":""},{"$f":"IF('Using CMS - Inop_OoC - CMS'!C275=\"\",\"\",'Using CMS - Inop_OoC - CMS'!C275)","v":""},{"$f":"IF('Using CMS - Inop_OoC - CMS'!D275=\"\",\"\",'Using CMS - Inop_OoC - CMS'!D275)","v":""},{"$f":"AO253&AP253&Table10[[#This Row],[CMS]]","v":""},{"$f":"IF(COUNTIF(AR$2:AR253,AR253)=1,AR253,\"\")","v":""},"","","",null,{"$f":"+IF(BB253=\"\",\"\",MAX(AX$1:AX252)+1)","v":""},{"$f":"IF('Using CMS - Deviation - Limits'!B275=\"\",\"\",'Using CMS - Deviation - Limits'!B275)","v":""},{"$f":"IF('Using CMS - Deviation - Limits'!C275=\"\",\"\",'Using CMS - Deviation - Limits'!C275)","v":""},{"$f":"AY253&AZ253&Table10[[#This Row],[CMS]]","v":""},{"$f":"IF(COUNTIF(BA$2:BA253,BA253)=1,BA253,\"\")","v":""},"","",{"$f":"+IFERROR(INDEX(#REF!,MATCH(ROW()-ROW(BC$1),AX$2:AX$955,0)),\"\")","v":""}]
[{"$f":"+IF(D254=\"\",\"\",MAX(A$1:A253)+1)","v":""},{"$f":"IF('Process_&_CMS_Identification'!C276=\"\",\"\",'Process_&_CMS_Identification'!C276)","v":""},"",{"$f":"IF(COUNTIF(B$2:B254,B254)=1,B254,\"\")","v":""},{"$nulls":15},{"$f":"+IF(X254=\"\",\"\",MAX(T$1:T253)+1)","v":""},{"$f":"IF('No CMS - Deviation - Limits'!B276=\"\",\"\",'No CMS - Deviation - Limits'!B276)","v":""},{"$f":"IF('No CMS - Deviation - Limits'!C276=\"\",\"\",'No CMS - Deviation - Limits'!C276)","v":""},"",{"$f":"IF(COUNTIF(V$2:V254,V254)=1,V254,\"\")","v":""},"","",{"$f":"+IFERROR(INDEX(#REF!,MATCH(ROW()-ROW($Y$1),T$2:T$955,0)),\"\")","v":""},null,{"$f":"+IF(AG254=\"\",\"\",MAX(AC$1:AC253)+1)","v":""},{"$f":"IF('Using CMS - Deviation - Limits'!B276=\"\",\"\",'Using CMS - Deviation - Limits'!B276)","v":""},{"$f":"IF('Using CMS - Deviation - Limits'!C276=\"\",\"\",'Using CMS - Deviation - Limits'!C276)","v":""},"",{"$f":"IF(COUNTIF(AF$2:AF254,AF254)=1,AF254,\"\")","v":""},"","",{"$f":"+IFERROR(INDEX(#REF!,MATCH(ROW()-ROW(AG$1),AC$2:AC$955,0)),\"\")","v":""},{"$nulls":3},{"$f":"+IF(AS254=\"\",\"\",MAX(AN$1:AN253)+1)","v":""},{"$f":"IF('Using CMS - Inop_OoC - CMS'!B276=\"\",\"\",'Using CMS - Inop_OoC - CMS'!B276)","v":""},{"$f":"IF('Using CMS - Inop_OoC - CMS'!C276=\"\",\"\",'Using CMS - Inop_OoC - CMS'!C276)","v":""},{"$f":"IF('Using CMS - Inop_OoC - CMS'!D276=\"\",\"\",'Using CMS - Inop_OoC - CMS'!D276)","v":""},{"$f":"AO254&AP254&Table10[[#This Row],[CMS]]","v":""},{"$f":"IF(COUNTIF(AR$2:AR254,AR254)=1,AR254,\"\")","v":""},"","","",null,{"$f":"+IF(BB254=\"\",\"\",MAX(AX$1:AX253)+1)","v":""},{"$f":"IF('Using CMS - Deviation - Limits'!B276=\"\",\"\",'Using CMS - Deviation - Limits'!B276)","v":""},{"$f":"IF('Using CMS - Deviation - Limits'!C276=\"\",\"\",'Using CMS - Deviation - Limits'!C276)","v":""},{"$f":"AY254&AZ254&Table10[[#This Row],[CMS]]","v":""},{"$f":"IF(COUNTIF(BA$2:BA254,BA254)=1,BA254,\"\")","v":""},"","",{"$f":"+IFERROR(INDEX(#REF!,MATCH(ROW()-ROW(BC$1),AX$2:AX$955,0)),\"\")","v":""}]
[{"$f":"+IF(D255=\"\",\"\",MAX(A$1:A254)+1)","v":""},{"$f":"IF('Process_&_CMS_Identification'!C277=\"\",\"\",'Process_&_CMS_Identification'!C277)","v":""},"",{"$f":"IF(COUNTIF(B$2:B255,B255)=1,B255,\"\")","v":""},{"$nulls":15},{"$f":"+IF(X255=\"\",\"\",MAX(T$1:T254)+1)","v":""},{"$f":"IF('No CMS - Deviation - Limits'!B277=\"\",\"\",'No CMS - Deviation - Limits'!B277)","v":""},{"$f":"IF('No CMS - Deviation - Limits'!C277=\"\",\"\",'No CMS - Deviation - Limits'!C277)","v":""},"",{"$f":"IF(COUNTIF(V$2:V255,V255)=1,V255,\"\")","v":""},"","",{"$f":"+IFERROR(INDEX(#REF!,MATCH(ROW()-ROW($Y$1),T$2:T$955,0)),\"\")","v":""},null,{"$f":"+IF(AG255=\"\",\"\",MAX(AC$1:AC254)+1)","v":""},{"$f":"IF('Using CMS - Deviation - Limits'!B277=\"\",\"\",'Using CMS - Deviation - Limits'!B277)","v":""},{"$f":"IF('Using CMS - Deviation - Limits'!C277=\"\",\"\",'Using CMS - Deviation - Limits'!C277)","v":""},"",{"$f":"IF(COUNTIF(AF$2:AF255,AF255)=1,AF255,\"\")","v":""},"","",{"$f":"+IFERROR(INDEX(#REF!,MATCH(ROW()-ROW(AG$1),AC$2:AC$955,0)),\"\")","v":""},{"$nulls":3},{"$f":"+IF(AS255=\"\",\"\",MAX(AN$1:AN254)+1)","v":""},{"$f":"IF('Using CMS - Inop_OoC - CMS'!B277=\"\",\"\",'Using CMS - Inop_OoC - CMS'!B277)","v":""},{"$f":"IF('Using CMS - Inop_OoC - CMS'!C277=\"\",\"\",'Using CMS - Inop_OoC - CMS'!C277)","v":""},{"$f":"IF('Using CMS - Inop_OoC - CMS'!D277=\"\",\"\",'Using CMS - Inop_OoC - CMS'!D277)","v":""},{"$f":"AO255&AP255&Table10[[#This Row],[CMS]]","v":""},{"$f":"IF(COUNTIF(AR$2:AR255,AR255)=1,AR255,\"\")","v":""},"","","",null,{"$f":"+IF(BB255=\"\",\"\",MAX(AX$1:AX254)+1)","v":""},{"$f":"IF('Using CMS - Deviation - Limits'!B277=\"\",\"\",'Using CMS - Deviation - Limits'!B277)","v":""},{"$f":"IF('Using CMS - Deviation - Limits'!C277=\"\",\"\",'Using CMS - Deviation - Limits'!C277)","v":""},{"$f":"AY255&AZ255&Table10[[#This Row],[CMS]]","v":""},{"$f":"IF(COUNTIF(BA$2:BA255,BA255)=1,BA255,\"\")","v":""},"","",{"$f":"+IFERROR(INDEX(#REF!,MATCH(ROW()-ROW(BC$1),AX$2:AX$955,0)),\"\")","v":""}]
[{"$f":"+IF(D256=\"\",\"\",MAX(A$1:A255)+1)","v":""},{"$f":"IF('Process_&_CMS_Identification'!C278=\"\",\"\",'Process_&_CMS_Identification'!C278)","v":""},"",{"$f":"IF(COUNTIF(B$2:B256,B256)=1,B256,\"\")","v":""},{"$nulls":15},{"$f":"+IF(X256=\"\",\"\",MAX(T$1:T255)+1)","v":""},{"$f":"IF('No CMS - Deviation - Limits'!B278=\"\",\"\",'No CMS - Deviation - Limits'!B278)","v":""},{"$f":"IF('No CMS - Deviation - Limits'!C278=\"\",\"\",'No CMS - Deviation - Limits'!C278)","v":""},"",{"$f":"IF(COUNTIF(V$2:V256,V256)=1,V256,\"\")","v":""},"","",{"$f":"+IFERROR(INDEX(#REF!,MATCH(ROW()-ROW($Y$1),T$2:T$955,0)),\"\")","v":""},null,{"$f":"+IF(AG256=\"\",\"\",MAX(AC$1:AC255)+1)","v":""},{"$f":"IF('Using CMS - Deviation - Limits'!B278=\"\",\"\",'Using CMS - Deviation - Limits'!B278)","v":""},{"$f":"IF('Using CMS - Deviation - Limits'!C278=\"\",\"\",'Using CMS - Deviation - Limits'!C278)","v":""},"",{"$f":"IF(COUNTIF(AF$2:AF256,AF256)=1,AF256,\"\")","v":""},"","",{"$f":"+IFERROR(INDEX(#REF!,MATCH(ROW()-ROW(AG$1),AC$2:AC$955,0)),\"\")","v":""},{"$nulls":3},{"$f":"+IF(AS256=\"\",\"\",MAX(AN$1:AN255)+1)","v":""},{"$f":"IF('Using CMS - Inop_OoC - CMS'!B278=\"\",\"\",'Using CMS - Inop_OoC - CMS'!B278)","v":""},{"$f":"IF('Using CMS - Inop_OoC - CMS'!C278=\"\",\"\",'Using CMS - Inop_OoC - CMS'!C278)","v":""},{"$f":"IF('Using CMS - Inop_OoC - CMS'!D278=\"\",\"\",'Using CMS - Inop_OoC - CMS'!D278)","v":""},{"$f":"AO256&AP256&Table10[[#This Row],[CMS]]","v":""},{"$f":"IF(COUNTIF(AR$2:AR256,AR256)=1,AR256,\"\")","v":""},"","","",null,{"$f":"+IF(BB256=\"\",\"\",MAX(AX$1:AX255)+1)","v":""},{"$f":"IF('Using CMS - Deviation - Limits'!B278=\"\",\"\",'Using CMS - Deviation - Limits'!B278)","v":""},{"$f":"IF('Using CMS - Deviation - Limits'!C278=\"\",\"\",'Using CMS - Deviation - Limits'!C278)","v":""},{"$f":"AY256&AZ256&Table10[[#This Row],[CMS]]","v":""},{"$f":"IF(COUNTIF(BA$2:BA256,BA256)=1,BA256,\"\")","v":""},"","",{"$f":"+IFERROR(INDEX(#REF!,MATCH(ROW()-ROW(BC$1),AX$2:AX$955,0)),\"\")","v":""}]
[{"$f":"+IF(D257=\"\",\"\",MAX(A$1:A256)+1)","v":""},{"$f":"IF('Process_&_CMS_Identification'!C279=\"\",\"\",'Process_&_CMS_Identification'!C279)","v":""},"",{"$f":"IF(COUNTIF(B$2:B257,B257)=1,B257,\"\")","v":""},{"$nulls":15},{"$f":"+IF(X257=\"\",\"\",MAX(T$1:T256)+1)","v":""},{"$f":"IF('No CMS - Deviation - Limits'!B279=\"\",\"\",'No CMS - Deviation - Limits'!B279)","v":""},{"$f":"IF('No CMS - Deviation - Limits'!C279=\"\",\"\",'No CMS - Deviation - Limits'!C279)","v":""},"",{"$f":"IF(COUNTIF(V$2:V257,V257)=1,V257,\"\")","v":""},"","",{"$f":"+IFERROR(INDEX(#REF!,MATCH(ROW()-ROW($Y$1),T$2:T$955,0)),\"\")","v":""},null,{"$f":"+IF(AG257=\"\",\"\",MAX(AC$1:AC256)+1)","v":""},{"$f":"IF('Using CMS - Deviation - Limits'!B279=\"\",\"\",'Using CMS - Deviation - Limits'!B279)","v":""},{"$f":"IF('Using CMS - Deviation - Limits'!C279=\"\",\"\",'Using CMS - Deviation - Limits'!C279)","v":""},"",{"$f":"IF(COUNTIF(AF$2:AF257,AF257)=1,AF257,\"\")","v":""},"","",{"$f":"+IFERROR(INDEX(#REF!,MATCH(ROW()-ROW(AG$1),AC$2:AC$955,0)),\"\")","v":""},{"$nulls":3},{"$f":"+IF(AS257=\"\",\"\",MAX(AN$1:AN256)+1)","v":""},{"$f":"IF('Using CMS - Inop_OoC - CMS'!B279=\"\",\"\",'Using CMS - Inop_OoC - CMS'!B279)","v":""},{"$f":"IF('Using CMS - Inop_OoC - CMS'!C279=\"\",\"\",'Using CMS - Inop_OoC - CMS'!C279)","v":""},{"$f":"IF('Using CMS - Inop_OoC - CMS'!D279=\"\",\"\",'Using CMS - Inop_OoC - CMS'!D279)","v":""},{"$f":"AO257&AP257&Table10[[#This Row],[CMS]]","v":""},{"$f":"IF(COUNTIF(AR$2:AR257,AR257)=1,AR257,\"\")","v":""},"","","",null,{"$f":"+IF(BB257=\"\",\"\",MAX(AX$1:AX256)+1)","v":""},{"$f":"IF('Using CMS - Deviation - Limits'!B279=\"\",\"\",'Using CMS - Deviation - Limits'!B279)","v":""},{"$f":"IF('Using CMS - Deviation - Limits'!C279=\"\",\"\",'Using CMS - Deviation - Limits'!C279)","v":""},{"$f":"AY257&AZ257&Table10[[#This Row],[CMS]]","v":""},{"$f":"IF(COUNTIF(BA$2:BA257,BA257)=1,BA257,\"\")","v":""},"","",{"$f":"+IFERROR(INDEX(#REF!,MATCH(ROW()-ROW(BC$1),AX$2:AX$955,0)),\"\")","v":""}]
[{"$f":"+IF(D258=\"\",\"\",MAX(A$1:A257)+1)","v":""},{"$f":"IF('Process_&_CMS_Identification'!C280=\"\",\"\",'Process_&_CMS_Identification'!C280)","v":""},{"$f":"+IFERROR(INDEX(B$2:B$501,MATCH(ROW()-ROW($C$1),A$2:A$501,0)),\"\")","v":""},{"$f":"IF(COUNTIF(B$2:B258,B258)=1,B258,\"\")","v":""},{"$nulls":15},{"$f":"+IF(X258=\"\",\"\",MAX(T$1:T257)+1)","v":""},{"$f":"IF('No CMS - Deviation - Limits'!B280=\"\",\"\",'No CMS - Deviation - Limits'!B280)","v":""},{"$f":"IF('No CMS - Deviation - Limits'!C280=\"\",\"\",'No CMS - Deviation - Limits'!C280)","v":""},{"$f":"U258&V258","v":""},{"$f":"IF(COUNTIF(V$2:V258,V258)=1,V258,\"\")","v":""},{"$f":"+IFERROR(INDEX(U$2:U$955,MATCH(ROW()-ROW($Y$1),T$2:T$955,0)),\"\")","v":""},{"$f":"+IFERROR(INDEX(V$2:V$955,MATCH(ROW()-ROW($Y$1),T$2:T$955,0)),\"\")","v":""},{"$f":"+IFERROR(INDEX(#REF!,MATCH(ROW()-ROW($Y$1),T$2:T$955,0)),\"\")","v":""},null,{"$f":"+IF(AG258=\"\",\"\",MAX(AC$1:AC257)+1)","v":""},{"$f":"IF('Using CMS - Deviation - Limits'!B280=\"\",\"\",'Using CMS - Deviation - Limits'!B280)","v":""},{"$f":"IF('Using CMS - Deviation - Limits'!C280=\"\",\"\",'Using CMS - Deviation - Limits'!C280)","v":""},{"$f":"AD258&AE258","v":""},{"$f":"IF(COUNTIF(AF$2:AF258,AF258)=1,AF258,\"\")","v":""},{"$f":"+IFERROR(INDEX(AD$2:AD$955,MATCH(ROW()-ROW(HX$1),AC$2:AC$955,0)),\"\")","v":""},{"$f":"+IFERROR(INDEX(AE$2:AE$955,MATCH(ROW()-ROW(AG$1),AC$2:AC$955,0)),\"\")","v":""},{"$f":"+IFERROR(INDEX(#REF!,MATCH(ROW()-ROW(AG$1),AC$2:AC$955,0)),\"\")","v":""},{"$nulls":3},{"$f":"+IF(AS258=\"\",\"\",MAX(AN$1:AN257)+1)","v":""},{"$f":"IF('Using CMS - Inop_OoC - CMS'!B280=\"\",\"\",'Using CMS - Inop_OoC - CMS'!B280)","v":""},{"$f":"IF('Using CMS - Inop_OoC - CMS'!C280=\"\",\"\",'Using CMS - Inop_OoC - CMS'!C280)","v":""},{"$f":"IF('Using CMS - Inop_OoC - CMS'!D280=\"\",\"\",'Using CMS - Inop_OoC - CMS'!D280)","v":""},{"$f":"AO258&AP258&Table10[[#This Row],[CMS]]","v":""},{"$f":"IF(COUNTIF(AR$2:AR258,AR258)=1,AR258,\"\")","v":""},"","",{"$f":"+IFERROR(INDEX(AQ$2:AQ$955,MATCH(ROW()-ROW(AT$1),AN$2:AN$955,0)),\"\")","v":""},null,{"$f":"+IF(BB258=\"\",\"\",MAX(AX$1:AX257)+1)","v":""},{"$f":"IF('Using CMS - Deviation - Limits'!B280=\"\",\"\",'Using CMS - Deviation - Limits'!B280)","v":""},{"$f":"IF('Using CMS - Deviation - Limits'!C280=\"\",\"\",'Using CMS - Deviation - Limits'!C280)","v":""},{"$f":"AY258&AZ258&Table10[[#This Row],[CMS]]","v":""},{"$f":"IF(COUNTIF(BA$2:BA258,BA258)=1,BA258,\"\")","v":""},{"$f":"+IFERROR(INDEX(AY$2:AY$955,MATCH(ROW()-ROW(BB$1),AX$2:AX$955,0)),\"\")","v":""},{"$f":"+IFERROR(INDEX(AZ$2:AZ$955,MATCH(ROW()-ROW(BB$1),AX$2:AX$955,0)),\"\")","v":""},{"$f":"+IFERROR(INDEX(#REF!,MATCH(ROW()-ROW(BC$1),AX$2:AX$955,0)),\"\")","v":""}]
[{"$f":"+IF(D259=\"\",\"\",MAX(A$1:A258)+1)","v":""},{"$f":"IF('Process_&_CMS_Identification'!C281=\"\",\"\",'Process_&_CMS_Identification'!C281)","v":""},"",{"$f":"IF(COUNTIF(B$2:B259,B259)=1,B259,\"\")","v":""},{"$nulls":15},{"$f":"+IF(X259=\"\",\"\",MAX(T$1:T258)+1)","v":""},{"$f":"IF('No CMS - Deviation - Limits'!B281=\"\",\"\",'No CMS - Deviation - Limits'!B281)","v":""},{"$f":"IF('No CMS - Deviation - Limits'!C281=\"\",\"\",'No CMS - Deviation - Limits'!C281)","v":""},"",{"$f":"IF(COUNTIF(V$2:V259,V259)=1,V259,\"\")","v":""},"","",{"$f":"+IFERROR(INDEX(#REF!,MATCH(ROW()-ROW($Y$1),T$2:T$955,0)),\"\")","v":""},null,{"$f":"+IF(AG259=\"\",\"\",MAX(AC$1:AC258)+1)","v":""},{"$f":"IF('Using CMS - Deviation - Limits'!B281=\"\",\"\",'Using CMS - Deviation - Limits'!B281)","v":""},{"$f":"IF('Using CMS - Deviation - Limits'!C281=\"\",\"\",'Using CMS - Deviation - Limits'!C281)","v":""},"",{"$f":"IF(COUNTIF(AF$2:AF259,AF259)=1,AF259,\"\")","v":""},"","",{"$f":"+IFERROR(INDEX(#REF!,MATCH(ROW()-ROW(AG$1),AC$2:AC$955,0)),\"\")","v":""},{"$nulls":3},{"$f":"+IF(AS259=\"\",\"\",MAX(AN$1:AN258)+1)","v":""},{"$f":"IF('Using CMS - Inop_OoC - CMS'!B281=\"\",\"\",'Using CMS - Inop_OoC - CMS'!B281)","v":""},{"$f":"IF('Using CMS - Inop_OoC - CMS'!C281=\"\",\"\",'Using CMS - Inop_OoC - CMS'!C281)","v":""},{"$f":"IF('Using CMS - Inop_OoC - CMS'!D281=\"\",\"\",'Using CMS - Inop_OoC - CMS'!D281)","v":""},{"$f":"AO259&AP259&Table10[[#This Row],[CMS]]","v":""},{"$f":"IF(COUNTIF(AR$2:AR259,AR259)=1,AR259,\"\")","v":""},{"$f":"+IFERROR(INDEX(AO$2:AO$955,MATCH(ROW()-ROW(AS$1),AN$2:AN$955,0)),\"\")","v":""},{"$f":"+IFERROR(INDEX(AP$2:AP$955,MATCH(ROW()-ROW(AS$1),AN$2:AN$955,0)),\"\")","v":""},"",null,{"$f":"+IF(BB259=\"\",\"\",MAX(AX$1:AX258)+1)","v":""},{"$f":"IF('Using CMS - Deviation - Limits'!B281=\"\",\"\",'Using CMS - Deviation - Limits'!B281)","v":""},{"$f":"IF('Using CMS - Deviation - Limits'!C281=\"\",\"\",'Using CMS - Deviation - Limits'!C281)","v":""},{"$f":"AY259&AZ259&Table10[[#This Row],[CMS]]","v":""},{"$f":"IF(COUNTIF(BA$2:BA259,BA259)=1,BA259,\"\")","v":""},"","",{"$f":"+IFERROR(INDEX(#REF!,MATCH(ROW()-ROW(BC$1),AX$2:AX$955,0)),\"\")","v":""}]
[{"$f":"+IF(D260=\"\",\"\",MAX(A$1:A259)+1)","v":""},{"$f":"IF('Process_&_CMS_Identification'!C282=\"\",\"\",'Process_&_CMS_Identification'!C282)","v":""},"",{"$f":"IF(COUNTIF(B$2:B260,B260)=1,B260,\"\")","v":""},{"$nulls":15},{"$f":"+IF(X260=\"\",\"\",MAX(T$1:T259)+1)","v":""},{"$f":"IF('No CMS - Deviation - Limits'!B282=\"\",\"\",'No CMS - Deviation - Limits'!B282)","v":""},{"$f":"IF('No CMS - Deviation - Limits'!C282=\"\",\"\",'No CMS - Deviation - Limits'!C282)","v":""},"",{"$f":"IF(COUNTIF(V$2:V260,V260)=1,V260,\"\")","v":""},"","",{"$f":"+IFERROR(INDEX(#REF!,MATCH(ROW()-ROW($Y$1),T$2:T$955,0)),\"\")","v":""},null,{"$f":"+IF(AG260=\"\",\"\",MAX(AC$1:AC259)+1)","v":""},{"$f":"IF('Using CMS - Deviation - Limits'!B282=\"\",\"\",'Using CMS - Deviation - Limits'!B282)","v":""},{"$f":"IF('Using CMS - Deviation - Limits'!C282=\"\",\"\",'Using CMS - Deviation - Limits'!C282)","v":""},"",{"$f":"IF(COUNTIF(AF$2:AF260,AF260)=1,AF260,\"\")","v":""},"","",{"$f":"+IFERROR(INDEX(#REF!,MATCH(ROW()-ROW(AG$1),AC$2:AC$955,0)),\"\")","v":""},{"$nulls":3},{"$f":"+IF(AS260=\"\",\"\",MAX(AN$1:AN259)+1)","v":""},{"$f":"IF('Using CMS - Inop_OoC - CMS'!B282=\"\",\"\",'Using CMS - Inop_OoC - CMS'!B282)","v":""},{"$f":"IF('Using CMS - Inop_OoC - CMS'!C282=\"\",\"\",'Using CMS - Inop_OoC - CMS'!C282)","v":""},{"$f":"IF('Using CMS - Inop_OoC - CMS'!D282=\"\",\"\",'Using CMS - Inop_OoC - CMS'!D282)","v":""},{"$f":"AO260&AP260&Table10[[#This Row],[CMS]]","v":""},{"$f":"IF(COUNTIF(AR$2:AR260,AR260)=1,AR260,\"\")","v":""},"","","",null,{"$f":"+IF(BB260=\"\",\"\",MAX(AX$1:AX259)+1)","v":""},{"$f":"IF('Using CMS - Deviation - Limits'!B282=\"\",\"\",'Using CMS - Deviation - Limits'!B282)","v":""},{"$f":"IF('Using CMS - Deviation - Limits'!C282=\"\",\"\",'Using CMS - Deviation - Limits'!C282)","v":""},{"$f":"AY260&AZ260&Table10[[#This Row],[CMS]]","v":""},{"$f":"IF(COUNTIF(BA$2:BA260,BA260)=1,BA260,\"\")","v":""},"","",{"$f":"+IFERROR(INDEX(#REF!,MATCH(ROW()-ROW(BC$1),AX$2:AX$955,0)),\"\")","v":""}]
[{"$f":"+IF(D261=\"\",\"\",MAX(A$1:A260)+1)","v":""},{"$f":"IF('Process_&_CMS_Identification'!C283=\"\",\"\",'Process_&_CMS_Identification'!C283)","v":""},"",{"$f":"IF(COUNTIF(B$2:B261,B261)=1,B261,\"\")","v":""},{"$nulls":15},{"$f":"+IF(X261=\"\",\"\",MAX(T$1:T260)+1)","v":""},{"$f":"IF('No CMS - Deviation - Limits'!B283=\"\",\"\",'No CMS - Deviation - Limits'!B283)","v":""},{"$f":"IF('No CMS - Deviation - Limits'!C283=\"\",\"\",'No CMS - Deviation - Limits'!C283)","v":""},"",{"$f":"IF(COUNTIF(V$2:V261,V261)=1,V261,\"\")","v":""},"","",{"$f":"+IFERROR(INDEX(#REF!,MATCH(ROW()-ROW($Y$1),T$2:T$955,0)),\"\")","v":""},null,{"$f":"+IF(AG261=\"\",\"\",MAX(AC$1:AC260)+1)","v":""},{"$f":"IF('Using CMS - Deviation - Limits'!B283=\"\",\"\",'Using CMS - Deviation - Limits'!B283)","v":""},{"$f":"IF('Using CMS - Deviation - Limits'!C283=\"\",\"\",'Using CMS - Deviation - Limits'!C283)","v":""},"",{"$f":"IF(COUNTIF(AF$2:AF261,AF261)=1,AF261,\"\")","v":""},"","",{"$f":"+IFERROR(INDEX(#REF!,MATCH(ROW()-ROW(AG$1),AC$2:AC$955,0)),\"\")","v":""},{"$nulls":3},{"$f":"+IF(AS261=\"\",\"\",MAX(AN$1:AN260)+1)","v":""},{"$f":"IF('Using CMS - Inop_OoC - CMS'!B283=\"\",\"\",'Using CMS - Inop_OoC - CMS'!B283)","v":""},{"$f":"IF('Using CMS - Inop_OoC - CMS'!C283=\"\",\"\",'Using CMS - Inop_OoC - CMS'!C283)","v":""},{"$f":"IF('Using CMS - Inop_OoC - CMS'!D283=\"\",\"\",'Using CMS - Inop_OoC - CMS'!D283)","v":""},{"$f":"AO261&AP261&Table10[[#This Row],[CMS]]","v":""},{"$f":"IF(COUNTIF(AR$2:AR261,AR261)=1,AR261,\"\")","v":""},"","","",null,{"$f":"+IF(BB261=\"\",\"\",MAX(AX$1:AX260)+1)","v":""},{"$f":"IF('Using CMS - Deviation - Limits'!B283=\"\",\"\",'Using CMS - Deviation - Limits'!B283)","v":""},{"$f":"IF('Using CMS - Deviation - Limits'!C283=\"\",\"\",'Using CMS - Deviation - Limits'!C283)","v":""},{"$f":"AY261&AZ261&Table10[[#This Row],[CMS]]","v":""},{"$f":"IF(COUNTIF(BA$2:BA261,BA261)=1,BA261,\"\")","v":""},"","",{"$f":"+IFERROR(INDEX(#REF!,MATCH(ROW()-ROW(BC$1),AX$2:AX$955,0)),\"\")","v":""}]
[{"$f":"+IF(D262=\"\",\"\",MAX(A$1:A261)+1)","v":""},{"$f":"IF('Process_&_CMS_Identification'!C284=\"\",\"\",'Process_&_CMS_Identification'!C284)","v":""},"",{"$f":"IF(COUNTIF(B$2:B262,B262)=1,B262,\"\")","v":""},{"$nulls":15},{"$f":"+IF(X262=\"\",\"\",MAX(T$1:T261)+1)","v":""},{"$f":"IF('No CMS - Deviation - Limits'!B284=\"\",\"\",'No CMS - Deviation - Limits'!B284)","v":""},{"$f":"IF('No CMS - Deviation - Limits'!C284=\"\",\"\",'No CMS - Deviation - Limits'!C284)","v":""},"",{"$f":"IF(COUNTIF(V$2:V262,V262)=1,V262,\"\")","v":""},"","",{"$f":"+IFERROR(INDEX(#REF!,MATCH(ROW()-ROW($Y$1),T$2:T$955,0)),\"\")","v":""},null,{"$f":"+IF(AG262=\"\",\"\",MAX(AC$1:AC261)+1)","v":""},{"$f":"IF('Using CMS - Deviation - Limits'!B284=\"\",\"\",'Using CMS - Deviation - Limits'!B284)","v":""},{"$f":"IF('Using CMS - Deviation - Limits'!C284=\"\",\"\",'Using CMS - Deviation - Limits'!C284)","v":""},"",{"$f":"IF(COUNTIF(AF$2:AF262,AF262)=1,AF262,\"\")","v":""},"","",{"$f":"+IFERROR(INDEX(#REF!,MATCH(ROW()-ROW(AG$1),AC$2:AC$955,0)),\"\")","v":""},{"$nulls":3},{"$f":"+IF(AS262=\"\",\"\",MAX(AN$1:AN261)+1)","v":""},{"$f":"IF('Using CMS - Inop_OoC - CMS'!B284=\"\",\"\",'Using CMS - Inop_OoC - CMS'!B284)","v":""},{"$f":"IF('Using CMS - Inop_OoC - CMS'!C284=\"\",\"\",'Using CMS - Inop_OoC - CMS'!C284)","v":""},{"$f":"IF('Using CMS - Inop_OoC - CMS'!D284=\"\",\"\",'Using CMS - Inop_OoC - CMS'!D284)","v":""},{"$f":"AO262&AP262&Table10[[#This Row],[CMS]]","v":""},{"$f":"IF(COUNTIF(AR$2:AR262,AR262)=1,AR262,\"\")","v":""},"","","",null,{"$f":"+IF(BB262=\"\",\"\",MAX(AX$1:AX261)+1)","v":""},{"$f":"IF('Using CMS - Deviation - Limits'!B284=\"\",\"\",'Using CMS - Deviation - Limits'!B284)","v":""},{"$f":"IF('Using CMS - Deviation - Limits'!C284=\"\",\"\",'Using CMS - Deviation - Limits'!C284)","v":""},{"$f":"AY262&AZ262&Table10[[#This Row],[CMS]]","v":""},{"$f":"IF(COUNTIF(BA$2:BA262,BA262)=1,BA262,\"\")","v":""},"","",{"$f":"+IFERROR(INDEX(#REF!,MATCH(ROW()-ROW(BC$1),AX$2:AX$955,0)),\"\")","v":""}]
[{"$f":"+IF(D263=\"\",\"\",MAX(A$1:A262)+1)","v":""},{"$f":"IF('Process_&_CMS_Identification'!C285=\"\",\"\",'Process_&_CMS_Identification'!C285)","v":""},"",{"$f":"IF(COUNTIF(B$2:B263,B263)=1,B263,\"\")","v":""},{"$nulls":15},{"$f":"+IF(X263=\"\",\"\",MAX(T$1:T262)+1)","v":""},{"$f":"IF('No CMS - Deviation - Limits'!B285=\"\",\"\",'No CMS - Deviation - Limits'!B285)","v":""},{"$f":"IF('No CMS - Deviation - Limits'!C285=\"\",\"\",'No CMS - Deviation - Limits'!C285)","v":""},"",{"$f":"IF(COUNTIF(V$2:V263,V263)=1,V263,\"\")","v":""},"","",{"$f":"+IFERROR(INDEX(#REF!,MATCH(ROW()-ROW($Y$1),T$2:T$955,0)),\"\")","v":""},null,{"$f":"+IF(AG263=\"\",\"\",MAX(AC$1:AC262)+1)","v":""},{"$f":"IF('Using CMS - Deviation - Limits'!B285=\"\",\"\",'Using CMS - Deviation - Limits'!B285)","v":""},{"$f":"IF('Using CMS - Deviation - Limits'!C285=\"\",\"\",'Using CMS - Deviation - Limits'!C285)","v":""},"",{"$f":"IF(COUNTIF(AF$2:AF263,AF263)=1,AF263,\"\")","v":""},"","",{"$f":"+IFERROR(INDEX(#REF!,MATCH(ROW()-ROW(AG$1),AC$2:AC$955,0)),\"\")","v":""},{"$nulls":3},{"$f":"+IF(AS263=\"\",\"\",MAX(AN$1:AN262)+1)","v":""},{"$f":"IF('Using CMS - Inop_OoC - CMS'!B285=\"\",\"\",'Using CMS - Inop_OoC - CMS'!B285)","v":""},{"$f":"IF('Using CMS - Inop_OoC - CMS'!C285=\"\",\"\",'Using CMS - Inop_OoC - CMS'!C285)","v":""},{"$f":"IF('Using CMS - Inop_OoC - CMS'!D285=\"\",\"\",'Using CMS - Inop_OoC - CMS'!D285)","v":""},{"$f":"AO263&AP263&Table10[[#This Row],[CMS]]","v":""},{"$f":"IF(COUNTIF(AR$2:AR263,AR263)=1,AR263,\"\")","v":""},"","","",null,{"$f":"+IF(BB263=\"\",\"\",MAX(AX$1:AX262)+1)","v":""},{"$f":"IF('Using CMS - Deviation - Limits'!B285=\"\",\"\",'Using CMS - Deviation - Limits'!B285)","v":""},{"$f":"IF('Using CMS - Deviation - Limits'!C285=\"\",\"\",'Using CMS - Deviation - Limits'!C285)","v":""},{"$f":"AY263&AZ263&Table10[[#This Row],[CMS]]","v":""},{"$f":"IF(COUNTIF(BA$2:BA263,BA263)=1,BA263,\"\")","v":""},"","",{"$f":"+IFERROR(INDEX(#REF!,MATCH(ROW()-ROW(BC$1),AX$2:AX$955,0)),\"\")","v":""}]
[{"$f":"+IF(D264=\"\",\"\",MAX(A$1:A263)+1)","v":""},{"$f":"IF('Process_&_CMS_Identification'!C286=\"\",\"\",'Process_&_CMS_Identification'!C286)","v":""},"",{"$f":"IF(COUNTIF(B$2:B264,B264)=1,B264,\"\")","v":""},{"$nulls":15},{"$f":"+IF(X264=\"\",\"\",MAX(T$1:T263)+1)","v":""},{"$f":"IF('No CMS - Deviation - Limits'!B286=\"\",\"\",'No CMS - Deviation - Limits'!B286)","v":""},{"$f":"IF('No CMS - Deviation - Limits'!C286=\"\",\"\",'No CMS - Deviation - Limits'!C286)","v":""},"",{"$f":"IF(COUNTIF(V$2:V264,V264)=1,V264,\"\")","v":""},"","",{"$f":"+IFERROR(INDEX(#REF!,MATCH(ROW()-ROW($Y$1),T$2:T$955,0)),\"\")","v":""},null,{"$f":"+IF(AG264=\"\",\"\",MAX(AC$1:AC263)+1)","v":""},{"$f":"IF('Using CMS - Deviation - Limits'!B286=\"\",\"\",'Using CMS - Deviation - Limits'!B286)","v":""},{"$f":"IF('Using CMS - Deviation - Limits'!C286=\"\",\"\",'Using CMS - Deviation - Limits'!C286)","v":""},"",{"$f":"IF(COUNTIF(AF$2:AF264,AF264)=1,AF264,\"\")","v":""},"","",{"$f":"+IFERROR(INDEX(#REF!,MATCH(ROW()-ROW(AG$1),AC$2:AC$955,0)),\"\")","v":""},{"$nulls":3},{"$f":"+IF(AS264=\"\",\"\",MAX(AN$1:AN263)+1)","v":""},{"$f":"IF('Using CMS - Inop_OoC - CMS'!B286=\"\",\"\",'Using CMS - Inop_OoC - CMS'!B286)","v":""},{"$f":"IF('Using CMS - Inop_OoC - CMS'!C286=\"\",\"\",'Using CMS - Inop_OoC - CMS'!C286)","v":""},{"$f":"IF('Using CMS - Inop_OoC - CMS'!D286=\"\",\"\",'Using CMS - Inop_OoC - CMS'!D286)","v":""},{"$f":"AO264&AP264&Table10[[#This Row],[CMS]]","v":""},{"$f":"IF(COUNTIF(AR$2:AR264,AR264)=1,AR264,\"\")","v":""},"","","",null,{"$f":"+IF(BB264=\"\",\"\",MAX(AX$1:AX263)+1)","v":""},{"$f":"IF('Using CMS - Deviation - Limits'!B286=\"\",\"\",'Using CMS - Deviation - Limits'!B286)","v":""},{"$f":"IF('Using CMS - Deviation - Limits'!C286=\"\",\"\",'Using CMS - Deviation - Limits'!C286)","v":""},{"$f":"AY264&AZ264&Table10[[#This Row],[CMS]]","v":""},{"$f":"IF(COUNTIF(BA$2:BA264,BA264)=1,BA264,\"\")","v":""},"","",{"$f":"+IFERROR(INDEX(#REF!,MATCH(ROW()-ROW(BC$1),AX$2:AX$955,0)),\"\")","v":""}]
[{"$f":"+IF(D265=\"\",\"\",MAX(A$1:A264)+1)","v":""},{"$f":"IF('Process_&_CMS_Identification'!C287=\"\",\"\",'Process_&_CMS_Identification'!C287)","v":""},"",{"$f":"IF(COUNTIF(B$2:B265,B265)=1,B265,\"\")","v":""},{"$nulls":15},{"$f":"+IF(X265=\"\",\"\",MAX(T$1:T264)+1)","v":""},{"$f":"IF('No CMS - Deviation - Limits'!B287=\"\",\"\",'No CMS - Deviation - Limits'!B287)","v":""},{"$f":"IF('No CMS - Deviation - Limits'!C287=\"\",\"\",'No CMS - Deviation - Limits'!C287)","v":""},"",{"$f":"IF(COUNTIF(V$2:V265,V265)=1,V265,\"\")","v":""},"","",{"$f":"+IFERROR(INDEX(#REF!,MATCH(ROW()-ROW($Y$1),T$2:T$955,0)),\"\")","v":""},null,{"$f":"+IF(AG265=\"\",\"\",MAX(AC$1:AC264)+1)","v":""},{"$f":"IF('Using CMS - Deviation - Limits'!B287=\"\",\"\",'Using CMS - Deviation - Limits'!B287)","v":""},{"$f":"IF('Using CMS - Deviation - Limits'!C287=\"\",\"\",'Using CMS - Deviation - Limits'!C287)","v":""},"",{"$f":"IF(COUNTIF(AF$2:AF265,AF265)=1,AF265,\"\")","v":""},"","",{"$f":"+IFERROR(INDEX(#REF!,MATCH(ROW()-ROW(AG$1),AC$2:AC$955,0)),\"\")","v":""},{"$nulls":3},{"$f":"+IF(AS265=\"\",\"\",MAX(AN$1:AN264)+1)","v":""},{"$f":"IF('Using CMS - Inop_OoC - CMS'!B287=\"\",\"\",'Using CMS - Inop_OoC - CMS'!B287)","v":""},{"$f":"IF('Using CMS - Inop_OoC - CMS'!C287=\"\",\"\",'Using CMS - Inop_OoC - CMS'!C287)","v":""},{"$f":"IF('Using CMS - Inop_OoC - CMS'!D287=\"\",\"\",'Using CMS - Inop_OoC - CMS'!D287)","v":""},{"$f":"AO265&AP265&Table10[[#This Row],[CMS]]","v":""},{"$f":"IF(COUNTIF(AR$2:AR265,AR265)=1,AR265,\"\")","v":""},"","","",null,{"$f":"+IF(BB265=\"\",\"\",MAX(AX$1:AX264)+1)","v":""},{"$f":"IF('Using CMS - Deviation - Limits'!B287=\"\",\"\",'Using CMS - Deviation - Limits'!B287)","v":""},{"$f":"IF('Using CMS - Deviation - Limits'!C287=\"\",\"\",'Using CMS - Deviation - Limits'!C287)","v":""},{"$f":"AY265&AZ265&Table10[[#This Row],[CMS]]","v":""},{"$f":"IF(COUNTIF(BA$2:BA265,BA265)=1,BA265,\"\")","v":""},"","",{"$f":"+IFERROR(INDEX(#REF!,MATCH(ROW()-ROW(BC$1),AX$2:AX$955,0)),\"\")","v":""}]
[{"$f":"+IF(D266=\"\",\"\",MAX(A$1:A265)+1)","v":""},{"$f":"IF('Process_&_CMS_Identification'!C288=\"\",\"\",'Process_&_CMS_Identification'!C288)","v":""},"",{"$f":"IF(COUNTIF(B$2:B266,B266)=1,B266,\"\")","v":""},{"$nulls":15},{"$f":"+IF(X266=\"\",\"\",MAX(T$1:T265)+1)","v":""},{"$f":"IF('No CMS - Deviation - Limits'!B288=\"\",\"\",'No CMS - Deviation - Limits'!B288)","v":""},{"$f":"IF('No CMS - Deviation - Limits'!C288=\"\",\"\",'No CMS - Deviation - Limits'!C288)","v":""},"",{"$f":"IF(COUNTIF(V$2:V266,V266)=1,V266,\"\")","v":""},"","",{"$f":"+IFERROR(INDEX(#REF!,MATCH(ROW()-ROW($Y$1),T$2:T$955,0)),\"\")","v":""},null,{"$f":"+IF(AG266=\"\",\"\",MAX(AC$1:AC265)+1)","v":""},{"$f":"IF('Using CMS - Deviation - Limits'!B288=\"\",\"\",'Using CMS - Deviation - Limits'!B288)","v":""},{"$f":"IF('Using CMS - Deviation - Limits'!C288=\"\",\"\",'Using CMS - Deviation - Limits'!C288)","v":""},"",{"$f":"IF(COUNTIF(AF$2:AF266,AF266)=1,AF266,\"\")","v":""},"","",{"$f":"+IFERROR(INDEX(#REF!,MATCH(ROW()-ROW(AG$1),AC$2:AC$955,0)),\"\")","v":""},{"$nulls":3},{"$f":"+IF(AS266=\"\",\"\",MAX(AN$1:AN265)+1)","v":""},{"$f":"IF('Using CMS - Inop_OoC - CMS'!B288=\"\",\"\",'Using CMS - Inop_OoC - CMS'!B288)","v":""},{"$f":"IF('Using CMS - Inop_OoC - CMS'!C288=\"\",\"\",'Using CMS - Inop_OoC - CMS'!C288)","v":""},{"$f":"IF('Using CMS - Inop_OoC - CMS'!D288=\"\",\"\",'Using CMS - Inop_OoC - CMS'!D288)","v":""},{"$f":"AO266&AP266&Table10[[#This Row],[CMS]]","v":""},{"$f":"IF(COUNTIF(AR$2:AR266,AR266)=1,AR266,\"\")","v":""},"","","",null,{"$f":"+IF(BB266=\"\",\"\",MAX(AX$1:AX265)+1)","v":""},{"$f":"IF('Using CMS - Deviation - Limits'!B288=\"\",\"\",'Using CMS - Deviation - Limits'!B288)","v":""},{"$f":"IF('Using CMS - Deviation - Limits'!C288=\"\",\"\",'Using CMS - Deviation - Limits'!C288)","v":""},{"$f":"AY266&AZ266&Table10[[#This Row],[CMS]]","v":""},{"$f":"IF(COUNTIF(BA$2:BA266,BA266)=1,BA266,\"\")","v":""},"","",{"$f":"+IFERROR(INDEX(#REF!,MATCH(ROW()-ROW(BC$1),AX$2:AX$955,0)),\"\")","v":""}]
[{"$f":"+IF(D267=\"\",\"\",MAX(A$1:A266)+1)","v":""},{"$f":"IF('Process_&_CMS_Identification'!C289=\"\",\"\",'Process_&_CMS_Identification'!C289)","v":""},"",{"$f":"IF(COUNTIF(B$2:B267,B267)=1,B267,\"\")","v":""},{"$nulls":15},{"$f":"+IF(X267=\"\",\"\",MAX(T$1:T266)+1)","v":""},{"$f":"IF('No CMS - Deviation - Limits'!B289=\"\",\"\",'No CMS - Deviation - Limits'!B289)","v":""},{"$f":"IF('No CMS - Deviation - Limits'!C289=\"\",\"\",'No CMS - Deviation - Limits'!C289)","v":""},"",{"$f":"IF(COUNTIF(V$2:V267,V267)=1,V267,\"\")","v":""},"","",{"$f":"+IFERROR(INDEX(#REF!,MATCH(ROW()-ROW($Y$1),T$2:T$955,0)),\"\")","v":""},null,{"$f":"+IF(AG267=\"\",\"\",MAX(AC$1:AC266)+1)","v":""},{"$f":"IF('Using CMS - Deviation - Limits'!B289=\"\",\"\",'Using CMS - Deviation - Limits'!B289)","v":""},{"$f":"IF('Using CMS - Deviation - Limits'!C289=\"\",\"\",'Using CMS - Deviation - Limits'!C289)","v":""},"",{"$f":"IF(COUNTIF(AF$2:AF267,AF267)=1,AF267,\"\")","v":""},"","",{"$f":"+IFERROR(INDEX(#REF!,MATCH(ROW()-ROW(AG$1),AC$2:AC$955,0)),\"\")","v":""},{"$nulls":3},{"$f":"+IF(AS267=\"\",\"\",MAX(AN$1:AN266)+1)","v":""},{"$f":"IF('Using CMS - Inop_OoC - CMS'!B289=\"\",\"\",'Using CMS - Inop_OoC - CMS'!B289)","v":""},{"$f":"IF('Using CMS - Inop_OoC - CMS'!C289=\"\",\"\",'Using CMS - Inop_OoC - CMS'!C289)","v":""},{"$f":"IF('Using CMS - Inop_OoC - CMS'!D289=\"\",\"\",'Using CMS - Inop_OoC - CMS'!D289)","v":""},{"$f":"AO267&AP267&Table10[[#This Row],[CMS]]","v":""},{"$f":"IF(COUNTIF(AR$2:AR267,AR267)=1,AR267,\"\")","v":""},"","","",null,{"$f":"+IF(BB267=\"\",\"\",MAX(AX$1:AX266)+1)","v":""},{"$f":"IF('Using CMS - Deviation - Limits'!B289=\"\",\"\",'Using CMS - Deviation - Limits'!B289)","v":""},{"$f":"IF('Using CMS - Deviation - Limits'!C289=\"\",\"\",'Using CMS - Deviation - Limits'!C289)","v":""},{"$f":"AY267&AZ267&Table10[[#This Row],[CMS]]","v":""},{"$f":"IF(COUNTIF(BA$2:BA267,BA267)=1,BA267,\"\")","v":""},"","",{"$f":"+IFERROR(INDEX(#REF!,MATCH(ROW()-ROW(BC$1),AX$2:AX$955,0)),\"\")","v":""}]
[{"$f":"+IF(D268=\"\",\"\",MAX(A$1:A267)+1)","v":""},{"$f":"IF('Process_&_CMS_Identification'!C290=\"\",\"\",'Process_&_CMS_Identification'!C290)","v":""},"",{"$f":"IF(COUNTIF(B$2:B268,B268)=1,B268,\"\")","v":""},{"$nulls":15},{"$f":"+IF(X268=\"\",\"\",MAX(T$1:T267)+1)","v":""},{"$f":"IF('No CMS - Deviation - Limits'!B290=\"\",\"\",'No CMS - Deviation - Limits'!B290)","v":""},{"$f":"IF('No CMS - Deviation - Limits'!C290=\"\",\"\",'No CMS - Deviation - Limits'!C290)","v":""},"",{"$f":"IF(COUNTIF(V$2:V268,V268)=1,V268,\"\")","v":""},"","",{"$f":"+IFERROR(INDEX(#REF!,MATCH(ROW()-ROW($Y$1),T$2:T$955,0)),\"\")","v":""},null,{"$f":"+IF(AG268=\"\",\"\",MAX(AC$1:AC267)+1)","v":""},{"$f":"IF('Using CMS - Deviation - Limits'!B290=\"\",\"\",'Using CMS - Deviation - Limits'!B290)","v":""},{"$f":"IF('Using CMS - Deviation - Limits'!C290=\"\",\"\",'Using CMS - Deviation - Limits'!C290)","v":""},"",{"$f":"IF(COUNTIF(AF$2:AF268,AF268)=1,AF268,\"\")","v":""},"","",{"$f":"+IFERROR(INDEX(#REF!,MATCH(ROW()-ROW(AG$1),AC$2:AC$955,0)),\"\")","v":""},{"$nulls":3},{"$f":"+IF(AS268=\"\",\"\",MAX(AN$1:AN267)+1)","v":""},{"$f":"IF('Using CMS - Inop_OoC - CMS'!B290=\"\",\"\",'Using CMS - Inop_OoC - CMS'!B290)","v":""},{"$f":"IF('Using CMS - Inop_OoC - CMS'!C290=\"\",\"\",'Using CMS - Inop_OoC - CMS'!C290)","v":""},{"$f":"IF('Using CMS - Inop_OoC - CMS'!D290=\"\",\"\",'Using CMS - Inop_OoC - CMS'!D290)","v":""},{"$f":"AO268&AP268&Table10[[#This Row],[CMS]]","v":""},{"$f":"IF(COUNTIF(AR$2:AR268,AR268)=1,AR268,\"\")","v":""},"","","",null,{"$f":"+IF(BB268=\"\",\"\",MAX(AX$1:AX267)+1)","v":""},{"$f":"IF('Using CMS - Deviation - Limits'!B290=\"\",\"\",'Using CMS - Deviation - Limits'!B290)","v":""},{"$f":"IF('Using CMS - Deviation - Limits'!C290=\"\",\"\",'Using CMS - Deviation - Limits'!C290)","v":""},{"$f":"AY268&AZ268&Table10[[#This Row],[CMS]]","v":""},{"$f":"IF(COUNTIF(BA$2:BA268,BA268)=1,BA268,\"\")","v":""},"","",{"$f":"+IFERROR(INDEX(#REF!,MATCH(ROW()-ROW(BC$1),AX$2:AX$955,0)),\"\")","v":""}]
[{"$f":"+IF(D269=\"\",\"\",MAX(A$1:A268)+1)","v":""},{"$f":"IF('Process_&_CMS_Identification'!C291=\"\",\"\",'Process_&_CMS_Identification'!C291)","v":""},"",{"$f":"IF(COUNTIF(B$2:B269,B269)=1,B269,\"\")","v":""},{"$nulls":15},{"$f":"+IF(X269=\"\",\"\",MAX(T$1:T268)+1)","v":""},{"$f":"IF('No CMS - Deviation - Limits'!B291=\"\",\"\",'No CMS - Deviation - Limits'!B291)","v":""},{"$f":"IF('No CMS - Deviation - Limits'!C291=\"\",\"\",'No CMS - Deviation - Limits'!C291)","v":""},"",{"$f":"IF(COUNTIF(V$2:V269,V269)=1,V269,\"\")","v":""},"","",{"$f":"+IFERROR(INDEX(#REF!,MATCH(ROW()-ROW($Y$1),T$2:T$955,0)),\"\")","v":""},null,{"$f":"+IF(AG269=\"\",\"\",MAX(AC$1:AC268)+1)","v":""},{"$f":"IF('Using CMS - Deviation - Limits'!B291=\"\",\"\",'Using CMS - Deviation - Limits'!B291)","v":""},{"$f":"IF('Using CMS - Deviation - Limits'!C291=\"\",\"\",'Using CMS - Deviation - Limits'!C291)","v":""},"",{"$f":"IF(COUNTIF(AF$2:AF269,AF269)=1,AF269,\"\")","v":""},"","",{"$f":"+IFERROR(INDEX(#REF!,MATCH(ROW()-ROW(AG$1),AC$2:AC$955,0)),\"\")","v":""},{"$nulls":3},{"$f":"+IF(AS269=\"\",\"\",MAX(AN$1:AN268)+1)","v":""},{"$f":"IF('Using CMS - Inop_OoC - CMS'!B291=\"\",\"\",'Using CMS - Inop_OoC - CMS'!B291)","v":""},{"$f":"IF('Using CMS - Inop_OoC - CMS'!C291=\"\",\"\",'Using CMS - Inop_OoC - CMS'!C291)","v":""},{"$f":"IF('Using CMS - Inop_OoC - CMS'!D291=\"\",\"\",'Using CMS - Inop_OoC - CMS'!D291)","v":""},{"$f":"AO269&AP269&Table10[[#This Row],[CMS]]","v":""},{"$f":"IF(COUNTIF(AR$2:AR269,AR269)=1,AR269,\"\")","v":""},"","","",null,{"$f":"+IF(BB269=\"\",\"\",MAX(AX$1:AX268)+1)","v":""},{"$f":"IF('Using CMS - Deviation - Limits'!B291=\"\",\"\",'Using CMS - Deviation - Limits'!B291)","v":""},{"$f":"IF('Using CMS - Deviation - Limits'!C291=\"\",\"\",'Using CMS - Deviation - Limits'!C291)","v":""},{"$f":"AY269&AZ269&Table10[[#This Row],[CMS]]","v":""},{"$f":"IF(COUNTIF(BA$2:BA269,BA269)=1,BA269,\"\")","v":""},"","",{"$f":"+IFERROR(INDEX(#REF!,MATCH(ROW()-ROW(BC$1),AX$2:AX$955,0)),\"\")","v":""}]
[{"$f":"+IF(D270=\"\",\"\",MAX(A$1:A269)+1)","v":""},{"$f":"IF('Process_&_CMS_Identification'!C292=\"\",\"\",'Process_&_CMS_Identification'!C292)","v":""},"",{"$f":"IF(COUNTIF(B$2:B270,B270)=1,B270,\"\")","v":""},{"$nulls":15},{"$f":"+IF(X270=\"\",\"\",MAX(T$1:T269)+1)","v":""},{"$f":"IF('No CMS - Deviation - Limits'!B292=\"\",\"\",'No CMS - Deviation - Limits'!B292)","v":""},{"$f":"IF('No CMS - Deviation - Limits'!C292=\"\",\"\",'No CMS - Deviation - Limits'!C292)","v":""},"",{"$f":"IF(COUNTIF(V$2:V270,V270)=1,V270,\"\")","v":""},"","",{"$f":"+IFERROR(INDEX(#REF!,MATCH(ROW()-ROW($Y$1),T$2:T$955,0)),\"\")","v":""},null,{"$f":"+IF(AG270=\"\",\"\",MAX(AC$1:AC269)+1)","v":""},{"$f":"IF('Using CMS - Deviation - Limits'!B292=\"\",\"\",'Using CMS - Deviation - Limits'!B292)","v":""},{"$f":"IF('Using CMS - Deviation - Limits'!C292=\"\",\"\",'Using CMS - Deviation - Limits'!C292)","v":""},"",{"$f":"IF(COUNTIF(AF$2:AF270,AF270)=1,AF270,\"\")","v":""},"","",{"$f":"+IFERROR(INDEX(#REF!,MATCH(ROW()-ROW(AG$1),AC$2:AC$955,0)),\"\")","v":""},{"$nulls":3},{"$f":"+IF(AS270=\"\",\"\",MAX(AN$1:AN269)+1)","v":""},{"$f":"IF('Using CMS - Inop_OoC - CMS'!B292=\"\",\"\",'Using CMS - Inop_OoC - CMS'!B292)","v":""},{"$f":"IF('Using CMS - Inop_OoC - CMS'!C292=\"\",\"\",'Using CMS - Inop_OoC - CMS'!C292)","v":""},{"$f":"IF('Using CMS - Inop_OoC - CMS'!D292=\"\",\"\",'Using CMS - Inop_OoC - CMS'!D292)","v":""},{"$f":"AO270&AP270&Table10[[#This Row],[CMS]]","v":""},{"$f":"IF(COUNTIF(AR$2:AR270,AR270)=1,AR270,\"\")","v":""},"","","",null,{"$f":"+IF(BB270=\"\",\"\",MAX(AX$1:AX269)+1)","v":""},{"$f":"IF('Using CMS - Deviation - Limits'!B292=\"\",\"\",'Using CMS - Deviation - Limits'!B292)","v":""},{"$f":"IF('Using CMS - Deviation - Limits'!C292=\"\",\"\",'Using CMS - Deviation - Limits'!C292)","v":""},{"$f":"AY270&AZ270&Table10[[#This Row],[CMS]]","v":""},{"$f":"IF(COUNTIF(BA$2:BA270,BA270)=1,BA270,\"\")","v":""},"","",{"$f":"+IFERROR(INDEX(#REF!,MATCH(ROW()-ROW(BC$1),AX$2:AX$955,0)),\"\")","v":""}]
[{"$f":"+IF(D271=\"\",\"\",MAX(A$1:A270)+1)","v":""},{"$f":"IF('Process_&_CMS_Identification'!C293=\"\",\"\",'Process_&_CMS_Identification'!C293)","v":""},"",{"$f":"IF(COUNTIF(B$2:B271,B271)=1,B271,\"\")","v":""},{"$nulls":15},{"$f":"+IF(X271=\"\",\"\",MAX(T$1:T270)+1)","v":""},{"$f":"IF('No CMS - Deviation - Limits'!B293=\"\",\"\",'No CMS - Deviation - Limits'!B293)","v":""},{"$f":"IF('No CMS - Deviation - Limits'!C293=\"\",\"\",'No CMS - Deviation - Limits'!C293)","v":""},"",{"$f":"IF(COUNTIF(V$2:V271,V271)=1,V271,\"\")","v":""},"","",{"$f":"+IFERROR(INDEX(#REF!,MATCH(ROW()-ROW($Y$1),T$2:T$955,0)),\"\")","v":""},null,{"$f":"+IF(AG271=\"\",\"\",MAX(AC$1:AC270)+1)","v":""},{"$f":"IF('Using CMS - Deviation - Limits'!B293=\"\",\"\",'Using CMS - Deviation - Limits'!B293)","v":""},{"$f":"IF('Using CMS - Deviation - Limits'!C293=\"\",\"\",'Using CMS - Deviation - Limits'!C293)","v":""},"",{"$f":"IF(COUNTIF(AF$2:AF271,AF271)=1,AF271,\"\")","v":""},"","",{"$f":"+IFERROR(INDEX(#REF!,MATCH(ROW()-ROW(AG$1),AC$2:AC$955,0)),\"\")","v":""},{"$nulls":3},{"$f":"+IF(AS271=\"\",\"\",MAX(AN$1:AN270)+1)","v":""},{"$f":"IF('Using CMS - Inop_OoC - CMS'!B293=\"\",\"\",'Using CMS - Inop_OoC - CMS'!B293)","v":""},{"$f":"IF('Using CMS - Inop_OoC - CMS'!C293=\"\",\"\",'Using CMS - Inop_OoC - CMS'!C293)","v":""},{"$f":"IF('Using CMS - Inop_OoC - CMS'!D293=\"\",\"\",'Using CMS - Inop_OoC - CMS'!D293)","v":""},{"$f":"AO271&AP271&Table10[[#This Row],[CMS]]","v":""},{"$f":"IF(COUNTIF(AR$2:AR271,AR271)=1,AR271,\"\")","v":""},"","","",null,{"$f":"+IF(BB271=\"\",\"\",MAX(AX$1:AX270)+1)","v":""},{"$f":"IF('Using CMS - Deviation - Limits'!B293=\"\",\"\",'Using CMS - Deviation - Limits'!B293)","v":""},{"$f":"IF('Using CMS - Deviation - Limits'!C293=\"\",\"\",'Using CMS - Deviation - Limits'!C293)","v":""},{"$f":"AY271&AZ271&Table10[[#This Row],[CMS]]","v":""},{"$f":"IF(COUNTIF(BA$2:BA271,BA271)=1,BA271,\"\")","v":""},"","",{"$f":"+IFERROR(INDEX(#REF!,MATCH(ROW()-ROW(BC$1),AX$2:AX$955,0)),\"\")","v":""}]
[{"$f":"+IF(D272=\"\",\"\",MAX(A$1:A271)+1)","v":""},{"$f":"IF('Process_&_CMS_Identification'!C294=\"\",\"\",'Process_&_CMS_Identification'!C294)","v":""},"",{"$f":"IF(COUNTIF(B$2:B272,B272)=1,B272,\"\")","v":""},{"$nulls":15},{"$f":"+IF(X272=\"\",\"\",MAX(T$1:T271)+1)","v":""},{"$f":"IF('No CMS - Deviation - Limits'!B294=\"\",\"\",'No CMS - Deviation - Limits'!B294)","v":""},{"$f":"IF('No CMS - Deviation - Limits'!C294=\"\",\"\",'No CMS - Deviation - Limits'!C294)","v":""},"",{"$f":"IF(COUNTIF(V$2:V272,V272)=1,V272,\"\")","v":""},"","",{"$f":"+IFERROR(INDEX(#REF!,MATCH(ROW()-ROW($Y$1),T$2:T$955,0)),\"\")","v":""},null,{"$f":"+IF(AG272=\"\",\"\",MAX(AC$1:AC271)+1)","v":""},{"$f":"IF('Using CMS - Deviation - Limits'!B294=\"\",\"\",'Using CMS - Deviation - Limits'!B294)","v":""},{"$f":"IF('Using CMS - Deviation - Limits'!C294=\"\",\"\",'Using CMS - Deviation - Limits'!C294)","v":""},"",{"$f":"IF(COUNTIF(AF$2:AF272,AF272)=1,AF272,\"\")","v":""},"","",{"$f":"+IFERROR(INDEX(#REF!,MATCH(ROW()-ROW(AG$1),AC$2:AC$955,0)),\"\")","v":""},{"$nulls":3},{"$f":"+IF(AS272=\"\",\"\",MAX(AN$1:AN271)+1)","v":""},{"$f":"IF('Using CMS - Inop_OoC - CMS'!B294=\"\",\"\",'Using CMS - Inop_OoC - CMS'!B294)","v":""},{"$f":"IF('Using CMS - Inop_OoC - CMS'!C294=\"\",\"\",'Using CMS - Inop_OoC - CMS'!C294)","v":""},{"$f":"IF('Using CMS - Inop_OoC - CMS'!D294=\"\",\"\",'Using CMS - Inop_OoC - CMS'!D294)","v":""},{"$f":"AO272&AP272&Table10[[#This Row],[CMS]]","v":""},{"$f":"IF(COUNTIF(AR$2:AR272,AR272)=1,AR272,\"\")","v":""},"","","",null,{"$f":"+IF(BB272=\"\",\"\",MAX(AX$1:AX271)+1)","v":""},{"$f":"IF('Using CMS - Deviation - Limits'!B294=\"\",\"\",'Using CMS - Deviation - Limits'!B294)","v":""},{"$f":"IF('Using CMS - Deviation - Limits'!C294=\"\",\"\",'Using CMS - Deviation - Limits'!C294)","v":""},{"$f":"AY272&AZ272&Table10[[#This Row],[CMS]]","v":""},{"$f":"IF(COUNTIF(BA$2:BA272,BA272)=1,BA272,\"\")","v":""},"","",{"$f":"+IFERROR(INDEX(#REF!,MATCH(ROW()-ROW(BC$1),AX$2:AX$955,0)),\"\")","v":""}]
[{"$f":"+IF(D273=\"\",\"\",MAX(A$1:A272)+1)","v":""},{"$f":"IF('Process_&_CMS_Identification'!C295=\"\",\"\",'Process_&_CMS_Identification'!C295)","v":""},"",{"$f":"IF(COUNTIF(B$2:B273,B273)=1,B273,\"\")","v":""},{"$nulls":15},{"$f":"+IF(X273=\"\",\"\",MAX(T$1:T272)+1)","v":""},{"$f":"IF('No CMS - Deviation - Limits'!B295=\"\",\"\",'No CMS - Deviation - Limits'!B295)","v":""},{"$f":"IF('No CMS - Deviation - Limits'!C295=\"\",\"\",'No CMS - Deviation - Limits'!C295)","v":""},"",{"$f":"IF(COUNTIF(V$2:V273,V273)=1,V273,\"\")","v":""},"","",{"$f":"+IFERROR(INDEX(#REF!,MATCH(ROW()-ROW($Y$1),T$2:T$955,0)),\"\")","v":""},null,{"$f":"+IF(AG273=\"\",\"\",MAX(AC$1:AC272)+1)","v":""},{"$f":"IF('Using CMS - Deviation - Limits'!B295=\"\",\"\",'Using CMS - Deviation - Limits'!B295)","v":""},{"$f":"IF('Using CMS - Deviation - Limits'!C295=\"\",\"\",'Using CMS - Deviation - Limits'!C295)","v":""},"",{"$f":"IF(COUNTIF(AF$2:AF273,AF273)=1,AF273,\"\")","v":""},"","",{"$f":"+IFERROR(INDEX(#REF!,MATCH(ROW()-ROW(AG$1),AC$2:AC$955,0)),\"\")","v":""},{"$nulls":3},{"$f":"+IF(AS273=\"\",\"\",MAX(AN$1:AN272)+1)","v":""},{"$f":"IF('Using CMS - Inop_OoC - CMS'!B295=\"\",\"\",'Using CMS - Inop_OoC - CMS'!B295)","v":""},{"$f":"IF('Using CMS - Inop_OoC - CMS'!C295=\"\",\"\",'Using CMS - Inop_OoC - CMS'!C295)","v":""},{"$f":"IF('Using CMS - Inop_OoC - CMS'!D295=\"\",\"\",'Using CMS - Inop_OoC - CMS'!D295)","v":""},{"$f":"AO273&AP273&Table10[[#This Row],[CMS]]","v":""},{"$f":"IF(COUNTIF(AR$2:AR273,AR273)=1,AR273,\"\")","v":""},"","","",null,{"$f":"+IF(BB273=\"\",\"\",MAX(AX$1:AX272)+1)","v":""},{"$f":"IF('Using CMS - Deviation - Limits'!B295=\"\",\"\",'Using CMS - Deviation - Limits'!B295)","v":""},{"$f":"IF('Using CMS - Deviation - Limits'!C295=\"\",\"\",'Using CMS - Deviation - Limits'!C295)","v":""},{"$f":"AY273&AZ273&Table10[[#This Row],[CMS]]","v":""},{"$f":"IF(COUNTIF(BA$2:BA273,BA273)=1,BA273,\"\")","v":""},"","",{"$f":"+IFERROR(INDEX(#REF!,MATCH(ROW()-ROW(BC$1),AX$2:AX$955,0)),\"\")","v":""}]
[{"$f":"+IF(D274=\"\",\"\",MAX(A$1:A273)+1)","v":""},{"$f":"IF('Process_&_CMS_Identification'!C296=\"\",\"\",'Process_&_CMS_Identification'!C296)","v":""},"",{"$f":"IF(COUNTIF(B$2:B274,B274)=1,B274,\"\")","v":""},{"$nulls":15},{"$f":"+IF(X274=\"\",\"\",MAX(T$1:T273)+1)","v":""},{"$f":"IF('No CMS - Deviation - Limits'!B296=\"\",\"\",'No CMS - Deviation - Limits'!B296)","v":""},{"$f":"IF('No CMS - Deviation - Limits'!C296=\"\",\"\",'No CMS - Deviation - Limits'!C296)","v":""},"",{"$f":"IF(COUNTIF(V$2:V274,V274)=1,V274,\"\")","v":""},"","",{"$f":"+IFERROR(INDEX(#REF!,MATCH(ROW()-ROW($Y$1),T$2:T$955,0)),\"\")","v":""},null,{"$f":"+IF(AG274=\"\",\"\",MAX(AC$1:AC273)+1)","v":""},{"$f":"IF('Using CMS - Deviation - Limits'!B296=\"\",\"\",'Using CMS - Deviation - Limits'!B296)","v":""},{"$f":"IF('Using CMS - Deviation - Limits'!C296=\"\",\"\",'Using CMS - Deviation - Limits'!C296)","v":""},"",{"$f":"IF(COUNTIF(AF$2:AF274,AF274)=1,AF274,\"\")","v":""},"","",{"$f":"+IFERROR(INDEX(#REF!,MATCH(ROW()-ROW(AG$1),AC$2:AC$955,0)),\"\")","v":""},{"$nulls":3},{"$f":"+IF(AS274=\"\",\"\",MAX(AN$1:AN273)+1)","v":""},{"$f":"IF('Using CMS - Inop_OoC - CMS'!B296=\"\",\"\",'Using CMS - Inop_OoC - CMS'!B296)","v":""},{"$f":"IF('Using CMS - Inop_OoC - CMS'!C296=\"\",\"\",'Using CMS - Inop_OoC - CMS'!C296)","v":""},{"$f":"IF('Using CMS - Inop_OoC - CMS'!D296=\"\",\"\",'Using CMS - Inop_OoC - CMS'!D296)","v":""},{"$f":"AO274&AP274&Table10[[#This Row],[CMS]]","v":""},{"$f":"IF(COUNTIF(AR$2:AR274,AR274)=1,AR274,\"\")","v":""},"","","",null,{"$f":"+IF(BB274=\"\",\"\",MAX(AX$1:AX273)+1)","v":""},{"$f":"IF('Using CMS - Deviation - Limits'!B296=\"\",\"\",'Using CMS - Deviation - Limits'!B296)","v":""},{"$f":"IF('Using CMS - Deviation - Limits'!C296=\"\",\"\",'Using CMS - Deviation - Limits'!C296)","v":""},{"$f":"AY274&AZ274&Table10[[#This Row],[CMS]]","v":""},{"$f":"IF(COUNTIF(BA$2:BA274,BA274)=1,BA274,\"\")","v":""},"","",{"$f":"+IFERROR(INDEX(#REF!,MATCH(ROW()-ROW(BC$1),AX$2:AX$955,0)),\"\")","v":""}]
[{"$f":"+IF(D275=\"\",\"\",MAX(A$1:A274)+1)","v":""},{"$f":"IF('Process_&_CMS_Identification'!C297=\"\",\"\",'Process_&_CMS_Identification'!C297)","v":""},"",{"$f":"IF(COUNTIF(B$2:B275,B275)=1,B275,\"\")","v":""},{"$nulls":15},{"$f":"+IF(X275=\"\",\"\",MAX(T$1:T274)+1)","v":""},{"$f":"IF('No CMS - Deviation - Limits'!B297=\"\",\"\",'No CMS - Deviation - Limits'!B297)","v":""},{"$f":"IF('No CMS - Deviation - Limits'!C297=\"\",\"\",'No CMS - Deviation - Limits'!C297)","v":""},"",{"$f":"IF(COUNTIF(V$2:V275,V275)=1,V275,\"\")","v":""},"","",{"$f":"+IFERROR(INDEX(#REF!,MATCH(ROW()-ROW($Y$1),T$2:T$955,0)),\"\")","v":""},null,{"$f":"+IF(AG275=\"\",\"\",MAX(AC$1:AC274)+1)","v":""},{"$f":"IF('Using CMS - Deviation - Limits'!B297=\"\",\"\",'Using CMS - Deviation - Limits'!B297)","v":""},{"$f":"IF('Using CMS - Deviation - Limits'!C297=\"\",\"\",'Using CMS - Deviation - Limits'!C297)","v":""},"",{"$f":"IF(COUNTIF(AF$2:AF275,AF275)=1,AF275,\"\")","v":""},"","",{"$f":"+IFERROR(INDEX(#REF!,MATCH(ROW()-ROW(AG$1),AC$2:AC$955,0)),\"\")","v":""},{"$nulls":3},{"$f":"+IF(AS275=\"\",\"\",MAX(AN$1:AN274)+1)","v":""},{"$f":"IF('Using CMS - Inop_OoC - CMS'!B297=\"\",\"\",'Using CMS - Inop_OoC - CMS'!B297)","v":""},{"$f":"IF('Using CMS - Inop_OoC - CMS'!C297=\"\",\"\",'Using CMS - Inop_OoC - CMS'!C297)","v":""},{"$f":"IF('Using CMS - Inop_OoC - CMS'!D297=\"\",\"\",'Using CMS - Inop_OoC - CMS'!D297)","v":""},{"$f":"AO275&AP275&Table10[[#This Row],[CMS]]","v":""},{"$f":"IF(COUNTIF(AR$2:AR275,AR275)=1,AR275,\"\")","v":""},"","","",null,{"$f":"+IF(BB275=\"\",\"\",MAX(AX$1:AX274)+1)","v":""},{"$f":"IF('Using CMS - Deviation - Limits'!B297=\"\",\"\",'Using CMS - Deviation - Limits'!B297)","v":""},{"$f":"IF('Using CMS - Deviation - Limits'!C297=\"\",\"\",'Using CMS - Deviation - Limits'!C297)","v":""},{"$f":"AY275&AZ275&Table10[[#This Row],[CMS]]","v":""},{"$f":"IF(COUNTIF(BA$2:BA275,BA275)=1,BA275,\"\")","v":""},"","",{"$f":"+IFERROR(INDEX(#REF!,MATCH(ROW()-ROW(BC$1),AX$2:AX$955,0)),\"\")","v":""}]
[{"$f":"+IF(D276=\"\",\"\",MAX(A$1:A275)+1)","v":""},{"$f":"IF('Process_&_CMS_Identification'!C298=\"\",\"\",'Process_&_CMS_Identification'!C298)","v":""},"",{"$f":"IF(COUNTIF(B$2:B276,B276)=1,B276,\"\")","v":""},{"$nulls":15},{"$f":"+IF(X276=\"\",\"\",MAX(T$1:T275)+1)","v":""},{"$f":"IF('No CMS - Deviation - Limits'!B298=\"\",\"\",'No CMS - Deviation - Limits'!B298)","v":""},{"$f":"IF('No CMS - Deviation - Limits'!C298=\"\",\"\",'No CMS - Deviation - Limits'!C298)","v":""},"",{"$f":"IF(COUNTIF(V$2:V276,V276)=1,V276,\"\")","v":""},"","",{"$f":"+IFERROR(INDEX(#REF!,MATCH(ROW()-ROW($Y$1),T$2:T$955,0)),\"\")","v":""},null,{"$f":"+IF(AG276=\"\",\"\",MAX(AC$1:AC275)+1)","v":""},{"$f":"IF('Using CMS - Deviation - Limits'!B298=\"\",\"\",'Using CMS - Deviation - Limits'!B298)","v":""},{"$f":"IF('Using CMS - Deviation - Limits'!C298=\"\",\"\",'Using CMS - Deviation - Limits'!C298)","v":""},"",{"$f":"IF(COUNTIF(AF$2:AF276,AF276)=1,AF276,\"\")","v":""},"","",{"$f":"+IFERROR(INDEX(#REF!,MATCH(ROW()-ROW(AG$1),AC$2:AC$955,0)),\"\")","v":""},{"$nulls":3},{"$f":"+IF(AS276=\"\",\"\",MAX(AN$1:AN275)+1)","v":""},{"$f":"IF('Using CMS - Inop_OoC - CMS'!B298=\"\",\"\",'Using CMS - Inop_OoC - CMS'!B298)","v":""},{"$f":"IF('Using CMS - Inop_OoC - CMS'!C298=\"\",\"\",'Using CMS - Inop_OoC - CMS'!C298)","v":""},{"$f":"IF('Using CMS - Inop_OoC - CMS'!D298=\"\",\"\",'Using CMS - Inop_OoC - CMS'!D298)","v":""},{"$f":"AO276&AP276&Table10[[#This Row],[CMS]]","v":""},{"$f":"IF(COUNTIF(AR$2:AR276,AR276)=1,AR276,\"\")","v":""},"","","",null,{"$f":"+IF(BB276=\"\",\"\",MAX(AX$1:AX275)+1)","v":""},{"$f":"IF('Using CMS - Deviation - Limits'!B298=\"\",\"\",'Using CMS - Deviation - Limits'!B298)","v":""},{"$f":"IF('Using CMS - Deviation - Limits'!C298=\"\",\"\",'Using CMS - Deviation - Limits'!C298)","v":""},{"$f":"AY276&AZ276&Table10[[#This Row],[CMS]]","v":""},{"$f":"IF(COUNTIF(BA$2:BA276,BA276)=1,BA276,\"\")","v":""},"","",{"$f":"+IFERROR(INDEX(#REF!,MATCH(ROW()-ROW(BC$1),AX$2:AX$955,0)),\"\")","v":""}]
[{"$f":"+IF(D277=\"\",\"\",MAX(A$1:A276)+1)","v":""},{"$f":"IF('Process_&_CMS_Identification'!C299=\"\",\"\",'Process_&_CMS_Identification'!C299)","v":""},"",{"$f":"IF(COUNTIF(B$2:B277,B277)=1,B277,\"\")","v":""},{"$nulls":15},{"$f":"+IF(X277=\"\",\"\",MAX(T$1:T276)+1)","v":""},{"$f":"IF('No CMS - Deviation - Limits'!B299=\"\",\"\",'No CMS - Deviation - Limits'!B299)","v":""},{"$f":"IF('No CMS - Deviation - Limits'!C299=\"\",\"\",'No CMS - Deviation - Limits'!C299)","v":""},"",{"$f":"IF(COUNTIF(V$2:V277,V277)=1,V277,\"\")","v":""},"","",{"$f":"+IFERROR(INDEX(#REF!,MATCH(ROW()-ROW($Y$1),T$2:T$955,0)),\"\")","v":""},null,{"$f":"+IF(AG277=\"\",\"\",MAX(AC$1:AC276)+1)","v":""},{"$f":"IF('Using CMS - Deviation - Limits'!B299=\"\",\"\",'Using CMS - Deviation - Limits'!B299)","v":""},{"$f":"IF('Using CMS - Deviation - Limits'!C299=\"\",\"\",'Using CMS - Deviation - Limits'!C299)","v":""},"",{"$f":"IF(COUNTIF(AF$2:AF277,AF277)=1,AF277,\"\")","v":""},"","",{"$f":"+IFERROR(INDEX(#REF!,MATCH(ROW()-ROW(AG$1),AC$2:AC$955,0)),\"\")","v":""},{"$nulls":3},{"$f":"+IF(AS277=\"\",\"\",MAX(AN$1:AN276)+1)","v":""},{"$f":"IF('Using CMS - Inop_OoC - CMS'!B299=\"\",\"\",'Using CMS - Inop_OoC - CMS'!B299)","v":""},{"$f":"IF('Using CMS - Inop_OoC - CMS'!C299=\"\",\"\",'Using CMS - Inop_OoC - CMS'!C299)","v":""},{"$f":"IF('Using CMS - Inop_OoC - CMS'!D299=\"\",\"\",'Using CMS - Inop_OoC - CMS'!D299)","v":""},{"$f":"AO277&AP277&Table10[[#This Row],[CMS]]","v":""},{"$f":"IF(COUNTIF(AR$2:AR277,AR277)=1,AR277,\"\")","v":""},"","","",null,{"$f":"+IF(BB277=\"\",\"\",MAX(AX$1:AX276)+1)","v":""},{"$f":"IF('Using CMS - Deviation - Limits'!B299=\"\",\"\",'Using CMS - Deviation - Limits'!B299)","v":""},{"$f":"IF('Using CMS - Deviation - Limits'!C299=\"\",\"\",'Using CMS - Deviation - Limits'!C299)","v":""},{"$f":"AY277&AZ277&Table10[[#This Row],[CMS]]","v":""},{"$f":"IF(COUNTIF(BA$2:BA277,BA277)=1,BA277,\"\")","v":""},"","",{"$f":"+IFERROR(INDEX(#REF!,MATCH(ROW()-ROW(BC$1),AX$2:AX$955,0)),\"\")","v":""}]
[{"$f":"+IF(D278=\"\",\"\",MAX(A$1:A277)+1)","v":""},{"$f":"IF('Process_&_CMS_Identification'!C300=\"\",\"\",'Process_&_CMS_Identification'!C300)","v":""},"",{"$f":"IF(COUNTIF(B$2:B278,B278)=1,B278,\"\")","v":""},{"$nulls":15},{"$f":"+IF(X278=\"\",\"\",MAX(T$1:T277)+1)","v":""},{"$f":"IF('No CMS - Deviation - Limits'!B300=\"\",\"\",'No CMS - Deviation - Limits'!B300)","v":""},{"$f":"IF('No CMS - Deviation - Limits'!C300=\"\",\"\",'No CMS - Deviation - Limits'!C300)","v":""},"",{"$f":"IF(COUNTIF(V$2:V278,V278)=1,V278,\"\")","v":""},"","",{"$f":"+IFERROR(INDEX(#REF!,MATCH(ROW()-ROW($Y$1),T$2:T$955,0)),\"\")","v":""},null,{"$f":"+IF(AG278=\"\",\"\",MAX(AC$1:AC277)+1)","v":""},{"$f":"IF('Using CMS - Deviation - Limits'!B300=\"\",\"\",'Using CMS - Deviation - Limits'!B300)","v":""},{"$f":"IF('Using CMS - Deviation - Limits'!C300=\"\",\"\",'Using CMS - Deviation - Limits'!C300)","v":""},"",{"$f":"IF(COUNTIF(AF$2:AF278,AF278)=1,AF278,\"\")","v":""},"","",{"$f":"+IFERROR(INDEX(#REF!,MATCH(ROW()-ROW(AG$1),AC$2:AC$955,0)),\"\")","v":""},{"$nulls":3},{"$f":"+IF(AS278=\"\",\"\",MAX(AN$1:AN277)+1)","v":""},{"$f":"IF('Using CMS - Inop_OoC - CMS'!B300=\"\",\"\",'Using CMS - Inop_OoC - CMS'!B300)","v":""},{"$f":"IF('Using CMS - Inop_OoC - CMS'!C300=\"\",\"\",'Using CMS - Inop_OoC - CMS'!C300)","v":""},{"$f":"IF('Using CMS - Inop_OoC - CMS'!D300=\"\",\"\",'Using CMS - Inop_OoC - CMS'!D300)","v":""},{"$f":"AO278&AP278&Table10[[#This Row],[CMS]]","v":""},{"$f":"IF(COUNTIF(AR$2:AR278,AR278)=1,AR278,\"\")","v":""},"","","",null,{"$f":"+IF(BB278=\"\",\"\",MAX(AX$1:AX277)+1)","v":""},{"$f":"IF('Using CMS - Deviation - Limits'!B300=\"\",\"\",'Using CMS - Deviation - Limits'!B300)","v":""},{"$f":"IF('Using CMS - Deviation - Limits'!C300=\"\",\"\",'Using CMS - Deviation - Limits'!C300)","v":""},{"$f":"AY278&AZ278&Table10[[#This Row],[CMS]]","v":""},{"$f":"IF(COUNTIF(BA$2:BA278,BA278)=1,BA278,\"\")","v":""},"","",{"$f":"+IFERROR(INDEX(#REF!,MATCH(ROW()-ROW(BC$1),AX$2:AX$955,0)),\"\")","v":""}]
[{"$f":"+IF(D279=\"\",\"\",MAX(A$1:A278)+1)","v":""},{"$f":"IF('Process_&_CMS_Identification'!C301=\"\",\"\",'Process_&_CMS_Identification'!C301)","v":""},"",{"$f":"IF(COUNTIF(B$2:B279,B279)=1,B279,\"\")","v":""},{"$nulls":15},{"$f":"+IF(X279=\"\",\"\",MAX(T$1:T278)+1)","v":""},{"$f":"IF('No CMS - Deviation - Limits'!B301=\"\",\"\",'No CMS - Deviation - Limits'!B301)","v":""},{"$f":"IF('No CMS - Deviation - Limits'!C301=\"\",\"\",'No CMS - Deviation - Limits'!C301)","v":""},"",{"$f":"IF(COUNTIF(V$2:V279,V279)=1,V279,\"\")","v":""},"","",{"$f":"+IFERROR(INDEX(#REF!,MATCH(ROW()-ROW($Y$1),T$2:T$955,0)),\"\")","v":""},null,{"$f":"+IF(AG279=\"\",\"\",MAX(AC$1:AC278)+1)","v":""},{"$f":"IF('Using CMS - Deviation - Limits'!B301=\"\",\"\",'Using CMS - Deviation - Limits'!B301)","v":""},{"$f":"IF('Using CMS - Deviation - Limits'!C301=\"\",\"\",'Using CMS - Deviation - Limits'!C301)","v":""},"",{"$f":"IF(COUNTIF(AF$2:AF279,AF279)=1,AF279,\"\")","v":""},"","",{"$f":"+IFERROR(INDEX(#REF!,MATCH(ROW()-ROW(AG$1),AC$2:AC$955,0)),\"\")","v":""},{"$nulls":3},{"$f":"+IF(AS279=\"\",\"\",MAX(AN$1:AN278)+1)","v":""},{"$f":"IF('Using CMS - Inop_OoC - CMS'!B301=\"\",\"\",'Using CMS - Inop_OoC - CMS'!B301)","v":""},{"$f":"IF('Using CMS - Inop_OoC - CMS'!C301=\"\",\"\",'Using CMS - Inop_OoC - CMS'!C301)","v":""},{"$f":"IF('Using CMS - Inop_OoC - CMS'!D301=\"\",\"\",'Using CMS - Inop_OoC - CMS'!D301)","v":""},{"$f":"AO279&AP279&Table10[[#This Row],[CMS]]","v":""},{"$f":"IF(COUNTIF(AR$2:AR279,AR279)=1,AR279,\"\")","v":""},"","","",null,{"$f":"+IF(BB279=\"\",\"\",MAX(AX$1:AX278)+1)","v":""},{"$f":"IF('Using CMS - Deviation - Limits'!B301=\"\",\"\",'Using CMS - Deviation - Limits'!B301)","v":""},{"$f":"IF('Using CMS - Deviation - Limits'!C301=\"\",\"\",'Using CMS - Deviation - Limits'!C301)","v":""},{"$f":"AY279&AZ279&Table10[[#This Row],[CMS]]","v":""},{"$f":"IF(COUNTIF(BA$2:BA279,BA279)=1,BA279,\"\")","v":""},"","",{"$f":"+IFERROR(INDEX(#REF!,MATCH(ROW()-ROW(BC$1),AX$2:AX$955,0)),\"\")","v":""}]
[{"$f":"+IF(D280=\"\",\"\",MAX(A$1:A279)+1)","v":""},{"$f":"IF('Process_&_CMS_Identification'!C302=\"\",\"\",'Process_&_CMS_Identification'!C302)","v":""},"",{"$f":"IF(COUNTIF(B$2:B280,B280)=1,B280,\"\")","v":""},{"$nulls":15},{"$f":"+IF(X280=\"\",\"\",MAX(T$1:T279)+1)","v":""},{"$f":"IF('No CMS - Deviation - Limits'!B302=\"\",\"\",'No CMS - Deviation - Limits'!B302)","v":""},{"$f":"IF('No CMS - Deviation - Limits'!C302=\"\",\"\",'No CMS - Deviation - Limits'!C302)","v":""},"",{"$f":"IF(COUNTIF(V$2:V280,V280)=1,V280,\"\")","v":""},"","",{"$f":"+IFERROR(INDEX(#REF!,MATCH(ROW()-ROW($Y$1),T$2:T$955,0)),\"\")","v":""},null,{"$f":"+IF(AG280=\"\",\"\",MAX(AC$1:AC279)+1)","v":""},{"$f":"IF('Using CMS - Deviation - Limits'!B302=\"\",\"\",'Using CMS - Deviation - Limits'!B302)","v":""},{"$f":"IF('Using CMS - Deviation - Limits'!C302=\"\",\"\",'Using CMS - Deviation - Limits'!C302)","v":""},"",{"$f":"IF(COUNTIF(AF$2:AF280,AF280)=1,AF280,\"\")","v":""},"","",{"$f":"+IFERROR(INDEX(#REF!,MATCH(ROW()-ROW(AG$1),AC$2:AC$955,0)),\"\")","v":""},{"$nulls":3},{"$f":"+IF(AS280=\"\",\"\",MAX(AN$1:AN279)+1)","v":""},{"$f":"IF('Using CMS - Inop_OoC - CMS'!B302=\"\",\"\",'Using CMS - Inop_OoC - CMS'!B302)","v":""},{"$f":"IF('Using CMS - Inop_OoC - CMS'!C302=\"\",\"\",'Using CMS - Inop_OoC - CMS'!C302)","v":""},{"$f":"IF('Using CMS - Inop_OoC - CMS'!D302=\"\",\"\",'Using CMS - Inop_OoC - CMS'!D302)","v":""},{"$f":"AO280&AP280&Table10[[#This Row],[CMS]]","v":""},{"$f":"IF(COUNTIF(AR$2:AR280,AR280)=1,AR280,\"\")","v":""},"","","",null,{"$f":"+IF(BB280=\"\",\"\",MAX(AX$1:AX279)+1)","v":""},{"$f":"IF('Using CMS - Deviation - Limits'!B302=\"\",\"\",'Using CMS - Deviation - Limits'!B302)","v":""},{"$f":"IF('Using CMS - Deviation - Limits'!C302=\"\",\"\",'Using CMS - Deviation - Limits'!C302)","v":""},{"$f":"AY280&AZ280&Table10[[#This Row],[CMS]]","v":""},{"$f":"IF(COUNTIF(BA$2:BA280,BA280)=1,BA280,\"\")","v":""},"","",{"$f":"+IFERROR(INDEX(#REF!,MATCH(ROW()-ROW(BC$1),AX$2:AX$955,0)),\"\")","v":""}]
[{"$f":"+IF(D281=\"\",\"\",MAX(A$1:A280)+1)","v":""},{"$f":"IF('Process_&_CMS_Identification'!C303=\"\",\"\",'Process_&_CMS_Identification'!C303)","v":""},"",{"$f":"IF(COUNTIF(B$2:B281,B281)=1,B281,\"\")","v":""},{"$nulls":15},{"$f":"+IF(X281=\"\",\"\",MAX(T$1:T280)+1)","v":""},{"$f":"IF('No CMS - Deviation - Limits'!B303=\"\",\"\",'No CMS - Deviation - Limits'!B303)","v":""},{"$f":"IF('No CMS - Deviation - Limits'!C303=\"\",\"\",'No CMS - Deviation - Limits'!C303)","v":""},"",{"$f":"IF(COUNTIF(V$2:V281,V281)=1,V281,\"\")","v":""},"","",{"$f":"+IFERROR(INDEX(#REF!,MATCH(ROW()-ROW($Y$1),T$2:T$955,0)),\"\")","v":""},null,{"$f":"+IF(AG281=\"\",\"\",MAX(AC$1:AC280)+1)","v":""},{"$f":"IF('Using CMS - Deviation - Limits'!B303=\"\",\"\",'Using CMS - Deviation - Limits'!B303)","v":""},{"$f":"IF('Using CMS - Deviation - Limits'!C303=\"\",\"\",'Using CMS - Deviation - Limits'!C303)","v":""},"",{"$f":"IF(COUNTIF(AF$2:AF281,AF281)=1,AF281,\"\")","v":""},"","",{"$f":"+IFERROR(INDEX(#REF!,MATCH(ROW()-ROW(AG$1),AC$2:AC$955,0)),\"\")","v":""},{"$nulls":3},{"$f":"+IF(AS281=\"\",\"\",MAX(AN$1:AN280)+1)","v":""},{"$f":"IF('Using CMS - Inop_OoC - CMS'!B303=\"\",\"\",'Using CMS - Inop_OoC - CMS'!B303)","v":""},{"$f":"IF('Using CMS - Inop_OoC - CMS'!C303=\"\",\"\",'Using CMS - Inop_OoC - CMS'!C303)","v":""},{"$f":"IF('Using CMS - Inop_OoC - CMS'!D303=\"\",\"\",'Using CMS - Inop_OoC - CMS'!D303)","v":""},{"$f":"AO281&AP281&Table10[[#This Row],[CMS]]","v":""},{"$f":"IF(COUNTIF(AR$2:AR281,AR281)=1,AR281,\"\")","v":""},"","","",null,{"$f":"+IF(BB281=\"\",\"\",MAX(AX$1:AX280)+1)","v":""},{"$f":"IF('Using CMS - Deviation - Limits'!B303=\"\",\"\",'Using CMS - Deviation - Limits'!B303)","v":""},{"$f":"IF('Using CMS - Deviation - Limits'!C303=\"\",\"\",'Using CMS - Deviation - Limits'!C303)","v":""},{"$f":"AY281&AZ281&Table10[[#This Row],[CMS]]","v":""},{"$f":"IF(COUNTIF(BA$2:BA281,BA281)=1,BA281,\"\")","v":""},"","",{"$f":"+IFERROR(INDEX(#REF!,MATCH(ROW()-ROW(BC$1),AX$2:AX$955,0)),\"\")","v":""}]
[{"$f":"+IF(D282=\"\",\"\",MAX(A$1:A281)+1)","v":""},{"$f":"IF('Process_&_CMS_Identification'!C304=\"\",\"\",'Process_&_CMS_Identification'!C304)","v":""},"",{"$f":"IF(COUNTIF(B$2:B282,B282)=1,B282,\"\")","v":""},{"$nulls":15},{"$f":"+IF(X282=\"\",\"\",MAX(T$1:T281)+1)","v":""},{"$f":"IF('No CMS - Deviation - Limits'!B304=\"\",\"\",'No CMS - Deviation - Limits'!B304)","v":""},{"$f":"IF('No CMS - Deviation - Limits'!C304=\"\",\"\",'No CMS - Deviation - Limits'!C304)","v":""},"",{"$f":"IF(COUNTIF(V$2:V282,V282)=1,V282,\"\")","v":""},"","",{"$f":"+IFERROR(INDEX(#REF!,MATCH(ROW()-ROW($Y$1),T$2:T$955,0)),\"\")","v":""},null,{"$f":"+IF(AG282=\"\",\"\",MAX(AC$1:AC281)+1)","v":""},{"$f":"IF('Using CMS - Deviation - Limits'!B304=\"\",\"\",'Using CMS - Deviation - Limits'!B304)","v":""},{"$f":"IF('Using CMS - Deviation - Limits'!C304=\"\",\"\",'Using CMS - Deviation - Limits'!C304)","v":""},"",{"$f":"IF(COUNTIF(AF$2:AF282,AF282)=1,AF282,\"\")","v":""},"","",{"$f":"+IFERROR(INDEX(#REF!,MATCH(ROW()-ROW(AG$1),AC$2:AC$955,0)),\"\")","v":""},{"$nulls":3},{"$f":"+IF(AS282=\"\",\"\",MAX(AN$1:AN281)+1)","v":""},{"$f":"IF('Using CMS - Inop_OoC - CMS'!B304=\"\",\"\",'Using CMS - Inop_OoC - CMS'!B304)","v":""},{"$f":"IF('Using CMS - Inop_OoC - CMS'!C304=\"\",\"\",'Using CMS - Inop_OoC - CMS'!C304)","v":""},{"$f":"IF('Using CMS - Inop_OoC - CMS'!D304=\"\",\"\",'Using CMS - Inop_OoC - CMS'!D304)","v":""},{"$f":"AO282&AP282&Table10[[#This Row],[CMS]]","v":""},{"$f":"IF(COUNTIF(AR$2:AR282,AR282)=1,AR282,\"\")","v":""},"","","",null,{"$f":"+IF(BB282=\"\",\"\",MAX(AX$1:AX281)+1)","v":""},{"$f":"IF('Using CMS - Deviation - Limits'!B304=\"\",\"\",'Using CMS - Deviation - Limits'!B304)","v":""},{"$f":"IF('Using CMS - Deviation - Limits'!C304=\"\",\"\",'Using CMS - Deviation - Limits'!C304)","v":""},{"$f":"AY282&AZ282&Table10[[#This Row],[CMS]]","v":""},{"$f":"IF(COUNTIF(BA$2:BA282,BA282)=1,BA282,\"\")","v":""},"","",{"$f":"+IFERROR(INDEX(#REF!,MATCH(ROW()-ROW(BC$1),AX$2:AX$955,0)),\"\")","v":""}]
[{"$f":"+IF(D283=\"\",\"\",MAX(A$1:A282)+1)","v":""},{"$f":"IF('Process_&_CMS_Identification'!C305=\"\",\"\",'Process_&_CMS_Identification'!C305)","v":""},"",{"$f":"IF(COUNTIF(B$2:B283,B283)=1,B283,\"\")","v":""},{"$nulls":15},{"$f":"+IF(X283=\"\",\"\",MAX(T$1:T282)+1)","v":""},{"$f":"IF('No CMS - Deviation - Limits'!B305=\"\",\"\",'No CMS - Deviation - Limits'!B305)","v":""},{"$f":"IF('No CMS - Deviation - Limits'!C305=\"\",\"\",'No CMS - Deviation - Limits'!C305)","v":""},"",{"$f":"IF(COUNTIF(V$2:V283,V283)=1,V283,\"\")","v":""},"","",{"$f":"+IFERROR(INDEX(#REF!,MATCH(ROW()-ROW($Y$1),T$2:T$955,0)),\"\")","v":""},null,{"$f":"+IF(AG283=\"\",\"\",MAX(AC$1:AC282)+1)","v":""},{"$f":"IF('Using CMS - Deviation - Limits'!B305=\"\",\"\",'Using CMS - Deviation - Limits'!B305)","v":""},{"$f":"IF('Using CMS - Deviation - Limits'!C305=\"\",\"\",'Using CMS - Deviation - Limits'!C305)","v":""},"",{"$f":"IF(COUNTIF(AF$2:AF283,AF283)=1,AF283,\"\")","v":""},"","",{"$f":"+IFERROR(INDEX(#REF!,MATCH(ROW()-ROW(AG$1),AC$2:AC$955,0)),\"\")","v":""},{"$nulls":3},{"$f":"+IF(AS283=\"\",\"\",MAX(AN$1:AN282)+1)","v":""},{"$f":"IF('Using CMS - Inop_OoC - CMS'!B305=\"\",\"\",'Using CMS - Inop_OoC - CMS'!B305)","v":""},{"$f":"IF('Using CMS - Inop_OoC - CMS'!C305=\"\",\"\",'Using CMS - Inop_OoC - CMS'!C305)","v":""},{"$f":"IF('Using CMS - Inop_OoC - CMS'!D305=\"\",\"\",'Using CMS - Inop_OoC - CMS'!D305)","v":""},{"$f":"AO283&AP283&Table10[[#This Row],[CMS]]","v":""},{"$f":"IF(COUNTIF(AR$2:AR283,AR283)=1,AR283,\"\")","v":""},"","","",null,{"$f":"+IF(BB283=\"\",\"\",MAX(AX$1:AX282)+1)","v":""},{"$f":"IF('Using CMS - Deviation - Limits'!B305=\"\",\"\",'Using CMS - Deviation - Limits'!B305)","v":""},{"$f":"IF('Using CMS - Deviation - Limits'!C305=\"\",\"\",'Using CMS - Deviation - Limits'!C305)","v":""},{"$f":"AY283&AZ283&Table10[[#This Row],[CMS]]","v":""},{"$f":"IF(COUNTIF(BA$2:BA283,BA283)=1,BA283,\"\")","v":""},"","",{"$f":"+IFERROR(INDEX(#REF!,MATCH(ROW()-ROW(BC$1),AX$2:AX$955,0)),\"\")","v":""}]
[{"$f":"+IF(D284=\"\",\"\",MAX(A$1:A283)+1)","v":""},{"$f":"IF('Process_&_CMS_Identification'!C306=\"\",\"\",'Process_&_CMS_Identification'!C306)","v":""},"",{"$f":"IF(COUNTIF(B$2:B284,B284)=1,B284,\"\")","v":""},{"$nulls":15},{"$f":"+IF(X284=\"\",\"\",MAX(T$1:T283)+1)","v":""},{"$f":"IF('No CMS - Deviation - Limits'!B306=\"\",\"\",'No CMS - Deviation - Limits'!B306)","v":""},{"$f":"IF('No CMS - Deviation - Limits'!C306=\"\",\"\",'No CMS - Deviation - Limits'!C306)","v":""},"",{"$f":"IF(COUNTIF(V$2:V284,V284)=1,V284,\"\")","v":""},"","",{"$f":"+IFERROR(INDEX(#REF!,MATCH(ROW()-ROW($Y$1),T$2:T$955,0)),\"\")","v":""},null,{"$f":"+IF(AG284=\"\",\"\",MAX(AC$1:AC283)+1)","v":""},{"$f":"IF('Using CMS - Deviation - Limits'!B306=\"\",\"\",'Using CMS - Deviation - Limits'!B306)","v":""},{"$f":"IF('Using CMS - Deviation - Limits'!C306=\"\",\"\",'Using CMS - Deviation - Limits'!C306)","v":""},"",{"$f":"IF(COUNTIF(AF$2:AF284,AF284)=1,AF284,\"\")","v":""},"","",{"$f":"+IFERROR(INDEX(#REF!,MATCH(ROW()-ROW(AG$1),AC$2:AC$955,0)),\"\")","v":""},{"$nulls":3},{"$f":"+IF(AS284=\"\",\"\",MAX(AN$1:AN283)+1)","v":""},{"$f":"IF('Using CMS - Inop_OoC - CMS'!B306=\"\",\"\",'Using CMS - Inop_OoC - CMS'!B306)","v":""},{"$f":"IF('Using CMS - Inop_OoC - CMS'!C306=\"\",\"\",'Using CMS - Inop_OoC - CMS'!C306)","v":""},{"$f":"IF('Using CMS - Inop_OoC - CMS'!D306=\"\",\"\",'Using CMS - Inop_OoC - CMS'!D306)","v":""},{"$f":"AO284&AP284&Table10[[#This Row],[CMS]]","v":""},{"$f":"IF(COUNTIF(AR$2:AR284,AR284)=1,AR284,\"\")","v":""},"","","",null,{"$f":"+IF(BB284=\"\",\"\",MAX(AX$1:AX283)+1)","v":""},{"$f":"IF('Using CMS - Deviation - Limits'!B306=\"\",\"\",'Using CMS - Deviation - Limits'!B306)","v":""},{"$f":"IF('Using CMS - Deviation - Limits'!C306=\"\",\"\",'Using CMS - Deviation - Limits'!C306)","v":""},{"$f":"AY284&AZ284&Table10[[#This Row],[CMS]]","v":""},{"$f":"IF(COUNTIF(BA$2:BA284,BA284)=1,BA284,\"\")","v":""},"","",{"$f":"+IFERROR(INDEX(#REF!,MATCH(ROW()-ROW(BC$1),AX$2:AX$955,0)),\"\")","v":""}]
[{"$f":"+IF(D285=\"\",\"\",MAX(A$1:A284)+1)","v":""},{"$f":"IF('Process_&_CMS_Identification'!C307=\"\",\"\",'Process_&_CMS_Identification'!C307)","v":""},"",{"$f":"IF(COUNTIF(B$2:B285,B285)=1,B285,\"\")","v":""},{"$nulls":15},{"$f":"+IF(X285=\"\",\"\",MAX(T$1:T284)+1)","v":""},{"$f":"IF('No CMS - Deviation - Limits'!B307=\"\",\"\",'No CMS - Deviation - Limits'!B307)","v":""},{"$f":"IF('No CMS - Deviation - Limits'!C307=\"\",\"\",'No CMS - Deviation - Limits'!C307)","v":""},"",{"$f":"IF(COUNTIF(V$2:V285,V285)=1,V285,\"\")","v":""},"","",{"$f":"+IFERROR(INDEX(#REF!,MATCH(ROW()-ROW($Y$1),T$2:T$955,0)),\"\")","v":""},null,{"$f":"+IF(AG285=\"\",\"\",MAX(AC$1:AC284)+1)","v":""},{"$f":"IF('Using CMS - Deviation - Limits'!B307=\"\",\"\",'Using CMS - Deviation - Limits'!B307)","v":""},{"$f":"IF('Using CMS - Deviation - Limits'!C307=\"\",\"\",'Using CMS - Deviation - Limits'!C307)","v":""},"",{"$f":"IF(COUNTIF(AF$2:AF285,AF285)=1,AF285,\"\")","v":""},"","",{"$f":"+IFERROR(INDEX(#REF!,MATCH(ROW()-ROW(AG$1),AC$2:AC$955,0)),\"\")","v":""},{"$nulls":3},{"$f":"+IF(AS285=\"\",\"\",MAX(AN$1:AN284)+1)","v":""},{"$f":"IF('Using CMS - Inop_OoC - CMS'!B307=\"\",\"\",'Using CMS - Inop_OoC - CMS'!B307)","v":""},{"$f":"IF('Using CMS - Inop_OoC - CMS'!C307=\"\",\"\",'Using CMS - Inop_OoC - CMS'!C307)","v":""},{"$f":"IF('Using CMS - Inop_OoC - CMS'!D307=\"\",\"\",'Using CMS - Inop_OoC - CMS'!D307)","v":""},{"$f":"AO285&AP285&Table10[[#This Row],[CMS]]","v":""},{"$f":"IF(COUNTIF(AR$2:AR285,AR285)=1,AR285,\"\")","v":""},"","","",null,{"$f":"+IF(BB285=\"\",\"\",MAX(AX$1:AX284)+1)","v":""},{"$f":"IF('Using CMS - Deviation - Limits'!B307=\"\",\"\",'Using CMS - Deviation - Limits'!B307)","v":""},{"$f":"IF('Using CMS - Deviation - Limits'!C307=\"\",\"\",'Using CMS - Deviation - Limits'!C307)","v":""},{"$f":"AY285&AZ285&Table10[[#This Row],[CMS]]","v":""},{"$f":"IF(COUNTIF(BA$2:BA285,BA285)=1,BA285,\"\")","v":""},"","",{"$f":"+IFERROR(INDEX(#REF!,MATCH(ROW()-ROW(BC$1),AX$2:AX$955,0)),\"\")","v":""}]
[{"$f":"+IF(D286=\"\",\"\",MAX(A$1:A285)+1)","v":""},{"$f":"IF('Process_&_CMS_Identification'!C308=\"\",\"\",'Process_&_CMS_Identification'!C308)","v":""},"",{"$f":"IF(COUNTIF(B$2:B286,B286)=1,B286,\"\")","v":""},{"$nulls":15},{"$f":"+IF(X286=\"\",\"\",MAX(T$1:T285)+1)","v":""},{"$f":"IF('No CMS - Deviation - Limits'!B308=\"\",\"\",'No CMS - Deviation - Limits'!B308)","v":""},{"$f":"IF('No CMS - Deviation - Limits'!C308=\"\",\"\",'No CMS - Deviation - Limits'!C308)","v":""},"",{"$f":"IF(COUNTIF(V$2:V286,V286)=1,V286,\"\")","v":""},"","",{"$f":"+IFERROR(INDEX(#REF!,MATCH(ROW()-ROW($Y$1),T$2:T$955,0)),\"\")","v":""},null,{"$f":"+IF(AG286=\"\",\"\",MAX(AC$1:AC285)+1)","v":""},{"$f":"IF('Using CMS - Deviation - Limits'!B308=\"\",\"\",'Using CMS - Deviation - Limits'!B308)","v":""},{"$f":"IF('Using CMS - Deviation - Limits'!C308=\"\",\"\",'Using CMS - Deviation - Limits'!C308)","v":""},"",{"$f":"IF(COUNTIF(AF$2:AF286,AF286)=1,AF286,\"\")","v":""},"","",{"$f":"+IFERROR(INDEX(#REF!,MATCH(ROW()-ROW(AG$1),AC$2:AC$955,0)),\"\")","v":""},{"$nulls":3},{"$f":"+IF(AS286=\"\",\"\",MAX(AN$1:AN285)+1)","v":""},{"$f":"IF('Using CMS - Inop_OoC - CMS'!B308=\"\",\"\",'Using CMS - Inop_OoC - CMS'!B308)","v":""},{"$f":"IF('Using CMS - Inop_OoC - CMS'!C308=\"\",\"\",'Using CMS - Inop_OoC - CMS'!C308)","v":""},{"$f":"IF('Using CMS - Inop_OoC - CMS'!D308=\"\",\"\",'Using CMS - Inop_OoC - CMS'!D308)","v":""},{"$f":"AO286&AP286&Table10[[#This Row],[CMS]]","v":""},{"$f":"IF(COUNTIF(AR$2:AR286,AR286)=1,AR286,\"\")","v":""},"","","",null,{"$f":"+IF(BB286=\"\",\"\",MAX(AX$1:AX285)+1)","v":""},{"$f":"IF('Using CMS - Deviation - Limits'!B308=\"\",\"\",'Using CMS - Deviation - Limits'!B308)","v":""},{"$f":"IF('Using CMS - Deviation - Limits'!C308=\"\",\"\",'Using CMS - Deviation - Limits'!C308)","v":""},{"$f":"AY286&AZ286&Table10[[#This Row],[CMS]]","v":""},{"$f":"IF(COUNTIF(BA$2:BA286,BA286)=1,BA286,\"\")","v":""},"","",{"$f":"+IFERROR(INDEX(#REF!,MATCH(ROW()-ROW(BC$1),AX$2:AX$955,0)),\"\")","v":""}]
[{"$f":"+IF(D287=\"\",\"\",MAX(A$1:A286)+1)","v":""},{"$f":"IF('Process_&_CMS_Identification'!C309=\"\",\"\",'Process_&_CMS_Identification'!C309)","v":""},"",{"$f":"IF(COUNTIF(B$2:B287,B287)=1,B287,\"\")","v":""},{"$nulls":15},{"$f":"+IF(X287=\"\",\"\",MAX(T$1:T286)+1)","v":""},{"$f":"IF('No CMS - Deviation - Limits'!B309=\"\",\"\",'No CMS - Deviation - Limits'!B309)","v":""},{"$f":"IF('No CMS - Deviation - Limits'!C309=\"\",\"\",'No CMS - Deviation - Limits'!C309)","v":""},"",{"$f":"IF(COUNTIF(V$2:V287,V287)=1,V287,\"\")","v":""},"","",{"$f":"+IFERROR(INDEX(#REF!,MATCH(ROW()-ROW($Y$1),T$2:T$955,0)),\"\")","v":""},null,{"$f":"+IF(AG287=\"\",\"\",MAX(AC$1:AC286)+1)","v":""},{"$f":"IF('Using CMS - Deviation - Limits'!B309=\"\",\"\",'Using CMS - Deviation - Limits'!B309)","v":""},{"$f":"IF('Using CMS - Deviation - Limits'!C309=\"\",\"\",'Using CMS - Deviation - Limits'!C309)","v":""},"",{"$f":"IF(COUNTIF(AF$2:AF287,AF287)=1,AF287,\"\")","v":""},"","",{"$f":"+IFERROR(INDEX(#REF!,MATCH(ROW()-ROW(AG$1),AC$2:AC$955,0)),\"\")","v":""},{"$nulls":3},{"$f":"+IF(AS287=\"\",\"\",MAX(AN$1:AN286)+1)","v":""},{"$f":"IF('Using CMS - Inop_OoC - CMS'!B309=\"\",\"\",'Using CMS - Inop_OoC - CMS'!B309)","v":""},{"$f":"IF('Using CMS - Inop_OoC - CMS'!C309=\"\",\"\",'Using CMS - Inop_OoC - CMS'!C309)","v":""},{"$f":"IF('Using CMS - Inop_OoC - CMS'!D309=\"\",\"\",'Using CMS - Inop_OoC - CMS'!D309)","v":""},{"$f":"AO287&AP287&Table10[[#This Row],[CMS]]","v":""},{"$f":"IF(COUNTIF(AR$2:AR287,AR287)=1,AR287,\"\")","v":""},"","","",null,{"$f":"+IF(BB287=\"\",\"\",MAX(AX$1:AX286)+1)","v":""},{"$f":"IF('Using CMS - Deviation - Limits'!B309=\"\",\"\",'Using CMS - Deviation - Limits'!B309)","v":""},{"$f":"IF('Using CMS - Deviation - Limits'!C309=\"\",\"\",'Using CMS - Deviation - Limits'!C309)","v":""},{"$f":"AY287&AZ287&Table10[[#This Row],[CMS]]","v":""},{"$f":"IF(COUNTIF(BA$2:BA287,BA287)=1,BA287,\"\")","v":""},"","",{"$f":"+IFERROR(INDEX(#REF!,MATCH(ROW()-ROW(BC$1),AX$2:AX$955,0)),\"\")","v":""}]
[{"$f":"+IF(D288=\"\",\"\",MAX(A$1:A287)+1)","v":""},{"$f":"IF('Process_&_CMS_Identification'!C310=\"\",\"\",'Process_&_CMS_Identification'!C310)","v":""},"",{"$f":"IF(COUNTIF(B$2:B288,B288)=1,B288,\"\")","v":""},{"$nulls":15},{"$f":"+IF(X288=\"\",\"\",MAX(T$1:T287)+1)","v":""},{"$f":"IF('No CMS - Deviation - Limits'!B310=\"\",\"\",'No CMS - Deviation - Limits'!B310)","v":""},{"$f":"IF('No CMS - Deviation - Limits'!C310=\"\",\"\",'No CMS - Deviation - Limits'!C310)","v":""},"",{"$f":"IF(COUNTIF(V$2:V288,V288)=1,V288,\"\")","v":""},"","",{"$f":"+IFERROR(INDEX(#REF!,MATCH(ROW()-ROW($Y$1),T$2:T$955,0)),\"\")","v":""},null,{"$f":"+IF(AG288=\"\",\"\",MAX(AC$1:AC287)+1)","v":""},{"$f":"IF('Using CMS - Deviation - Limits'!B310=\"\",\"\",'Using CMS - Deviation - Limits'!B310)","v":""},{"$f":"IF('Using CMS - Deviation - Limits'!C310=\"\",\"\",'Using CMS - Deviation - Limits'!C310)","v":""},"",{"$f":"IF(COUNTIF(AF$2:AF288,AF288)=1,AF288,\"\")","v":""},"","",{"$f":"+IFERROR(INDEX(#REF!,MATCH(ROW()-ROW(AG$1),AC$2:AC$955,0)),\"\")","v":""},{"$nulls":3},{"$f":"+IF(AS288=\"\",\"\",MAX(AN$1:AN287)+1)","v":""},{"$f":"IF('Using CMS - Inop_OoC - CMS'!B310=\"\",\"\",'Using CMS - Inop_OoC - CMS'!B310)","v":""},{"$f":"IF('Using CMS - Inop_OoC - CMS'!C310=\"\",\"\",'Using CMS - Inop_OoC - CMS'!C310)","v":""},{"$f":"IF('Using CMS - Inop_OoC - CMS'!D310=\"\",\"\",'Using CMS - Inop_OoC - CMS'!D310)","v":""},{"$f":"AO288&AP288&Table10[[#This Row],[CMS]]","v":""},{"$f":"IF(COUNTIF(AR$2:AR288,AR288)=1,AR288,\"\")","v":""},"","","",null,{"$f":"+IF(BB288=\"\",\"\",MAX(AX$1:AX287)+1)","v":""},{"$f":"IF('Using CMS - Deviation - Limits'!B310=\"\",\"\",'Using CMS - Deviation - Limits'!B310)","v":""},{"$f":"IF('Using CMS - Deviation - Limits'!C310=\"\",\"\",'Using CMS - Deviation - Limits'!C310)","v":""},{"$f":"AY288&AZ288&Table10[[#This Row],[CMS]]","v":""},{"$f":"IF(COUNTIF(BA$2:BA288,BA288)=1,BA288,\"\")","v":""},"","",{"$f":"+IFERROR(INDEX(#REF!,MATCH(ROW()-ROW(BC$1),AX$2:AX$955,0)),\"\")","v":""}]
[{"$f":"+IF(D289=\"\",\"\",MAX(A$1:A288)+1)","v":""},{"$f":"IF('Process_&_CMS_Identification'!C311=\"\",\"\",'Process_&_CMS_Identification'!C311)","v":""},"",{"$f":"IF(COUNTIF(B$2:B289,B289)=1,B289,\"\")","v":""},{"$nulls":15},{"$f":"+IF(X289=\"\",\"\",MAX(T$1:T288)+1)","v":""},{"$f":"IF('No CMS - Deviation - Limits'!B311=\"\",\"\",'No CMS - Deviation - Limits'!B311)","v":""},{"$f":"IF('No CMS - Deviation - Limits'!C311=\"\",\"\",'No CMS - Deviation - Limits'!C311)","v":""},"",{"$f":"IF(COUNTIF(V$2:V289,V289)=1,V289,\"\")","v":""},"","",{"$f":"+IFERROR(INDEX(#REF!,MATCH(ROW()-ROW($Y$1),T$2:T$955,0)),\"\")","v":""},null,{"$f":"+IF(AG289=\"\",\"\",MAX(AC$1:AC288)+1)","v":""},{"$f":"IF('Using CMS - Deviation - Limits'!B311=\"\",\"\",'Using CMS - Deviation - Limits'!B311)","v":""},{"$f":"IF('Using CMS - Deviation - Limits'!C311=\"\",\"\",'Using CMS - Deviation - Limits'!C311)","v":""},"",{"$f":"IF(COUNTIF(AF$2:AF289,AF289)=1,AF289,\"\")","v":""},"","",{"$f":"+IFERROR(INDEX(#REF!,MATCH(ROW()-ROW(AG$1),AC$2:AC$955,0)),\"\")","v":""},{"$nulls":3},{"$f":"+IF(AS289=\"\",\"\",MAX(AN$1:AN288)+1)","v":""},{"$f":"IF('Using CMS - Inop_OoC - CMS'!B311=\"\",\"\",'Using CMS - Inop_OoC - CMS'!B311)","v":""},{"$f":"IF('Using CMS - Inop_OoC - CMS'!C311=\"\",\"\",'Using CMS - Inop_OoC - CMS'!C311)","v":""},{"$f":"IF('Using CMS - Inop_OoC - CMS'!D311=\"\",\"\",'Using CMS - Inop_OoC - CMS'!D311)","v":""},{"$f":"AO289&AP289&Table10[[#This Row],[CMS]]","v":""},{"$f":"IF(COUNTIF(AR$2:AR289,AR289)=1,AR289,\"\")","v":""},"","","",null,{"$f":"+IF(BB289=\"\",\"\",MAX(AX$1:AX288)+1)","v":""},{"$f":"IF('Using CMS - Deviation - Limits'!B311=\"\",\"\",'Using CMS - Deviation - Limits'!B311)","v":""},{"$f":"IF('Using CMS - Deviation - Limits'!C311=\"\",\"\",'Using CMS - Deviation - Limits'!C311)","v":""},{"$f":"AY289&AZ289&Table10[[#This Row],[CMS]]","v":""},{"$f":"IF(COUNTIF(BA$2:BA289,BA289)=1,BA289,\"\")","v":""},"","",{"$f":"+IFERROR(INDEX(#REF!,MATCH(ROW()-ROW(BC$1),AX$2:AX$955,0)),\"\")","v":""}]
[{"$f":"+IF(D290=\"\",\"\",MAX(A$1:A289)+1)","v":""},{"$f":"IF('Process_&_CMS_Identification'!C312=\"\",\"\",'Process_&_CMS_Identification'!C312)","v":""},"",{"$f":"IF(COUNTIF(B$2:B290,B290)=1,B290,\"\")","v":""},{"$nulls":15},{"$f":"+IF(X290=\"\",\"\",MAX(T$1:T289)+1)","v":""},{"$f":"IF('No CMS - Deviation - Limits'!B312=\"\",\"\",'No CMS - Deviation - Limits'!B312)","v":""},{"$f":"IF('No CMS - Deviation - Limits'!C312=\"\",\"\",'No CMS - Deviation - Limits'!C312)","v":""},"",{"$f":"IF(COUNTIF(V$2:V290,V290)=1,V290,\"\")","v":""},"","",{"$f":"+IFERROR(INDEX(#REF!,MATCH(ROW()-ROW($Y$1),T$2:T$955,0)),\"\")","v":""},null,{"$f":"+IF(AG290=\"\",\"\",MAX(AC$1:AC289)+1)","v":""},{"$f":"IF('Using CMS - Deviation - Limits'!B312=\"\",\"\",'Using CMS - Deviation - Limits'!B312)","v":""},{"$f":"IF('Using CMS - Deviation - Limits'!C312=\"\",\"\",'Using CMS - Deviation - Limits'!C312)","v":""},"",{"$f":"IF(COUNTIF(AF$2:AF290,AF290)=1,AF290,\"\")","v":""},"","",{"$f":"+IFERROR(INDEX(#REF!,MATCH(ROW()-ROW(AG$1),AC$2:AC$955,0)),\"\")","v":""},{"$nulls":3},{"$f":"+IF(AS290=\"\",\"\",MAX(AN$1:AN289)+1)","v":""},{"$f":"IF('Using CMS - Inop_OoC - CMS'!B312=\"\",\"\",'Using CMS - Inop_OoC - CMS'!B312)","v":""},{"$f":"IF('Using CMS - Inop_OoC - CMS'!C312=\"\",\"\",'Using CMS - Inop_OoC - CMS'!C312)","v":""},{"$f":"IF('Using CMS - Inop_OoC - CMS'!D312=\"\",\"\",'Using CMS - Inop_OoC - CMS'!D312)","v":""},{"$f":"AO290&AP290&Table10[[#This Row],[CMS]]","v":""},{"$f":"IF(COUNTIF(AR$2:AR290,AR290)=1,AR290,\"\")","v":""},"","","",null,{"$f":"+IF(BB290=\"\",\"\",MAX(AX$1:AX289)+1)","v":""},{"$f":"IF('Using CMS - Deviation - Limits'!B312=\"\",\"\",'Using CMS - Deviation - Limits'!B312)","v":""},{"$f":"IF('Using CMS - Deviation - Limits'!C312=\"\",\"\",'Using CMS - Deviation - Limits'!C312)","v":""},{"$f":"AY290&AZ290&Table10[[#This Row],[CMS]]","v":""},{"$f":"IF(COUNTIF(BA$2:BA290,BA290)=1,BA290,\"\")","v":""},"","",{"$f":"+IFERROR(INDEX(#REF!,MATCH(ROW()-ROW(BC$1),AX$2:AX$955,0)),\"\")","v":""}]
[{"$f":"+IF(D291=\"\",\"\",MAX(A$1:A290)+1)","v":""},{"$f":"IF('Process_&_CMS_Identification'!C313=\"\",\"\",'Process_&_CMS_Identification'!C313)","v":""},"",{"$f":"IF(COUNTIF(B$2:B291,B291)=1,B291,\"\")","v":""},{"$nulls":15},{"$f":"+IF(X291=\"\",\"\",MAX(T$1:T290)+1)","v":""},{"$f":"IF('No CMS - Deviation - Limits'!B313=\"\",\"\",'No CMS - Deviation - Limits'!B313)","v":""},{"$f":"IF('No CMS - Deviation - Limits'!C313=\"\",\"\",'No CMS - Deviation - Limits'!C313)","v":""},"",{"$f":"IF(COUNTIF(V$2:V291,V291)=1,V291,\"\")","v":""},"","",{"$f":"+IFERROR(INDEX(#REF!,MATCH(ROW()-ROW($Y$1),T$2:T$955,0)),\"\")","v":""},null,{"$f":"+IF(AG291=\"\",\"\",MAX(AC$1:AC290)+1)","v":""},{"$f":"IF('Using CMS - Deviation - Limits'!B313=\"\",\"\",'Using CMS - Deviation - Limits'!B313)","v":""},{"$f":"IF('Using CMS - Deviation - Limits'!C313=\"\",\"\",'Using CMS - Deviation - Limits'!C313)","v":""},"",{"$f":"IF(COUNTIF(AF$2:AF291,AF291)=1,AF291,\"\")","v":""},"","",{"$f":"+IFERROR(INDEX(#REF!,MATCH(ROW()-ROW(AG$1),AC$2:AC$955,0)),\"\")","v":""},{"$nulls":3},{"$f":"+IF(AS291=\"\",\"\",MAX(AN$1:AN290)+1)","v":""},{"$f":"IF('Using CMS - Inop_OoC - CMS'!B313=\"\",\"\",'Using CMS - Inop_OoC - CMS'!B313)","v":""},{"$f":"IF('Using CMS - Inop_OoC - CMS'!C313=\"\",\"\",'Using CMS - Inop_OoC - CMS'!C313)","v":""},{"$f":"IF('Using CMS - Inop_OoC - CMS'!D313=\"\",\"\",'Using CMS - Inop_OoC - CMS'!D313)","v":""},{"$f":"AO291&AP291&Table10[[#This Row],[CMS]]","v":""},{"$f":"IF(COUNTIF(AR$2:AR291,AR291)=1,AR291,\"\")","v":""},"","","",null,{"$f":"+IF(BB291=\"\",\"\",MAX(AX$1:AX290)+1)","v":""},{"$f":"IF('Using CMS - Deviation - Limits'!B313=\"\",\"\",'Using CMS - Deviation - Limits'!B313)","v":""},{"$f":"IF('Using CMS - Deviation - Limits'!C313=\"\",\"\",'Using CMS - Deviation - Limits'!C313)","v":""},{"$f":"AY291&AZ291&Table10[[#This Row],[CMS]]","v":""},{"$f":"IF(COUNTIF(BA$2:BA291,BA291)=1,BA291,\"\")","v":""},"","",{"$f":"+IFERROR(INDEX(#REF!,MATCH(ROW()-ROW(BC$1),AX$2:AX$955,0)),\"\")","v":""}]
[{"$f":"+IF(D292=\"\",\"\",MAX(A$1:A291)+1)","v":""},{"$f":"IF('Process_&_CMS_Identification'!C314=\"\",\"\",'Process_&_CMS_Identification'!C314)","v":""},"",{"$f":"IF(COUNTIF(B$2:B292,B292)=1,B292,\"\")","v":""},{"$nulls":15},{"$f":"+IF(X292=\"\",\"\",MAX(T$1:T291)+1)","v":""},{"$f":"IF('No CMS - Deviation - Limits'!B314=\"\",\"\",'No CMS - Deviation - Limits'!B314)","v":""},{"$f":"IF('No CMS - Deviation - Limits'!C314=\"\",\"\",'No CMS - Deviation - Limits'!C314)","v":""},"",{"$f":"IF(COUNTIF(V$2:V292,V292)=1,V292,\"\")","v":""},"","",{"$f":"+IFERROR(INDEX(#REF!,MATCH(ROW()-ROW($Y$1),T$2:T$955,0)),\"\")","v":""},null,{"$f":"+IF(AG292=\"\",\"\",MAX(AC$1:AC291)+1)","v":""},{"$f":"IF('Using CMS - Deviation - Limits'!B314=\"\",\"\",'Using CMS - Deviation - Limits'!B314)","v":""},{"$f":"IF('Using CMS - Deviation - Limits'!C314=\"\",\"\",'Using CMS - Deviation - Limits'!C314)","v":""},"",{"$f":"IF(COUNTIF(AF$2:AF292,AF292)=1,AF292,\"\")","v":""},"","",{"$f":"+IFERROR(INDEX(#REF!,MATCH(ROW()-ROW(AG$1),AC$2:AC$955,0)),\"\")","v":""},{"$nulls":3},{"$f":"+IF(AS292=\"\",\"\",MAX(AN$1:AN291)+1)","v":""},{"$f":"IF('Using CMS - Inop_OoC - CMS'!B314=\"\",\"\",'Using CMS - Inop_OoC - CMS'!B314)","v":""},{"$f":"IF('Using CMS - Inop_OoC - CMS'!C314=\"\",\"\",'Using CMS - Inop_OoC - CMS'!C314)","v":""},{"$f":"IF('Using CMS - Inop_OoC - CMS'!D314=\"\",\"\",'Using CMS - Inop_OoC - CMS'!D314)","v":""},{"$f":"AO292&AP292&Table10[[#This Row],[CMS]]","v":""},{"$f":"IF(COUNTIF(AR$2:AR292,AR292)=1,AR292,\"\")","v":""},"","","",null,{"$f":"+IF(BB292=\"\",\"\",MAX(AX$1:AX291)+1)","v":""},{"$f":"IF('Using CMS - Deviation - Limits'!B314=\"\",\"\",'Using CMS - Deviation - Limits'!B314)","v":""},{"$f":"IF('Using CMS - Deviation - Limits'!C314=\"\",\"\",'Using CMS - Deviation - Limits'!C314)","v":""},{"$f":"AY292&AZ292&Table10[[#This Row],[CMS]]","v":""},{"$f":"IF(COUNTIF(BA$2:BA292,BA292)=1,BA292,\"\")","v":""},"","",{"$f":"+IFERROR(INDEX(#REF!,MATCH(ROW()-ROW(BC$1),AX$2:AX$955,0)),\"\")","v":""}]
[{"$f":"+IF(D293=\"\",\"\",MAX(A$1:A292)+1)","v":""},{"$f":"IF('Process_&_CMS_Identification'!C315=\"\",\"\",'Process_&_CMS_Identification'!C315)","v":""},"",{"$f":"IF(COUNTIF(B$2:B293,B293)=1,B293,\"\")","v":""},{"$nulls":15},{"$f":"+IF(X293=\"\",\"\",MAX(T$1:T292)+1)","v":""},{"$f":"IF('No CMS - Deviation - Limits'!B315=\"\",\"\",'No CMS - Deviation - Limits'!B315)","v":""},{"$f":"IF('No CMS - Deviation - Limits'!C315=\"\",\"\",'No CMS - Deviation - Limits'!C315)","v":""},"",{"$f":"IF(COUNTIF(V$2:V293,V293)=1,V293,\"\")","v":""},"","",{"$f":"+IFERROR(INDEX(#REF!,MATCH(ROW()-ROW($Y$1),T$2:T$955,0)),\"\")","v":""},null,{"$f":"+IF(AG293=\"\",\"\",MAX(AC$1:AC292)+1)","v":""},{"$f":"IF('Using CMS - Deviation - Limits'!B315=\"\",\"\",'Using CMS - Deviation - Limits'!B315)","v":""},{"$f":"IF('Using CMS - Deviation - Limits'!C315=\"\",\"\",'Using CMS - Deviation - Limits'!C315)","v":""},"",{"$f":"IF(COUNTIF(AF$2:AF293,AF293)=1,AF293,\"\")","v":""},"","",{"$f":"+IFERROR(INDEX(#REF!,MATCH(ROW()-ROW(AG$1),AC$2:AC$955,0)),\"\")","v":""},{"$nulls":3},{"$f":"+IF(AS293=\"\",\"\",MAX(AN$1:AN292)+1)","v":""},{"$f":"IF('Using CMS - Inop_OoC - CMS'!B315=\"\",\"\",'Using CMS - Inop_OoC - CMS'!B315)","v":""},{"$f":"IF('Using CMS - Inop_OoC - CMS'!C315=\"\",\"\",'Using CMS - Inop_OoC - CMS'!C315)","v":""},{"$f":"IF('Using CMS - Inop_OoC - CMS'!D315=\"\",\"\",'Using CMS - Inop_OoC - CMS'!D315)","v":""},{"$f":"AO293&AP293&Table10[[#This Row],[CMS]]","v":""},{"$f":"IF(COUNTIF(AR$2:AR293,AR293)=1,AR293,\"\")","v":""},"","","",null,{"$f":"+IF(BB293=\"\",\"\",MAX(AX$1:AX292)+1)","v":""},{"$f":"IF('Using CMS - Deviation - Limits'!B315=\"\",\"\",'Using CMS - Deviation - Limits'!B315)","v":""},{"$f":"IF('Using CMS - Deviation - Limits'!C315=\"\",\"\",'Using CMS - Deviation - Limits'!C315)","v":""},{"$f":"AY293&AZ293&Table10[[#This Row],[CMS]]","v":""},{"$f":"IF(COUNTIF(BA$2:BA293,BA293)=1,BA293,\"\")","v":""},"","",{"$f":"+IFERROR(INDEX(#REF!,MATCH(ROW()-ROW(BC$1),AX$2:AX$955,0)),\"\")","v":""}]
[{"$f":"+IF(D294=\"\",\"\",MAX(A$1:A293)+1)","v":""},{"$f":"IF('Process_&_CMS_Identification'!C316=\"\",\"\",'Process_&_CMS_Identification'!C316)","v":""},"",{"$f":"IF(COUNTIF(B$2:B294,B294)=1,B294,\"\")","v":""},{"$nulls":15},{"$f":"+IF(X294=\"\",\"\",MAX(T$1:T293)+1)","v":""},{"$f":"IF('No CMS - Deviation - Limits'!B316=\"\",\"\",'No CMS - Deviation - Limits'!B316)","v":""},{"$f":"IF('No CMS - Deviation - Limits'!C316=\"\",\"\",'No CMS - Deviation - Limits'!C316)","v":""},"",{"$f":"IF(COUNTIF(V$2:V294,V294)=1,V294,\"\")","v":""},"","",{"$f":"+IFERROR(INDEX(#REF!,MATCH(ROW()-ROW($Y$1),T$2:T$955,0)),\"\")","v":""},null,{"$f":"+IF(AG294=\"\",\"\",MAX(AC$1:AC293)+1)","v":""},{"$f":"IF('Using CMS - Deviation - Limits'!B316=\"\",\"\",'Using CMS - Deviation - Limits'!B316)","v":""},{"$f":"IF('Using CMS - Deviation - Limits'!C316=\"\",\"\",'Using CMS - Deviation - Limits'!C316)","v":""},"",{"$f":"IF(COUNTIF(AF$2:AF294,AF294)=1,AF294,\"\")","v":""},"","",{"$f":"+IFERROR(INDEX(#REF!,MATCH(ROW()-ROW(AG$1),AC$2:AC$955,0)),\"\")","v":""},{"$nulls":3},{"$f":"+IF(AS294=\"\",\"\",MAX(AN$1:AN293)+1)","v":""},{"$f":"IF('Using CMS - Inop_OoC - CMS'!B316=\"\",\"\",'Using CMS - Inop_OoC - CMS'!B316)","v":""},{"$f":"IF('Using CMS - Inop_OoC - CMS'!C316=\"\",\"\",'Using CMS - Inop_OoC - CMS'!C316)","v":""},{"$f":"IF('Using CMS - Inop_OoC - CMS'!D316=\"\",\"\",'Using CMS - Inop_OoC - CMS'!D316)","v":""},{"$f":"AO294&AP294&Table10[[#This Row],[CMS]]","v":""},{"$f":"IF(COUNTIF(AR$2:AR294,AR294)=1,AR294,\"\")","v":""},"","","",null,{"$f":"+IF(BB294=\"\",\"\",MAX(AX$1:AX293)+1)","v":""},{"$f":"IF('Using CMS - Deviation - Limits'!B316=\"\",\"\",'Using CMS - Deviation - Limits'!B316)","v":""},{"$f":"IF('Using CMS - Deviation - Limits'!C316=\"\",\"\",'Using CMS - Deviation - Limits'!C316)","v":""},{"$f":"AY294&AZ294&Table10[[#This Row],[CMS]]","v":""},{"$f":"IF(COUNTIF(BA$2:BA294,BA294)=1,BA294,\"\")","v":""},"","",{"$f":"+IFERROR(INDEX(#REF!,MATCH(ROW()-ROW(BC$1),AX$2:AX$955,0)),\"\")","v":""}]
[{"$f":"+IF(D295=\"\",\"\",MAX(A$1:A294)+1)","v":""},{"$f":"IF('Process_&_CMS_Identification'!C317=\"\",\"\",'Process_&_CMS_Identification'!C317)","v":""},"",{"$f":"IF(COUNTIF(B$2:B295,B295)=1,B295,\"\")","v":""},{"$nulls":15},{"$f":"+IF(X295=\"\",\"\",MAX(T$1:T294)+1)","v":""},{"$f":"IF('No CMS - Deviation - Limits'!B317=\"\",\"\",'No CMS - Deviation - Limits'!B317)","v":""},{"$f":"IF('No CMS - Deviation - Limits'!C317=\"\",\"\",'No CMS - Deviation - Limits'!C317)","v":""},"",{"$f":"IF(COUNTIF(V$2:V295,V295)=1,V295,\"\")","v":""},"","",{"$f":"+IFERROR(INDEX(#REF!,MATCH(ROW()-ROW($Y$1),T$2:T$955,0)),\"\")","v":""},null,{"$f":"+IF(AG295=\"\",\"\",MAX(AC$1:AC294)+1)","v":""},{"$f":"IF('Using CMS - Deviation - Limits'!B317=\"\",\"\",'Using CMS - Deviation - Limits'!B317)","v":""},{"$f":"IF('Using CMS - Deviation - Limits'!C317=\"\",\"\",'Using CMS - Deviation - Limits'!C317)","v":""},"",{"$f":"IF(COUNTIF(AF$2:AF295,AF295)=1,AF295,\"\")","v":""},"","",{"$f":"+IFERROR(INDEX(#REF!,MATCH(ROW()-ROW(AG$1),AC$2:AC$955,0)),\"\")","v":""},{"$nulls":3},{"$f":"+IF(AS295=\"\",\"\",MAX(AN$1:AN294)+1)","v":""},{"$f":"IF('Using CMS - Inop_OoC - CMS'!B317=\"\",\"\",'Using CMS - Inop_OoC - CMS'!B317)","v":""},{"$f":"IF('Using CMS - Inop_OoC - CMS'!C317=\"\",\"\",'Using CMS - Inop_OoC - CMS'!C317)","v":""},{"$f":"IF('Using CMS - Inop_OoC - CMS'!D317=\"\",\"\",'Using CMS - Inop_OoC - CMS'!D317)","v":""},{"$f":"AO295&AP295&Table10[[#This Row],[CMS]]","v":""},{"$f":"IF(COUNTIF(AR$2:AR295,AR295)=1,AR295,\"\")","v":""},"","","",null,{"$f":"+IF(BB295=\"\",\"\",MAX(AX$1:AX294)+1)","v":""},{"$f":"IF('Using CMS - Deviation - Limits'!B317=\"\",\"\",'Using CMS - Deviation - Limits'!B317)","v":""},{"$f":"IF('Using CMS - Deviation - Limits'!C317=\"\",\"\",'Using CMS - Deviation - Limits'!C317)","v":""},{"$f":"AY295&AZ295&Table10[[#This Row],[CMS]]","v":""},{"$f":"IF(COUNTIF(BA$2:BA295,BA295)=1,BA295,\"\")","v":""},"","",{"$f":"+IFERROR(INDEX(#REF!,MATCH(ROW()-ROW(BC$1),AX$2:AX$955,0)),\"\")","v":""}]
[{"$f":"+IF(D296=\"\",\"\",MAX(A$1:A295)+1)","v":""},{"$f":"IF('Process_&_CMS_Identification'!C318=\"\",\"\",'Process_&_CMS_Identification'!C318)","v":""},"",{"$f":"IF(COUNTIF(B$2:B296,B296)=1,B296,\"\")","v":""},{"$nulls":15},{"$f":"+IF(X296=\"\",\"\",MAX(T$1:T295)+1)","v":""},{"$f":"IF('No CMS - Deviation - Limits'!B318=\"\",\"\",'No CMS - Deviation - Limits'!B318)","v":""},{"$f":"IF('No CMS - Deviation - Limits'!C318=\"\",\"\",'No CMS - Deviation - Limits'!C318)","v":""},"",{"$f":"IF(COUNTIF(V$2:V296,V296)=1,V296,\"\")","v":""},"","",{"$f":"+IFERROR(INDEX(#REF!,MATCH(ROW()-ROW($Y$1),T$2:T$955,0)),\"\")","v":""},null,{"$f":"+IF(AG296=\"\",\"\",MAX(AC$1:AC295)+1)","v":""},{"$f":"IF('Using CMS - Deviation - Limits'!B318=\"\",\"\",'Using CMS - Deviation - Limits'!B318)","v":""},{"$f":"IF('Using CMS - Deviation - Limits'!C318=\"\",\"\",'Using CMS - Deviation - Limits'!C318)","v":""},"",{"$f":"IF(COUNTIF(AF$2:AF296,AF296)=1,AF296,\"\")","v":""},"","",{"$f":"+IFERROR(INDEX(#REF!,MATCH(ROW()-ROW(AG$1),AC$2:AC$955,0)),\"\")","v":""},{"$nulls":3},{"$f":"+IF(AS296=\"\",\"\",MAX(AN$1:AN295)+1)","v":""},{"$f":"IF('Using CMS - Inop_OoC - CMS'!B318=\"\",\"\",'Using CMS - Inop_OoC - CMS'!B318)","v":""},{"$f":"IF('Using CMS - Inop_OoC - CMS'!C318=\"\",\"\",'Using CMS - Inop_OoC - CMS'!C318)","v":""},{"$f":"IF('Using CMS - Inop_OoC - CMS'!D318=\"\",\"\",'Using CMS - Inop_OoC - CMS'!D318)","v":""},{"$f":"AO296&AP296&Table10[[#This Row],[CMS]]","v":""},{"$f":"IF(COUNTIF(AR$2:AR296,AR296)=1,AR296,\"\")","v":""},"","","",null,{"$f":"+IF(BB296=\"\",\"\",MAX(AX$1:AX295)+1)","v":""},{"$f":"IF('Using CMS - Deviation - Limits'!B318=\"\",\"\",'Using CMS - Deviation - Limits'!B318)","v":""},{"$f":"IF('Using CMS - Deviation - Limits'!C318=\"\",\"\",'Using CMS - Deviation - Limits'!C318)","v":""},{"$f":"AY296&AZ296&Table10[[#This Row],[CMS]]","v":""},{"$f":"IF(COUNTIF(BA$2:BA296,BA296)=1,BA296,\"\")","v":""},"","",{"$f":"+IFERROR(INDEX(#REF!,MATCH(ROW()-ROW(BC$1),AX$2:AX$955,0)),\"\")","v":""}]
[{"$f":"+IF(D297=\"\",\"\",MAX(A$1:A296)+1)","v":""},{"$f":"IF('Process_&_CMS_Identification'!C319=\"\",\"\",'Process_&_CMS_Identification'!C319)","v":""},"",{"$f":"IF(COUNTIF(B$2:B297,B297)=1,B297,\"\")","v":""},{"$nulls":15},{"$f":"+IF(X297=\"\",\"\",MAX(T$1:T296)+1)","v":""},{"$f":"IF('No CMS - Deviation - Limits'!B319=\"\",\"\",'No CMS - Deviation - Limits'!B319)","v":""},{"$f":"IF('No CMS - Deviation - Limits'!C319=\"\",\"\",'No CMS - Deviation - Limits'!C319)","v":""},"",{"$f":"IF(COUNTIF(V$2:V297,V297)=1,V297,\"\")","v":""},"","",{"$f":"+IFERROR(INDEX(#REF!,MATCH(ROW()-ROW($Y$1),T$2:T$955,0)),\"\")","v":""},null,{"$f":"+IF(AG297=\"\",\"\",MAX(AC$1:AC296)+1)","v":""},{"$f":"IF('Using CMS - Deviation - Limits'!B319=\"\",\"\",'Using CMS - Deviation - Limits'!B319)","v":""},{"$f":"IF('Using CMS - Deviation - Limits'!C319=\"\",\"\",'Using CMS - Deviation - Limits'!C319)","v":""},"",{"$f":"IF(COUNTIF(AF$2:AF297,AF297)=1,AF297,\"\")","v":""},"","",{"$f":"+IFERROR(INDEX(#REF!,MATCH(ROW()-ROW(AG$1),AC$2:AC$955,0)),\"\")","v":""},{"$nulls":3},{"$f":"+IF(AS297=\"\",\"\",MAX(AN$1:AN296)+1)","v":""},{"$f":"IF('Using CMS - Inop_OoC - CMS'!B319=\"\",\"\",'Using CMS - Inop_OoC - CMS'!B319)","v":""},{"$f":"IF('Using CMS - Inop_OoC - CMS'!C319=\"\",\"\",'Using CMS - Inop_OoC - CMS'!C319)","v":""},{"$f":"IF('Using CMS - Inop_OoC - CMS'!D319=\"\",\"\",'Using CMS - Inop_OoC - CMS'!D319)","v":""},{"$f":"AO297&AP297&Table10[[#This Row],[CMS]]","v":""},{"$f":"IF(COUNTIF(AR$2:AR297,AR297)=1,AR297,\"\")","v":""},"","","",null,{"$f":"+IF(BB297=\"\",\"\",MAX(AX$1:AX296)+1)","v":""},{"$f":"IF('Using CMS - Deviation - Limits'!B319=\"\",\"\",'Using CMS - Deviation - Limits'!B319)","v":""},{"$f":"IF('Using CMS - Deviation - Limits'!C319=\"\",\"\",'Using CMS - Deviation - Limits'!C319)","v":""},{"$f":"AY297&AZ297&Table10[[#This Row],[CMS]]","v":""},{"$f":"IF(COUNTIF(BA$2:BA297,BA297)=1,BA297,\"\")","v":""},"","",{"$f":"+IFERROR(INDEX(#REF!,MATCH(ROW()-ROW(BC$1),AX$2:AX$955,0)),\"\")","v":""}]
[{"$f":"+IF(D298=\"\",\"\",MAX(A$1:A297)+1)","v":""},{"$f":"IF('Process_&_CMS_Identification'!C320=\"\",\"\",'Process_&_CMS_Identification'!C320)","v":""},"",{"$f":"IF(COUNTIF(B$2:B298,B298)=1,B298,\"\")","v":""},{"$nulls":15},{"$f":"+IF(X298=\"\",\"\",MAX(T$1:T297)+1)","v":""},{"$f":"IF('No CMS - Deviation - Limits'!B320=\"\",\"\",'No CMS - Deviation - Limits'!B320)","v":""},{"$f":"IF('No CMS - Deviation - Limits'!C320=\"\",\"\",'No CMS - Deviation - Limits'!C320)","v":""},"",{"$f":"IF(COUNTIF(V$2:V298,V298)=1,V298,\"\")","v":""},"","",{"$f":"+IFERROR(INDEX(#REF!,MATCH(ROW()-ROW($Y$1),T$2:T$955,0)),\"\")","v":""},null,{"$f":"+IF(AG298=\"\",\"\",MAX(AC$1:AC297)+1)","v":""},{"$f":"IF('Using CMS - Deviation - Limits'!B320=\"\",\"\",'Using CMS - Deviation - Limits'!B320)","v":""},{"$f":"IF('Using CMS - Deviation - Limits'!C320=\"\",\"\",'Using CMS - Deviation - Limits'!C320)","v":""},"",{"$f":"IF(COUNTIF(AF$2:AF298,AF298)=1,AF298,\"\")","v":""},"","",{"$f":"+IFERROR(INDEX(#REF!,MATCH(ROW()-ROW(AG$1),AC$2:AC$955,0)),\"\")","v":""},{"$nulls":3},{"$f":"+IF(AS298=\"\",\"\",MAX(AN$1:AN297)+1)","v":""},{"$f":"IF('Using CMS - Inop_OoC - CMS'!B320=\"\",\"\",'Using CMS - Inop_OoC - CMS'!B320)","v":""},{"$f":"IF('Using CMS - Inop_OoC - CMS'!C320=\"\",\"\",'Using CMS - Inop_OoC - CMS'!C320)","v":""},{"$f":"IF('Using CMS - Inop_OoC - CMS'!D320=\"\",\"\",'Using CMS - Inop_OoC - CMS'!D320)","v":""},{"$f":"AO298&AP298&Table10[[#This Row],[CMS]]","v":""},{"$f":"IF(COUNTIF(AR$2:AR298,AR298)=1,AR298,\"\")","v":""},"","","",null,{"$f":"+IF(BB298=\"\",\"\",MAX(AX$1:AX297)+1)","v":""},{"$f":"IF('Using CMS - Deviation - Limits'!B320=\"\",\"\",'Using CMS - Deviation - Limits'!B320)","v":""},{"$f":"IF('Using CMS - Deviation - Limits'!C320=\"\",\"\",'Using CMS - Deviation - Limits'!C320)","v":""},{"$f":"AY298&AZ298&Table10[[#This Row],[CMS]]","v":""},{"$f":"IF(COUNTIF(BA$2:BA298,BA298)=1,BA298,\"\")","v":""},"","",{"$f":"+IFERROR(INDEX(#REF!,MATCH(ROW()-ROW(BC$1),AX$2:AX$955,0)),\"\")","v":""}]
[{"$f":"+IF(D299=\"\",\"\",MAX(A$1:A298)+1)","v":""},{"$f":"IF('Process_&_CMS_Identification'!C321=\"\",\"\",'Process_&_CMS_Identification'!C321)","v":""},"",{"$f":"IF(COUNTIF(B$2:B299,B299)=1,B299,\"\")","v":""},{"$nulls":15},{"$f":"+IF(X299=\"\",\"\",MAX(T$1:T298)+1)","v":""},{"$f":"IF('No CMS - Deviation - Limits'!B321=\"\",\"\",'No CMS - Deviation - Limits'!B321)","v":""},{"$f":"IF('No CMS - Deviation - Limits'!C321=\"\",\"\",'No CMS - Deviation - Limits'!C321)","v":""},"",{"$f":"IF(COUNTIF(V$2:V299,V299)=1,V299,\"\")","v":""},"","",{"$f":"+IFERROR(INDEX(#REF!,MATCH(ROW()-ROW($Y$1),T$2:T$955,0)),\"\")","v":""},null,{"$f":"+IF(AG299=\"\",\"\",MAX(AC$1:AC298)+1)","v":""},{"$f":"IF('Using CMS - Deviation - Limits'!B321=\"\",\"\",'Using CMS - Deviation - Limits'!B321)","v":""},{"$f":"IF('Using CMS - Deviation - Limits'!C321=\"\",\"\",'Using CMS - Deviation - Limits'!C321)","v":""},"",{"$f":"IF(COUNTIF(AF$2:AF299,AF299)=1,AF299,\"\")","v":""},"","",{"$f":"+IFERROR(INDEX(#REF!,MATCH(ROW()-ROW(AG$1),AC$2:AC$955,0)),\"\")","v":""},{"$nulls":3},{"$f":"+IF(AS299=\"\",\"\",MAX(AN$1:AN298)+1)","v":""},{"$f":"IF('Using CMS - Inop_OoC - CMS'!B321=\"\",\"\",'Using CMS - Inop_OoC - CMS'!B321)","v":""},{"$f":"IF('Using CMS - Inop_OoC - CMS'!C321=\"\",\"\",'Using CMS - Inop_OoC - CMS'!C321)","v":""},{"$f":"IF('Using CMS - Inop_OoC - CMS'!D321=\"\",\"\",'Using CMS - Inop_OoC - CMS'!D321)","v":""},{"$f":"AO299&AP299&Table10[[#This Row],[CMS]]","v":""},{"$f":"IF(COUNTIF(AR$2:AR299,AR299)=1,AR299,\"\")","v":""},"","","",null,{"$f":"+IF(BB299=\"\",\"\",MAX(AX$1:AX298)+1)","v":""},{"$f":"IF('Using CMS - Deviation - Limits'!B321=\"\",\"\",'Using CMS - Deviation - Limits'!B321)","v":""},{"$f":"IF('Using CMS - Deviation - Limits'!C321=\"\",\"\",'Using CMS - Deviation - Limits'!C321)","v":""},{"$f":"AY299&AZ299&Table10[[#This Row],[CMS]]","v":""},{"$f":"IF(COUNTIF(BA$2:BA299,BA299)=1,BA299,\"\")","v":""},"","",{"$f":"+IFERROR(INDEX(#REF!,MATCH(ROW()-ROW(BC$1),AX$2:AX$955,0)),\"\")","v":""}]
[{"$f":"+IF(D300=\"\",\"\",MAX(A$1:A299)+1)","v":""},{"$f":"IF('Process_&_CMS_Identification'!C322=\"\",\"\",'Process_&_CMS_Identification'!C322)","v":""},"",{"$f":"IF(COUNTIF(B$2:B300,B300)=1,B300,\"\")","v":""},{"$nulls":15},{"$f":"+IF(X300=\"\",\"\",MAX(T$1:T299)+1)","v":""},{"$f":"IF('No CMS - Deviation - Limits'!B322=\"\",\"\",'No CMS - Deviation - Limits'!B322)","v":""},{"$f":"IF('No CMS - Deviation - Limits'!C322=\"\",\"\",'No CMS - Deviation - Limits'!C322)","v":""},"",{"$f":"IF(COUNTIF(V$2:V300,V300)=1,V300,\"\")","v":""},"","",{"$f":"+IFERROR(INDEX(#REF!,MATCH(ROW()-ROW($Y$1),T$2:T$955,0)),\"\")","v":""},null,{"$f":"+IF(AG300=\"\",\"\",MAX(AC$1:AC299)+1)","v":""},{"$f":"IF('Using CMS - Deviation - Limits'!B322=\"\",\"\",'Using CMS - Deviation - Limits'!B322)","v":""},{"$f":"IF('Using CMS - Deviation - Limits'!C322=\"\",\"\",'Using CMS - Deviation - Limits'!C322)","v":""},"",{"$f":"IF(COUNTIF(AF$2:AF300,AF300)=1,AF300,\"\")","v":""},"","",{"$f":"+IFERROR(INDEX(#REF!,MATCH(ROW()-ROW(AG$1),AC$2:AC$955,0)),\"\")","v":""},{"$nulls":3},{"$f":"+IF(AS300=\"\",\"\",MAX(AN$1:AN299)+1)","v":""},{"$f":"IF('Using CMS - Inop_OoC - CMS'!B322=\"\",\"\",'Using CMS - Inop_OoC - CMS'!B322)","v":""},{"$f":"IF('Using CMS - Inop_OoC - CMS'!C322=\"\",\"\",'Using CMS - Inop_OoC - CMS'!C322)","v":""},{"$f":"IF('Using CMS - Inop_OoC - CMS'!D322=\"\",\"\",'Using CMS - Inop_OoC - CMS'!D322)","v":""},{"$f":"AO300&AP300&Table10[[#This Row],[CMS]]","v":""},{"$f":"IF(COUNTIF(AR$2:AR300,AR300)=1,AR300,\"\")","v":""},"","","",null,{"$f":"+IF(BB300=\"\",\"\",MAX(AX$1:AX299)+1)","v":""},{"$f":"IF('Using CMS - Deviation - Limits'!B322=\"\",\"\",'Using CMS - Deviation - Limits'!B322)","v":""},{"$f":"IF('Using CMS - Deviation - Limits'!C322=\"\",\"\",'Using CMS - Deviation - Limits'!C322)","v":""},{"$f":"AY300&AZ300&Table10[[#This Row],[CMS]]","v":""},{"$f":"IF(COUNTIF(BA$2:BA300,BA300)=1,BA300,\"\")","v":""},"","",{"$f":"+IFERROR(INDEX(#REF!,MATCH(ROW()-ROW(BC$1),AX$2:AX$955,0)),\"\")","v":""}]
[{"$f":"+IF(D301=\"\",\"\",MAX(A$1:A300)+1)","v":""},{"$f":"IF('Process_&_CMS_Identification'!C323=\"\",\"\",'Process_&_CMS_Identification'!C323)","v":""},"",{"$f":"IF(COUNTIF(B$2:B301,B301)=1,B301,\"\")","v":""},{"$nulls":15},{"$f":"+IF(X301=\"\",\"\",MAX(T$1:T300)+1)","v":""},{"$f":"IF('No CMS - Deviation - Limits'!B323=\"\",\"\",'No CMS - Deviation - Limits'!B323)","v":""},{"$f":"IF('No CMS - Deviation - Limits'!C323=\"\",\"\",'No CMS - Deviation - Limits'!C323)","v":""},"",{"$f":"IF(COUNTIF(V$2:V301,V301)=1,V301,\"\")","v":""},"","",{"$f":"+IFERROR(INDEX(#REF!,MATCH(ROW()-ROW($Y$1),T$2:T$955,0)),\"\")","v":""},null,{"$f":"+IF(AG301=\"\",\"\",MAX(AC$1:AC300)+1)","v":""},{"$f":"IF('Using CMS - Deviation - Limits'!B323=\"\",\"\",'Using CMS - Deviation - Limits'!B323)","v":""},{"$f":"IF('Using CMS - Deviation - Limits'!C323=\"\",\"\",'Using CMS - Deviation - Limits'!C323)","v":""},"",{"$f":"IF(COUNTIF(AF$2:AF301,AF301)=1,AF301,\"\")","v":""},"","",{"$f":"+IFERROR(INDEX(#REF!,MATCH(ROW()-ROW(AG$1),AC$2:AC$955,0)),\"\")","v":""},{"$nulls":3},{"$f":"+IF(AS301=\"\",\"\",MAX(AN$1:AN300)+1)","v":""},{"$f":"IF('Using CMS - Inop_OoC - CMS'!B323=\"\",\"\",'Using CMS - Inop_OoC - CMS'!B323)","v":""},{"$f":"IF('Using CMS - Inop_OoC - CMS'!C323=\"\",\"\",'Using CMS - Inop_OoC - CMS'!C323)","v":""},{"$f":"IF('Using CMS - Inop_OoC - CMS'!D323=\"\",\"\",'Using CMS - Inop_OoC - CMS'!D323)","v":""},{"$f":"AO301&AP301&Table10[[#This Row],[CMS]]","v":""},{"$f":"IF(COUNTIF(AR$2:AR301,AR301)=1,AR301,\"\")","v":""},"","","",null,{"$f":"+IF(BB301=\"\",\"\",MAX(AX$1:AX300)+1)","v":""},{"$f":"IF('Using CMS - Deviation - Limits'!B323=\"\",\"\",'Using CMS - Deviation - Limits'!B323)","v":""},{"$f":"IF('Using CMS - Deviation - Limits'!C323=\"\",\"\",'Using CMS - Deviation - Limits'!C323)","v":""},{"$f":"AY301&AZ301&Table10[[#This Row],[CMS]]","v":""},{"$f":"IF(COUNTIF(BA$2:BA301,BA301)=1,BA301,\"\")","v":""},"","",{"$f":"+IFERROR(INDEX(#REF!,MATCH(ROW()-ROW(BC$1),AX$2:AX$955,0)),\"\")","v":""}]
[{"$f":"+IF(D302=\"\",\"\",MAX(A$1:A301)+1)","v":""},{"$f":"IF('Process_&_CMS_Identification'!C324=\"\",\"\",'Process_&_CMS_Identification'!C324)","v":""},"",{"$f":"IF(COUNTIF(B$2:B302,B302)=1,B302,\"\")","v":""},{"$nulls":15},{"$f":"+IF(X302=\"\",\"\",MAX(T$1:T301)+1)","v":""},{"$f":"IF('No CMS - Deviation - Limits'!B324=\"\",\"\",'No CMS - Deviation - Limits'!B324)","v":""},{"$f":"IF('No CMS - Deviation - Limits'!C324=\"\",\"\",'No CMS - Deviation - Limits'!C324)","v":""},"",{"$f":"IF(COUNTIF(V$2:V302,V302)=1,V302,\"\")","v":""},"","",{"$f":"+IFERROR(INDEX(#REF!,MATCH(ROW()-ROW($Y$1),T$2:T$955,0)),\"\")","v":""},null,{"$f":"+IF(AG302=\"\",\"\",MAX(AC$1:AC301)+1)","v":""},{"$f":"IF('Using CMS - Deviation - Limits'!B324=\"\",\"\",'Using CMS - Deviation - Limits'!B324)","v":""},{"$f":"IF('Using CMS - Deviation - Limits'!C324=\"\",\"\",'Using CMS - Deviation - Limits'!C324)","v":""},"",{"$f":"IF(COUNTIF(AF$2:AF302,AF302)=1,AF302,\"\")","v":""},"","",{"$f":"+IFERROR(INDEX(#REF!,MATCH(ROW()-ROW(AG$1),AC$2:AC$955,0)),\"\")","v":""},{"$nulls":3},{"$f":"+IF(AS302=\"\",\"\",MAX(AN$1:AN301)+1)","v":""},{"$f":"IF('Using CMS - Inop_OoC - CMS'!B324=\"\",\"\",'Using CMS - Inop_OoC - CMS'!B324)","v":""},{"$f":"IF('Using CMS - Inop_OoC - CMS'!C324=\"\",\"\",'Using CMS - Inop_OoC - CMS'!C324)","v":""},{"$f":"IF('Using CMS - Inop_OoC - CMS'!D324=\"\",\"\",'Using CMS - Inop_OoC - CMS'!D324)","v":""},{"$f":"AO302&AP302&Table10[[#This Row],[CMS]]","v":""},{"$f":"IF(COUNTIF(AR$2:AR302,AR302)=1,AR302,\"\")","v":""},"","","",null,{"$f":"+IF(BB302=\"\",\"\",MAX(AX$1:AX301)+1)","v":""},{"$f":"IF('Using CMS - Deviation - Limits'!B324=\"\",\"\",'Using CMS - Deviation - Limits'!B324)","v":""},{"$f":"IF('Using CMS - Deviation - Limits'!C324=\"\",\"\",'Using CMS - Deviation - Limits'!C324)","v":""},{"$f":"AY302&AZ302&Table10[[#This Row],[CMS]]","v":""},{"$f":"IF(COUNTIF(BA$2:BA302,BA302)=1,BA302,\"\")","v":""},"","",{"$f":"+IFERROR(INDEX(#REF!,MATCH(ROW()-ROW(BC$1),AX$2:AX$955,0)),\"\")","v":""}]
[{"$f":"+IF(D303=\"\",\"\",MAX(A$1:A302)+1)","v":""},{"$f":"IF('Process_&_CMS_Identification'!C325=\"\",\"\",'Process_&_CMS_Identification'!C325)","v":""},"",{"$f":"IF(COUNTIF(B$2:B303,B303)=1,B303,\"\")","v":""},{"$nulls":15},{"$f":"+IF(X303=\"\",\"\",MAX(T$1:T302)+1)","v":""},{"$f":"IF('No CMS - Deviation - Limits'!B325=\"\",\"\",'No CMS - Deviation - Limits'!B325)","v":""},{"$f":"IF('No CMS - Deviation - Limits'!C325=\"\",\"\",'No CMS - Deviation - Limits'!C325)","v":""},"",{"$f":"IF(COUNTIF(V$2:V303,V303)=1,V303,\"\")","v":""},"","",{"$f":"+IFERROR(INDEX(#REF!,MATCH(ROW()-ROW($Y$1),T$2:T$955,0)),\"\")","v":""},null,{"$f":"+IF(AG303=\"\",\"\",MAX(AC$1:AC302)+1)","v":""},{"$f":"IF('Using CMS - Deviation - Limits'!B325=\"\",\"\",'Using CMS - Deviation - Limits'!B325)","v":""},{"$f":"IF('Using CMS - Deviation - Limits'!C325=\"\",\"\",'Using CMS - Deviation - Limits'!C325)","v":""},"",{"$f":"IF(COUNTIF(AF$2:AF303,AF303)=1,AF303,\"\")","v":""},"","",{"$f":"+IFERROR(INDEX(#REF!,MATCH(ROW()-ROW(AG$1),AC$2:AC$955,0)),\"\")","v":""},{"$nulls":3},{"$f":"+IF(AS303=\"\",\"\",MAX(AN$1:AN302)+1)","v":""},{"$f":"IF('Using CMS - Inop_OoC - CMS'!B325=\"\",\"\",'Using CMS - Inop_OoC - CMS'!B325)","v":""},{"$f":"IF('Using CMS - Inop_OoC - CMS'!C325=\"\",\"\",'Using CMS - Inop_OoC - CMS'!C325)","v":""},{"$f":"IF('Using CMS - Inop_OoC - CMS'!D325=\"\",\"\",'Using CMS - Inop_OoC - CMS'!D325)","v":""},{"$f":"AO303&AP303&Table10[[#This Row],[CMS]]","v":""},{"$f":"IF(COUNTIF(AR$2:AR303,AR303)=1,AR303,\"\")","v":""},"","","",null,{"$f":"+IF(BB303=\"\",\"\",MAX(AX$1:AX302)+1)","v":""},{"$f":"IF('Using CMS - Deviation - Limits'!B325=\"\",\"\",'Using CMS - Deviation - Limits'!B325)","v":""},{"$f":"IF('Using CMS - Deviation - Limits'!C325=\"\",\"\",'Using CMS - Deviation - Limits'!C325)","v":""},{"$f":"AY303&AZ303&Table10[[#This Row],[CMS]]","v":""},{"$f":"IF(COUNTIF(BA$2:BA303,BA303)=1,BA303,\"\")","v":""},"","",{"$f":"+IFERROR(INDEX(#REF!,MATCH(ROW()-ROW(BC$1),AX$2:AX$955,0)),\"\")","v":""}]
[{"$f":"+IF(D304=\"\",\"\",MAX(A$1:A303)+1)","v":""},{"$f":"IF('Process_&_CMS_Identification'!C326=\"\",\"\",'Process_&_CMS_Identification'!C326)","v":""},"",{"$f":"IF(COUNTIF(B$2:B304,B304)=1,B304,\"\")","v":""},{"$nulls":15},{"$f":"+IF(X304=\"\",\"\",MAX(T$1:T303)+1)","v":""},{"$f":"IF('No CMS - Deviation - Limits'!B326=\"\",\"\",'No CMS - Deviation - Limits'!B326)","v":""},{"$f":"IF('No CMS - Deviation - Limits'!C326=\"\",\"\",'No CMS - Deviation - Limits'!C326)","v":""},"",{"$f":"IF(COUNTIF(V$2:V304,V304)=1,V304,\"\")","v":""},"","",{"$f":"+IFERROR(INDEX(#REF!,MATCH(ROW()-ROW($Y$1),T$2:T$955,0)),\"\")","v":""},null,{"$f":"+IF(AG304=\"\",\"\",MAX(AC$1:AC303)+1)","v":""},{"$f":"IF('Using CMS - Deviation - Limits'!B326=\"\",\"\",'Using CMS - Deviation - Limits'!B326)","v":""},{"$f":"IF('Using CMS - Deviation - Limits'!C326=\"\",\"\",'Using CMS - Deviation - Limits'!C326)","v":""},"",{"$f":"IF(COUNTIF(AF$2:AF304,AF304)=1,AF304,\"\")","v":""},"","",{"$f":"+IFERROR(INDEX(#REF!,MATCH(ROW()-ROW(AG$1),AC$2:AC$955,0)),\"\")","v":""},{"$nulls":3},{"$f":"+IF(AS304=\"\",\"\",MAX(AN$1:AN303)+1)","v":""},{"$f":"IF('Using CMS - Inop_OoC - CMS'!B326=\"\",\"\",'Using CMS - Inop_OoC - CMS'!B326)","v":""},{"$f":"IF('Using CMS - Inop_OoC - CMS'!C326=\"\",\"\",'Using CMS - Inop_OoC - CMS'!C326)","v":""},{"$f":"IF('Using CMS - Inop_OoC - CMS'!D326=\"\",\"\",'Using CMS - Inop_OoC - CMS'!D326)","v":""},{"$f":"AO304&AP304&Table10[[#This Row],[CMS]]","v":""},{"$f":"IF(COUNTIF(AR$2:AR304,AR304)=1,AR304,\"\")","v":""},"","","",null,{"$f":"+IF(BB304=\"\",\"\",MAX(AX$1:AX303)+1)","v":""},{"$f":"IF('Using CMS - Deviation - Limits'!B326=\"\",\"\",'Using CMS - Deviation - Limits'!B326)","v":""},{"$f":"IF('Using CMS - Deviation - Limits'!C326=\"\",\"\",'Using CMS - Deviation - Limits'!C326)","v":""},{"$f":"AY304&AZ304&Table10[[#This Row],[CMS]]","v":""},{"$f":"IF(COUNTIF(BA$2:BA304,BA304)=1,BA304,\"\")","v":""},"","",{"$f":"+IFERROR(INDEX(#REF!,MATCH(ROW()-ROW(BC$1),AX$2:AX$955,0)),\"\")","v":""}]
[{"$f":"+IF(D305=\"\",\"\",MAX(A$1:A304)+1)","v":""},{"$f":"IF('Process_&_CMS_Identification'!C327=\"\",\"\",'Process_&_CMS_Identification'!C327)","v":""},"",{"$f":"IF(COUNTIF(B$2:B305,B305)=1,B305,\"\")","v":""},{"$nulls":15},{"$f":"+IF(X305=\"\",\"\",MAX(T$1:T304)+1)","v":""},{"$f":"IF('No CMS - Deviation - Limits'!B327=\"\",\"\",'No CMS - Deviation - Limits'!B327)","v":""},{"$f":"IF('No CMS - Deviation - Limits'!C327=\"\",\"\",'No CMS - Deviation - Limits'!C327)","v":""},"",{"$f":"IF(COUNTIF(V$2:V305,V305)=1,V305,\"\")","v":""},"","",{"$f":"+IFERROR(INDEX(#REF!,MATCH(ROW()-ROW($Y$1),T$2:T$955,0)),\"\")","v":""},null,{"$f":"+IF(AG305=\"\",\"\",MAX(AC$1:AC304)+1)","v":""},{"$f":"IF('Using CMS - Deviation - Limits'!B327=\"\",\"\",'Using CMS - Deviation - Limits'!B327)","v":""},{"$f":"IF('Using CMS - Deviation - Limits'!C327=\"\",\"\",'Using CMS - Deviation - Limits'!C327)","v":""},"",{"$f":"IF(COUNTIF(AF$2:AF305,AF305)=1,AF305,\"\")","v":""},"","",{"$f":"+IFERROR(INDEX(#REF!,MATCH(ROW()-ROW(AG$1),AC$2:AC$955,0)),\"\")","v":""},{"$nulls":3},{"$f":"+IF(AS305=\"\",\"\",MAX(AN$1:AN304)+1)","v":""},{"$f":"IF('Using CMS - Inop_OoC - CMS'!B327=\"\",\"\",'Using CMS - Inop_OoC - CMS'!B327)","v":""},{"$f":"IF('Using CMS - Inop_OoC - CMS'!C327=\"\",\"\",'Using CMS - Inop_OoC - CMS'!C327)","v":""},{"$f":"IF('Using CMS - Inop_OoC - CMS'!D327=\"\",\"\",'Using CMS - Inop_OoC - CMS'!D327)","v":""},{"$f":"AO305&AP305&Table10[[#This Row],[CMS]]","v":""},{"$f":"IF(COUNTIF(AR$2:AR305,AR305)=1,AR305,\"\")","v":""},"","","",null,{"$f":"+IF(BB305=\"\",\"\",MAX(AX$1:AX304)+1)","v":""},{"$f":"IF('Using CMS - Deviation - Limits'!B327=\"\",\"\",'Using CMS - Deviation - Limits'!B327)","v":""},{"$f":"IF('Using CMS - Deviation - Limits'!C327=\"\",\"\",'Using CMS - Deviation - Limits'!C327)","v":""},{"$f":"AY305&AZ305&Table10[[#This Row],[CMS]]","v":""},{"$f":"IF(COUNTIF(BA$2:BA305,BA305)=1,BA305,\"\")","v":""},"","",{"$f":"+IFERROR(INDEX(#REF!,MATCH(ROW()-ROW(BC$1),AX$2:AX$955,0)),\"\")","v":""}]
[{"$f":"+IF(D306=\"\",\"\",MAX(A$1:A305)+1)","v":""},{"$f":"IF('Process_&_CMS_Identification'!C328=\"\",\"\",'Process_&_CMS_Identification'!C328)","v":""},"",{"$f":"IF(COUNTIF(B$2:B306,B306)=1,B306,\"\")","v":""},{"$nulls":15},{"$f":"+IF(X306=\"\",\"\",MAX(T$1:T305)+1)","v":""},{"$f":"IF('No CMS - Deviation - Limits'!B328=\"\",\"\",'No CMS - Deviation - Limits'!B328)","v":""},{"$f":"IF('No CMS - Deviation - Limits'!C328=\"\",\"\",'No CMS - Deviation - Limits'!C328)","v":""},"",{"$f":"IF(COUNTIF(V$2:V306,V306)=1,V306,\"\")","v":""},"","",{"$f":"+IFERROR(INDEX(#REF!,MATCH(ROW()-ROW($Y$1),T$2:T$955,0)),\"\")","v":""},null,{"$f":"+IF(AG306=\"\",\"\",MAX(AC$1:AC305)+1)","v":""},{"$f":"IF('Using CMS - Deviation - Limits'!B328=\"\",\"\",'Using CMS - Deviation - Limits'!B328)","v":""},{"$f":"IF('Using CMS - Deviation - Limits'!C328=\"\",\"\",'Using CMS - Deviation - Limits'!C328)","v":""},"",{"$f":"IF(COUNTIF(AF$2:AF306,AF306)=1,AF306,\"\")","v":""},"","",{"$f":"+IFERROR(INDEX(#REF!,MATCH(ROW()-ROW(AG$1),AC$2:AC$955,0)),\"\")","v":""},{"$nulls":3},{"$f":"+IF(AS306=\"\",\"\",MAX(AN$1:AN305)+1)","v":""},{"$f":"IF('Using CMS - Inop_OoC - CMS'!B328=\"\",\"\",'Using CMS - Inop_OoC - CMS'!B328)","v":""},{"$f":"IF('Using CMS - Inop_OoC - CMS'!C328=\"\",\"\",'Using CMS - Inop_OoC - CMS'!C328)","v":""},{"$f":"IF('Using CMS - Inop_OoC - CMS'!D328=\"\",\"\",'Using CMS - Inop_OoC - CMS'!D328)","v":""},{"$f":"AO306&AP306&Table10[[#This Row],[CMS]]","v":""},{"$f":"IF(COUNTIF(AR$2:AR306,AR306)=1,AR306,\"\")","v":""},"","","",null,{"$f":"+IF(BB306=\"\",\"\",MAX(AX$1:AX305)+1)","v":""},{"$f":"IF('Using CMS - Deviation - Limits'!B328=\"\",\"\",'Using CMS - Deviation - Limits'!B328)","v":""},{"$f":"IF('Using CMS - Deviation - Limits'!C328=\"\",\"\",'Using CMS - Deviation - Limits'!C328)","v":""},{"$f":"AY306&AZ306&Table10[[#This Row],[CMS]]","v":""},{"$f":"IF(COUNTIF(BA$2:BA306,BA306)=1,BA306,\"\")","v":""},"","",{"$f":"+IFERROR(INDEX(#REF!,MATCH(ROW()-ROW(BC$1),AX$2:AX$955,0)),\"\")","v":""}]
[{"$f":"+IF(D307=\"\",\"\",MAX(A$1:A306)+1)","v":""},{"$f":"IF('Process_&_CMS_Identification'!C329=\"\",\"\",'Process_&_CMS_Identification'!C329)","v":""},"",{"$f":"IF(COUNTIF(B$2:B307,B307)=1,B307,\"\")","v":""},{"$nulls":15},{"$f":"+IF(X307=\"\",\"\",MAX(T$1:T306)+1)","v":""},{"$f":"IF('No CMS - Deviation - Limits'!B329=\"\",\"\",'No CMS - Deviation - Limits'!B329)","v":""},{"$f":"IF('No CMS - Deviation - Limits'!C329=\"\",\"\",'No CMS - Deviation - Limits'!C329)","v":""},"",{"$f":"IF(COUNTIF(V$2:V307,V307)=1,V307,\"\")","v":""},"","",{"$f":"+IFERROR(INDEX(#REF!,MATCH(ROW()-ROW($Y$1),T$2:T$955,0)),\"\")","v":""},null,{"$f":"+IF(AG307=\"\",\"\",MAX(AC$1:AC306)+1)","v":""},{"$f":"IF('Using CMS - Deviation - Limits'!B329=\"\",\"\",'Using CMS - Deviation - Limits'!B329)","v":""},{"$f":"IF('Using CMS - Deviation - Limits'!C329=\"\",\"\",'Using CMS - Deviation - Limits'!C329)","v":""},"",{"$f":"IF(COUNTIF(AF$2:AF307,AF307)=1,AF307,\"\")","v":""},"","",{"$f":"+IFERROR(INDEX(#REF!,MATCH(ROW()-ROW(AG$1),AC$2:AC$955,0)),\"\")","v":""},{"$nulls":3},{"$f":"+IF(AS307=\"\",\"\",MAX(AN$1:AN306)+1)","v":""},{"$f":"IF('Using CMS - Inop_OoC - CMS'!B329=\"\",\"\",'Using CMS - Inop_OoC - CMS'!B329)","v":""},{"$f":"IF('Using CMS - Inop_OoC - CMS'!C329=\"\",\"\",'Using CMS - Inop_OoC - CMS'!C329)","v":""},{"$f":"IF('Using CMS - Inop_OoC - CMS'!D329=\"\",\"\",'Using CMS - Inop_OoC - CMS'!D329)","v":""},{"$f":"AO307&AP307&Table10[[#This Row],[CMS]]","v":""},{"$f":"IF(COUNTIF(AR$2:AR307,AR307)=1,AR307,\"\")","v":""},"","","",null,{"$f":"+IF(BB307=\"\",\"\",MAX(AX$1:AX306)+1)","v":""},{"$f":"IF('Using CMS - Deviation - Limits'!B329=\"\",\"\",'Using CMS - Deviation - Limits'!B329)","v":""},{"$f":"IF('Using CMS - Deviation - Limits'!C329=\"\",\"\",'Using CMS - Deviation - Limits'!C329)","v":""},{"$f":"AY307&AZ307&Table10[[#This Row],[CMS]]","v":""},{"$f":"IF(COUNTIF(BA$2:BA307,BA307)=1,BA307,\"\")","v":""},"","",{"$f":"+IFERROR(INDEX(#REF!,MATCH(ROW()-ROW(BC$1),AX$2:AX$955,0)),\"\")","v":""}]
[{"$f":"+IF(D308=\"\",\"\",MAX(A$1:A307)+1)","v":""},{"$f":"IF('Process_&_CMS_Identification'!C330=\"\",\"\",'Process_&_CMS_Identification'!C330)","v":""},"",{"$f":"IF(COUNTIF(B$2:B308,B308)=1,B308,\"\")","v":""},{"$nulls":15},{"$f":"+IF(X308=\"\",\"\",MAX(T$1:T307)+1)","v":""},{"$f":"IF('No CMS - Deviation - Limits'!B330=\"\",\"\",'No CMS - Deviation - Limits'!B330)","v":""},{"$f":"IF('No CMS - Deviation - Limits'!C330=\"\",\"\",'No CMS - Deviation - Limits'!C330)","v":""},"",{"$f":"IF(COUNTIF(V$2:V308,V308)=1,V308,\"\")","v":""},"","",{"$f":"+IFERROR(INDEX(#REF!,MATCH(ROW()-ROW($Y$1),T$2:T$955,0)),\"\")","v":""},null,{"$f":"+IF(AG308=\"\",\"\",MAX(AC$1:AC307)+1)","v":""},{"$f":"IF('Using CMS - Deviation - Limits'!B330=\"\",\"\",'Using CMS - Deviation - Limits'!B330)","v":""},{"$f":"IF('Using CMS - Deviation - Limits'!C330=\"\",\"\",'Using CMS - Deviation - Limits'!C330)","v":""},"",{"$f":"IF(COUNTIF(AF$2:AF308,AF308)=1,AF308,\"\")","v":""},"","",{"$f":"+IFERROR(INDEX(#REF!,MATCH(ROW()-ROW(AG$1),AC$2:AC$955,0)),\"\")","v":""},{"$nulls":3},{"$f":"+IF(AS308=\"\",\"\",MAX(AN$1:AN307)+1)","v":""},{"$f":"IF('Using CMS - Inop_OoC - CMS'!B330=\"\",\"\",'Using CMS - Inop_OoC - CMS'!B330)","v":""},{"$f":"IF('Using CMS - Inop_OoC - CMS'!C330=\"\",\"\",'Using CMS - Inop_OoC - CMS'!C330)","v":""},{"$f":"IF('Using CMS - Inop_OoC - CMS'!D330=\"\",\"\",'Using CMS - Inop_OoC - CMS'!D330)","v":""},{"$f":"AO308&AP308&Table10[[#This Row],[CMS]]","v":""},{"$f":"IF(COUNTIF(AR$2:AR308,AR308)=1,AR308,\"\")","v":""},"","","",null,{"$f":"+IF(BB308=\"\",\"\",MAX(AX$1:AX307)+1)","v":""},{"$f":"IF('Using CMS - Deviation - Limits'!B330=\"\",\"\",'Using CMS - Deviation - Limits'!B330)","v":""},{"$f":"IF('Using CMS - Deviation - Limits'!C330=\"\",\"\",'Using CMS - Deviation - Limits'!C330)","v":""},{"$f":"AY308&AZ308&Table10[[#This Row],[CMS]]","v":""},{"$f":"IF(COUNTIF(BA$2:BA308,BA308)=1,BA308,\"\")","v":""},"","",{"$f":"+IFERROR(INDEX(#REF!,MATCH(ROW()-ROW(BC$1),AX$2:AX$955,0)),\"\")","v":""}]
[{"$f":"+IF(D309=\"\",\"\",MAX(A$1:A308)+1)","v":""},{"$f":"IF('Process_&_CMS_Identification'!C331=\"\",\"\",'Process_&_CMS_Identification'!C331)","v":""},"",{"$f":"IF(COUNTIF(B$2:B309,B309)=1,B309,\"\")","v":""},{"$nulls":15},{"$f":"+IF(X309=\"\",\"\",MAX(T$1:T308)+1)","v":""},{"$f":"IF('No CMS - Deviation - Limits'!B331=\"\",\"\",'No CMS - Deviation - Limits'!B331)","v":""},{"$f":"IF('No CMS - Deviation - Limits'!C331=\"\",\"\",'No CMS - Deviation - Limits'!C331)","v":""},"",{"$f":"IF(COUNTIF(V$2:V309,V309)=1,V309,\"\")","v":""},"","",{"$f":"+IFERROR(INDEX(#REF!,MATCH(ROW()-ROW($Y$1),T$2:T$955,0)),\"\")","v":""},null,{"$f":"+IF(AG309=\"\",\"\",MAX(AC$1:AC308)+1)","v":""},{"$f":"IF('Using CMS - Deviation - Limits'!B331=\"\",\"\",'Using CMS - Deviation - Limits'!B331)","v":""},{"$f":"IF('Using CMS - Deviation - Limits'!C331=\"\",\"\",'Using CMS - Deviation - Limits'!C331)","v":""},"",{"$f":"IF(COUNTIF(AF$2:AF309,AF309)=1,AF309,\"\")","v":""},"","",{"$f":"+IFERROR(INDEX(#REF!,MATCH(ROW()-ROW(AG$1),AC$2:AC$955,0)),\"\")","v":""},{"$nulls":3},{"$f":"+IF(AS309=\"\",\"\",MAX(AN$1:AN308)+1)","v":""},{"$f":"IF('Using CMS - Inop_OoC - CMS'!B331=\"\",\"\",'Using CMS - Inop_OoC - CMS'!B331)","v":""},{"$f":"IF('Using CMS - Inop_OoC - CMS'!C331=\"\",\"\",'Using CMS - Inop_OoC - CMS'!C331)","v":""},{"$f":"IF('Using CMS - Inop_OoC - CMS'!D331=\"\",\"\",'Using CMS - Inop_OoC - CMS'!D331)","v":""},{"$f":"AO309&AP309&Table10[[#This Row],[CMS]]","v":""},{"$f":"IF(COUNTIF(AR$2:AR309,AR309)=1,AR309,\"\")","v":""},"","","",null,{"$f":"+IF(BB309=\"\",\"\",MAX(AX$1:AX308)+1)","v":""},{"$f":"IF('Using CMS - Deviation - Limits'!B331=\"\",\"\",'Using CMS - Deviation - Limits'!B331)","v":""},{"$f":"IF('Using CMS - Deviation - Limits'!C331=\"\",\"\",'Using CMS - Deviation - Limits'!C331)","v":""},{"$f":"AY309&AZ309&Table10[[#This Row],[CMS]]","v":""},{"$f":"IF(COUNTIF(BA$2:BA309,BA309)=1,BA309,\"\")","v":""},"","",{"$f":"+IFERROR(INDEX(#REF!,MATCH(ROW()-ROW(BC$1),AX$2:AX$955,0)),\"\")","v":""}]
[{"$f":"+IF(D310=\"\",\"\",MAX(A$1:A309)+1)","v":""},{"$f":"IF('Process_&_CMS_Identification'!C332=\"\",\"\",'Process_&_CMS_Identification'!C332)","v":""},"",{"$f":"IF(COUNTIF(B$2:B310,B310)=1,B310,\"\")","v":""},{"$nulls":15},{"$f":"+IF(X310=\"\",\"\",MAX(T$1:T309)+1)","v":""},{"$f":"IF('No CMS - Deviation - Limits'!B332=\"\",\"\",'No CMS - Deviation - Limits'!B332)","v":""},{"$f":"IF('No CMS - Deviation - Limits'!C332=\"\",\"\",'No CMS - Deviation - Limits'!C332)","v":""},"",{"$f":"IF(COUNTIF(V$2:V310,V310)=1,V310,\"\")","v":""},"","",{"$f":"+IFERROR(INDEX(#REF!,MATCH(ROW()-ROW($Y$1),T$2:T$955,0)),\"\")","v":""},null,{"$f":"+IF(AG310=\"\",\"\",MAX(AC$1:AC309)+1)","v":""},{"$f":"IF('Using CMS - Deviation - Limits'!B332=\"\",\"\",'Using CMS - Deviation - Limits'!B332)","v":""},{"$f":"IF('Using CMS - Deviation - Limits'!C332=\"\",\"\",'Using CMS - Deviation - Limits'!C332)","v":""},"",{"$f":"IF(COUNTIF(AF$2:AF310,AF310)=1,AF310,\"\")","v":""},"","",{"$f":"+IFERROR(INDEX(#REF!,MATCH(ROW()-ROW(AG$1),AC$2:AC$955,0)),\"\")","v":""},{"$nulls":3},{"$f":"+IF(AS310=\"\",\"\",MAX(AN$1:AN309)+1)","v":""},{"$f":"IF('Using CMS - Inop_OoC - CMS'!B332=\"\",\"\",'Using CMS - Inop_OoC - CMS'!B332)","v":""},{"$f":"IF('Using CMS - Inop_OoC - CMS'!C332=\"\",\"\",'Using CMS - Inop_OoC - CMS'!C332)","v":""},{"$f":"IF('Using CMS - Inop_OoC - CMS'!D332=\"\",\"\",'Using CMS - Inop_OoC - CMS'!D332)","v":""},{"$f":"AO310&AP310&Table10[[#This Row],[CMS]]","v":""},{"$f":"IF(COUNTIF(AR$2:AR310,AR310)=1,AR310,\"\")","v":""},"","","",null,{"$f":"+IF(BB310=\"\",\"\",MAX(AX$1:AX309)+1)","v":""},{"$f":"IF('Using CMS - Deviation - Limits'!B332=\"\",\"\",'Using CMS - Deviation - Limits'!B332)","v":""},{"$f":"IF('Using CMS - Deviation - Limits'!C332=\"\",\"\",'Using CMS - Deviation - Limits'!C332)","v":""},{"$f":"AY310&AZ310&Table10[[#This Row],[CMS]]","v":""},{"$f":"IF(COUNTIF(BA$2:BA310,BA310)=1,BA310,\"\")","v":""},"","",{"$f":"+IFERROR(INDEX(#REF!,MATCH(ROW()-ROW(BC$1),AX$2:AX$955,0)),\"\")","v":""}]
[{"$f":"+IF(D311=\"\",\"\",MAX(A$1:A310)+1)","v":""},{"$f":"IF('Process_&_CMS_Identification'!C333=\"\",\"\",'Process_&_CMS_Identification'!C333)","v":""},"",{"$f":"IF(COUNTIF(B$2:B311,B311)=1,B311,\"\")","v":""},{"$nulls":15},{"$f":"+IF(X311=\"\",\"\",MAX(T$1:T310)+1)","v":""},{"$f":"IF('No CMS - Deviation - Limits'!B333=\"\",\"\",'No CMS - Deviation - Limits'!B333)","v":""},{"$f":"IF('No CMS - Deviation - Limits'!C333=\"\",\"\",'No CMS - Deviation - Limits'!C333)","v":""},"",{"$f":"IF(COUNTIF(V$2:V311,V311)=1,V311,\"\")","v":""},"","",{"$f":"+IFERROR(INDEX(#REF!,MATCH(ROW()-ROW($Y$1),T$2:T$955,0)),\"\")","v":""},null,{"$f":"+IF(AG311=\"\",\"\",MAX(AC$1:AC310)+1)","v":""},{"$f":"IF('Using CMS - Deviation - Limits'!B333=\"\",\"\",'Using CMS - Deviation - Limits'!B333)","v":""},{"$f":"IF('Using CMS - Deviation - Limits'!C333=\"\",\"\",'Using CMS - Deviation - Limits'!C333)","v":""},"",{"$f":"IF(COUNTIF(AF$2:AF311,AF311)=1,AF311,\"\")","v":""},"","",{"$f":"+IFERROR(INDEX(#REF!,MATCH(ROW()-ROW(AG$1),AC$2:AC$955,0)),\"\")","v":""},{"$nulls":3},{"$f":"+IF(AS311=\"\",\"\",MAX(AN$1:AN310)+1)","v":""},{"$f":"IF('Using CMS - Inop_OoC - CMS'!B333=\"\",\"\",'Using CMS - Inop_OoC - CMS'!B333)","v":""},{"$f":"IF('Using CMS - Inop_OoC - CMS'!C333=\"\",\"\",'Using CMS - Inop_OoC - CMS'!C333)","v":""},{"$f":"IF('Using CMS - Inop_OoC - CMS'!D333=\"\",\"\",'Using CMS - Inop_OoC - CMS'!D333)","v":""},{"$f":"AO311&AP311&Table10[[#This Row],[CMS]]","v":""},{"$f":"IF(COUNTIF(AR$2:AR311,AR311)=1,AR311,\"\")","v":""},"","","",null,{"$f":"+IF(BB311=\"\",\"\",MAX(AX$1:AX310)+1)","v":""},{"$f":"IF('Using CMS - Deviation - Limits'!B333=\"\",\"\",'Using CMS - Deviation - Limits'!B333)","v":""},{"$f":"IF('Using CMS - Deviation - Limits'!C333=\"\",\"\",'Using CMS - Deviation - Limits'!C333)","v":""},{"$f":"AY311&AZ311&Table10[[#This Row],[CMS]]","v":""},{"$f":"IF(COUNTIF(BA$2:BA311,BA311)=1,BA311,\"\")","v":""},"","",{"$f":"+IFERROR(INDEX(#REF!,MATCH(ROW()-ROW(BC$1),AX$2:AX$955,0)),\"\")","v":""}]
[{"$f":"+IF(D312=\"\",\"\",MAX(A$1:A311)+1)","v":""},{"$f":"IF('Process_&_CMS_Identification'!C334=\"\",\"\",'Process_&_CMS_Identification'!C334)","v":""},"",{"$f":"IF(COUNTIF(B$2:B312,B312)=1,B312,\"\")","v":""},{"$nulls":15},{"$f":"+IF(X312=\"\",\"\",MAX(T$1:T311)+1)","v":""},{"$f":"IF('No CMS - Deviation - Limits'!B334=\"\",\"\",'No CMS - Deviation - Limits'!B334)","v":""},{"$f":"IF('No CMS - Deviation - Limits'!C334=\"\",\"\",'No CMS - Deviation - Limits'!C334)","v":""},"",{"$f":"IF(COUNTIF(V$2:V312,V312)=1,V312,\"\")","v":""},"","",{"$f":"+IFERROR(INDEX(#REF!,MATCH(ROW()-ROW($Y$1),T$2:T$955,0)),\"\")","v":""},null,{"$f":"+IF(AG312=\"\",\"\",MAX(AC$1:AC311)+1)","v":""},{"$f":"IF('Using CMS - Deviation - Limits'!B334=\"\",\"\",'Using CMS - Deviation - Limits'!B334)","v":""},{"$f":"IF('Using CMS - Deviation - Limits'!C334=\"\",\"\",'Using CMS - Deviation - Limits'!C334)","v":""},"",{"$f":"IF(COUNTIF(AF$2:AF312,AF312)=1,AF312,\"\")","v":""},"","",{"$f":"+IFERROR(INDEX(#REF!,MATCH(ROW()-ROW(AG$1),AC$2:AC$955,0)),\"\")","v":""},{"$nulls":3},{"$f":"+IF(AS312=\"\",\"\",MAX(AN$1:AN311)+1)","v":""},{"$f":"IF('Using CMS - Inop_OoC - CMS'!B334=\"\",\"\",'Using CMS - Inop_OoC - CMS'!B334)","v":""},{"$f":"IF('Using CMS - Inop_OoC - CMS'!C334=\"\",\"\",'Using CMS - Inop_OoC - CMS'!C334)","v":""},{"$f":"IF('Using CMS - Inop_OoC - CMS'!D334=\"\",\"\",'Using CMS - Inop_OoC - CMS'!D334)","v":""},{"$f":"AO312&AP312&Table10[[#This Row],[CMS]]","v":""},{"$f":"IF(COUNTIF(AR$2:AR312,AR312)=1,AR312,\"\")","v":""},"","","",null,{"$f":"+IF(BB312=\"\",\"\",MAX(AX$1:AX311)+1)","v":""},{"$f":"IF('Using CMS - Deviation - Limits'!B334=\"\",\"\",'Using CMS - Deviation - Limits'!B334)","v":""},{"$f":"IF('Using CMS - Deviation - Limits'!C334=\"\",\"\",'Using CMS - Deviation - Limits'!C334)","v":""},{"$f":"AY312&AZ312&Table10[[#This Row],[CMS]]","v":""},{"$f":"IF(COUNTIF(BA$2:BA312,BA312)=1,BA312,\"\")","v":""},"","",{"$f":"+IFERROR(INDEX(#REF!,MATCH(ROW()-ROW(BC$1),AX$2:AX$955,0)),\"\")","v":""}]
[{"$f":"+IF(D313=\"\",\"\",MAX(A$1:A312)+1)","v":""},{"$f":"IF('Process_&_CMS_Identification'!C335=\"\",\"\",'Process_&_CMS_Identification'!C335)","v":""},"",{"$f":"IF(COUNTIF(B$2:B313,B313)=1,B313,\"\")","v":""},{"$nulls":15},{"$f":"+IF(X313=\"\",\"\",MAX(T$1:T312)+1)","v":""},{"$f":"IF('No CMS - Deviation - Limits'!B335=\"\",\"\",'No CMS - Deviation - Limits'!B335)","v":""},{"$f":"IF('No CMS - Deviation - Limits'!C335=\"\",\"\",'No CMS - Deviation - Limits'!C335)","v":""},"",{"$f":"IF(COUNTIF(V$2:V313,V313)=1,V313,\"\")","v":""},"","",{"$f":"+IFERROR(INDEX(#REF!,MATCH(ROW()-ROW($Y$1),T$2:T$955,0)),\"\")","v":""},null,{"$f":"+IF(AG313=\"\",\"\",MAX(AC$1:AC312)+1)","v":""},{"$f":"IF('Using CMS - Deviation - Limits'!B335=\"\",\"\",'Using CMS - Deviation - Limits'!B335)","v":""},{"$f":"IF('Using CMS - Deviation - Limits'!C335=\"\",\"\",'Using CMS - Deviation - Limits'!C335)","v":""},"",{"$f":"IF(COUNTIF(AF$2:AF313,AF313)=1,AF313,\"\")","v":""},"","",{"$f":"+IFERROR(INDEX(#REF!,MATCH(ROW()-ROW(AG$1),AC$2:AC$955,0)),\"\")","v":""},{"$nulls":3},{"$f":"+IF(AS313=\"\",\"\",MAX(AN$1:AN312)+1)","v":""},{"$f":"IF('Using CMS - Inop_OoC - CMS'!B335=\"\",\"\",'Using CMS - Inop_OoC - CMS'!B335)","v":""},{"$f":"IF('Using CMS - Inop_OoC - CMS'!C335=\"\",\"\",'Using CMS - Inop_OoC - CMS'!C335)","v":""},{"$f":"IF('Using CMS - Inop_OoC - CMS'!D335=\"\",\"\",'Using CMS - Inop_OoC - CMS'!D335)","v":""},{"$f":"AO313&AP313&Table10[[#This Row],[CMS]]","v":""},{"$f":"IF(COUNTIF(AR$2:AR313,AR313)=1,AR313,\"\")","v":""},"","","",null,{"$f":"+IF(BB313=\"\",\"\",MAX(AX$1:AX312)+1)","v":""},{"$f":"IF('Using CMS - Deviation - Limits'!B335=\"\",\"\",'Using CMS - Deviation - Limits'!B335)","v":""},{"$f":"IF('Using CMS - Deviation - Limits'!C335=\"\",\"\",'Using CMS - Deviation - Limits'!C335)","v":""},{"$f":"AY313&AZ313&Table10[[#This Row],[CMS]]","v":""},{"$f":"IF(COUNTIF(BA$2:BA313,BA313)=1,BA313,\"\")","v":""},"","",{"$f":"+IFERROR(INDEX(#REF!,MATCH(ROW()-ROW(BC$1),AX$2:AX$955,0)),\"\")","v":""}]
[{"$f":"+IF(D314=\"\",\"\",MAX(A$1:A313)+1)","v":""},{"$f":"IF('Process_&_CMS_Identification'!C336=\"\",\"\",'Process_&_CMS_Identification'!C336)","v":""},"",{"$f":"IF(COUNTIF(B$2:B314,B314)=1,B314,\"\")","v":""},{"$nulls":15},{"$f":"+IF(X314=\"\",\"\",MAX(T$1:T313)+1)","v":""},{"$f":"IF('No CMS - Deviation - Limits'!B336=\"\",\"\",'No CMS - Deviation - Limits'!B336)","v":""},{"$f":"IF('No CMS - Deviation - Limits'!C336=\"\",\"\",'No CMS - Deviation - Limits'!C336)","v":""},"",{"$f":"IF(COUNTIF(V$2:V314,V314)=1,V314,\"\")","v":""},"","",{"$f":"+IFERROR(INDEX(#REF!,MATCH(ROW()-ROW($Y$1),T$2:T$955,0)),\"\")","v":""},null,{"$f":"+IF(AG314=\"\",\"\",MAX(AC$1:AC313)+1)","v":""},{"$f":"IF('Using CMS - Deviation - Limits'!B336=\"\",\"\",'Using CMS - Deviation - Limits'!B336)","v":""},{"$f":"IF('Using CMS - Deviation - Limits'!C336=\"\",\"\",'Using CMS - Deviation - Limits'!C336)","v":""},"",{"$f":"IF(COUNTIF(AF$2:AF314,AF314)=1,AF314,\"\")","v":""},"","",{"$f":"+IFERROR(INDEX(#REF!,MATCH(ROW()-ROW(AG$1),AC$2:AC$955,0)),\"\")","v":""},{"$nulls":3},{"$f":"+IF(AS314=\"\",\"\",MAX(AN$1:AN313)+1)","v":""},{"$f":"IF('Using CMS - Inop_OoC - CMS'!B336=\"\",\"\",'Using CMS - Inop_OoC - CMS'!B336)","v":""},{"$f":"IF('Using CMS - Inop_OoC - CMS'!C336=\"\",\"\",'Using CMS - Inop_OoC - CMS'!C336)","v":""},{"$f":"IF('Using CMS - Inop_OoC - CMS'!D336=\"\",\"\",'Using CMS - Inop_OoC - CMS'!D336)","v":""},{"$f":"AO314&AP314&Table10[[#This Row],[CMS]]","v":""},{"$f":"IF(COUNTIF(AR$2:AR314,AR314)=1,AR314,\"\")","v":""},"","","",null,{"$f":"+IF(BB314=\"\",\"\",MAX(AX$1:AX313)+1)","v":""},{"$f":"IF('Using CMS - Deviation - Limits'!B336=\"\",\"\",'Using CMS - Deviation - Limits'!B336)","v":""},{"$f":"IF('Using CMS - Deviation - Limits'!C336=\"\",\"\",'Using CMS - Deviation - Limits'!C336)","v":""},{"$f":"AY314&AZ314&Table10[[#This Row],[CMS]]","v":""},{"$f":"IF(COUNTIF(BA$2:BA314,BA314)=1,BA314,\"\")","v":""},"","",{"$f":"+IFERROR(INDEX(#REF!,MATCH(ROW()-ROW(BC$1),AX$2:AX$955,0)),\"\")","v":""}]
[{"$f":"+IF(D315=\"\",\"\",MAX(A$1:A314)+1)","v":""},{"$f":"IF('Process_&_CMS_Identification'!C337=\"\",\"\",'Process_&_CMS_Identification'!C337)","v":""},"",{"$f":"IF(COUNTIF(B$2:B315,B315)=1,B315,\"\")","v":""},{"$nulls":15},{"$f":"+IF(X315=\"\",\"\",MAX(T$1:T314)+1)","v":""},{"$f":"IF('No CMS - Deviation - Limits'!B337=\"\",\"\",'No CMS - Deviation - Limits'!B337)","v":""},{"$f":"IF('No CMS - Deviation - Limits'!C337=\"\",\"\",'No CMS - Deviation - Limits'!C337)","v":""},"",{"$f":"IF(COUNTIF(V$2:V315,V315)=1,V315,\"\")","v":""},"","",{"$f":"+IFERROR(INDEX(#REF!,MATCH(ROW()-ROW($Y$1),T$2:T$955,0)),\"\")","v":""},null,{"$f":"+IF(AG315=\"\",\"\",MAX(AC$1:AC314)+1)","v":""},{"$f":"IF('Using CMS - Deviation - Limits'!B337=\"\",\"\",'Using CMS - Deviation - Limits'!B337)","v":""},{"$f":"IF('Using CMS - Deviation - Limits'!C337=\"\",\"\",'Using CMS - Deviation - Limits'!C337)","v":""},"",{"$f":"IF(COUNTIF(AF$2:AF315,AF315)=1,AF315,\"\")","v":""},"","",{"$f":"+IFERROR(INDEX(#REF!,MATCH(ROW()-ROW(AG$1),AC$2:AC$955,0)),\"\")","v":""},{"$nulls":3},{"$f":"+IF(AS315=\"\",\"\",MAX(AN$1:AN314)+1)","v":""},{"$f":"IF('Using CMS - Inop_OoC - CMS'!B337=\"\",\"\",'Using CMS - Inop_OoC - CMS'!B337)","v":""},{"$f":"IF('Using CMS - Inop_OoC - CMS'!C337=\"\",\"\",'Using CMS - Inop_OoC - CMS'!C337)","v":""},{"$f":"IF('Using CMS - Inop_OoC - CMS'!D337=\"\",\"\",'Using CMS - Inop_OoC - CMS'!D337)","v":""},{"$f":"AO315&AP315&Table10[[#This Row],[CMS]]","v":""},{"$f":"IF(COUNTIF(AR$2:AR315,AR315)=1,AR315,\"\")","v":""},"","","",null,{"$f":"+IF(BB315=\"\",\"\",MAX(AX$1:AX314)+1)","v":""},{"$f":"IF('Using CMS - Deviation - Limits'!B337=\"\",\"\",'Using CMS - Deviation - Limits'!B337)","v":""},{"$f":"IF('Using CMS - Deviation - Limits'!C337=\"\",\"\",'Using CMS - Deviation - Limits'!C337)","v":""},{"$f":"AY315&AZ315&Table10[[#This Row],[CMS]]","v":""},{"$f":"IF(COUNTIF(BA$2:BA315,BA315)=1,BA315,\"\")","v":""},"","",{"$f":"+IFERROR(INDEX(#REF!,MATCH(ROW()-ROW(BC$1),AX$2:AX$955,0)),\"\")","v":""}]
[{"$f":"+IF(D316=\"\",\"\",MAX(A$1:A315)+1)","v":""},{"$f":"IF('Process_&_CMS_Identification'!C338=\"\",\"\",'Process_&_CMS_Identification'!C338)","v":""},"",{"$f":"IF(COUNTIF(B$2:B316,B316)=1,B316,\"\")","v":""},{"$nulls":15},{"$f":"+IF(X316=\"\",\"\",MAX(T$1:T315)+1)","v":""},{"$f":"IF('No CMS - Deviation - Limits'!B338=\"\",\"\",'No CMS - Deviation - Limits'!B338)","v":""},{"$f":"IF('No CMS - Deviation - Limits'!C338=\"\",\"\",'No CMS - Deviation - Limits'!C338)","v":""},"",{"$f":"IF(COUNTIF(V$2:V316,V316)=1,V316,\"\")","v":""},"","",{"$f":"+IFERROR(INDEX(#REF!,MATCH(ROW()-ROW($Y$1),T$2:T$955,0)),\"\")","v":""},null,{"$f":"+IF(AG316=\"\",\"\",MAX(AC$1:AC315)+1)","v":""},{"$f":"IF('Using CMS - Deviation - Limits'!B338=\"\",\"\",'Using CMS - Deviation - Limits'!B338)","v":""},{"$f":"IF('Using CMS - Deviation - Limits'!C338=\"\",\"\",'Using CMS - Deviation - Limits'!C338)","v":""},"",{"$f":"IF(COUNTIF(AF$2:AF316,AF316)=1,AF316,\"\")","v":""},"","",{"$f":"+IFERROR(INDEX(#REF!,MATCH(ROW()-ROW(AG$1),AC$2:AC$955,0)),\"\")","v":""},{"$nulls":3},{"$f":"+IF(AS316=\"\",\"\",MAX(AN$1:AN315)+1)","v":""},{"$f":"IF('Using CMS - Inop_OoC - CMS'!B338=\"\",\"\",'Using CMS - Inop_OoC - CMS'!B338)","v":""},{"$f":"IF('Using CMS - Inop_OoC - CMS'!C338=\"\",\"\",'Using CMS - Inop_OoC - CMS'!C338)","v":""},{"$f":"IF('Using CMS - Inop_OoC - CMS'!D338=\"\",\"\",'Using CMS - Inop_OoC - CMS'!D338)","v":""},{"$f":"AO316&AP316&Table10[[#This Row],[CMS]]","v":""},{"$f":"IF(COUNTIF(AR$2:AR316,AR316)=1,AR316,\"\")","v":""},"","","",null,{"$f":"+IF(BB316=\"\",\"\",MAX(AX$1:AX315)+1)","v":""},{"$f":"IF('Using CMS - Deviation - Limits'!B338=\"\",\"\",'Using CMS - Deviation - Limits'!B338)","v":""},{"$f":"IF('Using CMS - Deviation - Limits'!C338=\"\",\"\",'Using CMS - Deviation - Limits'!C338)","v":""},{"$f":"AY316&AZ316&Table10[[#This Row],[CMS]]","v":""},{"$f":"IF(COUNTIF(BA$2:BA316,BA316)=1,BA316,\"\")","v":""},"","",{"$f":"+IFERROR(INDEX(#REF!,MATCH(ROW()-ROW(BC$1),AX$2:AX$955,0)),\"\")","v":""}]
[{"$f":"+IF(D317=\"\",\"\",MAX(A$1:A316)+1)","v":""},{"$f":"IF('Process_&_CMS_Identification'!C339=\"\",\"\",'Process_&_CMS_Identification'!C339)","v":""},"",{"$f":"IF(COUNTIF(B$2:B317,B317)=1,B317,\"\")","v":""},{"$nulls":15},{"$f":"+IF(X317=\"\",\"\",MAX(T$1:T316)+1)","v":""},{"$f":"IF('No CMS - Deviation - Limits'!B339=\"\",\"\",'No CMS - Deviation - Limits'!B339)","v":""},{"$f":"IF('No CMS - Deviation - Limits'!C339=\"\",\"\",'No CMS - Deviation - Limits'!C339)","v":""},"",{"$f":"IF(COUNTIF(V$2:V317,V317)=1,V317,\"\")","v":""},"","",{"$f":"+IFERROR(INDEX(#REF!,MATCH(ROW()-ROW($Y$1),T$2:T$955,0)),\"\")","v":""},null,{"$f":"+IF(AG317=\"\",\"\",MAX(AC$1:AC316)+1)","v":""},{"$f":"IF('Using CMS - Deviation - Limits'!B339=\"\",\"\",'Using CMS - Deviation - Limits'!B339)","v":""},{"$f":"IF('Using CMS - Deviation - Limits'!C339=\"\",\"\",'Using CMS - Deviation - Limits'!C339)","v":""},"",{"$f":"IF(COUNTIF(AF$2:AF317,AF317)=1,AF317,\"\")","v":""},"","",{"$f":"+IFERROR(INDEX(#REF!,MATCH(ROW()-ROW(AG$1),AC$2:AC$955,0)),\"\")","v":""},{"$nulls":3},{"$f":"+IF(AS317=\"\",\"\",MAX(AN$1:AN316)+1)","v":""},{"$f":"IF('Using CMS - Inop_OoC - CMS'!B339=\"\",\"\",'Using CMS - Inop_OoC - CMS'!B339)","v":""},{"$f":"IF('Using CMS - Inop_OoC - CMS'!C339=\"\",\"\",'Using CMS - Inop_OoC - CMS'!C339)","v":""},{"$f":"IF('Using CMS - Inop_OoC - CMS'!D339=\"\",\"\",'Using CMS - Inop_OoC - CMS'!D339)","v":""},{"$f":"AO317&AP317&Table10[[#This Row],[CMS]]","v":""},{"$f":"IF(COUNTIF(AR$2:AR317,AR317)=1,AR317,\"\")","v":""},"","","",null,{"$f":"+IF(BB317=\"\",\"\",MAX(AX$1:AX316)+1)","v":""},{"$f":"IF('Using CMS - Deviation - Limits'!B339=\"\",\"\",'Using CMS - Deviation - Limits'!B339)","v":""},{"$f":"IF('Using CMS - Deviation - Limits'!C339=\"\",\"\",'Using CMS - Deviation - Limits'!C339)","v":""},{"$f":"AY317&AZ317&Table10[[#This Row],[CMS]]","v":""},{"$f":"IF(COUNTIF(BA$2:BA317,BA317)=1,BA317,\"\")","v":""},"","",{"$f":"+IFERROR(INDEX(#REF!,MATCH(ROW()-ROW(BC$1),AX$2:AX$955,0)),\"\")","v":""}]
[{"$f":"+IF(D318=\"\",\"\",MAX(A$1:A317)+1)","v":""},{"$f":"IF('Process_&_CMS_Identification'!C340=\"\",\"\",'Process_&_CMS_Identification'!C340)","v":""},"",{"$f":"IF(COUNTIF(B$2:B318,B318)=1,B318,\"\")","v":""},{"$nulls":15},{"$f":"+IF(X318=\"\",\"\",MAX(T$1:T317)+1)","v":""},{"$f":"IF('No CMS - Deviation - Limits'!B340=\"\",\"\",'No CMS - Deviation - Limits'!B340)","v":""},{"$f":"IF('No CMS - Deviation - Limits'!C340=\"\",\"\",'No CMS - Deviation - Limits'!C340)","v":""},"",{"$f":"IF(COUNTIF(V$2:V318,V318)=1,V318,\"\")","v":""},"","",{"$f":"+IFERROR(INDEX(#REF!,MATCH(ROW()-ROW($Y$1),T$2:T$955,0)),\"\")","v":""},null,{"$f":"+IF(AG318=\"\",\"\",MAX(AC$1:AC317)+1)","v":""},{"$f":"IF('Using CMS - Deviation - Limits'!B340=\"\",\"\",'Using CMS - Deviation - Limits'!B340)","v":""},{"$f":"IF('Using CMS - Deviation - Limits'!C340=\"\",\"\",'Using CMS - Deviation - Limits'!C340)","v":""},"",{"$f":"IF(COUNTIF(AF$2:AF318,AF318)=1,AF318,\"\")","v":""},"","",{"$f":"+IFERROR(INDEX(#REF!,MATCH(ROW()-ROW(AG$1),AC$2:AC$955,0)),\"\")","v":""},{"$nulls":3},{"$f":"+IF(AS318=\"\",\"\",MAX(AN$1:AN317)+1)","v":""},{"$f":"IF('Using CMS - Inop_OoC - CMS'!B340=\"\",\"\",'Using CMS - Inop_OoC - CMS'!B340)","v":""},{"$f":"IF('Using CMS - Inop_OoC - CMS'!C340=\"\",\"\",'Using CMS - Inop_OoC - CMS'!C340)","v":""},{"$f":"IF('Using CMS - Inop_OoC - CMS'!D340=\"\",\"\",'Using CMS - Inop_OoC - CMS'!D340)","v":""},{"$f":"AO318&AP318&Table10[[#This Row],[CMS]]","v":""},{"$f":"IF(COUNTIF(AR$2:AR318,AR318)=1,AR318,\"\")","v":""},"","","",null,{"$f":"+IF(BB318=\"\",\"\",MAX(AX$1:AX317)+1)","v":""},{"$f":"IF('Using CMS - Deviation - Limits'!B340=\"\",\"\",'Using CMS - Deviation - Limits'!B340)","v":""},{"$f":"IF('Using CMS - Deviation - Limits'!C340=\"\",\"\",'Using CMS - Deviation - Limits'!C340)","v":""},{"$f":"AY318&AZ318&Table10[[#This Row],[CMS]]","v":""},{"$f":"IF(COUNTIF(BA$2:BA318,BA318)=1,BA318,\"\")","v":""},"","",{"$f":"+IFERROR(INDEX(#REF!,MATCH(ROW()-ROW(BC$1),AX$2:AX$955,0)),\"\")","v":""}]
[{"$f":"+IF(D319=\"\",\"\",MAX(A$1:A318)+1)","v":""},{"$f":"IF('Process_&_CMS_Identification'!C341=\"\",\"\",'Process_&_CMS_Identification'!C341)","v":""},"",{"$f":"IF(COUNTIF(B$2:B319,B319)=1,B319,\"\")","v":""},{"$nulls":15},{"$f":"+IF(X319=\"\",\"\",MAX(T$1:T318)+1)","v":""},{"$f":"IF('No CMS - Deviation - Limits'!B341=\"\",\"\",'No CMS - Deviation - Limits'!B341)","v":""},{"$f":"IF('No CMS - Deviation - Limits'!C341=\"\",\"\",'No CMS - Deviation - Limits'!C341)","v":""},"",{"$f":"IF(COUNTIF(V$2:V319,V319)=1,V319,\"\")","v":""},"","",{"$f":"+IFERROR(INDEX(#REF!,MATCH(ROW()-ROW($Y$1),T$2:T$955,0)),\"\")","v":""},null,{"$f":"+IF(AG319=\"\",\"\",MAX(AC$1:AC318)+1)","v":""},{"$f":"IF('Using CMS - Deviation - Limits'!B341=\"\",\"\",'Using CMS - Deviation - Limits'!B341)","v":""},{"$f":"IF('Using CMS - Deviation - Limits'!C341=\"\",\"\",'Using CMS - Deviation - Limits'!C341)","v":""},"",{"$f":"IF(COUNTIF(AF$2:AF319,AF319)=1,AF319,\"\")","v":""},"","",{"$f":"+IFERROR(INDEX(#REF!,MATCH(ROW()-ROW(AG$1),AC$2:AC$955,0)),\"\")","v":""},{"$nulls":3},{"$f":"+IF(AS319=\"\",\"\",MAX(AN$1:AN318)+1)","v":""},{"$f":"IF('Using CMS - Inop_OoC - CMS'!B341=\"\",\"\",'Using CMS - Inop_OoC - CMS'!B341)","v":""},{"$f":"IF('Using CMS - Inop_OoC - CMS'!C341=\"\",\"\",'Using CMS - Inop_OoC - CMS'!C341)","v":""},{"$f":"IF('Using CMS - Inop_OoC - CMS'!D341=\"\",\"\",'Using CMS - Inop_OoC - CMS'!D341)","v":""},{"$f":"AO319&AP319&Table10[[#This Row],[CMS]]","v":""},{"$f":"IF(COUNTIF(AR$2:AR319,AR319)=1,AR319,\"\")","v":""},"","","",null,{"$f":"+IF(BB319=\"\",\"\",MAX(AX$1:AX318)+1)","v":""},{"$f":"IF('Using CMS - Deviation - Limits'!B341=\"\",\"\",'Using CMS - Deviation - Limits'!B341)","v":""},{"$f":"IF('Using CMS - Deviation - Limits'!C341=\"\",\"\",'Using CMS - Deviation - Limits'!C341)","v":""},{"$f":"AY319&AZ319&Table10[[#This Row],[CMS]]","v":""},{"$f":"IF(COUNTIF(BA$2:BA319,BA319)=1,BA319,\"\")","v":""},"","",{"$f":"+IFERROR(INDEX(#REF!,MATCH(ROW()-ROW(BC$1),AX$2:AX$955,0)),\"\")","v":""}]
[{"$f":"+IF(D320=\"\",\"\",MAX(A$1:A319)+1)","v":""},{"$f":"IF('Process_&_CMS_Identification'!C342=\"\",\"\",'Process_&_CMS_Identification'!C342)","v":""},"",{"$f":"IF(COUNTIF(B$2:B320,B320)=1,B320,\"\")","v":""},{"$nulls":15},{"$f":"+IF(X320=\"\",\"\",MAX(T$1:T319)+1)","v":""},{"$f":"IF('No CMS - Deviation - Limits'!B342=\"\",\"\",'No CMS - Deviation - Limits'!B342)","v":""},{"$f":"IF('No CMS - Deviation - Limits'!C342=\"\",\"\",'No CMS - Deviation - Limits'!C342)","v":""},"",{"$f":"IF(COUNTIF(V$2:V320,V320)=1,V320,\"\")","v":""},"","",{"$f":"+IFERROR(INDEX(#REF!,MATCH(ROW()-ROW($Y$1),T$2:T$955,0)),\"\")","v":""},null,{"$f":"+IF(AG320=\"\",\"\",MAX(AC$1:AC319)+1)","v":""},{"$f":"IF('Using CMS - Deviation - Limits'!B342=\"\",\"\",'Using CMS - Deviation - Limits'!B342)","v":""},{"$f":"IF('Using CMS - Deviation - Limits'!C342=\"\",\"\",'Using CMS - Deviation - Limits'!C342)","v":""},"",{"$f":"IF(COUNTIF(AF$2:AF320,AF320)=1,AF320,\"\")","v":""},"","",{"$f":"+IFERROR(INDEX(#REF!,MATCH(ROW()-ROW(AG$1),AC$2:AC$955,0)),\"\")","v":""},{"$nulls":3},{"$f":"+IF(AS320=\"\",\"\",MAX(AN$1:AN319)+1)","v":""},{"$f":"IF('Using CMS - Inop_OoC - CMS'!B342=\"\",\"\",'Using CMS - Inop_OoC - CMS'!B342)","v":""},{"$f":"IF('Using CMS - Inop_OoC - CMS'!C342=\"\",\"\",'Using CMS - Inop_OoC - CMS'!C342)","v":""},{"$f":"IF('Using CMS - Inop_OoC - CMS'!D342=\"\",\"\",'Using CMS - Inop_OoC - CMS'!D342)","v":""},{"$f":"AO320&AP320&Table10[[#This Row],[CMS]]","v":""},{"$f":"IF(COUNTIF(AR$2:AR320,AR320)=1,AR320,\"\")","v":""},"","","",null,{"$f":"+IF(BB320=\"\",\"\",MAX(AX$1:AX319)+1)","v":""},{"$f":"IF('Using CMS - Deviation - Limits'!B342=\"\",\"\",'Using CMS - Deviation - Limits'!B342)","v":""},{"$f":"IF('Using CMS - Deviation - Limits'!C342=\"\",\"\",'Using CMS - Deviation - Limits'!C342)","v":""},{"$f":"AY320&AZ320&Table10[[#This Row],[CMS]]","v":""},{"$f":"IF(COUNTIF(BA$2:BA320,BA320)=1,BA320,\"\")","v":""},"","",{"$f":"+IFERROR(INDEX(#REF!,MATCH(ROW()-ROW(BC$1),AX$2:AX$955,0)),\"\")","v":""}]
[{"$f":"+IF(D321=\"\",\"\",MAX(A$1:A320)+1)","v":""},{"$f":"IF('Process_&_CMS_Identification'!C343=\"\",\"\",'Process_&_CMS_Identification'!C343)","v":""},"",{"$f":"IF(COUNTIF(B$2:B321,B321)=1,B321,\"\")","v":""},{"$nulls":15},{"$f":"+IF(X321=\"\",\"\",MAX(T$1:T320)+1)","v":""},{"$f":"IF('No CMS - Deviation - Limits'!B343=\"\",\"\",'No CMS - Deviation - Limits'!B343)","v":""},{"$f":"IF('No CMS - Deviation - Limits'!C343=\"\",\"\",'No CMS - Deviation - Limits'!C343)","v":""},"",{"$f":"IF(COUNTIF(V$2:V321,V321)=1,V321,\"\")","v":""},"","",{"$f":"+IFERROR(INDEX(#REF!,MATCH(ROW()-ROW($Y$1),T$2:T$955,0)),\"\")","v":""},null,{"$f":"+IF(AG321=\"\",\"\",MAX(AC$1:AC320)+1)","v":""},{"$f":"IF('Using CMS - Deviation - Limits'!B343=\"\",\"\",'Using CMS - Deviation - Limits'!B343)","v":""},{"$f":"IF('Using CMS - Deviation - Limits'!C343=\"\",\"\",'Using CMS - Deviation - Limits'!C343)","v":""},"",{"$f":"IF(COUNTIF(AF$2:AF321,AF321)=1,AF321,\"\")","v":""},"","",{"$f":"+IFERROR(INDEX(#REF!,MATCH(ROW()-ROW(AG$1),AC$2:AC$955,0)),\"\")","v":""},{"$nulls":3},{"$f":"+IF(AS321=\"\",\"\",MAX(AN$1:AN320)+1)","v":""},{"$f":"IF('Using CMS - Inop_OoC - CMS'!B343=\"\",\"\",'Using CMS - Inop_OoC - CMS'!B343)","v":""},{"$f":"IF('Using CMS - Inop_OoC - CMS'!C343=\"\",\"\",'Using CMS - Inop_OoC - CMS'!C343)","v":""},{"$f":"IF('Using CMS - Inop_OoC - CMS'!D343=\"\",\"\",'Using CMS - Inop_OoC - CMS'!D343)","v":""},{"$f":"AO321&AP321&Table10[[#This Row],[CMS]]","v":""},{"$f":"IF(COUNTIF(AR$2:AR321,AR321)=1,AR321,\"\")","v":""},"","","",null,{"$f":"+IF(BB321=\"\",\"\",MAX(AX$1:AX320)+1)","v":""},{"$f":"IF('Using CMS - Deviation - Limits'!B343=\"\",\"\",'Using CMS - Deviation - Limits'!B343)","v":""},{"$f":"IF('Using CMS - Deviation - Limits'!C343=\"\",\"\",'Using CMS - Deviation - Limits'!C343)","v":""},{"$f":"AY321&AZ321&Table10[[#This Row],[CMS]]","v":""},{"$f":"IF(COUNTIF(BA$2:BA321,BA321)=1,BA321,\"\")","v":""},"","",{"$f":"+IFERROR(INDEX(#REF!,MATCH(ROW()-ROW(BC$1),AX$2:AX$955,0)),\"\")","v":""}]
[{"$f":"+IF(D322=\"\",\"\",MAX(A$1:A321)+1)","v":""},{"$f":"IF('Process_&_CMS_Identification'!C344=\"\",\"\",'Process_&_CMS_Identification'!C344)","v":""},{"$f":"+IFERROR(INDEX(B$2:B$501,MATCH(ROW()-ROW($C$1),A$2:A$501,0)),\"\")","v":""},{"$f":"IF(COUNTIF(B$2:B322,B322)=1,B322,\"\")","v":""},{"$nulls":15},{"$f":"+IF(X322=\"\",\"\",MAX(T$1:T321)+1)","v":""},{"$f":"IF('No CMS - Deviation - Limits'!B344=\"\",\"\",'No CMS - Deviation - Limits'!B344)","v":""},{"$f":"IF('No CMS - Deviation - Limits'!C344=\"\",\"\",'No CMS - Deviation - Limits'!C344)","v":""},{"$f":"U322&V322","v":""},{"$f":"IF(COUNTIF(V$2:V322,V322)=1,V322,\"\")","v":""},{"$f":"+IFERROR(INDEX(U$2:U$955,MATCH(ROW()-ROW($Y$1),T$2:T$955,0)),\"\")","v":""},{"$f":"+IFERROR(INDEX(V$2:V$955,MATCH(ROW()-ROW($Y$1),T$2:T$955,0)),\"\")","v":""},{"$f":"+IFERROR(INDEX(#REF!,MATCH(ROW()-ROW($Y$1),T$2:T$955,0)),\"\")","v":""},null,{"$f":"+IF(AG322=\"\",\"\",MAX(AC$1:AC321)+1)","v":""},{"$f":"IF('Using CMS - Deviation - Limits'!B344=\"\",\"\",'Using CMS - Deviation - Limits'!B344)","v":""},{"$f":"IF('Using CMS - Deviation - Limits'!C344=\"\",\"\",'Using CMS - Deviation - Limits'!C344)","v":""},{"$f":"AD322&AE322","v":""},{"$f":"IF(COUNTIF(AF$2:AF322,AF322)=1,AF322,\"\")","v":""},{"$f":"+IFERROR(INDEX(AD$2:AD$955,MATCH(ROW()-ROW(HX$1),AC$2:AC$955,0)),\"\")","v":""},{"$f":"+IFERROR(INDEX(AE$2:AE$955,MATCH(ROW()-ROW(AG$1),AC$2:AC$955,0)),\"\")","v":""},{"$f":"+IFERROR(INDEX(#REF!,MATCH(ROW()-ROW(AG$1),AC$2:AC$955,0)),\"\")","v":""},{"$nulls":3},{"$f":"+IF(AS322=\"\",\"\",MAX(AN$1:AN321)+1)","v":""},{"$f":"IF('Using CMS - Inop_OoC - CMS'!B344=\"\",\"\",'Using CMS - Inop_OoC - CMS'!B344)","v":""},{"$f":"IF('Using CMS - Inop_OoC - CMS'!C344=\"\",\"\",'Using CMS - Inop_OoC - CMS'!C344)","v":""},{"$f":"IF('Using CMS - Inop_OoC - CMS'!D344=\"\",\"\",'Using CMS - Inop_OoC - CMS'!D344)","v":""},{"$f":"AO322&AP322&Table10[[#This Row],[CMS]]","v":""},{"$f":"IF(COUNTIF(AR$2:AR322,AR322)=1,AR322,\"\")","v":""},"","",{"$f":"+IFERROR(INDEX(AQ$2:AQ$955,MATCH(ROW()-ROW(AT$1),AN$2:AN$955,0)),\"\")","v":""},null,{"$f":"+IF(BB322=\"\",\"\",MAX(AX$1:AX321)+1)","v":""},{"$f":"IF('Using CMS - Deviation - Limits'!B344=\"\",\"\",'Using CMS - Deviation - Limits'!B344)","v":""},{"$f":"IF('Using CMS - Deviation - Limits'!C344=\"\",\"\",'Using CMS - Deviation - Limits'!C344)","v":""},{"$f":"AY322&AZ322&Table10[[#This Row],[CMS]]","v":""},{"$f":"IF(COUNTIF(BA$2:BA322,BA322)=1,BA322,\"\")","v":""},{"$f":"+IFERROR(INDEX(AY$2:AY$955,MATCH(ROW()-ROW(BB$1),AX$2:AX$955,0)),\"\")","v":""},{"$f":"+IFERROR(INDEX(AZ$2:AZ$955,MATCH(ROW()-ROW(BB$1),AX$2:AX$955,0)),\"\")","v":""},{"$f":"+IFERROR(INDEX(#REF!,MATCH(ROW()-ROW(BC$1),AX$2:AX$955,0)),\"\")","v":""}]
[{"$f":"+IF(D323=\"\",\"\",MAX(A$1:A322)+1)","v":""},{"$f":"IF('Process_&_CMS_Identification'!C345=\"\",\"\",'Process_&_CMS_Identification'!C345)","v":""},"",{"$f":"IF(COUNTIF(B$2:B323,B323)=1,B323,\"\")","v":""},{"$nulls":15},{"$f":"+IF(X323=\"\",\"\",MAX(T$1:T322)+1)","v":""},{"$f":"IF('No CMS - Deviation - Limits'!B345=\"\",\"\",'No CMS - Deviation - Limits'!B345)","v":""},{"$f":"IF('No CMS - Deviation - Limits'!C345=\"\",\"\",'No CMS - Deviation - Limits'!C345)","v":""},"",{"$f":"IF(COUNTIF(V$2:V323,V323)=1,V323,\"\")","v":""},"","",{"$f":"+IFERROR(INDEX(#REF!,MATCH(ROW()-ROW($Y$1),T$2:T$955,0)),\"\")","v":""},null,{"$f":"+IF(AG323=\"\",\"\",MAX(AC$1:AC322)+1)","v":""},{"$f":"IF('Using CMS - Deviation - Limits'!B345=\"\",\"\",'Using CMS - Deviation - Limits'!B345)","v":""},{"$f":"IF('Using CMS - Deviation - Limits'!C345=\"\",\"\",'Using CMS - Deviation - Limits'!C345)","v":""},"",{"$f":"IF(COUNTIF(AF$2:AF323,AF323)=1,AF323,\"\")","v":""},"","",{"$f":"+IFERROR(INDEX(#REF!,MATCH(ROW()-ROW(AG$1),AC$2:AC$955,0)),\"\")","v":""},{"$nulls":3},{"$f":"+IF(AS323=\"\",\"\",MAX(AN$1:AN322)+1)","v":""},{"$f":"IF('Using CMS - Inop_OoC - CMS'!B345=\"\",\"\",'Using CMS - Inop_OoC - CMS'!B345)","v":""},{"$f":"IF('Using CMS - Inop_OoC - CMS'!C345=\"\",\"\",'Using CMS - Inop_OoC - CMS'!C345)","v":""},{"$f":"IF('Using CMS - Inop_OoC - CMS'!D345=\"\",\"\",'Using CMS - Inop_OoC - CMS'!D345)","v":""},{"$f":"AO323&AP323&Table10[[#This Row],[CMS]]","v":""},{"$f":"IF(COUNTIF(AR$2:AR323,AR323)=1,AR323,\"\")","v":""},{"$f":"+IFERROR(INDEX(AO$2:AO$955,MATCH(ROW()-ROW(AS$1),AN$2:AN$955,0)),\"\")","v":""},{"$f":"+IFERROR(INDEX(AP$2:AP$955,MATCH(ROW()-ROW(AS$1),AN$2:AN$955,0)),\"\")","v":""},"",null,{"$f":"+IF(BB323=\"\",\"\",MAX(AX$1:AX322)+1)","v":""},{"$f":"IF('Using CMS - Deviation - Limits'!B345=\"\",\"\",'Using CMS - Deviation - Limits'!B345)","v":""},{"$f":"IF('Using CMS - Deviation - Limits'!C345=\"\",\"\",'Using CMS - Deviation - Limits'!C345)","v":""},{"$f":"AY323&AZ323&Table10[[#This Row],[CMS]]","v":""},{"$f":"IF(COUNTIF(BA$2:BA323,BA323)=1,BA323,\"\")","v":""},"","",{"$f":"+IFERROR(INDEX(#REF!,MATCH(ROW()-ROW(BC$1),AX$2:AX$955,0)),\"\")","v":""}]
[{"$f":"+IF(D324=\"\",\"\",MAX(A$1:A323)+1)","v":""},{"$f":"IF('Process_&_CMS_Identification'!C346=\"\",\"\",'Process_&_CMS_Identification'!C346)","v":""},"",{"$f":"IF(COUNTIF(B$2:B324,B324)=1,B324,\"\")","v":""},{"$nulls":15},{"$f":"+IF(X324=\"\",\"\",MAX(T$1:T323)+1)","v":""},{"$f":"IF('No CMS - Deviation - Limits'!B346=\"\",\"\",'No CMS - Deviation - Limits'!B346)","v":""},{"$f":"IF('No CMS - Deviation - Limits'!C346=\"\",\"\",'No CMS - Deviation - Limits'!C346)","v":""},"",{"$f":"IF(COUNTIF(V$2:V324,V324)=1,V324,\"\")","v":""},"","",{"$f":"+IFERROR(INDEX(#REF!,MATCH(ROW()-ROW($Y$1),T$2:T$955,0)),\"\")","v":""},null,{"$f":"+IF(AG324=\"\",\"\",MAX(AC$1:AC323)+1)","v":""},{"$f":"IF('Using CMS - Deviation - Limits'!B346=\"\",\"\",'Using CMS - Deviation - Limits'!B346)","v":""},{"$f":"IF('Using CMS - Deviation - Limits'!C346=\"\",\"\",'Using CMS - Deviation - Limits'!C346)","v":""},"",{"$f":"IF(COUNTIF(AF$2:AF324,AF324)=1,AF324,\"\")","v":""},"","",{"$f":"+IFERROR(INDEX(#REF!,MATCH(ROW()-ROW(AG$1),AC$2:AC$955,0)),\"\")","v":""},{"$nulls":3},{"$f":"+IF(AS324=\"\",\"\",MAX(AN$1:AN323)+1)","v":""},{"$f":"IF('Using CMS - Inop_OoC - CMS'!B346=\"\",\"\",'Using CMS - Inop_OoC - CMS'!B346)","v":""},{"$f":"IF('Using CMS - Inop_OoC - CMS'!C346=\"\",\"\",'Using CMS - Inop_OoC - CMS'!C346)","v":""},{"$f":"IF('Using CMS - Inop_OoC - CMS'!D346=\"\",\"\",'Using CMS - Inop_OoC - CMS'!D346)","v":""},{"$f":"AO324&AP324&Table10[[#This Row],[CMS]]","v":""},{"$f":"IF(COUNTIF(AR$2:AR324,AR324)=1,AR324,\"\")","v":""},"","","",null,{"$f":"+IF(BB324=\"\",\"\",MAX(AX$1:AX323)+1)","v":""},{"$f":"IF('Using CMS - Deviation - Limits'!B346=\"\",\"\",'Using CMS - Deviation - Limits'!B346)","v":""},{"$f":"IF('Using CMS - Deviation - Limits'!C346=\"\",\"\",'Using CMS - Deviation - Limits'!C346)","v":""},{"$f":"AY324&AZ324&Table10[[#This Row],[CMS]]","v":""},{"$f":"IF(COUNTIF(BA$2:BA324,BA324)=1,BA324,\"\")","v":""},"","",{"$f":"+IFERROR(INDEX(#REF!,MATCH(ROW()-ROW(BC$1),AX$2:AX$955,0)),\"\")","v":""}]
[{"$f":"+IF(D325=\"\",\"\",MAX(A$1:A324)+1)","v":""},{"$f":"IF('Process_&_CMS_Identification'!C347=\"\",\"\",'Process_&_CMS_Identification'!C347)","v":""},"",{"$f":"IF(COUNTIF(B$2:B325,B325)=1,B325,\"\")","v":""},{"$nulls":15},{"$f":"+IF(X325=\"\",\"\",MAX(T$1:T324)+1)","v":""},{"$f":"IF('No CMS - Deviation - Limits'!B347=\"\",\"\",'No CMS - Deviation - Limits'!B347)","v":""},{"$f":"IF('No CMS - Deviation - Limits'!C347=\"\",\"\",'No CMS - Deviation - Limits'!C347)","v":""},"",{"$f":"IF(COUNTIF(V$2:V325,V325)=1,V325,\"\")","v":""},"","",{"$f":"+IFERROR(INDEX(#REF!,MATCH(ROW()-ROW($Y$1),T$2:T$955,0)),\"\")","v":""},null,{"$f":"+IF(AG325=\"\",\"\",MAX(AC$1:AC324)+1)","v":""},{"$f":"IF('Using CMS - Deviation - Limits'!B347=\"\",\"\",'Using CMS - Deviation - Limits'!B347)","v":""},{"$f":"IF('Using CMS - Deviation - Limits'!C347=\"\",\"\",'Using CMS - Deviation - Limits'!C347)","v":""},"",{"$f":"IF(COUNTIF(AF$2:AF325,AF325)=1,AF325,\"\")","v":""},"","",{"$f":"+IFERROR(INDEX(#REF!,MATCH(ROW()-ROW(AG$1),AC$2:AC$955,0)),\"\")","v":""},{"$nulls":3},{"$f":"+IF(AS325=\"\",\"\",MAX(AN$1:AN324)+1)","v":""},{"$f":"IF('Using CMS - Inop_OoC - CMS'!B347=\"\",\"\",'Using CMS - Inop_OoC - CMS'!B347)","v":""},{"$f":"IF('Using CMS - Inop_OoC - CMS'!C347=\"\",\"\",'Using CMS - Inop_OoC - CMS'!C347)","v":""},{"$f":"IF('Using CMS - Inop_OoC - CMS'!D347=\"\",\"\",'Using CMS - Inop_OoC - CMS'!D347)","v":""},{"$f":"AO325&AP325&Table10[[#This Row],[CMS]]","v":""},{"$f":"IF(COUNTIF(AR$2:AR325,AR325)=1,AR325,\"\")","v":""},"","","",null,{"$f":"+IF(BB325=\"\",\"\",MAX(AX$1:AX324)+1)","v":""},{"$f":"IF('Using CMS - Deviation - Limits'!B347=\"\",\"\",'Using CMS - Deviation - Limits'!B347)","v":""},{"$f":"IF('Using CMS - Deviation - Limits'!C347=\"\",\"\",'Using CMS - Deviation - Limits'!C347)","v":""},{"$f":"AY325&AZ325&Table10[[#This Row],[CMS]]","v":""},{"$f":"IF(COUNTIF(BA$2:BA325,BA325)=1,BA325,\"\")","v":""},"","",{"$f":"+IFERROR(INDEX(#REF!,MATCH(ROW()-ROW(BC$1),AX$2:AX$955,0)),\"\")","v":""}]
[{"$f":"+IF(D326=\"\",\"\",MAX(A$1:A325)+1)","v":""},{"$f":"IF('Process_&_CMS_Identification'!C348=\"\",\"\",'Process_&_CMS_Identification'!C348)","v":""},"",{"$f":"IF(COUNTIF(B$2:B326,B326)=1,B326,\"\")","v":""},{"$nulls":15},{"$f":"+IF(X326=\"\",\"\",MAX(T$1:T325)+1)","v":""},{"$f":"IF('No CMS - Deviation - Limits'!B348=\"\",\"\",'No CMS - Deviation - Limits'!B348)","v":""},{"$f":"IF('No CMS - Deviation - Limits'!C348=\"\",\"\",'No CMS - Deviation - Limits'!C348)","v":""},"",{"$f":"IF(COUNTIF(V$2:V326,V326)=1,V326,\"\")","v":""},"","",{"$f":"+IFERROR(INDEX(#REF!,MATCH(ROW()-ROW($Y$1),T$2:T$955,0)),\"\")","v":""},null,{"$f":"+IF(AG326=\"\",\"\",MAX(AC$1:AC325)+1)","v":""},{"$f":"IF('Using CMS - Deviation - Limits'!B348=\"\",\"\",'Using CMS - Deviation - Limits'!B348)","v":""},{"$f":"IF('Using CMS - Deviation - Limits'!C348=\"\",\"\",'Using CMS - Deviation - Limits'!C348)","v":""},"",{"$f":"IF(COUNTIF(AF$2:AF326,AF326)=1,AF326,\"\")","v":""},"","",{"$f":"+IFERROR(INDEX(#REF!,MATCH(ROW()-ROW(AG$1),AC$2:AC$955,0)),\"\")","v":""},{"$nulls":3},{"$f":"+IF(AS326=\"\",\"\",MAX(AN$1:AN325)+1)","v":""},{"$f":"IF('Using CMS - Inop_OoC - CMS'!B348=\"\",\"\",'Using CMS - Inop_OoC - CMS'!B348)","v":""},{"$f":"IF('Using CMS - Inop_OoC - CMS'!C348=\"\",\"\",'Using CMS - Inop_OoC - CMS'!C348)","v":""},{"$f":"IF('Using CMS - Inop_OoC - CMS'!D348=\"\",\"\",'Using CMS - Inop_OoC - CMS'!D348)","v":""},{"$f":"AO326&AP326&Table10[[#This Row],[CMS]]","v":""},{"$f":"IF(COUNTIF(AR$2:AR326,AR326)=1,AR326,\"\")","v":""},"","","",null,{"$f":"+IF(BB326=\"\",\"\",MAX(AX$1:AX325)+1)","v":""},{"$f":"IF('Using CMS - Deviation - Limits'!B348=\"\",\"\",'Using CMS - Deviation - Limits'!B348)","v":""},{"$f":"IF('Using CMS - Deviation - Limits'!C348=\"\",\"\",'Using CMS - Deviation - Limits'!C348)","v":""},{"$f":"AY326&AZ326&Table10[[#This Row],[CMS]]","v":""},{"$f":"IF(COUNTIF(BA$2:BA326,BA326)=1,BA326,\"\")","v":""},"","",{"$f":"+IFERROR(INDEX(#REF!,MATCH(ROW()-ROW(BC$1),AX$2:AX$955,0)),\"\")","v":""}]
[{"$f":"+IF(D327=\"\",\"\",MAX(A$1:A326)+1)","v":""},{"$f":"IF('Process_&_CMS_Identification'!C349=\"\",\"\",'Process_&_CMS_Identification'!C349)","v":""},"",{"$f":"IF(COUNTIF(B$2:B327,B327)=1,B327,\"\")","v":""},{"$nulls":15},{"$f":"+IF(X327=\"\",\"\",MAX(T$1:T326)+1)","v":""},{"$f":"IF('No CMS - Deviation - Limits'!B349=\"\",\"\",'No CMS - Deviation - Limits'!B349)","v":""},{"$f":"IF('No CMS - Deviation - Limits'!C349=\"\",\"\",'No CMS - Deviation - Limits'!C349)","v":""},"",{"$f":"IF(COUNTIF(V$2:V327,V327)=1,V327,\"\")","v":""},"","",{"$f":"+IFERROR(INDEX(#REF!,MATCH(ROW()-ROW($Y$1),T$2:T$955,0)),\"\")","v":""},null,{"$f":"+IF(AG327=\"\",\"\",MAX(AC$1:AC326)+1)","v":""},{"$f":"IF('Using CMS - Deviation - Limits'!B349=\"\",\"\",'Using CMS - Deviation - Limits'!B349)","v":""},{"$f":"IF('Using CMS - Deviation - Limits'!C349=\"\",\"\",'Using CMS - Deviation - Limits'!C349)","v":""},"",{"$f":"IF(COUNTIF(AF$2:AF327,AF327)=1,AF327,\"\")","v":""},"","",{"$f":"+IFERROR(INDEX(#REF!,MATCH(ROW()-ROW(AG$1),AC$2:AC$955,0)),\"\")","v":""},{"$nulls":3},{"$f":"+IF(AS327=\"\",\"\",MAX(AN$1:AN326)+1)","v":""},{"$f":"IF('Using CMS - Inop_OoC - CMS'!B349=\"\",\"\",'Using CMS - Inop_OoC - CMS'!B349)","v":""},{"$f":"IF('Using CMS - Inop_OoC - CMS'!C349=\"\",\"\",'Using CMS - Inop_OoC - CMS'!C349)","v":""},{"$f":"IF('Using CMS - Inop_OoC - CMS'!D349=\"\",\"\",'Using CMS - Inop_OoC - CMS'!D349)","v":""},{"$f":"AO327&AP327&Table10[[#This Row],[CMS]]","v":""},{"$f":"IF(COUNTIF(AR$2:AR327,AR327)=1,AR327,\"\")","v":""},"","","",null,{"$f":"+IF(BB327=\"\",\"\",MAX(AX$1:AX326)+1)","v":""},{"$f":"IF('Using CMS - Deviation - Limits'!B349=\"\",\"\",'Using CMS - Deviation - Limits'!B349)","v":""},{"$f":"IF('Using CMS - Deviation - Limits'!C349=\"\",\"\",'Using CMS - Deviation - Limits'!C349)","v":""},{"$f":"AY327&AZ327&Table10[[#This Row],[CMS]]","v":""},{"$f":"IF(COUNTIF(BA$2:BA327,BA327)=1,BA327,\"\")","v":""},"","",{"$f":"+IFERROR(INDEX(#REF!,MATCH(ROW()-ROW(BC$1),AX$2:AX$955,0)),\"\")","v":""}]
[{"$f":"+IF(D328=\"\",\"\",MAX(A$1:A327)+1)","v":""},{"$f":"IF('Process_&_CMS_Identification'!C350=\"\",\"\",'Process_&_CMS_Identification'!C350)","v":""},"",{"$f":"IF(COUNTIF(B$2:B328,B328)=1,B328,\"\")","v":""},{"$nulls":15},{"$f":"+IF(X328=\"\",\"\",MAX(T$1:T327)+1)","v":""},{"$f":"IF('No CMS - Deviation - Limits'!B350=\"\",\"\",'No CMS - Deviation - Limits'!B350)","v":""},{"$f":"IF('No CMS - Deviation - Limits'!C350=\"\",\"\",'No CMS - Deviation - Limits'!C350)","v":""},"",{"$f":"IF(COUNTIF(V$2:V328,V328)=1,V328,\"\")","v":""},"","",{"$f":"+IFERROR(INDEX(#REF!,MATCH(ROW()-ROW($Y$1),T$2:T$955,0)),\"\")","v":""},null,{"$f":"+IF(AG328=\"\",\"\",MAX(AC$1:AC327)+1)","v":""},{"$f":"IF('Using CMS - Deviation - Limits'!B350=\"\",\"\",'Using CMS - Deviation - Limits'!B350)","v":""},{"$f":"IF('Using CMS - Deviation - Limits'!C350=\"\",\"\",'Using CMS - Deviation - Limits'!C350)","v":""},"",{"$f":"IF(COUNTIF(AF$2:AF328,AF328)=1,AF328,\"\")","v":""},"","",{"$f":"+IFERROR(INDEX(#REF!,MATCH(ROW()-ROW(AG$1),AC$2:AC$955,0)),\"\")","v":""},{"$nulls":3},{"$f":"+IF(AS328=\"\",\"\",MAX(AN$1:AN327)+1)","v":""},{"$f":"IF('Using CMS - Inop_OoC - CMS'!B350=\"\",\"\",'Using CMS - Inop_OoC - CMS'!B350)","v":""},{"$f":"IF('Using CMS - Inop_OoC - CMS'!C350=\"\",\"\",'Using CMS - Inop_OoC - CMS'!C350)","v":""},{"$f":"IF('Using CMS - Inop_OoC - CMS'!D350=\"\",\"\",'Using CMS - Inop_OoC - CMS'!D350)","v":""},{"$f":"AO328&AP328&Table10[[#This Row],[CMS]]","v":""},{"$f":"IF(COUNTIF(AR$2:AR328,AR328)=1,AR328,\"\")","v":""},"","","",null,{"$f":"+IF(BB328=\"\",\"\",MAX(AX$1:AX327)+1)","v":""},{"$f":"IF('Using CMS - Deviation - Limits'!B350=\"\",\"\",'Using CMS - Deviation - Limits'!B350)","v":""},{"$f":"IF('Using CMS - Deviation - Limits'!C350=\"\",\"\",'Using CMS - Deviation - Limits'!C350)","v":""},{"$f":"AY328&AZ328&Table10[[#This Row],[CMS]]","v":""},{"$f":"IF(COUNTIF(BA$2:BA328,BA328)=1,BA328,\"\")","v":""},"","",{"$f":"+IFERROR(INDEX(#REF!,MATCH(ROW()-ROW(BC$1),AX$2:AX$955,0)),\"\")","v":""}]
[{"$f":"+IF(D329=\"\",\"\",MAX(A$1:A328)+1)","v":""},{"$f":"IF('Process_&_CMS_Identification'!C351=\"\",\"\",'Process_&_CMS_Identification'!C351)","v":""},"",{"$f":"IF(COUNTIF(B$2:B329,B329)=1,B329,\"\")","v":""},{"$nulls":15},{"$f":"+IF(X329=\"\",\"\",MAX(T$1:T328)+1)","v":""},{"$f":"IF('No CMS - Deviation - Limits'!B351=\"\",\"\",'No CMS - Deviation - Limits'!B351)","v":""},{"$f":"IF('No CMS - Deviation - Limits'!C351=\"\",\"\",'No CMS - Deviation - Limits'!C351)","v":""},"",{"$f":"IF(COUNTIF(V$2:V329,V329)=1,V329,\"\")","v":""},"","",{"$f":"+IFERROR(INDEX(#REF!,MATCH(ROW()-ROW($Y$1),T$2:T$955,0)),\"\")","v":""},null,{"$f":"+IF(AG329=\"\",\"\",MAX(AC$1:AC328)+1)","v":""},{"$f":"IF('Using CMS - Deviation - Limits'!B351=\"\",\"\",'Using CMS - Deviation - Limits'!B351)","v":""},{"$f":"IF('Using CMS - Deviation - Limits'!C351=\"\",\"\",'Using CMS - Deviation - Limits'!C351)","v":""},"",{"$f":"IF(COUNTIF(AF$2:AF329,AF329)=1,AF329,\"\")","v":""},"","",{"$f":"+IFERROR(INDEX(#REF!,MATCH(ROW()-ROW(AG$1),AC$2:AC$955,0)),\"\")","v":""},{"$nulls":3},{"$f":"+IF(AS329=\"\",\"\",MAX(AN$1:AN328)+1)","v":""},{"$f":"IF('Using CMS - Inop_OoC - CMS'!B351=\"\",\"\",'Using CMS - Inop_OoC - CMS'!B351)","v":""},{"$f":"IF('Using CMS - Inop_OoC - CMS'!C351=\"\",\"\",'Using CMS - Inop_OoC - CMS'!C351)","v":""},{"$f":"IF('Using CMS - Inop_OoC - CMS'!D351=\"\",\"\",'Using CMS - Inop_OoC - CMS'!D351)","v":""},{"$f":"AO329&AP329&Table10[[#This Row],[CMS]]","v":""},{"$f":"IF(COUNTIF(AR$2:AR329,AR329)=1,AR329,\"\")","v":""},"","","",null,{"$f":"+IF(BB329=\"\",\"\",MAX(AX$1:AX328)+1)","v":""},{"$f":"IF('Using CMS - Deviation - Limits'!B351=\"\",\"\",'Using CMS - Deviation - Limits'!B351)","v":""},{"$f":"IF('Using CMS - Deviation - Limits'!C351=\"\",\"\",'Using CMS - Deviation - Limits'!C351)","v":""},{"$f":"AY329&AZ329&Table10[[#This Row],[CMS]]","v":""},{"$f":"IF(COUNTIF(BA$2:BA329,BA329)=1,BA329,\"\")","v":""},"","",{"$f":"+IFERROR(INDEX(#REF!,MATCH(ROW()-ROW(BC$1),AX$2:AX$955,0)),\"\")","v":""}]
[{"$f":"+IF(D330=\"\",\"\",MAX(A$1:A329)+1)","v":""},{"$f":"IF('Process_&_CMS_Identification'!C352=\"\",\"\",'Process_&_CMS_Identification'!C352)","v":""},"",{"$f":"IF(COUNTIF(B$2:B330,B330)=1,B330,\"\")","v":""},{"$nulls":15},{"$f":"+IF(X330=\"\",\"\",MAX(T$1:T329)+1)","v":""},{"$f":"IF('No CMS - Deviation - Limits'!B352=\"\",\"\",'No CMS - Deviation - Limits'!B352)","v":""},{"$f":"IF('No CMS - Deviation - Limits'!C352=\"\",\"\",'No CMS - Deviation - Limits'!C352)","v":""},"",{"$f":"IF(COUNTIF(V$2:V330,V330)=1,V330,\"\")","v":""},"","",{"$f":"+IFERROR(INDEX(#REF!,MATCH(ROW()-ROW($Y$1),T$2:T$955,0)),\"\")","v":""},null,{"$f":"+IF(AG330=\"\",\"\",MAX(AC$1:AC329)+1)","v":""},{"$f":"IF('Using CMS - Deviation - Limits'!B352=\"\",\"\",'Using CMS - Deviation - Limits'!B352)","v":""},{"$f":"IF('Using CMS - Deviation - Limits'!C352=\"\",\"\",'Using CMS - Deviation - Limits'!C352)","v":""},"",{"$f":"IF(COUNTIF(AF$2:AF330,AF330)=1,AF330,\"\")","v":""},"","",{"$f":"+IFERROR(INDEX(#REF!,MATCH(ROW()-ROW(AG$1),AC$2:AC$955,0)),\"\")","v":""},{"$nulls":3},{"$f":"+IF(AS330=\"\",\"\",MAX(AN$1:AN329)+1)","v":""},{"$f":"IF('Using CMS - Inop_OoC - CMS'!B352=\"\",\"\",'Using CMS - Inop_OoC - CMS'!B352)","v":""},{"$f":"IF('Using CMS - Inop_OoC - CMS'!C352=\"\",\"\",'Using CMS - Inop_OoC - CMS'!C352)","v":""},{"$f":"IF('Using CMS - Inop_OoC - CMS'!D352=\"\",\"\",'Using CMS - Inop_OoC - CMS'!D352)","v":""},{"$f":"AO330&AP330&Table10[[#This Row],[CMS]]","v":""},{"$f":"IF(COUNTIF(AR$2:AR330,AR330)=1,AR330,\"\")","v":""},"","","",null,{"$f":"+IF(BB330=\"\",\"\",MAX(AX$1:AX329)+1)","v":""},{"$f":"IF('Using CMS - Deviation - Limits'!B352=\"\",\"\",'Using CMS - Deviation - Limits'!B352)","v":""},{"$f":"IF('Using CMS - Deviation - Limits'!C352=\"\",\"\",'Using CMS - Deviation - Limits'!C352)","v":""},{"$f":"AY330&AZ330&Table10[[#This Row],[CMS]]","v":""},{"$f":"IF(COUNTIF(BA$2:BA330,BA330)=1,BA330,\"\")","v":""},"","",{"$f":"+IFERROR(INDEX(#REF!,MATCH(ROW()-ROW(BC$1),AX$2:AX$955,0)),\"\")","v":""}]
[{"$f":"+IF(D331=\"\",\"\",MAX(A$1:A330)+1)","v":""},{"$f":"IF('Process_&_CMS_Identification'!C353=\"\",\"\",'Process_&_CMS_Identification'!C353)","v":""},"",{"$f":"IF(COUNTIF(B$2:B331,B331)=1,B331,\"\")","v":""},{"$nulls":15},{"$f":"+IF(X331=\"\",\"\",MAX(T$1:T330)+1)","v":""},{"$f":"IF('No CMS - Deviation - Limits'!B353=\"\",\"\",'No CMS - Deviation - Limits'!B353)","v":""},{"$f":"IF('No CMS - Deviation - Limits'!C353=\"\",\"\",'No CMS - Deviation - Limits'!C353)","v":""},"",{"$f":"IF(COUNTIF(V$2:V331,V331)=1,V331,\"\")","v":""},"","",{"$f":"+IFERROR(INDEX(#REF!,MATCH(ROW()-ROW($Y$1),T$2:T$955,0)),\"\")","v":""},null,{"$f":"+IF(AG331=\"\",\"\",MAX(AC$1:AC330)+1)","v":""},{"$f":"IF('Using CMS - Deviation - Limits'!B353=\"\",\"\",'Using CMS - Deviation - Limits'!B353)","v":""},{"$f":"IF('Using CMS - Deviation - Limits'!C353=\"\",\"\",'Using CMS - Deviation - Limits'!C353)","v":""},"",{"$f":"IF(COUNTIF(AF$2:AF331,AF331)=1,AF331,\"\")","v":""},"","",{"$f":"+IFERROR(INDEX(#REF!,MATCH(ROW()-ROW(AG$1),AC$2:AC$955,0)),\"\")","v":""},{"$nulls":3},{"$f":"+IF(AS331=\"\",\"\",MAX(AN$1:AN330)+1)","v":""},{"$f":"IF('Using CMS - Inop_OoC - CMS'!B353=\"\",\"\",'Using CMS - Inop_OoC - CMS'!B353)","v":""},{"$f":"IF('Using CMS - Inop_OoC - CMS'!C353=\"\",\"\",'Using CMS - Inop_OoC - CMS'!C353)","v":""},{"$f":"IF('Using CMS - Inop_OoC - CMS'!D353=\"\",\"\",'Using CMS - Inop_OoC - CMS'!D353)","v":""},{"$f":"AO331&AP331&Table10[[#This Row],[CMS]]","v":""},{"$f":"IF(COUNTIF(AR$2:AR331,AR331)=1,AR331,\"\")","v":""},"","","",null,{"$f":"+IF(BB331=\"\",\"\",MAX(AX$1:AX330)+1)","v":""},{"$f":"IF('Using CMS - Deviation - Limits'!B353=\"\",\"\",'Using CMS - Deviation - Limits'!B353)","v":""},{"$f":"IF('Using CMS - Deviation - Limits'!C353=\"\",\"\",'Using CMS - Deviation - Limits'!C353)","v":""},{"$f":"AY331&AZ331&Table10[[#This Row],[CMS]]","v":""},{"$f":"IF(COUNTIF(BA$2:BA331,BA331)=1,BA331,\"\")","v":""},"","",{"$f":"+IFERROR(INDEX(#REF!,MATCH(ROW()-ROW(BC$1),AX$2:AX$955,0)),\"\")","v":""}]
[{"$f":"+IF(D332=\"\",\"\",MAX(A$1:A331)+1)","v":""},{"$f":"IF('Process_&_CMS_Identification'!C354=\"\",\"\",'Process_&_CMS_Identification'!C354)","v":""},"",{"$f":"IF(COUNTIF(B$2:B332,B332)=1,B332,\"\")","v":""},{"$nulls":15},{"$f":"+IF(X332=\"\",\"\",MAX(T$1:T331)+1)","v":""},{"$f":"IF('No CMS - Deviation - Limits'!B354=\"\",\"\",'No CMS - Deviation - Limits'!B354)","v":""},{"$f":"IF('No CMS - Deviation - Limits'!C354=\"\",\"\",'No CMS - Deviation - Limits'!C354)","v":""},"",{"$f":"IF(COUNTIF(V$2:V332,V332)=1,V332,\"\")","v":""},"","",{"$f":"+IFERROR(INDEX(#REF!,MATCH(ROW()-ROW($Y$1),T$2:T$955,0)),\"\")","v":""},null,{"$f":"+IF(AG332=\"\",\"\",MAX(AC$1:AC331)+1)","v":""},{"$f":"IF('Using CMS - Deviation - Limits'!B354=\"\",\"\",'Using CMS - Deviation - Limits'!B354)","v":""},{"$f":"IF('Using CMS - Deviation - Limits'!C354=\"\",\"\",'Using CMS - Deviation - Limits'!C354)","v":""},"",{"$f":"IF(COUNTIF(AF$2:AF332,AF332)=1,AF332,\"\")","v":""},"","",{"$f":"+IFERROR(INDEX(#REF!,MATCH(ROW()-ROW(AG$1),AC$2:AC$955,0)),\"\")","v":""},{"$nulls":3},{"$f":"+IF(AS332=\"\",\"\",MAX(AN$1:AN331)+1)","v":""},{"$f":"IF('Using CMS - Inop_OoC - CMS'!B354=\"\",\"\",'Using CMS - Inop_OoC - CMS'!B354)","v":""},{"$f":"IF('Using CMS - Inop_OoC - CMS'!C354=\"\",\"\",'Using CMS - Inop_OoC - CMS'!C354)","v":""},{"$f":"IF('Using CMS - Inop_OoC - CMS'!D354=\"\",\"\",'Using CMS - Inop_OoC - CMS'!D354)","v":""},{"$f":"AO332&AP332&Table10[[#This Row],[CMS]]","v":""},{"$f":"IF(COUNTIF(AR$2:AR332,AR332)=1,AR332,\"\")","v":""},"","","",null,{"$f":"+IF(BB332=\"\",\"\",MAX(AX$1:AX331)+1)","v":""},{"$f":"IF('Using CMS - Deviation - Limits'!B354=\"\",\"\",'Using CMS - Deviation - Limits'!B354)","v":""},{"$f":"IF('Using CMS - Deviation - Limits'!C354=\"\",\"\",'Using CMS - Deviation - Limits'!C354)","v":""},{"$f":"AY332&AZ332&Table10[[#This Row],[CMS]]","v":""},{"$f":"IF(COUNTIF(BA$2:BA332,BA332)=1,BA332,\"\")","v":""},"","",{"$f":"+IFERROR(INDEX(#REF!,MATCH(ROW()-ROW(BC$1),AX$2:AX$955,0)),\"\")","v":""}]
[{"$f":"+IF(D333=\"\",\"\",MAX(A$1:A332)+1)","v":""},{"$f":"IF('Process_&_CMS_Identification'!C355=\"\",\"\",'Process_&_CMS_Identification'!C355)","v":""},"",{"$f":"IF(COUNTIF(B$2:B333,B333)=1,B333,\"\")","v":""},{"$nulls":15},{"$f":"+IF(X333=\"\",\"\",MAX(T$1:T332)+1)","v":""},{"$f":"IF('No CMS - Deviation - Limits'!B355=\"\",\"\",'No CMS - Deviation - Limits'!B355)","v":""},{"$f":"IF('No CMS - Deviation - Limits'!C355=\"\",\"\",'No CMS - Deviation - Limits'!C355)","v":""},"",{"$f":"IF(COUNTIF(V$2:V333,V333)=1,V333,\"\")","v":""},"","",{"$f":"+IFERROR(INDEX(#REF!,MATCH(ROW()-ROW($Y$1),T$2:T$955,0)),\"\")","v":""},null,{"$f":"+IF(AG333=\"\",\"\",MAX(AC$1:AC332)+1)","v":""},{"$f":"IF('Using CMS - Deviation - Limits'!B355=\"\",\"\",'Using CMS - Deviation - Limits'!B355)","v":""},{"$f":"IF('Using CMS - Deviation - Limits'!C355=\"\",\"\",'Using CMS - Deviation - Limits'!C355)","v":""},"",{"$f":"IF(COUNTIF(AF$2:AF333,AF333)=1,AF333,\"\")","v":""},"","",{"$f":"+IFERROR(INDEX(#REF!,MATCH(ROW()-ROW(AG$1),AC$2:AC$955,0)),\"\")","v":""},{"$nulls":3},{"$f":"+IF(AS333=\"\",\"\",MAX(AN$1:AN332)+1)","v":""},{"$f":"IF('Using CMS - Inop_OoC - CMS'!B355=\"\",\"\",'Using CMS - Inop_OoC - CMS'!B355)","v":""},{"$f":"IF('Using CMS - Inop_OoC - CMS'!C355=\"\",\"\",'Using CMS - Inop_OoC - CMS'!C355)","v":""},{"$f":"IF('Using CMS - Inop_OoC - CMS'!D355=\"\",\"\",'Using CMS - Inop_OoC - CMS'!D355)","v":""},{"$f":"AO333&AP333&Table10[[#This Row],[CMS]]","v":""},{"$f":"IF(COUNTIF(AR$2:AR333,AR333)=1,AR333,\"\")","v":""},"","","",null,{"$f":"+IF(BB333=\"\",\"\",MAX(AX$1:AX332)+1)","v":""},{"$f":"IF('Using CMS - Deviation - Limits'!B355=\"\",\"\",'Using CMS - Deviation - Limits'!B355)","v":""},{"$f":"IF('Using CMS - Deviation - Limits'!C355=\"\",\"\",'Using CMS - Deviation - Limits'!C355)","v":""},{"$f":"AY333&AZ333&Table10[[#This Row],[CMS]]","v":""},{"$f":"IF(COUNTIF(BA$2:BA333,BA333)=1,BA333,\"\")","v":""},"","",{"$f":"+IFERROR(INDEX(#REF!,MATCH(ROW()-ROW(BC$1),AX$2:AX$955,0)),\"\")","v":""}]
[{"$f":"+IF(D334=\"\",\"\",MAX(A$1:A333)+1)","v":""},{"$f":"IF('Process_&_CMS_Identification'!C356=\"\",\"\",'Process_&_CMS_Identification'!C356)","v":""},"",{"$f":"IF(COUNTIF(B$2:B334,B334)=1,B334,\"\")","v":""},{"$nulls":15},{"$f":"+IF(X334=\"\",\"\",MAX(T$1:T333)+1)","v":""},{"$f":"IF('No CMS - Deviation - Limits'!B356=\"\",\"\",'No CMS - Deviation - Limits'!B356)","v":""},{"$f":"IF('No CMS - Deviation - Limits'!C356=\"\",\"\",'No CMS - Deviation - Limits'!C356)","v":""},"",{"$f":"IF(COUNTIF(V$2:V334,V334)=1,V334,\"\")","v":""},"","",{"$f":"+IFERROR(INDEX(#REF!,MATCH(ROW()-ROW($Y$1),T$2:T$955,0)),\"\")","v":""},null,{"$f":"+IF(AG334=\"\",\"\",MAX(AC$1:AC333)+1)","v":""},{"$f":"IF('Using CMS - Deviation - Limits'!B356=\"\",\"\",'Using CMS - Deviation - Limits'!B356)","v":""},{"$f":"IF('Using CMS - Deviation - Limits'!C356=\"\",\"\",'Using CMS - Deviation - Limits'!C356)","v":""},"",{"$f":"IF(COUNTIF(AF$2:AF334,AF334)=1,AF334,\"\")","v":""},"","",{"$f":"+IFERROR(INDEX(#REF!,MATCH(ROW()-ROW(AG$1),AC$2:AC$955,0)),\"\")","v":""},{"$nulls":3},{"$f":"+IF(AS334=\"\",\"\",MAX(AN$1:AN333)+1)","v":""},{"$f":"IF('Using CMS - Inop_OoC - CMS'!B356=\"\",\"\",'Using CMS - Inop_OoC - CMS'!B356)","v":""},{"$f":"IF('Using CMS - Inop_OoC - CMS'!C356=\"\",\"\",'Using CMS - Inop_OoC - CMS'!C356)","v":""},{"$f":"IF('Using CMS - Inop_OoC - CMS'!D356=\"\",\"\",'Using CMS - Inop_OoC - CMS'!D356)","v":""},{"$f":"AO334&AP334&Table10[[#This Row],[CMS]]","v":""},{"$f":"IF(COUNTIF(AR$2:AR334,AR334)=1,AR334,\"\")","v":""},"","","",null,{"$f":"+IF(BB334=\"\",\"\",MAX(AX$1:AX333)+1)","v":""},{"$f":"IF('Using CMS - Deviation - Limits'!B356=\"\",\"\",'Using CMS - Deviation - Limits'!B356)","v":""},{"$f":"IF('Using CMS - Deviation - Limits'!C356=\"\",\"\",'Using CMS - Deviation - Limits'!C356)","v":""},{"$f":"AY334&AZ334&Table10[[#This Row],[CMS]]","v":""},{"$f":"IF(COUNTIF(BA$2:BA334,BA334)=1,BA334,\"\")","v":""},"","",{"$f":"+IFERROR(INDEX(#REF!,MATCH(ROW()-ROW(BC$1),AX$2:AX$955,0)),\"\")","v":""}]
[{"$f":"+IF(D335=\"\",\"\",MAX(A$1:A334)+1)","v":""},{"$f":"IF('Process_&_CMS_Identification'!C357=\"\",\"\",'Process_&_CMS_Identification'!C357)","v":""},"",{"$f":"IF(COUNTIF(B$2:B335,B335)=1,B335,\"\")","v":""},{"$nulls":15},{"$f":"+IF(X335=\"\",\"\",MAX(T$1:T334)+1)","v":""},{"$f":"IF('No CMS - Deviation - Limits'!B357=\"\",\"\",'No CMS - Deviation - Limits'!B357)","v":""},{"$f":"IF('No CMS - Deviation - Limits'!C357=\"\",\"\",'No CMS - Deviation - Limits'!C357)","v":""},"",{"$f":"IF(COUNTIF(V$2:V335,V335)=1,V335,\"\")","v":""},"","",{"$f":"+IFERROR(INDEX(#REF!,MATCH(ROW()-ROW($Y$1),T$2:T$955,0)),\"\")","v":""},null,{"$f":"+IF(AG335=\"\",\"\",MAX(AC$1:AC334)+1)","v":""},{"$f":"IF('Using CMS - Deviation - Limits'!B357=\"\",\"\",'Using CMS - Deviation - Limits'!B357)","v":""},{"$f":"IF('Using CMS - Deviation - Limits'!C357=\"\",\"\",'Using CMS - Deviation - Limits'!C357)","v":""},"",{"$f":"IF(COUNTIF(AF$2:AF335,AF335)=1,AF335,\"\")","v":""},"","",{"$f":"+IFERROR(INDEX(#REF!,MATCH(ROW()-ROW(AG$1),AC$2:AC$955,0)),\"\")","v":""},{"$nulls":3},{"$f":"+IF(AS335=\"\",\"\",MAX(AN$1:AN334)+1)","v":""},{"$f":"IF('Using CMS - Inop_OoC - CMS'!B357=\"\",\"\",'Using CMS - Inop_OoC - CMS'!B357)","v":""},{"$f":"IF('Using CMS - Inop_OoC - CMS'!C357=\"\",\"\",'Using CMS - Inop_OoC - CMS'!C357)","v":""},{"$f":"IF('Using CMS - Inop_OoC - CMS'!D357=\"\",\"\",'Using CMS - Inop_OoC - CMS'!D357)","v":""},{"$f":"AO335&AP335&Table10[[#This Row],[CMS]]","v":""},{"$f":"IF(COUNTIF(AR$2:AR335,AR335)=1,AR335,\"\")","v":""},"","","",null,{"$f":"+IF(BB335=\"\",\"\",MAX(AX$1:AX334)+1)","v":""},{"$f":"IF('Using CMS - Deviation - Limits'!B357=\"\",\"\",'Using CMS - Deviation - Limits'!B357)","v":""},{"$f":"IF('Using CMS - Deviation - Limits'!C357=\"\",\"\",'Using CMS - Deviation - Limits'!C357)","v":""},{"$f":"AY335&AZ335&Table10[[#This Row],[CMS]]","v":""},{"$f":"IF(COUNTIF(BA$2:BA335,BA335)=1,BA335,\"\")","v":""},"","",{"$f":"+IFERROR(INDEX(#REF!,MATCH(ROW()-ROW(BC$1),AX$2:AX$955,0)),\"\")","v":""}]
[{"$f":"+IF(D336=\"\",\"\",MAX(A$1:A335)+1)","v":""},{"$f":"IF('Process_&_CMS_Identification'!C358=\"\",\"\",'Process_&_CMS_Identification'!C358)","v":""},"",{"$f":"IF(COUNTIF(B$2:B336,B336)=1,B336,\"\")","v":""},{"$nulls":15},{"$f":"+IF(X336=\"\",\"\",MAX(T$1:T335)+1)","v":""},{"$f":"IF('No CMS - Deviation - Limits'!B358=\"\",\"\",'No CMS - Deviation - Limits'!B358)","v":""},{"$f":"IF('No CMS - Deviation - Limits'!C358=\"\",\"\",'No CMS - Deviation - Limits'!C358)","v":""},"",{"$f":"IF(COUNTIF(V$2:V336,V336)=1,V336,\"\")","v":""},"","",{"$f":"+IFERROR(INDEX(#REF!,MATCH(ROW()-ROW($Y$1),T$2:T$955,0)),\"\")","v":""},null,{"$f":"+IF(AG336=\"\",\"\",MAX(AC$1:AC335)+1)","v":""},{"$f":"IF('Using CMS - Deviation - Limits'!B358=\"\",\"\",'Using CMS - Deviation - Limits'!B358)","v":""},{"$f":"IF('Using CMS - Deviation - Limits'!C358=\"\",\"\",'Using CMS - Deviation - Limits'!C358)","v":""},"",{"$f":"IF(COUNTIF(AF$2:AF336,AF336)=1,AF336,\"\")","v":""},"","",{"$f":"+IFERROR(INDEX(#REF!,MATCH(ROW()-ROW(AG$1),AC$2:AC$955,0)),\"\")","v":""},{"$nulls":3},{"$f":"+IF(AS336=\"\",\"\",MAX(AN$1:AN335)+1)","v":""},{"$f":"IF('Using CMS - Inop_OoC - CMS'!B358=\"\",\"\",'Using CMS - Inop_OoC - CMS'!B358)","v":""},{"$f":"IF('Using CMS - Inop_OoC - CMS'!C358=\"\",\"\",'Using CMS - Inop_OoC - CMS'!C358)","v":""},{"$f":"IF('Using CMS - Inop_OoC - CMS'!D358=\"\",\"\",'Using CMS - Inop_OoC - CMS'!D358)","v":""},{"$f":"AO336&AP336&Table10[[#This Row],[CMS]]","v":""},{"$f":"IF(COUNTIF(AR$2:AR336,AR336)=1,AR336,\"\")","v":""},"","","",null,{"$f":"+IF(BB336=\"\",\"\",MAX(AX$1:AX335)+1)","v":""},{"$f":"IF('Using CMS - Deviation - Limits'!B358=\"\",\"\",'Using CMS - Deviation - Limits'!B358)","v":""},{"$f":"IF('Using CMS - Deviation - Limits'!C358=\"\",\"\",'Using CMS - Deviation - Limits'!C358)","v":""},{"$f":"AY336&AZ336&Table10[[#This Row],[CMS]]","v":""},{"$f":"IF(COUNTIF(BA$2:BA336,BA336)=1,BA336,\"\")","v":""},"","",{"$f":"+IFERROR(INDEX(#REF!,MATCH(ROW()-ROW(BC$1),AX$2:AX$955,0)),\"\")","v":""}]
[{"$f":"+IF(D337=\"\",\"\",MAX(A$1:A336)+1)","v":""},{"$f":"IF('Process_&_CMS_Identification'!C359=\"\",\"\",'Process_&_CMS_Identification'!C359)","v":""},"",{"$f":"IF(COUNTIF(B$2:B337,B337)=1,B337,\"\")","v":""},{"$nulls":15},{"$f":"+IF(X337=\"\",\"\",MAX(T$1:T336)+1)","v":""},{"$f":"IF('No CMS - Deviation - Limits'!B359=\"\",\"\",'No CMS - Deviation - Limits'!B359)","v":""},{"$f":"IF('No CMS - Deviation - Limits'!C359=\"\",\"\",'No CMS - Deviation - Limits'!C359)","v":""},"",{"$f":"IF(COUNTIF(V$2:V337,V337)=1,V337,\"\")","v":""},"","",{"$f":"+IFERROR(INDEX(#REF!,MATCH(ROW()-ROW($Y$1),T$2:T$955,0)),\"\")","v":""},null,{"$f":"+IF(AG337=\"\",\"\",MAX(AC$1:AC336)+1)","v":""},{"$f":"IF('Using CMS - Deviation - Limits'!B359=\"\",\"\",'Using CMS - Deviation - Limits'!B359)","v":""},{"$f":"IF('Using CMS - Deviation - Limits'!C359=\"\",\"\",'Using CMS - Deviation - Limits'!C359)","v":""},"",{"$f":"IF(COUNTIF(AF$2:AF337,AF337)=1,AF337,\"\")","v":""},"","",{"$f":"+IFERROR(INDEX(#REF!,MATCH(ROW()-ROW(AG$1),AC$2:AC$955,0)),\"\")","v":""},{"$nulls":3},{"$f":"+IF(AS337=\"\",\"\",MAX(AN$1:AN336)+1)","v":""},{"$f":"IF('Using CMS - Inop_OoC - CMS'!B359=\"\",\"\",'Using CMS - Inop_OoC - CMS'!B359)","v":""},{"$f":"IF('Using CMS - Inop_OoC - CMS'!C359=\"\",\"\",'Using CMS - Inop_OoC - CMS'!C359)","v":""},{"$f":"IF('Using CMS - Inop_OoC - CMS'!D359=\"\",\"\",'Using CMS - Inop_OoC - CMS'!D359)","v":""},{"$f":"AO337&AP337&Table10[[#This Row],[CMS]]","v":""},{"$f":"IF(COUNTIF(AR$2:AR337,AR337)=1,AR337,\"\")","v":""},"","","",null,{"$f":"+IF(BB337=\"\",\"\",MAX(AX$1:AX336)+1)","v":""},{"$f":"IF('Using CMS - Deviation - Limits'!B359=\"\",\"\",'Using CMS - Deviation - Limits'!B359)","v":""},{"$f":"IF('Using CMS - Deviation - Limits'!C359=\"\",\"\",'Using CMS - Deviation - Limits'!C359)","v":""},{"$f":"AY337&AZ337&Table10[[#This Row],[CMS]]","v":""},{"$f":"IF(COUNTIF(BA$2:BA337,BA337)=1,BA337,\"\")","v":""},"","",{"$f":"+IFERROR(INDEX(#REF!,MATCH(ROW()-ROW(BC$1),AX$2:AX$955,0)),\"\")","v":""}]
[{"$f":"+IF(D338=\"\",\"\",MAX(A$1:A337)+1)","v":""},{"$f":"IF('Process_&_CMS_Identification'!C360=\"\",\"\",'Process_&_CMS_Identification'!C360)","v":""},"",{"$f":"IF(COUNTIF(B$2:B338,B338)=1,B338,\"\")","v":""},{"$nulls":15},{"$f":"+IF(X338=\"\",\"\",MAX(T$1:T337)+1)","v":""},{"$f":"IF('No CMS - Deviation - Limits'!B360=\"\",\"\",'No CMS - Deviation - Limits'!B360)","v":""},{"$f":"IF('No CMS - Deviation - Limits'!C360=\"\",\"\",'No CMS - Deviation - Limits'!C360)","v":""},"",{"$f":"IF(COUNTIF(V$2:V338,V338)=1,V338,\"\")","v":""},"","",{"$f":"+IFERROR(INDEX(#REF!,MATCH(ROW()-ROW($Y$1),T$2:T$955,0)),\"\")","v":""},null,{"$f":"+IF(AG338=\"\",\"\",MAX(AC$1:AC337)+1)","v":""},{"$f":"IF('Using CMS - Deviation - Limits'!B360=\"\",\"\",'Using CMS - Deviation - Limits'!B360)","v":""},{"$f":"IF('Using CMS - Deviation - Limits'!C360=\"\",\"\",'Using CMS - Deviation - Limits'!C360)","v":""},"",{"$f":"IF(COUNTIF(AF$2:AF338,AF338)=1,AF338,\"\")","v":""},"","",{"$f":"+IFERROR(INDEX(#REF!,MATCH(ROW()-ROW(AG$1),AC$2:AC$955,0)),\"\")","v":""},{"$nulls":3},{"$f":"+IF(AS338=\"\",\"\",MAX(AN$1:AN337)+1)","v":""},{"$f":"IF('Using CMS - Inop_OoC - CMS'!B360=\"\",\"\",'Using CMS - Inop_OoC - CMS'!B360)","v":""},{"$f":"IF('Using CMS - Inop_OoC - CMS'!C360=\"\",\"\",'Using CMS - Inop_OoC - CMS'!C360)","v":""},{"$f":"IF('Using CMS - Inop_OoC - CMS'!D360=\"\",\"\",'Using CMS - Inop_OoC - CMS'!D360)","v":""},{"$f":"AO338&AP338&Table10[[#This Row],[CMS]]","v":""},{"$f":"IF(COUNTIF(AR$2:AR338,AR338)=1,AR338,\"\")","v":""},"","","",null,{"$f":"+IF(BB338=\"\",\"\",MAX(AX$1:AX337)+1)","v":""},{"$f":"IF('Using CMS - Deviation - Limits'!B360=\"\",\"\",'Using CMS - Deviation - Limits'!B360)","v":""},{"$f":"IF('Using CMS - Deviation - Limits'!C360=\"\",\"\",'Using CMS - Deviation - Limits'!C360)","v":""},{"$f":"AY338&AZ338&Table10[[#This Row],[CMS]]","v":""},{"$f":"IF(COUNTIF(BA$2:BA338,BA338)=1,BA338,\"\")","v":""},"","",{"$f":"+IFERROR(INDEX(#REF!,MATCH(ROW()-ROW(BC$1),AX$2:AX$955,0)),\"\")","v":""}]
[{"$f":"+IF(D339=\"\",\"\",MAX(A$1:A338)+1)","v":""},{"$f":"IF('Process_&_CMS_Identification'!C361=\"\",\"\",'Process_&_CMS_Identification'!C361)","v":""},"",{"$f":"IF(COUNTIF(B$2:B339,B339)=1,B339,\"\")","v":""},{"$nulls":15},{"$f":"+IF(X339=\"\",\"\",MAX(T$1:T338)+1)","v":""},{"$f":"IF('No CMS - Deviation - Limits'!B361=\"\",\"\",'No CMS - Deviation - Limits'!B361)","v":""},{"$f":"IF('No CMS - Deviation - Limits'!C361=\"\",\"\",'No CMS - Deviation - Limits'!C361)","v":""},"",{"$f":"IF(COUNTIF(V$2:V339,V339)=1,V339,\"\")","v":""},"","",{"$f":"+IFERROR(INDEX(#REF!,MATCH(ROW()-ROW($Y$1),T$2:T$955,0)),\"\")","v":""},null,{"$f":"+IF(AG339=\"\",\"\",MAX(AC$1:AC338)+1)","v":""},{"$f":"IF('Using CMS - Deviation - Limits'!B361=\"\",\"\",'Using CMS - Deviation - Limits'!B361)","v":""},{"$f":"IF('Using CMS - Deviation - Limits'!C361=\"\",\"\",'Using CMS - Deviation - Limits'!C361)","v":""},"",{"$f":"IF(COUNTIF(AF$2:AF339,AF339)=1,AF339,\"\")","v":""},"","",{"$f":"+IFERROR(INDEX(#REF!,MATCH(ROW()-ROW(AG$1),AC$2:AC$955,0)),\"\")","v":""},{"$nulls":3},{"$f":"+IF(AS339=\"\",\"\",MAX(AN$1:AN338)+1)","v":""},{"$f":"IF('Using CMS - Inop_OoC - CMS'!B361=\"\",\"\",'Using CMS - Inop_OoC - CMS'!B361)","v":""},{"$f":"IF('Using CMS - Inop_OoC - CMS'!C361=\"\",\"\",'Using CMS - Inop_OoC - CMS'!C361)","v":""},{"$f":"IF('Using CMS - Inop_OoC - CMS'!D361=\"\",\"\",'Using CMS - Inop_OoC - CMS'!D361)","v":""},{"$f":"AO339&AP339&Table10[[#This Row],[CMS]]","v":""},{"$f":"IF(COUNTIF(AR$2:AR339,AR339)=1,AR339,\"\")","v":""},"","","",null,{"$f":"+IF(BB339=\"\",\"\",MAX(AX$1:AX338)+1)","v":""},{"$f":"IF('Using CMS - Deviation - Limits'!B361=\"\",\"\",'Using CMS - Deviation - Limits'!B361)","v":""},{"$f":"IF('Using CMS - Deviation - Limits'!C361=\"\",\"\",'Using CMS - Deviation - Limits'!C361)","v":""},{"$f":"AY339&AZ339&Table10[[#This Row],[CMS]]","v":""},{"$f":"IF(COUNTIF(BA$2:BA339,BA339)=1,BA339,\"\")","v":""},"","",{"$f":"+IFERROR(INDEX(#REF!,MATCH(ROW()-ROW(BC$1),AX$2:AX$955,0)),\"\")","v":""}]
[{"$f":"+IF(D340=\"\",\"\",MAX(A$1:A339)+1)","v":""},{"$f":"IF('Process_&_CMS_Identification'!C362=\"\",\"\",'Process_&_CMS_Identification'!C362)","v":""},"",{"$f":"IF(COUNTIF(B$2:B340,B340)=1,B340,\"\")","v":""},{"$nulls":15},{"$f":"+IF(X340=\"\",\"\",MAX(T$1:T339)+1)","v":""},{"$f":"IF('No CMS - Deviation - Limits'!B362=\"\",\"\",'No CMS - Deviation - Limits'!B362)","v":""},{"$f":"IF('No CMS - Deviation - Limits'!C362=\"\",\"\",'No CMS - Deviation - Limits'!C362)","v":""},"",{"$f":"IF(COUNTIF(V$2:V340,V340)=1,V340,\"\")","v":""},"","",{"$f":"+IFERROR(INDEX(#REF!,MATCH(ROW()-ROW($Y$1),T$2:T$955,0)),\"\")","v":""},null,{"$f":"+IF(AG340=\"\",\"\",MAX(AC$1:AC339)+1)","v":""},{"$f":"IF('Using CMS - Deviation - Limits'!B362=\"\",\"\",'Using CMS - Deviation - Limits'!B362)","v":""},{"$f":"IF('Using CMS - Deviation - Limits'!C362=\"\",\"\",'Using CMS - Deviation - Limits'!C362)","v":""},"",{"$f":"IF(COUNTIF(AF$2:AF340,AF340)=1,AF340,\"\")","v":""},"","",{"$f":"+IFERROR(INDEX(#REF!,MATCH(ROW()-ROW(AG$1),AC$2:AC$955,0)),\"\")","v":""},{"$nulls":3},{"$f":"+IF(AS340=\"\",\"\",MAX(AN$1:AN339)+1)","v":""},{"$f":"IF('Using CMS - Inop_OoC - CMS'!B362=\"\",\"\",'Using CMS - Inop_OoC - CMS'!B362)","v":""},{"$f":"IF('Using CMS - Inop_OoC - CMS'!C362=\"\",\"\",'Using CMS - Inop_OoC - CMS'!C362)","v":""},{"$f":"IF('Using CMS - Inop_OoC - CMS'!D362=\"\",\"\",'Using CMS - Inop_OoC - CMS'!D362)","v":""},{"$f":"AO340&AP340&Table10[[#This Row],[CMS]]","v":""},{"$f":"IF(COUNTIF(AR$2:AR340,AR340)=1,AR340,\"\")","v":""},"","","",null,{"$f":"+IF(BB340=\"\",\"\",MAX(AX$1:AX339)+1)","v":""},{"$f":"IF('Using CMS - Deviation - Limits'!B362=\"\",\"\",'Using CMS - Deviation - Limits'!B362)","v":""},{"$f":"IF('Using CMS - Deviation - Limits'!C362=\"\",\"\",'Using CMS - Deviation - Limits'!C362)","v":""},{"$f":"AY340&AZ340&Table10[[#This Row],[CMS]]","v":""},{"$f":"IF(COUNTIF(BA$2:BA340,BA340)=1,BA340,\"\")","v":""},"","",{"$f":"+IFERROR(INDEX(#REF!,MATCH(ROW()-ROW(BC$1),AX$2:AX$955,0)),\"\")","v":""}]
[{"$f":"+IF(D341=\"\",\"\",MAX(A$1:A340)+1)","v":""},{"$f":"IF('Process_&_CMS_Identification'!C363=\"\",\"\",'Process_&_CMS_Identification'!C363)","v":""},"",{"$f":"IF(COUNTIF(B$2:B341,B341)=1,B341,\"\")","v":""},{"$nulls":15},{"$f":"+IF(X341=\"\",\"\",MAX(T$1:T340)+1)","v":""},{"$f":"IF('No CMS - Deviation - Limits'!B363=\"\",\"\",'No CMS - Deviation - Limits'!B363)","v":""},{"$f":"IF('No CMS - Deviation - Limits'!C363=\"\",\"\",'No CMS - Deviation - Limits'!C363)","v":""},"",{"$f":"IF(COUNTIF(V$2:V341,V341)=1,V341,\"\")","v":""},"","",{"$f":"+IFERROR(INDEX(#REF!,MATCH(ROW()-ROW($Y$1),T$2:T$955,0)),\"\")","v":""},null,{"$f":"+IF(AG341=\"\",\"\",MAX(AC$1:AC340)+1)","v":""},{"$f":"IF('Using CMS - Deviation - Limits'!B363=\"\",\"\",'Using CMS - Deviation - Limits'!B363)","v":""},{"$f":"IF('Using CMS - Deviation - Limits'!C363=\"\",\"\",'Using CMS - Deviation - Limits'!C363)","v":""},"",{"$f":"IF(COUNTIF(AF$2:AF341,AF341)=1,AF341,\"\")","v":""},"","",{"$f":"+IFERROR(INDEX(#REF!,MATCH(ROW()-ROW(AG$1),AC$2:AC$955,0)),\"\")","v":""},{"$nulls":3},{"$f":"+IF(AS341=\"\",\"\",MAX(AN$1:AN340)+1)","v":""},{"$f":"IF('Using CMS - Inop_OoC - CMS'!B363=\"\",\"\",'Using CMS - Inop_OoC - CMS'!B363)","v":""},{"$f":"IF('Using CMS - Inop_OoC - CMS'!C363=\"\",\"\",'Using CMS - Inop_OoC - CMS'!C363)","v":""},{"$f":"IF('Using CMS - Inop_OoC - CMS'!D363=\"\",\"\",'Using CMS - Inop_OoC - CMS'!D363)","v":""},{"$f":"AO341&AP341&Table10[[#This Row],[CMS]]","v":""},{"$f":"IF(COUNTIF(AR$2:AR341,AR341)=1,AR341,\"\")","v":""},"","","",null,{"$f":"+IF(BB341=\"\",\"\",MAX(AX$1:AX340)+1)","v":""},{"$f":"IF('Using CMS - Deviation - Limits'!B363=\"\",\"\",'Using CMS - Deviation - Limits'!B363)","v":""},{"$f":"IF('Using CMS - Deviation - Limits'!C363=\"\",\"\",'Using CMS - Deviation - Limits'!C363)","v":""},{"$f":"AY341&AZ341&Table10[[#This Row],[CMS]]","v":""},{"$f":"IF(COUNTIF(BA$2:BA341,BA341)=1,BA341,\"\")","v":""},"","",{"$f":"+IFERROR(INDEX(#REF!,MATCH(ROW()-ROW(BC$1),AX$2:AX$955,0)),\"\")","v":""}]
[{"$f":"+IF(D342=\"\",\"\",MAX(A$1:A341)+1)","v":""},{"$f":"IF('Process_&_CMS_Identification'!C364=\"\",\"\",'Process_&_CMS_Identification'!C364)","v":""},"",{"$f":"IF(COUNTIF(B$2:B342,B342)=1,B342,\"\")","v":""},{"$nulls":15},{"$f":"+IF(X342=\"\",\"\",MAX(T$1:T341)+1)","v":""},{"$f":"IF('No CMS - Deviation - Limits'!B364=\"\",\"\",'No CMS - Deviation - Limits'!B364)","v":""},{"$f":"IF('No CMS - Deviation - Limits'!C364=\"\",\"\",'No CMS - Deviation - Limits'!C364)","v":""},"",{"$f":"IF(COUNTIF(V$2:V342,V342)=1,V342,\"\")","v":""},"","",{"$f":"+IFERROR(INDEX(#REF!,MATCH(ROW()-ROW($Y$1),T$2:T$955,0)),\"\")","v":""},null,{"$f":"+IF(AG342=\"\",\"\",MAX(AC$1:AC341)+1)","v":""},{"$f":"IF('Using CMS - Deviation - Limits'!B364=\"\",\"\",'Using CMS - Deviation - Limits'!B364)","v":""},{"$f":"IF('Using CMS - Deviation - Limits'!C364=\"\",\"\",'Using CMS - Deviation - Limits'!C364)","v":""},"",{"$f":"IF(COUNTIF(AF$2:AF342,AF342)=1,AF342,\"\")","v":""},"","",{"$f":"+IFERROR(INDEX(#REF!,MATCH(ROW()-ROW(AG$1),AC$2:AC$955,0)),\"\")","v":""},{"$nulls":3},{"$f":"+IF(AS342=\"\",\"\",MAX(AN$1:AN341)+1)","v":""},{"$f":"IF('Using CMS - Inop_OoC - CMS'!B364=\"\",\"\",'Using CMS - Inop_OoC - CMS'!B364)","v":""},{"$f":"IF('Using CMS - Inop_OoC - CMS'!C364=\"\",\"\",'Using CMS - Inop_OoC - CMS'!C364)","v":""},{"$f":"IF('Using CMS - Inop_OoC - CMS'!D364=\"\",\"\",'Using CMS - Inop_OoC - CMS'!D364)","v":""},{"$f":"AO342&AP342&Table10[[#This Row],[CMS]]","v":""},{"$f":"IF(COUNTIF(AR$2:AR342,AR342)=1,AR342,\"\")","v":""},"","","",null,{"$f":"+IF(BB342=\"\",\"\",MAX(AX$1:AX341)+1)","v":""},{"$f":"IF('Using CMS - Deviation - Limits'!B364=\"\",\"\",'Using CMS - Deviation - Limits'!B364)","v":""},{"$f":"IF('Using CMS - Deviation - Limits'!C364=\"\",\"\",'Using CMS - Deviation - Limits'!C364)","v":""},{"$f":"AY342&AZ342&Table10[[#This Row],[CMS]]","v":""},{"$f":"IF(COUNTIF(BA$2:BA342,BA342)=1,BA342,\"\")","v":""},"","",{"$f":"+IFERROR(INDEX(#REF!,MATCH(ROW()-ROW(BC$1),AX$2:AX$955,0)),\"\")","v":""}]
[{"$f":"+IF(D343=\"\",\"\",MAX(A$1:A342)+1)","v":""},{"$f":"IF('Process_&_CMS_Identification'!C365=\"\",\"\",'Process_&_CMS_Identification'!C365)","v":""},"",{"$f":"IF(COUNTIF(B$2:B343,B343)=1,B343,\"\")","v":""},{"$nulls":15},{"$f":"+IF(X343=\"\",\"\",MAX(T$1:T342)+1)","v":""},{"$f":"IF('No CMS - Deviation - Limits'!B365=\"\",\"\",'No CMS - Deviation - Limits'!B365)","v":""},{"$f":"IF('No CMS - Deviation - Limits'!C365=\"\",\"\",'No CMS - Deviation - Limits'!C365)","v":""},"",{"$f":"IF(COUNTIF(V$2:V343,V343)=1,V343,\"\")","v":""},"","",{"$f":"+IFERROR(INDEX(#REF!,MATCH(ROW()-ROW($Y$1),T$2:T$955,0)),\"\")","v":""},null,{"$f":"+IF(AG343=\"\",\"\",MAX(AC$1:AC342)+1)","v":""},{"$f":"IF('Using CMS - Deviation - Limits'!B365=\"\",\"\",'Using CMS - Deviation - Limits'!B365)","v":""},{"$f":"IF('Using CMS - Deviation - Limits'!C365=\"\",\"\",'Using CMS - Deviation - Limits'!C365)","v":""},"",{"$f":"IF(COUNTIF(AF$2:AF343,AF343)=1,AF343,\"\")","v":""},"","",{"$f":"+IFERROR(INDEX(#REF!,MATCH(ROW()-ROW(AG$1),AC$2:AC$955,0)),\"\")","v":""},{"$nulls":3},{"$f":"+IF(AS343=\"\",\"\",MAX(AN$1:AN342)+1)","v":""},{"$f":"IF('Using CMS - Inop_OoC - CMS'!B365=\"\",\"\",'Using CMS - Inop_OoC - CMS'!B365)","v":""},{"$f":"IF('Using CMS - Inop_OoC - CMS'!C365=\"\",\"\",'Using CMS - Inop_OoC - CMS'!C365)","v":""},{"$f":"IF('Using CMS - Inop_OoC - CMS'!D365=\"\",\"\",'Using CMS - Inop_OoC - CMS'!D365)","v":""},{"$f":"AO343&AP343&Table10[[#This Row],[CMS]]","v":""},{"$f":"IF(COUNTIF(AR$2:AR343,AR343)=1,AR343,\"\")","v":""},"","","",null,{"$f":"+IF(BB343=\"\",\"\",MAX(AX$1:AX342)+1)","v":""},{"$f":"IF('Using CMS - Deviation - Limits'!B365=\"\",\"\",'Using CMS - Deviation - Limits'!B365)","v":""},{"$f":"IF('Using CMS - Deviation - Limits'!C365=\"\",\"\",'Using CMS - Deviation - Limits'!C365)","v":""},{"$f":"AY343&AZ343&Table10[[#This Row],[CMS]]","v":""},{"$f":"IF(COUNTIF(BA$2:BA343,BA343)=1,BA343,\"\")","v":""},"","",{"$f":"+IFERROR(INDEX(#REF!,MATCH(ROW()-ROW(BC$1),AX$2:AX$955,0)),\"\")","v":""}]
[{"$f":"+IF(D344=\"\",\"\",MAX(A$1:A343)+1)","v":""},{"$f":"IF('Process_&_CMS_Identification'!C366=\"\",\"\",'Process_&_CMS_Identification'!C366)","v":""},"",{"$f":"IF(COUNTIF(B$2:B344,B344)=1,B344,\"\")","v":""},{"$nulls":15},{"$f":"+IF(X344=\"\",\"\",MAX(T$1:T343)+1)","v":""},{"$f":"IF('No CMS - Deviation - Limits'!B366=\"\",\"\",'No CMS - Deviation - Limits'!B366)","v":""},{"$f":"IF('No CMS - Deviation - Limits'!C366=\"\",\"\",'No CMS - Deviation - Limits'!C366)","v":""},"",{"$f":"IF(COUNTIF(V$2:V344,V344)=1,V344,\"\")","v":""},"","",{"$f":"+IFERROR(INDEX(#REF!,MATCH(ROW()-ROW($Y$1),T$2:T$955,0)),\"\")","v":""},null,{"$f":"+IF(AG344=\"\",\"\",MAX(AC$1:AC343)+1)","v":""},{"$f":"IF('Using CMS - Deviation - Limits'!B366=\"\",\"\",'Using CMS - Deviation - Limits'!B366)","v":""},{"$f":"IF('Using CMS - Deviation - Limits'!C366=\"\",\"\",'Using CMS - Deviation - Limits'!C366)","v":""},"",{"$f":"IF(COUNTIF(AF$2:AF344,AF344)=1,AF344,\"\")","v":""},"","",{"$f":"+IFERROR(INDEX(#REF!,MATCH(ROW()-ROW(AG$1),AC$2:AC$955,0)),\"\")","v":""},{"$nulls":3},{"$f":"+IF(AS344=\"\",\"\",MAX(AN$1:AN343)+1)","v":""},{"$f":"IF('Using CMS - Inop_OoC - CMS'!B366=\"\",\"\",'Using CMS - Inop_OoC - CMS'!B366)","v":""},{"$f":"IF('Using CMS - Inop_OoC - CMS'!C366=\"\",\"\",'Using CMS - Inop_OoC - CMS'!C366)","v":""},{"$f":"IF('Using CMS - Inop_OoC - CMS'!D366=\"\",\"\",'Using CMS - Inop_OoC - CMS'!D366)","v":""},{"$f":"AO344&AP344&Table10[[#This Row],[CMS]]","v":""},{"$f":"IF(COUNTIF(AR$2:AR344,AR344)=1,AR344,\"\")","v":""},"","","",null,{"$f":"+IF(BB344=\"\",\"\",MAX(AX$1:AX343)+1)","v":""},{"$f":"IF('Using CMS - Deviation - Limits'!B366=\"\",\"\",'Using CMS - Deviation - Limits'!B366)","v":""},{"$f":"IF('Using CMS - Deviation - Limits'!C366=\"\",\"\",'Using CMS - Deviation - Limits'!C366)","v":""},{"$f":"AY344&AZ344&Table10[[#This Row],[CMS]]","v":""},{"$f":"IF(COUNTIF(BA$2:BA344,BA344)=1,BA344,\"\")","v":""},"","",{"$f":"+IFERROR(INDEX(#REF!,MATCH(ROW()-ROW(BC$1),AX$2:AX$955,0)),\"\")","v":""}]
[{"$f":"+IF(D345=\"\",\"\",MAX(A$1:A344)+1)","v":""},{"$f":"IF('Process_&_CMS_Identification'!C367=\"\",\"\",'Process_&_CMS_Identification'!C367)","v":""},"",{"$f":"IF(COUNTIF(B$2:B345,B345)=1,B345,\"\")","v":""},{"$nulls":15},{"$f":"+IF(X345=\"\",\"\",MAX(T$1:T344)+1)","v":""},{"$f":"IF('No CMS - Deviation - Limits'!B367=\"\",\"\",'No CMS - Deviation - Limits'!B367)","v":""},{"$f":"IF('No CMS - Deviation - Limits'!C367=\"\",\"\",'No CMS - Deviation - Limits'!C367)","v":""},"",{"$f":"IF(COUNTIF(V$2:V345,V345)=1,V345,\"\")","v":""},"","",{"$f":"+IFERROR(INDEX(#REF!,MATCH(ROW()-ROW($Y$1),T$2:T$955,0)),\"\")","v":""},null,{"$f":"+IF(AG345=\"\",\"\",MAX(AC$1:AC344)+1)","v":""},{"$f":"IF('Using CMS - Deviation - Limits'!B367=\"\",\"\",'Using CMS - Deviation - Limits'!B367)","v":""},{"$f":"IF('Using CMS - Deviation - Limits'!C367=\"\",\"\",'Using CMS - Deviation - Limits'!C367)","v":""},"",{"$f":"IF(COUNTIF(AF$2:AF345,AF345)=1,AF345,\"\")","v":""},"","",{"$f":"+IFERROR(INDEX(#REF!,MATCH(ROW()-ROW(AG$1),AC$2:AC$955,0)),\"\")","v":""},{"$nulls":3},{"$f":"+IF(AS345=\"\",\"\",MAX(AN$1:AN344)+1)","v":""},{"$f":"IF('Using CMS - Inop_OoC - CMS'!B367=\"\",\"\",'Using CMS - Inop_OoC - CMS'!B367)","v":""},{"$f":"IF('Using CMS - Inop_OoC - CMS'!C367=\"\",\"\",'Using CMS - Inop_OoC - CMS'!C367)","v":""},{"$f":"IF('Using CMS - Inop_OoC - CMS'!D367=\"\",\"\",'Using CMS - Inop_OoC - CMS'!D367)","v":""},{"$f":"AO345&AP345&Table10[[#This Row],[CMS]]","v":""},{"$f":"IF(COUNTIF(AR$2:AR345,AR345)=1,AR345,\"\")","v":""},"","","",null,{"$f":"+IF(BB345=\"\",\"\",MAX(AX$1:AX344)+1)","v":""},{"$f":"IF('Using CMS - Deviation - Limits'!B367=\"\",\"\",'Using CMS - Deviation - Limits'!B367)","v":""},{"$f":"IF('Using CMS - Deviation - Limits'!C367=\"\",\"\",'Using CMS - Deviation - Limits'!C367)","v":""},{"$f":"AY345&AZ345&Table10[[#This Row],[CMS]]","v":""},{"$f":"IF(COUNTIF(BA$2:BA345,BA345)=1,BA345,\"\")","v":""},"","",{"$f":"+IFERROR(INDEX(#REF!,MATCH(ROW()-ROW(BC$1),AX$2:AX$955,0)),\"\")","v":""}]
[{"$f":"+IF(D346=\"\",\"\",MAX(A$1:A345)+1)","v":""},{"$f":"IF('Process_&_CMS_Identification'!C368=\"\",\"\",'Process_&_CMS_Identification'!C368)","v":""},"",{"$f":"IF(COUNTIF(B$2:B346,B346)=1,B346,\"\")","v":""},{"$nulls":15},{"$f":"+IF(X346=\"\",\"\",MAX(T$1:T345)+1)","v":""},{"$f":"IF('No CMS - Deviation - Limits'!B368=\"\",\"\",'No CMS - Deviation - Limits'!B368)","v":""},{"$f":"IF('No CMS - Deviation - Limits'!C368=\"\",\"\",'No CMS - Deviation - Limits'!C368)","v":""},"",{"$f":"IF(COUNTIF(V$2:V346,V346)=1,V346,\"\")","v":""},"","",{"$f":"+IFERROR(INDEX(#REF!,MATCH(ROW()-ROW($Y$1),T$2:T$955,0)),\"\")","v":""},null,{"$f":"+IF(AG346=\"\",\"\",MAX(AC$1:AC345)+1)","v":""},{"$f":"IF('Using CMS - Deviation - Limits'!B368=\"\",\"\",'Using CMS - Deviation - Limits'!B368)","v":""},{"$f":"IF('Using CMS - Deviation - Limits'!C368=\"\",\"\",'Using CMS - Deviation - Limits'!C368)","v":""},"",{"$f":"IF(COUNTIF(AF$2:AF346,AF346)=1,AF346,\"\")","v":""},"","",{"$f":"+IFERROR(INDEX(#REF!,MATCH(ROW()-ROW(AG$1),AC$2:AC$955,0)),\"\")","v":""},{"$nulls":3},{"$f":"+IF(AS346=\"\",\"\",MAX(AN$1:AN345)+1)","v":""},{"$f":"IF('Using CMS - Inop_OoC - CMS'!B368=\"\",\"\",'Using CMS - Inop_OoC - CMS'!B368)","v":""},{"$f":"IF('Using CMS - Inop_OoC - CMS'!C368=\"\",\"\",'Using CMS - Inop_OoC - CMS'!C368)","v":""},{"$f":"IF('Using CMS - Inop_OoC - CMS'!D368=\"\",\"\",'Using CMS - Inop_OoC - CMS'!D368)","v":""},{"$f":"AO346&AP346&Table10[[#This Row],[CMS]]","v":""},{"$f":"IF(COUNTIF(AR$2:AR346,AR346)=1,AR346,\"\")","v":""},"","","",null,{"$f":"+IF(BB346=\"\",\"\",MAX(AX$1:AX345)+1)","v":""},{"$f":"IF('Using CMS - Deviation - Limits'!B368=\"\",\"\",'Using CMS - Deviation - Limits'!B368)","v":""},{"$f":"IF('Using CMS - Deviation - Limits'!C368=\"\",\"\",'Using CMS - Deviation - Limits'!C368)","v":""},{"$f":"AY346&AZ346&Table10[[#This Row],[CMS]]","v":""},{"$f":"IF(COUNTIF(BA$2:BA346,BA346)=1,BA346,\"\")","v":""},"","",{"$f":"+IFERROR(INDEX(#REF!,MATCH(ROW()-ROW(BC$1),AX$2:AX$955,0)),\"\")","v":""}]
[{"$f":"+IF(D347=\"\",\"\",MAX(A$1:A346)+1)","v":""},{"$f":"IF('Process_&_CMS_Identification'!C369=\"\",\"\",'Process_&_CMS_Identification'!C369)","v":""},"",{"$f":"IF(COUNTIF(B$2:B347,B347)=1,B347,\"\")","v":""},{"$nulls":15},{"$f":"+IF(X347=\"\",\"\",MAX(T$1:T346)+1)","v":""},{"$f":"IF('No CMS - Deviation - Limits'!B369=\"\",\"\",'No CMS - Deviation - Limits'!B369)","v":""},{"$f":"IF('No CMS - Deviation - Limits'!C369=\"\",\"\",'No CMS - Deviation - Limits'!C369)","v":""},"",{"$f":"IF(COUNTIF(V$2:V347,V347)=1,V347,\"\")","v":""},"","",{"$f":"+IFERROR(INDEX(#REF!,MATCH(ROW()-ROW($Y$1),T$2:T$955,0)),\"\")","v":""},null,{"$f":"+IF(AG347=\"\",\"\",MAX(AC$1:AC346)+1)","v":""},{"$f":"IF('Using CMS - Deviation - Limits'!B369=\"\",\"\",'Using CMS - Deviation - Limits'!B369)","v":""},{"$f":"IF('Using CMS - Deviation - Limits'!C369=\"\",\"\",'Using CMS - Deviation - Limits'!C369)","v":""},"",{"$f":"IF(COUNTIF(AF$2:AF347,AF347)=1,AF347,\"\")","v":""},"","",{"$f":"+IFERROR(INDEX(#REF!,MATCH(ROW()-ROW(AG$1),AC$2:AC$955,0)),\"\")","v":""},{"$nulls":3},{"$f":"+IF(AS347=\"\",\"\",MAX(AN$1:AN346)+1)","v":""},{"$f":"IF('Using CMS - Inop_OoC - CMS'!B369=\"\",\"\",'Using CMS - Inop_OoC - CMS'!B369)","v":""},{"$f":"IF('Using CMS - Inop_OoC - CMS'!C369=\"\",\"\",'Using CMS - Inop_OoC - CMS'!C369)","v":""},{"$f":"IF('Using CMS - Inop_OoC - CMS'!D369=\"\",\"\",'Using CMS - Inop_OoC - CMS'!D369)","v":""},{"$f":"AO347&AP347&Table10[[#This Row],[CMS]]","v":""},{"$f":"IF(COUNTIF(AR$2:AR347,AR347)=1,AR347,\"\")","v":""},"","","",null,{"$f":"+IF(BB347=\"\",\"\",MAX(AX$1:AX346)+1)","v":""},{"$f":"IF('Using CMS - Deviation - Limits'!B369=\"\",\"\",'Using CMS - Deviation - Limits'!B369)","v":""},{"$f":"IF('Using CMS - Deviation - Limits'!C369=\"\",\"\",'Using CMS - Deviation - Limits'!C369)","v":""},{"$f":"AY347&AZ347&Table10[[#This Row],[CMS]]","v":""},{"$f":"IF(COUNTIF(BA$2:BA347,BA347)=1,BA347,\"\")","v":""},"","",{"$f":"+IFERROR(INDEX(#REF!,MATCH(ROW()-ROW(BC$1),AX$2:AX$955,0)),\"\")","v":""}]
[{"$f":"+IF(D348=\"\",\"\",MAX(A$1:A347)+1)","v":""},{"$f":"IF('Process_&_CMS_Identification'!C370=\"\",\"\",'Process_&_CMS_Identification'!C370)","v":""},"",{"$f":"IF(COUNTIF(B$2:B348,B348)=1,B348,\"\")","v":""},{"$nulls":15},{"$f":"+IF(X348=\"\",\"\",MAX(T$1:T347)+1)","v":""},{"$f":"IF('No CMS - Deviation - Limits'!B370=\"\",\"\",'No CMS - Deviation - Limits'!B370)","v":""},{"$f":"IF('No CMS - Deviation - Limits'!C370=\"\",\"\",'No CMS - Deviation - Limits'!C370)","v":""},"",{"$f":"IF(COUNTIF(V$2:V348,V348)=1,V348,\"\")","v":""},"","",{"$f":"+IFERROR(INDEX(#REF!,MATCH(ROW()-ROW($Y$1),T$2:T$955,0)),\"\")","v":""},null,{"$f":"+IF(AG348=\"\",\"\",MAX(AC$1:AC347)+1)","v":""},{"$f":"IF('Using CMS - Deviation - Limits'!B370=\"\",\"\",'Using CMS - Deviation - Limits'!B370)","v":""},{"$f":"IF('Using CMS - Deviation - Limits'!C370=\"\",\"\",'Using CMS - Deviation - Limits'!C370)","v":""},"",{"$f":"IF(COUNTIF(AF$2:AF348,AF348)=1,AF348,\"\")","v":""},"","",{"$f":"+IFERROR(INDEX(#REF!,MATCH(ROW()-ROW(AG$1),AC$2:AC$955,0)),\"\")","v":""},{"$nulls":3},{"$f":"+IF(AS348=\"\",\"\",MAX(AN$1:AN347)+1)","v":""},{"$f":"IF('Using CMS - Inop_OoC - CMS'!B370=\"\",\"\",'Using CMS - Inop_OoC - CMS'!B370)","v":""},{"$f":"IF('Using CMS - Inop_OoC - CMS'!C370=\"\",\"\",'Using CMS - Inop_OoC - CMS'!C370)","v":""},{"$f":"IF('Using CMS - Inop_OoC - CMS'!D370=\"\",\"\",'Using CMS - Inop_OoC - CMS'!D370)","v":""},{"$f":"AO348&AP348&Table10[[#This Row],[CMS]]","v":""},{"$f":"IF(COUNTIF(AR$2:AR348,AR348)=1,AR348,\"\")","v":""},"","","",null,{"$f":"+IF(BB348=\"\",\"\",MAX(AX$1:AX347)+1)","v":""},{"$f":"IF('Using CMS - Deviation - Limits'!B370=\"\",\"\",'Using CMS - Deviation - Limits'!B370)","v":""},{"$f":"IF('Using CMS - Deviation - Limits'!C370=\"\",\"\",'Using CMS - Deviation - Limits'!C370)","v":""},{"$f":"AY348&AZ348&Table10[[#This Row],[CMS]]","v":""},{"$f":"IF(COUNTIF(BA$2:BA348,BA348)=1,BA348,\"\")","v":""},"","",{"$f":"+IFERROR(INDEX(#REF!,MATCH(ROW()-ROW(BC$1),AX$2:AX$955,0)),\"\")","v":""}]
[{"$f":"+IF(D349=\"\",\"\",MAX(A$1:A348)+1)","v":""},{"$f":"IF('Process_&_CMS_Identification'!C371=\"\",\"\",'Process_&_CMS_Identification'!C371)","v":""},"",{"$f":"IF(COUNTIF(B$2:B349,B349)=1,B349,\"\")","v":""},{"$nulls":15},{"$f":"+IF(X349=\"\",\"\",MAX(T$1:T348)+1)","v":""},{"$f":"IF('No CMS - Deviation - Limits'!B371=\"\",\"\",'No CMS - Deviation - Limits'!B371)","v":""},{"$f":"IF('No CMS - Deviation - Limits'!C371=\"\",\"\",'No CMS - Deviation - Limits'!C371)","v":""},"",{"$f":"IF(COUNTIF(V$2:V349,V349)=1,V349,\"\")","v":""},"","",{"$f":"+IFERROR(INDEX(#REF!,MATCH(ROW()-ROW($Y$1),T$2:T$955,0)),\"\")","v":""},null,{"$f":"+IF(AG349=\"\",\"\",MAX(AC$1:AC348)+1)","v":""},{"$f":"IF('Using CMS - Deviation - Limits'!B371=\"\",\"\",'Using CMS - Deviation - Limits'!B371)","v":""},{"$f":"IF('Using CMS - Deviation - Limits'!C371=\"\",\"\",'Using CMS - Deviation - Limits'!C371)","v":""},"",{"$f":"IF(COUNTIF(AF$2:AF349,AF349)=1,AF349,\"\")","v":""},"","",{"$f":"+IFERROR(INDEX(#REF!,MATCH(ROW()-ROW(AG$1),AC$2:AC$955,0)),\"\")","v":""},{"$nulls":3},{"$f":"+IF(AS349=\"\",\"\",MAX(AN$1:AN348)+1)","v":""},{"$f":"IF('Using CMS - Inop_OoC - CMS'!B371=\"\",\"\",'Using CMS - Inop_OoC - CMS'!B371)","v":""},{"$f":"IF('Using CMS - Inop_OoC - CMS'!C371=\"\",\"\",'Using CMS - Inop_OoC - CMS'!C371)","v":""},{"$f":"IF('Using CMS - Inop_OoC - CMS'!D371=\"\",\"\",'Using CMS - Inop_OoC - CMS'!D371)","v":""},{"$f":"AO349&AP349&Table10[[#This Row],[CMS]]","v":""},{"$f":"IF(COUNTIF(AR$2:AR349,AR349)=1,AR349,\"\")","v":""},"","","",null,{"$f":"+IF(BB349=\"\",\"\",MAX(AX$1:AX348)+1)","v":""},{"$f":"IF('Using CMS - Deviation - Limits'!B371=\"\",\"\",'Using CMS - Deviation - Limits'!B371)","v":""},{"$f":"IF('Using CMS - Deviation - Limits'!C371=\"\",\"\",'Using CMS - Deviation - Limits'!C371)","v":""},{"$f":"AY349&AZ349&Table10[[#This Row],[CMS]]","v":""},{"$f":"IF(COUNTIF(BA$2:BA349,BA349)=1,BA349,\"\")","v":""},"","",{"$f":"+IFERROR(INDEX(#REF!,MATCH(ROW()-ROW(BC$1),AX$2:AX$955,0)),\"\")","v":""}]
[{"$f":"+IF(D350=\"\",\"\",MAX(A$1:A349)+1)","v":""},{"$f":"IF('Process_&_CMS_Identification'!C372=\"\",\"\",'Process_&_CMS_Identification'!C372)","v":""},"",{"$f":"IF(COUNTIF(B$2:B350,B350)=1,B350,\"\")","v":""},{"$nulls":15},{"$f":"+IF(X350=\"\",\"\",MAX(T$1:T349)+1)","v":""},{"$f":"IF('No CMS - Deviation - Limits'!B372=\"\",\"\",'No CMS - Deviation - Limits'!B372)","v":""},{"$f":"IF('No CMS - Deviation - Limits'!C372=\"\",\"\",'No CMS - Deviation - Limits'!C372)","v":""},"",{"$f":"IF(COUNTIF(V$2:V350,V350)=1,V350,\"\")","v":""},"","",{"$f":"+IFERROR(INDEX(#REF!,MATCH(ROW()-ROW($Y$1),T$2:T$955,0)),\"\")","v":""},null,{"$f":"+IF(AG350=\"\",\"\",MAX(AC$1:AC349)+1)","v":""},{"$f":"IF('Using CMS - Deviation - Limits'!B372=\"\",\"\",'Using CMS - Deviation - Limits'!B372)","v":""},{"$f":"IF('Using CMS - Deviation - Limits'!C372=\"\",\"\",'Using CMS - Deviation - Limits'!C372)","v":""},"",{"$f":"IF(COUNTIF(AF$2:AF350,AF350)=1,AF350,\"\")","v":""},"","",{"$f":"+IFERROR(INDEX(#REF!,MATCH(ROW()-ROW(AG$1),AC$2:AC$955,0)),\"\")","v":""},{"$nulls":3},{"$f":"+IF(AS350=\"\",\"\",MAX(AN$1:AN349)+1)","v":""},{"$f":"IF('Using CMS - Inop_OoC - CMS'!B372=\"\",\"\",'Using CMS - Inop_OoC - CMS'!B372)","v":""},{"$f":"IF('Using CMS - Inop_OoC - CMS'!C372=\"\",\"\",'Using CMS - Inop_OoC - CMS'!C372)","v":""},{"$f":"IF('Using CMS - Inop_OoC - CMS'!D372=\"\",\"\",'Using CMS - Inop_OoC - CMS'!D372)","v":""},{"$f":"AO350&AP350&Table10[[#This Row],[CMS]]","v":""},{"$f":"IF(COUNTIF(AR$2:AR350,AR350)=1,AR350,\"\")","v":""},"","","",null,{"$f":"+IF(BB350=\"\",\"\",MAX(AX$1:AX349)+1)","v":""},{"$f":"IF('Using CMS - Deviation - Limits'!B372=\"\",\"\",'Using CMS - Deviation - Limits'!B372)","v":""},{"$f":"IF('Using CMS - Deviation - Limits'!C372=\"\",\"\",'Using CMS - Deviation - Limits'!C372)","v":""},{"$f":"AY350&AZ350&Table10[[#This Row],[CMS]]","v":""},{"$f":"IF(COUNTIF(BA$2:BA350,BA350)=1,BA350,\"\")","v":""},"","",{"$f":"+IFERROR(INDEX(#REF!,MATCH(ROW()-ROW(BC$1),AX$2:AX$955,0)),\"\")","v":""}]
[{"$f":"+IF(D351=\"\",\"\",MAX(A$1:A350)+1)","v":""},{"$f":"IF('Process_&_CMS_Identification'!C373=\"\",\"\",'Process_&_CMS_Identification'!C373)","v":""},"",{"$f":"IF(COUNTIF(B$2:B351,B351)=1,B351,\"\")","v":""},{"$nulls":15},{"$f":"+IF(X351=\"\",\"\",MAX(T$1:T350)+1)","v":""},{"$f":"IF('No CMS - Deviation - Limits'!B373=\"\",\"\",'No CMS - Deviation - Limits'!B373)","v":""},{"$f":"IF('No CMS - Deviation - Limits'!C373=\"\",\"\",'No CMS - Deviation - Limits'!C373)","v":""},"",{"$f":"IF(COUNTIF(V$2:V351,V351)=1,V351,\"\")","v":""},"","",{"$f":"+IFERROR(INDEX(#REF!,MATCH(ROW()-ROW($Y$1),T$2:T$955,0)),\"\")","v":""},null,{"$f":"+IF(AG351=\"\",\"\",MAX(AC$1:AC350)+1)","v":""},{"$f":"IF('Using CMS - Deviation - Limits'!B373=\"\",\"\",'Using CMS - Deviation - Limits'!B373)","v":""},{"$f":"IF('Using CMS - Deviation - Limits'!C373=\"\",\"\",'Using CMS - Deviation - Limits'!C373)","v":""},"",{"$f":"IF(COUNTIF(AF$2:AF351,AF351)=1,AF351,\"\")","v":""},"","",{"$f":"+IFERROR(INDEX(#REF!,MATCH(ROW()-ROW(AG$1),AC$2:AC$955,0)),\"\")","v":""},{"$nulls":3},{"$f":"+IF(AS351=\"\",\"\",MAX(AN$1:AN350)+1)","v":""},{"$f":"IF('Using CMS - Inop_OoC - CMS'!B373=\"\",\"\",'Using CMS - Inop_OoC - CMS'!B373)","v":""},{"$f":"IF('Using CMS - Inop_OoC - CMS'!C373=\"\",\"\",'Using CMS - Inop_OoC - CMS'!C373)","v":""},{"$f":"IF('Using CMS - Inop_OoC - CMS'!D373=\"\",\"\",'Using CMS - Inop_OoC - CMS'!D373)","v":""},{"$f":"AO351&AP351&Table10[[#This Row],[CMS]]","v":""},{"$f":"IF(COUNTIF(AR$2:AR351,AR351)=1,AR351,\"\")","v":""},"","","",null,{"$f":"+IF(BB351=\"\",\"\",MAX(AX$1:AX350)+1)","v":""},{"$f":"IF('Using CMS - Deviation - Limits'!B373=\"\",\"\",'Using CMS - Deviation - Limits'!B373)","v":""},{"$f":"IF('Using CMS - Deviation - Limits'!C373=\"\",\"\",'Using CMS - Deviation - Limits'!C373)","v":""},{"$f":"AY351&AZ351&Table10[[#This Row],[CMS]]","v":""},{"$f":"IF(COUNTIF(BA$2:BA351,BA351)=1,BA351,\"\")","v":""},"","",{"$f":"+IFERROR(INDEX(#REF!,MATCH(ROW()-ROW(BC$1),AX$2:AX$955,0)),\"\")","v":""}]
[{"$f":"+IF(D352=\"\",\"\",MAX(A$1:A351)+1)","v":""},{"$f":"IF('Process_&_CMS_Identification'!C374=\"\",\"\",'Process_&_CMS_Identification'!C374)","v":""},"",{"$f":"IF(COUNTIF(B$2:B352,B352)=1,B352,\"\")","v":""},{"$nulls":15},{"$f":"+IF(X352=\"\",\"\",MAX(T$1:T351)+1)","v":""},{"$f":"IF('No CMS - Deviation - Limits'!B374=\"\",\"\",'No CMS - Deviation - Limits'!B374)","v":""},{"$f":"IF('No CMS - Deviation - Limits'!C374=\"\",\"\",'No CMS - Deviation - Limits'!C374)","v":""},"",{"$f":"IF(COUNTIF(V$2:V352,V352)=1,V352,\"\")","v":""},"","",{"$f":"+IFERROR(INDEX(#REF!,MATCH(ROW()-ROW($Y$1),T$2:T$955,0)),\"\")","v":""},null,{"$f":"+IF(AG352=\"\",\"\",MAX(AC$1:AC351)+1)","v":""},{"$f":"IF('Using CMS - Deviation - Limits'!B374=\"\",\"\",'Using CMS - Deviation - Limits'!B374)","v":""},{"$f":"IF('Using CMS - Deviation - Limits'!C374=\"\",\"\",'Using CMS - Deviation - Limits'!C374)","v":""},"",{"$f":"IF(COUNTIF(AF$2:AF352,AF352)=1,AF352,\"\")","v":""},"","",{"$f":"+IFERROR(INDEX(#REF!,MATCH(ROW()-ROW(AG$1),AC$2:AC$955,0)),\"\")","v":""},{"$nulls":3},{"$f":"+IF(AS352=\"\",\"\",MAX(AN$1:AN351)+1)","v":""},{"$f":"IF('Using CMS - Inop_OoC - CMS'!B374=\"\",\"\",'Using CMS - Inop_OoC - CMS'!B374)","v":""},{"$f":"IF('Using CMS - Inop_OoC - CMS'!C374=\"\",\"\",'Using CMS - Inop_OoC - CMS'!C374)","v":""},{"$f":"IF('Using CMS - Inop_OoC - CMS'!D374=\"\",\"\",'Using CMS - Inop_OoC - CMS'!D374)","v":""},{"$f":"AO352&AP352&Table10[[#This Row],[CMS]]","v":""},{"$f":"IF(COUNTIF(AR$2:AR352,AR352)=1,AR352,\"\")","v":""},"","","",null,{"$f":"+IF(BB352=\"\",\"\",MAX(AX$1:AX351)+1)","v":""},{"$f":"IF('Using CMS - Deviation - Limits'!B374=\"\",\"\",'Using CMS - Deviation - Limits'!B374)","v":""},{"$f":"IF('Using CMS - Deviation - Limits'!C374=\"\",\"\",'Using CMS - Deviation - Limits'!C374)","v":""},{"$f":"AY352&AZ352&Table10[[#This Row],[CMS]]","v":""},{"$f":"IF(COUNTIF(BA$2:BA352,BA352)=1,BA352,\"\")","v":""},"","",{"$f":"+IFERROR(INDEX(#REF!,MATCH(ROW()-ROW(BC$1),AX$2:AX$955,0)),\"\")","v":""}]
[{"$f":"+IF(D353=\"\",\"\",MAX(A$1:A352)+1)","v":""},{"$f":"IF('Process_&_CMS_Identification'!C375=\"\",\"\",'Process_&_CMS_Identification'!C375)","v":""},"",{"$f":"IF(COUNTIF(B$2:B353,B353)=1,B353,\"\")","v":""},{"$nulls":15},{"$f":"+IF(X353=\"\",\"\",MAX(T$1:T352)+1)","v":""},{"$f":"IF('No CMS - Deviation - Limits'!B375=\"\",\"\",'No CMS - Deviation - Limits'!B375)","v":""},{"$f":"IF('No CMS - Deviation - Limits'!C375=\"\",\"\",'No CMS - Deviation - Limits'!C375)","v":""},"",{"$f":"IF(COUNTIF(V$2:V353,V353)=1,V353,\"\")","v":""},"","",{"$f":"+IFERROR(INDEX(#REF!,MATCH(ROW()-ROW($Y$1),T$2:T$955,0)),\"\")","v":""},null,{"$f":"+IF(AG353=\"\",\"\",MAX(AC$1:AC352)+1)","v":""},{"$f":"IF('Using CMS - Deviation - Limits'!B375=\"\",\"\",'Using CMS - Deviation - Limits'!B375)","v":""},{"$f":"IF('Using CMS - Deviation - Limits'!C375=\"\",\"\",'Using CMS - Deviation - Limits'!C375)","v":""},"",{"$f":"IF(COUNTIF(AF$2:AF353,AF353)=1,AF353,\"\")","v":""},"","",{"$f":"+IFERROR(INDEX(#REF!,MATCH(ROW()-ROW(AG$1),AC$2:AC$955,0)),\"\")","v":""},{"$nulls":3},{"$f":"+IF(AS353=\"\",\"\",MAX(AN$1:AN352)+1)","v":""},{"$f":"IF('Using CMS - Inop_OoC - CMS'!B375=\"\",\"\",'Using CMS - Inop_OoC - CMS'!B375)","v":""},{"$f":"IF('Using CMS - Inop_OoC - CMS'!C375=\"\",\"\",'Using CMS - Inop_OoC - CMS'!C375)","v":""},{"$f":"IF('Using CMS - Inop_OoC - CMS'!D375=\"\",\"\",'Using CMS - Inop_OoC - CMS'!D375)","v":""},{"$f":"AO353&AP353&Table10[[#This Row],[CMS]]","v":""},{"$f":"IF(COUNTIF(AR$2:AR353,AR353)=1,AR353,\"\")","v":""},"","","",null,{"$f":"+IF(BB353=\"\",\"\",MAX(AX$1:AX352)+1)","v":""},{"$f":"IF('Using CMS - Deviation - Limits'!B375=\"\",\"\",'Using CMS - Deviation - Limits'!B375)","v":""},{"$f":"IF('Using CMS - Deviation - Limits'!C375=\"\",\"\",'Using CMS - Deviation - Limits'!C375)","v":""},{"$f":"AY353&AZ353&Table10[[#This Row],[CMS]]","v":""},{"$f":"IF(COUNTIF(BA$2:BA353,BA353)=1,BA353,\"\")","v":""},"","",{"$f":"+IFERROR(INDEX(#REF!,MATCH(ROW()-ROW(BC$1),AX$2:AX$955,0)),\"\")","v":""}]
[{"$f":"+IF(D354=\"\",\"\",MAX(A$1:A353)+1)","v":""},{"$f":"IF('Process_&_CMS_Identification'!C376=\"\",\"\",'Process_&_CMS_Identification'!C376)","v":""},"",{"$f":"IF(COUNTIF(B$2:B354,B354)=1,B354,\"\")","v":""},{"$nulls":15},{"$f":"+IF(X354=\"\",\"\",MAX(T$1:T353)+1)","v":""},{"$f":"IF('No CMS - Deviation - Limits'!B376=\"\",\"\",'No CMS - Deviation - Limits'!B376)","v":""},{"$f":"IF('No CMS - Deviation - Limits'!C376=\"\",\"\",'No CMS - Deviation - Limits'!C376)","v":""},"",{"$f":"IF(COUNTIF(V$2:V354,V354)=1,V354,\"\")","v":""},"","",{"$f":"+IFERROR(INDEX(#REF!,MATCH(ROW()-ROW($Y$1),T$2:T$955,0)),\"\")","v":""},null,{"$f":"+IF(AG354=\"\",\"\",MAX(AC$1:AC353)+1)","v":""},{"$f":"IF('Using CMS - Deviation - Limits'!B376=\"\",\"\",'Using CMS - Deviation - Limits'!B376)","v":""},{"$f":"IF('Using CMS - Deviation - Limits'!C376=\"\",\"\",'Using CMS - Deviation - Limits'!C376)","v":""},"",{"$f":"IF(COUNTIF(AF$2:AF354,AF354)=1,AF354,\"\")","v":""},"","",{"$f":"+IFERROR(INDEX(#REF!,MATCH(ROW()-ROW(AG$1),AC$2:AC$955,0)),\"\")","v":""},{"$nulls":3},{"$f":"+IF(AS354=\"\",\"\",MAX(AN$1:AN353)+1)","v":""},{"$f":"IF('Using CMS - Inop_OoC - CMS'!B376=\"\",\"\",'Using CMS - Inop_OoC - CMS'!B376)","v":""},{"$f":"IF('Using CMS - Inop_OoC - CMS'!C376=\"\",\"\",'Using CMS - Inop_OoC - CMS'!C376)","v":""},{"$f":"IF('Using CMS - Inop_OoC - CMS'!D376=\"\",\"\",'Using CMS - Inop_OoC - CMS'!D376)","v":""},{"$f":"AO354&AP354&Table10[[#This Row],[CMS]]","v":""},{"$f":"IF(COUNTIF(AR$2:AR354,AR354)=1,AR354,\"\")","v":""},"","","",null,{"$f":"+IF(BB354=\"\",\"\",MAX(AX$1:AX353)+1)","v":""},{"$f":"IF('Using CMS - Deviation - Limits'!B376=\"\",\"\",'Using CMS - Deviation - Limits'!B376)","v":""},{"$f":"IF('Using CMS - Deviation - Limits'!C376=\"\",\"\",'Using CMS - Deviation - Limits'!C376)","v":""},{"$f":"AY354&AZ354&Table10[[#This Row],[CMS]]","v":""},{"$f":"IF(COUNTIF(BA$2:BA354,BA354)=1,BA354,\"\")","v":""},"","",{"$f":"+IFERROR(INDEX(#REF!,MATCH(ROW()-ROW(BC$1),AX$2:AX$955,0)),\"\")","v":""}]
[{"$f":"+IF(D355=\"\",\"\",MAX(A$1:A354)+1)","v":""},{"$f":"IF('Process_&_CMS_Identification'!C377=\"\",\"\",'Process_&_CMS_Identification'!C377)","v":""},"",{"$f":"IF(COUNTIF(B$2:B355,B355)=1,B355,\"\")","v":""},{"$nulls":15},{"$f":"+IF(X355=\"\",\"\",MAX(T$1:T354)+1)","v":""},{"$f":"IF('No CMS - Deviation - Limits'!B377=\"\",\"\",'No CMS - Deviation - Limits'!B377)","v":""},{"$f":"IF('No CMS - Deviation - Limits'!C377=\"\",\"\",'No CMS - Deviation - Limits'!C377)","v":""},"",{"$f":"IF(COUNTIF(V$2:V355,V355)=1,V355,\"\")","v":""},"","",{"$f":"+IFERROR(INDEX(#REF!,MATCH(ROW()-ROW($Y$1),T$2:T$955,0)),\"\")","v":""},null,{"$f":"+IF(AG355=\"\",\"\",MAX(AC$1:AC354)+1)","v":""},{"$f":"IF('Using CMS - Deviation - Limits'!B377=\"\",\"\",'Using CMS - Deviation - Limits'!B377)","v":""},{"$f":"IF('Using CMS - Deviation - Limits'!C377=\"\",\"\",'Using CMS - Deviation - Limits'!C377)","v":""},"",{"$f":"IF(COUNTIF(AF$2:AF355,AF355)=1,AF355,\"\")","v":""},"","",{"$f":"+IFERROR(INDEX(#REF!,MATCH(ROW()-ROW(AG$1),AC$2:AC$955,0)),\"\")","v":""},{"$nulls":3},{"$f":"+IF(AS355=\"\",\"\",MAX(AN$1:AN354)+1)","v":""},{"$f":"IF('Using CMS - Inop_OoC - CMS'!B377=\"\",\"\",'Using CMS - Inop_OoC - CMS'!B377)","v":""},{"$f":"IF('Using CMS - Inop_OoC - CMS'!C377=\"\",\"\",'Using CMS - Inop_OoC - CMS'!C377)","v":""},{"$f":"IF('Using CMS - Inop_OoC - CMS'!D377=\"\",\"\",'Using CMS - Inop_OoC - CMS'!D377)","v":""},{"$f":"AO355&AP355&Table10[[#This Row],[CMS]]","v":""},{"$f":"IF(COUNTIF(AR$2:AR355,AR355)=1,AR355,\"\")","v":""},"","","",null,{"$f":"+IF(BB355=\"\",\"\",MAX(AX$1:AX354)+1)","v":""},{"$f":"IF('Using CMS - Deviation - Limits'!B377=\"\",\"\",'Using CMS - Deviation - Limits'!B377)","v":""},{"$f":"IF('Using CMS - Deviation - Limits'!C377=\"\",\"\",'Using CMS - Deviation - Limits'!C377)","v":""},{"$f":"AY355&AZ355&Table10[[#This Row],[CMS]]","v":""},{"$f":"IF(COUNTIF(BA$2:BA355,BA355)=1,BA355,\"\")","v":""},"","",{"$f":"+IFERROR(INDEX(#REF!,MATCH(ROW()-ROW(BC$1),AX$2:AX$955,0)),\"\")","v":""}]
[{"$f":"+IF(D356=\"\",\"\",MAX(A$1:A355)+1)","v":""},{"$f":"IF('Process_&_CMS_Identification'!C378=\"\",\"\",'Process_&_CMS_Identification'!C378)","v":""},"",{"$f":"IF(COUNTIF(B$2:B356,B356)=1,B356,\"\")","v":""},{"$nulls":15},{"$f":"+IF(X356=\"\",\"\",MAX(T$1:T355)+1)","v":""},{"$f":"IF('No CMS - Deviation - Limits'!B378=\"\",\"\",'No CMS - Deviation - Limits'!B378)","v":""},{"$f":"IF('No CMS - Deviation - Limits'!C378=\"\",\"\",'No CMS - Deviation - Limits'!C378)","v":""},"",{"$f":"IF(COUNTIF(V$2:V356,V356)=1,V356,\"\")","v":""},"","",{"$f":"+IFERROR(INDEX(#REF!,MATCH(ROW()-ROW($Y$1),T$2:T$955,0)),\"\")","v":""},null,{"$f":"+IF(AG356=\"\",\"\",MAX(AC$1:AC355)+1)","v":""},{"$f":"IF('Using CMS - Deviation - Limits'!B378=\"\",\"\",'Using CMS - Deviation - Limits'!B378)","v":""},{"$f":"IF('Using CMS - Deviation - Limits'!C378=\"\",\"\",'Using CMS - Deviation - Limits'!C378)","v":""},"",{"$f":"IF(COUNTIF(AF$2:AF356,AF356)=1,AF356,\"\")","v":""},"","",{"$f":"+IFERROR(INDEX(#REF!,MATCH(ROW()-ROW(AG$1),AC$2:AC$955,0)),\"\")","v":""},{"$nulls":3},{"$f":"+IF(AS356=\"\",\"\",MAX(AN$1:AN355)+1)","v":""},{"$f":"IF('Using CMS - Inop_OoC - CMS'!B378=\"\",\"\",'Using CMS - Inop_OoC - CMS'!B378)","v":""},{"$f":"IF('Using CMS - Inop_OoC - CMS'!C378=\"\",\"\",'Using CMS - Inop_OoC - CMS'!C378)","v":""},{"$f":"IF('Using CMS - Inop_OoC - CMS'!D378=\"\",\"\",'Using CMS - Inop_OoC - CMS'!D378)","v":""},{"$f":"AO356&AP356&Table10[[#This Row],[CMS]]","v":""},{"$f":"IF(COUNTIF(AR$2:AR356,AR356)=1,AR356,\"\")","v":""},"","","",null,{"$f":"+IF(BB356=\"\",\"\",MAX(AX$1:AX355)+1)","v":""},{"$f":"IF('Using CMS - Deviation - Limits'!B378=\"\",\"\",'Using CMS - Deviation - Limits'!B378)","v":""},{"$f":"IF('Using CMS - Deviation - Limits'!C378=\"\",\"\",'Using CMS - Deviation - Limits'!C378)","v":""},{"$f":"AY356&AZ356&Table10[[#This Row],[CMS]]","v":""},{"$f":"IF(COUNTIF(BA$2:BA356,BA356)=1,BA356,\"\")","v":""},"","",{"$f":"+IFERROR(INDEX(#REF!,MATCH(ROW()-ROW(BC$1),AX$2:AX$955,0)),\"\")","v":""}]
[{"$f":"+IF(D357=\"\",\"\",MAX(A$1:A356)+1)","v":""},{"$f":"IF('Process_&_CMS_Identification'!C379=\"\",\"\",'Process_&_CMS_Identification'!C379)","v":""},"",{"$f":"IF(COUNTIF(B$2:B357,B357)=1,B357,\"\")","v":""},{"$nulls":15},{"$f":"+IF(X357=\"\",\"\",MAX(T$1:T356)+1)","v":""},{"$f":"IF('No CMS - Deviation - Limits'!B379=\"\",\"\",'No CMS - Deviation - Limits'!B379)","v":""},{"$f":"IF('No CMS - Deviation - Limits'!C379=\"\",\"\",'No CMS - Deviation - Limits'!C379)","v":""},"",{"$f":"IF(COUNTIF(V$2:V357,V357)=1,V357,\"\")","v":""},"","",{"$f":"+IFERROR(INDEX(#REF!,MATCH(ROW()-ROW($Y$1),T$2:T$955,0)),\"\")","v":""},null,{"$f":"+IF(AG357=\"\",\"\",MAX(AC$1:AC356)+1)","v":""},{"$f":"IF('Using CMS - Deviation - Limits'!B379=\"\",\"\",'Using CMS - Deviation - Limits'!B379)","v":""},{"$f":"IF('Using CMS - Deviation - Limits'!C379=\"\",\"\",'Using CMS - Deviation - Limits'!C379)","v":""},"",{"$f":"IF(COUNTIF(AF$2:AF357,AF357)=1,AF357,\"\")","v":""},"","",{"$f":"+IFERROR(INDEX(#REF!,MATCH(ROW()-ROW(AG$1),AC$2:AC$955,0)),\"\")","v":""},{"$nulls":3},{"$f":"+IF(AS357=\"\",\"\",MAX(AN$1:AN356)+1)","v":""},{"$f":"IF('Using CMS - Inop_OoC - CMS'!B379=\"\",\"\",'Using CMS - Inop_OoC - CMS'!B379)","v":""},{"$f":"IF('Using CMS - Inop_OoC - CMS'!C379=\"\",\"\",'Using CMS - Inop_OoC - CMS'!C379)","v":""},{"$f":"IF('Using CMS - Inop_OoC - CMS'!D379=\"\",\"\",'Using CMS - Inop_OoC - CMS'!D379)","v":""},{"$f":"AO357&AP357&Table10[[#This Row],[CMS]]","v":""},{"$f":"IF(COUNTIF(AR$2:AR357,AR357)=1,AR357,\"\")","v":""},"","","",null,{"$f":"+IF(BB357=\"\",\"\",MAX(AX$1:AX356)+1)","v":""},{"$f":"IF('Using CMS - Deviation - Limits'!B379=\"\",\"\",'Using CMS - Deviation - Limits'!B379)","v":""},{"$f":"IF('Using CMS - Deviation - Limits'!C379=\"\",\"\",'Using CMS - Deviation - Limits'!C379)","v":""},{"$f":"AY357&AZ357&Table10[[#This Row],[CMS]]","v":""},{"$f":"IF(COUNTIF(BA$2:BA357,BA357)=1,BA357,\"\")","v":""},"","",{"$f":"+IFERROR(INDEX(#REF!,MATCH(ROW()-ROW(BC$1),AX$2:AX$955,0)),\"\")","v":""}]
[{"$f":"+IF(D358=\"\",\"\",MAX(A$1:A357)+1)","v":""},{"$f":"IF('Process_&_CMS_Identification'!C380=\"\",\"\",'Process_&_CMS_Identification'!C380)","v":""},"",{"$f":"IF(COUNTIF(B$2:B358,B358)=1,B358,\"\")","v":""},{"$nulls":15},{"$f":"+IF(X358=\"\",\"\",MAX(T$1:T357)+1)","v":""},{"$f":"IF('No CMS - Deviation - Limits'!B380=\"\",\"\",'No CMS - Deviation - Limits'!B380)","v":""},{"$f":"IF('No CMS - Deviation - Limits'!C380=\"\",\"\",'No CMS - Deviation - Limits'!C380)","v":""},"",{"$f":"IF(COUNTIF(V$2:V358,V358)=1,V358,\"\")","v":""},"","",{"$f":"+IFERROR(INDEX(#REF!,MATCH(ROW()-ROW($Y$1),T$2:T$955,0)),\"\")","v":""},null,{"$f":"+IF(AG358=\"\",\"\",MAX(AC$1:AC357)+1)","v":""},{"$f":"IF('Using CMS - Deviation - Limits'!B380=\"\",\"\",'Using CMS - Deviation - Limits'!B380)","v":""},{"$f":"IF('Using CMS - Deviation - Limits'!C380=\"\",\"\",'Using CMS - Deviation - Limits'!C380)","v":""},"",{"$f":"IF(COUNTIF(AF$2:AF358,AF358)=1,AF358,\"\")","v":""},"","",{"$f":"+IFERROR(INDEX(#REF!,MATCH(ROW()-ROW(AG$1),AC$2:AC$955,0)),\"\")","v":""},{"$nulls":3},{"$f":"+IF(AS358=\"\",\"\",MAX(AN$1:AN357)+1)","v":""},{"$f":"IF('Using CMS - Inop_OoC - CMS'!B380=\"\",\"\",'Using CMS - Inop_OoC - CMS'!B380)","v":""},{"$f":"IF('Using CMS - Inop_OoC - CMS'!C380=\"\",\"\",'Using CMS - Inop_OoC - CMS'!C380)","v":""},{"$f":"IF('Using CMS - Inop_OoC - CMS'!D380=\"\",\"\",'Using CMS - Inop_OoC - CMS'!D380)","v":""},{"$f":"AO358&AP358&Table10[[#This Row],[CMS]]","v":""},{"$f":"IF(COUNTIF(AR$2:AR358,AR358)=1,AR358,\"\")","v":""},"","","",null,{"$f":"+IF(BB358=\"\",\"\",MAX(AX$1:AX357)+1)","v":""},{"$f":"IF('Using CMS - Deviation - Limits'!B380=\"\",\"\",'Using CMS - Deviation - Limits'!B380)","v":""},{"$f":"IF('Using CMS - Deviation - Limits'!C380=\"\",\"\",'Using CMS - Deviation - Limits'!C380)","v":""},{"$f":"AY358&AZ358&Table10[[#This Row],[CMS]]","v":""},{"$f":"IF(COUNTIF(BA$2:BA358,BA358)=1,BA358,\"\")","v":""},"","",{"$f":"+IFERROR(INDEX(#REF!,MATCH(ROW()-ROW(BC$1),AX$2:AX$955,0)),\"\")","v":""}]
[{"$f":"+IF(D359=\"\",\"\",MAX(A$1:A358)+1)","v":""},{"$f":"IF('Process_&_CMS_Identification'!C381=\"\",\"\",'Process_&_CMS_Identification'!C381)","v":""},"",{"$f":"IF(COUNTIF(B$2:B359,B359)=1,B359,\"\")","v":""},{"$nulls":15},{"$f":"+IF(X359=\"\",\"\",MAX(T$1:T358)+1)","v":""},{"$f":"IF('No CMS - Deviation - Limits'!B381=\"\",\"\",'No CMS - Deviation - Limits'!B381)","v":""},{"$f":"IF('No CMS - Deviation - Limits'!C381=\"\",\"\",'No CMS - Deviation - Limits'!C381)","v":""},"",{"$f":"IF(COUNTIF(V$2:V359,V359)=1,V359,\"\")","v":""},"","",{"$f":"+IFERROR(INDEX(#REF!,MATCH(ROW()-ROW($Y$1),T$2:T$955,0)),\"\")","v":""},null,{"$f":"+IF(AG359=\"\",\"\",MAX(AC$1:AC358)+1)","v":""},{"$f":"IF('Using CMS - Deviation - Limits'!B381=\"\",\"\",'Using CMS - Deviation - Limits'!B381)","v":""},{"$f":"IF('Using CMS - Deviation - Limits'!C381=\"\",\"\",'Using CMS - Deviation - Limits'!C381)","v":""},"",{"$f":"IF(COUNTIF(AF$2:AF359,AF359)=1,AF359,\"\")","v":""},"","",{"$f":"+IFERROR(INDEX(#REF!,MATCH(ROW()-ROW(AG$1),AC$2:AC$955,0)),\"\")","v":""},{"$nulls":3},{"$f":"+IF(AS359=\"\",\"\",MAX(AN$1:AN358)+1)","v":""},{"$f":"IF('Using CMS - Inop_OoC - CMS'!B381=\"\",\"\",'Using CMS - Inop_OoC - CMS'!B381)","v":""},{"$f":"IF('Using CMS - Inop_OoC - CMS'!C381=\"\",\"\",'Using CMS - Inop_OoC - CMS'!C381)","v":""},{"$f":"IF('Using CMS - Inop_OoC - CMS'!D381=\"\",\"\",'Using CMS - Inop_OoC - CMS'!D381)","v":""},{"$f":"AO359&AP359&Table10[[#This Row],[CMS]]","v":""},{"$f":"IF(COUNTIF(AR$2:AR359,AR359)=1,AR359,\"\")","v":""},"","","",null,{"$f":"+IF(BB359=\"\",\"\",MAX(AX$1:AX358)+1)","v":""},{"$f":"IF('Using CMS - Deviation - Limits'!B381=\"\",\"\",'Using CMS - Deviation - Limits'!B381)","v":""},{"$f":"IF('Using CMS - Deviation - Limits'!C381=\"\",\"\",'Using CMS - Deviation - Limits'!C381)","v":""},{"$f":"AY359&AZ359&Table10[[#This Row],[CMS]]","v":""},{"$f":"IF(COUNTIF(BA$2:BA359,BA359)=1,BA359,\"\")","v":""},"","",{"$f":"+IFERROR(INDEX(#REF!,MATCH(ROW()-ROW(BC$1),AX$2:AX$955,0)),\"\")","v":""}]
[{"$f":"+IF(D360=\"\",\"\",MAX(A$1:A359)+1)","v":""},{"$f":"IF('Process_&_CMS_Identification'!C382=\"\",\"\",'Process_&_CMS_Identification'!C382)","v":""},"",{"$f":"IF(COUNTIF(B$2:B360,B360)=1,B360,\"\")","v":""},{"$nulls":15},{"$f":"+IF(X360=\"\",\"\",MAX(T$1:T359)+1)","v":""},{"$f":"IF('No CMS - Deviation - Limits'!B382=\"\",\"\",'No CMS - Deviation - Limits'!B382)","v":""},{"$f":"IF('No CMS - Deviation - Limits'!C382=\"\",\"\",'No CMS - Deviation - Limits'!C382)","v":""},"",{"$f":"IF(COUNTIF(V$2:V360,V360)=1,V360,\"\")","v":""},"","",{"$f":"+IFERROR(INDEX(#REF!,MATCH(ROW()-ROW($Y$1),T$2:T$955,0)),\"\")","v":""},null,{"$f":"+IF(AG360=\"\",\"\",MAX(AC$1:AC359)+1)","v":""},{"$f":"IF('Using CMS - Deviation - Limits'!B382=\"\",\"\",'Using CMS - Deviation - Limits'!B382)","v":""},{"$f":"IF('Using CMS - Deviation - Limits'!C382=\"\",\"\",'Using CMS - Deviation - Limits'!C382)","v":""},"",{"$f":"IF(COUNTIF(AF$2:AF360,AF360)=1,AF360,\"\")","v":""},"","",{"$f":"+IFERROR(INDEX(#REF!,MATCH(ROW()-ROW(AG$1),AC$2:AC$955,0)),\"\")","v":""},{"$nulls":3},{"$f":"+IF(AS360=\"\",\"\",MAX(AN$1:AN359)+1)","v":""},{"$f":"IF('Using CMS - Inop_OoC - CMS'!B382=\"\",\"\",'Using CMS - Inop_OoC - CMS'!B382)","v":""},{"$f":"IF('Using CMS - Inop_OoC - CMS'!C382=\"\",\"\",'Using CMS - Inop_OoC - CMS'!C382)","v":""},{"$f":"IF('Using CMS - Inop_OoC - CMS'!D382=\"\",\"\",'Using CMS - Inop_OoC - CMS'!D382)","v":""},{"$f":"AO360&AP360&Table10[[#This Row],[CMS]]","v":""},{"$f":"IF(COUNTIF(AR$2:AR360,AR360)=1,AR360,\"\")","v":""},"","","",null,{"$f":"+IF(BB360=\"\",\"\",MAX(AX$1:AX359)+1)","v":""},{"$f":"IF('Using CMS - Deviation - Limits'!B382=\"\",\"\",'Using CMS - Deviation - Limits'!B382)","v":""},{"$f":"IF('Using CMS - Deviation - Limits'!C382=\"\",\"\",'Using CMS - Deviation - Limits'!C382)","v":""},{"$f":"AY360&AZ360&Table10[[#This Row],[CMS]]","v":""},{"$f":"IF(COUNTIF(BA$2:BA360,BA360)=1,BA360,\"\")","v":""},"","",{"$f":"+IFERROR(INDEX(#REF!,MATCH(ROW()-ROW(BC$1),AX$2:AX$955,0)),\"\")","v":""}]
[{"$f":"+IF(D361=\"\",\"\",MAX(A$1:A360)+1)","v":""},{"$f":"IF('Process_&_CMS_Identification'!C383=\"\",\"\",'Process_&_CMS_Identification'!C383)","v":""},"",{"$f":"IF(COUNTIF(B$2:B361,B361)=1,B361,\"\")","v":""},{"$nulls":15},{"$f":"+IF(X361=\"\",\"\",MAX(T$1:T360)+1)","v":""},{"$f":"IF('No CMS - Deviation - Limits'!B383=\"\",\"\",'No CMS - Deviation - Limits'!B383)","v":""},{"$f":"IF('No CMS - Deviation - Limits'!C383=\"\",\"\",'No CMS - Deviation - Limits'!C383)","v":""},"",{"$f":"IF(COUNTIF(V$2:V361,V361)=1,V361,\"\")","v":""},"","",{"$f":"+IFERROR(INDEX(#REF!,MATCH(ROW()-ROW($Y$1),T$2:T$955,0)),\"\")","v":""},null,{"$f":"+IF(AG361=\"\",\"\",MAX(AC$1:AC360)+1)","v":""},{"$f":"IF('Using CMS - Deviation - Limits'!B383=\"\",\"\",'Using CMS - Deviation - Limits'!B383)","v":""},{"$f":"IF('Using CMS - Deviation - Limits'!C383=\"\",\"\",'Using CMS - Deviation - Limits'!C383)","v":""},"",{"$f":"IF(COUNTIF(AF$2:AF361,AF361)=1,AF361,\"\")","v":""},"","",{"$f":"+IFERROR(INDEX(#REF!,MATCH(ROW()-ROW(AG$1),AC$2:AC$955,0)),\"\")","v":""},{"$nulls":3},{"$f":"+IF(AS361=\"\",\"\",MAX(AN$1:AN360)+1)","v":""},{"$f":"IF('Using CMS - Inop_OoC - CMS'!B383=\"\",\"\",'Using CMS - Inop_OoC - CMS'!B383)","v":""},{"$f":"IF('Using CMS - Inop_OoC - CMS'!C383=\"\",\"\",'Using CMS - Inop_OoC - CMS'!C383)","v":""},{"$f":"IF('Using CMS - Inop_OoC - CMS'!D383=\"\",\"\",'Using CMS - Inop_OoC - CMS'!D383)","v":""},{"$f":"AO361&AP361&Table10[[#This Row],[CMS]]","v":""},{"$f":"IF(COUNTIF(AR$2:AR361,AR361)=1,AR361,\"\")","v":""},"","","",null,{"$f":"+IF(BB361=\"\",\"\",MAX(AX$1:AX360)+1)","v":""},{"$f":"IF('Using CMS - Deviation - Limits'!B383=\"\",\"\",'Using CMS - Deviation - Limits'!B383)","v":""},{"$f":"IF('Using CMS - Deviation - Limits'!C383=\"\",\"\",'Using CMS - Deviation - Limits'!C383)","v":""},{"$f":"AY361&AZ361&Table10[[#This Row],[CMS]]","v":""},{"$f":"IF(COUNTIF(BA$2:BA361,BA361)=1,BA361,\"\")","v":""},"","",{"$f":"+IFERROR(INDEX(#REF!,MATCH(ROW()-ROW(BC$1),AX$2:AX$955,0)),\"\")","v":""}]
[{"$f":"+IF(D362=\"\",\"\",MAX(A$1:A361)+1)","v":""},{"$f":"IF('Process_&_CMS_Identification'!C384=\"\",\"\",'Process_&_CMS_Identification'!C384)","v":""},"",{"$f":"IF(COUNTIF(B$2:B362,B362)=1,B362,\"\")","v":""},{"$nulls":15},{"$f":"+IF(X362=\"\",\"\",MAX(T$1:T361)+1)","v":""},{"$f":"IF('No CMS - Deviation - Limits'!B384=\"\",\"\",'No CMS - Deviation - Limits'!B384)","v":""},{"$f":"IF('No CMS - Deviation - Limits'!C384=\"\",\"\",'No CMS - Deviation - Limits'!C384)","v":""},"",{"$f":"IF(COUNTIF(V$2:V362,V362)=1,V362,\"\")","v":""},"","",{"$f":"+IFERROR(INDEX(#REF!,MATCH(ROW()-ROW($Y$1),T$2:T$955,0)),\"\")","v":""},null,{"$f":"+IF(AG362=\"\",\"\",MAX(AC$1:AC361)+1)","v":""},{"$f":"IF('Using CMS - Deviation - Limits'!B384=\"\",\"\",'Using CMS - Deviation - Limits'!B384)","v":""},{"$f":"IF('Using CMS - Deviation - Limits'!C384=\"\",\"\",'Using CMS - Deviation - Limits'!C384)","v":""},"",{"$f":"IF(COUNTIF(AF$2:AF362,AF362)=1,AF362,\"\")","v":""},"","",{"$f":"+IFERROR(INDEX(#REF!,MATCH(ROW()-ROW(AG$1),AC$2:AC$955,0)),\"\")","v":""},{"$nulls":3},{"$f":"+IF(AS362=\"\",\"\",MAX(AN$1:AN361)+1)","v":""},{"$f":"IF('Using CMS - Inop_OoC - CMS'!B384=\"\",\"\",'Using CMS - Inop_OoC - CMS'!B384)","v":""},{"$f":"IF('Using CMS - Inop_OoC - CMS'!C384=\"\",\"\",'Using CMS - Inop_OoC - CMS'!C384)","v":""},{"$f":"IF('Using CMS - Inop_OoC - CMS'!D384=\"\",\"\",'Using CMS - Inop_OoC - CMS'!D384)","v":""},{"$f":"AO362&AP362&Table10[[#This Row],[CMS]]","v":""},{"$f":"IF(COUNTIF(AR$2:AR362,AR362)=1,AR362,\"\")","v":""},"","","",null,{"$f":"+IF(BB362=\"\",\"\",MAX(AX$1:AX361)+1)","v":""},{"$f":"IF('Using CMS - Deviation - Limits'!B384=\"\",\"\",'Using CMS - Deviation - Limits'!B384)","v":""},{"$f":"IF('Using CMS - Deviation - Limits'!C384=\"\",\"\",'Using CMS - Deviation - Limits'!C384)","v":""},{"$f":"AY362&AZ362&Table10[[#This Row],[CMS]]","v":""},{"$f":"IF(COUNTIF(BA$2:BA362,BA362)=1,BA362,\"\")","v":""},"","",{"$f":"+IFERROR(INDEX(#REF!,MATCH(ROW()-ROW(BC$1),AX$2:AX$955,0)),\"\")","v":""}]
[{"$f":"+IF(D363=\"\",\"\",MAX(A$1:A362)+1)","v":""},{"$f":"IF('Process_&_CMS_Identification'!C385=\"\",\"\",'Process_&_CMS_Identification'!C385)","v":""},"",{"$f":"IF(COUNTIF(B$2:B363,B363)=1,B363,\"\")","v":""},{"$nulls":15},{"$f":"+IF(X363=\"\",\"\",MAX(T$1:T362)+1)","v":""},{"$f":"IF('No CMS - Deviation - Limits'!B385=\"\",\"\",'No CMS - Deviation - Limits'!B385)","v":""},{"$f":"IF('No CMS - Deviation - Limits'!C385=\"\",\"\",'No CMS - Deviation - Limits'!C385)","v":""},"",{"$f":"IF(COUNTIF(V$2:V363,V363)=1,V363,\"\")","v":""},"","",{"$f":"+IFERROR(INDEX(#REF!,MATCH(ROW()-ROW($Y$1),T$2:T$955,0)),\"\")","v":""},null,{"$f":"+IF(AG363=\"\",\"\",MAX(AC$1:AC362)+1)","v":""},{"$f":"IF('Using CMS - Deviation - Limits'!B385=\"\",\"\",'Using CMS - Deviation - Limits'!B385)","v":""},{"$f":"IF('Using CMS - Deviation - Limits'!C385=\"\",\"\",'Using CMS - Deviation - Limits'!C385)","v":""},"",{"$f":"IF(COUNTIF(AF$2:AF363,AF363)=1,AF363,\"\")","v":""},"","",{"$f":"+IFERROR(INDEX(#REF!,MATCH(ROW()-ROW(AG$1),AC$2:AC$955,0)),\"\")","v":""},{"$nulls":3},{"$f":"+IF(AS363=\"\",\"\",MAX(AN$1:AN362)+1)","v":""},{"$f":"IF('Using CMS - Inop_OoC - CMS'!B385=\"\",\"\",'Using CMS - Inop_OoC - CMS'!B385)","v":""},{"$f":"IF('Using CMS - Inop_OoC - CMS'!C385=\"\",\"\",'Using CMS - Inop_OoC - CMS'!C385)","v":""},{"$f":"IF('Using CMS - Inop_OoC - CMS'!D385=\"\",\"\",'Using CMS - Inop_OoC - CMS'!D385)","v":""},{"$f":"AO363&AP363&Table10[[#This Row],[CMS]]","v":""},{"$f":"IF(COUNTIF(AR$2:AR363,AR363)=1,AR363,\"\")","v":""},"","","",null,{"$f":"+IF(BB363=\"\",\"\",MAX(AX$1:AX362)+1)","v":""},{"$f":"IF('Using CMS - Deviation - Limits'!B385=\"\",\"\",'Using CMS - Deviation - Limits'!B385)","v":""},{"$f":"IF('Using CMS - Deviation - Limits'!C385=\"\",\"\",'Using CMS - Deviation - Limits'!C385)","v":""},{"$f":"AY363&AZ363&Table10[[#This Row],[CMS]]","v":""},{"$f":"IF(COUNTIF(BA$2:BA363,BA363)=1,BA363,\"\")","v":""},"","",{"$f":"+IFERROR(INDEX(#REF!,MATCH(ROW()-ROW(BC$1),AX$2:AX$955,0)),\"\")","v":""}]
[{"$f":"+IF(D364=\"\",\"\",MAX(A$1:A363)+1)","v":""},{"$f":"IF('Process_&_CMS_Identification'!C386=\"\",\"\",'Process_&_CMS_Identification'!C386)","v":""},"",{"$f":"IF(COUNTIF(B$2:B364,B364)=1,B364,\"\")","v":""},{"$nulls":15},{"$f":"+IF(X364=\"\",\"\",MAX(T$1:T363)+1)","v":""},{"$f":"IF('No CMS - Deviation - Limits'!B386=\"\",\"\",'No CMS - Deviation - Limits'!B386)","v":""},{"$f":"IF('No CMS - Deviation - Limits'!C386=\"\",\"\",'No CMS - Deviation - Limits'!C386)","v":""},"",{"$f":"IF(COUNTIF(V$2:V364,V364)=1,V364,\"\")","v":""},"","",{"$f":"+IFERROR(INDEX(#REF!,MATCH(ROW()-ROW($Y$1),T$2:T$955,0)),\"\")","v":""},null,{"$f":"+IF(AG364=\"\",\"\",MAX(AC$1:AC363)+1)","v":""},{"$f":"IF('Using CMS - Deviation - Limits'!B386=\"\",\"\",'Using CMS - Deviation - Limits'!B386)","v":""},{"$f":"IF('Using CMS - Deviation - Limits'!C386=\"\",\"\",'Using CMS - Deviation - Limits'!C386)","v":""},"",{"$f":"IF(COUNTIF(AF$2:AF364,AF364)=1,AF364,\"\")","v":""},"","",{"$f":"+IFERROR(INDEX(#REF!,MATCH(ROW()-ROW(AG$1),AC$2:AC$955,0)),\"\")","v":""},{"$nulls":3},{"$f":"+IF(AS364=\"\",\"\",MAX(AN$1:AN363)+1)","v":""},{"$f":"IF('Using CMS - Inop_OoC - CMS'!B386=\"\",\"\",'Using CMS - Inop_OoC - CMS'!B386)","v":""},{"$f":"IF('Using CMS - Inop_OoC - CMS'!C386=\"\",\"\",'Using CMS - Inop_OoC - CMS'!C386)","v":""},{"$f":"IF('Using CMS - Inop_OoC - CMS'!D386=\"\",\"\",'Using CMS - Inop_OoC - CMS'!D386)","v":""},{"$f":"AO364&AP364&Table10[[#This Row],[CMS]]","v":""},{"$f":"IF(COUNTIF(AR$2:AR364,AR364)=1,AR364,\"\")","v":""},"","","",null,{"$f":"+IF(BB364=\"\",\"\",MAX(AX$1:AX363)+1)","v":""},{"$f":"IF('Using CMS - Deviation - Limits'!B386=\"\",\"\",'Using CMS - Deviation - Limits'!B386)","v":""},{"$f":"IF('Using CMS - Deviation - Limits'!C386=\"\",\"\",'Using CMS - Deviation - Limits'!C386)","v":""},{"$f":"AY364&AZ364&Table10[[#This Row],[CMS]]","v":""},{"$f":"IF(COUNTIF(BA$2:BA364,BA364)=1,BA364,\"\")","v":""},"","",{"$f":"+IFERROR(INDEX(#REF!,MATCH(ROW()-ROW(BC$1),AX$2:AX$955,0)),\"\")","v":""}]
[{"$f":"+IF(D365=\"\",\"\",MAX(A$1:A364)+1)","v":""},{"$f":"IF('Process_&_CMS_Identification'!C387=\"\",\"\",'Process_&_CMS_Identification'!C387)","v":""},"",{"$f":"IF(COUNTIF(B$2:B365,B365)=1,B365,\"\")","v":""},{"$nulls":15},{"$f":"+IF(X365=\"\",\"\",MAX(T$1:T364)+1)","v":""},{"$f":"IF('No CMS - Deviation - Limits'!B387=\"\",\"\",'No CMS - Deviation - Limits'!B387)","v":""},{"$f":"IF('No CMS - Deviation - Limits'!C387=\"\",\"\",'No CMS - Deviation - Limits'!C387)","v":""},"",{"$f":"IF(COUNTIF(V$2:V365,V365)=1,V365,\"\")","v":""},"","",{"$f":"+IFERROR(INDEX(#REF!,MATCH(ROW()-ROW($Y$1),T$2:T$955,0)),\"\")","v":""},null,{"$f":"+IF(AG365=\"\",\"\",MAX(AC$1:AC364)+1)","v":""},{"$f":"IF('Using CMS - Deviation - Limits'!B387=\"\",\"\",'Using CMS - Deviation - Limits'!B387)","v":""},{"$f":"IF('Using CMS - Deviation - Limits'!C387=\"\",\"\",'Using CMS - Deviation - Limits'!C387)","v":""},"",{"$f":"IF(COUNTIF(AF$2:AF365,AF365)=1,AF365,\"\")","v":""},"","",{"$f":"+IFERROR(INDEX(#REF!,MATCH(ROW()-ROW(AG$1),AC$2:AC$955,0)),\"\")","v":""},{"$nulls":3},{"$f":"+IF(AS365=\"\",\"\",MAX(AN$1:AN364)+1)","v":""},{"$f":"IF('Using CMS - Inop_OoC - CMS'!B387=\"\",\"\",'Using CMS - Inop_OoC - CMS'!B387)","v":""},{"$f":"IF('Using CMS - Inop_OoC - CMS'!C387=\"\",\"\",'Using CMS - Inop_OoC - CMS'!C387)","v":""},{"$f":"IF('Using CMS - Inop_OoC - CMS'!D387=\"\",\"\",'Using CMS - Inop_OoC - CMS'!D387)","v":""},{"$f":"AO365&AP365&Table10[[#This Row],[CMS]]","v":""},{"$f":"IF(COUNTIF(AR$2:AR365,AR365)=1,AR365,\"\")","v":""},"","","",null,{"$f":"+IF(BB365=\"\",\"\",MAX(AX$1:AX364)+1)","v":""},{"$f":"IF('Using CMS - Deviation - Limits'!B387=\"\",\"\",'Using CMS - Deviation - Limits'!B387)","v":""},{"$f":"IF('Using CMS - Deviation - Limits'!C387=\"\",\"\",'Using CMS - Deviation - Limits'!C387)","v":""},{"$f":"AY365&AZ365&Table10[[#This Row],[CMS]]","v":""},{"$f":"IF(COUNTIF(BA$2:BA365,BA365)=1,BA365,\"\")","v":""},"","",{"$f":"+IFERROR(INDEX(#REF!,MATCH(ROW()-ROW(BC$1),AX$2:AX$955,0)),\"\")","v":""}]
[{"$f":"+IF(D366=\"\",\"\",MAX(A$1:A365)+1)","v":""},{"$f":"IF('Process_&_CMS_Identification'!C388=\"\",\"\",'Process_&_CMS_Identification'!C388)","v":""},"",{"$f":"IF(COUNTIF(B$2:B366,B366)=1,B366,\"\")","v":""},{"$nulls":15},{"$f":"+IF(X366=\"\",\"\",MAX(T$1:T365)+1)","v":""},{"$f":"IF('No CMS - Deviation - Limits'!B388=\"\",\"\",'No CMS - Deviation - Limits'!B388)","v":""},{"$f":"IF('No CMS - Deviation - Limits'!C388=\"\",\"\",'No CMS - Deviation - Limits'!C388)","v":""},"",{"$f":"IF(COUNTIF(V$2:V366,V366)=1,V366,\"\")","v":""},"","",{"$f":"+IFERROR(INDEX(#REF!,MATCH(ROW()-ROW($Y$1),T$2:T$955,0)),\"\")","v":""},null,{"$f":"+IF(AG366=\"\",\"\",MAX(AC$1:AC365)+1)","v":""},{"$f":"IF('Using CMS - Deviation - Limits'!B388=\"\",\"\",'Using CMS - Deviation - Limits'!B388)","v":""},{"$f":"IF('Using CMS - Deviation - Limits'!C388=\"\",\"\",'Using CMS - Deviation - Limits'!C388)","v":""},"",{"$f":"IF(COUNTIF(AF$2:AF366,AF366)=1,AF366,\"\")","v":""},"","",{"$f":"+IFERROR(INDEX(#REF!,MATCH(ROW()-ROW(AG$1),AC$2:AC$955,0)),\"\")","v":""},{"$nulls":3},{"$f":"+IF(AS366=\"\",\"\",MAX(AN$1:AN365)+1)","v":""},{"$f":"IF('Using CMS - Inop_OoC - CMS'!B388=\"\",\"\",'Using CMS - Inop_OoC - CMS'!B388)","v":""},{"$f":"IF('Using CMS - Inop_OoC - CMS'!C388=\"\",\"\",'Using CMS - Inop_OoC - CMS'!C388)","v":""},{"$f":"IF('Using CMS - Inop_OoC - CMS'!D388=\"\",\"\",'Using CMS - Inop_OoC - CMS'!D388)","v":""},{"$f":"AO366&AP366&Table10[[#This Row],[CMS]]","v":""},{"$f":"IF(COUNTIF(AR$2:AR366,AR366)=1,AR366,\"\")","v":""},"","","",null,{"$f":"+IF(BB366=\"\",\"\",MAX(AX$1:AX365)+1)","v":""},{"$f":"IF('Using CMS - Deviation - Limits'!B388=\"\",\"\",'Using CMS - Deviation - Limits'!B388)","v":""},{"$f":"IF('Using CMS - Deviation - Limits'!C388=\"\",\"\",'Using CMS - Deviation - Limits'!C388)","v":""},{"$f":"AY366&AZ366&Table10[[#This Row],[CMS]]","v":""},{"$f":"IF(COUNTIF(BA$2:BA366,BA366)=1,BA366,\"\")","v":""},"","",{"$f":"+IFERROR(INDEX(#REF!,MATCH(ROW()-ROW(BC$1),AX$2:AX$955,0)),\"\")","v":""}]
[{"$f":"+IF(D367=\"\",\"\",MAX(A$1:A366)+1)","v":""},{"$f":"IF('Process_&_CMS_Identification'!C389=\"\",\"\",'Process_&_CMS_Identification'!C389)","v":""},"",{"$f":"IF(COUNTIF(B$2:B367,B367)=1,B367,\"\")","v":""},{"$nulls":15},{"$f":"+IF(X367=\"\",\"\",MAX(T$1:T366)+1)","v":""},{"$f":"IF('No CMS - Deviation - Limits'!B389=\"\",\"\",'No CMS - Deviation - Limits'!B389)","v":""},{"$f":"IF('No CMS - Deviation - Limits'!C389=\"\",\"\",'No CMS - Deviation - Limits'!C389)","v":""},"",{"$f":"IF(COUNTIF(V$2:V367,V367)=1,V367,\"\")","v":""},"","",{"$f":"+IFERROR(INDEX(#REF!,MATCH(ROW()-ROW($Y$1),T$2:T$955,0)),\"\")","v":""},null,{"$f":"+IF(AG367=\"\",\"\",MAX(AC$1:AC366)+1)","v":""},{"$f":"IF('Using CMS - Deviation - Limits'!B389=\"\",\"\",'Using CMS - Deviation - Limits'!B389)","v":""},{"$f":"IF('Using CMS - Deviation - Limits'!C389=\"\",\"\",'Using CMS - Deviation - Limits'!C389)","v":""},"",{"$f":"IF(COUNTIF(AF$2:AF367,AF367)=1,AF367,\"\")","v":""},"","",{"$f":"+IFERROR(INDEX(#REF!,MATCH(ROW()-ROW(AG$1),AC$2:AC$955,0)),\"\")","v":""},{"$nulls":3},{"$f":"+IF(AS367=\"\",\"\",MAX(AN$1:AN366)+1)","v":""},{"$f":"IF('Using CMS - Inop_OoC - CMS'!B389=\"\",\"\",'Using CMS - Inop_OoC - CMS'!B389)","v":""},{"$f":"IF('Using CMS - Inop_OoC - CMS'!C389=\"\",\"\",'Using CMS - Inop_OoC - CMS'!C389)","v":""},{"$f":"IF('Using CMS - Inop_OoC - CMS'!D389=\"\",\"\",'Using CMS - Inop_OoC - CMS'!D389)","v":""},{"$f":"AO367&AP367&Table10[[#This Row],[CMS]]","v":""},{"$f":"IF(COUNTIF(AR$2:AR367,AR367)=1,AR367,\"\")","v":""},"","","",null,{"$f":"+IF(BB367=\"\",\"\",MAX(AX$1:AX366)+1)","v":""},{"$f":"IF('Using CMS - Deviation - Limits'!B389=\"\",\"\",'Using CMS - Deviation - Limits'!B389)","v":""},{"$f":"IF('Using CMS - Deviation - Limits'!C389=\"\",\"\",'Using CMS - Deviation - Limits'!C389)","v":""},{"$f":"AY367&AZ367&Table10[[#This Row],[CMS]]","v":""},{"$f":"IF(COUNTIF(BA$2:BA367,BA367)=1,BA367,\"\")","v":""},"","",{"$f":"+IFERROR(INDEX(#REF!,MATCH(ROW()-ROW(BC$1),AX$2:AX$955,0)),\"\")","v":""}]
[{"$f":"+IF(D368=\"\",\"\",MAX(A$1:A367)+1)","v":""},{"$f":"IF('Process_&_CMS_Identification'!C390=\"\",\"\",'Process_&_CMS_Identification'!C390)","v":""},"",{"$f":"IF(COUNTIF(B$2:B368,B368)=1,B368,\"\")","v":""},{"$nulls":15},{"$f":"+IF(X368=\"\",\"\",MAX(T$1:T367)+1)","v":""},{"$f":"IF('No CMS - Deviation - Limits'!B390=\"\",\"\",'No CMS - Deviation - Limits'!B390)","v":""},{"$f":"IF('No CMS - Deviation - Limits'!C390=\"\",\"\",'No CMS - Deviation - Limits'!C390)","v":""},"",{"$f":"IF(COUNTIF(V$2:V368,V368)=1,V368,\"\")","v":""},"","",{"$f":"+IFERROR(INDEX(#REF!,MATCH(ROW()-ROW($Y$1),T$2:T$955,0)),\"\")","v":""},null,{"$f":"+IF(AG368=\"\",\"\",MAX(AC$1:AC367)+1)","v":""},{"$f":"IF('Using CMS - Deviation - Limits'!B390=\"\",\"\",'Using CMS - Deviation - Limits'!B390)","v":""},{"$f":"IF('Using CMS - Deviation - Limits'!C390=\"\",\"\",'Using CMS - Deviation - Limits'!C390)","v":""},"",{"$f":"IF(COUNTIF(AF$2:AF368,AF368)=1,AF368,\"\")","v":""},"","",{"$f":"+IFERROR(INDEX(#REF!,MATCH(ROW()-ROW(AG$1),AC$2:AC$955,0)),\"\")","v":""},{"$nulls":3},{"$f":"+IF(AS368=\"\",\"\",MAX(AN$1:AN367)+1)","v":""},{"$f":"IF('Using CMS - Inop_OoC - CMS'!B390=\"\",\"\",'Using CMS - Inop_OoC - CMS'!B390)","v":""},{"$f":"IF('Using CMS - Inop_OoC - CMS'!C390=\"\",\"\",'Using CMS - Inop_OoC - CMS'!C390)","v":""},{"$f":"IF('Using CMS - Inop_OoC - CMS'!D390=\"\",\"\",'Using CMS - Inop_OoC - CMS'!D390)","v":""},{"$f":"AO368&AP368&Table10[[#This Row],[CMS]]","v":""},{"$f":"IF(COUNTIF(AR$2:AR368,AR368)=1,AR368,\"\")","v":""},"","","",null,{"$f":"+IF(BB368=\"\",\"\",MAX(AX$1:AX367)+1)","v":""},{"$f":"IF('Using CMS - Deviation - Limits'!B390=\"\",\"\",'Using CMS - Deviation - Limits'!B390)","v":""},{"$f":"IF('Using CMS - Deviation - Limits'!C390=\"\",\"\",'Using CMS - Deviation - Limits'!C390)","v":""},{"$f":"AY368&AZ368&Table10[[#This Row],[CMS]]","v":""},{"$f":"IF(COUNTIF(BA$2:BA368,BA368)=1,BA368,\"\")","v":""},"","",{"$f":"+IFERROR(INDEX(#REF!,MATCH(ROW()-ROW(BC$1),AX$2:AX$955,0)),\"\")","v":""}]
[{"$f":"+IF(D369=\"\",\"\",MAX(A$1:A368)+1)","v":""},{"$f":"IF('Process_&_CMS_Identification'!C391=\"\",\"\",'Process_&_CMS_Identification'!C391)","v":""},"",{"$f":"IF(COUNTIF(B$2:B369,B369)=1,B369,\"\")","v":""},{"$nulls":15},{"$f":"+IF(X369=\"\",\"\",MAX(T$1:T368)+1)","v":""},{"$f":"IF('No CMS - Deviation - Limits'!B391=\"\",\"\",'No CMS - Deviation - Limits'!B391)","v":""},{"$f":"IF('No CMS - Deviation - Limits'!C391=\"\",\"\",'No CMS - Deviation - Limits'!C391)","v":""},"",{"$f":"IF(COUNTIF(V$2:V369,V369)=1,V369,\"\")","v":""},"","",{"$f":"+IFERROR(INDEX(#REF!,MATCH(ROW()-ROW($Y$1),T$2:T$955,0)),\"\")","v":""},null,{"$f":"+IF(AG369=\"\",\"\",MAX(AC$1:AC368)+1)","v":""},{"$f":"IF('Using CMS - Deviation - Limits'!B391=\"\",\"\",'Using CMS - Deviation - Limits'!B391)","v":""},{"$f":"IF('Using CMS - Deviation - Limits'!C391=\"\",\"\",'Using CMS - Deviation - Limits'!C391)","v":""},"",{"$f":"IF(COUNTIF(AF$2:AF369,AF369)=1,AF369,\"\")","v":""},"","",{"$f":"+IFERROR(INDEX(#REF!,MATCH(ROW()-ROW(AG$1),AC$2:AC$955,0)),\"\")","v":""},{"$nulls":3},{"$f":"+IF(AS369=\"\",\"\",MAX(AN$1:AN368)+1)","v":""},{"$f":"IF('Using CMS - Inop_OoC - CMS'!B391=\"\",\"\",'Using CMS - Inop_OoC - CMS'!B391)","v":""},{"$f":"IF('Using CMS - Inop_OoC - CMS'!C391=\"\",\"\",'Using CMS - Inop_OoC - CMS'!C391)","v":""},{"$f":"IF('Using CMS - Inop_OoC - CMS'!D391=\"\",\"\",'Using CMS - Inop_OoC - CMS'!D391)","v":""},{"$f":"AO369&AP369&Table10[[#This Row],[CMS]]","v":""},{"$f":"IF(COUNTIF(AR$2:AR369,AR369)=1,AR369,\"\")","v":""},"","","",null,{"$f":"+IF(BB369=\"\",\"\",MAX(AX$1:AX368)+1)","v":""},{"$f":"IF('Using CMS - Deviation - Limits'!B391=\"\",\"\",'Using CMS - Deviation - Limits'!B391)","v":""},{"$f":"IF('Using CMS - Deviation - Limits'!C391=\"\",\"\",'Using CMS - Deviation - Limits'!C391)","v":""},{"$f":"AY369&AZ369&Table10[[#This Row],[CMS]]","v":""},{"$f":"IF(COUNTIF(BA$2:BA369,BA369)=1,BA369,\"\")","v":""},"","",{"$f":"+IFERROR(INDEX(#REF!,MATCH(ROW()-ROW(BC$1),AX$2:AX$955,0)),\"\")","v":""}]
[{"$f":"+IF(D370=\"\",\"\",MAX(A$1:A369)+1)","v":""},{"$f":"IF('Process_&_CMS_Identification'!C392=\"\",\"\",'Process_&_CMS_Identification'!C392)","v":""},"",{"$f":"IF(COUNTIF(B$2:B370,B370)=1,B370,\"\")","v":""},{"$nulls":15},{"$f":"+IF(X370=\"\",\"\",MAX(T$1:T369)+1)","v":""},{"$f":"IF('No CMS - Deviation - Limits'!B392=\"\",\"\",'No CMS - Deviation - Limits'!B392)","v":""},{"$f":"IF('No CMS - Deviation - Limits'!C392=\"\",\"\",'No CMS - Deviation - Limits'!C392)","v":""},"",{"$f":"IF(COUNTIF(V$2:V370,V370)=1,V370,\"\")","v":""},"","",{"$f":"+IFERROR(INDEX(#REF!,MATCH(ROW()-ROW($Y$1),T$2:T$955,0)),\"\")","v":""},null,{"$f":"+IF(AG370=\"\",\"\",MAX(AC$1:AC369)+1)","v":""},{"$f":"IF('Using CMS - Deviation - Limits'!B392=\"\",\"\",'Using CMS - Deviation - Limits'!B392)","v":""},{"$f":"IF('Using CMS - Deviation - Limits'!C392=\"\",\"\",'Using CMS - Deviation - Limits'!C392)","v":""},"",{"$f":"IF(COUNTIF(AF$2:AF370,AF370)=1,AF370,\"\")","v":""},"","",{"$f":"+IFERROR(INDEX(#REF!,MATCH(ROW()-ROW(AG$1),AC$2:AC$955,0)),\"\")","v":""},{"$nulls":3},{"$f":"+IF(AS370=\"\",\"\",MAX(AN$1:AN369)+1)","v":""},{"$f":"IF('Using CMS - Inop_OoC - CMS'!B392=\"\",\"\",'Using CMS - Inop_OoC - CMS'!B392)","v":""},{"$f":"IF('Using CMS - Inop_OoC - CMS'!C392=\"\",\"\",'Using CMS - Inop_OoC - CMS'!C392)","v":""},{"$f":"IF('Using CMS - Inop_OoC - CMS'!D392=\"\",\"\",'Using CMS - Inop_OoC - CMS'!D392)","v":""},{"$f":"AO370&AP370&Table10[[#This Row],[CMS]]","v":""},{"$f":"IF(COUNTIF(AR$2:AR370,AR370)=1,AR370,\"\")","v":""},"","","",null,{"$f":"+IF(BB370=\"\",\"\",MAX(AX$1:AX369)+1)","v":""},{"$f":"IF('Using CMS - Deviation - Limits'!B392=\"\",\"\",'Using CMS - Deviation - Limits'!B392)","v":""},{"$f":"IF('Using CMS - Deviation - Limits'!C392=\"\",\"\",'Using CMS - Deviation - Limits'!C392)","v":""},{"$f":"AY370&AZ370&Table10[[#This Row],[CMS]]","v":""},{"$f":"IF(COUNTIF(BA$2:BA370,BA370)=1,BA370,\"\")","v":""},"","",{"$f":"+IFERROR(INDEX(#REF!,MATCH(ROW()-ROW(BC$1),AX$2:AX$955,0)),\"\")","v":""}]
[{"$f":"+IF(D371=\"\",\"\",MAX(A$1:A370)+1)","v":""},{"$f":"IF('Process_&_CMS_Identification'!C393=\"\",\"\",'Process_&_CMS_Identification'!C393)","v":""},"",{"$f":"IF(COUNTIF(B$2:B371,B371)=1,B371,\"\")","v":""},{"$nulls":15},{"$f":"+IF(X371=\"\",\"\",MAX(T$1:T370)+1)","v":""},{"$f":"IF('No CMS - Deviation - Limits'!B393=\"\",\"\",'No CMS - Deviation - Limits'!B393)","v":""},{"$f":"IF('No CMS - Deviation - Limits'!C393=\"\",\"\",'No CMS - Deviation - Limits'!C393)","v":""},"",{"$f":"IF(COUNTIF(V$2:V371,V371)=1,V371,\"\")","v":""},"","",{"$f":"+IFERROR(INDEX(#REF!,MATCH(ROW()-ROW($Y$1),T$2:T$955,0)),\"\")","v":""},null,{"$f":"+IF(AG371=\"\",\"\",MAX(AC$1:AC370)+1)","v":""},{"$f":"IF('Using CMS - Deviation - Limits'!B393=\"\",\"\",'Using CMS - Deviation - Limits'!B393)","v":""},{"$f":"IF('Using CMS - Deviation - Limits'!C393=\"\",\"\",'Using CMS - Deviation - Limits'!C393)","v":""},"",{"$f":"IF(COUNTIF(AF$2:AF371,AF371)=1,AF371,\"\")","v":""},"","",{"$f":"+IFERROR(INDEX(#REF!,MATCH(ROW()-ROW(AG$1),AC$2:AC$955,0)),\"\")","v":""},{"$nulls":3},{"$f":"+IF(AS371=\"\",\"\",MAX(AN$1:AN370)+1)","v":""},{"$f":"IF('Using CMS - Inop_OoC - CMS'!B393=\"\",\"\",'Using CMS - Inop_OoC - CMS'!B393)","v":""},{"$f":"IF('Using CMS - Inop_OoC - CMS'!C393=\"\",\"\",'Using CMS - Inop_OoC - CMS'!C393)","v":""},{"$f":"IF('Using CMS - Inop_OoC - CMS'!D393=\"\",\"\",'Using CMS - Inop_OoC - CMS'!D393)","v":""},{"$f":"AO371&AP371&Table10[[#This Row],[CMS]]","v":""},{"$f":"IF(COUNTIF(AR$2:AR371,AR371)=1,AR371,\"\")","v":""},"","","",null,{"$f":"+IF(BB371=\"\",\"\",MAX(AX$1:AX370)+1)","v":""},{"$f":"IF('Using CMS - Deviation - Limits'!B393=\"\",\"\",'Using CMS - Deviation - Limits'!B393)","v":""},{"$f":"IF('Using CMS - Deviation - Limits'!C393=\"\",\"\",'Using CMS - Deviation - Limits'!C393)","v":""},{"$f":"AY371&AZ371&Table10[[#This Row],[CMS]]","v":""},{"$f":"IF(COUNTIF(BA$2:BA371,BA371)=1,BA371,\"\")","v":""},"","",{"$f":"+IFERROR(INDEX(#REF!,MATCH(ROW()-ROW(BC$1),AX$2:AX$955,0)),\"\")","v":""}]
[{"$f":"+IF(D372=\"\",\"\",MAX(A$1:A371)+1)","v":""},{"$f":"IF('Process_&_CMS_Identification'!C394=\"\",\"\",'Process_&_CMS_Identification'!C394)","v":""},"",{"$f":"IF(COUNTIF(B$2:B372,B372)=1,B372,\"\")","v":""},{"$nulls":15},{"$f":"+IF(X372=\"\",\"\",MAX(T$1:T371)+1)","v":""},{"$f":"IF('No CMS - Deviation - Limits'!B394=\"\",\"\",'No CMS - Deviation - Limits'!B394)","v":""},{"$f":"IF('No CMS - Deviation - Limits'!C394=\"\",\"\",'No CMS - Deviation - Limits'!C394)","v":""},"",{"$f":"IF(COUNTIF(V$2:V372,V372)=1,V372,\"\")","v":""},"","",{"$f":"+IFERROR(INDEX(#REF!,MATCH(ROW()-ROW($Y$1),T$2:T$955,0)),\"\")","v":""},null,{"$f":"+IF(AG372=\"\",\"\",MAX(AC$1:AC371)+1)","v":""},{"$f":"IF('Using CMS - Deviation - Limits'!B394=\"\",\"\",'Using CMS - Deviation - Limits'!B394)","v":""},{"$f":"IF('Using CMS - Deviation - Limits'!C394=\"\",\"\",'Using CMS - Deviation - Limits'!C394)","v":""},"",{"$f":"IF(COUNTIF(AF$2:AF372,AF372)=1,AF372,\"\")","v":""},"","",{"$f":"+IFERROR(INDEX(#REF!,MATCH(ROW()-ROW(AG$1),AC$2:AC$955,0)),\"\")","v":""},{"$nulls":3},{"$f":"+IF(AS372=\"\",\"\",MAX(AN$1:AN371)+1)","v":""},{"$f":"IF('Using CMS - Inop_OoC - CMS'!B394=\"\",\"\",'Using CMS - Inop_OoC - CMS'!B394)","v":""},{"$f":"IF('Using CMS - Inop_OoC - CMS'!C394=\"\",\"\",'Using CMS - Inop_OoC - CMS'!C394)","v":""},{"$f":"IF('Using CMS - Inop_OoC - CMS'!D394=\"\",\"\",'Using CMS - Inop_OoC - CMS'!D394)","v":""},{"$f":"AO372&AP372&Table10[[#This Row],[CMS]]","v":""},{"$f":"IF(COUNTIF(AR$2:AR372,AR372)=1,AR372,\"\")","v":""},"","","",null,{"$f":"+IF(BB372=\"\",\"\",MAX(AX$1:AX371)+1)","v":""},{"$f":"IF('Using CMS - Deviation - Limits'!B394=\"\",\"\",'Using CMS - Deviation - Limits'!B394)","v":""},{"$f":"IF('Using CMS - Deviation - Limits'!C394=\"\",\"\",'Using CMS - Deviation - Limits'!C394)","v":""},{"$f":"AY372&AZ372&Table10[[#This Row],[CMS]]","v":""},{"$f":"IF(COUNTIF(BA$2:BA372,BA372)=1,BA372,\"\")","v":""},"","",{"$f":"+IFERROR(INDEX(#REF!,MATCH(ROW()-ROW(BC$1),AX$2:AX$955,0)),\"\")","v":""}]
[{"$f":"+IF(D373=\"\",\"\",MAX(A$1:A372)+1)","v":""},{"$f":"IF('Process_&_CMS_Identification'!C395=\"\",\"\",'Process_&_CMS_Identification'!C395)","v":""},"",{"$f":"IF(COUNTIF(B$2:B373,B373)=1,B373,\"\")","v":""},{"$nulls":15},{"$f":"+IF(X373=\"\",\"\",MAX(T$1:T372)+1)","v":""},{"$f":"IF('No CMS - Deviation - Limits'!B395=\"\",\"\",'No CMS - Deviation - Limits'!B395)","v":""},{"$f":"IF('No CMS - Deviation - Limits'!C395=\"\",\"\",'No CMS - Deviation - Limits'!C395)","v":""},"",{"$f":"IF(COUNTIF(V$2:V373,V373)=1,V373,\"\")","v":""},"","",{"$f":"+IFERROR(INDEX(#REF!,MATCH(ROW()-ROW($Y$1),T$2:T$955,0)),\"\")","v":""},null,{"$f":"+IF(AG373=\"\",\"\",MAX(AC$1:AC372)+1)","v":""},{"$f":"IF('Using CMS - Deviation - Limits'!B395=\"\",\"\",'Using CMS - Deviation - Limits'!B395)","v":""},{"$f":"IF('Using CMS - Deviation - Limits'!C395=\"\",\"\",'Using CMS - Deviation - Limits'!C395)","v":""},"",{"$f":"IF(COUNTIF(AF$2:AF373,AF373)=1,AF373,\"\")","v":""},"","",{"$f":"+IFERROR(INDEX(#REF!,MATCH(ROW()-ROW(AG$1),AC$2:AC$955,0)),\"\")","v":""},{"$nulls":3},{"$f":"+IF(AS373=\"\",\"\",MAX(AN$1:AN372)+1)","v":""},{"$f":"IF('Using CMS - Inop_OoC - CMS'!B395=\"\",\"\",'Using CMS - Inop_OoC - CMS'!B395)","v":""},{"$f":"IF('Using CMS - Inop_OoC - CMS'!C395=\"\",\"\",'Using CMS - Inop_OoC - CMS'!C395)","v":""},{"$f":"IF('Using CMS - Inop_OoC - CMS'!D395=\"\",\"\",'Using CMS - Inop_OoC - CMS'!D395)","v":""},{"$f":"AO373&AP373&Table10[[#This Row],[CMS]]","v":""},{"$f":"IF(COUNTIF(AR$2:AR373,AR373)=1,AR373,\"\")","v":""},"","","",null,{"$f":"+IF(BB373=\"\",\"\",MAX(AX$1:AX372)+1)","v":""},{"$f":"IF('Using CMS - Deviation - Limits'!B395=\"\",\"\",'Using CMS - Deviation - Limits'!B395)","v":""},{"$f":"IF('Using CMS - Deviation - Limits'!C395=\"\",\"\",'Using CMS - Deviation - Limits'!C395)","v":""},{"$f":"AY373&AZ373&Table10[[#This Row],[CMS]]","v":""},{"$f":"IF(COUNTIF(BA$2:BA373,BA373)=1,BA373,\"\")","v":""},"","",{"$f":"+IFERROR(INDEX(#REF!,MATCH(ROW()-ROW(BC$1),AX$2:AX$955,0)),\"\")","v":""}]
[{"$f":"+IF(D374=\"\",\"\",MAX(A$1:A373)+1)","v":""},{"$f":"IF('Process_&_CMS_Identification'!C396=\"\",\"\",'Process_&_CMS_Identification'!C396)","v":""},"",{"$f":"IF(COUNTIF(B$2:B374,B374)=1,B374,\"\")","v":""},{"$nulls":15},{"$f":"+IF(X374=\"\",\"\",MAX(T$1:T373)+1)","v":""},{"$f":"IF('No CMS - Deviation - Limits'!B396=\"\",\"\",'No CMS - Deviation - Limits'!B396)","v":""},{"$f":"IF('No CMS - Deviation - Limits'!C396=\"\",\"\",'No CMS - Deviation - Limits'!C396)","v":""},"",{"$f":"IF(COUNTIF(V$2:V374,V374)=1,V374,\"\")","v":""},"","",{"$f":"+IFERROR(INDEX(#REF!,MATCH(ROW()-ROW($Y$1),T$2:T$955,0)),\"\")","v":""},null,{"$f":"+IF(AG374=\"\",\"\",MAX(AC$1:AC373)+1)","v":""},{"$f":"IF('Using CMS - Deviation - Limits'!B396=\"\",\"\",'Using CMS - Deviation - Limits'!B396)","v":""},{"$f":"IF('Using CMS - Deviation - Limits'!C396=\"\",\"\",'Using CMS - Deviation - Limits'!C396)","v":""},"",{"$f":"IF(COUNTIF(AF$2:AF374,AF374)=1,AF374,\"\")","v":""},"","",{"$f":"+IFERROR(INDEX(#REF!,MATCH(ROW()-ROW(AG$1),AC$2:AC$955,0)),\"\")","v":""},{"$nulls":3},{"$f":"+IF(AS374=\"\",\"\",MAX(AN$1:AN373)+1)","v":""},{"$f":"IF('Using CMS - Inop_OoC - CMS'!B396=\"\",\"\",'Using CMS - Inop_OoC - CMS'!B396)","v":""},{"$f":"IF('Using CMS - Inop_OoC - CMS'!C396=\"\",\"\",'Using CMS - Inop_OoC - CMS'!C396)","v":""},{"$f":"IF('Using CMS - Inop_OoC - CMS'!D396=\"\",\"\",'Using CMS - Inop_OoC - CMS'!D396)","v":""},{"$f":"AO374&AP374&Table10[[#This Row],[CMS]]","v":""},{"$f":"IF(COUNTIF(AR$2:AR374,AR374)=1,AR374,\"\")","v":""},"","","",null,{"$f":"+IF(BB374=\"\",\"\",MAX(AX$1:AX373)+1)","v":""},{"$f":"IF('Using CMS - Deviation - Limits'!B396=\"\",\"\",'Using CMS - Deviation - Limits'!B396)","v":""},{"$f":"IF('Using CMS - Deviation - Limits'!C396=\"\",\"\",'Using CMS - Deviation - Limits'!C396)","v":""},{"$f":"AY374&AZ374&Table10[[#This Row],[CMS]]","v":""},{"$f":"IF(COUNTIF(BA$2:BA374,BA374)=1,BA374,\"\")","v":""},"","",{"$f":"+IFERROR(INDEX(#REF!,MATCH(ROW()-ROW(BC$1),AX$2:AX$955,0)),\"\")","v":""}]
[{"$f":"+IF(D375=\"\",\"\",MAX(A$1:A374)+1)","v":""},{"$f":"IF('Process_&_CMS_Identification'!C397=\"\",\"\",'Process_&_CMS_Identification'!C397)","v":""},"",{"$f":"IF(COUNTIF(B$2:B375,B375)=1,B375,\"\")","v":""},{"$nulls":15},{"$f":"+IF(X375=\"\",\"\",MAX(T$1:T374)+1)","v":""},{"$f":"IF('No CMS - Deviation - Limits'!B397=\"\",\"\",'No CMS - Deviation - Limits'!B397)","v":""},{"$f":"IF('No CMS - Deviation - Limits'!C397=\"\",\"\",'No CMS - Deviation - Limits'!C397)","v":""},"",{"$f":"IF(COUNTIF(V$2:V375,V375)=1,V375,\"\")","v":""},"","",{"$f":"+IFERROR(INDEX(#REF!,MATCH(ROW()-ROW($Y$1),T$2:T$955,0)),\"\")","v":""},null,{"$f":"+IF(AG375=\"\",\"\",MAX(AC$1:AC374)+1)","v":""},{"$f":"IF('Using CMS - Deviation - Limits'!B397=\"\",\"\",'Using CMS - Deviation - Limits'!B397)","v":""},{"$f":"IF('Using CMS - Deviation - Limits'!C397=\"\",\"\",'Using CMS - Deviation - Limits'!C397)","v":""},"",{"$f":"IF(COUNTIF(AF$2:AF375,AF375)=1,AF375,\"\")","v":""},"","",{"$f":"+IFERROR(INDEX(#REF!,MATCH(ROW()-ROW(AG$1),AC$2:AC$955,0)),\"\")","v":""},{"$nulls":3},{"$f":"+IF(AS375=\"\",\"\",MAX(AN$1:AN374)+1)","v":""},{"$f":"IF('Using CMS - Inop_OoC - CMS'!B397=\"\",\"\",'Using CMS - Inop_OoC - CMS'!B397)","v":""},{"$f":"IF('Using CMS - Inop_OoC - CMS'!C397=\"\",\"\",'Using CMS - Inop_OoC - CMS'!C397)","v":""},{"$f":"IF('Using CMS - Inop_OoC - CMS'!D397=\"\",\"\",'Using CMS - Inop_OoC - CMS'!D397)","v":""},{"$f":"AO375&AP375&Table10[[#This Row],[CMS]]","v":""},{"$f":"IF(COUNTIF(AR$2:AR375,AR375)=1,AR375,\"\")","v":""},"","","",null,{"$f":"+IF(BB375=\"\",\"\",MAX(AX$1:AX374)+1)","v":""},{"$f":"IF('Using CMS - Deviation - Limits'!B397=\"\",\"\",'Using CMS - Deviation - Limits'!B397)","v":""},{"$f":"IF('Using CMS - Deviation - Limits'!C397=\"\",\"\",'Using CMS - Deviation - Limits'!C397)","v":""},{"$f":"AY375&AZ375&Table10[[#This Row],[CMS]]","v":""},{"$f":"IF(COUNTIF(BA$2:BA375,BA375)=1,BA375,\"\")","v":""},"","",{"$f":"+IFERROR(INDEX(#REF!,MATCH(ROW()-ROW(BC$1),AX$2:AX$955,0)),\"\")","v":""}]
[{"$f":"+IF(D376=\"\",\"\",MAX(A$1:A375)+1)","v":""},{"$f":"IF('Process_&_CMS_Identification'!C398=\"\",\"\",'Process_&_CMS_Identification'!C398)","v":""},"",{"$f":"IF(COUNTIF(B$2:B376,B376)=1,B376,\"\")","v":""},{"$nulls":15},{"$f":"+IF(X376=\"\",\"\",MAX(T$1:T375)+1)","v":""},{"$f":"IF('No CMS - Deviation - Limits'!B398=\"\",\"\",'No CMS - Deviation - Limits'!B398)","v":""},{"$f":"IF('No CMS - Deviation - Limits'!C398=\"\",\"\",'No CMS - Deviation - Limits'!C398)","v":""},"",{"$f":"IF(COUNTIF(V$2:V376,V376)=1,V376,\"\")","v":""},"","",{"$f":"+IFERROR(INDEX(#REF!,MATCH(ROW()-ROW($Y$1),T$2:T$955,0)),\"\")","v":""},null,{"$f":"+IF(AG376=\"\",\"\",MAX(AC$1:AC375)+1)","v":""},{"$f":"IF('Using CMS - Deviation - Limits'!B398=\"\",\"\",'Using CMS - Deviation - Limits'!B398)","v":""},{"$f":"IF('Using CMS - Deviation - Limits'!C398=\"\",\"\",'Using CMS - Deviation - Limits'!C398)","v":""},"",{"$f":"IF(COUNTIF(AF$2:AF376,AF376)=1,AF376,\"\")","v":""},"","",{"$f":"+IFERROR(INDEX(#REF!,MATCH(ROW()-ROW(AG$1),AC$2:AC$955,0)),\"\")","v":""},{"$nulls":3},{"$f":"+IF(AS376=\"\",\"\",MAX(AN$1:AN375)+1)","v":""},{"$f":"IF('Using CMS - Inop_OoC - CMS'!B398=\"\",\"\",'Using CMS - Inop_OoC - CMS'!B398)","v":""},{"$f":"IF('Using CMS - Inop_OoC - CMS'!C398=\"\",\"\",'Using CMS - Inop_OoC - CMS'!C398)","v":""},{"$f":"IF('Using CMS - Inop_OoC - CMS'!D398=\"\",\"\",'Using CMS - Inop_OoC - CMS'!D398)","v":""},{"$f":"AO376&AP376&Table10[[#This Row],[CMS]]","v":""},{"$f":"IF(COUNTIF(AR$2:AR376,AR376)=1,AR376,\"\")","v":""},"","","",null,{"$f":"+IF(BB376=\"\",\"\",MAX(AX$1:AX375)+1)","v":""},{"$f":"IF('Using CMS - Deviation - Limits'!B398=\"\",\"\",'Using CMS - Deviation - Limits'!B398)","v":""},{"$f":"IF('Using CMS - Deviation - Limits'!C398=\"\",\"\",'Using CMS - Deviation - Limits'!C398)","v":""},{"$f":"AY376&AZ376&Table10[[#This Row],[CMS]]","v":""},{"$f":"IF(COUNTIF(BA$2:BA376,BA376)=1,BA376,\"\")","v":""},"","",{"$f":"+IFERROR(INDEX(#REF!,MATCH(ROW()-ROW(BC$1),AX$2:AX$955,0)),\"\")","v":""}]
[{"$f":"+IF(D377=\"\",\"\",MAX(A$1:A376)+1)","v":""},{"$f":"IF('Process_&_CMS_Identification'!C399=\"\",\"\",'Process_&_CMS_Identification'!C399)","v":""},"",{"$f":"IF(COUNTIF(B$2:B377,B377)=1,B377,\"\")","v":""},{"$nulls":15},{"$f":"+IF(X377=\"\",\"\",MAX(T$1:T376)+1)","v":""},{"$f":"IF('No CMS - Deviation - Limits'!B399=\"\",\"\",'No CMS - Deviation - Limits'!B399)","v":""},{"$f":"IF('No CMS - Deviation - Limits'!C399=\"\",\"\",'No CMS - Deviation - Limits'!C399)","v":""},"",{"$f":"IF(COUNTIF(V$2:V377,V377)=1,V377,\"\")","v":""},"","",{"$f":"+IFERROR(INDEX(#REF!,MATCH(ROW()-ROW($Y$1),T$2:T$955,0)),\"\")","v":""},null,{"$f":"+IF(AG377=\"\",\"\",MAX(AC$1:AC376)+1)","v":""},{"$f":"IF('Using CMS - Deviation - Limits'!B399=\"\",\"\",'Using CMS - Deviation - Limits'!B399)","v":""},{"$f":"IF('Using CMS - Deviation - Limits'!C399=\"\",\"\",'Using CMS - Deviation - Limits'!C399)","v":""},"",{"$f":"IF(COUNTIF(AF$2:AF377,AF377)=1,AF377,\"\")","v":""},"","",{"$f":"+IFERROR(INDEX(#REF!,MATCH(ROW()-ROW(AG$1),AC$2:AC$955,0)),\"\")","v":""},{"$nulls":3},{"$f":"+IF(AS377=\"\",\"\",MAX(AN$1:AN376)+1)","v":""},{"$f":"IF('Using CMS - Inop_OoC - CMS'!B399=\"\",\"\",'Using CMS - Inop_OoC - CMS'!B399)","v":""},{"$f":"IF('Using CMS - Inop_OoC - CMS'!C399=\"\",\"\",'Using CMS - Inop_OoC - CMS'!C399)","v":""},{"$f":"IF('Using CMS - Inop_OoC - CMS'!D399=\"\",\"\",'Using CMS - Inop_OoC - CMS'!D399)","v":""},{"$f":"AO377&AP377&Table10[[#This Row],[CMS]]","v":""},{"$f":"IF(COUNTIF(AR$2:AR377,AR377)=1,AR377,\"\")","v":""},"","","",null,{"$f":"+IF(BB377=\"\",\"\",MAX(AX$1:AX376)+1)","v":""},{"$f":"IF('Using CMS - Deviation - Limits'!B399=\"\",\"\",'Using CMS - Deviation - Limits'!B399)","v":""},{"$f":"IF('Using CMS - Deviation - Limits'!C399=\"\",\"\",'Using CMS - Deviation - Limits'!C399)","v":""},{"$f":"AY377&AZ377&Table10[[#This Row],[CMS]]","v":""},{"$f":"IF(COUNTIF(BA$2:BA377,BA377)=1,BA377,\"\")","v":""},"","",{"$f":"+IFERROR(INDEX(#REF!,MATCH(ROW()-ROW(BC$1),AX$2:AX$955,0)),\"\")","v":""}]
[{"$f":"+IF(D378=\"\",\"\",MAX(A$1:A377)+1)","v":""},{"$f":"IF('Process_&_CMS_Identification'!C400=\"\",\"\",'Process_&_CMS_Identification'!C400)","v":""},"",{"$f":"IF(COUNTIF(B$2:B378,B378)=1,B378,\"\")","v":""},{"$nulls":15},{"$f":"+IF(X378=\"\",\"\",MAX(T$1:T377)+1)","v":""},{"$f":"IF('No CMS - Deviation - Limits'!B400=\"\",\"\",'No CMS - Deviation - Limits'!B400)","v":""},{"$f":"IF('No CMS - Deviation - Limits'!C400=\"\",\"\",'No CMS - Deviation - Limits'!C400)","v":""},"",{"$f":"IF(COUNTIF(V$2:V378,V378)=1,V378,\"\")","v":""},"","",{"$f":"+IFERROR(INDEX(#REF!,MATCH(ROW()-ROW($Y$1),T$2:T$955,0)),\"\")","v":""},null,{"$f":"+IF(AG378=\"\",\"\",MAX(AC$1:AC377)+1)","v":""},{"$f":"IF('Using CMS - Deviation - Limits'!B400=\"\",\"\",'Using CMS - Deviation - Limits'!B400)","v":""},{"$f":"IF('Using CMS - Deviation - Limits'!C400=\"\",\"\",'Using CMS - Deviation - Limits'!C400)","v":""},"",{"$f":"IF(COUNTIF(AF$2:AF378,AF378)=1,AF378,\"\")","v":""},"","",{"$f":"+IFERROR(INDEX(#REF!,MATCH(ROW()-ROW(AG$1),AC$2:AC$955,0)),\"\")","v":""},{"$nulls":3},{"$f":"+IF(AS378=\"\",\"\",MAX(AN$1:AN377)+1)","v":""},{"$f":"IF('Using CMS - Inop_OoC - CMS'!B400=\"\",\"\",'Using CMS - Inop_OoC - CMS'!B400)","v":""},{"$f":"IF('Using CMS - Inop_OoC - CMS'!C400=\"\",\"\",'Using CMS - Inop_OoC - CMS'!C400)","v":""},{"$f":"IF('Using CMS - Inop_OoC - CMS'!D400=\"\",\"\",'Using CMS - Inop_OoC - CMS'!D400)","v":""},{"$f":"AO378&AP378&Table10[[#This Row],[CMS]]","v":""},{"$f":"IF(COUNTIF(AR$2:AR378,AR378)=1,AR378,\"\")","v":""},"","","",null,{"$f":"+IF(BB378=\"\",\"\",MAX(AX$1:AX377)+1)","v":""},{"$f":"IF('Using CMS - Deviation - Limits'!B400=\"\",\"\",'Using CMS - Deviation - Limits'!B400)","v":""},{"$f":"IF('Using CMS - Deviation - Limits'!C400=\"\",\"\",'Using CMS - Deviation - Limits'!C400)","v":""},{"$f":"AY378&AZ378&Table10[[#This Row],[CMS]]","v":""},{"$f":"IF(COUNTIF(BA$2:BA378,BA378)=1,BA378,\"\")","v":""},"","",{"$f":"+IFERROR(INDEX(#REF!,MATCH(ROW()-ROW(BC$1),AX$2:AX$955,0)),\"\")","v":""}]
[{"$f":"+IF(D379=\"\",\"\",MAX(A$1:A378)+1)","v":""},{"$f":"IF('Process_&_CMS_Identification'!C401=\"\",\"\",'Process_&_CMS_Identification'!C401)","v":""},"",{"$f":"IF(COUNTIF(B$2:B379,B379)=1,B379,\"\")","v":""},{"$nulls":15},{"$f":"+IF(X379=\"\",\"\",MAX(T$1:T378)+1)","v":""},{"$f":"IF('No CMS - Deviation - Limits'!B401=\"\",\"\",'No CMS - Deviation - Limits'!B401)","v":""},{"$f":"IF('No CMS - Deviation - Limits'!C401=\"\",\"\",'No CMS - Deviation - Limits'!C401)","v":""},"",{"$f":"IF(COUNTIF(V$2:V379,V379)=1,V379,\"\")","v":""},"","",{"$f":"+IFERROR(INDEX(#REF!,MATCH(ROW()-ROW($Y$1),T$2:T$955,0)),\"\")","v":""},null,{"$f":"+IF(AG379=\"\",\"\",MAX(AC$1:AC378)+1)","v":""},{"$f":"IF('Using CMS - Deviation - Limits'!B401=\"\",\"\",'Using CMS - Deviation - Limits'!B401)","v":""},{"$f":"IF('Using CMS - Deviation - Limits'!C401=\"\",\"\",'Using CMS - Deviation - Limits'!C401)","v":""},"",{"$f":"IF(COUNTIF(AF$2:AF379,AF379)=1,AF379,\"\")","v":""},"","",{"$f":"+IFERROR(INDEX(#REF!,MATCH(ROW()-ROW(AG$1),AC$2:AC$955,0)),\"\")","v":""},{"$nulls":3},{"$f":"+IF(AS379=\"\",\"\",MAX(AN$1:AN378)+1)","v":""},{"$f":"IF('Using CMS - Inop_OoC - CMS'!B401=\"\",\"\",'Using CMS - Inop_OoC - CMS'!B401)","v":""},{"$f":"IF('Using CMS - Inop_OoC - CMS'!C401=\"\",\"\",'Using CMS - Inop_OoC - CMS'!C401)","v":""},{"$f":"IF('Using CMS - Inop_OoC - CMS'!D401=\"\",\"\",'Using CMS - Inop_OoC - CMS'!D401)","v":""},{"$f":"AO379&AP379&Table10[[#This Row],[CMS]]","v":""},{"$f":"IF(COUNTIF(AR$2:AR379,AR379)=1,AR379,\"\")","v":""},"","","",null,{"$f":"+IF(BB379=\"\",\"\",MAX(AX$1:AX378)+1)","v":""},{"$f":"IF('Using CMS - Deviation - Limits'!B401=\"\",\"\",'Using CMS - Deviation - Limits'!B401)","v":""},{"$f":"IF('Using CMS - Deviation - Limits'!C401=\"\",\"\",'Using CMS - Deviation - Limits'!C401)","v":""},{"$f":"AY379&AZ379&Table10[[#This Row],[CMS]]","v":""},{"$f":"IF(COUNTIF(BA$2:BA379,BA379)=1,BA379,\"\")","v":""},"","",{"$f":"+IFERROR(INDEX(#REF!,MATCH(ROW()-ROW(BC$1),AX$2:AX$955,0)),\"\")","v":""}]
[{"$f":"+IF(D380=\"\",\"\",MAX(A$1:A379)+1)","v":""},{"$f":"IF('Process_&_CMS_Identification'!C402=\"\",\"\",'Process_&_CMS_Identification'!C402)","v":""},"",{"$f":"IF(COUNTIF(B$2:B380,B380)=1,B380,\"\")","v":""},{"$nulls":15},{"$f":"+IF(X380=\"\",\"\",MAX(T$1:T379)+1)","v":""},{"$f":"IF('No CMS - Deviation - Limits'!B402=\"\",\"\",'No CMS - Deviation - Limits'!B402)","v":""},{"$f":"IF('No CMS - Deviation - Limits'!C402=\"\",\"\",'No CMS - Deviation - Limits'!C402)","v":""},"",{"$f":"IF(COUNTIF(V$2:V380,V380)=1,V380,\"\")","v":""},"","",{"$f":"+IFERROR(INDEX(#REF!,MATCH(ROW()-ROW($Y$1),T$2:T$955,0)),\"\")","v":""},null,{"$f":"+IF(AG380=\"\",\"\",MAX(AC$1:AC379)+1)","v":""},{"$f":"IF('Using CMS - Deviation - Limits'!B402=\"\",\"\",'Using CMS - Deviation - Limits'!B402)","v":""},{"$f":"IF('Using CMS - Deviation - Limits'!C402=\"\",\"\",'Using CMS - Deviation - Limits'!C402)","v":""},"",{"$f":"IF(COUNTIF(AF$2:AF380,AF380)=1,AF380,\"\")","v":""},"","",{"$f":"+IFERROR(INDEX(#REF!,MATCH(ROW()-ROW(AG$1),AC$2:AC$955,0)),\"\")","v":""},{"$nulls":3},{"$f":"+IF(AS380=\"\",\"\",MAX(AN$1:AN379)+1)","v":""},{"$f":"IF('Using CMS - Inop_OoC - CMS'!B402=\"\",\"\",'Using CMS - Inop_OoC - CMS'!B402)","v":""},{"$f":"IF('Using CMS - Inop_OoC - CMS'!C402=\"\",\"\",'Using CMS - Inop_OoC - CMS'!C402)","v":""},{"$f":"IF('Using CMS - Inop_OoC - CMS'!D402=\"\",\"\",'Using CMS - Inop_OoC - CMS'!D402)","v":""},{"$f":"AO380&AP380&Table10[[#This Row],[CMS]]","v":""},{"$f":"IF(COUNTIF(AR$2:AR380,AR380)=1,AR380,\"\")","v":""},"","","",null,{"$f":"+IF(BB380=\"\",\"\",MAX(AX$1:AX379)+1)","v":""},{"$f":"IF('Using CMS - Deviation - Limits'!B402=\"\",\"\",'Using CMS - Deviation - Limits'!B402)","v":""},{"$f":"IF('Using CMS - Deviation - Limits'!C402=\"\",\"\",'Using CMS - Deviation - Limits'!C402)","v":""},{"$f":"AY380&AZ380&Table10[[#This Row],[CMS]]","v":""},{"$f":"IF(COUNTIF(BA$2:BA380,BA380)=1,BA380,\"\")","v":""},"","",{"$f":"+IFERROR(INDEX(#REF!,MATCH(ROW()-ROW(BC$1),AX$2:AX$955,0)),\"\")","v":""}]
[{"$f":"+IF(D381=\"\",\"\",MAX(A$1:A380)+1)","v":""},{"$f":"IF('Process_&_CMS_Identification'!C403=\"\",\"\",'Process_&_CMS_Identification'!C403)","v":""},"",{"$f":"IF(COUNTIF(B$2:B381,B381)=1,B381,\"\")","v":""},{"$nulls":15},{"$f":"+IF(X381=\"\",\"\",MAX(T$1:T380)+1)","v":""},{"$f":"IF('No CMS - Deviation - Limits'!B403=\"\",\"\",'No CMS - Deviation - Limits'!B403)","v":""},{"$f":"IF('No CMS - Deviation - Limits'!C403=\"\",\"\",'No CMS - Deviation - Limits'!C403)","v":""},"",{"$f":"IF(COUNTIF(V$2:V381,V381)=1,V381,\"\")","v":""},"","",{"$f":"+IFERROR(INDEX(#REF!,MATCH(ROW()-ROW($Y$1),T$2:T$955,0)),\"\")","v":""},null,{"$f":"+IF(AG381=\"\",\"\",MAX(AC$1:AC380)+1)","v":""},{"$f":"IF('Using CMS - Deviation - Limits'!B403=\"\",\"\",'Using CMS - Deviation - Limits'!B403)","v":""},{"$f":"IF('Using CMS - Deviation - Limits'!C403=\"\",\"\",'Using CMS - Deviation - Limits'!C403)","v":""},"",{"$f":"IF(COUNTIF(AF$2:AF381,AF381)=1,AF381,\"\")","v":""},"","",{"$f":"+IFERROR(INDEX(#REF!,MATCH(ROW()-ROW(AG$1),AC$2:AC$955,0)),\"\")","v":""},{"$nulls":3},{"$f":"+IF(AS381=\"\",\"\",MAX(AN$1:AN380)+1)","v":""},{"$f":"IF('Using CMS - Inop_OoC - CMS'!B403=\"\",\"\",'Using CMS - Inop_OoC - CMS'!B403)","v":""},{"$f":"IF('Using CMS - Inop_OoC - CMS'!C403=\"\",\"\",'Using CMS - Inop_OoC - CMS'!C403)","v":""},{"$f":"IF('Using CMS - Inop_OoC - CMS'!D403=\"\",\"\",'Using CMS - Inop_OoC - CMS'!D403)","v":""},{"$f":"AO381&AP381&Table10[[#This Row],[CMS]]","v":""},{"$f":"IF(COUNTIF(AR$2:AR381,AR381)=1,AR381,\"\")","v":""},"","","",null,{"$f":"+IF(BB381=\"\",\"\",MAX(AX$1:AX380)+1)","v":""},{"$f":"IF('Using CMS - Deviation - Limits'!B403=\"\",\"\",'Using CMS - Deviation - Limits'!B403)","v":""},{"$f":"IF('Using CMS - Deviation - Limits'!C403=\"\",\"\",'Using CMS - Deviation - Limits'!C403)","v":""},{"$f":"AY381&AZ381&Table10[[#This Row],[CMS]]","v":""},{"$f":"IF(COUNTIF(BA$2:BA381,BA381)=1,BA381,\"\")","v":""},"","",{"$f":"+IFERROR(INDEX(#REF!,MATCH(ROW()-ROW(BC$1),AX$2:AX$955,0)),\"\")","v":""}]
[{"$f":"+IF(D382=\"\",\"\",MAX(A$1:A381)+1)","v":""},{"$f":"IF('Process_&_CMS_Identification'!C404=\"\",\"\",'Process_&_CMS_Identification'!C404)","v":""},"",{"$f":"IF(COUNTIF(B$2:B382,B382)=1,B382,\"\")","v":""},{"$nulls":15},{"$f":"+IF(X382=\"\",\"\",MAX(T$1:T381)+1)","v":""},{"$f":"IF('No CMS - Deviation - Limits'!B404=\"\",\"\",'No CMS - Deviation - Limits'!B404)","v":""},{"$f":"IF('No CMS - Deviation - Limits'!C404=\"\",\"\",'No CMS - Deviation - Limits'!C404)","v":""},"",{"$f":"IF(COUNTIF(V$2:V382,V382)=1,V382,\"\")","v":""},"","",{"$f":"+IFERROR(INDEX(#REF!,MATCH(ROW()-ROW($Y$1),T$2:T$955,0)),\"\")","v":""},null,{"$f":"+IF(AG382=\"\",\"\",MAX(AC$1:AC381)+1)","v":""},{"$f":"IF('Using CMS - Deviation - Limits'!B404=\"\",\"\",'Using CMS - Deviation - Limits'!B404)","v":""},{"$f":"IF('Using CMS - Deviation - Limits'!C404=\"\",\"\",'Using CMS - Deviation - Limits'!C404)","v":""},"",{"$f":"IF(COUNTIF(AF$2:AF382,AF382)=1,AF382,\"\")","v":""},"","",{"$f":"+IFERROR(INDEX(#REF!,MATCH(ROW()-ROW(AG$1),AC$2:AC$955,0)),\"\")","v":""},{"$nulls":3},{"$f":"+IF(AS382=\"\",\"\",MAX(AN$1:AN381)+1)","v":""},{"$f":"IF('Using CMS - Inop_OoC - CMS'!B404=\"\",\"\",'Using CMS - Inop_OoC - CMS'!B404)","v":""},{"$f":"IF('Using CMS - Inop_OoC - CMS'!C404=\"\",\"\",'Using CMS - Inop_OoC - CMS'!C404)","v":""},{"$f":"IF('Using CMS - Inop_OoC - CMS'!D404=\"\",\"\",'Using CMS - Inop_OoC - CMS'!D404)","v":""},{"$f":"AO382&AP382&Table10[[#This Row],[CMS]]","v":""},{"$f":"IF(COUNTIF(AR$2:AR382,AR382)=1,AR382,\"\")","v":""},"","","",null,{"$f":"+IF(BB382=\"\",\"\",MAX(AX$1:AX381)+1)","v":""},{"$f":"IF('Using CMS - Deviation - Limits'!B404=\"\",\"\",'Using CMS - Deviation - Limits'!B404)","v":""},{"$f":"IF('Using CMS - Deviation - Limits'!C404=\"\",\"\",'Using CMS - Deviation - Limits'!C404)","v":""},{"$f":"AY382&AZ382&Table10[[#This Row],[CMS]]","v":""},{"$f":"IF(COUNTIF(BA$2:BA382,BA382)=1,BA382,\"\")","v":""},"","",{"$f":"+IFERROR(INDEX(#REF!,MATCH(ROW()-ROW(BC$1),AX$2:AX$955,0)),\"\")","v":""}]
[{"$f":"+IF(D383=\"\",\"\",MAX(A$1:A382)+1)","v":""},{"$f":"IF('Process_&_CMS_Identification'!C405=\"\",\"\",'Process_&_CMS_Identification'!C405)","v":""},"",{"$f":"IF(COUNTIF(B$2:B383,B383)=1,B383,\"\")","v":""},{"$nulls":15},{"$f":"+IF(X383=\"\",\"\",MAX(T$1:T382)+1)","v":""},{"$f":"IF('No CMS - Deviation - Limits'!B405=\"\",\"\",'No CMS - Deviation - Limits'!B405)","v":""},{"$f":"IF('No CMS - Deviation - Limits'!C405=\"\",\"\",'No CMS - Deviation - Limits'!C405)","v":""},"",{"$f":"IF(COUNTIF(V$2:V383,V383)=1,V383,\"\")","v":""},"","",{"$f":"+IFERROR(INDEX(#REF!,MATCH(ROW()-ROW($Y$1),T$2:T$955,0)),\"\")","v":""},null,{"$f":"+IF(AG383=\"\",\"\",MAX(AC$1:AC382)+1)","v":""},{"$f":"IF('Using CMS - Deviation - Limits'!B405=\"\",\"\",'Using CMS - Deviation - Limits'!B405)","v":""},{"$f":"IF('Using CMS - Deviation - Limits'!C405=\"\",\"\",'Using CMS - Deviation - Limits'!C405)","v":""},"",{"$f":"IF(COUNTIF(AF$2:AF383,AF383)=1,AF383,\"\")","v":""},"","",{"$f":"+IFERROR(INDEX(#REF!,MATCH(ROW()-ROW(AG$1),AC$2:AC$955,0)),\"\")","v":""},{"$nulls":3},{"$f":"+IF(AS383=\"\",\"\",MAX(AN$1:AN382)+1)","v":""},{"$f":"IF('Using CMS - Inop_OoC - CMS'!B405=\"\",\"\",'Using CMS - Inop_OoC - CMS'!B405)","v":""},{"$f":"IF('Using CMS - Inop_OoC - CMS'!C405=\"\",\"\",'Using CMS - Inop_OoC - CMS'!C405)","v":""},{"$f":"IF('Using CMS - Inop_OoC - CMS'!D405=\"\",\"\",'Using CMS - Inop_OoC - CMS'!D405)","v":""},{"$f":"AO383&AP383&Table10[[#This Row],[CMS]]","v":""},{"$f":"IF(COUNTIF(AR$2:AR383,AR383)=1,AR383,\"\")","v":""},"","","",null,{"$f":"+IF(BB383=\"\",\"\",MAX(AX$1:AX382)+1)","v":""},{"$f":"IF('Using CMS - Deviation - Limits'!B405=\"\",\"\",'Using CMS - Deviation - Limits'!B405)","v":""},{"$f":"IF('Using CMS - Deviation - Limits'!C405=\"\",\"\",'Using CMS - Deviation - Limits'!C405)","v":""},{"$f":"AY383&AZ383&Table10[[#This Row],[CMS]]","v":""},{"$f":"IF(COUNTIF(BA$2:BA383,BA383)=1,BA383,\"\")","v":""},"","",{"$f":"+IFERROR(INDEX(#REF!,MATCH(ROW()-ROW(BC$1),AX$2:AX$955,0)),\"\")","v":""}]
[{"$f":"+IF(D384=\"\",\"\",MAX(A$1:A383)+1)","v":""},{"$f":"IF('Process_&_CMS_Identification'!C406=\"\",\"\",'Process_&_CMS_Identification'!C406)","v":""},"",{"$f":"IF(COUNTIF(B$2:B384,B384)=1,B384,\"\")","v":""},{"$nulls":15},{"$f":"+IF(X384=\"\",\"\",MAX(T$1:T383)+1)","v":""},{"$f":"IF('No CMS - Deviation - Limits'!B406=\"\",\"\",'No CMS - Deviation - Limits'!B406)","v":""},{"$f":"IF('No CMS - Deviation - Limits'!C406=\"\",\"\",'No CMS - Deviation - Limits'!C406)","v":""},"",{"$f":"IF(COUNTIF(V$2:V384,V384)=1,V384,\"\")","v":""},"","",{"$f":"+IFERROR(INDEX(#REF!,MATCH(ROW()-ROW($Y$1),T$2:T$955,0)),\"\")","v":""},null,{"$f":"+IF(AG384=\"\",\"\",MAX(AC$1:AC383)+1)","v":""},{"$f":"IF('Using CMS - Deviation - Limits'!B406=\"\",\"\",'Using CMS - Deviation - Limits'!B406)","v":""},{"$f":"IF('Using CMS - Deviation - Limits'!C406=\"\",\"\",'Using CMS - Deviation - Limits'!C406)","v":""},"",{"$f":"IF(COUNTIF(AF$2:AF384,AF384)=1,AF384,\"\")","v":""},"","",{"$f":"+IFERROR(INDEX(#REF!,MATCH(ROW()-ROW(AG$1),AC$2:AC$955,0)),\"\")","v":""},{"$nulls":3},{"$f":"+IF(AS384=\"\",\"\",MAX(AN$1:AN383)+1)","v":""},{"$f":"IF('Using CMS - Inop_OoC - CMS'!B406=\"\",\"\",'Using CMS - Inop_OoC - CMS'!B406)","v":""},{"$f":"IF('Using CMS - Inop_OoC - CMS'!C406=\"\",\"\",'Using CMS - Inop_OoC - CMS'!C406)","v":""},{"$f":"IF('Using CMS - Inop_OoC - CMS'!D406=\"\",\"\",'Using CMS - Inop_OoC - CMS'!D406)","v":""},{"$f":"AO384&AP384&Table10[[#This Row],[CMS]]","v":""},{"$f":"IF(COUNTIF(AR$2:AR384,AR384)=1,AR384,\"\")","v":""},"","","",null,{"$f":"+IF(BB384=\"\",\"\",MAX(AX$1:AX383)+1)","v":""},{"$f":"IF('Using CMS - Deviation - Limits'!B406=\"\",\"\",'Using CMS - Deviation - Limits'!B406)","v":""},{"$f":"IF('Using CMS - Deviation - Limits'!C406=\"\",\"\",'Using CMS - Deviation - Limits'!C406)","v":""},{"$f":"AY384&AZ384&Table10[[#This Row],[CMS]]","v":""},{"$f":"IF(COUNTIF(BA$2:BA384,BA384)=1,BA384,\"\")","v":""},"","",{"$f":"+IFERROR(INDEX(#REF!,MATCH(ROW()-ROW(BC$1),AX$2:AX$955,0)),\"\")","v":""}]
[{"$f":"+IF(D385=\"\",\"\",MAX(A$1:A384)+1)","v":""},{"$f":"IF('Process_&_CMS_Identification'!C407=\"\",\"\",'Process_&_CMS_Identification'!C407)","v":""},"",{"$f":"IF(COUNTIF(B$2:B385,B385)=1,B385,\"\")","v":""},{"$nulls":15},{"$f":"+IF(X385=\"\",\"\",MAX(T$1:T384)+1)","v":""},{"$f":"IF('No CMS - Deviation - Limits'!B407=\"\",\"\",'No CMS - Deviation - Limits'!B407)","v":""},{"$f":"IF('No CMS - Deviation - Limits'!C407=\"\",\"\",'No CMS - Deviation - Limits'!C407)","v":""},"",{"$f":"IF(COUNTIF(V$2:V385,V385)=1,V385,\"\")","v":""},"","",{"$f":"+IFERROR(INDEX(#REF!,MATCH(ROW()-ROW($Y$1),T$2:T$955,0)),\"\")","v":""},null,{"$f":"+IF(AG385=\"\",\"\",MAX(AC$1:AC384)+1)","v":""},{"$f":"IF('Using CMS - Deviation - Limits'!B407=\"\",\"\",'Using CMS - Deviation - Limits'!B407)","v":""},{"$f":"IF('Using CMS - Deviation - Limits'!C407=\"\",\"\",'Using CMS - Deviation - Limits'!C407)","v":""},"",{"$f":"IF(COUNTIF(AF$2:AF385,AF385)=1,AF385,\"\")","v":""},"","",{"$f":"+IFERROR(INDEX(#REF!,MATCH(ROW()-ROW(AG$1),AC$2:AC$955,0)),\"\")","v":""},{"$nulls":3},{"$f":"+IF(AS385=\"\",\"\",MAX(AN$1:AN384)+1)","v":""},{"$f":"IF('Using CMS - Inop_OoC - CMS'!B407=\"\",\"\",'Using CMS - Inop_OoC - CMS'!B407)","v":""},{"$f":"IF('Using CMS - Inop_OoC - CMS'!C407=\"\",\"\",'Using CMS - Inop_OoC - CMS'!C407)","v":""},{"$f":"IF('Using CMS - Inop_OoC - CMS'!D407=\"\",\"\",'Using CMS - Inop_OoC - CMS'!D407)","v":""},{"$f":"AO385&AP385&Table10[[#This Row],[CMS]]","v":""},{"$f":"IF(COUNTIF(AR$2:AR385,AR385)=1,AR385,\"\")","v":""},"","","",null,{"$f":"+IF(BB385=\"\",\"\",MAX(AX$1:AX384)+1)","v":""},{"$f":"IF('Using CMS - Deviation - Limits'!B407=\"\",\"\",'Using CMS - Deviation - Limits'!B407)","v":""},{"$f":"IF('Using CMS - Deviation - Limits'!C407=\"\",\"\",'Using CMS - Deviation - Limits'!C407)","v":""},{"$f":"AY385&AZ385&Table10[[#This Row],[CMS]]","v":""},{"$f":"IF(COUNTIF(BA$2:BA385,BA385)=1,BA385,\"\")","v":""},"","",{"$f":"+IFERROR(INDEX(#REF!,MATCH(ROW()-ROW(BC$1),AX$2:AX$955,0)),\"\")","v":""}]
[{"$f":"+IF(D386=\"\",\"\",MAX(A$1:A385)+1)","v":""},{"$f":"IF('Process_&_CMS_Identification'!C408=\"\",\"\",'Process_&_CMS_Identification'!C408)","v":""},{"$f":"+IFERROR(INDEX(B$2:B$501,MATCH(ROW()-ROW($C$1),A$2:A$501,0)),\"\")","v":""},{"$f":"IF(COUNTIF(B$2:B386,B386)=1,B386,\"\")","v":""},{"$nulls":15},{"$f":"+IF(X386=\"\",\"\",MAX(T$1:T385)+1)","v":""},{"$f":"IF('No CMS - Deviation - Limits'!B408=\"\",\"\",'No CMS - Deviation - Limits'!B408)","v":""},{"$f":"IF('No CMS - Deviation - Limits'!C408=\"\",\"\",'No CMS - Deviation - Limits'!C408)","v":""},{"$f":"U386&V386","v":""},{"$f":"IF(COUNTIF(V$2:V386,V386)=1,V386,\"\")","v":""},{"$f":"+IFERROR(INDEX(U$2:U$955,MATCH(ROW()-ROW($Y$1),T$2:T$955,0)),\"\")","v":""},{"$f":"+IFERROR(INDEX(V$2:V$955,MATCH(ROW()-ROW($Y$1),T$2:T$955,0)),\"\")","v":""},{"$f":"+IFERROR(INDEX(#REF!,MATCH(ROW()-ROW($Y$1),T$2:T$955,0)),\"\")","v":""},null,{"$f":"+IF(AG386=\"\",\"\",MAX(AC$1:AC385)+1)","v":""},{"$f":"IF('Using CMS - Deviation - Limits'!B408=\"\",\"\",'Using CMS - Deviation - Limits'!B408)","v":""},{"$f":"IF('Using CMS - Deviation - Limits'!C408=\"\",\"\",'Using CMS - Deviation - Limits'!C408)","v":""},{"$f":"AD386&AE386","v":""},{"$f":"IF(COUNTIF(AF$2:AF386,AF386)=1,AF386,\"\")","v":""},{"$f":"+IFERROR(INDEX(AD$2:AD$955,MATCH(ROW()-ROW(HX$1),AC$2:AC$955,0)),\"\")","v":""},{"$f":"+IFERROR(INDEX(AE$2:AE$955,MATCH(ROW()-ROW(AG$1),AC$2:AC$955,0)),\"\")","v":""},{"$f":"+IFERROR(INDEX(#REF!,MATCH(ROW()-ROW(AG$1),AC$2:AC$955,0)),\"\")","v":""},{"$nulls":3},{"$f":"+IF(AS386=\"\",\"\",MAX(AN$1:AN385)+1)","v":""},{"$f":"IF('Using CMS - Inop_OoC - CMS'!B408=\"\",\"\",'Using CMS - Inop_OoC - CMS'!B408)","v":""},{"$f":"IF('Using CMS - Inop_OoC - CMS'!C408=\"\",\"\",'Using CMS - Inop_OoC - CMS'!C408)","v":""},{"$f":"IF('Using CMS - Inop_OoC - CMS'!D408=\"\",\"\",'Using CMS - Inop_OoC - CMS'!D408)","v":""},{"$f":"AO386&AP386&Table10[[#This Row],[CMS]]","v":""},{"$f":"IF(COUNTIF(AR$2:AR386,AR386)=1,AR386,\"\")","v":""},"","",{"$f":"+IFERROR(INDEX(AQ$2:AQ$955,MATCH(ROW()-ROW(AT$1),AN$2:AN$955,0)),\"\")","v":""},null,{"$f":"+IF(BB386=\"\",\"\",MAX(AX$1:AX385)+1)","v":""},{"$f":"IF('Using CMS - Deviation - Limits'!B408=\"\",\"\",'Using CMS - Deviation - Limits'!B408)","v":""},{"$f":"IF('Using CMS - Deviation - Limits'!C408=\"\",\"\",'Using CMS - Deviation - Limits'!C408)","v":""},{"$f":"AY386&AZ386&Table10[[#This Row],[CMS]]","v":""},{"$f":"IF(COUNTIF(BA$2:BA386,BA386)=1,BA386,\"\")","v":""},{"$f":"+IFERROR(INDEX(AY$2:AY$955,MATCH(ROW()-ROW(BB$1),AX$2:AX$955,0)),\"\")","v":""},{"$f":"+IFERROR(INDEX(AZ$2:AZ$955,MATCH(ROW()-ROW(BB$1),AX$2:AX$955,0)),\"\")","v":""},{"$f":"+IFERROR(INDEX(#REF!,MATCH(ROW()-ROW(BC$1),AX$2:AX$955,0)),\"\")","v":""}]
[{"$f":"+IF(D387=\"\",\"\",MAX(A$1:A386)+1)","v":""},{"$f":"IF('Process_&_CMS_Identification'!C409=\"\",\"\",'Process_&_CMS_Identification'!C409)","v":""},"",{"$f":"IF(COUNTIF(B$2:B387,B387)=1,B387,\"\")","v":""},{"$nulls":15},{"$f":"+IF(X387=\"\",\"\",MAX(T$1:T386)+1)","v":""},{"$f":"IF('No CMS - Deviation - Limits'!B409=\"\",\"\",'No CMS - Deviation - Limits'!B409)","v":""},{"$f":"IF('No CMS - Deviation - Limits'!C409=\"\",\"\",'No CMS - Deviation - Limits'!C409)","v":""},"",{"$f":"IF(COUNTIF(V$2:V387,V387)=1,V387,\"\")","v":""},"","",{"$f":"+IFERROR(INDEX(#REF!,MATCH(ROW()-ROW($Y$1),T$2:T$955,0)),\"\")","v":""},null,{"$f":"+IF(AG387=\"\",\"\",MAX(AC$1:AC386)+1)","v":""},{"$f":"IF('Using CMS - Deviation - Limits'!B409=\"\",\"\",'Using CMS - Deviation - Limits'!B409)","v":""},{"$f":"IF('Using CMS - Deviation - Limits'!C409=\"\",\"\",'Using CMS - Deviation - Limits'!C409)","v":""},"",{"$f":"IF(COUNTIF(AF$2:AF387,AF387)=1,AF387,\"\")","v":""},"","",{"$f":"+IFERROR(INDEX(#REF!,MATCH(ROW()-ROW(AG$1),AC$2:AC$955,0)),\"\")","v":""},{"$nulls":3},{"$f":"+IF(AS387=\"\",\"\",MAX(AN$1:AN386)+1)","v":""},{"$f":"IF('Using CMS - Inop_OoC - CMS'!B409=\"\",\"\",'Using CMS - Inop_OoC - CMS'!B409)","v":""},{"$f":"IF('Using CMS - Inop_OoC - CMS'!C409=\"\",\"\",'Using CMS - Inop_OoC - CMS'!C409)","v":""},{"$f":"IF('Using CMS - Inop_OoC - CMS'!D409=\"\",\"\",'Using CMS - Inop_OoC - CMS'!D409)","v":""},{"$f":"AO387&AP387&Table10[[#This Row],[CMS]]","v":""},{"$f":"IF(COUNTIF(AR$2:AR387,AR387)=1,AR387,\"\")","v":""},{"$f":"+IFERROR(INDEX(AO$2:AO$955,MATCH(ROW()-ROW(AS$1),AN$2:AN$955,0)),\"\")","v":""},{"$f":"+IFERROR(INDEX(AP$2:AP$955,MATCH(ROW()-ROW(AS$1),AN$2:AN$955,0)),\"\")","v":""},"",null,{"$f":"+IF(BB387=\"\",\"\",MAX(AX$1:AX386)+1)","v":""},{"$f":"IF('Using CMS - Deviation - Limits'!B409=\"\",\"\",'Using CMS - Deviation - Limits'!B409)","v":""},{"$f":"IF('Using CMS - Deviation - Limits'!C409=\"\",\"\",'Using CMS - Deviation - Limits'!C409)","v":""},{"$f":"AY387&AZ387&Table10[[#This Row],[CMS]]","v":""},{"$f":"IF(COUNTIF(BA$2:BA387,BA387)=1,BA387,\"\")","v":""},"","",{"$f":"+IFERROR(INDEX(#REF!,MATCH(ROW()-ROW(BC$1),AX$2:AX$955,0)),\"\")","v":""}]
[{"$f":"+IF(D388=\"\",\"\",MAX(A$1:A387)+1)","v":""},{"$f":"IF('Process_&_CMS_Identification'!C410=\"\",\"\",'Process_&_CMS_Identification'!C410)","v":""},"",{"$f":"IF(COUNTIF(B$2:B388,B388)=1,B388,\"\")","v":""},{"$nulls":15},{"$f":"+IF(X388=\"\",\"\",MAX(T$1:T387)+1)","v":""},{"$f":"IF('No CMS - Deviation - Limits'!B410=\"\",\"\",'No CMS - Deviation - Limits'!B410)","v":""},{"$f":"IF('No CMS - Deviation - Limits'!C410=\"\",\"\",'No CMS - Deviation - Limits'!C410)","v":""},"",{"$f":"IF(COUNTIF(V$2:V388,V388)=1,V388,\"\")","v":""},"","",{"$f":"+IFERROR(INDEX(#REF!,MATCH(ROW()-ROW($Y$1),T$2:T$955,0)),\"\")","v":""},null,{"$f":"+IF(AG388=\"\",\"\",MAX(AC$1:AC387)+1)","v":""},{"$f":"IF('Using CMS - Deviation - Limits'!B410=\"\",\"\",'Using CMS - Deviation - Limits'!B410)","v":""},{"$f":"IF('Using CMS - Deviation - Limits'!C410=\"\",\"\",'Using CMS - Deviation - Limits'!C410)","v":""},"",{"$f":"IF(COUNTIF(AF$2:AF388,AF388)=1,AF388,\"\")","v":""},"","",{"$f":"+IFERROR(INDEX(#REF!,MATCH(ROW()-ROW(AG$1),AC$2:AC$955,0)),\"\")","v":""},{"$nulls":3},{"$f":"+IF(AS388=\"\",\"\",MAX(AN$1:AN387)+1)","v":""},{"$f":"IF('Using CMS - Inop_OoC - CMS'!B410=\"\",\"\",'Using CMS - Inop_OoC - CMS'!B410)","v":""},{"$f":"IF('Using CMS - Inop_OoC - CMS'!C410=\"\",\"\",'Using CMS - Inop_OoC - CMS'!C410)","v":""},{"$f":"IF('Using CMS - Inop_OoC - CMS'!D410=\"\",\"\",'Using CMS - Inop_OoC - CMS'!D410)","v":""},{"$f":"AO388&AP388&Table10[[#This Row],[CMS]]","v":""},{"$f":"IF(COUNTIF(AR$2:AR388,AR388)=1,AR388,\"\")","v":""},"","","",null,{"$f":"+IF(BB388=\"\",\"\",MAX(AX$1:AX387)+1)","v":""},{"$f":"IF('Using CMS - Deviation - Limits'!B410=\"\",\"\",'Using CMS - Deviation - Limits'!B410)","v":""},{"$f":"IF('Using CMS - Deviation - Limits'!C410=\"\",\"\",'Using CMS - Deviation - Limits'!C410)","v":""},{"$f":"AY388&AZ388&Table10[[#This Row],[CMS]]","v":""},{"$f":"IF(COUNTIF(BA$2:BA388,BA388)=1,BA388,\"\")","v":""},"","",{"$f":"+IFERROR(INDEX(#REF!,MATCH(ROW()-ROW(BC$1),AX$2:AX$955,0)),\"\")","v":""}]
[{"$f":"+IF(D389=\"\",\"\",MAX(A$1:A388)+1)","v":""},{"$f":"IF('Process_&_CMS_Identification'!C411=\"\",\"\",'Process_&_CMS_Identification'!C411)","v":""},"",{"$f":"IF(COUNTIF(B$2:B389,B389)=1,B389,\"\")","v":""},{"$nulls":15},{"$f":"+IF(X389=\"\",\"\",MAX(T$1:T388)+1)","v":""},{"$f":"IF('No CMS - Deviation - Limits'!B411=\"\",\"\",'No CMS - Deviation - Limits'!B411)","v":""},{"$f":"IF('No CMS - Deviation - Limits'!C411=\"\",\"\",'No CMS - Deviation - Limits'!C411)","v":""},"",{"$f":"IF(COUNTIF(V$2:V389,V389)=1,V389,\"\")","v":""},"","",{"$f":"+IFERROR(INDEX(#REF!,MATCH(ROW()-ROW($Y$1),T$2:T$955,0)),\"\")","v":""},null,{"$f":"+IF(AG389=\"\",\"\",MAX(AC$1:AC388)+1)","v":""},{"$f":"IF('Using CMS - Deviation - Limits'!B411=\"\",\"\",'Using CMS - Deviation - Limits'!B411)","v":""},{"$f":"IF('Using CMS - Deviation - Limits'!C411=\"\",\"\",'Using CMS - Deviation - Limits'!C411)","v":""},"",{"$f":"IF(COUNTIF(AF$2:AF389,AF389)=1,AF389,\"\")","v":""},"","",{"$f":"+IFERROR(INDEX(#REF!,MATCH(ROW()-ROW(AG$1),AC$2:AC$955,0)),\"\")","v":""},{"$nulls":3},{"$f":"+IF(AS389=\"\",\"\",MAX(AN$1:AN388)+1)","v":""},{"$f":"IF('Using CMS - Inop_OoC - CMS'!B411=\"\",\"\",'Using CMS - Inop_OoC - CMS'!B411)","v":""},{"$f":"IF('Using CMS - Inop_OoC - CMS'!C411=\"\",\"\",'Using CMS - Inop_OoC - CMS'!C411)","v":""},{"$f":"IF('Using CMS - Inop_OoC - CMS'!D411=\"\",\"\",'Using CMS - Inop_OoC - CMS'!D411)","v":""},{"$f":"AO389&AP389&Table10[[#This Row],[CMS]]","v":""},{"$f":"IF(COUNTIF(AR$2:AR389,AR389)=1,AR389,\"\")","v":""},"","","",null,{"$f":"+IF(BB389=\"\",\"\",MAX(AX$1:AX388)+1)","v":""},{"$f":"IF('Using CMS - Deviation - Limits'!B411=\"\",\"\",'Using CMS - Deviation - Limits'!B411)","v":""},{"$f":"IF('Using CMS - Deviation - Limits'!C411=\"\",\"\",'Using CMS - Deviation - Limits'!C411)","v":""},{"$f":"AY389&AZ389&Table10[[#This Row],[CMS]]","v":""},{"$f":"IF(COUNTIF(BA$2:BA389,BA389)=1,BA389,\"\")","v":""},"","",{"$f":"+IFERROR(INDEX(#REF!,MATCH(ROW()-ROW(BC$1),AX$2:AX$955,0)),\"\")","v":""}]
[{"$f":"+IF(D390=\"\",\"\",MAX(A$1:A389)+1)","v":""},{"$f":"IF('Process_&_CMS_Identification'!C412=\"\",\"\",'Process_&_CMS_Identification'!C412)","v":""},"",{"$f":"IF(COUNTIF(B$2:B390,B390)=1,B390,\"\")","v":""},{"$nulls":15},{"$f":"+IF(X390=\"\",\"\",MAX(T$1:T389)+1)","v":""},{"$f":"IF('No CMS - Deviation - Limits'!B412=\"\",\"\",'No CMS - Deviation - Limits'!B412)","v":""},{"$f":"IF('No CMS - Deviation - Limits'!C412=\"\",\"\",'No CMS - Deviation - Limits'!C412)","v":""},"",{"$f":"IF(COUNTIF(V$2:V390,V390)=1,V390,\"\")","v":""},"","",{"$f":"+IFERROR(INDEX(#REF!,MATCH(ROW()-ROW($Y$1),T$2:T$955,0)),\"\")","v":""},null,{"$f":"+IF(AG390=\"\",\"\",MAX(AC$1:AC389)+1)","v":""},{"$f":"IF('Using CMS - Deviation - Limits'!B412=\"\",\"\",'Using CMS - Deviation - Limits'!B412)","v":""},{"$f":"IF('Using CMS - Deviation - Limits'!C412=\"\",\"\",'Using CMS - Deviation - Limits'!C412)","v":""},"",{"$f":"IF(COUNTIF(AF$2:AF390,AF390)=1,AF390,\"\")","v":""},"","",{"$f":"+IFERROR(INDEX(#REF!,MATCH(ROW()-ROW(AG$1),AC$2:AC$955,0)),\"\")","v":""},{"$nulls":3},{"$f":"+IF(AS390=\"\",\"\",MAX(AN$1:AN389)+1)","v":""},{"$f":"IF('Using CMS - Inop_OoC - CMS'!B412=\"\",\"\",'Using CMS - Inop_OoC - CMS'!B412)","v":""},{"$f":"IF('Using CMS - Inop_OoC - CMS'!C412=\"\",\"\",'Using CMS - Inop_OoC - CMS'!C412)","v":""},{"$f":"IF('Using CMS - Inop_OoC - CMS'!D412=\"\",\"\",'Using CMS - Inop_OoC - CMS'!D412)","v":""},{"$f":"AO390&AP390&Table10[[#This Row],[CMS]]","v":""},{"$f":"IF(COUNTIF(AR$2:AR390,AR390)=1,AR390,\"\")","v":""},"","","",null,{"$f":"+IF(BB390=\"\",\"\",MAX(AX$1:AX389)+1)","v":""},{"$f":"IF('Using CMS - Deviation - Limits'!B412=\"\",\"\",'Using CMS - Deviation - Limits'!B412)","v":""},{"$f":"IF('Using CMS - Deviation - Limits'!C412=\"\",\"\",'Using CMS - Deviation - Limits'!C412)","v":""},{"$f":"AY390&AZ390&Table10[[#This Row],[CMS]]","v":""},{"$f":"IF(COUNTIF(BA$2:BA390,BA390)=1,BA390,\"\")","v":""},"","",{"$f":"+IFERROR(INDEX(#REF!,MATCH(ROW()-ROW(BC$1),AX$2:AX$955,0)),\"\")","v":""}]
[{"$f":"+IF(D391=\"\",\"\",MAX(A$1:A390)+1)","v":""},{"$f":"IF('Process_&_CMS_Identification'!C413=\"\",\"\",'Process_&_CMS_Identification'!C413)","v":""},"",{"$f":"IF(COUNTIF(B$2:B391,B391)=1,B391,\"\")","v":""},{"$nulls":15},{"$f":"+IF(X391=\"\",\"\",MAX(T$1:T390)+1)","v":""},{"$f":"IF('No CMS - Deviation - Limits'!B413=\"\",\"\",'No CMS - Deviation - Limits'!B413)","v":""},{"$f":"IF('No CMS - Deviation - Limits'!C413=\"\",\"\",'No CMS - Deviation - Limits'!C413)","v":""},"",{"$f":"IF(COUNTIF(V$2:V391,V391)=1,V391,\"\")","v":""},"","",{"$f":"+IFERROR(INDEX(#REF!,MATCH(ROW()-ROW($Y$1),T$2:T$955,0)),\"\")","v":""},null,{"$f":"+IF(AG391=\"\",\"\",MAX(AC$1:AC390)+1)","v":""},{"$f":"IF('Using CMS - Deviation - Limits'!B413=\"\",\"\",'Using CMS - Deviation - Limits'!B413)","v":""},{"$f":"IF('Using CMS - Deviation - Limits'!C413=\"\",\"\",'Using CMS - Deviation - Limits'!C413)","v":""},"",{"$f":"IF(COUNTIF(AF$2:AF391,AF391)=1,AF391,\"\")","v":""},"","",{"$f":"+IFERROR(INDEX(#REF!,MATCH(ROW()-ROW(AG$1),AC$2:AC$955,0)),\"\")","v":""},{"$nulls":3},{"$f":"+IF(AS391=\"\",\"\",MAX(AN$1:AN390)+1)","v":""},{"$f":"IF('Using CMS - Inop_OoC - CMS'!B413=\"\",\"\",'Using CMS - Inop_OoC - CMS'!B413)","v":""},{"$f":"IF('Using CMS - Inop_OoC - CMS'!C413=\"\",\"\",'Using CMS - Inop_OoC - CMS'!C413)","v":""},{"$f":"IF('Using CMS - Inop_OoC - CMS'!D413=\"\",\"\",'Using CMS - Inop_OoC - CMS'!D413)","v":""},{"$f":"AO391&AP391&Table10[[#This Row],[CMS]]","v":""},{"$f":"IF(COUNTIF(AR$2:AR391,AR391)=1,AR391,\"\")","v":""},"","","",null,{"$f":"+IF(BB391=\"\",\"\",MAX(AX$1:AX390)+1)","v":""},{"$f":"IF('Using CMS - Deviation - Limits'!B413=\"\",\"\",'Using CMS - Deviation - Limits'!B413)","v":""},{"$f":"IF('Using CMS - Deviation - Limits'!C413=\"\",\"\",'Using CMS - Deviation - Limits'!C413)","v":""},{"$f":"AY391&AZ391&Table10[[#This Row],[CMS]]","v":""},{"$f":"IF(COUNTIF(BA$2:BA391,BA391)=1,BA391,\"\")","v":""},"","",{"$f":"+IFERROR(INDEX(#REF!,MATCH(ROW()-ROW(BC$1),AX$2:AX$955,0)),\"\")","v":""}]
[{"$f":"+IF(D392=\"\",\"\",MAX(A$1:A391)+1)","v":""},{"$f":"IF('Process_&_CMS_Identification'!C414=\"\",\"\",'Process_&_CMS_Identification'!C414)","v":""},"",{"$f":"IF(COUNTIF(B$2:B392,B392)=1,B392,\"\")","v":""},{"$nulls":15},{"$f":"+IF(X392=\"\",\"\",MAX(T$1:T391)+1)","v":""},{"$f":"IF('No CMS - Deviation - Limits'!B414=\"\",\"\",'No CMS - Deviation - Limits'!B414)","v":""},{"$f":"IF('No CMS - Deviation - Limits'!C414=\"\",\"\",'No CMS - Deviation - Limits'!C414)","v":""},"",{"$f":"IF(COUNTIF(V$2:V392,V392)=1,V392,\"\")","v":""},"","",{"$f":"+IFERROR(INDEX(#REF!,MATCH(ROW()-ROW($Y$1),T$2:T$955,0)),\"\")","v":""},null,{"$f":"+IF(AG392=\"\",\"\",MAX(AC$1:AC391)+1)","v":""},{"$f":"IF('Using CMS - Deviation - Limits'!B414=\"\",\"\",'Using CMS - Deviation - Limits'!B414)","v":""},{"$f":"IF('Using CMS - Deviation - Limits'!C414=\"\",\"\",'Using CMS - Deviation - Limits'!C414)","v":""},"",{"$f":"IF(COUNTIF(AF$2:AF392,AF392)=1,AF392,\"\")","v":""},"","",{"$f":"+IFERROR(INDEX(#REF!,MATCH(ROW()-ROW(AG$1),AC$2:AC$955,0)),\"\")","v":""},{"$nulls":3},{"$f":"+IF(AS392=\"\",\"\",MAX(AN$1:AN391)+1)","v":""},{"$f":"IF('Using CMS - Inop_OoC - CMS'!B414=\"\",\"\",'Using CMS - Inop_OoC - CMS'!B414)","v":""},{"$f":"IF('Using CMS - Inop_OoC - CMS'!C414=\"\",\"\",'Using CMS - Inop_OoC - CMS'!C414)","v":""},{"$f":"IF('Using CMS - Inop_OoC - CMS'!D414=\"\",\"\",'Using CMS - Inop_OoC - CMS'!D414)","v":""},{"$f":"AO392&AP392&Table10[[#This Row],[CMS]]","v":""},{"$f":"IF(COUNTIF(AR$2:AR392,AR392)=1,AR392,\"\")","v":""},"","","",null,{"$f":"+IF(BB392=\"\",\"\",MAX(AX$1:AX391)+1)","v":""},{"$f":"IF('Using CMS - Deviation - Limits'!B414=\"\",\"\",'Using CMS - Deviation - Limits'!B414)","v":""},{"$f":"IF('Using CMS - Deviation - Limits'!C414=\"\",\"\",'Using CMS - Deviation - Limits'!C414)","v":""},{"$f":"AY392&AZ392&Table10[[#This Row],[CMS]]","v":""},{"$f":"IF(COUNTIF(BA$2:BA392,BA392)=1,BA392,\"\")","v":""},"","",{"$f":"+IFERROR(INDEX(#REF!,MATCH(ROW()-ROW(BC$1),AX$2:AX$955,0)),\"\")","v":""}]
[{"$f":"+IF(D393=\"\",\"\",MAX(A$1:A392)+1)","v":""},{"$f":"IF('Process_&_CMS_Identification'!C415=\"\",\"\",'Process_&_CMS_Identification'!C415)","v":""},"",{"$f":"IF(COUNTIF(B$2:B393,B393)=1,B393,\"\")","v":""},{"$nulls":15},{"$f":"+IF(X393=\"\",\"\",MAX(T$1:T392)+1)","v":""},{"$f":"IF('No CMS - Deviation - Limits'!B415=\"\",\"\",'No CMS - Deviation - Limits'!B415)","v":""},{"$f":"IF('No CMS - Deviation - Limits'!C415=\"\",\"\",'No CMS - Deviation - Limits'!C415)","v":""},"",{"$f":"IF(COUNTIF(V$2:V393,V393)=1,V393,\"\")","v":""},"","",{"$f":"+IFERROR(INDEX(#REF!,MATCH(ROW()-ROW($Y$1),T$2:T$955,0)),\"\")","v":""},null,{"$f":"+IF(AG393=\"\",\"\",MAX(AC$1:AC392)+1)","v":""},{"$f":"IF('Using CMS - Deviation - Limits'!B415=\"\",\"\",'Using CMS - Deviation - Limits'!B415)","v":""},{"$f":"IF('Using CMS - Deviation - Limits'!C415=\"\",\"\",'Using CMS - Deviation - Limits'!C415)","v":""},"",{"$f":"IF(COUNTIF(AF$2:AF393,AF393)=1,AF393,\"\")","v":""},"","",{"$f":"+IFERROR(INDEX(#REF!,MATCH(ROW()-ROW(AG$1),AC$2:AC$955,0)),\"\")","v":""},{"$nulls":3},{"$f":"+IF(AS393=\"\",\"\",MAX(AN$1:AN392)+1)","v":""},{"$f":"IF('Using CMS - Inop_OoC - CMS'!B415=\"\",\"\",'Using CMS - Inop_OoC - CMS'!B415)","v":""},{"$f":"IF('Using CMS - Inop_OoC - CMS'!C415=\"\",\"\",'Using CMS - Inop_OoC - CMS'!C415)","v":""},{"$f":"IF('Using CMS - Inop_OoC - CMS'!D415=\"\",\"\",'Using CMS - Inop_OoC - CMS'!D415)","v":""},{"$f":"AO393&AP393&Table10[[#This Row],[CMS]]","v":""},{"$f":"IF(COUNTIF(AR$2:AR393,AR393)=1,AR393,\"\")","v":""},"","","",null,{"$f":"+IF(BB393=\"\",\"\",MAX(AX$1:AX392)+1)","v":""},{"$f":"IF('Using CMS - Deviation - Limits'!B415=\"\",\"\",'Using CMS - Deviation - Limits'!B415)","v":""},{"$f":"IF('Using CMS - Deviation - Limits'!C415=\"\",\"\",'Using CMS - Deviation - Limits'!C415)","v":""},{"$f":"AY393&AZ393&Table10[[#This Row],[CMS]]","v":""},{"$f":"IF(COUNTIF(BA$2:BA393,BA393)=1,BA393,\"\")","v":""},"","",{"$f":"+IFERROR(INDEX(#REF!,MATCH(ROW()-ROW(BC$1),AX$2:AX$955,0)),\"\")","v":""}]
[{"$f":"+IF(D394=\"\",\"\",MAX(A$1:A393)+1)","v":""},{"$f":"IF('Process_&_CMS_Identification'!C416=\"\",\"\",'Process_&_CMS_Identification'!C416)","v":""},"",{"$f":"IF(COUNTIF(B$2:B394,B394)=1,B394,\"\")","v":""},{"$nulls":15},{"$f":"+IF(X394=\"\",\"\",MAX(T$1:T393)+1)","v":""},{"$f":"IF('No CMS - Deviation - Limits'!B416=\"\",\"\",'No CMS - Deviation - Limits'!B416)","v":""},{"$f":"IF('No CMS - Deviation - Limits'!C416=\"\",\"\",'No CMS - Deviation - Limits'!C416)","v":""},"",{"$f":"IF(COUNTIF(V$2:V394,V394)=1,V394,\"\")","v":""},"","",{"$f":"+IFERROR(INDEX(#REF!,MATCH(ROW()-ROW($Y$1),T$2:T$955,0)),\"\")","v":""},null,{"$f":"+IF(AG394=\"\",\"\",MAX(AC$1:AC393)+1)","v":""},{"$f":"IF('Using CMS - Deviation - Limits'!B416=\"\",\"\",'Using CMS - Deviation - Limits'!B416)","v":""},{"$f":"IF('Using CMS - Deviation - Limits'!C416=\"\",\"\",'Using CMS - Deviation - Limits'!C416)","v":""},"",{"$f":"IF(COUNTIF(AF$2:AF394,AF394)=1,AF394,\"\")","v":""},"","",{"$f":"+IFERROR(INDEX(#REF!,MATCH(ROW()-ROW(AG$1),AC$2:AC$955,0)),\"\")","v":""},{"$nulls":3},{"$f":"+IF(AS394=\"\",\"\",MAX(AN$1:AN393)+1)","v":""},{"$f":"IF('Using CMS - Inop_OoC - CMS'!B416=\"\",\"\",'Using CMS - Inop_OoC - CMS'!B416)","v":""},{"$f":"IF('Using CMS - Inop_OoC - CMS'!C416=\"\",\"\",'Using CMS - Inop_OoC - CMS'!C416)","v":""},{"$f":"IF('Using CMS - Inop_OoC - CMS'!D416=\"\",\"\",'Using CMS - Inop_OoC - CMS'!D416)","v":""},{"$f":"AO394&AP394&Table10[[#This Row],[CMS]]","v":""},{"$f":"IF(COUNTIF(AR$2:AR394,AR394)=1,AR394,\"\")","v":""},"","","",null,{"$f":"+IF(BB394=\"\",\"\",MAX(AX$1:AX393)+1)","v":""},{"$f":"IF('Using CMS - Deviation - Limits'!B416=\"\",\"\",'Using CMS - Deviation - Limits'!B416)","v":""},{"$f":"IF('Using CMS - Deviation - Limits'!C416=\"\",\"\",'Using CMS - Deviation - Limits'!C416)","v":""},{"$f":"AY394&AZ394&Table10[[#This Row],[CMS]]","v":""},{"$f":"IF(COUNTIF(BA$2:BA394,BA394)=1,BA394,\"\")","v":""},"","",{"$f":"+IFERROR(INDEX(#REF!,MATCH(ROW()-ROW(BC$1),AX$2:AX$955,0)),\"\")","v":""}]
[{"$f":"+IF(D395=\"\",\"\",MAX(A$1:A394)+1)","v":""},{"$f":"IF('Process_&_CMS_Identification'!C417=\"\",\"\",'Process_&_CMS_Identification'!C417)","v":""},"",{"$f":"IF(COUNTIF(B$2:B395,B395)=1,B395,\"\")","v":""},{"$nulls":15},{"$f":"+IF(X395=\"\",\"\",MAX(T$1:T394)+1)","v":""},{"$f":"IF('No CMS - Deviation - Limits'!B417=\"\",\"\",'No CMS - Deviation - Limits'!B417)","v":""},{"$f":"IF('No CMS - Deviation - Limits'!C417=\"\",\"\",'No CMS - Deviation - Limits'!C417)","v":""},"",{"$f":"IF(COUNTIF(V$2:V395,V395)=1,V395,\"\")","v":""},"","",{"$f":"+IFERROR(INDEX(#REF!,MATCH(ROW()-ROW($Y$1),T$2:T$955,0)),\"\")","v":""},null,{"$f":"+IF(AG395=\"\",\"\",MAX(AC$1:AC394)+1)","v":""},{"$f":"IF('Using CMS - Deviation - Limits'!B417=\"\",\"\",'Using CMS - Deviation - Limits'!B417)","v":""},{"$f":"IF('Using CMS - Deviation - Limits'!C417=\"\",\"\",'Using CMS - Deviation - Limits'!C417)","v":""},"",{"$f":"IF(COUNTIF(AF$2:AF395,AF395)=1,AF395,\"\")","v":""},"","",{"$f":"+IFERROR(INDEX(#REF!,MATCH(ROW()-ROW(AG$1),AC$2:AC$955,0)),\"\")","v":""},{"$nulls":3},{"$f":"+IF(AS395=\"\",\"\",MAX(AN$1:AN394)+1)","v":""},{"$f":"IF('Using CMS - Inop_OoC - CMS'!B417=\"\",\"\",'Using CMS - Inop_OoC - CMS'!B417)","v":""},{"$f":"IF('Using CMS - Inop_OoC - CMS'!C417=\"\",\"\",'Using CMS - Inop_OoC - CMS'!C417)","v":""},{"$f":"IF('Using CMS - Inop_OoC - CMS'!D417=\"\",\"\",'Using CMS - Inop_OoC - CMS'!D417)","v":""},{"$f":"AO395&AP395&Table10[[#This Row],[CMS]]","v":""},{"$f":"IF(COUNTIF(AR$2:AR395,AR395)=1,AR395,\"\")","v":""},"","","",null,{"$f":"+IF(BB395=\"\",\"\",MAX(AX$1:AX394)+1)","v":""},{"$f":"IF('Using CMS - Deviation - Limits'!B417=\"\",\"\",'Using CMS - Deviation - Limits'!B417)","v":""},{"$f":"IF('Using CMS - Deviation - Limits'!C417=\"\",\"\",'Using CMS - Deviation - Limits'!C417)","v":""},{"$f":"AY395&AZ395&Table10[[#This Row],[CMS]]","v":""},{"$f":"IF(COUNTIF(BA$2:BA395,BA395)=1,BA395,\"\")","v":""},"","",{"$f":"+IFERROR(INDEX(#REF!,MATCH(ROW()-ROW(BC$1),AX$2:AX$955,0)),\"\")","v":""}]
[{"$f":"+IF(D396=\"\",\"\",MAX(A$1:A395)+1)","v":""},{"$f":"IF('Process_&_CMS_Identification'!C418=\"\",\"\",'Process_&_CMS_Identification'!C418)","v":""},"",{"$f":"IF(COUNTIF(B$2:B396,B396)=1,B396,\"\")","v":""},{"$nulls":15},{"$f":"+IF(X396=\"\",\"\",MAX(T$1:T395)+1)","v":""},{"$f":"IF('No CMS - Deviation - Limits'!B418=\"\",\"\",'No CMS - Deviation - Limits'!B418)","v":""},{"$f":"IF('No CMS - Deviation - Limits'!C418=\"\",\"\",'No CMS - Deviation - Limits'!C418)","v":""},"",{"$f":"IF(COUNTIF(V$2:V396,V396)=1,V396,\"\")","v":""},"","",{"$f":"+IFERROR(INDEX(#REF!,MATCH(ROW()-ROW($Y$1),T$2:T$955,0)),\"\")","v":""},null,{"$f":"+IF(AG396=\"\",\"\",MAX(AC$1:AC395)+1)","v":""},{"$f":"IF('Using CMS - Deviation - Limits'!B418=\"\",\"\",'Using CMS - Deviation - Limits'!B418)","v":""},{"$f":"IF('Using CMS - Deviation - Limits'!C418=\"\",\"\",'Using CMS - Deviation - Limits'!C418)","v":""},"",{"$f":"IF(COUNTIF(AF$2:AF396,AF396)=1,AF396,\"\")","v":""},"","",{"$f":"+IFERROR(INDEX(#REF!,MATCH(ROW()-ROW(AG$1),AC$2:AC$955,0)),\"\")","v":""},{"$nulls":3},{"$f":"+IF(AS396=\"\",\"\",MAX(AN$1:AN395)+1)","v":""},{"$f":"IF('Using CMS - Inop_OoC - CMS'!B418=\"\",\"\",'Using CMS - Inop_OoC - CMS'!B418)","v":""},{"$f":"IF('Using CMS - Inop_OoC - CMS'!C418=\"\",\"\",'Using CMS - Inop_OoC - CMS'!C418)","v":""},{"$f":"IF('Using CMS - Inop_OoC - CMS'!D418=\"\",\"\",'Using CMS - Inop_OoC - CMS'!D418)","v":""},{"$f":"AO396&AP396&Table10[[#This Row],[CMS]]","v":""},{"$f":"IF(COUNTIF(AR$2:AR396,AR396)=1,AR396,\"\")","v":""},"","","",null,{"$f":"+IF(BB396=\"\",\"\",MAX(AX$1:AX395)+1)","v":""},{"$f":"IF('Using CMS - Deviation - Limits'!B418=\"\",\"\",'Using CMS - Deviation - Limits'!B418)","v":""},{"$f":"IF('Using CMS - Deviation - Limits'!C418=\"\",\"\",'Using CMS - Deviation - Limits'!C418)","v":""},{"$f":"AY396&AZ396&Table10[[#This Row],[CMS]]","v":""},{"$f":"IF(COUNTIF(BA$2:BA396,BA396)=1,BA396,\"\")","v":""},"","",{"$f":"+IFERROR(INDEX(#REF!,MATCH(ROW()-ROW(BC$1),AX$2:AX$955,0)),\"\")","v":""}]
[{"$f":"+IF(D397=\"\",\"\",MAX(A$1:A396)+1)","v":""},{"$f":"IF('Process_&_CMS_Identification'!C419=\"\",\"\",'Process_&_CMS_Identification'!C419)","v":""},"",{"$f":"IF(COUNTIF(B$2:B397,B397)=1,B397,\"\")","v":""},{"$nulls":15},{"$f":"+IF(X397=\"\",\"\",MAX(T$1:T396)+1)","v":""},{"$f":"IF('No CMS - Deviation - Limits'!B419=\"\",\"\",'No CMS - Deviation - Limits'!B419)","v":""},{"$f":"IF('No CMS - Deviation - Limits'!C419=\"\",\"\",'No CMS - Deviation - Limits'!C419)","v":""},"",{"$f":"IF(COUNTIF(V$2:V397,V397)=1,V397,\"\")","v":""},"","",{"$f":"+IFERROR(INDEX(#REF!,MATCH(ROW()-ROW($Y$1),T$2:T$955,0)),\"\")","v":""},null,{"$f":"+IF(AG397=\"\",\"\",MAX(AC$1:AC396)+1)","v":""},{"$f":"IF('Using CMS - Deviation - Limits'!B419=\"\",\"\",'Using CMS - Deviation - Limits'!B419)","v":""},{"$f":"IF('Using CMS - Deviation - Limits'!C419=\"\",\"\",'Using CMS - Deviation - Limits'!C419)","v":""},"",{"$f":"IF(COUNTIF(AF$2:AF397,AF397)=1,AF397,\"\")","v":""},"","",{"$f":"+IFERROR(INDEX(#REF!,MATCH(ROW()-ROW(AG$1),AC$2:AC$955,0)),\"\")","v":""},{"$nulls":3},{"$f":"+IF(AS397=\"\",\"\",MAX(AN$1:AN396)+1)","v":""},{"$f":"IF('Using CMS - Inop_OoC - CMS'!B419=\"\",\"\",'Using CMS - Inop_OoC - CMS'!B419)","v":""},{"$f":"IF('Using CMS - Inop_OoC - CMS'!C419=\"\",\"\",'Using CMS - Inop_OoC - CMS'!C419)","v":""},{"$f":"IF('Using CMS - Inop_OoC - CMS'!D419=\"\",\"\",'Using CMS - Inop_OoC - CMS'!D419)","v":""},{"$f":"AO397&AP397&Table10[[#This Row],[CMS]]","v":""},{"$f":"IF(COUNTIF(AR$2:AR397,AR397)=1,AR397,\"\")","v":""},"","","",null,{"$f":"+IF(BB397=\"\",\"\",MAX(AX$1:AX396)+1)","v":""},{"$f":"IF('Using CMS - Deviation - Limits'!B419=\"\",\"\",'Using CMS - Deviation - Limits'!B419)","v":""},{"$f":"IF('Using CMS - Deviation - Limits'!C419=\"\",\"\",'Using CMS - Deviation - Limits'!C419)","v":""},{"$f":"AY397&AZ397&Table10[[#This Row],[CMS]]","v":""},{"$f":"IF(COUNTIF(BA$2:BA397,BA397)=1,BA397,\"\")","v":""},"","",{"$f":"+IFERROR(INDEX(#REF!,MATCH(ROW()-ROW(BC$1),AX$2:AX$955,0)),\"\")","v":""}]
[{"$f":"+IF(D398=\"\",\"\",MAX(A$1:A397)+1)","v":""},{"$f":"IF('Process_&_CMS_Identification'!C420=\"\",\"\",'Process_&_CMS_Identification'!C420)","v":""},"",{"$f":"IF(COUNTIF(B$2:B398,B398)=1,B398,\"\")","v":""},{"$nulls":15},{"$f":"+IF(X398=\"\",\"\",MAX(T$1:T397)+1)","v":""},{"$f":"IF('No CMS - Deviation - Limits'!B420=\"\",\"\",'No CMS - Deviation - Limits'!B420)","v":""},{"$f":"IF('No CMS - Deviation - Limits'!C420=\"\",\"\",'No CMS - Deviation - Limits'!C420)","v":""},"",{"$f":"IF(COUNTIF(V$2:V398,V398)=1,V398,\"\")","v":""},"","",{"$f":"+IFERROR(INDEX(#REF!,MATCH(ROW()-ROW($Y$1),T$2:T$955,0)),\"\")","v":""},null,{"$f":"+IF(AG398=\"\",\"\",MAX(AC$1:AC397)+1)","v":""},{"$f":"IF('Using CMS - Deviation - Limits'!B420=\"\",\"\",'Using CMS - Deviation - Limits'!B420)","v":""},{"$f":"IF('Using CMS - Deviation - Limits'!C420=\"\",\"\",'Using CMS - Deviation - Limits'!C420)","v":""},"",{"$f":"IF(COUNTIF(AF$2:AF398,AF398)=1,AF398,\"\")","v":""},"","",{"$f":"+IFERROR(INDEX(#REF!,MATCH(ROW()-ROW(AG$1),AC$2:AC$955,0)),\"\")","v":""},{"$nulls":3},{"$f":"+IF(AS398=\"\",\"\",MAX(AN$1:AN397)+1)","v":""},{"$f":"IF('Using CMS - Inop_OoC - CMS'!B420=\"\",\"\",'Using CMS - Inop_OoC - CMS'!B420)","v":""},{"$f":"IF('Using CMS - Inop_OoC - CMS'!C420=\"\",\"\",'Using CMS - Inop_OoC - CMS'!C420)","v":""},{"$f":"IF('Using CMS - Inop_OoC - CMS'!D420=\"\",\"\",'Using CMS - Inop_OoC - CMS'!D420)","v":""},{"$f":"AO398&AP398&Table10[[#This Row],[CMS]]","v":""},{"$f":"IF(COUNTIF(AR$2:AR398,AR398)=1,AR398,\"\")","v":""},"","","",null,{"$f":"+IF(BB398=\"\",\"\",MAX(AX$1:AX397)+1)","v":""},{"$f":"IF('Using CMS - Deviation - Limits'!B420=\"\",\"\",'Using CMS - Deviation - Limits'!B420)","v":""},{"$f":"IF('Using CMS - Deviation - Limits'!C420=\"\",\"\",'Using CMS - Deviation - Limits'!C420)","v":""},{"$f":"AY398&AZ398&Table10[[#This Row],[CMS]]","v":""},{"$f":"IF(COUNTIF(BA$2:BA398,BA398)=1,BA398,\"\")","v":""},"","",{"$f":"+IFERROR(INDEX(#REF!,MATCH(ROW()-ROW(BC$1),AX$2:AX$955,0)),\"\")","v":""}]
[{"$f":"+IF(D399=\"\",\"\",MAX(A$1:A398)+1)","v":""},{"$f":"IF('Process_&_CMS_Identification'!C421=\"\",\"\",'Process_&_CMS_Identification'!C421)","v":""},"",{"$f":"IF(COUNTIF(B$2:B399,B399)=1,B399,\"\")","v":""},{"$nulls":15},{"$f":"+IF(X399=\"\",\"\",MAX(T$1:T398)+1)","v":""},{"$f":"IF('No CMS - Deviation - Limits'!B421=\"\",\"\",'No CMS - Deviation - Limits'!B421)","v":""},{"$f":"IF('No CMS - Deviation - Limits'!C421=\"\",\"\",'No CMS - Deviation - Limits'!C421)","v":""},"",{"$f":"IF(COUNTIF(V$2:V399,V399)=1,V399,\"\")","v":""},"","",{"$f":"+IFERROR(INDEX(#REF!,MATCH(ROW()-ROW($Y$1),T$2:T$955,0)),\"\")","v":""},null,{"$f":"+IF(AG399=\"\",\"\",MAX(AC$1:AC398)+1)","v":""},{"$f":"IF('Using CMS - Deviation - Limits'!B421=\"\",\"\",'Using CMS - Deviation - Limits'!B421)","v":""},{"$f":"IF('Using CMS - Deviation - Limits'!C421=\"\",\"\",'Using CMS - Deviation - Limits'!C421)","v":""},"",{"$f":"IF(COUNTIF(AF$2:AF399,AF399)=1,AF399,\"\")","v":""},"","",{"$f":"+IFERROR(INDEX(#REF!,MATCH(ROW()-ROW(AG$1),AC$2:AC$955,0)),\"\")","v":""},{"$nulls":3},{"$f":"+IF(AS399=\"\",\"\",MAX(AN$1:AN398)+1)","v":""},{"$f":"IF('Using CMS - Inop_OoC - CMS'!B421=\"\",\"\",'Using CMS - Inop_OoC - CMS'!B421)","v":""},{"$f":"IF('Using CMS - Inop_OoC - CMS'!C421=\"\",\"\",'Using CMS - Inop_OoC - CMS'!C421)","v":""},{"$f":"IF('Using CMS - Inop_OoC - CMS'!D421=\"\",\"\",'Using CMS - Inop_OoC - CMS'!D421)","v":""},{"$f":"AO399&AP399&Table10[[#This Row],[CMS]]","v":""},{"$f":"IF(COUNTIF(AR$2:AR399,AR399)=1,AR399,\"\")","v":""},"","","",null,{"$f":"+IF(BB399=\"\",\"\",MAX(AX$1:AX398)+1)","v":""},{"$f":"IF('Using CMS - Deviation - Limits'!B421=\"\",\"\",'Using CMS - Deviation - Limits'!B421)","v":""},{"$f":"IF('Using CMS - Deviation - Limits'!C421=\"\",\"\",'Using CMS - Deviation - Limits'!C421)","v":""},{"$f":"AY399&AZ399&Table10[[#This Row],[CMS]]","v":""},{"$f":"IF(COUNTIF(BA$2:BA399,BA399)=1,BA399,\"\")","v":""},"","",{"$f":"+IFERROR(INDEX(#REF!,MATCH(ROW()-ROW(BC$1),AX$2:AX$955,0)),\"\")","v":""}]
[{"$f":"+IF(D400=\"\",\"\",MAX(A$1:A399)+1)","v":""},{"$f":"IF('Process_&_CMS_Identification'!C422=\"\",\"\",'Process_&_CMS_Identification'!C422)","v":""},"",{"$f":"IF(COUNTIF(B$2:B400,B400)=1,B400,\"\")","v":""},{"$nulls":15},{"$f":"+IF(X400=\"\",\"\",MAX(T$1:T399)+1)","v":""},{"$f":"IF('No CMS - Deviation - Limits'!B422=\"\",\"\",'No CMS - Deviation - Limits'!B422)","v":""},{"$f":"IF('No CMS - Deviation - Limits'!C422=\"\",\"\",'No CMS - Deviation - Limits'!C422)","v":""},"",{"$f":"IF(COUNTIF(V$2:V400,V400)=1,V400,\"\")","v":""},"","",{"$f":"+IFERROR(INDEX(#REF!,MATCH(ROW()-ROW($Y$1),T$2:T$955,0)),\"\")","v":""},null,{"$f":"+IF(AG400=\"\",\"\",MAX(AC$1:AC399)+1)","v":""},{"$f":"IF('Using CMS - Deviation - Limits'!B422=\"\",\"\",'Using CMS - Deviation - Limits'!B422)","v":""},{"$f":"IF('Using CMS - Deviation - Limits'!C422=\"\",\"\",'Using CMS - Deviation - Limits'!C422)","v":""},"",{"$f":"IF(COUNTIF(AF$2:AF400,AF400)=1,AF400,\"\")","v":""},"","",{"$f":"+IFERROR(INDEX(#REF!,MATCH(ROW()-ROW(AG$1),AC$2:AC$955,0)),\"\")","v":""},{"$nulls":3},{"$f":"+IF(AS400=\"\",\"\",MAX(AN$1:AN399)+1)","v":""},{"$f":"IF('Using CMS - Inop_OoC - CMS'!B422=\"\",\"\",'Using CMS - Inop_OoC - CMS'!B422)","v":""},{"$f":"IF('Using CMS - Inop_OoC - CMS'!C422=\"\",\"\",'Using CMS - Inop_OoC - CMS'!C422)","v":""},{"$f":"IF('Using CMS - Inop_OoC - CMS'!D422=\"\",\"\",'Using CMS - Inop_OoC - CMS'!D422)","v":""},{"$f":"AO400&AP400&Table10[[#This Row],[CMS]]","v":""},{"$f":"IF(COUNTIF(AR$2:AR400,AR400)=1,AR400,\"\")","v":""},"","","",null,{"$f":"+IF(BB400=\"\",\"\",MAX(AX$1:AX399)+1)","v":""},{"$f":"IF('Using CMS - Deviation - Limits'!B422=\"\",\"\",'Using CMS - Deviation - Limits'!B422)","v":""},{"$f":"IF('Using CMS - Deviation - Limits'!C422=\"\",\"\",'Using CMS - Deviation - Limits'!C422)","v":""},{"$f":"AY400&AZ400&Table10[[#This Row],[CMS]]","v":""},{"$f":"IF(COUNTIF(BA$2:BA400,BA400)=1,BA400,\"\")","v":""},"","",{"$f":"+IFERROR(INDEX(#REF!,MATCH(ROW()-ROW(BC$1),AX$2:AX$955,0)),\"\")","v":""}]
[{"$f":"+IF(D401=\"\",\"\",MAX(A$1:A400)+1)","v":""},{"$f":"IF('Process_&_CMS_Identification'!C423=\"\",\"\",'Process_&_CMS_Identification'!C423)","v":""},"",{"$f":"IF(COUNTIF(B$2:B401,B401)=1,B401,\"\")","v":""},{"$nulls":15},{"$f":"+IF(X401=\"\",\"\",MAX(T$1:T400)+1)","v":""},{"$f":"IF('No CMS - Deviation - Limits'!B423=\"\",\"\",'No CMS - Deviation - Limits'!B423)","v":""},{"$f":"IF('No CMS - Deviation - Limits'!C423=\"\",\"\",'No CMS - Deviation - Limits'!C423)","v":""},"",{"$f":"IF(COUNTIF(V$2:V401,V401)=1,V401,\"\")","v":""},"","",{"$f":"+IFERROR(INDEX(#REF!,MATCH(ROW()-ROW($Y$1),T$2:T$955,0)),\"\")","v":""},null,{"$f":"+IF(AG401=\"\",\"\",MAX(AC$1:AC400)+1)","v":""},{"$f":"IF('Using CMS - Deviation - Limits'!B423=\"\",\"\",'Using CMS - Deviation - Limits'!B423)","v":""},{"$f":"IF('Using CMS - Deviation - Limits'!C423=\"\",\"\",'Using CMS - Deviation - Limits'!C423)","v":""},"",{"$f":"IF(COUNTIF(AF$2:AF401,AF401)=1,AF401,\"\")","v":""},"","",{"$f":"+IFERROR(INDEX(#REF!,MATCH(ROW()-ROW(AG$1),AC$2:AC$955,0)),\"\")","v":""},{"$nulls":3},{"$f":"+IF(AS401=\"\",\"\",MAX(AN$1:AN400)+1)","v":""},{"$f":"IF('Using CMS - Inop_OoC - CMS'!B423=\"\",\"\",'Using CMS - Inop_OoC - CMS'!B423)","v":""},{"$f":"IF('Using CMS - Inop_OoC - CMS'!C423=\"\",\"\",'Using CMS - Inop_OoC - CMS'!C423)","v":""},{"$f":"IF('Using CMS - Inop_OoC - CMS'!D423=\"\",\"\",'Using CMS - Inop_OoC - CMS'!D423)","v":""},{"$f":"AO401&AP401&Table10[[#This Row],[CMS]]","v":""},{"$f":"IF(COUNTIF(AR$2:AR401,AR401)=1,AR401,\"\")","v":""},"","","",null,{"$f":"+IF(BB401=\"\",\"\",MAX(AX$1:AX400)+1)","v":""},{"$f":"IF('Using CMS - Deviation - Limits'!B423=\"\",\"\",'Using CMS - Deviation - Limits'!B423)","v":""},{"$f":"IF('Using CMS - Deviation - Limits'!C423=\"\",\"\",'Using CMS - Deviation - Limits'!C423)","v":""},{"$f":"AY401&AZ401&Table10[[#This Row],[CMS]]","v":""},{"$f":"IF(COUNTIF(BA$2:BA401,BA401)=1,BA401,\"\")","v":""},"","",{"$f":"+IFERROR(INDEX(#REF!,MATCH(ROW()-ROW(BC$1),AX$2:AX$955,0)),\"\")","v":""}]
[{"$f":"+IF(D402=\"\",\"\",MAX(A$1:A401)+1)","v":""},{"$f":"IF('Process_&_CMS_Identification'!C424=\"\",\"\",'Process_&_CMS_Identification'!C424)","v":""},"",{"$f":"IF(COUNTIF(B$2:B402,B402)=1,B402,\"\")","v":""},{"$nulls":15},{"$f":"+IF(X402=\"\",\"\",MAX(T$1:T401)+1)","v":""},{"$f":"IF('No CMS - Deviation - Limits'!B424=\"\",\"\",'No CMS - Deviation - Limits'!B424)","v":""},{"$f":"IF('No CMS - Deviation - Limits'!C424=\"\",\"\",'No CMS - Deviation - Limits'!C424)","v":""},"",{"$f":"IF(COUNTIF(V$2:V402,V402)=1,V402,\"\")","v":""},"","",{"$f":"+IFERROR(INDEX(#REF!,MATCH(ROW()-ROW($Y$1),T$2:T$955,0)),\"\")","v":""},null,{"$f":"+IF(AG402=\"\",\"\",MAX(AC$1:AC401)+1)","v":""},{"$f":"IF('Using CMS - Deviation - Limits'!B424=\"\",\"\",'Using CMS - Deviation - Limits'!B424)","v":""},{"$f":"IF('Using CMS - Deviation - Limits'!C424=\"\",\"\",'Using CMS - Deviation - Limits'!C424)","v":""},"",{"$f":"IF(COUNTIF(AF$2:AF402,AF402)=1,AF402,\"\")","v":""},"","",{"$f":"+IFERROR(INDEX(#REF!,MATCH(ROW()-ROW(AG$1),AC$2:AC$955,0)),\"\")","v":""},{"$nulls":3},{"$f":"+IF(AS402=\"\",\"\",MAX(AN$1:AN401)+1)","v":""},{"$f":"IF('Using CMS - Inop_OoC - CMS'!B424=\"\",\"\",'Using CMS - Inop_OoC - CMS'!B424)","v":""},{"$f":"IF('Using CMS - Inop_OoC - CMS'!C424=\"\",\"\",'Using CMS - Inop_OoC - CMS'!C424)","v":""},{"$f":"IF('Using CMS - Inop_OoC - CMS'!D424=\"\",\"\",'Using CMS - Inop_OoC - CMS'!D424)","v":""},{"$f":"AO402&AP402&Table10[[#This Row],[CMS]]","v":""},{"$f":"IF(COUNTIF(AR$2:AR402,AR402)=1,AR402,\"\")","v":""},"","","",null,{"$f":"+IF(BB402=\"\",\"\",MAX(AX$1:AX401)+1)","v":""},{"$f":"IF('Using CMS - Deviation - Limits'!B424=\"\",\"\",'Using CMS - Deviation - Limits'!B424)","v":""},{"$f":"IF('Using CMS - Deviation - Limits'!C424=\"\",\"\",'Using CMS - Deviation - Limits'!C424)","v":""},{"$f":"AY402&AZ402&Table10[[#This Row],[CMS]]","v":""},{"$f":"IF(COUNTIF(BA$2:BA402,BA402)=1,BA402,\"\")","v":""},"","",{"$f":"+IFERROR(INDEX(#REF!,MATCH(ROW()-ROW(BC$1),AX$2:AX$955,0)),\"\")","v":""}]
[{"$f":"+IF(D403=\"\",\"\",MAX(A$1:A402)+1)","v":""},{"$f":"IF('Process_&_CMS_Identification'!C425=\"\",\"\",'Process_&_CMS_Identification'!C425)","v":""},"",{"$f":"IF(COUNTIF(B$2:B403,B403)=1,B403,\"\")","v":""},{"$nulls":15},{"$f":"+IF(X403=\"\",\"\",MAX(T$1:T402)+1)","v":""},{"$f":"IF('No CMS - Deviation - Limits'!B425=\"\",\"\",'No CMS - Deviation - Limits'!B425)","v":""},{"$f":"IF('No CMS - Deviation - Limits'!C425=\"\",\"\",'No CMS - Deviation - Limits'!C425)","v":""},"",{"$f":"IF(COUNTIF(V$2:V403,V403)=1,V403,\"\")","v":""},"","",{"$f":"+IFERROR(INDEX(#REF!,MATCH(ROW()-ROW($Y$1),T$2:T$955,0)),\"\")","v":""},null,{"$f":"+IF(AG403=\"\",\"\",MAX(AC$1:AC402)+1)","v":""},{"$f":"IF('Using CMS - Deviation - Limits'!B425=\"\",\"\",'Using CMS - Deviation - Limits'!B425)","v":""},{"$f":"IF('Using CMS - Deviation - Limits'!C425=\"\",\"\",'Using CMS - Deviation - Limits'!C425)","v":""},"",{"$f":"IF(COUNTIF(AF$2:AF403,AF403)=1,AF403,\"\")","v":""},"","",{"$f":"+IFERROR(INDEX(#REF!,MATCH(ROW()-ROW(AG$1),AC$2:AC$955,0)),\"\")","v":""},{"$nulls":3},{"$f":"+IF(AS403=\"\",\"\",MAX(AN$1:AN402)+1)","v":""},{"$f":"IF('Using CMS - Inop_OoC - CMS'!B425=\"\",\"\",'Using CMS - Inop_OoC - CMS'!B425)","v":""},{"$f":"IF('Using CMS - Inop_OoC - CMS'!C425=\"\",\"\",'Using CMS - Inop_OoC - CMS'!C425)","v":""},{"$f":"IF('Using CMS - Inop_OoC - CMS'!D425=\"\",\"\",'Using CMS - Inop_OoC - CMS'!D425)","v":""},{"$f":"AO403&AP403&Table10[[#This Row],[CMS]]","v":""},{"$f":"IF(COUNTIF(AR$2:AR403,AR403)=1,AR403,\"\")","v":""},"","","",null,{"$f":"+IF(BB403=\"\",\"\",MAX(AX$1:AX402)+1)","v":""},{"$f":"IF('Using CMS - Deviation - Limits'!B425=\"\",\"\",'Using CMS - Deviation - Limits'!B425)","v":""},{"$f":"IF('Using CMS - Deviation - Limits'!C425=\"\",\"\",'Using CMS - Deviation - Limits'!C425)","v":""},{"$f":"AY403&AZ403&Table10[[#This Row],[CMS]]","v":""},{"$f":"IF(COUNTIF(BA$2:BA403,BA403)=1,BA403,\"\")","v":""},"","",{"$f":"+IFERROR(INDEX(#REF!,MATCH(ROW()-ROW(BC$1),AX$2:AX$955,0)),\"\")","v":""}]
[{"$f":"+IF(D404=\"\",\"\",MAX(A$1:A403)+1)","v":""},{"$f":"IF('Process_&_CMS_Identification'!C426=\"\",\"\",'Process_&_CMS_Identification'!C426)","v":""},"",{"$f":"IF(COUNTIF(B$2:B404,B404)=1,B404,\"\")","v":""},{"$nulls":15},{"$f":"+IF(X404=\"\",\"\",MAX(T$1:T403)+1)","v":""},{"$f":"IF('No CMS - Deviation - Limits'!B426=\"\",\"\",'No CMS - Deviation - Limits'!B426)","v":""},{"$f":"IF('No CMS - Deviation - Limits'!C426=\"\",\"\",'No CMS - Deviation - Limits'!C426)","v":""},"",{"$f":"IF(COUNTIF(V$2:V404,V404)=1,V404,\"\")","v":""},"","",{"$f":"+IFERROR(INDEX(#REF!,MATCH(ROW()-ROW($Y$1),T$2:T$955,0)),\"\")","v":""},null,{"$f":"+IF(AG404=\"\",\"\",MAX(AC$1:AC403)+1)","v":""},{"$f":"IF('Using CMS - Deviation - Limits'!B426=\"\",\"\",'Using CMS - Deviation - Limits'!B426)","v":""},{"$f":"IF('Using CMS - Deviation - Limits'!C426=\"\",\"\",'Using CMS - Deviation - Limits'!C426)","v":""},"",{"$f":"IF(COUNTIF(AF$2:AF404,AF404)=1,AF404,\"\")","v":""},"","",{"$f":"+IFERROR(INDEX(#REF!,MATCH(ROW()-ROW(AG$1),AC$2:AC$955,0)),\"\")","v":""},{"$nulls":3},{"$f":"+IF(AS404=\"\",\"\",MAX(AN$1:AN403)+1)","v":""},{"$f":"IF('Using CMS - Inop_OoC - CMS'!B426=\"\",\"\",'Using CMS - Inop_OoC - CMS'!B426)","v":""},{"$f":"IF('Using CMS - Inop_OoC - CMS'!C426=\"\",\"\",'Using CMS - Inop_OoC - CMS'!C426)","v":""},{"$f":"IF('Using CMS - Inop_OoC - CMS'!D426=\"\",\"\",'Using CMS - Inop_OoC - CMS'!D426)","v":""},{"$f":"AO404&AP404&Table10[[#This Row],[CMS]]","v":""},{"$f":"IF(COUNTIF(AR$2:AR404,AR404)=1,AR404,\"\")","v":""},"","","",null,{"$f":"+IF(BB404=\"\",\"\",MAX(AX$1:AX403)+1)","v":""},{"$f":"IF('Using CMS - Deviation - Limits'!B426=\"\",\"\",'Using CMS - Deviation - Limits'!B426)","v":""},{"$f":"IF('Using CMS - Deviation - Limits'!C426=\"\",\"\",'Using CMS - Deviation - Limits'!C426)","v":""},{"$f":"AY404&AZ404&Table10[[#This Row],[CMS]]","v":""},{"$f":"IF(COUNTIF(BA$2:BA404,BA404)=1,BA404,\"\")","v":""},"","",{"$f":"+IFERROR(INDEX(#REF!,MATCH(ROW()-ROW(BC$1),AX$2:AX$955,0)),\"\")","v":""}]
[{"$f":"+IF(D405=\"\",\"\",MAX(A$1:A404)+1)","v":""},{"$f":"IF('Process_&_CMS_Identification'!C427=\"\",\"\",'Process_&_CMS_Identification'!C427)","v":""},"",{"$f":"IF(COUNTIF(B$2:B405,B405)=1,B405,\"\")","v":""},{"$nulls":15},{"$f":"+IF(X405=\"\",\"\",MAX(T$1:T404)+1)","v":""},{"$f":"IF('No CMS - Deviation - Limits'!B427=\"\",\"\",'No CMS - Deviation - Limits'!B427)","v":""},{"$f":"IF('No CMS - Deviation - Limits'!C427=\"\",\"\",'No CMS - Deviation - Limits'!C427)","v":""},"",{"$f":"IF(COUNTIF(V$2:V405,V405)=1,V405,\"\")","v":""},"","",{"$f":"+IFERROR(INDEX(#REF!,MATCH(ROW()-ROW($Y$1),T$2:T$955,0)),\"\")","v":""},null,{"$f":"+IF(AG405=\"\",\"\",MAX(AC$1:AC404)+1)","v":""},{"$f":"IF('Using CMS - Deviation - Limits'!B427=\"\",\"\",'Using CMS - Deviation - Limits'!B427)","v":""},{"$f":"IF('Using CMS - Deviation - Limits'!C427=\"\",\"\",'Using CMS - Deviation - Limits'!C427)","v":""},"",{"$f":"IF(COUNTIF(AF$2:AF405,AF405)=1,AF405,\"\")","v":""},"","",{"$f":"+IFERROR(INDEX(#REF!,MATCH(ROW()-ROW(AG$1),AC$2:AC$955,0)),\"\")","v":""},{"$nulls":3},{"$f":"+IF(AS405=\"\",\"\",MAX(AN$1:AN404)+1)","v":""},{"$f":"IF('Using CMS - Inop_OoC - CMS'!B427=\"\",\"\",'Using CMS - Inop_OoC - CMS'!B427)","v":""},{"$f":"IF('Using CMS - Inop_OoC - CMS'!C427=\"\",\"\",'Using CMS - Inop_OoC - CMS'!C427)","v":""},{"$f":"IF('Using CMS - Inop_OoC - CMS'!D427=\"\",\"\",'Using CMS - Inop_OoC - CMS'!D427)","v":""},{"$f":"AO405&AP405&Table10[[#This Row],[CMS]]","v":""},{"$f":"IF(COUNTIF(AR$2:AR405,AR405)=1,AR405,\"\")","v":""},"","","",null,{"$f":"+IF(BB405=\"\",\"\",MAX(AX$1:AX404)+1)","v":""},{"$f":"IF('Using CMS - Deviation - Limits'!B427=\"\",\"\",'Using CMS - Deviation - Limits'!B427)","v":""},{"$f":"IF('Using CMS - Deviation - Limits'!C427=\"\",\"\",'Using CMS - Deviation - Limits'!C427)","v":""},{"$f":"AY405&AZ405&Table10[[#This Row],[CMS]]","v":""},{"$f":"IF(COUNTIF(BA$2:BA405,BA405)=1,BA405,\"\")","v":""},"","",{"$f":"+IFERROR(INDEX(#REF!,MATCH(ROW()-ROW(BC$1),AX$2:AX$955,0)),\"\")","v":""}]
[{"$f":"+IF(D406=\"\",\"\",MAX(A$1:A405)+1)","v":""},{"$f":"IF('Process_&_CMS_Identification'!C428=\"\",\"\",'Process_&_CMS_Identification'!C428)","v":""},"",{"$f":"IF(COUNTIF(B$2:B406,B406)=1,B406,\"\")","v":""},{"$nulls":15},{"$f":"+IF(X406=\"\",\"\",MAX(T$1:T405)+1)","v":""},{"$f":"IF('No CMS - Deviation - Limits'!B428=\"\",\"\",'No CMS - Deviation - Limits'!B428)","v":""},{"$f":"IF('No CMS - Deviation - Limits'!C428=\"\",\"\",'No CMS - Deviation - Limits'!C428)","v":""},"",{"$f":"IF(COUNTIF(V$2:V406,V406)=1,V406,\"\")","v":""},"","",{"$f":"+IFERROR(INDEX(#REF!,MATCH(ROW()-ROW($Y$1),T$2:T$955,0)),\"\")","v":""},null,{"$f":"+IF(AG406=\"\",\"\",MAX(AC$1:AC405)+1)","v":""},{"$f":"IF('Using CMS - Deviation - Limits'!B428=\"\",\"\",'Using CMS - Deviation - Limits'!B428)","v":""},{"$f":"IF('Using CMS - Deviation - Limits'!C428=\"\",\"\",'Using CMS - Deviation - Limits'!C428)","v":""},"",{"$f":"IF(COUNTIF(AF$2:AF406,AF406)=1,AF406,\"\")","v":""},"","",{"$f":"+IFERROR(INDEX(#REF!,MATCH(ROW()-ROW(AG$1),AC$2:AC$955,0)),\"\")","v":""},{"$nulls":3},{"$f":"+IF(AS406=\"\",\"\",MAX(AN$1:AN405)+1)","v":""},{"$f":"IF('Using CMS - Inop_OoC - CMS'!B428=\"\",\"\",'Using CMS - Inop_OoC - CMS'!B428)","v":""},{"$f":"IF('Using CMS - Inop_OoC - CMS'!C428=\"\",\"\",'Using CMS - Inop_OoC - CMS'!C428)","v":""},{"$f":"IF('Using CMS - Inop_OoC - CMS'!D428=\"\",\"\",'Using CMS - Inop_OoC - CMS'!D428)","v":""},{"$f":"AO406&AP406&Table10[[#This Row],[CMS]]","v":""},{"$f":"IF(COUNTIF(AR$2:AR406,AR406)=1,AR406,\"\")","v":""},"","","",null,{"$f":"+IF(BB406=\"\",\"\",MAX(AX$1:AX405)+1)","v":""},{"$f":"IF('Using CMS - Deviation - Limits'!B428=\"\",\"\",'Using CMS - Deviation - Limits'!B428)","v":""},{"$f":"IF('Using CMS - Deviation - Limits'!C428=\"\",\"\",'Using CMS - Deviation - Limits'!C428)","v":""},{"$f":"AY406&AZ406&Table10[[#This Row],[CMS]]","v":""},{"$f":"IF(COUNTIF(BA$2:BA406,BA406)=1,BA406,\"\")","v":""},"","",{"$f":"+IFERROR(INDEX(#REF!,MATCH(ROW()-ROW(BC$1),AX$2:AX$955,0)),\"\")","v":""}]
[{"$f":"+IF(D407=\"\",\"\",MAX(A$1:A406)+1)","v":""},{"$f":"IF('Process_&_CMS_Identification'!C429=\"\",\"\",'Process_&_CMS_Identification'!C429)","v":""},"",{"$f":"IF(COUNTIF(B$2:B407,B407)=1,B407,\"\")","v":""},{"$nulls":15},{"$f":"+IF(X407=\"\",\"\",MAX(T$1:T406)+1)","v":""},{"$f":"IF('No CMS - Deviation - Limits'!B429=\"\",\"\",'No CMS - Deviation - Limits'!B429)","v":""},{"$f":"IF('No CMS - Deviation - Limits'!C429=\"\",\"\",'No CMS - Deviation - Limits'!C429)","v":""},"",{"$f":"IF(COUNTIF(V$2:V407,V407)=1,V407,\"\")","v":""},"","",{"$f":"+IFERROR(INDEX(#REF!,MATCH(ROW()-ROW($Y$1),T$2:T$955,0)),\"\")","v":""},null,{"$f":"+IF(AG407=\"\",\"\",MAX(AC$1:AC406)+1)","v":""},{"$f":"IF('Using CMS - Deviation - Limits'!B429=\"\",\"\",'Using CMS - Deviation - Limits'!B429)","v":""},{"$f":"IF('Using CMS - Deviation - Limits'!C429=\"\",\"\",'Using CMS - Deviation - Limits'!C429)","v":""},"",{"$f":"IF(COUNTIF(AF$2:AF407,AF407)=1,AF407,\"\")","v":""},"","",{"$f":"+IFERROR(INDEX(#REF!,MATCH(ROW()-ROW(AG$1),AC$2:AC$955,0)),\"\")","v":""},{"$nulls":3},{"$f":"+IF(AS407=\"\",\"\",MAX(AN$1:AN406)+1)","v":""},{"$f":"IF('Using CMS - Inop_OoC - CMS'!B429=\"\",\"\",'Using CMS - Inop_OoC - CMS'!B429)","v":""},{"$f":"IF('Using CMS - Inop_OoC - CMS'!C429=\"\",\"\",'Using CMS - Inop_OoC - CMS'!C429)","v":""},{"$f":"IF('Using CMS - Inop_OoC - CMS'!D429=\"\",\"\",'Using CMS - Inop_OoC - CMS'!D429)","v":""},{"$f":"AO407&AP407&Table10[[#This Row],[CMS]]","v":""},{"$f":"IF(COUNTIF(AR$2:AR407,AR407)=1,AR407,\"\")","v":""},"","","",null,{"$f":"+IF(BB407=\"\",\"\",MAX(AX$1:AX406)+1)","v":""},{"$f":"IF('Using CMS - Deviation - Limits'!B429=\"\",\"\",'Using CMS - Deviation - Limits'!B429)","v":""},{"$f":"IF('Using CMS - Deviation - Limits'!C429=\"\",\"\",'Using CMS - Deviation - Limits'!C429)","v":""},{"$f":"AY407&AZ407&Table10[[#This Row],[CMS]]","v":""},{"$f":"IF(COUNTIF(BA$2:BA407,BA407)=1,BA407,\"\")","v":""},"","",{"$f":"+IFERROR(INDEX(#REF!,MATCH(ROW()-ROW(BC$1),AX$2:AX$955,0)),\"\")","v":""}]
[{"$f":"+IF(D408=\"\",\"\",MAX(A$1:A407)+1)","v":""},{"$f":"IF('Process_&_CMS_Identification'!C430=\"\",\"\",'Process_&_CMS_Identification'!C430)","v":""},"",{"$f":"IF(COUNTIF(B$2:B408,B408)=1,B408,\"\")","v":""},{"$nulls":15},{"$f":"+IF(X408=\"\",\"\",MAX(T$1:T407)+1)","v":""},{"$f":"IF('No CMS - Deviation - Limits'!B430=\"\",\"\",'No CMS - Deviation - Limits'!B430)","v":""},{"$f":"IF('No CMS - Deviation - Limits'!C430=\"\",\"\",'No CMS - Deviation - Limits'!C430)","v":""},"",{"$f":"IF(COUNTIF(V$2:V408,V408)=1,V408,\"\")","v":""},"","",{"$f":"+IFERROR(INDEX(#REF!,MATCH(ROW()-ROW($Y$1),T$2:T$955,0)),\"\")","v":""},null,{"$f":"+IF(AG408=\"\",\"\",MAX(AC$1:AC407)+1)","v":""},{"$f":"IF('Using CMS - Deviation - Limits'!B430=\"\",\"\",'Using CMS - Deviation - Limits'!B430)","v":""},{"$f":"IF('Using CMS - Deviation - Limits'!C430=\"\",\"\",'Using CMS - Deviation - Limits'!C430)","v":""},"",{"$f":"IF(COUNTIF(AF$2:AF408,AF408)=1,AF408,\"\")","v":""},"","",{"$f":"+IFERROR(INDEX(#REF!,MATCH(ROW()-ROW(AG$1),AC$2:AC$955,0)),\"\")","v":""},{"$nulls":3},{"$f":"+IF(AS408=\"\",\"\",MAX(AN$1:AN407)+1)","v":""},{"$f":"IF('Using CMS - Inop_OoC - CMS'!B430=\"\",\"\",'Using CMS - Inop_OoC - CMS'!B430)","v":""},{"$f":"IF('Using CMS - Inop_OoC - CMS'!C430=\"\",\"\",'Using CMS - Inop_OoC - CMS'!C430)","v":""},{"$f":"IF('Using CMS - Inop_OoC - CMS'!D430=\"\",\"\",'Using CMS - Inop_OoC - CMS'!D430)","v":""},{"$f":"AO408&AP408&Table10[[#This Row],[CMS]]","v":""},{"$f":"IF(COUNTIF(AR$2:AR408,AR408)=1,AR408,\"\")","v":""},"","","",null,{"$f":"+IF(BB408=\"\",\"\",MAX(AX$1:AX407)+1)","v":""},{"$f":"IF('Using CMS - Deviation - Limits'!B430=\"\",\"\",'Using CMS - Deviation - Limits'!B430)","v":""},{"$f":"IF('Using CMS - Deviation - Limits'!C430=\"\",\"\",'Using CMS - Deviation - Limits'!C430)","v":""},{"$f":"AY408&AZ408&Table10[[#This Row],[CMS]]","v":""},{"$f":"IF(COUNTIF(BA$2:BA408,BA408)=1,BA408,\"\")","v":""},"","",{"$f":"+IFERROR(INDEX(#REF!,MATCH(ROW()-ROW(BC$1),AX$2:AX$955,0)),\"\")","v":""}]
[{"$f":"+IF(D409=\"\",\"\",MAX(A$1:A408)+1)","v":""},{"$f":"IF('Process_&_CMS_Identification'!C431=\"\",\"\",'Process_&_CMS_Identification'!C431)","v":""},"",{"$f":"IF(COUNTIF(B$2:B409,B409)=1,B409,\"\")","v":""},{"$nulls":15},{"$f":"+IF(X409=\"\",\"\",MAX(T$1:T408)+1)","v":""},{"$f":"IF('No CMS - Deviation - Limits'!B431=\"\",\"\",'No CMS - Deviation - Limits'!B431)","v":""},{"$f":"IF('No CMS - Deviation - Limits'!C431=\"\",\"\",'No CMS - Deviation - Limits'!C431)","v":""},"",{"$f":"IF(COUNTIF(V$2:V409,V409)=1,V409,\"\")","v":""},"","",{"$f":"+IFERROR(INDEX(#REF!,MATCH(ROW()-ROW($Y$1),T$2:T$955,0)),\"\")","v":""},null,{"$f":"+IF(AG409=\"\",\"\",MAX(AC$1:AC408)+1)","v":""},{"$f":"IF('Using CMS - Deviation - Limits'!B431=\"\",\"\",'Using CMS - Deviation - Limits'!B431)","v":""},{"$f":"IF('Using CMS - Deviation - Limits'!C431=\"\",\"\",'Using CMS - Deviation - Limits'!C431)","v":""},"",{"$f":"IF(COUNTIF(AF$2:AF409,AF409)=1,AF409,\"\")","v":""},"","",{"$f":"+IFERROR(INDEX(#REF!,MATCH(ROW()-ROW(AG$1),AC$2:AC$955,0)),\"\")","v":""},{"$nulls":3},{"$f":"+IF(AS409=\"\",\"\",MAX(AN$1:AN408)+1)","v":""},{"$f":"IF('Using CMS - Inop_OoC - CMS'!B431=\"\",\"\",'Using CMS - Inop_OoC - CMS'!B431)","v":""},{"$f":"IF('Using CMS - Inop_OoC - CMS'!C431=\"\",\"\",'Using CMS - Inop_OoC - CMS'!C431)","v":""},{"$f":"IF('Using CMS - Inop_OoC - CMS'!D431=\"\",\"\",'Using CMS - Inop_OoC - CMS'!D431)","v":""},{"$f":"AO409&AP409&Table10[[#This Row],[CMS]]","v":""},{"$f":"IF(COUNTIF(AR$2:AR409,AR409)=1,AR409,\"\")","v":""},"","","",null,{"$f":"+IF(BB409=\"\",\"\",MAX(AX$1:AX408)+1)","v":""},{"$f":"IF('Using CMS - Deviation - Limits'!B431=\"\",\"\",'Using CMS - Deviation - Limits'!B431)","v":""},{"$f":"IF('Using CMS - Deviation - Limits'!C431=\"\",\"\",'Using CMS - Deviation - Limits'!C431)","v":""},{"$f":"AY409&AZ409&Table10[[#This Row],[CMS]]","v":""},{"$f":"IF(COUNTIF(BA$2:BA409,BA409)=1,BA409,\"\")","v":""},"","",{"$f":"+IFERROR(INDEX(#REF!,MATCH(ROW()-ROW(BC$1),AX$2:AX$955,0)),\"\")","v":""}]
[{"$f":"+IF(D410=\"\",\"\",MAX(A$1:A409)+1)","v":""},{"$f":"IF('Process_&_CMS_Identification'!C432=\"\",\"\",'Process_&_CMS_Identification'!C432)","v":""},"",{"$f":"IF(COUNTIF(B$2:B410,B410)=1,B410,\"\")","v":""},{"$nulls":15},{"$f":"+IF(X410=\"\",\"\",MAX(T$1:T409)+1)","v":""},{"$f":"IF('No CMS - Deviation - Limits'!B432=\"\",\"\",'No CMS - Deviation - Limits'!B432)","v":""},{"$f":"IF('No CMS - Deviation - Limits'!C432=\"\",\"\",'No CMS - Deviation - Limits'!C432)","v":""},"",{"$f":"IF(COUNTIF(V$2:V410,V410)=1,V410,\"\")","v":""},"","",{"$f":"+IFERROR(INDEX(#REF!,MATCH(ROW()-ROW($Y$1),T$2:T$955,0)),\"\")","v":""},null,{"$f":"+IF(AG410=\"\",\"\",MAX(AC$1:AC409)+1)","v":""},{"$f":"IF('Using CMS - Deviation - Limits'!B432=\"\",\"\",'Using CMS - Deviation - Limits'!B432)","v":""},{"$f":"IF('Using CMS - Deviation - Limits'!C432=\"\",\"\",'Using CMS - Deviation - Limits'!C432)","v":""},"",{"$f":"IF(COUNTIF(AF$2:AF410,AF410)=1,AF410,\"\")","v":""},"","",{"$f":"+IFERROR(INDEX(#REF!,MATCH(ROW()-ROW(AG$1),AC$2:AC$955,0)),\"\")","v":""},{"$nulls":3},{"$f":"+IF(AS410=\"\",\"\",MAX(AN$1:AN409)+1)","v":""},{"$f":"IF('Using CMS - Inop_OoC - CMS'!B432=\"\",\"\",'Using CMS - Inop_OoC - CMS'!B432)","v":""},{"$f":"IF('Using CMS - Inop_OoC - CMS'!C432=\"\",\"\",'Using CMS - Inop_OoC - CMS'!C432)","v":""},{"$f":"IF('Using CMS - Inop_OoC - CMS'!D432=\"\",\"\",'Using CMS - Inop_OoC - CMS'!D432)","v":""},{"$f":"AO410&AP410&Table10[[#This Row],[CMS]]","v":""},{"$f":"IF(COUNTIF(AR$2:AR410,AR410)=1,AR410,\"\")","v":""},"","","",null,{"$f":"+IF(BB410=\"\",\"\",MAX(AX$1:AX409)+1)","v":""},{"$f":"IF('Using CMS - Deviation - Limits'!B432=\"\",\"\",'Using CMS - Deviation - Limits'!B432)","v":""},{"$f":"IF('Using CMS - Deviation - Limits'!C432=\"\",\"\",'Using CMS - Deviation - Limits'!C432)","v":""},{"$f":"AY410&AZ410&Table10[[#This Row],[CMS]]","v":""},{"$f":"IF(COUNTIF(BA$2:BA410,BA410)=1,BA410,\"\")","v":""},"","",{"$f":"+IFERROR(INDEX(#REF!,MATCH(ROW()-ROW(BC$1),AX$2:AX$955,0)),\"\")","v":""}]
[{"$f":"+IF(D411=\"\",\"\",MAX(A$1:A410)+1)","v":""},{"$f":"IF('Process_&_CMS_Identification'!C433=\"\",\"\",'Process_&_CMS_Identification'!C433)","v":""},"",{"$f":"IF(COUNTIF(B$2:B411,B411)=1,B411,\"\")","v":""},{"$nulls":15},{"$f":"+IF(X411=\"\",\"\",MAX(T$1:T410)+1)","v":""},{"$f":"IF('No CMS - Deviation - Limits'!B433=\"\",\"\",'No CMS - Deviation - Limits'!B433)","v":""},{"$f":"IF('No CMS - Deviation - Limits'!C433=\"\",\"\",'No CMS - Deviation - Limits'!C433)","v":""},"",{"$f":"IF(COUNTIF(V$2:V411,V411)=1,V411,\"\")","v":""},"","",{"$f":"+IFERROR(INDEX(#REF!,MATCH(ROW()-ROW($Y$1),T$2:T$955,0)),\"\")","v":""},null,{"$f":"+IF(AG411=\"\",\"\",MAX(AC$1:AC410)+1)","v":""},{"$f":"IF('Using CMS - Deviation - Limits'!B433=\"\",\"\",'Using CMS - Deviation - Limits'!B433)","v":""},{"$f":"IF('Using CMS - Deviation - Limits'!C433=\"\",\"\",'Using CMS - Deviation - Limits'!C433)","v":""},"",{"$f":"IF(COUNTIF(AF$2:AF411,AF411)=1,AF411,\"\")","v":""},"","",{"$f":"+IFERROR(INDEX(#REF!,MATCH(ROW()-ROW(AG$1),AC$2:AC$955,0)),\"\")","v":""},{"$nulls":3},{"$f":"+IF(AS411=\"\",\"\",MAX(AN$1:AN410)+1)","v":""},{"$f":"IF('Using CMS - Inop_OoC - CMS'!B433=\"\",\"\",'Using CMS - Inop_OoC - CMS'!B433)","v":""},{"$f":"IF('Using CMS - Inop_OoC - CMS'!C433=\"\",\"\",'Using CMS - Inop_OoC - CMS'!C433)","v":""},{"$f":"IF('Using CMS - Inop_OoC - CMS'!D433=\"\",\"\",'Using CMS - Inop_OoC - CMS'!D433)","v":""},{"$f":"AO411&AP411&Table10[[#This Row],[CMS]]","v":""},{"$f":"IF(COUNTIF(AR$2:AR411,AR411)=1,AR411,\"\")","v":""},"","","",null,{"$f":"+IF(BB411=\"\",\"\",MAX(AX$1:AX410)+1)","v":""},{"$f":"IF('Using CMS - Deviation - Limits'!B433=\"\",\"\",'Using CMS - Deviation - Limits'!B433)","v":""},{"$f":"IF('Using CMS - Deviation - Limits'!C433=\"\",\"\",'Using CMS - Deviation - Limits'!C433)","v":""},{"$f":"AY411&AZ411&Table10[[#This Row],[CMS]]","v":""},{"$f":"IF(COUNTIF(BA$2:BA411,BA411)=1,BA411,\"\")","v":""},"","",{"$f":"+IFERROR(INDEX(#REF!,MATCH(ROW()-ROW(BC$1),AX$2:AX$955,0)),\"\")","v":""}]
[{"$f":"+IF(D412=\"\",\"\",MAX(A$1:A411)+1)","v":""},{"$f":"IF('Process_&_CMS_Identification'!C434=\"\",\"\",'Process_&_CMS_Identification'!C434)","v":""},"",{"$f":"IF(COUNTIF(B$2:B412,B412)=1,B412,\"\")","v":""},{"$nulls":15},{"$f":"+IF(X412=\"\",\"\",MAX(T$1:T411)+1)","v":""},{"$f":"IF('No CMS - Deviation - Limits'!B434=\"\",\"\",'No CMS - Deviation - Limits'!B434)","v":""},{"$f":"IF('No CMS - Deviation - Limits'!C434=\"\",\"\",'No CMS - Deviation - Limits'!C434)","v":""},"",{"$f":"IF(COUNTIF(V$2:V412,V412)=1,V412,\"\")","v":""},"","",{"$f":"+IFERROR(INDEX(#REF!,MATCH(ROW()-ROW($Y$1),T$2:T$955,0)),\"\")","v":""},null,{"$f":"+IF(AG412=\"\",\"\",MAX(AC$1:AC411)+1)","v":""},{"$f":"IF('Using CMS - Deviation - Limits'!B434=\"\",\"\",'Using CMS - Deviation - Limits'!B434)","v":""},{"$f":"IF('Using CMS - Deviation - Limits'!C434=\"\",\"\",'Using CMS - Deviation - Limits'!C434)","v":""},"",{"$f":"IF(COUNTIF(AF$2:AF412,AF412)=1,AF412,\"\")","v":""},"","",{"$f":"+IFERROR(INDEX(#REF!,MATCH(ROW()-ROW(AG$1),AC$2:AC$955,0)),\"\")","v":""},{"$nulls":3},{"$f":"+IF(AS412=\"\",\"\",MAX(AN$1:AN411)+1)","v":""},{"$f":"IF('Using CMS - Inop_OoC - CMS'!B434=\"\",\"\",'Using CMS - Inop_OoC - CMS'!B434)","v":""},{"$f":"IF('Using CMS - Inop_OoC - CMS'!C434=\"\",\"\",'Using CMS - Inop_OoC - CMS'!C434)","v":""},{"$f":"IF('Using CMS - Inop_OoC - CMS'!D434=\"\",\"\",'Using CMS - Inop_OoC - CMS'!D434)","v":""},{"$f":"AO412&AP412&Table10[[#This Row],[CMS]]","v":""},{"$f":"IF(COUNTIF(AR$2:AR412,AR412)=1,AR412,\"\")","v":""},"","","",null,{"$f":"+IF(BB412=\"\",\"\",MAX(AX$1:AX411)+1)","v":""},{"$f":"IF('Using CMS - Deviation - Limits'!B434=\"\",\"\",'Using CMS - Deviation - Limits'!B434)","v":""},{"$f":"IF('Using CMS - Deviation - Limits'!C434=\"\",\"\",'Using CMS - Deviation - Limits'!C434)","v":""},{"$f":"AY412&AZ412&Table10[[#This Row],[CMS]]","v":""},{"$f":"IF(COUNTIF(BA$2:BA412,BA412)=1,BA412,\"\")","v":""},"","",{"$f":"+IFERROR(INDEX(#REF!,MATCH(ROW()-ROW(BC$1),AX$2:AX$955,0)),\"\")","v":""}]
[{"$f":"+IF(D413=\"\",\"\",MAX(A$1:A412)+1)","v":""},{"$f":"IF('Process_&_CMS_Identification'!C435=\"\",\"\",'Process_&_CMS_Identification'!C435)","v":""},"",{"$f":"IF(COUNTIF(B$2:B413,B413)=1,B413,\"\")","v":""},{"$nulls":15},{"$f":"+IF(X413=\"\",\"\",MAX(T$1:T412)+1)","v":""},{"$f":"IF('No CMS - Deviation - Limits'!B435=\"\",\"\",'No CMS - Deviation - Limits'!B435)","v":""},{"$f":"IF('No CMS - Deviation - Limits'!C435=\"\",\"\",'No CMS - Deviation - Limits'!C435)","v":""},"",{"$f":"IF(COUNTIF(V$2:V413,V413)=1,V413,\"\")","v":""},"","",{"$f":"+IFERROR(INDEX(#REF!,MATCH(ROW()-ROW($Y$1),T$2:T$955,0)),\"\")","v":""},null,{"$f":"+IF(AG413=\"\",\"\",MAX(AC$1:AC412)+1)","v":""},{"$f":"IF('Using CMS - Deviation - Limits'!B435=\"\",\"\",'Using CMS - Deviation - Limits'!B435)","v":""},{"$f":"IF('Using CMS - Deviation - Limits'!C435=\"\",\"\",'Using CMS - Deviation - Limits'!C435)","v":""},"",{"$f":"IF(COUNTIF(AF$2:AF413,AF413)=1,AF413,\"\")","v":""},"","",{"$f":"+IFERROR(INDEX(#REF!,MATCH(ROW()-ROW(AG$1),AC$2:AC$955,0)),\"\")","v":""},{"$nulls":3},{"$f":"+IF(AS413=\"\",\"\",MAX(AN$1:AN412)+1)","v":""},{"$f":"IF('Using CMS - Inop_OoC - CMS'!B435=\"\",\"\",'Using CMS - Inop_OoC - CMS'!B435)","v":""},{"$f":"IF('Using CMS - Inop_OoC - CMS'!C435=\"\",\"\",'Using CMS - Inop_OoC - CMS'!C435)","v":""},{"$f":"IF('Using CMS - Inop_OoC - CMS'!D435=\"\",\"\",'Using CMS - Inop_OoC - CMS'!D435)","v":""},{"$f":"AO413&AP413&Table10[[#This Row],[CMS]]","v":""},{"$f":"IF(COUNTIF(AR$2:AR413,AR413)=1,AR413,\"\")","v":""},"","","",null,{"$f":"+IF(BB413=\"\",\"\",MAX(AX$1:AX412)+1)","v":""},{"$f":"IF('Using CMS - Deviation - Limits'!B435=\"\",\"\",'Using CMS - Deviation - Limits'!B435)","v":""},{"$f":"IF('Using CMS - Deviation - Limits'!C435=\"\",\"\",'Using CMS - Deviation - Limits'!C435)","v":""},{"$f":"AY413&AZ413&Table10[[#This Row],[CMS]]","v":""},{"$f":"IF(COUNTIF(BA$2:BA413,BA413)=1,BA413,\"\")","v":""},"","",{"$f":"+IFERROR(INDEX(#REF!,MATCH(ROW()-ROW(BC$1),AX$2:AX$955,0)),\"\")","v":""}]
[{"$f":"+IF(D414=\"\",\"\",MAX(A$1:A413)+1)","v":""},{"$f":"IF('Process_&_CMS_Identification'!C436=\"\",\"\",'Process_&_CMS_Identification'!C436)","v":""},"",{"$f":"IF(COUNTIF(B$2:B414,B414)=1,B414,\"\")","v":""},{"$nulls":15},{"$f":"+IF(X414=\"\",\"\",MAX(T$1:T413)+1)","v":""},{"$f":"IF('No CMS - Deviation - Limits'!B436=\"\",\"\",'No CMS - Deviation - Limits'!B436)","v":""},{"$f":"IF('No CMS - Deviation - Limits'!C436=\"\",\"\",'No CMS - Deviation - Limits'!C436)","v":""},"",{"$f":"IF(COUNTIF(V$2:V414,V414)=1,V414,\"\")","v":""},"","",{"$f":"+IFERROR(INDEX(#REF!,MATCH(ROW()-ROW($Y$1),T$2:T$955,0)),\"\")","v":""},null,{"$f":"+IF(AG414=\"\",\"\",MAX(AC$1:AC413)+1)","v":""},{"$f":"IF('Using CMS - Deviation - Limits'!B436=\"\",\"\",'Using CMS - Deviation - Limits'!B436)","v":""},{"$f":"IF('Using CMS - Deviation - Limits'!C436=\"\",\"\",'Using CMS - Deviation - Limits'!C436)","v":""},"",{"$f":"IF(COUNTIF(AF$2:AF414,AF414)=1,AF414,\"\")","v":""},"","",{"$f":"+IFERROR(INDEX(#REF!,MATCH(ROW()-ROW(AG$1),AC$2:AC$955,0)),\"\")","v":""},{"$nulls":3},{"$f":"+IF(AS414=\"\",\"\",MAX(AN$1:AN413)+1)","v":""},{"$f":"IF('Using CMS - Inop_OoC - CMS'!B436=\"\",\"\",'Using CMS - Inop_OoC - CMS'!B436)","v":""},{"$f":"IF('Using CMS - Inop_OoC - CMS'!C436=\"\",\"\",'Using CMS - Inop_OoC - CMS'!C436)","v":""},{"$f":"IF('Using CMS - Inop_OoC - CMS'!D436=\"\",\"\",'Using CMS - Inop_OoC - CMS'!D436)","v":""},{"$f":"AO414&AP414&Table10[[#This Row],[CMS]]","v":""},{"$f":"IF(COUNTIF(AR$2:AR414,AR414)=1,AR414,\"\")","v":""},"","","",null,{"$f":"+IF(BB414=\"\",\"\",MAX(AX$1:AX413)+1)","v":""},{"$f":"IF('Using CMS - Deviation - Limits'!B436=\"\",\"\",'Using CMS - Deviation - Limits'!B436)","v":""},{"$f":"IF('Using CMS - Deviation - Limits'!C436=\"\",\"\",'Using CMS - Deviation - Limits'!C436)","v":""},{"$f":"AY414&AZ414&Table10[[#This Row],[CMS]]","v":""},{"$f":"IF(COUNTIF(BA$2:BA414,BA414)=1,BA414,\"\")","v":""},"","",{"$f":"+IFERROR(INDEX(#REF!,MATCH(ROW()-ROW(BC$1),AX$2:AX$955,0)),\"\")","v":""}]
[{"$f":"+IF(D415=\"\",\"\",MAX(A$1:A414)+1)","v":""},{"$f":"IF('Process_&_CMS_Identification'!C437=\"\",\"\",'Process_&_CMS_Identification'!C437)","v":""},"",{"$f":"IF(COUNTIF(B$2:B415,B415)=1,B415,\"\")","v":""},{"$nulls":15},{"$f":"+IF(X415=\"\",\"\",MAX(T$1:T414)+1)","v":""},{"$f":"IF('No CMS - Deviation - Limits'!B437=\"\",\"\",'No CMS - Deviation - Limits'!B437)","v":""},{"$f":"IF('No CMS - Deviation - Limits'!C437=\"\",\"\",'No CMS - Deviation - Limits'!C437)","v":""},"",{"$f":"IF(COUNTIF(V$2:V415,V415)=1,V415,\"\")","v":""},"","",{"$f":"+IFERROR(INDEX(#REF!,MATCH(ROW()-ROW($Y$1),T$2:T$955,0)),\"\")","v":""},null,{"$f":"+IF(AG415=\"\",\"\",MAX(AC$1:AC414)+1)","v":""},{"$f":"IF('Using CMS - Deviation - Limits'!B437=\"\",\"\",'Using CMS - Deviation - Limits'!B437)","v":""},{"$f":"IF('Using CMS - Deviation - Limits'!C437=\"\",\"\",'Using CMS - Deviation - Limits'!C437)","v":""},"",{"$f":"IF(COUNTIF(AF$2:AF415,AF415)=1,AF415,\"\")","v":""},"","",{"$f":"+IFERROR(INDEX(#REF!,MATCH(ROW()-ROW(AG$1),AC$2:AC$955,0)),\"\")","v":""},{"$nulls":3},{"$f":"+IF(AS415=\"\",\"\",MAX(AN$1:AN414)+1)","v":""},{"$f":"IF('Using CMS - Inop_OoC - CMS'!B437=\"\",\"\",'Using CMS - Inop_OoC - CMS'!B437)","v":""},{"$f":"IF('Using CMS - Inop_OoC - CMS'!C437=\"\",\"\",'Using CMS - Inop_OoC - CMS'!C437)","v":""},{"$f":"IF('Using CMS - Inop_OoC - CMS'!D437=\"\",\"\",'Using CMS - Inop_OoC - CMS'!D437)","v":""},{"$f":"AO415&AP415&Table10[[#This Row],[CMS]]","v":""},{"$f":"IF(COUNTIF(AR$2:AR415,AR415)=1,AR415,\"\")","v":""},"","","",null,{"$f":"+IF(BB415=\"\",\"\",MAX(AX$1:AX414)+1)","v":""},{"$f":"IF('Using CMS - Deviation - Limits'!B437=\"\",\"\",'Using CMS - Deviation - Limits'!B437)","v":""},{"$f":"IF('Using CMS - Deviation - Limits'!C437=\"\",\"\",'Using CMS - Deviation - Limits'!C437)","v":""},{"$f":"AY415&AZ415&Table10[[#This Row],[CMS]]","v":""},{"$f":"IF(COUNTIF(BA$2:BA415,BA415)=1,BA415,\"\")","v":""},"","",{"$f":"+IFERROR(INDEX(#REF!,MATCH(ROW()-ROW(BC$1),AX$2:AX$955,0)),\"\")","v":""}]
[{"$f":"+IF(D416=\"\",\"\",MAX(A$1:A415)+1)","v":""},{"$f":"IF('Process_&_CMS_Identification'!C438=\"\",\"\",'Process_&_CMS_Identification'!C438)","v":""},"",{"$f":"IF(COUNTIF(B$2:B416,B416)=1,B416,\"\")","v":""},{"$nulls":15},{"$f":"+IF(X416=\"\",\"\",MAX(T$1:T415)+1)","v":""},{"$f":"IF('No CMS - Deviation - Limits'!B438=\"\",\"\",'No CMS - Deviation - Limits'!B438)","v":""},{"$f":"IF('No CMS - Deviation - Limits'!C438=\"\",\"\",'No CMS - Deviation - Limits'!C438)","v":""},"",{"$f":"IF(COUNTIF(V$2:V416,V416)=1,V416,\"\")","v":""},"","",{"$f":"+IFERROR(INDEX(#REF!,MATCH(ROW()-ROW($Y$1),T$2:T$955,0)),\"\")","v":""},null,{"$f":"+IF(AG416=\"\",\"\",MAX(AC$1:AC415)+1)","v":""},{"$f":"IF('Using CMS - Deviation - Limits'!B438=\"\",\"\",'Using CMS - Deviation - Limits'!B438)","v":""},{"$f":"IF('Using CMS - Deviation - Limits'!C438=\"\",\"\",'Using CMS - Deviation - Limits'!C438)","v":""},"",{"$f":"IF(COUNTIF(AF$2:AF416,AF416)=1,AF416,\"\")","v":""},"","",{"$f":"+IFERROR(INDEX(#REF!,MATCH(ROW()-ROW(AG$1),AC$2:AC$955,0)),\"\")","v":""},{"$nulls":3},{"$f":"+IF(AS416=\"\",\"\",MAX(AN$1:AN415)+1)","v":""},{"$f":"IF('Using CMS - Inop_OoC - CMS'!B438=\"\",\"\",'Using CMS - Inop_OoC - CMS'!B438)","v":""},{"$f":"IF('Using CMS - Inop_OoC - CMS'!C438=\"\",\"\",'Using CMS - Inop_OoC - CMS'!C438)","v":""},{"$f":"IF('Using CMS - Inop_OoC - CMS'!D438=\"\",\"\",'Using CMS - Inop_OoC - CMS'!D438)","v":""},{"$f":"AO416&AP416&Table10[[#This Row],[CMS]]","v":""},{"$f":"IF(COUNTIF(AR$2:AR416,AR416)=1,AR416,\"\")","v":""},"","","",null,{"$f":"+IF(BB416=\"\",\"\",MAX(AX$1:AX415)+1)","v":""},{"$f":"IF('Using CMS - Deviation - Limits'!B438=\"\",\"\",'Using CMS - Deviation - Limits'!B438)","v":""},{"$f":"IF('Using CMS - Deviation - Limits'!C438=\"\",\"\",'Using CMS - Deviation - Limits'!C438)","v":""},{"$f":"AY416&AZ416&Table10[[#This Row],[CMS]]","v":""},{"$f":"IF(COUNTIF(BA$2:BA416,BA416)=1,BA416,\"\")","v":""},"","",{"$f":"+IFERROR(INDEX(#REF!,MATCH(ROW()-ROW(BC$1),AX$2:AX$955,0)),\"\")","v":""}]
[{"$f":"+IF(D417=\"\",\"\",MAX(A$1:A416)+1)","v":""},{"$f":"IF('Process_&_CMS_Identification'!C439=\"\",\"\",'Process_&_CMS_Identification'!C439)","v":""},"",{"$f":"IF(COUNTIF(B$2:B417,B417)=1,B417,\"\")","v":""},{"$nulls":15},{"$f":"+IF(X417=\"\",\"\",MAX(T$1:T416)+1)","v":""},{"$f":"IF('No CMS - Deviation - Limits'!B439=\"\",\"\",'No CMS - Deviation - Limits'!B439)","v":""},{"$f":"IF('No CMS - Deviation - Limits'!C439=\"\",\"\",'No CMS - Deviation - Limits'!C439)","v":""},"",{"$f":"IF(COUNTIF(V$2:V417,V417)=1,V417,\"\")","v":""},"","",{"$f":"+IFERROR(INDEX(#REF!,MATCH(ROW()-ROW($Y$1),T$2:T$955,0)),\"\")","v":""},null,{"$f":"+IF(AG417=\"\",\"\",MAX(AC$1:AC416)+1)","v":""},{"$f":"IF('Using CMS - Deviation - Limits'!B439=\"\",\"\",'Using CMS - Deviation - Limits'!B439)","v":""},{"$f":"IF('Using CMS - Deviation - Limits'!C439=\"\",\"\",'Using CMS - Deviation - Limits'!C439)","v":""},"",{"$f":"IF(COUNTIF(AF$2:AF417,AF417)=1,AF417,\"\")","v":""},"","",{"$f":"+IFERROR(INDEX(#REF!,MATCH(ROW()-ROW(AG$1),AC$2:AC$955,0)),\"\")","v":""},{"$nulls":3},{"$f":"+IF(AS417=\"\",\"\",MAX(AN$1:AN416)+1)","v":""},{"$f":"IF('Using CMS - Inop_OoC - CMS'!B439=\"\",\"\",'Using CMS - Inop_OoC - CMS'!B439)","v":""},{"$f":"IF('Using CMS - Inop_OoC - CMS'!C439=\"\",\"\",'Using CMS - Inop_OoC - CMS'!C439)","v":""},{"$f":"IF('Using CMS - Inop_OoC - CMS'!D439=\"\",\"\",'Using CMS - Inop_OoC - CMS'!D439)","v":""},{"$f":"AO417&AP417&Table10[[#This Row],[CMS]]","v":""},{"$f":"IF(COUNTIF(AR$2:AR417,AR417)=1,AR417,\"\")","v":""},"","","",null,{"$f":"+IF(BB417=\"\",\"\",MAX(AX$1:AX416)+1)","v":""},{"$f":"IF('Using CMS - Deviation - Limits'!B439=\"\",\"\",'Using CMS - Deviation - Limits'!B439)","v":""},{"$f":"IF('Using CMS - Deviation - Limits'!C439=\"\",\"\",'Using CMS - Deviation - Limits'!C439)","v":""},{"$f":"AY417&AZ417&Table10[[#This Row],[CMS]]","v":""},{"$f":"IF(COUNTIF(BA$2:BA417,BA417)=1,BA417,\"\")","v":""},"","",{"$f":"+IFERROR(INDEX(#REF!,MATCH(ROW()-ROW(BC$1),AX$2:AX$955,0)),\"\")","v":""}]
[{"$f":"+IF(D418=\"\",\"\",MAX(A$1:A417)+1)","v":""},{"$f":"IF('Process_&_CMS_Identification'!C440=\"\",\"\",'Process_&_CMS_Identification'!C440)","v":""},"",{"$f":"IF(COUNTIF(B$2:B418,B418)=1,B418,\"\")","v":""},{"$nulls":15},{"$f":"+IF(X418=\"\",\"\",MAX(T$1:T417)+1)","v":""},{"$f":"IF('No CMS - Deviation - Limits'!B440=\"\",\"\",'No CMS - Deviation - Limits'!B440)","v":""},{"$f":"IF('No CMS - Deviation - Limits'!C440=\"\",\"\",'No CMS - Deviation - Limits'!C440)","v":""},"",{"$f":"IF(COUNTIF(V$2:V418,V418)=1,V418,\"\")","v":""},"","",{"$f":"+IFERROR(INDEX(#REF!,MATCH(ROW()-ROW($Y$1),T$2:T$955,0)),\"\")","v":""},null,{"$f":"+IF(AG418=\"\",\"\",MAX(AC$1:AC417)+1)","v":""},{"$f":"IF('Using CMS - Deviation - Limits'!B440=\"\",\"\",'Using CMS - Deviation - Limits'!B440)","v":""},{"$f":"IF('Using CMS - Deviation - Limits'!C440=\"\",\"\",'Using CMS - Deviation - Limits'!C440)","v":""},"",{"$f":"IF(COUNTIF(AF$2:AF418,AF418)=1,AF418,\"\")","v":""},"","",{"$f":"+IFERROR(INDEX(#REF!,MATCH(ROW()-ROW(AG$1),AC$2:AC$955,0)),\"\")","v":""},{"$nulls":3},{"$f":"+IF(AS418=\"\",\"\",MAX(AN$1:AN417)+1)","v":""},{"$f":"IF('Using CMS - Inop_OoC - CMS'!B440=\"\",\"\",'Using CMS - Inop_OoC - CMS'!B440)","v":""},{"$f":"IF('Using CMS - Inop_OoC - CMS'!C440=\"\",\"\",'Using CMS - Inop_OoC - CMS'!C440)","v":""},{"$f":"IF('Using CMS - Inop_OoC - CMS'!D440=\"\",\"\",'Using CMS - Inop_OoC - CMS'!D440)","v":""},{"$f":"AO418&AP418&Table10[[#This Row],[CMS]]","v":""},{"$f":"IF(COUNTIF(AR$2:AR418,AR418)=1,AR418,\"\")","v":""},"","","",null,{"$f":"+IF(BB418=\"\",\"\",MAX(AX$1:AX417)+1)","v":""},{"$f":"IF('Using CMS - Deviation - Limits'!B440=\"\",\"\",'Using CMS - Deviation - Limits'!B440)","v":""},{"$f":"IF('Using CMS - Deviation - Limits'!C440=\"\",\"\",'Using CMS - Deviation - Limits'!C440)","v":""},{"$f":"AY418&AZ418&Table10[[#This Row],[CMS]]","v":""},{"$f":"IF(COUNTIF(BA$2:BA418,BA418)=1,BA418,\"\")","v":""},"","",{"$f":"+IFERROR(INDEX(#REF!,MATCH(ROW()-ROW(BC$1),AX$2:AX$955,0)),\"\")","v":""}]
[{"$f":"+IF(D419=\"\",\"\",MAX(A$1:A418)+1)","v":""},{"$f":"IF('Process_&_CMS_Identification'!C441=\"\",\"\",'Process_&_CMS_Identification'!C441)","v":""},"",{"$f":"IF(COUNTIF(B$2:B419,B419)=1,B419,\"\")","v":""},{"$nulls":15},{"$f":"+IF(X419=\"\",\"\",MAX(T$1:T418)+1)","v":""},{"$f":"IF('No CMS - Deviation - Limits'!B441=\"\",\"\",'No CMS - Deviation - Limits'!B441)","v":""},{"$f":"IF('No CMS - Deviation - Limits'!C441=\"\",\"\",'No CMS - Deviation - Limits'!C441)","v":""},"",{"$f":"IF(COUNTIF(V$2:V419,V419)=1,V419,\"\")","v":""},"","",{"$f":"+IFERROR(INDEX(#REF!,MATCH(ROW()-ROW($Y$1),T$2:T$955,0)),\"\")","v":""},null,{"$f":"+IF(AG419=\"\",\"\",MAX(AC$1:AC418)+1)","v":""},{"$f":"IF('Using CMS - Deviation - Limits'!B441=\"\",\"\",'Using CMS - Deviation - Limits'!B441)","v":""},{"$f":"IF('Using CMS - Deviation - Limits'!C441=\"\",\"\",'Using CMS - Deviation - Limits'!C441)","v":""},"",{"$f":"IF(COUNTIF(AF$2:AF419,AF419)=1,AF419,\"\")","v":""},"","",{"$f":"+IFERROR(INDEX(#REF!,MATCH(ROW()-ROW(AG$1),AC$2:AC$955,0)),\"\")","v":""},{"$nulls":3},{"$f":"+IF(AS419=\"\",\"\",MAX(AN$1:AN418)+1)","v":""},{"$f":"IF('Using CMS - Inop_OoC - CMS'!B441=\"\",\"\",'Using CMS - Inop_OoC - CMS'!B441)","v":""},{"$f":"IF('Using CMS - Inop_OoC - CMS'!C441=\"\",\"\",'Using CMS - Inop_OoC - CMS'!C441)","v":""},{"$f":"IF('Using CMS - Inop_OoC - CMS'!D441=\"\",\"\",'Using CMS - Inop_OoC - CMS'!D441)","v":""},{"$f":"AO419&AP419&Table10[[#This Row],[CMS]]","v":""},{"$f":"IF(COUNTIF(AR$2:AR419,AR419)=1,AR419,\"\")","v":""},"","","",null,{"$f":"+IF(BB419=\"\",\"\",MAX(AX$1:AX418)+1)","v":""},{"$f":"IF('Using CMS - Deviation - Limits'!B441=\"\",\"\",'Using CMS - Deviation - Limits'!B441)","v":""},{"$f":"IF('Using CMS - Deviation - Limits'!C441=\"\",\"\",'Using CMS - Deviation - Limits'!C441)","v":""},{"$f":"AY419&AZ419&Table10[[#This Row],[CMS]]","v":""},{"$f":"IF(COUNTIF(BA$2:BA419,BA419)=1,BA419,\"\")","v":""},"","",{"$f":"+IFERROR(INDEX(#REF!,MATCH(ROW()-ROW(BC$1),AX$2:AX$955,0)),\"\")","v":""}]
[{"$f":"+IF(D420=\"\",\"\",MAX(A$1:A419)+1)","v":""},{"$f":"IF('Process_&_CMS_Identification'!C442=\"\",\"\",'Process_&_CMS_Identification'!C442)","v":""},"",{"$f":"IF(COUNTIF(B$2:B420,B420)=1,B420,\"\")","v":""},{"$nulls":15},{"$f":"+IF(X420=\"\",\"\",MAX(T$1:T419)+1)","v":""},{"$f":"IF('No CMS - Deviation - Limits'!B442=\"\",\"\",'No CMS - Deviation - Limits'!B442)","v":""},{"$f":"IF('No CMS - Deviation - Limits'!C442=\"\",\"\",'No CMS - Deviation - Limits'!C442)","v":""},"",{"$f":"IF(COUNTIF(V$2:V420,V420)=1,V420,\"\")","v":""},"","",{"$f":"+IFERROR(INDEX(#REF!,MATCH(ROW()-ROW($Y$1),T$2:T$955,0)),\"\")","v":""},null,{"$f":"+IF(AG420=\"\",\"\",MAX(AC$1:AC419)+1)","v":""},{"$f":"IF('Using CMS - Deviation - Limits'!B442=\"\",\"\",'Using CMS - Deviation - Limits'!B442)","v":""},{"$f":"IF('Using CMS - Deviation - Limits'!C442=\"\",\"\",'Using CMS - Deviation - Limits'!C442)","v":""},"",{"$f":"IF(COUNTIF(AF$2:AF420,AF420)=1,AF420,\"\")","v":""},"","",{"$f":"+IFERROR(INDEX(#REF!,MATCH(ROW()-ROW(AG$1),AC$2:AC$955,0)),\"\")","v":""},{"$nulls":3},{"$f":"+IF(AS420=\"\",\"\",MAX(AN$1:AN419)+1)","v":""},{"$f":"IF('Using CMS - Inop_OoC - CMS'!B442=\"\",\"\",'Using CMS - Inop_OoC - CMS'!B442)","v":""},{"$f":"IF('Using CMS - Inop_OoC - CMS'!C442=\"\",\"\",'Using CMS - Inop_OoC - CMS'!C442)","v":""},{"$f":"IF('Using CMS - Inop_OoC - CMS'!D442=\"\",\"\",'Using CMS - Inop_OoC - CMS'!D442)","v":""},{"$f":"AO420&AP420&Table10[[#This Row],[CMS]]","v":""},{"$f":"IF(COUNTIF(AR$2:AR420,AR420)=1,AR420,\"\")","v":""},"","","",null,{"$f":"+IF(BB420=\"\",\"\",MAX(AX$1:AX419)+1)","v":""},{"$f":"IF('Using CMS - Deviation - Limits'!B442=\"\",\"\",'Using CMS - Deviation - Limits'!B442)","v":""},{"$f":"IF('Using CMS - Deviation - Limits'!C442=\"\",\"\",'Using CMS - Deviation - Limits'!C442)","v":""},{"$f":"AY420&AZ420&Table10[[#This Row],[CMS]]","v":""},{"$f":"IF(COUNTIF(BA$2:BA420,BA420)=1,BA420,\"\")","v":""},"","",{"$f":"+IFERROR(INDEX(#REF!,MATCH(ROW()-ROW(BC$1),AX$2:AX$955,0)),\"\")","v":""}]
[{"$f":"+IF(D421=\"\",\"\",MAX(A$1:A420)+1)","v":""},{"$f":"IF('Process_&_CMS_Identification'!C443=\"\",\"\",'Process_&_CMS_Identification'!C443)","v":""},"",{"$f":"IF(COUNTIF(B$2:B421,B421)=1,B421,\"\")","v":""},{"$nulls":15},{"$f":"+IF(X421=\"\",\"\",MAX(T$1:T420)+1)","v":""},{"$f":"IF('No CMS - Deviation - Limits'!B443=\"\",\"\",'No CMS - Deviation - Limits'!B443)","v":""},{"$f":"IF('No CMS - Deviation - Limits'!C443=\"\",\"\",'No CMS - Deviation - Limits'!C443)","v":""},"",{"$f":"IF(COUNTIF(V$2:V421,V421)=1,V421,\"\")","v":""},"","",{"$f":"+IFERROR(INDEX(#REF!,MATCH(ROW()-ROW($Y$1),T$2:T$955,0)),\"\")","v":""},null,{"$f":"+IF(AG421=\"\",\"\",MAX(AC$1:AC420)+1)","v":""},{"$f":"IF('Using CMS - Deviation - Limits'!B443=\"\",\"\",'Using CMS - Deviation - Limits'!B443)","v":""},{"$f":"IF('Using CMS - Deviation - Limits'!C443=\"\",\"\",'Using CMS - Deviation - Limits'!C443)","v":""},"",{"$f":"IF(COUNTIF(AF$2:AF421,AF421)=1,AF421,\"\")","v":""},"","",{"$f":"+IFERROR(INDEX(#REF!,MATCH(ROW()-ROW(AG$1),AC$2:AC$955,0)),\"\")","v":""},{"$nulls":3},{"$f":"+IF(AS421=\"\",\"\",MAX(AN$1:AN420)+1)","v":""},{"$f":"IF('Using CMS - Inop_OoC - CMS'!B443=\"\",\"\",'Using CMS - Inop_OoC - CMS'!B443)","v":""},{"$f":"IF('Using CMS - Inop_OoC - CMS'!C443=\"\",\"\",'Using CMS - Inop_OoC - CMS'!C443)","v":""},{"$f":"IF('Using CMS - Inop_OoC - CMS'!D443=\"\",\"\",'Using CMS - Inop_OoC - CMS'!D443)","v":""},{"$f":"AO421&AP421&Table10[[#This Row],[CMS]]","v":""},{"$f":"IF(COUNTIF(AR$2:AR421,AR421)=1,AR421,\"\")","v":""},"","","",null,{"$f":"+IF(BB421=\"\",\"\",MAX(AX$1:AX420)+1)","v":""},{"$f":"IF('Using CMS - Deviation - Limits'!B443=\"\",\"\",'Using CMS - Deviation - Limits'!B443)","v":""},{"$f":"IF('Using CMS - Deviation - Limits'!C443=\"\",\"\",'Using CMS - Deviation - Limits'!C443)","v":""},{"$f":"AY421&AZ421&Table10[[#This Row],[CMS]]","v":""},{"$f":"IF(COUNTIF(BA$2:BA421,BA421)=1,BA421,\"\")","v":""},"","",{"$f":"+IFERROR(INDEX(#REF!,MATCH(ROW()-ROW(BC$1),AX$2:AX$955,0)),\"\")","v":""}]
[{"$f":"+IF(D422=\"\",\"\",MAX(A$1:A421)+1)","v":""},{"$f":"IF('Process_&_CMS_Identification'!C444=\"\",\"\",'Process_&_CMS_Identification'!C444)","v":""},"",{"$f":"IF(COUNTIF(B$2:B422,B422)=1,B422,\"\")","v":""},{"$nulls":15},{"$f":"+IF(X422=\"\",\"\",MAX(T$1:T421)+1)","v":""},{"$f":"IF('No CMS - Deviation - Limits'!B444=\"\",\"\",'No CMS - Deviation - Limits'!B444)","v":""},{"$f":"IF('No CMS - Deviation - Limits'!C444=\"\",\"\",'No CMS - Deviation - Limits'!C444)","v":""},"",{"$f":"IF(COUNTIF(V$2:V422,V422)=1,V422,\"\")","v":""},"","",{"$f":"+IFERROR(INDEX(#REF!,MATCH(ROW()-ROW($Y$1),T$2:T$955,0)),\"\")","v":""},null,{"$f":"+IF(AG422=\"\",\"\",MAX(AC$1:AC421)+1)","v":""},{"$f":"IF('Using CMS - Deviation - Limits'!B444=\"\",\"\",'Using CMS - Deviation - Limits'!B444)","v":""},{"$f":"IF('Using CMS - Deviation - Limits'!C444=\"\",\"\",'Using CMS - Deviation - Limits'!C444)","v":""},"",{"$f":"IF(COUNTIF(AF$2:AF422,AF422)=1,AF422,\"\")","v":""},"","",{"$f":"+IFERROR(INDEX(#REF!,MATCH(ROW()-ROW(AG$1),AC$2:AC$955,0)),\"\")","v":""},{"$nulls":3},{"$f":"+IF(AS422=\"\",\"\",MAX(AN$1:AN421)+1)","v":""},{"$f":"IF('Using CMS - Inop_OoC - CMS'!B444=\"\",\"\",'Using CMS - Inop_OoC - CMS'!B444)","v":""},{"$f":"IF('Using CMS - Inop_OoC - CMS'!C444=\"\",\"\",'Using CMS - Inop_OoC - CMS'!C444)","v":""},{"$f":"IF('Using CMS - Inop_OoC - CMS'!D444=\"\",\"\",'Using CMS - Inop_OoC - CMS'!D444)","v":""},{"$f":"AO422&AP422&Table10[[#This Row],[CMS]]","v":""},{"$f":"IF(COUNTIF(AR$2:AR422,AR422)=1,AR422,\"\")","v":""},"","","",null,{"$f":"+IF(BB422=\"\",\"\",MAX(AX$1:AX421)+1)","v":""},{"$f":"IF('Using CMS - Deviation - Limits'!B444=\"\",\"\",'Using CMS - Deviation - Limits'!B444)","v":""},{"$f":"IF('Using CMS - Deviation - Limits'!C444=\"\",\"\",'Using CMS - Deviation - Limits'!C444)","v":""},{"$f":"AY422&AZ422&Table10[[#This Row],[CMS]]","v":""},{"$f":"IF(COUNTIF(BA$2:BA422,BA422)=1,BA422,\"\")","v":""},"","",{"$f":"+IFERROR(INDEX(#REF!,MATCH(ROW()-ROW(BC$1),AX$2:AX$955,0)),\"\")","v":""}]
[{"$f":"+IF(D423=\"\",\"\",MAX(A$1:A422)+1)","v":""},{"$f":"IF('Process_&_CMS_Identification'!C445=\"\",\"\",'Process_&_CMS_Identification'!C445)","v":""},"",{"$f":"IF(COUNTIF(B$2:B423,B423)=1,B423,\"\")","v":""},{"$nulls":15},{"$f":"+IF(X423=\"\",\"\",MAX(T$1:T422)+1)","v":""},{"$f":"IF('No CMS - Deviation - Limits'!B445=\"\",\"\",'No CMS - Deviation - Limits'!B445)","v":""},{"$f":"IF('No CMS - Deviation - Limits'!C445=\"\",\"\",'No CMS - Deviation - Limits'!C445)","v":""},"",{"$f":"IF(COUNTIF(V$2:V423,V423)=1,V423,\"\")","v":""},"","",{"$f":"+IFERROR(INDEX(#REF!,MATCH(ROW()-ROW($Y$1),T$2:T$955,0)),\"\")","v":""},null,{"$f":"+IF(AG423=\"\",\"\",MAX(AC$1:AC422)+1)","v":""},{"$f":"IF('Using CMS - Deviation - Limits'!B445=\"\",\"\",'Using CMS - Deviation - Limits'!B445)","v":""},{"$f":"IF('Using CMS - Deviation - Limits'!C445=\"\",\"\",'Using CMS - Deviation - Limits'!C445)","v":""},"",{"$f":"IF(COUNTIF(AF$2:AF423,AF423)=1,AF423,\"\")","v":""},"","",{"$f":"+IFERROR(INDEX(#REF!,MATCH(ROW()-ROW(AG$1),AC$2:AC$955,0)),\"\")","v":""},{"$nulls":3},{"$f":"+IF(AS423=\"\",\"\",MAX(AN$1:AN422)+1)","v":""},{"$f":"IF('Using CMS - Inop_OoC - CMS'!B445=\"\",\"\",'Using CMS - Inop_OoC - CMS'!B445)","v":""},{"$f":"IF('Using CMS - Inop_OoC - CMS'!C445=\"\",\"\",'Using CMS - Inop_OoC - CMS'!C445)","v":""},{"$f":"IF('Using CMS - Inop_OoC - CMS'!D445=\"\",\"\",'Using CMS - Inop_OoC - CMS'!D445)","v":""},{"$f":"AO423&AP423&Table10[[#This Row],[CMS]]","v":""},{"$f":"IF(COUNTIF(AR$2:AR423,AR423)=1,AR423,\"\")","v":""},"","","",null,{"$f":"+IF(BB423=\"\",\"\",MAX(AX$1:AX422)+1)","v":""},{"$f":"IF('Using CMS - Deviation - Limits'!B445=\"\",\"\",'Using CMS - Deviation - Limits'!B445)","v":""},{"$f":"IF('Using CMS - Deviation - Limits'!C445=\"\",\"\",'Using CMS - Deviation - Limits'!C445)","v":""},{"$f":"AY423&AZ423&Table10[[#This Row],[CMS]]","v":""},{"$f":"IF(COUNTIF(BA$2:BA423,BA423)=1,BA423,\"\")","v":""},"","",{"$f":"+IFERROR(INDEX(#REF!,MATCH(ROW()-ROW(BC$1),AX$2:AX$955,0)),\"\")","v":""}]
[{"$f":"+IF(D424=\"\",\"\",MAX(A$1:A423)+1)","v":""},{"$f":"IF('Process_&_CMS_Identification'!C446=\"\",\"\",'Process_&_CMS_Identification'!C446)","v":""},"",{"$f":"IF(COUNTIF(B$2:B424,B424)=1,B424,\"\")","v":""},{"$nulls":15},{"$f":"+IF(X424=\"\",\"\",MAX(T$1:T423)+1)","v":""},{"$f":"IF('No CMS - Deviation - Limits'!B446=\"\",\"\",'No CMS - Deviation - Limits'!B446)","v":""},{"$f":"IF('No CMS - Deviation - Limits'!C446=\"\",\"\",'No CMS - Deviation - Limits'!C446)","v":""},"",{"$f":"IF(COUNTIF(V$2:V424,V424)=1,V424,\"\")","v":""},"","",{"$f":"+IFERROR(INDEX(#REF!,MATCH(ROW()-ROW($Y$1),T$2:T$955,0)),\"\")","v":""},null,{"$f":"+IF(AG424=\"\",\"\",MAX(AC$1:AC423)+1)","v":""},{"$f":"IF('Using CMS - Deviation - Limits'!B446=\"\",\"\",'Using CMS - Deviation - Limits'!B446)","v":""},{"$f":"IF('Using CMS - Deviation - Limits'!C446=\"\",\"\",'Using CMS - Deviation - Limits'!C446)","v":""},"",{"$f":"IF(COUNTIF(AF$2:AF424,AF424)=1,AF424,\"\")","v":""},"","",{"$f":"+IFERROR(INDEX(#REF!,MATCH(ROW()-ROW(AG$1),AC$2:AC$955,0)),\"\")","v":""},{"$nulls":3},{"$f":"+IF(AS424=\"\",\"\",MAX(AN$1:AN423)+1)","v":""},{"$f":"IF('Using CMS - Inop_OoC - CMS'!B446=\"\",\"\",'Using CMS - Inop_OoC - CMS'!B446)","v":""},{"$f":"IF('Using CMS - Inop_OoC - CMS'!C446=\"\",\"\",'Using CMS - Inop_OoC - CMS'!C446)","v":""},{"$f":"IF('Using CMS - Inop_OoC - CMS'!D446=\"\",\"\",'Using CMS - Inop_OoC - CMS'!D446)","v":""},{"$f":"AO424&AP424&Table10[[#This Row],[CMS]]","v":""},{"$f":"IF(COUNTIF(AR$2:AR424,AR424)=1,AR424,\"\")","v":""},"","","",null,{"$f":"+IF(BB424=\"\",\"\",MAX(AX$1:AX423)+1)","v":""},{"$f":"IF('Using CMS - Deviation - Limits'!B446=\"\",\"\",'Using CMS - Deviation - Limits'!B446)","v":""},{"$f":"IF('Using CMS - Deviation - Limits'!C446=\"\",\"\",'Using CMS - Deviation - Limits'!C446)","v":""},{"$f":"AY424&AZ424&Table10[[#This Row],[CMS]]","v":""},{"$f":"IF(COUNTIF(BA$2:BA424,BA424)=1,BA424,\"\")","v":""},"","",{"$f":"+IFERROR(INDEX(#REF!,MATCH(ROW()-ROW(BC$1),AX$2:AX$955,0)),\"\")","v":""}]
[{"$f":"+IF(D425=\"\",\"\",MAX(A$1:A424)+1)","v":""},{"$f":"IF('Process_&_CMS_Identification'!C447=\"\",\"\",'Process_&_CMS_Identification'!C447)","v":""},"",{"$f":"IF(COUNTIF(B$2:B425,B425)=1,B425,\"\")","v":""},{"$nulls":15},{"$f":"+IF(X425=\"\",\"\",MAX(T$1:T424)+1)","v":""},{"$f":"IF('No CMS - Deviation - Limits'!B447=\"\",\"\",'No CMS - Deviation - Limits'!B447)","v":""},{"$f":"IF('No CMS - Deviation - Limits'!C447=\"\",\"\",'No CMS - Deviation - Limits'!C447)","v":""},"",{"$f":"IF(COUNTIF(V$2:V425,V425)=1,V425,\"\")","v":""},"","",{"$f":"+IFERROR(INDEX(#REF!,MATCH(ROW()-ROW($Y$1),T$2:T$955,0)),\"\")","v":""},null,{"$f":"+IF(AG425=\"\",\"\",MAX(AC$1:AC424)+1)","v":""},{"$f":"IF('Using CMS - Deviation - Limits'!B447=\"\",\"\",'Using CMS - Deviation - Limits'!B447)","v":""},{"$f":"IF('Using CMS - Deviation - Limits'!C447=\"\",\"\",'Using CMS - Deviation - Limits'!C447)","v":""},"",{"$f":"IF(COUNTIF(AF$2:AF425,AF425)=1,AF425,\"\")","v":""},"","",{"$f":"+IFERROR(INDEX(#REF!,MATCH(ROW()-ROW(AG$1),AC$2:AC$955,0)),\"\")","v":""},{"$nulls":3},{"$f":"+IF(AS425=\"\",\"\",MAX(AN$1:AN424)+1)","v":""},{"$f":"IF('Using CMS - Inop_OoC - CMS'!B447=\"\",\"\",'Using CMS - Inop_OoC - CMS'!B447)","v":""},{"$f":"IF('Using CMS - Inop_OoC - CMS'!C447=\"\",\"\",'Using CMS - Inop_OoC - CMS'!C447)","v":""},{"$f":"IF('Using CMS - Inop_OoC - CMS'!D447=\"\",\"\",'Using CMS - Inop_OoC - CMS'!D447)","v":""},{"$f":"AO425&AP425&Table10[[#This Row],[CMS]]","v":""},{"$f":"IF(COUNTIF(AR$2:AR425,AR425)=1,AR425,\"\")","v":""},"","","",null,{"$f":"+IF(BB425=\"\",\"\",MAX(AX$1:AX424)+1)","v":""},{"$f":"IF('Using CMS - Deviation - Limits'!B447=\"\",\"\",'Using CMS - Deviation - Limits'!B447)","v":""},{"$f":"IF('Using CMS - Deviation - Limits'!C447=\"\",\"\",'Using CMS - Deviation - Limits'!C447)","v":""},{"$f":"AY425&AZ425&Table10[[#This Row],[CMS]]","v":""},{"$f":"IF(COUNTIF(BA$2:BA425,BA425)=1,BA425,\"\")","v":""},"","",{"$f":"+IFERROR(INDEX(#REF!,MATCH(ROW()-ROW(BC$1),AX$2:AX$955,0)),\"\")","v":""}]
[{"$f":"+IF(D426=\"\",\"\",MAX(A$1:A425)+1)","v":""},{"$f":"IF('Process_&_CMS_Identification'!C448=\"\",\"\",'Process_&_CMS_Identification'!C448)","v":""},"",{"$f":"IF(COUNTIF(B$2:B426,B426)=1,B426,\"\")","v":""},{"$nulls":15},{"$f":"+IF(X426=\"\",\"\",MAX(T$1:T425)+1)","v":""},{"$f":"IF('No CMS - Deviation - Limits'!B448=\"\",\"\",'No CMS - Deviation - Limits'!B448)","v":""},{"$f":"IF('No CMS - Deviation - Limits'!C448=\"\",\"\",'No CMS - Deviation - Limits'!C448)","v":""},"",{"$f":"IF(COUNTIF(V$2:V426,V426)=1,V426,\"\")","v":""},"","",{"$f":"+IFERROR(INDEX(#REF!,MATCH(ROW()-ROW($Y$1),T$2:T$955,0)),\"\")","v":""},null,{"$f":"+IF(AG426=\"\",\"\",MAX(AC$1:AC425)+1)","v":""},{"$f":"IF('Using CMS - Deviation - Limits'!B448=\"\",\"\",'Using CMS - Deviation - Limits'!B448)","v":""},{"$f":"IF('Using CMS - Deviation - Limits'!C448=\"\",\"\",'Using CMS - Deviation - Limits'!C448)","v":""},"",{"$f":"IF(COUNTIF(AF$2:AF426,AF426)=1,AF426,\"\")","v":""},"","",{"$f":"+IFERROR(INDEX(#REF!,MATCH(ROW()-ROW(AG$1),AC$2:AC$955,0)),\"\")","v":""},{"$nulls":3},{"$f":"+IF(AS426=\"\",\"\",MAX(AN$1:AN425)+1)","v":""},{"$f":"IF('Using CMS - Inop_OoC - CMS'!B448=\"\",\"\",'Using CMS - Inop_OoC - CMS'!B448)","v":""},{"$f":"IF('Using CMS - Inop_OoC - CMS'!C448=\"\",\"\",'Using CMS - Inop_OoC - CMS'!C448)","v":""},{"$f":"IF('Using CMS - Inop_OoC - CMS'!D448=\"\",\"\",'Using CMS - Inop_OoC - CMS'!D448)","v":""},{"$f":"AO426&AP426&Table10[[#This Row],[CMS]]","v":""},{"$f":"IF(COUNTIF(AR$2:AR426,AR426)=1,AR426,\"\")","v":""},"","","",null,{"$f":"+IF(BB426=\"\",\"\",MAX(AX$1:AX425)+1)","v":""},{"$f":"IF('Using CMS - Deviation - Limits'!B448=\"\",\"\",'Using CMS - Deviation - Limits'!B448)","v":""},{"$f":"IF('Using CMS - Deviation - Limits'!C448=\"\",\"\",'Using CMS - Deviation - Limits'!C448)","v":""},{"$f":"AY426&AZ426&Table10[[#This Row],[CMS]]","v":""},{"$f":"IF(COUNTIF(BA$2:BA426,BA426)=1,BA426,\"\")","v":""},"","",{"$f":"+IFERROR(INDEX(#REF!,MATCH(ROW()-ROW(BC$1),AX$2:AX$955,0)),\"\")","v":""}]
[{"$f":"+IF(D427=\"\",\"\",MAX(A$1:A426)+1)","v":""},{"$f":"IF('Process_&_CMS_Identification'!C449=\"\",\"\",'Process_&_CMS_Identification'!C449)","v":""},"",{"$f":"IF(COUNTIF(B$2:B427,B427)=1,B427,\"\")","v":""},{"$nulls":15},{"$f":"+IF(X427=\"\",\"\",MAX(T$1:T426)+1)","v":""},{"$f":"IF('No CMS - Deviation - Limits'!B449=\"\",\"\",'No CMS - Deviation - Limits'!B449)","v":""},{"$f":"IF('No CMS - Deviation - Limits'!C449=\"\",\"\",'No CMS - Deviation - Limits'!C449)","v":""},"",{"$f":"IF(COUNTIF(V$2:V427,V427)=1,V427,\"\")","v":""},"","",{"$f":"+IFERROR(INDEX(#REF!,MATCH(ROW()-ROW($Y$1),T$2:T$955,0)),\"\")","v":""},null,{"$f":"+IF(AG427=\"\",\"\",MAX(AC$1:AC426)+1)","v":""},{"$f":"IF('Using CMS - Deviation - Limits'!B449=\"\",\"\",'Using CMS - Deviation - Limits'!B449)","v":""},{"$f":"IF('Using CMS - Deviation - Limits'!C449=\"\",\"\",'Using CMS - Deviation - Limits'!C449)","v":""},"",{"$f":"IF(COUNTIF(AF$2:AF427,AF427)=1,AF427,\"\")","v":""},"","",{"$f":"+IFERROR(INDEX(#REF!,MATCH(ROW()-ROW(AG$1),AC$2:AC$955,0)),\"\")","v":""},{"$nulls":3},{"$f":"+IF(AS427=\"\",\"\",MAX(AN$1:AN426)+1)","v":""},{"$f":"IF('Using CMS - Inop_OoC - CMS'!B449=\"\",\"\",'Using CMS - Inop_OoC - CMS'!B449)","v":""},{"$f":"IF('Using CMS - Inop_OoC - CMS'!C449=\"\",\"\",'Using CMS - Inop_OoC - CMS'!C449)","v":""},{"$f":"IF('Using CMS - Inop_OoC - CMS'!D449=\"\",\"\",'Using CMS - Inop_OoC - CMS'!D449)","v":""},{"$f":"AO427&AP427&Table10[[#This Row],[CMS]]","v":""},{"$f":"IF(COUNTIF(AR$2:AR427,AR427)=1,AR427,\"\")","v":""},"","","",null,{"$f":"+IF(BB427=\"\",\"\",MAX(AX$1:AX426)+1)","v":""},{"$f":"IF('Using CMS - Deviation - Limits'!B449=\"\",\"\",'Using CMS - Deviation - Limits'!B449)","v":""},{"$f":"IF('Using CMS - Deviation - Limits'!C449=\"\",\"\",'Using CMS - Deviation - Limits'!C449)","v":""},{"$f":"AY427&AZ427&Table10[[#This Row],[CMS]]","v":""},{"$f":"IF(COUNTIF(BA$2:BA427,BA427)=1,BA427,\"\")","v":""},"","",{"$f":"+IFERROR(INDEX(#REF!,MATCH(ROW()-ROW(BC$1),AX$2:AX$955,0)),\"\")","v":""}]
[{"$f":"+IF(D428=\"\",\"\",MAX(A$1:A427)+1)","v":""},{"$f":"IF('Process_&_CMS_Identification'!C450=\"\",\"\",'Process_&_CMS_Identification'!C450)","v":""},"",{"$f":"IF(COUNTIF(B$2:B428,B428)=1,B428,\"\")","v":""},{"$nulls":15},{"$f":"+IF(X428=\"\",\"\",MAX(T$1:T427)+1)","v":""},{"$f":"IF('No CMS - Deviation - Limits'!B450=\"\",\"\",'No CMS - Deviation - Limits'!B450)","v":""},{"$f":"IF('No CMS - Deviation - Limits'!C450=\"\",\"\",'No CMS - Deviation - Limits'!C450)","v":""},"",{"$f":"IF(COUNTIF(V$2:V428,V428)=1,V428,\"\")","v":""},"","",{"$f":"+IFERROR(INDEX(#REF!,MATCH(ROW()-ROW($Y$1),T$2:T$955,0)),\"\")","v":""},null,{"$f":"+IF(AG428=\"\",\"\",MAX(AC$1:AC427)+1)","v":""},{"$f":"IF('Using CMS - Deviation - Limits'!B450=\"\",\"\",'Using CMS - Deviation - Limits'!B450)","v":""},{"$f":"IF('Using CMS - Deviation - Limits'!C450=\"\",\"\",'Using CMS - Deviation - Limits'!C450)","v":""},"",{"$f":"IF(COUNTIF(AF$2:AF428,AF428)=1,AF428,\"\")","v":""},"","",{"$f":"+IFERROR(INDEX(#REF!,MATCH(ROW()-ROW(AG$1),AC$2:AC$955,0)),\"\")","v":""},{"$nulls":3},{"$f":"+IF(AS428=\"\",\"\",MAX(AN$1:AN427)+1)","v":""},{"$f":"IF('Using CMS - Inop_OoC - CMS'!B450=\"\",\"\",'Using CMS - Inop_OoC - CMS'!B450)","v":""},{"$f":"IF('Using CMS - Inop_OoC - CMS'!C450=\"\",\"\",'Using CMS - Inop_OoC - CMS'!C450)","v":""},{"$f":"IF('Using CMS - Inop_OoC - CMS'!D450=\"\",\"\",'Using CMS - Inop_OoC - CMS'!D450)","v":""},{"$f":"AO428&AP428&Table10[[#This Row],[CMS]]","v":""},{"$f":"IF(COUNTIF(AR$2:AR428,AR428)=1,AR428,\"\")","v":""},"","","",null,{"$f":"+IF(BB428=\"\",\"\",MAX(AX$1:AX427)+1)","v":""},{"$f":"IF('Using CMS - Deviation - Limits'!B450=\"\",\"\",'Using CMS - Deviation - Limits'!B450)","v":""},{"$f":"IF('Using CMS - Deviation - Limits'!C450=\"\",\"\",'Using CMS - Deviation - Limits'!C450)","v":""},{"$f":"AY428&AZ428&Table10[[#This Row],[CMS]]","v":""},{"$f":"IF(COUNTIF(BA$2:BA428,BA428)=1,BA428,\"\")","v":""},"","",{"$f":"+IFERROR(INDEX(#REF!,MATCH(ROW()-ROW(BC$1),AX$2:AX$955,0)),\"\")","v":""}]
[{"$f":"+IF(D429=\"\",\"\",MAX(A$1:A428)+1)","v":""},{"$f":"IF('Process_&_CMS_Identification'!C451=\"\",\"\",'Process_&_CMS_Identification'!C451)","v":""},"",{"$f":"IF(COUNTIF(B$2:B429,B429)=1,B429,\"\")","v":""},{"$nulls":15},{"$f":"+IF(X429=\"\",\"\",MAX(T$1:T428)+1)","v":""},{"$f":"IF('No CMS - Deviation - Limits'!B451=\"\",\"\",'No CMS - Deviation - Limits'!B451)","v":""},{"$f":"IF('No CMS - Deviation - Limits'!C451=\"\",\"\",'No CMS - Deviation - Limits'!C451)","v":""},"",{"$f":"IF(COUNTIF(V$2:V429,V429)=1,V429,\"\")","v":""},"","",{"$f":"+IFERROR(INDEX(#REF!,MATCH(ROW()-ROW($Y$1),T$2:T$955,0)),\"\")","v":""},null,{"$f":"+IF(AG429=\"\",\"\",MAX(AC$1:AC428)+1)","v":""},{"$f":"IF('Using CMS - Deviation - Limits'!B451=\"\",\"\",'Using CMS - Deviation - Limits'!B451)","v":""},{"$f":"IF('Using CMS - Deviation - Limits'!C451=\"\",\"\",'Using CMS - Deviation - Limits'!C451)","v":""},"",{"$f":"IF(COUNTIF(AF$2:AF429,AF429)=1,AF429,\"\")","v":""},"","",{"$f":"+IFERROR(INDEX(#REF!,MATCH(ROW()-ROW(AG$1),AC$2:AC$955,0)),\"\")","v":""},{"$nulls":3},{"$f":"+IF(AS429=\"\",\"\",MAX(AN$1:AN428)+1)","v":""},{"$f":"IF('Using CMS - Inop_OoC - CMS'!B451=\"\",\"\",'Using CMS - Inop_OoC - CMS'!B451)","v":""},{"$f":"IF('Using CMS - Inop_OoC - CMS'!C451=\"\",\"\",'Using CMS - Inop_OoC - CMS'!C451)","v":""},{"$f":"IF('Using CMS - Inop_OoC - CMS'!D451=\"\",\"\",'Using CMS - Inop_OoC - CMS'!D451)","v":""},{"$f":"AO429&AP429&Table10[[#This Row],[CMS]]","v":""},{"$f":"IF(COUNTIF(AR$2:AR429,AR429)=1,AR429,\"\")","v":""},"","","",null,{"$f":"+IF(BB429=\"\",\"\",MAX(AX$1:AX428)+1)","v":""},{"$f":"IF('Using CMS - Deviation - Limits'!B451=\"\",\"\",'Using CMS - Deviation - Limits'!B451)","v":""},{"$f":"IF('Using CMS - Deviation - Limits'!C451=\"\",\"\",'Using CMS - Deviation - Limits'!C451)","v":""},{"$f":"AY429&AZ429&Table10[[#This Row],[CMS]]","v":""},{"$f":"IF(COUNTIF(BA$2:BA429,BA429)=1,BA429,\"\")","v":""},"","",{"$f":"+IFERROR(INDEX(#REF!,MATCH(ROW()-ROW(BC$1),AX$2:AX$955,0)),\"\")","v":""}]
[{"$f":"+IF(D430=\"\",\"\",MAX(A$1:A429)+1)","v":""},{"$f":"IF('Process_&_CMS_Identification'!C452=\"\",\"\",'Process_&_CMS_Identification'!C452)","v":""},"",{"$f":"IF(COUNTIF(B$2:B430,B430)=1,B430,\"\")","v":""},{"$nulls":15},{"$f":"+IF(X430=\"\",\"\",MAX(T$1:T429)+1)","v":""},{"$f":"IF('No CMS - Deviation - Limits'!B452=\"\",\"\",'No CMS - Deviation - Limits'!B452)","v":""},{"$f":"IF('No CMS - Deviation - Limits'!C452=\"\",\"\",'No CMS - Deviation - Limits'!C452)","v":""},"",{"$f":"IF(COUNTIF(V$2:V430,V430)=1,V430,\"\")","v":""},"","",{"$f":"+IFERROR(INDEX(#REF!,MATCH(ROW()-ROW($Y$1),T$2:T$955,0)),\"\")","v":""},null,{"$f":"+IF(AG430=\"\",\"\",MAX(AC$1:AC429)+1)","v":""},{"$f":"IF('Using CMS - Deviation - Limits'!B452=\"\",\"\",'Using CMS - Deviation - Limits'!B452)","v":""},{"$f":"IF('Using CMS - Deviation - Limits'!C452=\"\",\"\",'Using CMS - Deviation - Limits'!C452)","v":""},"",{"$f":"IF(COUNTIF(AF$2:AF430,AF430)=1,AF430,\"\")","v":""},"","",{"$f":"+IFERROR(INDEX(#REF!,MATCH(ROW()-ROW(AG$1),AC$2:AC$955,0)),\"\")","v":""},{"$nulls":3},{"$f":"+IF(AS430=\"\",\"\",MAX(AN$1:AN429)+1)","v":""},{"$f":"IF('Using CMS - Inop_OoC - CMS'!B452=\"\",\"\",'Using CMS - Inop_OoC - CMS'!B452)","v":""},{"$f":"IF('Using CMS - Inop_OoC - CMS'!C452=\"\",\"\",'Using CMS - Inop_OoC - CMS'!C452)","v":""},{"$f":"IF('Using CMS - Inop_OoC - CMS'!D452=\"\",\"\",'Using CMS - Inop_OoC - CMS'!D452)","v":""},{"$f":"AO430&AP430&Table10[[#This Row],[CMS]]","v":""},{"$f":"IF(COUNTIF(AR$2:AR430,AR430)=1,AR430,\"\")","v":""},"","","",null,{"$f":"+IF(BB430=\"\",\"\",MAX(AX$1:AX429)+1)","v":""},{"$f":"IF('Using CMS - Deviation - Limits'!B452=\"\",\"\",'Using CMS - Deviation - Limits'!B452)","v":""},{"$f":"IF('Using CMS - Deviation - Limits'!C452=\"\",\"\",'Using CMS - Deviation - Limits'!C452)","v":""},{"$f":"AY430&AZ430&Table10[[#This Row],[CMS]]","v":""},{"$f":"IF(COUNTIF(BA$2:BA430,BA430)=1,BA430,\"\")","v":""},"","",{"$f":"+IFERROR(INDEX(#REF!,MATCH(ROW()-ROW(BC$1),AX$2:AX$955,0)),\"\")","v":""}]
[{"$f":"+IF(D431=\"\",\"\",MAX(A$1:A430)+1)","v":""},{"$f":"IF('Process_&_CMS_Identification'!C453=\"\",\"\",'Process_&_CMS_Identification'!C453)","v":""},"",{"$f":"IF(COUNTIF(B$2:B431,B431)=1,B431,\"\")","v":""},{"$nulls":15},{"$f":"+IF(X431=\"\",\"\",MAX(T$1:T430)+1)","v":""},{"$f":"IF('No CMS - Deviation - Limits'!B453=\"\",\"\",'No CMS - Deviation - Limits'!B453)","v":""},{"$f":"IF('No CMS - Deviation - Limits'!C453=\"\",\"\",'No CMS - Deviation - Limits'!C453)","v":""},"",{"$f":"IF(COUNTIF(V$2:V431,V431)=1,V431,\"\")","v":""},"","",{"$f":"+IFERROR(INDEX(#REF!,MATCH(ROW()-ROW($Y$1),T$2:T$955,0)),\"\")","v":""},null,{"$f":"+IF(AG431=\"\",\"\",MAX(AC$1:AC430)+1)","v":""},{"$f":"IF('Using CMS - Deviation - Limits'!B453=\"\",\"\",'Using CMS - Deviation - Limits'!B453)","v":""},{"$f":"IF('Using CMS - Deviation - Limits'!C453=\"\",\"\",'Using CMS - Deviation - Limits'!C453)","v":""},"",{"$f":"IF(COUNTIF(AF$2:AF431,AF431)=1,AF431,\"\")","v":""},"","",{"$f":"+IFERROR(INDEX(#REF!,MATCH(ROW()-ROW(AG$1),AC$2:AC$955,0)),\"\")","v":""},{"$nulls":3},{"$f":"+IF(AS431=\"\",\"\",MAX(AN$1:AN430)+1)","v":""},{"$f":"IF('Using CMS - Inop_OoC - CMS'!B453=\"\",\"\",'Using CMS - Inop_OoC - CMS'!B453)","v":""},{"$f":"IF('Using CMS - Inop_OoC - CMS'!C453=\"\",\"\",'Using CMS - Inop_OoC - CMS'!C453)","v":""},{"$f":"IF('Using CMS - Inop_OoC - CMS'!D453=\"\",\"\",'Using CMS - Inop_OoC - CMS'!D453)","v":""},{"$f":"AO431&AP431&Table10[[#This Row],[CMS]]","v":""},{"$f":"IF(COUNTIF(AR$2:AR431,AR431)=1,AR431,\"\")","v":""},"","","",null,{"$f":"+IF(BB431=\"\",\"\",MAX(AX$1:AX430)+1)","v":""},{"$f":"IF('Using CMS - Deviation - Limits'!B453=\"\",\"\",'Using CMS - Deviation - Limits'!B453)","v":""},{"$f":"IF('Using CMS - Deviation - Limits'!C453=\"\",\"\",'Using CMS - Deviation - Limits'!C453)","v":""},{"$f":"AY431&AZ431&Table10[[#This Row],[CMS]]","v":""},{"$f":"IF(COUNTIF(BA$2:BA431,BA431)=1,BA431,\"\")","v":""},"","",{"$f":"+IFERROR(INDEX(#REF!,MATCH(ROW()-ROW(BC$1),AX$2:AX$955,0)),\"\")","v":""}]
[{"$f":"+IF(D432=\"\",\"\",MAX(A$1:A431)+1)","v":""},{"$f":"IF('Process_&_CMS_Identification'!C454=\"\",\"\",'Process_&_CMS_Identification'!C454)","v":""},"",{"$f":"IF(COUNTIF(B$2:B432,B432)=1,B432,\"\")","v":""},{"$nulls":15},{"$f":"+IF(X432=\"\",\"\",MAX(T$1:T431)+1)","v":""},{"$f":"IF('No CMS - Deviation - Limits'!B454=\"\",\"\",'No CMS - Deviation - Limits'!B454)","v":""},{"$f":"IF('No CMS - Deviation - Limits'!C454=\"\",\"\",'No CMS - Deviation - Limits'!C454)","v":""},"",{"$f":"IF(COUNTIF(V$2:V432,V432)=1,V432,\"\")","v":""},"","",{"$f":"+IFERROR(INDEX(#REF!,MATCH(ROW()-ROW($Y$1),T$2:T$955,0)),\"\")","v":""},null,{"$f":"+IF(AG432=\"\",\"\",MAX(AC$1:AC431)+1)","v":""},{"$f":"IF('Using CMS - Deviation - Limits'!B454=\"\",\"\",'Using CMS - Deviation - Limits'!B454)","v":""},{"$f":"IF('Using CMS - Deviation - Limits'!C454=\"\",\"\",'Using CMS - Deviation - Limits'!C454)","v":""},"",{"$f":"IF(COUNTIF(AF$2:AF432,AF432)=1,AF432,\"\")","v":""},"","",{"$f":"+IFERROR(INDEX(#REF!,MATCH(ROW()-ROW(AG$1),AC$2:AC$955,0)),\"\")","v":""},{"$nulls":3},{"$f":"+IF(AS432=\"\",\"\",MAX(AN$1:AN431)+1)","v":""},{"$f":"IF('Using CMS - Inop_OoC - CMS'!B454=\"\",\"\",'Using CMS - Inop_OoC - CMS'!B454)","v":""},{"$f":"IF('Using CMS - Inop_OoC - CMS'!C454=\"\",\"\",'Using CMS - Inop_OoC - CMS'!C454)","v":""},{"$f":"IF('Using CMS - Inop_OoC - CMS'!D454=\"\",\"\",'Using CMS - Inop_OoC - CMS'!D454)","v":""},{"$f":"AO432&AP432&Table10[[#This Row],[CMS]]","v":""},{"$f":"IF(COUNTIF(AR$2:AR432,AR432)=1,AR432,\"\")","v":""},"","","",null,{"$f":"+IF(BB432=\"\",\"\",MAX(AX$1:AX431)+1)","v":""},{"$f":"IF('Using CMS - Deviation - Limits'!B454=\"\",\"\",'Using CMS - Deviation - Limits'!B454)","v":""},{"$f":"IF('Using CMS - Deviation - Limits'!C454=\"\",\"\",'Using CMS - Deviation - Limits'!C454)","v":""},{"$f":"AY432&AZ432&Table10[[#This Row],[CMS]]","v":""},{"$f":"IF(COUNTIF(BA$2:BA432,BA432)=1,BA432,\"\")","v":""},"","",{"$f":"+IFERROR(INDEX(#REF!,MATCH(ROW()-ROW(BC$1),AX$2:AX$955,0)),\"\")","v":""}]
[{"$f":"+IF(D433=\"\",\"\",MAX(A$1:A432)+1)","v":""},{"$f":"IF('Process_&_CMS_Identification'!C455=\"\",\"\",'Process_&_CMS_Identification'!C455)","v":""},"",{"$f":"IF(COUNTIF(B$2:B433,B433)=1,B433,\"\")","v":""},{"$nulls":15},{"$f":"+IF(X433=\"\",\"\",MAX(T$1:T432)+1)","v":""},{"$f":"IF('No CMS - Deviation - Limits'!B455=\"\",\"\",'No CMS - Deviation - Limits'!B455)","v":""},{"$f":"IF('No CMS - Deviation - Limits'!C455=\"\",\"\",'No CMS - Deviation - Limits'!C455)","v":""},"",{"$f":"IF(COUNTIF(V$2:V433,V433)=1,V433,\"\")","v":""},"","",{"$f":"+IFERROR(INDEX(#REF!,MATCH(ROW()-ROW($Y$1),T$2:T$955,0)),\"\")","v":""},null,{"$f":"+IF(AG433=\"\",\"\",MAX(AC$1:AC432)+1)","v":""},{"$f":"IF('Using CMS - Deviation - Limits'!B455=\"\",\"\",'Using CMS - Deviation - Limits'!B455)","v":""},{"$f":"IF('Using CMS - Deviation - Limits'!C455=\"\",\"\",'Using CMS - Deviation - Limits'!C455)","v":""},"",{"$f":"IF(COUNTIF(AF$2:AF433,AF433)=1,AF433,\"\")","v":""},"","",{"$f":"+IFERROR(INDEX(#REF!,MATCH(ROW()-ROW(AG$1),AC$2:AC$955,0)),\"\")","v":""},{"$nulls":3},{"$f":"+IF(AS433=\"\",\"\",MAX(AN$1:AN432)+1)","v":""},{"$f":"IF('Using CMS - Inop_OoC - CMS'!B455=\"\",\"\",'Using CMS - Inop_OoC - CMS'!B455)","v":""},{"$f":"IF('Using CMS - Inop_OoC - CMS'!C455=\"\",\"\",'Using CMS - Inop_OoC - CMS'!C455)","v":""},{"$f":"IF('Using CMS - Inop_OoC - CMS'!D455=\"\",\"\",'Using CMS - Inop_OoC - CMS'!D455)","v":""},{"$f":"AO433&AP433&Table10[[#This Row],[CMS]]","v":""},{"$f":"IF(COUNTIF(AR$2:AR433,AR433)=1,AR433,\"\")","v":""},"","","",null,{"$f":"+IF(BB433=\"\",\"\",MAX(AX$1:AX432)+1)","v":""},{"$f":"IF('Using CMS - Deviation - Limits'!B455=\"\",\"\",'Using CMS - Deviation - Limits'!B455)","v":""},{"$f":"IF('Using CMS - Deviation - Limits'!C455=\"\",\"\",'Using CMS - Deviation - Limits'!C455)","v":""},{"$f":"AY433&AZ433&Table10[[#This Row],[CMS]]","v":""},{"$f":"IF(COUNTIF(BA$2:BA433,BA433)=1,BA433,\"\")","v":""},"","",{"$f":"+IFERROR(INDEX(#REF!,MATCH(ROW()-ROW(BC$1),AX$2:AX$955,0)),\"\")","v":""}]
[{"$f":"+IF(D434=\"\",\"\",MAX(A$1:A433)+1)","v":""},{"$f":"IF('Process_&_CMS_Identification'!C456=\"\",\"\",'Process_&_CMS_Identification'!C456)","v":""},"",{"$f":"IF(COUNTIF(B$2:B434,B434)=1,B434,\"\")","v":""},{"$nulls":15},{"$f":"+IF(X434=\"\",\"\",MAX(T$1:T433)+1)","v":""},{"$f":"IF('No CMS - Deviation - Limits'!B456=\"\",\"\",'No CMS - Deviation - Limits'!B456)","v":""},{"$f":"IF('No CMS - Deviation - Limits'!C456=\"\",\"\",'No CMS - Deviation - Limits'!C456)","v":""},"",{"$f":"IF(COUNTIF(V$2:V434,V434)=1,V434,\"\")","v":""},"","",{"$f":"+IFERROR(INDEX(#REF!,MATCH(ROW()-ROW($Y$1),T$2:T$955,0)),\"\")","v":""},null,{"$f":"+IF(AG434=\"\",\"\",MAX(AC$1:AC433)+1)","v":""},{"$f":"IF('Using CMS - Deviation - Limits'!B456=\"\",\"\",'Using CMS - Deviation - Limits'!B456)","v":""},{"$f":"IF('Using CMS - Deviation - Limits'!C456=\"\",\"\",'Using CMS - Deviation - Limits'!C456)","v":""},"",{"$f":"IF(COUNTIF(AF$2:AF434,AF434)=1,AF434,\"\")","v":""},"","",{"$f":"+IFERROR(INDEX(#REF!,MATCH(ROW()-ROW(AG$1),AC$2:AC$955,0)),\"\")","v":""},{"$nulls":3},{"$f":"+IF(AS434=\"\",\"\",MAX(AN$1:AN433)+1)","v":""},{"$f":"IF('Using CMS - Inop_OoC - CMS'!B456=\"\",\"\",'Using CMS - Inop_OoC - CMS'!B456)","v":""},{"$f":"IF('Using CMS - Inop_OoC - CMS'!C456=\"\",\"\",'Using CMS - Inop_OoC - CMS'!C456)","v":""},{"$f":"IF('Using CMS - Inop_OoC - CMS'!D456=\"\",\"\",'Using CMS - Inop_OoC - CMS'!D456)","v":""},{"$f":"AO434&AP434&Table10[[#This Row],[CMS]]","v":""},{"$f":"IF(COUNTIF(AR$2:AR434,AR434)=1,AR434,\"\")","v":""},"","","",null,{"$f":"+IF(BB434=\"\",\"\",MAX(AX$1:AX433)+1)","v":""},{"$f":"IF('Using CMS - Deviation - Limits'!B456=\"\",\"\",'Using CMS - Deviation - Limits'!B456)","v":""},{"$f":"IF('Using CMS - Deviation - Limits'!C456=\"\",\"\",'Using CMS - Deviation - Limits'!C456)","v":""},{"$f":"AY434&AZ434&Table10[[#This Row],[CMS]]","v":""},{"$f":"IF(COUNTIF(BA$2:BA434,BA434)=1,BA434,\"\")","v":""},"","",{"$f":"+IFERROR(INDEX(#REF!,MATCH(ROW()-ROW(BC$1),AX$2:AX$955,0)),\"\")","v":""}]
[{"$f":"+IF(D435=\"\",\"\",MAX(A$1:A434)+1)","v":""},{"$f":"IF('Process_&_CMS_Identification'!C457=\"\",\"\",'Process_&_CMS_Identification'!C457)","v":""},"",{"$f":"IF(COUNTIF(B$2:B435,B435)=1,B435,\"\")","v":""},{"$nulls":15},{"$f":"+IF(X435=\"\",\"\",MAX(T$1:T434)+1)","v":""},{"$f":"IF('No CMS - Deviation - Limits'!B457=\"\",\"\",'No CMS - Deviation - Limits'!B457)","v":""},{"$f":"IF('No CMS - Deviation - Limits'!C457=\"\",\"\",'No CMS - Deviation - Limits'!C457)","v":""},"",{"$f":"IF(COUNTIF(V$2:V435,V435)=1,V435,\"\")","v":""},"","",{"$f":"+IFERROR(INDEX(#REF!,MATCH(ROW()-ROW($Y$1),T$2:T$955,0)),\"\")","v":""},null,{"$f":"+IF(AG435=\"\",\"\",MAX(AC$1:AC434)+1)","v":""},{"$f":"IF('Using CMS - Deviation - Limits'!B457=\"\",\"\",'Using CMS - Deviation - Limits'!B457)","v":""},{"$f":"IF('Using CMS - Deviation - Limits'!C457=\"\",\"\",'Using CMS - Deviation - Limits'!C457)","v":""},"",{"$f":"IF(COUNTIF(AF$2:AF435,AF435)=1,AF435,\"\")","v":""},"","",{"$f":"+IFERROR(INDEX(#REF!,MATCH(ROW()-ROW(AG$1),AC$2:AC$955,0)),\"\")","v":""},{"$nulls":3},{"$f":"+IF(AS435=\"\",\"\",MAX(AN$1:AN434)+1)","v":""},{"$f":"IF('Using CMS - Inop_OoC - CMS'!B457=\"\",\"\",'Using CMS - Inop_OoC - CMS'!B457)","v":""},{"$f":"IF('Using CMS - Inop_OoC - CMS'!C457=\"\",\"\",'Using CMS - Inop_OoC - CMS'!C457)","v":""},{"$f":"IF('Using CMS - Inop_OoC - CMS'!D457=\"\",\"\",'Using CMS - Inop_OoC - CMS'!D457)","v":""},{"$f":"AO435&AP435&Table10[[#This Row],[CMS]]","v":""},{"$f":"IF(COUNTIF(AR$2:AR435,AR435)=1,AR435,\"\")","v":""},"","","",null,{"$f":"+IF(BB435=\"\",\"\",MAX(AX$1:AX434)+1)","v":""},{"$f":"IF('Using CMS - Deviation - Limits'!B457=\"\",\"\",'Using CMS - Deviation - Limits'!B457)","v":""},{"$f":"IF('Using CMS - Deviation - Limits'!C457=\"\",\"\",'Using CMS - Deviation - Limits'!C457)","v":""},{"$f":"AY435&AZ435&Table10[[#This Row],[CMS]]","v":""},{"$f":"IF(COUNTIF(BA$2:BA435,BA435)=1,BA435,\"\")","v":""},"","",{"$f":"+IFERROR(INDEX(#REF!,MATCH(ROW()-ROW(BC$1),AX$2:AX$955,0)),\"\")","v":""}]
[{"$f":"+IF(D436=\"\",\"\",MAX(A$1:A435)+1)","v":""},{"$f":"IF('Process_&_CMS_Identification'!C458=\"\",\"\",'Process_&_CMS_Identification'!C458)","v":""},"",{"$f":"IF(COUNTIF(B$2:B436,B436)=1,B436,\"\")","v":""},{"$nulls":15},{"$f":"+IF(X436=\"\",\"\",MAX(T$1:T435)+1)","v":""},{"$f":"IF('No CMS - Deviation - Limits'!B458=\"\",\"\",'No CMS - Deviation - Limits'!B458)","v":""},{"$f":"IF('No CMS - Deviation - Limits'!C458=\"\",\"\",'No CMS - Deviation - Limits'!C458)","v":""},"",{"$f":"IF(COUNTIF(V$2:V436,V436)=1,V436,\"\")","v":""},"","",{"$f":"+IFERROR(INDEX(#REF!,MATCH(ROW()-ROW($Y$1),T$2:T$955,0)),\"\")","v":""},null,{"$f":"+IF(AG436=\"\",\"\",MAX(AC$1:AC435)+1)","v":""},{"$f":"IF('Using CMS - Deviation - Limits'!B458=\"\",\"\",'Using CMS - Deviation - Limits'!B458)","v":""},{"$f":"IF('Using CMS - Deviation - Limits'!C458=\"\",\"\",'Using CMS - Deviation - Limits'!C458)","v":""},"",{"$f":"IF(COUNTIF(AF$2:AF436,AF436)=1,AF436,\"\")","v":""},"","",{"$f":"+IFERROR(INDEX(#REF!,MATCH(ROW()-ROW(AG$1),AC$2:AC$955,0)),\"\")","v":""},{"$nulls":3},{"$f":"+IF(AS436=\"\",\"\",MAX(AN$1:AN435)+1)","v":""},{"$f":"IF('Using CMS - Inop_OoC - CMS'!B458=\"\",\"\",'Using CMS - Inop_OoC - CMS'!B458)","v":""},{"$f":"IF('Using CMS - Inop_OoC - CMS'!C458=\"\",\"\",'Using CMS - Inop_OoC - CMS'!C458)","v":""},{"$f":"IF('Using CMS - Inop_OoC - CMS'!D458=\"\",\"\",'Using CMS - Inop_OoC - CMS'!D458)","v":""},{"$f":"AO436&AP436&Table10[[#This Row],[CMS]]","v":""},{"$f":"IF(COUNTIF(AR$2:AR436,AR436)=1,AR436,\"\")","v":""},"","","",null,{"$f":"+IF(BB436=\"\",\"\",MAX(AX$1:AX435)+1)","v":""},{"$f":"IF('Using CMS - Deviation - Limits'!B458=\"\",\"\",'Using CMS - Deviation - Limits'!B458)","v":""},{"$f":"IF('Using CMS - Deviation - Limits'!C458=\"\",\"\",'Using CMS - Deviation - Limits'!C458)","v":""},{"$f":"AY436&AZ436&Table10[[#This Row],[CMS]]","v":""},{"$f":"IF(COUNTIF(BA$2:BA436,BA436)=1,BA436,\"\")","v":""},"","",{"$f":"+IFERROR(INDEX(#REF!,MATCH(ROW()-ROW(BC$1),AX$2:AX$955,0)),\"\")","v":""}]
[{"$f":"+IF(D437=\"\",\"\",MAX(A$1:A436)+1)","v":""},{"$f":"IF('Process_&_CMS_Identification'!C459=\"\",\"\",'Process_&_CMS_Identification'!C459)","v":""},"",{"$f":"IF(COUNTIF(B$2:B437,B437)=1,B437,\"\")","v":""},{"$nulls":15},{"$f":"+IF(X437=\"\",\"\",MAX(T$1:T436)+1)","v":""},{"$f":"IF('No CMS - Deviation - Limits'!B459=\"\",\"\",'No CMS - Deviation - Limits'!B459)","v":""},{"$f":"IF('No CMS - Deviation - Limits'!C459=\"\",\"\",'No CMS - Deviation - Limits'!C459)","v":""},"",{"$f":"IF(COUNTIF(V$2:V437,V437)=1,V437,\"\")","v":""},"","",{"$f":"+IFERROR(INDEX(#REF!,MATCH(ROW()-ROW($Y$1),T$2:T$955,0)),\"\")","v":""},null,{"$f":"+IF(AG437=\"\",\"\",MAX(AC$1:AC436)+1)","v":""},{"$f":"IF('Using CMS - Deviation - Limits'!B459=\"\",\"\",'Using CMS - Deviation - Limits'!B459)","v":""},{"$f":"IF('Using CMS - Deviation - Limits'!C459=\"\",\"\",'Using CMS - Deviation - Limits'!C459)","v":""},"",{"$f":"IF(COUNTIF(AF$2:AF437,AF437)=1,AF437,\"\")","v":""},"","",{"$f":"+IFERROR(INDEX(#REF!,MATCH(ROW()-ROW(AG$1),AC$2:AC$955,0)),\"\")","v":""},{"$nulls":3},{"$f":"+IF(AS437=\"\",\"\",MAX(AN$1:AN436)+1)","v":""},{"$f":"IF('Using CMS - Inop_OoC - CMS'!B459=\"\",\"\",'Using CMS - Inop_OoC - CMS'!B459)","v":""},{"$f":"IF('Using CMS - Inop_OoC - CMS'!C459=\"\",\"\",'Using CMS - Inop_OoC - CMS'!C459)","v":""},{"$f":"IF('Using CMS - Inop_OoC - CMS'!D459=\"\",\"\",'Using CMS - Inop_OoC - CMS'!D459)","v":""},{"$f":"AO437&AP437&Table10[[#This Row],[CMS]]","v":""},{"$f":"IF(COUNTIF(AR$2:AR437,AR437)=1,AR437,\"\")","v":""},"","","",null,{"$f":"+IF(BB437=\"\",\"\",MAX(AX$1:AX436)+1)","v":""},{"$f":"IF('Using CMS - Deviation - Limits'!B459=\"\",\"\",'Using CMS - Deviation - Limits'!B459)","v":""},{"$f":"IF('Using CMS - Deviation - Limits'!C459=\"\",\"\",'Using CMS - Deviation - Limits'!C459)","v":""},{"$f":"AY437&AZ437&Table10[[#This Row],[CMS]]","v":""},{"$f":"IF(COUNTIF(BA$2:BA437,BA437)=1,BA437,\"\")","v":""},"","",{"$f":"+IFERROR(INDEX(#REF!,MATCH(ROW()-ROW(BC$1),AX$2:AX$955,0)),\"\")","v":""}]
[{"$f":"+IF(D438=\"\",\"\",MAX(A$1:A437)+1)","v":""},{"$f":"IF('Process_&_CMS_Identification'!C460=\"\",\"\",'Process_&_CMS_Identification'!C460)","v":""},"",{"$f":"IF(COUNTIF(B$2:B438,B438)=1,B438,\"\")","v":""},{"$nulls":15},{"$f":"+IF(X438=\"\",\"\",MAX(T$1:T437)+1)","v":""},{"$f":"IF('No CMS - Deviation - Limits'!B460=\"\",\"\",'No CMS - Deviation - Limits'!B460)","v":""},{"$f":"IF('No CMS - Deviation - Limits'!C460=\"\",\"\",'No CMS - Deviation - Limits'!C460)","v":""},"",{"$f":"IF(COUNTIF(V$2:V438,V438)=1,V438,\"\")","v":""},"","",{"$f":"+IFERROR(INDEX(#REF!,MATCH(ROW()-ROW($Y$1),T$2:T$955,0)),\"\")","v":""},null,{"$f":"+IF(AG438=\"\",\"\",MAX(AC$1:AC437)+1)","v":""},{"$f":"IF('Using CMS - Deviation - Limits'!B460=\"\",\"\",'Using CMS - Deviation - Limits'!B460)","v":""},{"$f":"IF('Using CMS - Deviation - Limits'!C460=\"\",\"\",'Using CMS - Deviation - Limits'!C460)","v":""},"",{"$f":"IF(COUNTIF(AF$2:AF438,AF438)=1,AF438,\"\")","v":""},"","",{"$f":"+IFERROR(INDEX(#REF!,MATCH(ROW()-ROW(AG$1),AC$2:AC$955,0)),\"\")","v":""},{"$nulls":3},{"$f":"+IF(AS438=\"\",\"\",MAX(AN$1:AN437)+1)","v":""},{"$f":"IF('Using CMS - Inop_OoC - CMS'!B460=\"\",\"\",'Using CMS - Inop_OoC - CMS'!B460)","v":""},{"$f":"IF('Using CMS - Inop_OoC - CMS'!C460=\"\",\"\",'Using CMS - Inop_OoC - CMS'!C460)","v":""},{"$f":"IF('Using CMS - Inop_OoC - CMS'!D460=\"\",\"\",'Using CMS - Inop_OoC - CMS'!D460)","v":""},{"$f":"AO438&AP438&Table10[[#This Row],[CMS]]","v":""},{"$f":"IF(COUNTIF(AR$2:AR438,AR438)=1,AR438,\"\")","v":""},"","","",null,{"$f":"+IF(BB438=\"\",\"\",MAX(AX$1:AX437)+1)","v":""},{"$f":"IF('Using CMS - Deviation - Limits'!B460=\"\",\"\",'Using CMS - Deviation - Limits'!B460)","v":""},{"$f":"IF('Using CMS - Deviation - Limits'!C460=\"\",\"\",'Using CMS - Deviation - Limits'!C460)","v":""},{"$f":"AY438&AZ438&Table10[[#This Row],[CMS]]","v":""},{"$f":"IF(COUNTIF(BA$2:BA438,BA438)=1,BA438,\"\")","v":""},"","",{"$f":"+IFERROR(INDEX(#REF!,MATCH(ROW()-ROW(BC$1),AX$2:AX$955,0)),\"\")","v":""}]
[{"$f":"+IF(D439=\"\",\"\",MAX(A$1:A438)+1)","v":""},{"$f":"IF('Process_&_CMS_Identification'!C461=\"\",\"\",'Process_&_CMS_Identification'!C461)","v":""},"",{"$f":"IF(COUNTIF(B$2:B439,B439)=1,B439,\"\")","v":""},{"$nulls":15},{"$f":"+IF(X439=\"\",\"\",MAX(T$1:T438)+1)","v":""},{"$f":"IF('No CMS - Deviation - Limits'!B461=\"\",\"\",'No CMS - Deviation - Limits'!B461)","v":""},{"$f":"IF('No CMS - Deviation - Limits'!C461=\"\",\"\",'No CMS - Deviation - Limits'!C461)","v":""},"",{"$f":"IF(COUNTIF(V$2:V439,V439)=1,V439,\"\")","v":""},"","",{"$f":"+IFERROR(INDEX(#REF!,MATCH(ROW()-ROW($Y$1),T$2:T$955,0)),\"\")","v":""},null,{"$f":"+IF(AG439=\"\",\"\",MAX(AC$1:AC438)+1)","v":""},{"$f":"IF('Using CMS - Deviation - Limits'!B461=\"\",\"\",'Using CMS - Deviation - Limits'!B461)","v":""},{"$f":"IF('Using CMS - Deviation - Limits'!C461=\"\",\"\",'Using CMS - Deviation - Limits'!C461)","v":""},"",{"$f":"IF(COUNTIF(AF$2:AF439,AF439)=1,AF439,\"\")","v":""},"","",{"$f":"+IFERROR(INDEX(#REF!,MATCH(ROW()-ROW(AG$1),AC$2:AC$955,0)),\"\")","v":""},{"$nulls":3},{"$f":"+IF(AS439=\"\",\"\",MAX(AN$1:AN438)+1)","v":""},{"$f":"IF('Using CMS - Inop_OoC - CMS'!B461=\"\",\"\",'Using CMS - Inop_OoC - CMS'!B461)","v":""},{"$f":"IF('Using CMS - Inop_OoC - CMS'!C461=\"\",\"\",'Using CMS - Inop_OoC - CMS'!C461)","v":""},{"$f":"IF('Using CMS - Inop_OoC - CMS'!D461=\"\",\"\",'Using CMS - Inop_OoC - CMS'!D461)","v":""},{"$f":"AO439&AP439&Table10[[#This Row],[CMS]]","v":""},{"$f":"IF(COUNTIF(AR$2:AR439,AR439)=1,AR439,\"\")","v":""},"","","",null,{"$f":"+IF(BB439=\"\",\"\",MAX(AX$1:AX438)+1)","v":""},{"$f":"IF('Using CMS - Deviation - Limits'!B461=\"\",\"\",'Using CMS - Deviation - Limits'!B461)","v":""},{"$f":"IF('Using CMS - Deviation - Limits'!C461=\"\",\"\",'Using CMS - Deviation - Limits'!C461)","v":""},{"$f":"AY439&AZ439&Table10[[#This Row],[CMS]]","v":""},{"$f":"IF(COUNTIF(BA$2:BA439,BA439)=1,BA439,\"\")","v":""},"","",{"$f":"+IFERROR(INDEX(#REF!,MATCH(ROW()-ROW(BC$1),AX$2:AX$955,0)),\"\")","v":""}]
[{"$f":"+IF(D440=\"\",\"\",MAX(A$1:A439)+1)","v":""},{"$f":"IF('Process_&_CMS_Identification'!C462=\"\",\"\",'Process_&_CMS_Identification'!C462)","v":""},"",{"$f":"IF(COUNTIF(B$2:B440,B440)=1,B440,\"\")","v":""},{"$nulls":15},{"$f":"+IF(X440=\"\",\"\",MAX(T$1:T439)+1)","v":""},{"$f":"IF('No CMS - Deviation - Limits'!B462=\"\",\"\",'No CMS - Deviation - Limits'!B462)","v":""},{"$f":"IF('No CMS - Deviation - Limits'!C462=\"\",\"\",'No CMS - Deviation - Limits'!C462)","v":""},"",{"$f":"IF(COUNTIF(V$2:V440,V440)=1,V440,\"\")","v":""},"","",{"$f":"+IFERROR(INDEX(#REF!,MATCH(ROW()-ROW($Y$1),T$2:T$955,0)),\"\")","v":""},null,{"$f":"+IF(AG440=\"\",\"\",MAX(AC$1:AC439)+1)","v":""},{"$f":"IF('Using CMS - Deviation - Limits'!B462=\"\",\"\",'Using CMS - Deviation - Limits'!B462)","v":""},{"$f":"IF('Using CMS - Deviation - Limits'!C462=\"\",\"\",'Using CMS - Deviation - Limits'!C462)","v":""},"",{"$f":"IF(COUNTIF(AF$2:AF440,AF440)=1,AF440,\"\")","v":""},"","",{"$f":"+IFERROR(INDEX(#REF!,MATCH(ROW()-ROW(AG$1),AC$2:AC$955,0)),\"\")","v":""},{"$nulls":3},{"$f":"+IF(AS440=\"\",\"\",MAX(AN$1:AN439)+1)","v":""},{"$f":"IF('Using CMS - Inop_OoC - CMS'!B462=\"\",\"\",'Using CMS - Inop_OoC - CMS'!B462)","v":""},{"$f":"IF('Using CMS - Inop_OoC - CMS'!C462=\"\",\"\",'Using CMS - Inop_OoC - CMS'!C462)","v":""},{"$f":"IF('Using CMS - Inop_OoC - CMS'!D462=\"\",\"\",'Using CMS - Inop_OoC - CMS'!D462)","v":""},{"$f":"AO440&AP440&Table10[[#This Row],[CMS]]","v":""},{"$f":"IF(COUNTIF(AR$2:AR440,AR440)=1,AR440,\"\")","v":""},"","","",null,{"$f":"+IF(BB440=\"\",\"\",MAX(AX$1:AX439)+1)","v":""},{"$f":"IF('Using CMS - Deviation - Limits'!B462=\"\",\"\",'Using CMS - Deviation - Limits'!B462)","v":""},{"$f":"IF('Using CMS - Deviation - Limits'!C462=\"\",\"\",'Using CMS - Deviation - Limits'!C462)","v":""},{"$f":"AY440&AZ440&Table10[[#This Row],[CMS]]","v":""},{"$f":"IF(COUNTIF(BA$2:BA440,BA440)=1,BA440,\"\")","v":""},"","",{"$f":"+IFERROR(INDEX(#REF!,MATCH(ROW()-ROW(BC$1),AX$2:AX$955,0)),\"\")","v":""}]
[{"$f":"+IF(D441=\"\",\"\",MAX(A$1:A440)+1)","v":""},{"$f":"IF('Process_&_CMS_Identification'!C463=\"\",\"\",'Process_&_CMS_Identification'!C463)","v":""},"",{"$f":"IF(COUNTIF(B$2:B441,B441)=1,B441,\"\")","v":""},{"$nulls":15},{"$f":"+IF(X441=\"\",\"\",MAX(T$1:T440)+1)","v":""},{"$f":"IF('No CMS - Deviation - Limits'!B463=\"\",\"\",'No CMS - Deviation - Limits'!B463)","v":""},{"$f":"IF('No CMS - Deviation - Limits'!C463=\"\",\"\",'No CMS - Deviation - Limits'!C463)","v":""},"",{"$f":"IF(COUNTIF(V$2:V441,V441)=1,V441,\"\")","v":""},"","",{"$f":"+IFERROR(INDEX(#REF!,MATCH(ROW()-ROW($Y$1),T$2:T$955,0)),\"\")","v":""},null,{"$f":"+IF(AG441=\"\",\"\",MAX(AC$1:AC440)+1)","v":""},{"$f":"IF('Using CMS - Deviation - Limits'!B463=\"\",\"\",'Using CMS - Deviation - Limits'!B463)","v":""},{"$f":"IF('Using CMS - Deviation - Limits'!C463=\"\",\"\",'Using CMS - Deviation - Limits'!C463)","v":""},"",{"$f":"IF(COUNTIF(AF$2:AF441,AF441)=1,AF441,\"\")","v":""},"","",{"$f":"+IFERROR(INDEX(#REF!,MATCH(ROW()-ROW(AG$1),AC$2:AC$955,0)),\"\")","v":""},{"$nulls":3},{"$f":"+IF(AS441=\"\",\"\",MAX(AN$1:AN440)+1)","v":""},{"$f":"IF('Using CMS - Inop_OoC - CMS'!B463=\"\",\"\",'Using CMS - Inop_OoC - CMS'!B463)","v":""},{"$f":"IF('Using CMS - Inop_OoC - CMS'!C463=\"\",\"\",'Using CMS - Inop_OoC - CMS'!C463)","v":""},{"$f":"IF('Using CMS - Inop_OoC - CMS'!D463=\"\",\"\",'Using CMS - Inop_OoC - CMS'!D463)","v":""},{"$f":"AO441&AP441&Table10[[#This Row],[CMS]]","v":""},{"$f":"IF(COUNTIF(AR$2:AR441,AR441)=1,AR441,\"\")","v":""},"","","",null,{"$f":"+IF(BB441=\"\",\"\",MAX(AX$1:AX440)+1)","v":""},{"$f":"IF('Using CMS - Deviation - Limits'!B463=\"\",\"\",'Using CMS - Deviation - Limits'!B463)","v":""},{"$f":"IF('Using CMS - Deviation - Limits'!C463=\"\",\"\",'Using CMS - Deviation - Limits'!C463)","v":""},{"$f":"AY441&AZ441&Table10[[#This Row],[CMS]]","v":""},{"$f":"IF(COUNTIF(BA$2:BA441,BA441)=1,BA441,\"\")","v":""},"","",{"$f":"+IFERROR(INDEX(#REF!,MATCH(ROW()-ROW(BC$1),AX$2:AX$955,0)),\"\")","v":""}]
[{"$f":"+IF(D442=\"\",\"\",MAX(A$1:A441)+1)","v":""},{"$f":"IF('Process_&_CMS_Identification'!C464=\"\",\"\",'Process_&_CMS_Identification'!C464)","v":""},"",{"$f":"IF(COUNTIF(B$2:B442,B442)=1,B442,\"\")","v":""},{"$nulls":15},{"$f":"+IF(X442=\"\",\"\",MAX(T$1:T441)+1)","v":""},{"$f":"IF('No CMS - Deviation - Limits'!B464=\"\",\"\",'No CMS - Deviation - Limits'!B464)","v":""},{"$f":"IF('No CMS - Deviation - Limits'!C464=\"\",\"\",'No CMS - Deviation - Limits'!C464)","v":""},"",{"$f":"IF(COUNTIF(V$2:V442,V442)=1,V442,\"\")","v":""},"","",{"$f":"+IFERROR(INDEX(#REF!,MATCH(ROW()-ROW($Y$1),T$2:T$955,0)),\"\")","v":""},null,{"$f":"+IF(AG442=\"\",\"\",MAX(AC$1:AC441)+1)","v":""},{"$f":"IF('Using CMS - Deviation - Limits'!B464=\"\",\"\",'Using CMS - Deviation - Limits'!B464)","v":""},{"$f":"IF('Using CMS - Deviation - Limits'!C464=\"\",\"\",'Using CMS - Deviation - Limits'!C464)","v":""},"",{"$f":"IF(COUNTIF(AF$2:AF442,AF442)=1,AF442,\"\")","v":""},"","",{"$f":"+IFERROR(INDEX(#REF!,MATCH(ROW()-ROW(AG$1),AC$2:AC$955,0)),\"\")","v":""},{"$nulls":3},{"$f":"+IF(AS442=\"\",\"\",MAX(AN$1:AN441)+1)","v":""},{"$f":"IF('Using CMS - Inop_OoC - CMS'!B464=\"\",\"\",'Using CMS - Inop_OoC - CMS'!B464)","v":""},{"$f":"IF('Using CMS - Inop_OoC - CMS'!C464=\"\",\"\",'Using CMS - Inop_OoC - CMS'!C464)","v":""},{"$f":"IF('Using CMS - Inop_OoC - CMS'!D464=\"\",\"\",'Using CMS - Inop_OoC - CMS'!D464)","v":""},{"$f":"AO442&AP442&Table10[[#This Row],[CMS]]","v":""},{"$f":"IF(COUNTIF(AR$2:AR442,AR442)=1,AR442,\"\")","v":""},"","","",null,{"$f":"+IF(BB442=\"\",\"\",MAX(AX$1:AX441)+1)","v":""},{"$f":"IF('Using CMS - Deviation - Limits'!B464=\"\",\"\",'Using CMS - Deviation - Limits'!B464)","v":""},{"$f":"IF('Using CMS - Deviation - Limits'!C464=\"\",\"\",'Using CMS - Deviation - Limits'!C464)","v":""},{"$f":"AY442&AZ442&Table10[[#This Row],[CMS]]","v":""},{"$f":"IF(COUNTIF(BA$2:BA442,BA442)=1,BA442,\"\")","v":""},"","",{"$f":"+IFERROR(INDEX(#REF!,MATCH(ROW()-ROW(BC$1),AX$2:AX$955,0)),\"\")","v":""}]
[{"$f":"+IF(D443=\"\",\"\",MAX(A$1:A442)+1)","v":""},{"$f":"IF('Process_&_CMS_Identification'!C465=\"\",\"\",'Process_&_CMS_Identification'!C465)","v":""},"",{"$f":"IF(COUNTIF(B$2:B443,B443)=1,B443,\"\")","v":""},{"$nulls":15},{"$f":"+IF(X443=\"\",\"\",MAX(T$1:T442)+1)","v":""},{"$f":"IF('No CMS - Deviation - Limits'!B465=\"\",\"\",'No CMS - Deviation - Limits'!B465)","v":""},{"$f":"IF('No CMS - Deviation - Limits'!C465=\"\",\"\",'No CMS - Deviation - Limits'!C465)","v":""},"",{"$f":"IF(COUNTIF(V$2:V443,V443)=1,V443,\"\")","v":""},"","",{"$f":"+IFERROR(INDEX(#REF!,MATCH(ROW()-ROW($Y$1),T$2:T$955,0)),\"\")","v":""},null,{"$f":"+IF(AG443=\"\",\"\",MAX(AC$1:AC442)+1)","v":""},{"$f":"IF('Using CMS - Deviation - Limits'!B465=\"\",\"\",'Using CMS - Deviation - Limits'!B465)","v":""},{"$f":"IF('Using CMS - Deviation - Limits'!C465=\"\",\"\",'Using CMS - Deviation - Limits'!C465)","v":""},"",{"$f":"IF(COUNTIF(AF$2:AF443,AF443)=1,AF443,\"\")","v":""},"","",{"$f":"+IFERROR(INDEX(#REF!,MATCH(ROW()-ROW(AG$1),AC$2:AC$955,0)),\"\")","v":""},{"$nulls":3},{"$f":"+IF(AS443=\"\",\"\",MAX(AN$1:AN442)+1)","v":""},{"$f":"IF('Using CMS - Inop_OoC - CMS'!B465=\"\",\"\",'Using CMS - Inop_OoC - CMS'!B465)","v":""},{"$f":"IF('Using CMS - Inop_OoC - CMS'!C465=\"\",\"\",'Using CMS - Inop_OoC - CMS'!C465)","v":""},{"$f":"IF('Using CMS - Inop_OoC - CMS'!D465=\"\",\"\",'Using CMS - Inop_OoC - CMS'!D465)","v":""},{"$f":"AO443&AP443&Table10[[#This Row],[CMS]]","v":""},{"$f":"IF(COUNTIF(AR$2:AR443,AR443)=1,AR443,\"\")","v":""},"","","",null,{"$f":"+IF(BB443=\"\",\"\",MAX(AX$1:AX442)+1)","v":""},{"$f":"IF('Using CMS - Deviation - Limits'!B465=\"\",\"\",'Using CMS - Deviation - Limits'!B465)","v":""},{"$f":"IF('Using CMS - Deviation - Limits'!C465=\"\",\"\",'Using CMS - Deviation - Limits'!C465)","v":""},{"$f":"AY443&AZ443&Table10[[#This Row],[CMS]]","v":""},{"$f":"IF(COUNTIF(BA$2:BA443,BA443)=1,BA443,\"\")","v":""},"","",{"$f":"+IFERROR(INDEX(#REF!,MATCH(ROW()-ROW(BC$1),AX$2:AX$955,0)),\"\")","v":""}]
[{"$f":"+IF(D444=\"\",\"\",MAX(A$1:A443)+1)","v":""},{"$f":"IF('Process_&_CMS_Identification'!C466=\"\",\"\",'Process_&_CMS_Identification'!C466)","v":""},"",{"$f":"IF(COUNTIF(B$2:B444,B444)=1,B444,\"\")","v":""},{"$nulls":15},{"$f":"+IF(X444=\"\",\"\",MAX(T$1:T443)+1)","v":""},{"$f":"IF('No CMS - Deviation - Limits'!B466=\"\",\"\",'No CMS - Deviation - Limits'!B466)","v":""},{"$f":"IF('No CMS - Deviation - Limits'!C466=\"\",\"\",'No CMS - Deviation - Limits'!C466)","v":""},"",{"$f":"IF(COUNTIF(V$2:V444,V444)=1,V444,\"\")","v":""},"","",{"$f":"+IFERROR(INDEX(#REF!,MATCH(ROW()-ROW($Y$1),T$2:T$955,0)),\"\")","v":""},null,{"$f":"+IF(AG444=\"\",\"\",MAX(AC$1:AC443)+1)","v":""},{"$f":"IF('Using CMS - Deviation - Limits'!B466=\"\",\"\",'Using CMS - Deviation - Limits'!B466)","v":""},{"$f":"IF('Using CMS - Deviation - Limits'!C466=\"\",\"\",'Using CMS - Deviation - Limits'!C466)","v":""},"",{"$f":"IF(COUNTIF(AF$2:AF444,AF444)=1,AF444,\"\")","v":""},"","",{"$f":"+IFERROR(INDEX(#REF!,MATCH(ROW()-ROW(AG$1),AC$2:AC$955,0)),\"\")","v":""},{"$nulls":3},{"$f":"+IF(AS444=\"\",\"\",MAX(AN$1:AN443)+1)","v":""},{"$f":"IF('Using CMS - Inop_OoC - CMS'!B466=\"\",\"\",'Using CMS - Inop_OoC - CMS'!B466)","v":""},{"$f":"IF('Using CMS - Inop_OoC - CMS'!C466=\"\",\"\",'Using CMS - Inop_OoC - CMS'!C466)","v":""},{"$f":"IF('Using CMS - Inop_OoC - CMS'!D466=\"\",\"\",'Using CMS - Inop_OoC - CMS'!D466)","v":""},{"$f":"AO444&AP444&Table10[[#This Row],[CMS]]","v":""},{"$f":"IF(COUNTIF(AR$2:AR444,AR444)=1,AR444,\"\")","v":""},"","","",null,{"$f":"+IF(BB444=\"\",\"\",MAX(AX$1:AX443)+1)","v":""},{"$f":"IF('Using CMS - Deviation - Limits'!B466=\"\",\"\",'Using CMS - Deviation - Limits'!B466)","v":""},{"$f":"IF('Using CMS - Deviation - Limits'!C466=\"\",\"\",'Using CMS - Deviation - Limits'!C466)","v":""},{"$f":"AY444&AZ444&Table10[[#This Row],[CMS]]","v":""},{"$f":"IF(COUNTIF(BA$2:BA444,BA444)=1,BA444,\"\")","v":""},"","",{"$f":"+IFERROR(INDEX(#REF!,MATCH(ROW()-ROW(BC$1),AX$2:AX$955,0)),\"\")","v":""}]
[{"$f":"+IF(D445=\"\",\"\",MAX(A$1:A444)+1)","v":""},{"$f":"IF('Process_&_CMS_Identification'!C467=\"\",\"\",'Process_&_CMS_Identification'!C467)","v":""},"",{"$f":"IF(COUNTIF(B$2:B445,B445)=1,B445,\"\")","v":""},{"$nulls":15},{"$f":"+IF(X445=\"\",\"\",MAX(T$1:T444)+1)","v":""},{"$f":"IF('No CMS - Deviation - Limits'!B467=\"\",\"\",'No CMS - Deviation - Limits'!B467)","v":""},{"$f":"IF('No CMS - Deviation - Limits'!C467=\"\",\"\",'No CMS - Deviation - Limits'!C467)","v":""},"",{"$f":"IF(COUNTIF(V$2:V445,V445)=1,V445,\"\")","v":""},"","",{"$f":"+IFERROR(INDEX(#REF!,MATCH(ROW()-ROW($Y$1),T$2:T$955,0)),\"\")","v":""},null,{"$f":"+IF(AG445=\"\",\"\",MAX(AC$1:AC444)+1)","v":""},{"$f":"IF('Using CMS - Deviation - Limits'!B467=\"\",\"\",'Using CMS - Deviation - Limits'!B467)","v":""},{"$f":"IF('Using CMS - Deviation - Limits'!C467=\"\",\"\",'Using CMS - Deviation - Limits'!C467)","v":""},"",{"$f":"IF(COUNTIF(AF$2:AF445,AF445)=1,AF445,\"\")","v":""},"","",{"$f":"+IFERROR(INDEX(#REF!,MATCH(ROW()-ROW(AG$1),AC$2:AC$955,0)),\"\")","v":""},{"$nulls":3},{"$f":"+IF(AS445=\"\",\"\",MAX(AN$1:AN444)+1)","v":""},{"$f":"IF('Using CMS - Inop_OoC - CMS'!B467=\"\",\"\",'Using CMS - Inop_OoC - CMS'!B467)","v":""},{"$f":"IF('Using CMS - Inop_OoC - CMS'!C467=\"\",\"\",'Using CMS - Inop_OoC - CMS'!C467)","v":""},{"$f":"IF('Using CMS - Inop_OoC - CMS'!D467=\"\",\"\",'Using CMS - Inop_OoC - CMS'!D467)","v":""},{"$f":"AO445&AP445&Table10[[#This Row],[CMS]]","v":""},{"$f":"IF(COUNTIF(AR$2:AR445,AR445)=1,AR445,\"\")","v":""},"","","",null,{"$f":"+IF(BB445=\"\",\"\",MAX(AX$1:AX444)+1)","v":""},{"$f":"IF('Using CMS - Deviation - Limits'!B467=\"\",\"\",'Using CMS - Deviation - Limits'!B467)","v":""},{"$f":"IF('Using CMS - Deviation - Limits'!C467=\"\",\"\",'Using CMS - Deviation - Limits'!C467)","v":""},{"$f":"AY445&AZ445&Table10[[#This Row],[CMS]]","v":""},{"$f":"IF(COUNTIF(BA$2:BA445,BA445)=1,BA445,\"\")","v":""},"","",{"$f":"+IFERROR(INDEX(#REF!,MATCH(ROW()-ROW(BC$1),AX$2:AX$955,0)),\"\")","v":""}]
[{"$f":"+IF(D446=\"\",\"\",MAX(A$1:A445)+1)","v":""},{"$f":"IF('Process_&_CMS_Identification'!C468=\"\",\"\",'Process_&_CMS_Identification'!C468)","v":""},"",{"$f":"IF(COUNTIF(B$2:B446,B446)=1,B446,\"\")","v":""},{"$nulls":15},{"$f":"+IF(X446=\"\",\"\",MAX(T$1:T445)+1)","v":""},{"$f":"IF('No CMS - Deviation - Limits'!B468=\"\",\"\",'No CMS - Deviation - Limits'!B468)","v":""},{"$f":"IF('No CMS - Deviation - Limits'!C468=\"\",\"\",'No CMS - Deviation - Limits'!C468)","v":""},"",{"$f":"IF(COUNTIF(V$2:V446,V446)=1,V446,\"\")","v":""},"","",{"$f":"+IFERROR(INDEX(#REF!,MATCH(ROW()-ROW($Y$1),T$2:T$955,0)),\"\")","v":""},null,{"$f":"+IF(AG446=\"\",\"\",MAX(AC$1:AC445)+1)","v":""},{"$f":"IF('Using CMS - Deviation - Limits'!B468=\"\",\"\",'Using CMS - Deviation - Limits'!B468)","v":""},{"$f":"IF('Using CMS - Deviation - Limits'!C468=\"\",\"\",'Using CMS - Deviation - Limits'!C468)","v":""},"",{"$f":"IF(COUNTIF(AF$2:AF446,AF446)=1,AF446,\"\")","v":""},"","",{"$f":"+IFERROR(INDEX(#REF!,MATCH(ROW()-ROW(AG$1),AC$2:AC$955,0)),\"\")","v":""},{"$nulls":3},{"$f":"+IF(AS446=\"\",\"\",MAX(AN$1:AN445)+1)","v":""},{"$f":"IF('Using CMS - Inop_OoC - CMS'!B468=\"\",\"\",'Using CMS - Inop_OoC - CMS'!B468)","v":""},{"$f":"IF('Using CMS - Inop_OoC - CMS'!C468=\"\",\"\",'Using CMS - Inop_OoC - CMS'!C468)","v":""},{"$f":"IF('Using CMS - Inop_OoC - CMS'!D468=\"\",\"\",'Using CMS - Inop_OoC - CMS'!D468)","v":""},{"$f":"AO446&AP446&Table10[[#This Row],[CMS]]","v":""},{"$f":"IF(COUNTIF(AR$2:AR446,AR446)=1,AR446,\"\")","v":""},"","","",null,{"$f":"+IF(BB446=\"\",\"\",MAX(AX$1:AX445)+1)","v":""},{"$f":"IF('Using CMS - Deviation - Limits'!B468=\"\",\"\",'Using CMS - Deviation - Limits'!B468)","v":""},{"$f":"IF('Using CMS - Deviation - Limits'!C468=\"\",\"\",'Using CMS - Deviation - Limits'!C468)","v":""},{"$f":"AY446&AZ446&Table10[[#This Row],[CMS]]","v":""},{"$f":"IF(COUNTIF(BA$2:BA446,BA446)=1,BA446,\"\")","v":""},"","",{"$f":"+IFERROR(INDEX(#REF!,MATCH(ROW()-ROW(BC$1),AX$2:AX$955,0)),\"\")","v":""}]
[{"$f":"+IF(D447=\"\",\"\",MAX(A$1:A446)+1)","v":""},{"$f":"IF('Process_&_CMS_Identification'!C469=\"\",\"\",'Process_&_CMS_Identification'!C469)","v":""},"",{"$f":"IF(COUNTIF(B$2:B447,B447)=1,B447,\"\")","v":""},{"$nulls":15},{"$f":"+IF(X447=\"\",\"\",MAX(T$1:T446)+1)","v":""},{"$f":"IF('No CMS - Deviation - Limits'!B469=\"\",\"\",'No CMS - Deviation - Limits'!B469)","v":""},{"$f":"IF('No CMS - Deviation - Limits'!C469=\"\",\"\",'No CMS - Deviation - Limits'!C469)","v":""},"",{"$f":"IF(COUNTIF(V$2:V447,V447)=1,V447,\"\")","v":""},"","",{"$f":"+IFERROR(INDEX(#REF!,MATCH(ROW()-ROW($Y$1),T$2:T$955,0)),\"\")","v":""},null,{"$f":"+IF(AG447=\"\",\"\",MAX(AC$1:AC446)+1)","v":""},{"$f":"IF('Using CMS - Deviation - Limits'!B469=\"\",\"\",'Using CMS - Deviation - Limits'!B469)","v":""},{"$f":"IF('Using CMS - Deviation - Limits'!C469=\"\",\"\",'Using CMS - Deviation - Limits'!C469)","v":""},"",{"$f":"IF(COUNTIF(AF$2:AF447,AF447)=1,AF447,\"\")","v":""},"","",{"$f":"+IFERROR(INDEX(#REF!,MATCH(ROW()-ROW(AG$1),AC$2:AC$955,0)),\"\")","v":""},{"$nulls":3},{"$f":"+IF(AS447=\"\",\"\",MAX(AN$1:AN446)+1)","v":""},{"$f":"IF('Using CMS - Inop_OoC - CMS'!B469=\"\",\"\",'Using CMS - Inop_OoC - CMS'!B469)","v":""},{"$f":"IF('Using CMS - Inop_OoC - CMS'!C469=\"\",\"\",'Using CMS - Inop_OoC - CMS'!C469)","v":""},{"$f":"IF('Using CMS - Inop_OoC - CMS'!D469=\"\",\"\",'Using CMS - Inop_OoC - CMS'!D469)","v":""},{"$f":"AO447&AP447&Table10[[#This Row],[CMS]]","v":""},{"$f":"IF(COUNTIF(AR$2:AR447,AR447)=1,AR447,\"\")","v":""},"","","",null,{"$f":"+IF(BB447=\"\",\"\",MAX(AX$1:AX446)+1)","v":""},{"$f":"IF('Using CMS - Deviation - Limits'!B469=\"\",\"\",'Using CMS - Deviation - Limits'!B469)","v":""},{"$f":"IF('Using CMS - Deviation - Limits'!C469=\"\",\"\",'Using CMS - Deviation - Limits'!C469)","v":""},{"$f":"AY447&AZ447&Table10[[#This Row],[CMS]]","v":""},{"$f":"IF(COUNTIF(BA$2:BA447,BA447)=1,BA447,\"\")","v":""},"","",{"$f":"+IFERROR(INDEX(#REF!,MATCH(ROW()-ROW(BC$1),AX$2:AX$955,0)),\"\")","v":""}]
[{"$f":"+IF(D448=\"\",\"\",MAX(A$1:A447)+1)","v":""},{"$f":"IF('Process_&_CMS_Identification'!C470=\"\",\"\",'Process_&_CMS_Identification'!C470)","v":""},"",{"$f":"IF(COUNTIF(B$2:B448,B448)=1,B448,\"\")","v":""},{"$nulls":15},{"$f":"+IF(X448=\"\",\"\",MAX(T$1:T447)+1)","v":""},{"$f":"IF('No CMS - Deviation - Limits'!B470=\"\",\"\",'No CMS - Deviation - Limits'!B470)","v":""},{"$f":"IF('No CMS - Deviation - Limits'!C470=\"\",\"\",'No CMS - Deviation - Limits'!C470)","v":""},"",{"$f":"IF(COUNTIF(V$2:V448,V448)=1,V448,\"\")","v":""},"","",{"$f":"+IFERROR(INDEX(#REF!,MATCH(ROW()-ROW($Y$1),T$2:T$955,0)),\"\")","v":""},null,{"$f":"+IF(AG448=\"\",\"\",MAX(AC$1:AC447)+1)","v":""},{"$f":"IF('Using CMS - Deviation - Limits'!B470=\"\",\"\",'Using CMS - Deviation - Limits'!B470)","v":""},{"$f":"IF('Using CMS - Deviation - Limits'!C470=\"\",\"\",'Using CMS - Deviation - Limits'!C470)","v":""},"",{"$f":"IF(COUNTIF(AF$2:AF448,AF448)=1,AF448,\"\")","v":""},"","",{"$f":"+IFERROR(INDEX(#REF!,MATCH(ROW()-ROW(AG$1),AC$2:AC$955,0)),\"\")","v":""},{"$nulls":3},{"$f":"+IF(AS448=\"\",\"\",MAX(AN$1:AN447)+1)","v":""},{"$f":"IF('Using CMS - Inop_OoC - CMS'!B470=\"\",\"\",'Using CMS - Inop_OoC - CMS'!B470)","v":""},{"$f":"IF('Using CMS - Inop_OoC - CMS'!C470=\"\",\"\",'Using CMS - Inop_OoC - CMS'!C470)","v":""},{"$f":"IF('Using CMS - Inop_OoC - CMS'!D470=\"\",\"\",'Using CMS - Inop_OoC - CMS'!D470)","v":""},{"$f":"AO448&AP448&Table10[[#This Row],[CMS]]","v":""},{"$f":"IF(COUNTIF(AR$2:AR448,AR448)=1,AR448,\"\")","v":""},"","","",null,{"$f":"+IF(BB448=\"\",\"\",MAX(AX$1:AX447)+1)","v":""},{"$f":"IF('Using CMS - Deviation - Limits'!B470=\"\",\"\",'Using CMS - Deviation - Limits'!B470)","v":""},{"$f":"IF('Using CMS - Deviation - Limits'!C470=\"\",\"\",'Using CMS - Deviation - Limits'!C470)","v":""},{"$f":"AY448&AZ448&Table10[[#This Row],[CMS]]","v":""},{"$f":"IF(COUNTIF(BA$2:BA448,BA448)=1,BA448,\"\")","v":""},"","",{"$f":"+IFERROR(INDEX(#REF!,MATCH(ROW()-ROW(BC$1),AX$2:AX$955,0)),\"\")","v":""}]
[{"$f":"+IF(D449=\"\",\"\",MAX(A$1:A448)+1)","v":""},{"$f":"IF('Process_&_CMS_Identification'!C471=\"\",\"\",'Process_&_CMS_Identification'!C471)","v":""},"",{"$f":"IF(COUNTIF(B$2:B449,B449)=1,B449,\"\")","v":""},{"$nulls":15},{"$f":"+IF(X449=\"\",\"\",MAX(T$1:T448)+1)","v":""},{"$f":"IF('No CMS - Deviation - Limits'!B471=\"\",\"\",'No CMS - Deviation - Limits'!B471)","v":""},{"$f":"IF('No CMS - Deviation - Limits'!C471=\"\",\"\",'No CMS - Deviation - Limits'!C471)","v":""},"",{"$f":"IF(COUNTIF(V$2:V449,V449)=1,V449,\"\")","v":""},"","",{"$f":"+IFERROR(INDEX(#REF!,MATCH(ROW()-ROW($Y$1),T$2:T$955,0)),\"\")","v":""},null,{"$f":"+IF(AG449=\"\",\"\",MAX(AC$1:AC448)+1)","v":""},{"$f":"IF('Using CMS - Deviation - Limits'!B471=\"\",\"\",'Using CMS - Deviation - Limits'!B471)","v":""},{"$f":"IF('Using CMS - Deviation - Limits'!C471=\"\",\"\",'Using CMS - Deviation - Limits'!C471)","v":""},"",{"$f":"IF(COUNTIF(AF$2:AF449,AF449)=1,AF449,\"\")","v":""},"","",{"$f":"+IFERROR(INDEX(#REF!,MATCH(ROW()-ROW(AG$1),AC$2:AC$955,0)),\"\")","v":""},{"$nulls":3},{"$f":"+IF(AS449=\"\",\"\",MAX(AN$1:AN448)+1)","v":""},{"$f":"IF('Using CMS - Inop_OoC - CMS'!B471=\"\",\"\",'Using CMS - Inop_OoC - CMS'!B471)","v":""},{"$f":"IF('Using CMS - Inop_OoC - CMS'!C471=\"\",\"\",'Using CMS - Inop_OoC - CMS'!C471)","v":""},{"$f":"IF('Using CMS - Inop_OoC - CMS'!D471=\"\",\"\",'Using CMS - Inop_OoC - CMS'!D471)","v":""},{"$f":"AO449&AP449&Table10[[#This Row],[CMS]]","v":""},{"$f":"IF(COUNTIF(AR$2:AR449,AR449)=1,AR449,\"\")","v":""},"","","",null,{"$f":"+IF(BB449=\"\",\"\",MAX(AX$1:AX448)+1)","v":""},{"$f":"IF('Using CMS - Deviation - Limits'!B471=\"\",\"\",'Using CMS - Deviation - Limits'!B471)","v":""},{"$f":"IF('Using CMS - Deviation - Limits'!C471=\"\",\"\",'Using CMS - Deviation - Limits'!C471)","v":""},{"$f":"AY449&AZ449&Table10[[#This Row],[CMS]]","v":""},{"$f":"IF(COUNTIF(BA$2:BA449,BA449)=1,BA449,\"\")","v":""},"","",{"$f":"+IFERROR(INDEX(#REF!,MATCH(ROW()-ROW(BC$1),AX$2:AX$955,0)),\"\")","v":""}]
[{"$f":"+IF(D450=\"\",\"\",MAX(A$1:A449)+1)","v":""},{"$f":"IF('Process_&_CMS_Identification'!C472=\"\",\"\",'Process_&_CMS_Identification'!C472)","v":""},{"$f":"+IFERROR(INDEX(B$2:B$501,MATCH(ROW()-ROW($C$1),A$2:A$501,0)),\"\")","v":""},{"$f":"IF(COUNTIF(B$2:B450,B450)=1,B450,\"\")","v":""},{"$nulls":15},{"$f":"+IF(X450=\"\",\"\",MAX(T$1:T449)+1)","v":""},{"$f":"IF('No CMS - Deviation - Limits'!B472=\"\",\"\",'No CMS - Deviation - Limits'!B472)","v":""},{"$f":"IF('No CMS - Deviation - Limits'!C472=\"\",\"\",'No CMS - Deviation - Limits'!C472)","v":""},{"$f":"U450&V450","v":""},{"$f":"IF(COUNTIF(V$2:V450,V450)=1,V450,\"\")","v":""},{"$f":"+IFERROR(INDEX(U$2:U$955,MATCH(ROW()-ROW($Y$1),T$2:T$955,0)),\"\")","v":""},{"$f":"+IFERROR(INDEX(V$2:V$955,MATCH(ROW()-ROW($Y$1),T$2:T$955,0)),\"\")","v":""},{"$f":"+IFERROR(INDEX(#REF!,MATCH(ROW()-ROW($Y$1),T$2:T$955,0)),\"\")","v":""},null,{"$f":"+IF(AG450=\"\",\"\",MAX(AC$1:AC449)+1)","v":""},{"$f":"IF('Using CMS - Deviation - Limits'!B472=\"\",\"\",'Using CMS - Deviation - Limits'!B472)","v":""},{"$f":"IF('Using CMS - Deviation - Limits'!C472=\"\",\"\",'Using CMS - Deviation - Limits'!C472)","v":""},{"$f":"AD450&AE450","v":""},{"$f":"IF(COUNTIF(AF$2:AF450,AF450)=1,AF450,\"\")","v":""},{"$f":"+IFERROR(INDEX(AD$2:AD$955,MATCH(ROW()-ROW(HX$1),AC$2:AC$955,0)),\"\")","v":""},{"$f":"+IFERROR(INDEX(AE$2:AE$955,MATCH(ROW()-ROW(AG$1),AC$2:AC$955,0)),\"\")","v":""},{"$f":"+IFERROR(INDEX(#REF!,MATCH(ROW()-ROW(AG$1),AC$2:AC$955,0)),\"\")","v":""},{"$nulls":3},{"$f":"+IF(AS450=\"\",\"\",MAX(AN$1:AN449)+1)","v":""},{"$f":"IF('Using CMS - Inop_OoC - CMS'!B472=\"\",\"\",'Using CMS - Inop_OoC - CMS'!B472)","v":""},{"$f":"IF('Using CMS - Inop_OoC - CMS'!C472=\"\",\"\",'Using CMS - Inop_OoC - CMS'!C472)","v":""},{"$f":"IF('Using CMS - Inop_OoC - CMS'!D472=\"\",\"\",'Using CMS - Inop_OoC - CMS'!D472)","v":""},{"$f":"AO450&AP450&Table10[[#This Row],[CMS]]","v":""},{"$f":"IF(COUNTIF(AR$2:AR450,AR450)=1,AR450,\"\")","v":""},"","",{"$f":"+IFERROR(INDEX(AQ$2:AQ$955,MATCH(ROW()-ROW(AT$1),AN$2:AN$955,0)),\"\")","v":""},null,{"$f":"+IF(BB450=\"\",\"\",MAX(AX$1:AX449)+1)","v":""},{"$f":"IF('Using CMS - Deviation - Limits'!B472=\"\",\"\",'Using CMS - Deviation - Limits'!B472)","v":""},{"$f":"IF('Using CMS - Deviation - Limits'!C472=\"\",\"\",'Using CMS - Deviation - Limits'!C472)","v":""},{"$f":"AY450&AZ450&Table10[[#This Row],[CMS]]","v":""},{"$f":"IF(COUNTIF(BA$2:BA450,BA450)=1,BA450,\"\")","v":""},{"$f":"+IFERROR(INDEX(AY$2:AY$955,MATCH(ROW()-ROW(BB$1),AX$2:AX$955,0)),\"\")","v":""},{"$f":"+IFERROR(INDEX(AZ$2:AZ$955,MATCH(ROW()-ROW(BB$1),AX$2:AX$955,0)),\"\")","v":""},{"$f":"+IFERROR(INDEX(#REF!,MATCH(ROW()-ROW(BC$1),AX$2:AX$955,0)),\"\")","v":""}]
[{"$f":"+IF(D451=\"\",\"\",MAX(A$1:A450)+1)","v":""},{"$f":"IF('Process_&_CMS_Identification'!C473=\"\",\"\",'Process_&_CMS_Identification'!C473)","v":""},"",{"$f":"IF(COUNTIF(B$2:B451,B451)=1,B451,\"\")","v":""},{"$nulls":15},{"$f":"+IF(X451=\"\",\"\",MAX(T$1:T450)+1)","v":""},{"$f":"IF('No CMS - Deviation - Limits'!B473=\"\",\"\",'No CMS - Deviation - Limits'!B473)","v":""},{"$f":"IF('No CMS - Deviation - Limits'!C473=\"\",\"\",'No CMS - Deviation - Limits'!C473)","v":""},"",{"$f":"IF(COUNTIF(V$2:V451,V451)=1,V451,\"\")","v":""},"","",{"$f":"+IFERROR(INDEX(#REF!,MATCH(ROW()-ROW($Y$1),T$2:T$955,0)),\"\")","v":""},null,{"$f":"+IF(AG451=\"\",\"\",MAX(AC$1:AC450)+1)","v":""},{"$f":"IF('Using CMS - Deviation - Limits'!B473=\"\",\"\",'Using CMS - Deviation - Limits'!B473)","v":""},{"$f":"IF('Using CMS - Deviation - Limits'!C473=\"\",\"\",'Using CMS - Deviation - Limits'!C473)","v":""},"",{"$f":"IF(COUNTIF(AF$2:AF451,AF451)=1,AF451,\"\")","v":""},"","",{"$f":"+IFERROR(INDEX(#REF!,MATCH(ROW()-ROW(AG$1),AC$2:AC$955,0)),\"\")","v":""},{"$nulls":3},{"$f":"+IF(AS451=\"\",\"\",MAX(AN$1:AN450)+1)","v":""},{"$f":"IF('Using CMS - Inop_OoC - CMS'!B473=\"\",\"\",'Using CMS - Inop_OoC - CMS'!B473)","v":""},{"$f":"IF('Using CMS - Inop_OoC - CMS'!C473=\"\",\"\",'Using CMS - Inop_OoC - CMS'!C473)","v":""},{"$f":"IF('Using CMS - Inop_OoC - CMS'!D473=\"\",\"\",'Using CMS - Inop_OoC - CMS'!D473)","v":""},{"$f":"AO451&AP451&Table10[[#This Row],[CMS]]","v":""},{"$f":"IF(COUNTIF(AR$2:AR451,AR451)=1,AR451,\"\")","v":""},{"$f":"+IFERROR(INDEX(AO$2:AO$955,MATCH(ROW()-ROW(AS$1),AN$2:AN$955,0)),\"\")","v":""},{"$f":"+IFERROR(INDEX(AP$2:AP$955,MATCH(ROW()-ROW(AS$1),AN$2:AN$955,0)),\"\")","v":""},"",null,{"$f":"+IF(BB451=\"\",\"\",MAX(AX$1:AX450)+1)","v":""},{"$f":"IF('Using CMS - Deviation - Limits'!B473=\"\",\"\",'Using CMS - Deviation - Limits'!B473)","v":""},{"$f":"IF('Using CMS - Deviation - Limits'!C473=\"\",\"\",'Using CMS - Deviation - Limits'!C473)","v":""},{"$f":"AY451&AZ451&Table10[[#This Row],[CMS]]","v":""},{"$f":"IF(COUNTIF(BA$2:BA451,BA451)=1,BA451,\"\")","v":""},"","",{"$f":"+IFERROR(INDEX(#REF!,MATCH(ROW()-ROW(BC$1),AX$2:AX$955,0)),\"\")","v":""}]
[{"$f":"+IF(D452=\"\",\"\",MAX(A$1:A451)+1)","v":""},{"$f":"IF('Process_&_CMS_Identification'!C474=\"\",\"\",'Process_&_CMS_Identification'!C474)","v":""},"",{"$f":"IF(COUNTIF(B$2:B452,B452)=1,B452,\"\")","v":""},{"$nulls":15},{"$f":"+IF(X452=\"\",\"\",MAX(T$1:T451)+1)","v":""},{"$f":"IF('No CMS - Deviation - Limits'!B474=\"\",\"\",'No CMS - Deviation - Limits'!B474)","v":""},{"$f":"IF('No CMS - Deviation - Limits'!C474=\"\",\"\",'No CMS - Deviation - Limits'!C474)","v":""},"",{"$f":"IF(COUNTIF(V$2:V452,V452)=1,V452,\"\")","v":""},"","",{"$f":"+IFERROR(INDEX(#REF!,MATCH(ROW()-ROW($Y$1),T$2:T$955,0)),\"\")","v":""},null,{"$f":"+IF(AG452=\"\",\"\",MAX(AC$1:AC451)+1)","v":""},{"$f":"IF('Using CMS - Deviation - Limits'!B474=\"\",\"\",'Using CMS - Deviation - Limits'!B474)","v":""},{"$f":"IF('Using CMS - Deviation - Limits'!C474=\"\",\"\",'Using CMS - Deviation - Limits'!C474)","v":""},"",{"$f":"IF(COUNTIF(AF$2:AF452,AF452)=1,AF452,\"\")","v":""},"","",{"$f":"+IFERROR(INDEX(#REF!,MATCH(ROW()-ROW(AG$1),AC$2:AC$955,0)),\"\")","v":""},{"$nulls":3},{"$f":"+IF(AS452=\"\",\"\",MAX(AN$1:AN451)+1)","v":""},{"$f":"IF('Using CMS - Inop_OoC - CMS'!B474=\"\",\"\",'Using CMS - Inop_OoC - CMS'!B474)","v":""},{"$f":"IF('Using CMS - Inop_OoC - CMS'!C474=\"\",\"\",'Using CMS - Inop_OoC - CMS'!C474)","v":""},{"$f":"IF('Using CMS - Inop_OoC - CMS'!D474=\"\",\"\",'Using CMS - Inop_OoC - CMS'!D474)","v":""},{"$f":"AO452&AP452&Table10[[#This Row],[CMS]]","v":""},{"$f":"IF(COUNTIF(AR$2:AR452,AR452)=1,AR452,\"\")","v":""},"","","",null,{"$f":"+IF(BB452=\"\",\"\",MAX(AX$1:AX451)+1)","v":""},{"$f":"IF('Using CMS - Deviation - Limits'!B474=\"\",\"\",'Using CMS - Deviation - Limits'!B474)","v":""},{"$f":"IF('Using CMS - Deviation - Limits'!C474=\"\",\"\",'Using CMS - Deviation - Limits'!C474)","v":""},{"$f":"AY452&AZ452&Table10[[#This Row],[CMS]]","v":""},{"$f":"IF(COUNTIF(BA$2:BA452,BA452)=1,BA452,\"\")","v":""},"","",{"$f":"+IFERROR(INDEX(#REF!,MATCH(ROW()-ROW(BC$1),AX$2:AX$955,0)),\"\")","v":""}]
[{"$f":"+IF(D453=\"\",\"\",MAX(A$1:A452)+1)","v":""},{"$f":"IF('Process_&_CMS_Identification'!C475=\"\",\"\",'Process_&_CMS_Identification'!C475)","v":""},"",{"$f":"IF(COUNTIF(B$2:B453,B453)=1,B453,\"\")","v":""},{"$nulls":15},{"$f":"+IF(X453=\"\",\"\",MAX(T$1:T452)+1)","v":""},{"$f":"IF('No CMS - Deviation - Limits'!B475=\"\",\"\",'No CMS - Deviation - Limits'!B475)","v":""},{"$f":"IF('No CMS - Deviation - Limits'!C475=\"\",\"\",'No CMS - Deviation - Limits'!C475)","v":""},"",{"$f":"IF(COUNTIF(V$2:V453,V453)=1,V453,\"\")","v":""},"","",{"$f":"+IFERROR(INDEX(#REF!,MATCH(ROW()-ROW($Y$1),T$2:T$955,0)),\"\")","v":""},null,{"$f":"+IF(AG453=\"\",\"\",MAX(AC$1:AC452)+1)","v":""},{"$f":"IF('Using CMS - Deviation - Limits'!B475=\"\",\"\",'Using CMS - Deviation - Limits'!B475)","v":""},{"$f":"IF('Using CMS - Deviation - Limits'!C475=\"\",\"\",'Using CMS - Deviation - Limits'!C475)","v":""},"",{"$f":"IF(COUNTIF(AF$2:AF453,AF453)=1,AF453,\"\")","v":""},"","",{"$f":"+IFERROR(INDEX(#REF!,MATCH(ROW()-ROW(AG$1),AC$2:AC$955,0)),\"\")","v":""},{"$nulls":3},{"$f":"+IF(AS453=\"\",\"\",MAX(AN$1:AN452)+1)","v":""},{"$f":"IF('Using CMS - Inop_OoC - CMS'!B475=\"\",\"\",'Using CMS - Inop_OoC - CMS'!B475)","v":""},{"$f":"IF('Using CMS - Inop_OoC - CMS'!C475=\"\",\"\",'Using CMS - Inop_OoC - CMS'!C475)","v":""},{"$f":"IF('Using CMS - Inop_OoC - CMS'!D475=\"\",\"\",'Using CMS - Inop_OoC - CMS'!D475)","v":""},{"$f":"AO453&AP453&Table10[[#This Row],[CMS]]","v":""},{"$f":"IF(COUNTIF(AR$2:AR453,AR453)=1,AR453,\"\")","v":""},"","","",null,{"$f":"+IF(BB453=\"\",\"\",MAX(AX$1:AX452)+1)","v":""},{"$f":"IF('Using CMS - Deviation - Limits'!B475=\"\",\"\",'Using CMS - Deviation - Limits'!B475)","v":""},{"$f":"IF('Using CMS - Deviation - Limits'!C475=\"\",\"\",'Using CMS - Deviation - Limits'!C475)","v":""},{"$f":"AY453&AZ453&Table10[[#This Row],[CMS]]","v":""},{"$f":"IF(COUNTIF(BA$2:BA453,BA453)=1,BA453,\"\")","v":""},"","",{"$f":"+IFERROR(INDEX(#REF!,MATCH(ROW()-ROW(BC$1),AX$2:AX$955,0)),\"\")","v":""}]
[{"$f":"+IF(D454=\"\",\"\",MAX(A$1:A453)+1)","v":""},{"$f":"IF('Process_&_CMS_Identification'!C476=\"\",\"\",'Process_&_CMS_Identification'!C476)","v":""},"",{"$f":"IF(COUNTIF(B$2:B454,B454)=1,B454,\"\")","v":""},{"$nulls":15},{"$f":"+IF(X454=\"\",\"\",MAX(T$1:T453)+1)","v":""},{"$f":"IF('No CMS - Deviation - Limits'!B476=\"\",\"\",'No CMS - Deviation - Limits'!B476)","v":""},{"$f":"IF('No CMS - Deviation - Limits'!C476=\"\",\"\",'No CMS - Deviation - Limits'!C476)","v":""},"",{"$f":"IF(COUNTIF(V$2:V454,V454)=1,V454,\"\")","v":""},"","",{"$f":"+IFERROR(INDEX(#REF!,MATCH(ROW()-ROW($Y$1),T$2:T$955,0)),\"\")","v":""},null,{"$f":"+IF(AG454=\"\",\"\",MAX(AC$1:AC453)+1)","v":""},{"$f":"IF('Using CMS - Deviation - Limits'!B476=\"\",\"\",'Using CMS - Deviation - Limits'!B476)","v":""},{"$f":"IF('Using CMS - Deviation - Limits'!C476=\"\",\"\",'Using CMS - Deviation - Limits'!C476)","v":""},"",{"$f":"IF(COUNTIF(AF$2:AF454,AF454)=1,AF454,\"\")","v":""},"","",{"$f":"+IFERROR(INDEX(#REF!,MATCH(ROW()-ROW(AG$1),AC$2:AC$955,0)),\"\")","v":""},{"$nulls":3},{"$f":"+IF(AS454=\"\",\"\",MAX(AN$1:AN453)+1)","v":""},{"$f":"IF('Using CMS - Inop_OoC - CMS'!B476=\"\",\"\",'Using CMS - Inop_OoC - CMS'!B476)","v":""},{"$f":"IF('Using CMS - Inop_OoC - CMS'!C476=\"\",\"\",'Using CMS - Inop_OoC - CMS'!C476)","v":""},{"$f":"IF('Using CMS - Inop_OoC - CMS'!D476=\"\",\"\",'Using CMS - Inop_OoC - CMS'!D476)","v":""},{"$f":"AO454&AP454&Table10[[#This Row],[CMS]]","v":""},{"$f":"IF(COUNTIF(AR$2:AR454,AR454)=1,AR454,\"\")","v":""},"","","",null,{"$f":"+IF(BB454=\"\",\"\",MAX(AX$1:AX453)+1)","v":""},{"$f":"IF('Using CMS - Deviation - Limits'!B476=\"\",\"\",'Using CMS - Deviation - Limits'!B476)","v":""},{"$f":"IF('Using CMS - Deviation - Limits'!C476=\"\",\"\",'Using CMS - Deviation - Limits'!C476)","v":""},{"$f":"AY454&AZ454&Table10[[#This Row],[CMS]]","v":""},{"$f":"IF(COUNTIF(BA$2:BA454,BA454)=1,BA454,\"\")","v":""},"","",{"$f":"+IFERROR(INDEX(#REF!,MATCH(ROW()-ROW(BC$1),AX$2:AX$955,0)),\"\")","v":""}]
[{"$f":"+IF(D455=\"\",\"\",MAX(A$1:A454)+1)","v":""},{"$f":"IF('Process_&_CMS_Identification'!C477=\"\",\"\",'Process_&_CMS_Identification'!C477)","v":""},"",{"$f":"IF(COUNTIF(B$2:B455,B455)=1,B455,\"\")","v":""},{"$nulls":15},{"$f":"+IF(X455=\"\",\"\",MAX(T$1:T454)+1)","v":""},{"$f":"IF('No CMS - Deviation - Limits'!B477=\"\",\"\",'No CMS - Deviation - Limits'!B477)","v":""},{"$f":"IF('No CMS - Deviation - Limits'!C477=\"\",\"\",'No CMS - Deviation - Limits'!C477)","v":""},"",{"$f":"IF(COUNTIF(V$2:V455,V455)=1,V455,\"\")","v":""},"","",{"$f":"+IFERROR(INDEX(#REF!,MATCH(ROW()-ROW($Y$1),T$2:T$955,0)),\"\")","v":""},null,{"$f":"+IF(AG455=\"\",\"\",MAX(AC$1:AC454)+1)","v":""},{"$f":"IF('Using CMS - Deviation - Limits'!B477=\"\",\"\",'Using CMS - Deviation - Limits'!B477)","v":""},{"$f":"IF('Using CMS - Deviation - Limits'!C477=\"\",\"\",'Using CMS - Deviation - Limits'!C477)","v":""},"",{"$f":"IF(COUNTIF(AF$2:AF455,AF455)=1,AF455,\"\")","v":""},"","",{"$f":"+IFERROR(INDEX(#REF!,MATCH(ROW()-ROW(AG$1),AC$2:AC$955,0)),\"\")","v":""},{"$nulls":3},{"$f":"+IF(AS455=\"\",\"\",MAX(AN$1:AN454)+1)","v":""},{"$f":"IF('Using CMS - Inop_OoC - CMS'!B477=\"\",\"\",'Using CMS - Inop_OoC - CMS'!B477)","v":""},{"$f":"IF('Using CMS - Inop_OoC - CMS'!C477=\"\",\"\",'Using CMS - Inop_OoC - CMS'!C477)","v":""},{"$f":"IF('Using CMS - Inop_OoC - CMS'!D477=\"\",\"\",'Using CMS - Inop_OoC - CMS'!D477)","v":""},{"$f":"AO455&AP455&Table10[[#This Row],[CMS]]","v":""},{"$f":"IF(COUNTIF(AR$2:AR455,AR455)=1,AR455,\"\")","v":""},"","","",null,{"$f":"+IF(BB455=\"\",\"\",MAX(AX$1:AX454)+1)","v":""},{"$f":"IF('Using CMS - Deviation - Limits'!B477=\"\",\"\",'Using CMS - Deviation - Limits'!B477)","v":""},{"$f":"IF('Using CMS - Deviation - Limits'!C477=\"\",\"\",'Using CMS - Deviation - Limits'!C477)","v":""},{"$f":"AY455&AZ455&Table10[[#This Row],[CMS]]","v":""},{"$f":"IF(COUNTIF(BA$2:BA455,BA455)=1,BA455,\"\")","v":""},"","",{"$f":"+IFERROR(INDEX(#REF!,MATCH(ROW()-ROW(BC$1),AX$2:AX$955,0)),\"\")","v":""}]
[{"$f":"+IF(D456=\"\",\"\",MAX(A$1:A455)+1)","v":""},{"$f":"IF('Process_&_CMS_Identification'!C478=\"\",\"\",'Process_&_CMS_Identification'!C478)","v":""},"",{"$f":"IF(COUNTIF(B$2:B456,B456)=1,B456,\"\")","v":""},{"$nulls":15},{"$f":"+IF(X456=\"\",\"\",MAX(T$1:T455)+1)","v":""},{"$f":"IF('No CMS - Deviation - Limits'!B478=\"\",\"\",'No CMS - Deviation - Limits'!B478)","v":""},{"$f":"IF('No CMS - Deviation - Limits'!C478=\"\",\"\",'No CMS - Deviation - Limits'!C478)","v":""},"",{"$f":"IF(COUNTIF(V$2:V456,V456)=1,V456,\"\")","v":""},"","",{"$f":"+IFERROR(INDEX(#REF!,MATCH(ROW()-ROW($Y$1),T$2:T$955,0)),\"\")","v":""},null,{"$f":"+IF(AG456=\"\",\"\",MAX(AC$1:AC455)+1)","v":""},{"$f":"IF('Using CMS - Deviation - Limits'!B478=\"\",\"\",'Using CMS - Deviation - Limits'!B478)","v":""},{"$f":"IF('Using CMS - Deviation - Limits'!C478=\"\",\"\",'Using CMS - Deviation - Limits'!C478)","v":""},"",{"$f":"IF(COUNTIF(AF$2:AF456,AF456)=1,AF456,\"\")","v":""},"","",{"$f":"+IFERROR(INDEX(#REF!,MATCH(ROW()-ROW(AG$1),AC$2:AC$955,0)),\"\")","v":""},{"$nulls":3},{"$f":"+IF(AS456=\"\",\"\",MAX(AN$1:AN455)+1)","v":""},{"$f":"IF('Using CMS - Inop_OoC - CMS'!B478=\"\",\"\",'Using CMS - Inop_OoC - CMS'!B478)","v":""},{"$f":"IF('Using CMS - Inop_OoC - CMS'!C478=\"\",\"\",'Using CMS - Inop_OoC - CMS'!C478)","v":""},{"$f":"IF('Using CMS - Inop_OoC - CMS'!D478=\"\",\"\",'Using CMS - Inop_OoC - CMS'!D478)","v":""},{"$f":"AO456&AP456&Table10[[#This Row],[CMS]]","v":""},{"$f":"IF(COUNTIF(AR$2:AR456,AR456)=1,AR456,\"\")","v":""},"","","",null,{"$f":"+IF(BB456=\"\",\"\",MAX(AX$1:AX455)+1)","v":""},{"$f":"IF('Using CMS - Deviation - Limits'!B478=\"\",\"\",'Using CMS - Deviation - Limits'!B478)","v":""},{"$f":"IF('Using CMS - Deviation - Limits'!C478=\"\",\"\",'Using CMS - Deviation - Limits'!C478)","v":""},{"$f":"AY456&AZ456&Table10[[#This Row],[CMS]]","v":""},{"$f":"IF(COUNTIF(BA$2:BA456,BA456)=1,BA456,\"\")","v":""},"","",{"$f":"+IFERROR(INDEX(#REF!,MATCH(ROW()-ROW(BC$1),AX$2:AX$955,0)),\"\")","v":""}]
[{"$f":"+IF(D457=\"\",\"\",MAX(A$1:A456)+1)","v":""},{"$f":"IF('Process_&_CMS_Identification'!C479=\"\",\"\",'Process_&_CMS_Identification'!C479)","v":""},"",{"$f":"IF(COUNTIF(B$2:B457,B457)=1,B457,\"\")","v":""},{"$nulls":15},{"$f":"+IF(X457=\"\",\"\",MAX(T$1:T456)+1)","v":""},{"$f":"IF('No CMS - Deviation - Limits'!B479=\"\",\"\",'No CMS - Deviation - Limits'!B479)","v":""},{"$f":"IF('No CMS - Deviation - Limits'!C479=\"\",\"\",'No CMS - Deviation - Limits'!C479)","v":""},"",{"$f":"IF(COUNTIF(V$2:V457,V457)=1,V457,\"\")","v":""},"","",{"$f":"+IFERROR(INDEX(#REF!,MATCH(ROW()-ROW($Y$1),T$2:T$955,0)),\"\")","v":""},null,{"$f":"+IF(AG457=\"\",\"\",MAX(AC$1:AC456)+1)","v":""},{"$f":"IF('Using CMS - Deviation - Limits'!B479=\"\",\"\",'Using CMS - Deviation - Limits'!B479)","v":""},{"$f":"IF('Using CMS - Deviation - Limits'!C479=\"\",\"\",'Using CMS - Deviation - Limits'!C479)","v":""},"",{"$f":"IF(COUNTIF(AF$2:AF457,AF457)=1,AF457,\"\")","v":""},"","",{"$f":"+IFERROR(INDEX(#REF!,MATCH(ROW()-ROW(AG$1),AC$2:AC$955,0)),\"\")","v":""},{"$nulls":3},{"$f":"+IF(AS457=\"\",\"\",MAX(AN$1:AN456)+1)","v":""},{"$f":"IF('Using CMS - Inop_OoC - CMS'!B479=\"\",\"\",'Using CMS - Inop_OoC - CMS'!B479)","v":""},{"$f":"IF('Using CMS - Inop_OoC - CMS'!C479=\"\",\"\",'Using CMS - Inop_OoC - CMS'!C479)","v":""},{"$f":"IF('Using CMS - Inop_OoC - CMS'!D479=\"\",\"\",'Using CMS - Inop_OoC - CMS'!D479)","v":""},{"$f":"AO457&AP457&Table10[[#This Row],[CMS]]","v":""},{"$f":"IF(COUNTIF(AR$2:AR457,AR457)=1,AR457,\"\")","v":""},"","","",null,{"$f":"+IF(BB457=\"\",\"\",MAX(AX$1:AX456)+1)","v":""},{"$f":"IF('Using CMS - Deviation - Limits'!B479=\"\",\"\",'Using CMS - Deviation - Limits'!B479)","v":""},{"$f":"IF('Using CMS - Deviation - Limits'!C479=\"\",\"\",'Using CMS - Deviation - Limits'!C479)","v":""},{"$f":"AY457&AZ457&Table10[[#This Row],[CMS]]","v":""},{"$f":"IF(COUNTIF(BA$2:BA457,BA457)=1,BA457,\"\")","v":""},"","",{"$f":"+IFERROR(INDEX(#REF!,MATCH(ROW()-ROW(BC$1),AX$2:AX$955,0)),\"\")","v":""}]
[{"$f":"+IF(D458=\"\",\"\",MAX(A$1:A457)+1)","v":""},{"$f":"IF('Process_&_CMS_Identification'!C480=\"\",\"\",'Process_&_CMS_Identification'!C480)","v":""},"",{"$f":"IF(COUNTIF(B$2:B458,B458)=1,B458,\"\")","v":""},{"$nulls":15},{"$f":"+IF(X458=\"\",\"\",MAX(T$1:T457)+1)","v":""},{"$f":"IF('No CMS - Deviation - Limits'!B480=\"\",\"\",'No CMS - Deviation - Limits'!B480)","v":""},{"$f":"IF('No CMS - Deviation - Limits'!C480=\"\",\"\",'No CMS - Deviation - Limits'!C480)","v":""},"",{"$f":"IF(COUNTIF(V$2:V458,V458)=1,V458,\"\")","v":""},"","",{"$f":"+IFERROR(INDEX(#REF!,MATCH(ROW()-ROW($Y$1),T$2:T$955,0)),\"\")","v":""},null,{"$f":"+IF(AG458=\"\",\"\",MAX(AC$1:AC457)+1)","v":""},{"$f":"IF('Using CMS - Deviation - Limits'!B480=\"\",\"\",'Using CMS - Deviation - Limits'!B480)","v":""},{"$f":"IF('Using CMS - Deviation - Limits'!C480=\"\",\"\",'Using CMS - Deviation - Limits'!C480)","v":""},"",{"$f":"IF(COUNTIF(AF$2:AF458,AF458)=1,AF458,\"\")","v":""},"","",{"$f":"+IFERROR(INDEX(#REF!,MATCH(ROW()-ROW(AG$1),AC$2:AC$955,0)),\"\")","v":""},{"$nulls":3},{"$f":"+IF(AS458=\"\",\"\",MAX(AN$1:AN457)+1)","v":""},{"$f":"IF('Using CMS - Inop_OoC - CMS'!B480=\"\",\"\",'Using CMS - Inop_OoC - CMS'!B480)","v":""},{"$f":"IF('Using CMS - Inop_OoC - CMS'!C480=\"\",\"\",'Using CMS - Inop_OoC - CMS'!C480)","v":""},{"$f":"IF('Using CMS - Inop_OoC - CMS'!D480=\"\",\"\",'Using CMS - Inop_OoC - CMS'!D480)","v":""},{"$f":"AO458&AP458&Table10[[#This Row],[CMS]]","v":""},{"$f":"IF(COUNTIF(AR$2:AR458,AR458)=1,AR458,\"\")","v":""},"","","",null,{"$f":"+IF(BB458=\"\",\"\",MAX(AX$1:AX457)+1)","v":""},{"$f":"IF('Using CMS - Deviation - Limits'!B480=\"\",\"\",'Using CMS - Deviation - Limits'!B480)","v":""},{"$f":"IF('Using CMS - Deviation - Limits'!C480=\"\",\"\",'Using CMS - Deviation - Limits'!C480)","v":""},{"$f":"AY458&AZ458&Table10[[#This Row],[CMS]]","v":""},{"$f":"IF(COUNTIF(BA$2:BA458,BA458)=1,BA458,\"\")","v":""},"","",{"$f":"+IFERROR(INDEX(#REF!,MATCH(ROW()-ROW(BC$1),AX$2:AX$955,0)),\"\")","v":""}]
[{"$f":"+IF(D459=\"\",\"\",MAX(A$1:A458)+1)","v":""},{"$f":"IF('Process_&_CMS_Identification'!C481=\"\",\"\",'Process_&_CMS_Identification'!C481)","v":""},"",{"$f":"IF(COUNTIF(B$2:B459,B459)=1,B459,\"\")","v":""},{"$nulls":15},{"$f":"+IF(X459=\"\",\"\",MAX(T$1:T458)+1)","v":""},{"$f":"IF('No CMS - Deviation - Limits'!B481=\"\",\"\",'No CMS - Deviation - Limits'!B481)","v":""},{"$f":"IF('No CMS - Deviation - Limits'!C481=\"\",\"\",'No CMS - Deviation - Limits'!C481)","v":""},"",{"$f":"IF(COUNTIF(V$2:V459,V459)=1,V459,\"\")","v":""},"","",{"$f":"+IFERROR(INDEX(#REF!,MATCH(ROW()-ROW($Y$1),T$2:T$955,0)),\"\")","v":""},null,{"$f":"+IF(AG459=\"\",\"\",MAX(AC$1:AC458)+1)","v":""},{"$f":"IF('Using CMS - Deviation - Limits'!B481=\"\",\"\",'Using CMS - Deviation - Limits'!B481)","v":""},{"$f":"IF('Using CMS - Deviation - Limits'!C481=\"\",\"\",'Using CMS - Deviation - Limits'!C481)","v":""},"",{"$f":"IF(COUNTIF(AF$2:AF459,AF459)=1,AF459,\"\")","v":""},"","",{"$f":"+IFERROR(INDEX(#REF!,MATCH(ROW()-ROW(AG$1),AC$2:AC$955,0)),\"\")","v":""},{"$nulls":3},{"$f":"+IF(AS459=\"\",\"\",MAX(AN$1:AN458)+1)","v":""},{"$f":"IF('Using CMS - Inop_OoC - CMS'!B481=\"\",\"\",'Using CMS - Inop_OoC - CMS'!B481)","v":""},{"$f":"IF('Using CMS - Inop_OoC - CMS'!C481=\"\",\"\",'Using CMS - Inop_OoC - CMS'!C481)","v":""},{"$f":"IF('Using CMS - Inop_OoC - CMS'!D481=\"\",\"\",'Using CMS - Inop_OoC - CMS'!D481)","v":""},{"$f":"AO459&AP459&Table10[[#This Row],[CMS]]","v":""},{"$f":"IF(COUNTIF(AR$2:AR459,AR459)=1,AR459,\"\")","v":""},"","","",null,{"$f":"+IF(BB459=\"\",\"\",MAX(AX$1:AX458)+1)","v":""},{"$f":"IF('Using CMS - Deviation - Limits'!B481=\"\",\"\",'Using CMS - Deviation - Limits'!B481)","v":""},{"$f":"IF('Using CMS - Deviation - Limits'!C481=\"\",\"\",'Using CMS - Deviation - Limits'!C481)","v":""},{"$f":"AY459&AZ459&Table10[[#This Row],[CMS]]","v":""},{"$f":"IF(COUNTIF(BA$2:BA459,BA459)=1,BA459,\"\")","v":""},"","",{"$f":"+IFERROR(INDEX(#REF!,MATCH(ROW()-ROW(BC$1),AX$2:AX$955,0)),\"\")","v":""}]
[{"$f":"+IF(D460=\"\",\"\",MAX(A$1:A459)+1)","v":""},{"$f":"IF('Process_&_CMS_Identification'!C482=\"\",\"\",'Process_&_CMS_Identification'!C482)","v":""},"",{"$f":"IF(COUNTIF(B$2:B460,B460)=1,B460,\"\")","v":""},{"$nulls":15},{"$f":"+IF(X460=\"\",\"\",MAX(T$1:T459)+1)","v":""},{"$f":"IF('No CMS - Deviation - Limits'!B482=\"\",\"\",'No CMS - Deviation - Limits'!B482)","v":""},{"$f":"IF('No CMS - Deviation - Limits'!C482=\"\",\"\",'No CMS - Deviation - Limits'!C482)","v":""},"",{"$f":"IF(COUNTIF(V$2:V460,V460)=1,V460,\"\")","v":""},"","",{"$f":"+IFERROR(INDEX(#REF!,MATCH(ROW()-ROW($Y$1),T$2:T$955,0)),\"\")","v":""},null,{"$f":"+IF(AG460=\"\",\"\",MAX(AC$1:AC459)+1)","v":""},{"$f":"IF('Using CMS - Deviation - Limits'!B482=\"\",\"\",'Using CMS - Deviation - Limits'!B482)","v":""},{"$f":"IF('Using CMS - Deviation - Limits'!C482=\"\",\"\",'Using CMS - Deviation - Limits'!C482)","v":""},"",{"$f":"IF(COUNTIF(AF$2:AF460,AF460)=1,AF460,\"\")","v":""},"","",{"$f":"+IFERROR(INDEX(#REF!,MATCH(ROW()-ROW(AG$1),AC$2:AC$955,0)),\"\")","v":""},{"$nulls":3},{"$f":"+IF(AS460=\"\",\"\",MAX(AN$1:AN459)+1)","v":""},{"$f":"IF('Using CMS - Inop_OoC - CMS'!B482=\"\",\"\",'Using CMS - Inop_OoC - CMS'!B482)","v":""},{"$f":"IF('Using CMS - Inop_OoC - CMS'!C482=\"\",\"\",'Using CMS - Inop_OoC - CMS'!C482)","v":""},{"$f":"IF('Using CMS - Inop_OoC - CMS'!D482=\"\",\"\",'Using CMS - Inop_OoC - CMS'!D482)","v":""},{"$f":"AO460&AP460&Table10[[#This Row],[CMS]]","v":""},{"$f":"IF(COUNTIF(AR$2:AR460,AR460)=1,AR460,\"\")","v":""},"","","",null,{"$f":"+IF(BB460=\"\",\"\",MAX(AX$1:AX459)+1)","v":""},{"$f":"IF('Using CMS - Deviation - Limits'!B482=\"\",\"\",'Using CMS - Deviation - Limits'!B482)","v":""},{"$f":"IF('Using CMS - Deviation - Limits'!C482=\"\",\"\",'Using CMS - Deviation - Limits'!C482)","v":""},{"$f":"AY460&AZ460&Table10[[#This Row],[CMS]]","v":""},{"$f":"IF(COUNTIF(BA$2:BA460,BA460)=1,BA460,\"\")","v":""},"","",{"$f":"+IFERROR(INDEX(#REF!,MATCH(ROW()-ROW(BC$1),AX$2:AX$955,0)),\"\")","v":""}]
[{"$f":"+IF(D461=\"\",\"\",MAX(A$1:A460)+1)","v":""},{"$f":"IF('Process_&_CMS_Identification'!C483=\"\",\"\",'Process_&_CMS_Identification'!C483)","v":""},"",{"$f":"IF(COUNTIF(B$2:B461,B461)=1,B461,\"\")","v":""},{"$nulls":15},{"$f":"+IF(X461=\"\",\"\",MAX(T$1:T460)+1)","v":""},{"$f":"IF('No CMS - Deviation - Limits'!B483=\"\",\"\",'No CMS - Deviation - Limits'!B483)","v":""},{"$f":"IF('No CMS - Deviation - Limits'!C483=\"\",\"\",'No CMS - Deviation - Limits'!C483)","v":""},"",{"$f":"IF(COUNTIF(V$2:V461,V461)=1,V461,\"\")","v":""},"","",{"$f":"+IFERROR(INDEX(#REF!,MATCH(ROW()-ROW($Y$1),T$2:T$955,0)),\"\")","v":""},null,{"$f":"+IF(AG461=\"\",\"\",MAX(AC$1:AC460)+1)","v":""},{"$f":"IF('Using CMS - Deviation - Limits'!B483=\"\",\"\",'Using CMS - Deviation - Limits'!B483)","v":""},{"$f":"IF('Using CMS - Deviation - Limits'!C483=\"\",\"\",'Using CMS - Deviation - Limits'!C483)","v":""},"",{"$f":"IF(COUNTIF(AF$2:AF461,AF461)=1,AF461,\"\")","v":""},"","",{"$f":"+IFERROR(INDEX(#REF!,MATCH(ROW()-ROW(AG$1),AC$2:AC$955,0)),\"\")","v":""},{"$nulls":3},{"$f":"+IF(AS461=\"\",\"\",MAX(AN$1:AN460)+1)","v":""},{"$f":"IF('Using CMS - Inop_OoC - CMS'!B483=\"\",\"\",'Using CMS - Inop_OoC - CMS'!B483)","v":""},{"$f":"IF('Using CMS - Inop_OoC - CMS'!C483=\"\",\"\",'Using CMS - Inop_OoC - CMS'!C483)","v":""},{"$f":"IF('Using CMS - Inop_OoC - CMS'!D483=\"\",\"\",'Using CMS - Inop_OoC - CMS'!D483)","v":""},{"$f":"AO461&AP461&Table10[[#This Row],[CMS]]","v":""},{"$f":"IF(COUNTIF(AR$2:AR461,AR461)=1,AR461,\"\")","v":""},"","","",null,{"$f":"+IF(BB461=\"\",\"\",MAX(AX$1:AX460)+1)","v":""},{"$f":"IF('Using CMS - Deviation - Limits'!B483=\"\",\"\",'Using CMS - Deviation - Limits'!B483)","v":""},{"$f":"IF('Using CMS - Deviation - Limits'!C483=\"\",\"\",'Using CMS - Deviation - Limits'!C483)","v":""},{"$f":"AY461&AZ461&Table10[[#This Row],[CMS]]","v":""},{"$f":"IF(COUNTIF(BA$2:BA461,BA461)=1,BA461,\"\")","v":""},"","",{"$f":"+IFERROR(INDEX(#REF!,MATCH(ROW()-ROW(BC$1),AX$2:AX$955,0)),\"\")","v":""}]
[{"$f":"+IF(D462=\"\",\"\",MAX(A$1:A461)+1)","v":""},{"$f":"IF('Process_&_CMS_Identification'!C484=\"\",\"\",'Process_&_CMS_Identification'!C484)","v":""},"",{"$f":"IF(COUNTIF(B$2:B462,B462)=1,B462,\"\")","v":""},{"$nulls":15},{"$f":"+IF(X462=\"\",\"\",MAX(T$1:T461)+1)","v":""},{"$f":"IF('No CMS - Deviation - Limits'!B484=\"\",\"\",'No CMS - Deviation - Limits'!B484)","v":""},{"$f":"IF('No CMS - Deviation - Limits'!C484=\"\",\"\",'No CMS - Deviation - Limits'!C484)","v":""},"",{"$f":"IF(COUNTIF(V$2:V462,V462)=1,V462,\"\")","v":""},"","",{"$f":"+IFERROR(INDEX(#REF!,MATCH(ROW()-ROW($Y$1),T$2:T$955,0)),\"\")","v":""},null,{"$f":"+IF(AG462=\"\",\"\",MAX(AC$1:AC461)+1)","v":""},{"$f":"IF('Using CMS - Deviation - Limits'!B484=\"\",\"\",'Using CMS - Deviation - Limits'!B484)","v":""},{"$f":"IF('Using CMS - Deviation - Limits'!C484=\"\",\"\",'Using CMS - Deviation - Limits'!C484)","v":""},"",{"$f":"IF(COUNTIF(AF$2:AF462,AF462)=1,AF462,\"\")","v":""},"","",{"$f":"+IFERROR(INDEX(#REF!,MATCH(ROW()-ROW(AG$1),AC$2:AC$955,0)),\"\")","v":""},{"$nulls":3},{"$f":"+IF(AS462=\"\",\"\",MAX(AN$1:AN461)+1)","v":""},{"$f":"IF('Using CMS - Inop_OoC - CMS'!B484=\"\",\"\",'Using CMS - Inop_OoC - CMS'!B484)","v":""},{"$f":"IF('Using CMS - Inop_OoC - CMS'!C484=\"\",\"\",'Using CMS - Inop_OoC - CMS'!C484)","v":""},{"$f":"IF('Using CMS - Inop_OoC - CMS'!D484=\"\",\"\",'Using CMS - Inop_OoC - CMS'!D484)","v":""},{"$f":"AO462&AP462&Table10[[#This Row],[CMS]]","v":""},{"$f":"IF(COUNTIF(AR$2:AR462,AR462)=1,AR462,\"\")","v":""},"","","",null,{"$f":"+IF(BB462=\"\",\"\",MAX(AX$1:AX461)+1)","v":""},{"$f":"IF('Using CMS - Deviation - Limits'!B484=\"\",\"\",'Using CMS - Deviation - Limits'!B484)","v":""},{"$f":"IF('Using CMS - Deviation - Limits'!C484=\"\",\"\",'Using CMS - Deviation - Limits'!C484)","v":""},{"$f":"AY462&AZ462&Table10[[#This Row],[CMS]]","v":""},{"$f":"IF(COUNTIF(BA$2:BA462,BA462)=1,BA462,\"\")","v":""},"","",{"$f":"+IFERROR(INDEX(#REF!,MATCH(ROW()-ROW(BC$1),AX$2:AX$955,0)),\"\")","v":""}]
[{"$f":"+IF(D463=\"\",\"\",MAX(A$1:A462)+1)","v":""},{"$f":"IF('Process_&_CMS_Identification'!C485=\"\",\"\",'Process_&_CMS_Identification'!C485)","v":""},"",{"$f":"IF(COUNTIF(B$2:B463,B463)=1,B463,\"\")","v":""},{"$nulls":15},{"$f":"+IF(X463=\"\",\"\",MAX(T$1:T462)+1)","v":""},{"$f":"IF('No CMS - Deviation - Limits'!B485=\"\",\"\",'No CMS - Deviation - Limits'!B485)","v":""},{"$f":"IF('No CMS - Deviation - Limits'!C485=\"\",\"\",'No CMS - Deviation - Limits'!C485)","v":""},"",{"$f":"IF(COUNTIF(V$2:V463,V463)=1,V463,\"\")","v":""},"","",{"$f":"+IFERROR(INDEX(#REF!,MATCH(ROW()-ROW($Y$1),T$2:T$955,0)),\"\")","v":""},null,{"$f":"+IF(AG463=\"\",\"\",MAX(AC$1:AC462)+1)","v":""},{"$f":"IF('Using CMS - Deviation - Limits'!B485=\"\",\"\",'Using CMS - Deviation - Limits'!B485)","v":""},{"$f":"IF('Using CMS - Deviation - Limits'!C485=\"\",\"\",'Using CMS - Deviation - Limits'!C485)","v":""},"",{"$f":"IF(COUNTIF(AF$2:AF463,AF463)=1,AF463,\"\")","v":""},"","",{"$f":"+IFERROR(INDEX(#REF!,MATCH(ROW()-ROW(AG$1),AC$2:AC$955,0)),\"\")","v":""},{"$nulls":3},{"$f":"+IF(AS463=\"\",\"\",MAX(AN$1:AN462)+1)","v":""},{"$f":"IF('Using CMS - Inop_OoC - CMS'!B485=\"\",\"\",'Using CMS - Inop_OoC - CMS'!B485)","v":""},{"$f":"IF('Using CMS - Inop_OoC - CMS'!C485=\"\",\"\",'Using CMS - Inop_OoC - CMS'!C485)","v":""},{"$f":"IF('Using CMS - Inop_OoC - CMS'!D485=\"\",\"\",'Using CMS - Inop_OoC - CMS'!D485)","v":""},{"$f":"AO463&AP463&Table10[[#This Row],[CMS]]","v":""},{"$f":"IF(COUNTIF(AR$2:AR463,AR463)=1,AR463,\"\")","v":""},"","","",null,{"$f":"+IF(BB463=\"\",\"\",MAX(AX$1:AX462)+1)","v":""},{"$f":"IF('Using CMS - Deviation - Limits'!B485=\"\",\"\",'Using CMS - Deviation - Limits'!B485)","v":""},{"$f":"IF('Using CMS - Deviation - Limits'!C485=\"\",\"\",'Using CMS - Deviation - Limits'!C485)","v":""},{"$f":"AY463&AZ463&Table10[[#This Row],[CMS]]","v":""},{"$f":"IF(COUNTIF(BA$2:BA463,BA463)=1,BA463,\"\")","v":""},"","",{"$f":"+IFERROR(INDEX(#REF!,MATCH(ROW()-ROW(BC$1),AX$2:AX$955,0)),\"\")","v":""}]
[{"$f":"+IF(D464=\"\",\"\",MAX(A$1:A463)+1)","v":""},{"$f":"IF('Process_&_CMS_Identification'!C486=\"\",\"\",'Process_&_CMS_Identification'!C486)","v":""},"",{"$f":"IF(COUNTIF(B$2:B464,B464)=1,B464,\"\")","v":""},{"$nulls":15},{"$f":"+IF(X464=\"\",\"\",MAX(T$1:T463)+1)","v":""},{"$f":"IF('No CMS - Deviation - Limits'!B486=\"\",\"\",'No CMS - Deviation - Limits'!B486)","v":""},{"$f":"IF('No CMS - Deviation - Limits'!C486=\"\",\"\",'No CMS - Deviation - Limits'!C486)","v":""},"",{"$f":"IF(COUNTIF(V$2:V464,V464)=1,V464,\"\")","v":""},"","",{"$f":"+IFERROR(INDEX(#REF!,MATCH(ROW()-ROW($Y$1),T$2:T$955,0)),\"\")","v":""},null,{"$f":"+IF(AG464=\"\",\"\",MAX(AC$1:AC463)+1)","v":""},{"$f":"IF('Using CMS - Deviation - Limits'!B486=\"\",\"\",'Using CMS - Deviation - Limits'!B486)","v":""},{"$f":"IF('Using CMS - Deviation - Limits'!C486=\"\",\"\",'Using CMS - Deviation - Limits'!C486)","v":""},"",{"$f":"IF(COUNTIF(AF$2:AF464,AF464)=1,AF464,\"\")","v":""},"","",{"$f":"+IFERROR(INDEX(#REF!,MATCH(ROW()-ROW(AG$1),AC$2:AC$955,0)),\"\")","v":""},{"$nulls":3},{"$f":"+IF(AS464=\"\",\"\",MAX(AN$1:AN463)+1)","v":""},{"$f":"IF('Using CMS - Inop_OoC - CMS'!B486=\"\",\"\",'Using CMS - Inop_OoC - CMS'!B486)","v":""},{"$f":"IF('Using CMS - Inop_OoC - CMS'!C486=\"\",\"\",'Using CMS - Inop_OoC - CMS'!C486)","v":""},{"$f":"IF('Using CMS - Inop_OoC - CMS'!D486=\"\",\"\",'Using CMS - Inop_OoC - CMS'!D486)","v":""},{"$f":"AO464&AP464&Table10[[#This Row],[CMS]]","v":""},{"$f":"IF(COUNTIF(AR$2:AR464,AR464)=1,AR464,\"\")","v":""},"","","",null,{"$f":"+IF(BB464=\"\",\"\",MAX(AX$1:AX463)+1)","v":""},{"$f":"IF('Using CMS - Deviation - Limits'!B486=\"\",\"\",'Using CMS - Deviation - Limits'!B486)","v":""},{"$f":"IF('Using CMS - Deviation - Limits'!C486=\"\",\"\",'Using CMS - Deviation - Limits'!C486)","v":""},{"$f":"AY464&AZ464&Table10[[#This Row],[CMS]]","v":""},{"$f":"IF(COUNTIF(BA$2:BA464,BA464)=1,BA464,\"\")","v":""},"","",{"$f":"+IFERROR(INDEX(#REF!,MATCH(ROW()-ROW(BC$1),AX$2:AX$955,0)),\"\")","v":""}]
[{"$f":"+IF(D465=\"\",\"\",MAX(A$1:A464)+1)","v":""},{"$f":"IF('Process_&_CMS_Identification'!C487=\"\",\"\",'Process_&_CMS_Identification'!C487)","v":""},"",{"$f":"IF(COUNTIF(B$2:B465,B465)=1,B465,\"\")","v":""},{"$nulls":15},{"$f":"+IF(X465=\"\",\"\",MAX(T$1:T464)+1)","v":""},{"$f":"IF('No CMS - Deviation - Limits'!B487=\"\",\"\",'No CMS - Deviation - Limits'!B487)","v":""},{"$f":"IF('No CMS - Deviation - Limits'!C487=\"\",\"\",'No CMS - Deviation - Limits'!C487)","v":""},"",{"$f":"IF(COUNTIF(V$2:V465,V465)=1,V465,\"\")","v":""},"","",{"$f":"+IFERROR(INDEX(#REF!,MATCH(ROW()-ROW($Y$1),T$2:T$955,0)),\"\")","v":""},null,{"$f":"+IF(AG465=\"\",\"\",MAX(AC$1:AC464)+1)","v":""},{"$f":"IF('Using CMS - Deviation - Limits'!B487=\"\",\"\",'Using CMS - Deviation - Limits'!B487)","v":""},{"$f":"IF('Using CMS - Deviation - Limits'!C487=\"\",\"\",'Using CMS - Deviation - Limits'!C487)","v":""},"",{"$f":"IF(COUNTIF(AF$2:AF465,AF465)=1,AF465,\"\")","v":""},"","",{"$f":"+IFERROR(INDEX(#REF!,MATCH(ROW()-ROW(AG$1),AC$2:AC$955,0)),\"\")","v":""},{"$nulls":3},{"$f":"+IF(AS465=\"\",\"\",MAX(AN$1:AN464)+1)","v":""},{"$f":"IF('Using CMS - Inop_OoC - CMS'!B487=\"\",\"\",'Using CMS - Inop_OoC - CMS'!B487)","v":""},{"$f":"IF('Using CMS - Inop_OoC - CMS'!C487=\"\",\"\",'Using CMS - Inop_OoC - CMS'!C487)","v":""},{"$f":"IF('Using CMS - Inop_OoC - CMS'!D487=\"\",\"\",'Using CMS - Inop_OoC - CMS'!D487)","v":""},{"$f":"AO465&AP465&Table10[[#This Row],[CMS]]","v":""},{"$f":"IF(COUNTIF(AR$2:AR465,AR465)=1,AR465,\"\")","v":""},"","","",null,{"$f":"+IF(BB465=\"\",\"\",MAX(AX$1:AX464)+1)","v":""},{"$f":"IF('Using CMS - Deviation - Limits'!B487=\"\",\"\",'Using CMS - Deviation - Limits'!B487)","v":""},{"$f":"IF('Using CMS - Deviation - Limits'!C487=\"\",\"\",'Using CMS - Deviation - Limits'!C487)","v":""},{"$f":"AY465&AZ465&Table10[[#This Row],[CMS]]","v":""},{"$f":"IF(COUNTIF(BA$2:BA465,BA465)=1,BA465,\"\")","v":""},"","",{"$f":"+IFERROR(INDEX(#REF!,MATCH(ROW()-ROW(BC$1),AX$2:AX$955,0)),\"\")","v":""}]
[{"$f":"+IF(D466=\"\",\"\",MAX(A$1:A465)+1)","v":""},{"$f":"IF('Process_&_CMS_Identification'!C488=\"\",\"\",'Process_&_CMS_Identification'!C488)","v":""},"",{"$f":"IF(COUNTIF(B$2:B466,B466)=1,B466,\"\")","v":""},{"$nulls":15},{"$f":"+IF(X466=\"\",\"\",MAX(T$1:T465)+1)","v":""},{"$f":"IF('No CMS - Deviation - Limits'!B488=\"\",\"\",'No CMS - Deviation - Limits'!B488)","v":""},{"$f":"IF('No CMS - Deviation - Limits'!C488=\"\",\"\",'No CMS - Deviation - Limits'!C488)","v":""},"",{"$f":"IF(COUNTIF(V$2:V466,V466)=1,V466,\"\")","v":""},"","",{"$f":"+IFERROR(INDEX(#REF!,MATCH(ROW()-ROW($Y$1),T$2:T$955,0)),\"\")","v":""},null,{"$f":"+IF(AG466=\"\",\"\",MAX(AC$1:AC465)+1)","v":""},{"$f":"IF('Using CMS - Deviation - Limits'!B488=\"\",\"\",'Using CMS - Deviation - Limits'!B488)","v":""},{"$f":"IF('Using CMS - Deviation - Limits'!C488=\"\",\"\",'Using CMS - Deviation - Limits'!C488)","v":""},"",{"$f":"IF(COUNTIF(AF$2:AF466,AF466)=1,AF466,\"\")","v":""},"","",{"$f":"+IFERROR(INDEX(#REF!,MATCH(ROW()-ROW(AG$1),AC$2:AC$955,0)),\"\")","v":""},{"$nulls":3},{"$f":"+IF(AS466=\"\",\"\",MAX(AN$1:AN465)+1)","v":""},{"$f":"IF('Using CMS - Inop_OoC - CMS'!B488=\"\",\"\",'Using CMS - Inop_OoC - CMS'!B488)","v":""},{"$f":"IF('Using CMS - Inop_OoC - CMS'!C488=\"\",\"\",'Using CMS - Inop_OoC - CMS'!C488)","v":""},{"$f":"IF('Using CMS - Inop_OoC - CMS'!D488=\"\",\"\",'Using CMS - Inop_OoC - CMS'!D488)","v":""},{"$f":"AO466&AP466&Table10[[#This Row],[CMS]]","v":""},{"$f":"IF(COUNTIF(AR$2:AR466,AR466)=1,AR466,\"\")","v":""},"","","",null,{"$f":"+IF(BB466=\"\",\"\",MAX(AX$1:AX465)+1)","v":""},{"$f":"IF('Using CMS - Deviation - Limits'!B488=\"\",\"\",'Using CMS - Deviation - Limits'!B488)","v":""},{"$f":"IF('Using CMS - Deviation - Limits'!C488=\"\",\"\",'Using CMS - Deviation - Limits'!C488)","v":""},{"$f":"AY466&AZ466&Table10[[#This Row],[CMS]]","v":""},{"$f":"IF(COUNTIF(BA$2:BA466,BA466)=1,BA466,\"\")","v":""},"","",{"$f":"+IFERROR(INDEX(#REF!,MATCH(ROW()-ROW(BC$1),AX$2:AX$955,0)),\"\")","v":""}]
[{"$f":"+IF(D467=\"\",\"\",MAX(A$1:A466)+1)","v":""},{"$f":"IF('Process_&_CMS_Identification'!C489=\"\",\"\",'Process_&_CMS_Identification'!C489)","v":""},"",{"$f":"IF(COUNTIF(B$2:B467,B467)=1,B467,\"\")","v":""},{"$nulls":15},{"$f":"+IF(X467=\"\",\"\",MAX(T$1:T466)+1)","v":""},{"$f":"IF('No CMS - Deviation - Limits'!B489=\"\",\"\",'No CMS - Deviation - Limits'!B489)","v":""},{"$f":"IF('No CMS - Deviation - Limits'!C489=\"\",\"\",'No CMS - Deviation - Limits'!C489)","v":""},"",{"$f":"IF(COUNTIF(V$2:V467,V467)=1,V467,\"\")","v":""},"","",{"$f":"+IFERROR(INDEX(#REF!,MATCH(ROW()-ROW($Y$1),T$2:T$955,0)),\"\")","v":""},null,{"$f":"+IF(AG467=\"\",\"\",MAX(AC$1:AC466)+1)","v":""},{"$f":"IF('Using CMS - Deviation - Limits'!B489=\"\",\"\",'Using CMS - Deviation - Limits'!B489)","v":""},{"$f":"IF('Using CMS - Deviation - Limits'!C489=\"\",\"\",'Using CMS - Deviation - Limits'!C489)","v":""},"",{"$f":"IF(COUNTIF(AF$2:AF467,AF467)=1,AF467,\"\")","v":""},"","",{"$f":"+IFERROR(INDEX(#REF!,MATCH(ROW()-ROW(AG$1),AC$2:AC$955,0)),\"\")","v":""},{"$nulls":3},{"$f":"+IF(AS467=\"\",\"\",MAX(AN$1:AN466)+1)","v":""},{"$f":"IF('Using CMS - Inop_OoC - CMS'!B489=\"\",\"\",'Using CMS - Inop_OoC - CMS'!B489)","v":""},{"$f":"IF('Using CMS - Inop_OoC - CMS'!C489=\"\",\"\",'Using CMS - Inop_OoC - CMS'!C489)","v":""},{"$f":"IF('Using CMS - Inop_OoC - CMS'!D489=\"\",\"\",'Using CMS - Inop_OoC - CMS'!D489)","v":""},{"$f":"AO467&AP467&Table10[[#This Row],[CMS]]","v":""},{"$f":"IF(COUNTIF(AR$2:AR467,AR467)=1,AR467,\"\")","v":""},"","","",null,{"$f":"+IF(BB467=\"\",\"\",MAX(AX$1:AX466)+1)","v":""},{"$f":"IF('Using CMS - Deviation - Limits'!B489=\"\",\"\",'Using CMS - Deviation - Limits'!B489)","v":""},{"$f":"IF('Using CMS - Deviation - Limits'!C489=\"\",\"\",'Using CMS - Deviation - Limits'!C489)","v":""},{"$f":"AY467&AZ467&Table10[[#This Row],[CMS]]","v":""},{"$f":"IF(COUNTIF(BA$2:BA467,BA467)=1,BA467,\"\")","v":""},"","",{"$f":"+IFERROR(INDEX(#REF!,MATCH(ROW()-ROW(BC$1),AX$2:AX$955,0)),\"\")","v":""}]
[{"$f":"+IF(D468=\"\",\"\",MAX(A$1:A467)+1)","v":""},{"$f":"IF('Process_&_CMS_Identification'!C490=\"\",\"\",'Process_&_CMS_Identification'!C490)","v":""},"",{"$f":"IF(COUNTIF(B$2:B468,B468)=1,B468,\"\")","v":""},{"$nulls":15},{"$f":"+IF(X468=\"\",\"\",MAX(T$1:T467)+1)","v":""},{"$f":"IF('No CMS - Deviation - Limits'!B490=\"\",\"\",'No CMS - Deviation - Limits'!B490)","v":""},{"$f":"IF('No CMS - Deviation - Limits'!C490=\"\",\"\",'No CMS - Deviation - Limits'!C490)","v":""},"",{"$f":"IF(COUNTIF(V$2:V468,V468)=1,V468,\"\")","v":""},"","",{"$f":"+IFERROR(INDEX(#REF!,MATCH(ROW()-ROW($Y$1),T$2:T$955,0)),\"\")","v":""},null,{"$f":"+IF(AG468=\"\",\"\",MAX(AC$1:AC467)+1)","v":""},{"$f":"IF('Using CMS - Deviation - Limits'!B490=\"\",\"\",'Using CMS - Deviation - Limits'!B490)","v":""},{"$f":"IF('Using CMS - Deviation - Limits'!C490=\"\",\"\",'Using CMS - Deviation - Limits'!C490)","v":""},"",{"$f":"IF(COUNTIF(AF$2:AF468,AF468)=1,AF468,\"\")","v":""},"","",{"$f":"+IFERROR(INDEX(#REF!,MATCH(ROW()-ROW(AG$1),AC$2:AC$955,0)),\"\")","v":""},{"$nulls":3},{"$f":"+IF(AS468=\"\",\"\",MAX(AN$1:AN467)+1)","v":""},{"$f":"IF('Using CMS - Inop_OoC - CMS'!B490=\"\",\"\",'Using CMS - Inop_OoC - CMS'!B490)","v":""},{"$f":"IF('Using CMS - Inop_OoC - CMS'!C490=\"\",\"\",'Using CMS - Inop_OoC - CMS'!C490)","v":""},{"$f":"IF('Using CMS - Inop_OoC - CMS'!D490=\"\",\"\",'Using CMS - Inop_OoC - CMS'!D490)","v":""},{"$f":"AO468&AP468&Table10[[#This Row],[CMS]]","v":""},{"$f":"IF(COUNTIF(AR$2:AR468,AR468)=1,AR468,\"\")","v":""},"","","",null,{"$f":"+IF(BB468=\"\",\"\",MAX(AX$1:AX467)+1)","v":""},{"$f":"IF('Using CMS - Deviation - Limits'!B490=\"\",\"\",'Using CMS - Deviation - Limits'!B490)","v":""},{"$f":"IF('Using CMS - Deviation - Limits'!C490=\"\",\"\",'Using CMS - Deviation - Limits'!C490)","v":""},{"$f":"AY468&AZ468&Table10[[#This Row],[CMS]]","v":""},{"$f":"IF(COUNTIF(BA$2:BA468,BA468)=1,BA468,\"\")","v":""},"","",{"$f":"+IFERROR(INDEX(#REF!,MATCH(ROW()-ROW(BC$1),AX$2:AX$955,0)),\"\")","v":""}]
[{"$f":"+IF(D469=\"\",\"\",MAX(A$1:A468)+1)","v":""},{"$f":"IF('Process_&_CMS_Identification'!C491=\"\",\"\",'Process_&_CMS_Identification'!C491)","v":""},"",{"$f":"IF(COUNTIF(B$2:B469,B469)=1,B469,\"\")","v":""},{"$nulls":15},{"$f":"+IF(X469=\"\",\"\",MAX(T$1:T468)+1)","v":""},{"$f":"IF('No CMS - Deviation - Limits'!B491=\"\",\"\",'No CMS - Deviation - Limits'!B491)","v":""},{"$f":"IF('No CMS - Deviation - Limits'!C491=\"\",\"\",'No CMS - Deviation - Limits'!C491)","v":""},"",{"$f":"IF(COUNTIF(V$2:V469,V469)=1,V469,\"\")","v":""},"","",{"$f":"+IFERROR(INDEX(#REF!,MATCH(ROW()-ROW($Y$1),T$2:T$955,0)),\"\")","v":""},null,{"$f":"+IF(AG469=\"\",\"\",MAX(AC$1:AC468)+1)","v":""},{"$f":"IF('Using CMS - Deviation - Limits'!B491=\"\",\"\",'Using CMS - Deviation - Limits'!B491)","v":""},{"$f":"IF('Using CMS - Deviation - Limits'!C491=\"\",\"\",'Using CMS - Deviation - Limits'!C491)","v":""},"",{"$f":"IF(COUNTIF(AF$2:AF469,AF469)=1,AF469,\"\")","v":""},"","",{"$f":"+IFERROR(INDEX(#REF!,MATCH(ROW()-ROW(AG$1),AC$2:AC$955,0)),\"\")","v":""},{"$nulls":3},{"$f":"+IF(AS469=\"\",\"\",MAX(AN$1:AN468)+1)","v":""},{"$f":"IF('Using CMS - Inop_OoC - CMS'!B491=\"\",\"\",'Using CMS - Inop_OoC - CMS'!B491)","v":""},{"$f":"IF('Using CMS - Inop_OoC - CMS'!C491=\"\",\"\",'Using CMS - Inop_OoC - CMS'!C491)","v":""},{"$f":"IF('Using CMS - Inop_OoC - CMS'!D491=\"\",\"\",'Using CMS - Inop_OoC - CMS'!D491)","v":""},{"$f":"AO469&AP469&Table10[[#This Row],[CMS]]","v":""},{"$f":"IF(COUNTIF(AR$2:AR469,AR469)=1,AR469,\"\")","v":""},"","","",null,{"$f":"+IF(BB469=\"\",\"\",MAX(AX$1:AX468)+1)","v":""},{"$f":"IF('Using CMS - Deviation - Limits'!B491=\"\",\"\",'Using CMS - Deviation - Limits'!B491)","v":""},{"$f":"IF('Using CMS - Deviation - Limits'!C491=\"\",\"\",'Using CMS - Deviation - Limits'!C491)","v":""},{"$f":"AY469&AZ469&Table10[[#This Row],[CMS]]","v":""},{"$f":"IF(COUNTIF(BA$2:BA469,BA469)=1,BA469,\"\")","v":""},"","",{"$f":"+IFERROR(INDEX(#REF!,MATCH(ROW()-ROW(BC$1),AX$2:AX$955,0)),\"\")","v":""}]
[{"$f":"+IF(D470=\"\",\"\",MAX(A$1:A469)+1)","v":""},{"$f":"IF('Process_&_CMS_Identification'!C492=\"\",\"\",'Process_&_CMS_Identification'!C492)","v":""},"",{"$f":"IF(COUNTIF(B$2:B470,B470)=1,B470,\"\")","v":""},{"$nulls":15},{"$f":"+IF(X470=\"\",\"\",MAX(T$1:T469)+1)","v":""},{"$f":"IF('No CMS - Deviation - Limits'!B492=\"\",\"\",'No CMS - Deviation - Limits'!B492)","v":""},{"$f":"IF('No CMS - Deviation - Limits'!C492=\"\",\"\",'No CMS - Deviation - Limits'!C492)","v":""},"",{"$f":"IF(COUNTIF(V$2:V470,V470)=1,V470,\"\")","v":""},"","",{"$f":"+IFERROR(INDEX(#REF!,MATCH(ROW()-ROW($Y$1),T$2:T$955,0)),\"\")","v":""},null,{"$f":"+IF(AG470=\"\",\"\",MAX(AC$1:AC469)+1)","v":""},{"$f":"IF('Using CMS - Deviation - Limits'!B492=\"\",\"\",'Using CMS - Deviation - Limits'!B492)","v":""},{"$f":"IF('Using CMS - Deviation - Limits'!C492=\"\",\"\",'Using CMS - Deviation - Limits'!C492)","v":""},"",{"$f":"IF(COUNTIF(AF$2:AF470,AF470)=1,AF470,\"\")","v":""},"","",{"$f":"+IFERROR(INDEX(#REF!,MATCH(ROW()-ROW(AG$1),AC$2:AC$955,0)),\"\")","v":""},{"$nulls":3},{"$f":"+IF(AS470=\"\",\"\",MAX(AN$1:AN469)+1)","v":""},{"$f":"IF('Using CMS - Inop_OoC - CMS'!B492=\"\",\"\",'Using CMS - Inop_OoC - CMS'!B492)","v":""},{"$f":"IF('Using CMS - Inop_OoC - CMS'!C492=\"\",\"\",'Using CMS - Inop_OoC - CMS'!C492)","v":""},{"$f":"IF('Using CMS - Inop_OoC - CMS'!D492=\"\",\"\",'Using CMS - Inop_OoC - CMS'!D492)","v":""},{"$f":"AO470&AP470&Table10[[#This Row],[CMS]]","v":""},{"$f":"IF(COUNTIF(AR$2:AR470,AR470)=1,AR470,\"\")","v":""},"","","",null,{"$f":"+IF(BB470=\"\",\"\",MAX(AX$1:AX469)+1)","v":""},{"$f":"IF('Using CMS - Deviation - Limits'!B492=\"\",\"\",'Using CMS - Deviation - Limits'!B492)","v":""},{"$f":"IF('Using CMS - Deviation - Limits'!C492=\"\",\"\",'Using CMS - Deviation - Limits'!C492)","v":""},{"$f":"AY470&AZ470&Table10[[#This Row],[CMS]]","v":""},{"$f":"IF(COUNTIF(BA$2:BA470,BA470)=1,BA470,\"\")","v":""},"","",{"$f":"+IFERROR(INDEX(#REF!,MATCH(ROW()-ROW(BC$1),AX$2:AX$955,0)),\"\")","v":""}]
[{"$f":"+IF(D471=\"\",\"\",MAX(A$1:A470)+1)","v":""},{"$f":"IF('Process_&_CMS_Identification'!C493=\"\",\"\",'Process_&_CMS_Identification'!C493)","v":""},"",{"$f":"IF(COUNTIF(B$2:B471,B471)=1,B471,\"\")","v":""},{"$nulls":15},{"$f":"+IF(X471=\"\",\"\",MAX(T$1:T470)+1)","v":""},{"$f":"IF('No CMS - Deviation - Limits'!B493=\"\",\"\",'No CMS - Deviation - Limits'!B493)","v":""},{"$f":"IF('No CMS - Deviation - Limits'!C493=\"\",\"\",'No CMS - Deviation - Limits'!C493)","v":""},"",{"$f":"IF(COUNTIF(V$2:V471,V471)=1,V471,\"\")","v":""},"","",{"$f":"+IFERROR(INDEX(#REF!,MATCH(ROW()-ROW($Y$1),T$2:T$955,0)),\"\")","v":""},null,{"$f":"+IF(AG471=\"\",\"\",MAX(AC$1:AC470)+1)","v":""},{"$f":"IF('Using CMS - Deviation - Limits'!B493=\"\",\"\",'Using CMS - Deviation - Limits'!B493)","v":""},{"$f":"IF('Using CMS - Deviation - Limits'!C493=\"\",\"\",'Using CMS - Deviation - Limits'!C493)","v":""},"",{"$f":"IF(COUNTIF(AF$2:AF471,AF471)=1,AF471,\"\")","v":""},"","",{"$f":"+IFERROR(INDEX(#REF!,MATCH(ROW()-ROW(AG$1),AC$2:AC$955,0)),\"\")","v":""},{"$nulls":3},{"$f":"+IF(AS471=\"\",\"\",MAX(AN$1:AN470)+1)","v":""},{"$f":"IF('Using CMS - Inop_OoC - CMS'!B493=\"\",\"\",'Using CMS - Inop_OoC - CMS'!B493)","v":""},{"$f":"IF('Using CMS - Inop_OoC - CMS'!C493=\"\",\"\",'Using CMS - Inop_OoC - CMS'!C493)","v":""},{"$f":"IF('Using CMS - Inop_OoC - CMS'!D493=\"\",\"\",'Using CMS - Inop_OoC - CMS'!D493)","v":""},{"$f":"AO471&AP471&Table10[[#This Row],[CMS]]","v":""},{"$f":"IF(COUNTIF(AR$2:AR471,AR471)=1,AR471,\"\")","v":""},"","","",null,{"$f":"+IF(BB471=\"\",\"\",MAX(AX$1:AX470)+1)","v":""},{"$f":"IF('Using CMS - Deviation - Limits'!B493=\"\",\"\",'Using CMS - Deviation - Limits'!B493)","v":""},{"$f":"IF('Using CMS - Deviation - Limits'!C493=\"\",\"\",'Using CMS - Deviation - Limits'!C493)","v":""},{"$f":"AY471&AZ471&Table10[[#This Row],[CMS]]","v":""},{"$f":"IF(COUNTIF(BA$2:BA471,BA471)=1,BA471,\"\")","v":""},"","",{"$f":"+IFERROR(INDEX(#REF!,MATCH(ROW()-ROW(BC$1),AX$2:AX$955,0)),\"\")","v":""}]
[{"$f":"+IF(D472=\"\",\"\",MAX(A$1:A471)+1)","v":""},{"$f":"IF('Process_&_CMS_Identification'!C494=\"\",\"\",'Process_&_CMS_Identification'!C494)","v":""},"",{"$f":"IF(COUNTIF(B$2:B472,B472)=1,B472,\"\")","v":""},{"$nulls":15},{"$f":"+IF(X472=\"\",\"\",MAX(T$1:T471)+1)","v":""},{"$f":"IF('No CMS - Deviation - Limits'!B494=\"\",\"\",'No CMS - Deviation - Limits'!B494)","v":""},{"$f":"IF('No CMS - Deviation - Limits'!C494=\"\",\"\",'No CMS - Deviation - Limits'!C494)","v":""},"",{"$f":"IF(COUNTIF(V$2:V472,V472)=1,V472,\"\")","v":""},"","",{"$f":"+IFERROR(INDEX(#REF!,MATCH(ROW()-ROW($Y$1),T$2:T$955,0)),\"\")","v":""},null,{"$f":"+IF(AG472=\"\",\"\",MAX(AC$1:AC471)+1)","v":""},{"$f":"IF('Using CMS - Deviation - Limits'!B494=\"\",\"\",'Using CMS - Deviation - Limits'!B494)","v":""},{"$f":"IF('Using CMS - Deviation - Limits'!C494=\"\",\"\",'Using CMS - Deviation - Limits'!C494)","v":""},"",{"$f":"IF(COUNTIF(AF$2:AF472,AF472)=1,AF472,\"\")","v":""},"","",{"$f":"+IFERROR(INDEX(#REF!,MATCH(ROW()-ROW(AG$1),AC$2:AC$955,0)),\"\")","v":""},{"$nulls":3},{"$f":"+IF(AS472=\"\",\"\",MAX(AN$1:AN471)+1)","v":""},{"$f":"IF('Using CMS - Inop_OoC - CMS'!B494=\"\",\"\",'Using CMS - Inop_OoC - CMS'!B494)","v":""},{"$f":"IF('Using CMS - Inop_OoC - CMS'!C494=\"\",\"\",'Using CMS - Inop_OoC - CMS'!C494)","v":""},{"$f":"IF('Using CMS - Inop_OoC - CMS'!D494=\"\",\"\",'Using CMS - Inop_OoC - CMS'!D494)","v":""},{"$f":"AO472&AP472&Table10[[#This Row],[CMS]]","v":""},{"$f":"IF(COUNTIF(AR$2:AR472,AR472)=1,AR472,\"\")","v":""},"","","",null,{"$f":"+IF(BB472=\"\",\"\",MAX(AX$1:AX471)+1)","v":""},{"$f":"IF('Using CMS - Deviation - Limits'!B494=\"\",\"\",'Using CMS - Deviation - Limits'!B494)","v":""},{"$f":"IF('Using CMS - Deviation - Limits'!C494=\"\",\"\",'Using CMS - Deviation - Limits'!C494)","v":""},{"$f":"AY472&AZ472&Table10[[#This Row],[CMS]]","v":""},{"$f":"IF(COUNTIF(BA$2:BA472,BA472)=1,BA472,\"\")","v":""},"","",{"$f":"+IFERROR(INDEX(#REF!,MATCH(ROW()-ROW(BC$1),AX$2:AX$955,0)),\"\")","v":""}]
[{"$f":"+IF(D473=\"\",\"\",MAX(A$1:A472)+1)","v":""},{"$f":"IF('Process_&_CMS_Identification'!C495=\"\",\"\",'Process_&_CMS_Identification'!C495)","v":""},"",{"$f":"IF(COUNTIF(B$2:B473,B473)=1,B473,\"\")","v":""},{"$nulls":15},{"$f":"+IF(X473=\"\",\"\",MAX(T$1:T472)+1)","v":""},{"$f":"IF('No CMS - Deviation - Limits'!B495=\"\",\"\",'No CMS - Deviation - Limits'!B495)","v":""},{"$f":"IF('No CMS - Deviation - Limits'!C495=\"\",\"\",'No CMS - Deviation - Limits'!C495)","v":""},"",{"$f":"IF(COUNTIF(V$2:V473,V473)=1,V473,\"\")","v":""},"","",{"$f":"+IFERROR(INDEX(#REF!,MATCH(ROW()-ROW($Y$1),T$2:T$955,0)),\"\")","v":""},null,{"$f":"+IF(AG473=\"\",\"\",MAX(AC$1:AC472)+1)","v":""},{"$f":"IF('Using CMS - Deviation - Limits'!B495=\"\",\"\",'Using CMS - Deviation - Limits'!B495)","v":""},{"$f":"IF('Using CMS - Deviation - Limits'!C495=\"\",\"\",'Using CMS - Deviation - Limits'!C495)","v":""},"",{"$f":"IF(COUNTIF(AF$2:AF473,AF473)=1,AF473,\"\")","v":""},"","",{"$f":"+IFERROR(INDEX(#REF!,MATCH(ROW()-ROW(AG$1),AC$2:AC$955,0)),\"\")","v":""},{"$nulls":3},{"$f":"+IF(AS473=\"\",\"\",MAX(AN$1:AN472)+1)","v":""},{"$f":"IF('Using CMS - Inop_OoC - CMS'!B495=\"\",\"\",'Using CMS - Inop_OoC - CMS'!B495)","v":""},{"$f":"IF('Using CMS - Inop_OoC - CMS'!C495=\"\",\"\",'Using CMS - Inop_OoC - CMS'!C495)","v":""},{"$f":"IF('Using CMS - Inop_OoC - CMS'!D495=\"\",\"\",'Using CMS - Inop_OoC - CMS'!D495)","v":""},{"$f":"AO473&AP473&Table10[[#This Row],[CMS]]","v":""},{"$f":"IF(COUNTIF(AR$2:AR473,AR473)=1,AR473,\"\")","v":""},"","","",null,{"$f":"+IF(BB473=\"\",\"\",MAX(AX$1:AX472)+1)","v":""},{"$f":"IF('Using CMS - Deviation - Limits'!B495=\"\",\"\",'Using CMS - Deviation - Limits'!B495)","v":""},{"$f":"IF('Using CMS - Deviation - Limits'!C495=\"\",\"\",'Using CMS - Deviation - Limits'!C495)","v":""},{"$f":"AY473&AZ473&Table10[[#This Row],[CMS]]","v":""},{"$f":"IF(COUNTIF(BA$2:BA473,BA473)=1,BA473,\"\")","v":""},"","",{"$f":"+IFERROR(INDEX(#REF!,MATCH(ROW()-ROW(BC$1),AX$2:AX$955,0)),\"\")","v":""}]
[{"$f":"+IF(D474=\"\",\"\",MAX(A$1:A473)+1)","v":""},{"$f":"IF('Process_&_CMS_Identification'!C496=\"\",\"\",'Process_&_CMS_Identification'!C496)","v":""},"",{"$f":"IF(COUNTIF(B$2:B474,B474)=1,B474,\"\")","v":""},{"$nulls":15},{"$f":"+IF(X474=\"\",\"\",MAX(T$1:T473)+1)","v":""},{"$f":"IF('No CMS - Deviation - Limits'!B496=\"\",\"\",'No CMS - Deviation - Limits'!B496)","v":""},{"$f":"IF('No CMS - Deviation - Limits'!C496=\"\",\"\",'No CMS - Deviation - Limits'!C496)","v":""},"",{"$f":"IF(COUNTIF(V$2:V474,V474)=1,V474,\"\")","v":""},"","",{"$f":"+IFERROR(INDEX(#REF!,MATCH(ROW()-ROW($Y$1),T$2:T$955,0)),\"\")","v":""},null,{"$f":"+IF(AG474=\"\",\"\",MAX(AC$1:AC473)+1)","v":""},{"$f":"IF('Using CMS - Deviation - Limits'!B496=\"\",\"\",'Using CMS - Deviation - Limits'!B496)","v":""},{"$f":"IF('Using CMS - Deviation - Limits'!C496=\"\",\"\",'Using CMS - Deviation - Limits'!C496)","v":""},"",{"$f":"IF(COUNTIF(AF$2:AF474,AF474)=1,AF474,\"\")","v":""},"","",{"$f":"+IFERROR(INDEX(#REF!,MATCH(ROW()-ROW(AG$1),AC$2:AC$955,0)),\"\")","v":""},{"$nulls":3},{"$f":"+IF(AS474=\"\",\"\",MAX(AN$1:AN473)+1)","v":""},{"$f":"IF('Using CMS - Inop_OoC - CMS'!B496=\"\",\"\",'Using CMS - Inop_OoC - CMS'!B496)","v":""},{"$f":"IF('Using CMS - Inop_OoC - CMS'!C496=\"\",\"\",'Using CMS - Inop_OoC - CMS'!C496)","v":""},{"$f":"IF('Using CMS - Inop_OoC - CMS'!D496=\"\",\"\",'Using CMS - Inop_OoC - CMS'!D496)","v":""},{"$f":"AO474&AP474&Table10[[#This Row],[CMS]]","v":""},{"$f":"IF(COUNTIF(AR$2:AR474,AR474)=1,AR474,\"\")","v":""},"","","",null,{"$f":"+IF(BB474=\"\",\"\",MAX(AX$1:AX473)+1)","v":""},{"$f":"IF('Using CMS - Deviation - Limits'!B496=\"\",\"\",'Using CMS - Deviation - Limits'!B496)","v":""},{"$f":"IF('Using CMS - Deviation - Limits'!C496=\"\",\"\",'Using CMS - Deviation - Limits'!C496)","v":""},{"$f":"AY474&AZ474&Table10[[#This Row],[CMS]]","v":""},{"$f":"IF(COUNTIF(BA$2:BA474,BA474)=1,BA474,\"\")","v":""},"","",{"$f":"+IFERROR(INDEX(#REF!,MATCH(ROW()-ROW(BC$1),AX$2:AX$955,0)),\"\")","v":""}]
[{"$f":"+IF(D475=\"\",\"\",MAX(A$1:A474)+1)","v":""},{"$f":"IF('Process_&_CMS_Identification'!C497=\"\",\"\",'Process_&_CMS_Identification'!C497)","v":""},"",{"$f":"IF(COUNTIF(B$2:B475,B475)=1,B475,\"\")","v":""},{"$nulls":15},{"$f":"+IF(X475=\"\",\"\",MAX(T$1:T474)+1)","v":""},{"$f":"IF('No CMS - Deviation - Limits'!B497=\"\",\"\",'No CMS - Deviation - Limits'!B497)","v":""},{"$f":"IF('No CMS - Deviation - Limits'!C497=\"\",\"\",'No CMS - Deviation - Limits'!C497)","v":""},"",{"$f":"IF(COUNTIF(V$2:V475,V475)=1,V475,\"\")","v":""},"","",{"$f":"+IFERROR(INDEX(#REF!,MATCH(ROW()-ROW($Y$1),T$2:T$955,0)),\"\")","v":""},null,{"$f":"+IF(AG475=\"\",\"\",MAX(AC$1:AC474)+1)","v":""},{"$f":"IF('Using CMS - Deviation - Limits'!B497=\"\",\"\",'Using CMS - Deviation - Limits'!B497)","v":""},{"$f":"IF('Using CMS - Deviation - Limits'!C497=\"\",\"\",'Using CMS - Deviation - Limits'!C497)","v":""},"",{"$f":"IF(COUNTIF(AF$2:AF475,AF475)=1,AF475,\"\")","v":""},"","",{"$f":"+IFERROR(INDEX(#REF!,MATCH(ROW()-ROW(AG$1),AC$2:AC$955,0)),\"\")","v":""},{"$nulls":3},{"$f":"+IF(AS475=\"\",\"\",MAX(AN$1:AN474)+1)","v":""},{"$f":"IF('Using CMS - Inop_OoC - CMS'!B497=\"\",\"\",'Using CMS - Inop_OoC - CMS'!B497)","v":""},{"$f":"IF('Using CMS - Inop_OoC - CMS'!C497=\"\",\"\",'Using CMS - Inop_OoC - CMS'!C497)","v":""},{"$f":"IF('Using CMS - Inop_OoC - CMS'!D497=\"\",\"\",'Using CMS - Inop_OoC - CMS'!D497)","v":""},{"$f":"AO475&AP475&Table10[[#This Row],[CMS]]","v":""},{"$f":"IF(COUNTIF(AR$2:AR475,AR475)=1,AR475,\"\")","v":""},"","","",null,{"$f":"+IF(BB475=\"\",\"\",MAX(AX$1:AX474)+1)","v":""},{"$f":"IF('Using CMS - Deviation - Limits'!B497=\"\",\"\",'Using CMS - Deviation - Limits'!B497)","v":""},{"$f":"IF('Using CMS - Deviation - Limits'!C497=\"\",\"\",'Using CMS - Deviation - Limits'!C497)","v":""},{"$f":"AY475&AZ475&Table10[[#This Row],[CMS]]","v":""},{"$f":"IF(COUNTIF(BA$2:BA475,BA475)=1,BA475,\"\")","v":""},"","",{"$f":"+IFERROR(INDEX(#REF!,MATCH(ROW()-ROW(BC$1),AX$2:AX$955,0)),\"\")","v":""}]
[{"$f":"+IF(D476=\"\",\"\",MAX(A$1:A475)+1)","v":""},{"$f":"IF('Process_&_CMS_Identification'!C498=\"\",\"\",'Process_&_CMS_Identification'!C498)","v":""},"",{"$f":"IF(COUNTIF(B$2:B476,B476)=1,B476,\"\")","v":""},{"$nulls":15},{"$f":"+IF(X476=\"\",\"\",MAX(T$1:T475)+1)","v":""},{"$f":"IF('No CMS - Deviation - Limits'!B498=\"\",\"\",'No CMS - Deviation - Limits'!B498)","v":""},{"$f":"IF('No CMS - Deviation - Limits'!C498=\"\",\"\",'No CMS - Deviation - Limits'!C498)","v":""},"",{"$f":"IF(COUNTIF(V$2:V476,V476)=1,V476,\"\")","v":""},"","",{"$f":"+IFERROR(INDEX(#REF!,MATCH(ROW()-ROW($Y$1),T$2:T$955,0)),\"\")","v":""},null,{"$f":"+IF(AG476=\"\",\"\",MAX(AC$1:AC475)+1)","v":""},{"$f":"IF('Using CMS - Deviation - Limits'!B498=\"\",\"\",'Using CMS - Deviation - Limits'!B498)","v":""},{"$f":"IF('Using CMS - Deviation - Limits'!C498=\"\",\"\",'Using CMS - Deviation - Limits'!C498)","v":""},"",{"$f":"IF(COUNTIF(AF$2:AF476,AF476)=1,AF476,\"\")","v":""},"","",{"$f":"+IFERROR(INDEX(#REF!,MATCH(ROW()-ROW(AG$1),AC$2:AC$955,0)),\"\")","v":""},{"$nulls":3},{"$f":"+IF(AS476=\"\",\"\",MAX(AN$1:AN475)+1)","v":""},{"$f":"IF('Using CMS - Inop_OoC - CMS'!B498=\"\",\"\",'Using CMS - Inop_OoC - CMS'!B498)","v":""},{"$f":"IF('Using CMS - Inop_OoC - CMS'!C498=\"\",\"\",'Using CMS - Inop_OoC - CMS'!C498)","v":""},{"$f":"IF('Using CMS - Inop_OoC - CMS'!D498=\"\",\"\",'Using CMS - Inop_OoC - CMS'!D498)","v":""},{"$f":"AO476&AP476&Table10[[#This Row],[CMS]]","v":""},{"$f":"IF(COUNTIF(AR$2:AR476,AR476)=1,AR476,\"\")","v":""},"","","",null,{"$f":"+IF(BB476=\"\",\"\",MAX(AX$1:AX475)+1)","v":""},{"$f":"IF('Using CMS - Deviation - Limits'!B498=\"\",\"\",'Using CMS - Deviation - Limits'!B498)","v":""},{"$f":"IF('Using CMS - Deviation - Limits'!C498=\"\",\"\",'Using CMS - Deviation - Limits'!C498)","v":""},{"$f":"AY476&AZ476&Table10[[#This Row],[CMS]]","v":""},{"$f":"IF(COUNTIF(BA$2:BA476,BA476)=1,BA476,\"\")","v":""},"","",{"$f":"+IFERROR(INDEX(#REF!,MATCH(ROW()-ROW(BC$1),AX$2:AX$955,0)),\"\")","v":""}]
[{"$f":"+IF(D477=\"\",\"\",MAX(A$1:A476)+1)","v":""},{"$f":"IF('Process_&_CMS_Identification'!C499=\"\",\"\",'Process_&_CMS_Identification'!C499)","v":""},"",{"$f":"IF(COUNTIF(B$2:B477,B477)=1,B477,\"\")","v":""},{"$nulls":15},{"$f":"+IF(X477=\"\",\"\",MAX(T$1:T476)+1)","v":""},{"$f":"IF('No CMS - Deviation - Limits'!B499=\"\",\"\",'No CMS - Deviation - Limits'!B499)","v":""},{"$f":"IF('No CMS - Deviation - Limits'!C499=\"\",\"\",'No CMS - Deviation - Limits'!C499)","v":""},"",{"$f":"IF(COUNTIF(V$2:V477,V477)=1,V477,\"\")","v":""},"","",{"$f":"+IFERROR(INDEX(#REF!,MATCH(ROW()-ROW($Y$1),T$2:T$955,0)),\"\")","v":""},null,{"$f":"+IF(AG477=\"\",\"\",MAX(AC$1:AC476)+1)","v":""},{"$f":"IF('Using CMS - Deviation - Limits'!B499=\"\",\"\",'Using CMS - Deviation - Limits'!B499)","v":""},{"$f":"IF('Using CMS - Deviation - Limits'!C499=\"\",\"\",'Using CMS - Deviation - Limits'!C499)","v":""},"",{"$f":"IF(COUNTIF(AF$2:AF477,AF477)=1,AF477,\"\")","v":""},"","",{"$f":"+IFERROR(INDEX(#REF!,MATCH(ROW()-ROW(AG$1),AC$2:AC$955,0)),\"\")","v":""},{"$nulls":3},{"$f":"+IF(AS477=\"\",\"\",MAX(AN$1:AN476)+1)","v":""},{"$f":"IF('Using CMS - Inop_OoC - CMS'!B499=\"\",\"\",'Using CMS - Inop_OoC - CMS'!B499)","v":""},{"$f":"IF('Using CMS - Inop_OoC - CMS'!C499=\"\",\"\",'Using CMS - Inop_OoC - CMS'!C499)","v":""},{"$f":"IF('Using CMS - Inop_OoC - CMS'!D499=\"\",\"\",'Using CMS - Inop_OoC - CMS'!D499)","v":""},{"$f":"AO477&AP477&Table10[[#This Row],[CMS]]","v":""},{"$f":"IF(COUNTIF(AR$2:AR477,AR477)=1,AR477,\"\")","v":""},"","","",null,{"$f":"+IF(BB477=\"\",\"\",MAX(AX$1:AX476)+1)","v":""},{"$f":"IF('Using CMS - Deviation - Limits'!B499=\"\",\"\",'Using CMS - Deviation - Limits'!B499)","v":""},{"$f":"IF('Using CMS - Deviation - Limits'!C499=\"\",\"\",'Using CMS - Deviation - Limits'!C499)","v":""},{"$f":"AY477&AZ477&Table10[[#This Row],[CMS]]","v":""},{"$f":"IF(COUNTIF(BA$2:BA477,BA477)=1,BA477,\"\")","v":""},"","",{"$f":"+IFERROR(INDEX(#REF!,MATCH(ROW()-ROW(BC$1),AX$2:AX$955,0)),\"\")","v":""}]
[{"$f":"+IF(D478=\"\",\"\",MAX(A$1:A477)+1)","v":""},{"$f":"IF('Process_&_CMS_Identification'!C500=\"\",\"\",'Process_&_CMS_Identification'!C500)","v":""},"",{"$f":"IF(COUNTIF(B$2:B478,B478)=1,B478,\"\")","v":""},{"$nulls":15},{"$f":"+IF(X478=\"\",\"\",MAX(T$1:T477)+1)","v":""},{"$f":"IF('No CMS - Deviation - Limits'!B500=\"\",\"\",'No CMS - Deviation - Limits'!B500)","v":""},{"$f":"IF('No CMS - Deviation - Limits'!C500=\"\",\"\",'No CMS - Deviation - Limits'!C500)","v":""},"",{"$f":"IF(COUNTIF(V$2:V478,V478)=1,V478,\"\")","v":""},"","",{"$f":"+IFERROR(INDEX(#REF!,MATCH(ROW()-ROW($Y$1),T$2:T$955,0)),\"\")","v":""},null,{"$f":"+IF(AG478=\"\",\"\",MAX(AC$1:AC477)+1)","v":""},{"$f":"IF('Using CMS - Deviation - Limits'!B500=\"\",\"\",'Using CMS - Deviation - Limits'!B500)","v":""},{"$f":"IF('Using CMS - Deviation - Limits'!C500=\"\",\"\",'Using CMS - Deviation - Limits'!C500)","v":""},"",{"$f":"IF(COUNTIF(AF$2:AF478,AF478)=1,AF478,\"\")","v":""},"","",{"$f":"+IFERROR(INDEX(#REF!,MATCH(ROW()-ROW(AG$1),AC$2:AC$955,0)),\"\")","v":""},{"$nulls":3},{"$f":"+IF(AS478=\"\",\"\",MAX(AN$1:AN477)+1)","v":""},{"$f":"IF('Using CMS - Inop_OoC - CMS'!B500=\"\",\"\",'Using CMS - Inop_OoC - CMS'!B500)","v":""},{"$f":"IF('Using CMS - Inop_OoC - CMS'!C500=\"\",\"\",'Using CMS - Inop_OoC - CMS'!C500)","v":""},{"$f":"IF('Using CMS - Inop_OoC - CMS'!D500=\"\",\"\",'Using CMS - Inop_OoC - CMS'!D500)","v":""},{"$f":"AO478&AP478&Table10[[#This Row],[CMS]]","v":""},{"$f":"IF(COUNTIF(AR$2:AR478,AR478)=1,AR478,\"\")","v":""},"","","",null,{"$f":"+IF(BB478=\"\",\"\",MAX(AX$1:AX477)+1)","v":""},{"$f":"IF('Using CMS - Deviation - Limits'!B500=\"\",\"\",'Using CMS - Deviation - Limits'!B500)","v":""},{"$f":"IF('Using CMS - Deviation - Limits'!C500=\"\",\"\",'Using CMS - Deviation - Limits'!C500)","v":""},{"$f":"AY478&AZ478&Table10[[#This Row],[CMS]]","v":""},{"$f":"IF(COUNTIF(BA$2:BA478,BA478)=1,BA478,\"\")","v":""},"","",{"$f":"+IFERROR(INDEX(#REF!,MATCH(ROW()-ROW(BC$1),AX$2:AX$955,0)),\"\")","v":""}]
[{"$f":"+IF(D479=\"\",\"\",MAX(A$1:A478)+1)","v":""},{"$f":"IF('Process_&_CMS_Identification'!C501=\"\",\"\",'Process_&_CMS_Identification'!C501)","v":""},"",{"$f":"IF(COUNTIF(B$2:B479,B479)=1,B479,\"\")","v":""},{"$nulls":35},{"$f":"+IF(AS479=\"\",\"\",MAX(AN$1:AN478)+1)","v":""},{"$f":"IF('Using CMS - Inop_OoC - CMS'!B501=\"\",\"\",'Using CMS - Inop_OoC - CMS'!B501)","v":""},{"$f":"IF('Using CMS - Inop_OoC - CMS'!C501=\"\",\"\",'Using CMS - Inop_OoC - CMS'!C501)","v":""},{"$f":"IF('Using CMS - Inop_OoC - CMS'!D501=\"\",\"\",'Using CMS - Inop_OoC - CMS'!D501)","v":""},{"$f":"AO479&AP479&Table10[[#This Row],[CMS]]","v":""},{"$f":"IF(COUNTIF(AR$2:AR479,AR479)=1,AR479,\"\")","v":""},"","","",null,{"$f":"+IF(BB479=\"\",\"\",MAX(AX$1:AX478)+1)","v":""},{"$f":"IF('Using CMS - Deviation - Limits'!B501=\"\",\"\",'Using CMS - Deviation - Limits'!B501)","v":""},{"$f":"IF('Using CMS - Deviation - Limits'!C501=\"\",\"\",'Using CMS - Deviation - Limits'!C501)","v":""},{"$f":"AY479&AZ479&Table10[[#This Row],[CMS]]","v":""},{"$f":"IF(COUNTIF(BA$2:BA479,BA479)=1,BA479,\"\")","v":""},"","",{"$f":"+IFERROR(INDEX(#REF!,MATCH(ROW()-ROW(BC$1),AX$2:AX$955,0)),\"\")","v":""}]
[{"$f":"+IF(D480=\"\",\"\",MAX(A$1:A479)+1)","v":""},{"$f":"IF('Process_&_CMS_Identification'!C502=\"\",\"\",'Process_&_CMS_Identification'!C502)","v":""},"",{"$f":"IF(COUNTIF(B$2:B480,B480)=1,B480,\"\")","v":""},{"$nulls":35},{"$f":"+IF(AS480=\"\",\"\",MAX(AN$1:AN479)+1)","v":""},{"$f":"IF('Using CMS - Inop_OoC - CMS'!B502=\"\",\"\",'Using CMS - Inop_OoC - CMS'!B502)","v":""},{"$f":"IF('Using CMS - Inop_OoC - CMS'!C502=\"\",\"\",'Using CMS - Inop_OoC - CMS'!C502)","v":""},{"$f":"IF('Using CMS - Inop_OoC - CMS'!D502=\"\",\"\",'Using CMS - Inop_OoC - CMS'!D502)","v":""},{"$f":"AO480&AP480&Table10[[#This Row],[CMS]]","v":""},{"$f":"IF(COUNTIF(AR$2:AR480,AR480)=1,AR480,\"\")","v":""},"","","",null,{"$f":"+IF(BB480=\"\",\"\",MAX(AX$1:AX479)+1)","v":""},{"$f":"IF('Using CMS - Deviation - Limits'!B502=\"\",\"\",'Using CMS - Deviation - Limits'!B502)","v":""},{"$f":"IF('Using CMS - Deviation - Limits'!C502=\"\",\"\",'Using CMS - Deviation - Limits'!C502)","v":""},{"$f":"AY480&AZ480&Table10[[#This Row],[CMS]]","v":""},{"$f":"IF(COUNTIF(BA$2:BA480,BA480)=1,BA480,\"\")","v":""},"","",{"$f":"+IFERROR(INDEX(#REF!,MATCH(ROW()-ROW(BC$1),AX$2:AX$955,0)),\"\")","v":""}]
[{"$f":"+IF(D481=\"\",\"\",MAX(A$1:A480)+1)","v":""},{"$f":"IF('Process_&_CMS_Identification'!C503=\"\",\"\",'Process_&_CMS_Identification'!C503)","v":""},"",{"$f":"IF(COUNTIF(B$2:B481,B481)=1,B481,\"\")","v":""},{"$nulls":35},{"$f":"+IF(AS481=\"\",\"\",MAX(AN$1:AN480)+1)","v":""},{"$f":"IF('Using CMS - Inop_OoC - CMS'!B503=\"\",\"\",'Using CMS - Inop_OoC - CMS'!B503)","v":""},{"$f":"IF('Using CMS - Inop_OoC - CMS'!C503=\"\",\"\",'Using CMS - Inop_OoC - CMS'!C503)","v":""},{"$f":"IF('Using CMS - Inop_OoC - CMS'!D503=\"\",\"\",'Using CMS - Inop_OoC - CMS'!D503)","v":""},{"$f":"AO481&AP481&Table10[[#This Row],[CMS]]","v":""},{"$f":"IF(COUNTIF(AR$2:AR481,AR481)=1,AR481,\"\")","v":""},"","","",null,{"$f":"+IF(BB481=\"\",\"\",MAX(AX$1:AX480)+1)","v":""},{"$f":"IF('Using CMS - Deviation - Limits'!B503=\"\",\"\",'Using CMS - Deviation - Limits'!B503)","v":""},{"$f":"IF('Using CMS - Deviation - Limits'!C503=\"\",\"\",'Using CMS - Deviation - Limits'!C503)","v":""},{"$f":"AY481&AZ481&Table10[[#This Row],[CMS]]","v":""},{"$f":"IF(COUNTIF(BA$2:BA481,BA481)=1,BA481,\"\")","v":""},"","",{"$f":"+IFERROR(INDEX(#REF!,MATCH(ROW()-ROW(BC$1),AX$2:AX$955,0)),\"\")","v":""}]
[{"$f":"+IF(D482=\"\",\"\",MAX(A$1:A481)+1)","v":""},{"$f":"IF('Process_&_CMS_Identification'!C504=\"\",\"\",'Process_&_CMS_Identification'!C504)","v":""},"",{"$f":"IF(COUNTIF(B$2:B482,B482)=1,B482,\"\")","v":""},{"$nulls":35},{"$f":"+IF(AS482=\"\",\"\",MAX(AN$1:AN481)+1)","v":""},{"$f":"IF('Using CMS - Inop_OoC - CMS'!B504=\"\",\"\",'Using CMS - Inop_OoC - CMS'!B504)","v":""},{"$f":"IF('Using CMS - Inop_OoC - CMS'!C504=\"\",\"\",'Using CMS - Inop_OoC - CMS'!C504)","v":""},{"$f":"IF('Using CMS - Inop_OoC - CMS'!D504=\"\",\"\",'Using CMS - Inop_OoC - CMS'!D504)","v":""},{"$f":"AO482&AP482&Table10[[#This Row],[CMS]]","v":""},{"$f":"IF(COUNTIF(AR$2:AR482,AR482)=1,AR482,\"\")","v":""},"","","",null,{"$f":"+IF(BB482=\"\",\"\",MAX(AX$1:AX481)+1)","v":""},{"$f":"IF('Using CMS - Deviation - Limits'!B504=\"\",\"\",'Using CMS - Deviation - Limits'!B504)","v":""},{"$f":"IF('Using CMS - Deviation - Limits'!C504=\"\",\"\",'Using CMS - Deviation - Limits'!C504)","v":""},{"$f":"AY482&AZ482&Table10[[#This Row],[CMS]]","v":""},{"$f":"IF(COUNTIF(BA$2:BA482,BA482)=1,BA482,\"\")","v":""},"","",{"$f":"+IFERROR(INDEX(#REF!,MATCH(ROW()-ROW(BC$1),AX$2:AX$955,0)),\"\")","v":""}]
[{"$f":"+IF(D483=\"\",\"\",MAX(A$1:A482)+1)","v":""},{"$f":"IF('Process_&_CMS_Identification'!C505=\"\",\"\",'Process_&_CMS_Identification'!C505)","v":""},"",{"$f":"IF(COUNTIF(B$2:B483,B483)=1,B483,\"\")","v":""},{"$nulls":35},{"$f":"+IF(AS483=\"\",\"\",MAX(AN$1:AN482)+1)","v":""},{"$f":"IF('Using CMS - Inop_OoC - CMS'!B505=\"\",\"\",'Using CMS - Inop_OoC - CMS'!B505)","v":""},{"$f":"IF('Using CMS - Inop_OoC - CMS'!C505=\"\",\"\",'Using CMS - Inop_OoC - CMS'!C505)","v":""},{"$f":"IF('Using CMS - Inop_OoC - CMS'!D505=\"\",\"\",'Using CMS - Inop_OoC - CMS'!D505)","v":""},{"$f":"AO483&AP483&Table10[[#This Row],[CMS]]","v":""},{"$f":"IF(COUNTIF(AR$2:AR483,AR483)=1,AR483,\"\")","v":""},"","","",null,{"$f":"+IF(BB483=\"\",\"\",MAX(AX$1:AX482)+1)","v":""},{"$f":"IF('Using CMS - Deviation - Limits'!B505=\"\",\"\",'Using CMS - Deviation - Limits'!B505)","v":""},{"$f":"IF('Using CMS - Deviation - Limits'!C505=\"\",\"\",'Using CMS - Deviation - Limits'!C505)","v":""},{"$f":"AY483&AZ483&Table10[[#This Row],[CMS]]","v":""},{"$f":"IF(COUNTIF(BA$2:BA483,BA483)=1,BA483,\"\")","v":""},"","",{"$f":"+IFERROR(INDEX(#REF!,MATCH(ROW()-ROW(BC$1),AX$2:AX$955,0)),\"\")","v":""}]
[{"$f":"+IF(D484=\"\",\"\",MAX(A$1:A483)+1)","v":""},{"$f":"IF('Process_&_CMS_Identification'!C506=\"\",\"\",'Process_&_CMS_Identification'!C506)","v":""},"",{"$f":"IF(COUNTIF(B$2:B484,B484)=1,B484,\"\")","v":""},{"$nulls":35},{"$f":"+IF(AS484=\"\",\"\",MAX(AN$1:AN483)+1)","v":""},{"$f":"IF('Using CMS - Inop_OoC - CMS'!B506=\"\",\"\",'Using CMS - Inop_OoC - CMS'!B506)","v":""},{"$f":"IF('Using CMS - Inop_OoC - CMS'!C506=\"\",\"\",'Using CMS - Inop_OoC - CMS'!C506)","v":""},{"$f":"IF('Using CMS - Inop_OoC - CMS'!D506=\"\",\"\",'Using CMS - Inop_OoC - CMS'!D506)","v":""},{"$f":"AO484&AP484&Table10[[#This Row],[CMS]]","v":""},{"$f":"IF(COUNTIF(AR$2:AR484,AR484)=1,AR484,\"\")","v":""},"","","",null,{"$f":"+IF(BB484=\"\",\"\",MAX(AX$1:AX483)+1)","v":""},{"$f":"IF('Using CMS - Deviation - Limits'!B506=\"\",\"\",'Using CMS - Deviation - Limits'!B506)","v":""},{"$f":"IF('Using CMS - Deviation - Limits'!C506=\"\",\"\",'Using CMS - Deviation - Limits'!C506)","v":""},{"$f":"AY484&AZ484&Table10[[#This Row],[CMS]]","v":""},{"$f":"IF(COUNTIF(BA$2:BA484,BA484)=1,BA484,\"\")","v":""},"","",{"$f":"+IFERROR(INDEX(#REF!,MATCH(ROW()-ROW(BC$1),AX$2:AX$955,0)),\"\")","v":""}]
[{"$f":"+IF(D485=\"\",\"\",MAX(A$1:A484)+1)","v":""},{"$f":"IF('Process_&_CMS_Identification'!C507=\"\",\"\",'Process_&_CMS_Identification'!C507)","v":""},"",{"$f":"IF(COUNTIF(B$2:B485,B485)=1,B485,\"\")","v":""},{"$nulls":35},{"$f":"+IF(AS485=\"\",\"\",MAX(AN$1:AN484)+1)","v":""},{"$f":"IF('Using CMS - Inop_OoC - CMS'!B507=\"\",\"\",'Using CMS - Inop_OoC - CMS'!B507)","v":""},{"$f":"IF('Using CMS - Inop_OoC - CMS'!C507=\"\",\"\",'Using CMS - Inop_OoC - CMS'!C507)","v":""},{"$f":"IF('Using CMS - Inop_OoC - CMS'!D507=\"\",\"\",'Using CMS - Inop_OoC - CMS'!D507)","v":""},{"$f":"AO485&AP485&Table10[[#This Row],[CMS]]","v":""},{"$f":"IF(COUNTIF(AR$2:AR485,AR485)=1,AR485,\"\")","v":""},"","","",null,{"$f":"+IF(BB485=\"\",\"\",MAX(AX$1:AX484)+1)","v":""},{"$f":"IF('Using CMS - Deviation - Limits'!B507=\"\",\"\",'Using CMS - Deviation - Limits'!B507)","v":""},{"$f":"IF('Using CMS - Deviation - Limits'!C507=\"\",\"\",'Using CMS - Deviation - Limits'!C507)","v":""},{"$f":"AY485&AZ485&Table10[[#This Row],[CMS]]","v":""},{"$f":"IF(COUNTIF(BA$2:BA485,BA485)=1,BA485,\"\")","v":""},"","",{"$f":"+IFERROR(INDEX(#REF!,MATCH(ROW()-ROW(BC$1),AX$2:AX$955,0)),\"\")","v":""}]
[{"$f":"+IF(D486=\"\",\"\",MAX(A$1:A485)+1)","v":""},{"$f":"IF('Process_&_CMS_Identification'!C508=\"\",\"\",'Process_&_CMS_Identification'!C508)","v":""},"",{"$f":"IF(COUNTIF(B$2:B486,B486)=1,B486,\"\")","v":""},{"$nulls":35},{"$f":"+IF(AS486=\"\",\"\",MAX(AN$1:AN485)+1)","v":""},{"$f":"IF('Using CMS - Inop_OoC - CMS'!B508=\"\",\"\",'Using CMS - Inop_OoC - CMS'!B508)","v":""},{"$f":"IF('Using CMS - Inop_OoC - CMS'!C508=\"\",\"\",'Using CMS - Inop_OoC - CMS'!C508)","v":""},{"$f":"IF('Using CMS - Inop_OoC - CMS'!D508=\"\",\"\",'Using CMS - Inop_OoC - CMS'!D508)","v":""},{"$f":"AO486&AP486&Table10[[#This Row],[CMS]]","v":""},{"$f":"IF(COUNTIF(AR$2:AR486,AR486)=1,AR486,\"\")","v":""},"","","",null,{"$f":"+IF(BB486=\"\",\"\",MAX(AX$1:AX485)+1)","v":""},{"$f":"IF('Using CMS - Deviation - Limits'!B508=\"\",\"\",'Using CMS - Deviation - Limits'!B508)","v":""},{"$f":"IF('Using CMS - Deviation - Limits'!C508=\"\",\"\",'Using CMS - Deviation - Limits'!C508)","v":""},{"$f":"AY486&AZ486&Table10[[#This Row],[CMS]]","v":""},{"$f":"IF(COUNTIF(BA$2:BA486,BA486)=1,BA486,\"\")","v":""},"","",{"$f":"+IFERROR(INDEX(#REF!,MATCH(ROW()-ROW(BC$1),AX$2:AX$955,0)),\"\")","v":""}]
[{"$f":"+IF(D487=\"\",\"\",MAX(A$1:A486)+1)","v":""},{"$f":"IF('Process_&_CMS_Identification'!C509=\"\",\"\",'Process_&_CMS_Identification'!C509)","v":""},"",{"$f":"IF(COUNTIF(B$2:B487,B487)=1,B487,\"\")","v":""},{"$nulls":35},{"$f":"+IF(AS487=\"\",\"\",MAX(AN$1:AN486)+1)","v":""},{"$f":"IF('Using CMS - Inop_OoC - CMS'!B509=\"\",\"\",'Using CMS - Inop_OoC - CMS'!B509)","v":""},{"$f":"IF('Using CMS - Inop_OoC - CMS'!C509=\"\",\"\",'Using CMS - Inop_OoC - CMS'!C509)","v":""},{"$f":"IF('Using CMS - Inop_OoC - CMS'!D509=\"\",\"\",'Using CMS - Inop_OoC - CMS'!D509)","v":""},{"$f":"AO487&AP487&Table10[[#This Row],[CMS]]","v":""},{"$f":"IF(COUNTIF(AR$2:AR487,AR487)=1,AR487,\"\")","v":""},"","","",null,{"$f":"+IF(BB487=\"\",\"\",MAX(AX$1:AX486)+1)","v":""},{"$f":"IF('Using CMS - Deviation - Limits'!B509=\"\",\"\",'Using CMS - Deviation - Limits'!B509)","v":""},{"$f":"IF('Using CMS - Deviation - Limits'!C509=\"\",\"\",'Using CMS - Deviation - Limits'!C509)","v":""},{"$f":"AY487&AZ487&Table10[[#This Row],[CMS]]","v":""},{"$f":"IF(COUNTIF(BA$2:BA487,BA487)=1,BA487,\"\")","v":""},"","",{"$f":"+IFERROR(INDEX(#REF!,MATCH(ROW()-ROW(BC$1),AX$2:AX$955,0)),\"\")","v":""}]
[{"$f":"+IF(D488=\"\",\"\",MAX(A$1:A487)+1)","v":""},{"$f":"IF('Process_&_CMS_Identification'!C510=\"\",\"\",'Process_&_CMS_Identification'!C510)","v":""},"",{"$f":"IF(COUNTIF(B$2:B488,B488)=1,B488,\"\")","v":""},{"$nulls":35},{"$f":"+IF(AS488=\"\",\"\",MAX(AN$1:AN487)+1)","v":""},{"$f":"IF('Using CMS - Inop_OoC - CMS'!B510=\"\",\"\",'Using CMS - Inop_OoC - CMS'!B510)","v":""},{"$f":"IF('Using CMS - Inop_OoC - CMS'!C510=\"\",\"\",'Using CMS - Inop_OoC - CMS'!C510)","v":""},{"$f":"IF('Using CMS - Inop_OoC - CMS'!D510=\"\",\"\",'Using CMS - Inop_OoC - CMS'!D510)","v":""},{"$f":"AO488&AP488&Table10[[#This Row],[CMS]]","v":""},{"$f":"IF(COUNTIF(AR$2:AR488,AR488)=1,AR488,\"\")","v":""},"","","",null,{"$f":"+IF(BB488=\"\",\"\",MAX(AX$1:AX487)+1)","v":""},{"$f":"IF('Using CMS - Deviation - Limits'!B510=\"\",\"\",'Using CMS - Deviation - Limits'!B510)","v":""},{"$f":"IF('Using CMS - Deviation - Limits'!C510=\"\",\"\",'Using CMS - Deviation - Limits'!C510)","v":""},{"$f":"AY488&AZ488&Table10[[#This Row],[CMS]]","v":""},{"$f":"IF(COUNTIF(BA$2:BA488,BA488)=1,BA488,\"\")","v":""},"","",{"$f":"+IFERROR(INDEX(#REF!,MATCH(ROW()-ROW(BC$1),AX$2:AX$955,0)),\"\")","v":""}]
[{"$f":"+IF(D489=\"\",\"\",MAX(A$1:A488)+1)","v":""},{"$f":"IF('Process_&_CMS_Identification'!C511=\"\",\"\",'Process_&_CMS_Identification'!C511)","v":""},"",{"$f":"IF(COUNTIF(B$2:B489,B489)=1,B489,\"\")","v":""},{"$nulls":35},{"$f":"+IF(AS489=\"\",\"\",MAX(AN$1:AN488)+1)","v":""},{"$f":"IF('Using CMS - Inop_OoC - CMS'!B511=\"\",\"\",'Using CMS - Inop_OoC - CMS'!B511)","v":""},{"$f":"IF('Using CMS - Inop_OoC - CMS'!C511=\"\",\"\",'Using CMS - Inop_OoC - CMS'!C511)","v":""},{"$f":"IF('Using CMS - Inop_OoC - CMS'!D511=\"\",\"\",'Using CMS - Inop_OoC - CMS'!D511)","v":""},{"$f":"AO489&AP489&Table10[[#This Row],[CMS]]","v":""},{"$f":"IF(COUNTIF(AR$2:AR489,AR489)=1,AR489,\"\")","v":""},"","","",null,{"$f":"+IF(BB489=\"\",\"\",MAX(AX$1:AX488)+1)","v":""},{"$f":"IF('Using CMS - Deviation - Limits'!B511=\"\",\"\",'Using CMS - Deviation - Limits'!B511)","v":""},{"$f":"IF('Using CMS - Deviation - Limits'!C511=\"\",\"\",'Using CMS - Deviation - Limits'!C511)","v":""},{"$f":"AY489&AZ489&Table10[[#This Row],[CMS]]","v":""},{"$f":"IF(COUNTIF(BA$2:BA489,BA489)=1,BA489,\"\")","v":""},"","",{"$f":"+IFERROR(INDEX(#REF!,MATCH(ROW()-ROW(BC$1),AX$2:AX$955,0)),\"\")","v":""}]
[{"$f":"+IF(D490=\"\",\"\",MAX(A$1:A489)+1)","v":""},{"$f":"IF('Process_&_CMS_Identification'!C512=\"\",\"\",'Process_&_CMS_Identification'!C512)","v":""},"",{"$f":"IF(COUNTIF(B$2:B490,B490)=1,B490,\"\")","v":""},{"$nulls":35},{"$f":"+IF(AS490=\"\",\"\",MAX(AN$1:AN489)+1)","v":""},{"$f":"IF('Using CMS - Inop_OoC - CMS'!B512=\"\",\"\",'Using CMS - Inop_OoC - CMS'!B512)","v":""},{"$f":"IF('Using CMS - Inop_OoC - CMS'!C512=\"\",\"\",'Using CMS - Inop_OoC - CMS'!C512)","v":""},{"$f":"IF('Using CMS - Inop_OoC - CMS'!D512=\"\",\"\",'Using CMS - Inop_OoC - CMS'!D512)","v":""},{"$f":"AO490&AP490&Table10[[#This Row],[CMS]]","v":""},{"$f":"IF(COUNTIF(AR$2:AR490,AR490)=1,AR490,\"\")","v":""},"","","",null,{"$f":"+IF(BB490=\"\",\"\",MAX(AX$1:AX489)+1)","v":""},{"$f":"IF('Using CMS - Deviation - Limits'!B512=\"\",\"\",'Using CMS - Deviation - Limits'!B512)","v":""},{"$f":"IF('Using CMS - Deviation - Limits'!C512=\"\",\"\",'Using CMS - Deviation - Limits'!C512)","v":""},{"$f":"AY490&AZ490&Table10[[#This Row],[CMS]]","v":""},{"$f":"IF(COUNTIF(BA$2:BA490,BA490)=1,BA490,\"\")","v":""},"","",{"$f":"+IFERROR(INDEX(#REF!,MATCH(ROW()-ROW(BC$1),AX$2:AX$955,0)),\"\")","v":""}]
[{"$f":"+IF(D491=\"\",\"\",MAX(A$1:A490)+1)","v":""},{"$f":"IF('Process_&_CMS_Identification'!C513=\"\",\"\",'Process_&_CMS_Identification'!C513)","v":""},"",{"$f":"IF(COUNTIF(B$2:B491,B491)=1,B491,\"\")","v":""},{"$nulls":35},{"$f":"+IF(AS491=\"\",\"\",MAX(AN$1:AN490)+1)","v":""},{"$f":"IF('Using CMS - Inop_OoC - CMS'!B513=\"\",\"\",'Using CMS - Inop_OoC - CMS'!B513)","v":""},{"$f":"IF('Using CMS - Inop_OoC - CMS'!C513=\"\",\"\",'Using CMS - Inop_OoC - CMS'!C513)","v":""},{"$f":"IF('Using CMS - Inop_OoC - CMS'!D513=\"\",\"\",'Using CMS - Inop_OoC - CMS'!D513)","v":""},{"$f":"AO491&AP491&Table10[[#This Row],[CMS]]","v":""},{"$f":"IF(COUNTIF(AR$2:AR491,AR491)=1,AR491,\"\")","v":""},"","","",null,{"$f":"+IF(BB491=\"\",\"\",MAX(AX$1:AX490)+1)","v":""},{"$f":"IF('Using CMS - Deviation - Limits'!B513=\"\",\"\",'Using CMS - Deviation - Limits'!B513)","v":""},{"$f":"IF('Using CMS - Deviation - Limits'!C513=\"\",\"\",'Using CMS - Deviation - Limits'!C513)","v":""},{"$f":"AY491&AZ491&Table10[[#This Row],[CMS]]","v":""},{"$f":"IF(COUNTIF(BA$2:BA491,BA491)=1,BA491,\"\")","v":""},"","",{"$f":"+IFERROR(INDEX(#REF!,MATCH(ROW()-ROW(BC$1),AX$2:AX$955,0)),\"\")","v":""}]
[{"$f":"+IF(D492=\"\",\"\",MAX(A$1:A491)+1)","v":""},{"$f":"IF('Process_&_CMS_Identification'!C514=\"\",\"\",'Process_&_CMS_Identification'!C514)","v":""},"",{"$f":"IF(COUNTIF(B$2:B492,B492)=1,B492,\"\")","v":""},{"$nulls":35},{"$f":"+IF(AS492=\"\",\"\",MAX(AN$1:AN491)+1)","v":""},{"$f":"IF('Using CMS - Inop_OoC - CMS'!B514=\"\",\"\",'Using CMS - Inop_OoC - CMS'!B514)","v":""},{"$f":"IF('Using CMS - Inop_OoC - CMS'!C514=\"\",\"\",'Using CMS - Inop_OoC - CMS'!C514)","v":""},{"$f":"IF('Using CMS - Inop_OoC - CMS'!D514=\"\",\"\",'Using CMS - Inop_OoC - CMS'!D514)","v":""},{"$f":"AO492&AP492&Table10[[#This Row],[CMS]]","v":""},{"$f":"IF(COUNTIF(AR$2:AR492,AR492)=1,AR492,\"\")","v":""},"","","",null,{"$f":"+IF(BB492=\"\",\"\",MAX(AX$1:AX491)+1)","v":""},{"$f":"IF('Using CMS - Deviation - Limits'!B514=\"\",\"\",'Using CMS - Deviation - Limits'!B514)","v":""},{"$f":"IF('Using CMS - Deviation - Limits'!C514=\"\",\"\",'Using CMS - Deviation - Limits'!C514)","v":""},{"$f":"AY492&AZ492&Table10[[#This Row],[CMS]]","v":""},{"$f":"IF(COUNTIF(BA$2:BA492,BA492)=1,BA492,\"\")","v":""},"","",{"$f":"+IFERROR(INDEX(#REF!,MATCH(ROW()-ROW(BC$1),AX$2:AX$955,0)),\"\")","v":""}]
[{"$f":"+IF(D493=\"\",\"\",MAX(A$1:A492)+1)","v":""},{"$f":"IF('Process_&_CMS_Identification'!C515=\"\",\"\",'Process_&_CMS_Identification'!C515)","v":""},"",{"$f":"IF(COUNTIF(B$2:B493,B493)=1,B493,\"\")","v":""},{"$nulls":35},{"$f":"+IF(AS493=\"\",\"\",MAX(AN$1:AN492)+1)","v":""},{"$f":"IF('Using CMS - Inop_OoC - CMS'!B515=\"\",\"\",'Using CMS - Inop_OoC - CMS'!B515)","v":""},{"$f":"IF('Using CMS - Inop_OoC - CMS'!C515=\"\",\"\",'Using CMS - Inop_OoC - CMS'!C515)","v":""},{"$f":"IF('Using CMS - Inop_OoC - CMS'!D515=\"\",\"\",'Using CMS - Inop_OoC - CMS'!D515)","v":""},{"$f":"AO493&AP493&Table10[[#This Row],[CMS]]","v":""},{"$f":"IF(COUNTIF(AR$2:AR493,AR493)=1,AR493,\"\")","v":""},"","","",null,{"$f":"+IF(BB493=\"\",\"\",MAX(AX$1:AX492)+1)","v":""},{"$f":"IF('Using CMS - Deviation - Limits'!B515=\"\",\"\",'Using CMS - Deviation - Limits'!B515)","v":""},{"$f":"IF('Using CMS - Deviation - Limits'!C515=\"\",\"\",'Using CMS - Deviation - Limits'!C515)","v":""},{"$f":"AY493&AZ493&Table10[[#This Row],[CMS]]","v":""},{"$f":"IF(COUNTIF(BA$2:BA493,BA493)=1,BA493,\"\")","v":""},"","",{"$f":"+IFERROR(INDEX(#REF!,MATCH(ROW()-ROW(BC$1),AX$2:AX$955,0)),\"\")","v":""}]
[{"$f":"+IF(D494=\"\",\"\",MAX(A$1:A493)+1)","v":""},{"$f":"IF('Process_&_CMS_Identification'!C516=\"\",\"\",'Process_&_CMS_Identification'!C516)","v":""},"",{"$f":"IF(COUNTIF(B$2:B494,B494)=1,B494,\"\")","v":""},{"$nulls":35},{"$f":"+IF(AS494=\"\",\"\",MAX(AN$1:AN493)+1)","v":""},{"$f":"IF('Using CMS - Inop_OoC - CMS'!B516=\"\",\"\",'Using CMS - Inop_OoC - CMS'!B516)","v":""},{"$f":"IF('Using CMS - Inop_OoC - CMS'!C516=\"\",\"\",'Using CMS - Inop_OoC - CMS'!C516)","v":""},{"$f":"IF('Using CMS - Inop_OoC - CMS'!D516=\"\",\"\",'Using CMS - Inop_OoC - CMS'!D516)","v":""},{"$f":"AO494&AP494&Table10[[#This Row],[CMS]]","v":""},{"$f":"IF(COUNTIF(AR$2:AR494,AR494)=1,AR494,\"\")","v":""},"","","",null,{"$f":"+IF(BB494=\"\",\"\",MAX(AX$1:AX493)+1)","v":""},{"$f":"IF('Using CMS - Deviation - Limits'!B516=\"\",\"\",'Using CMS - Deviation - Limits'!B516)","v":""},{"$f":"IF('Using CMS - Deviation - Limits'!C516=\"\",\"\",'Using CMS - Deviation - Limits'!C516)","v":""},{"$f":"AY494&AZ494&Table10[[#This Row],[CMS]]","v":""},{"$f":"IF(COUNTIF(BA$2:BA494,BA494)=1,BA494,\"\")","v":""},"","",{"$f":"+IFERROR(INDEX(#REF!,MATCH(ROW()-ROW(BC$1),AX$2:AX$955,0)),\"\")","v":""}]
[{"$f":"+IF(D495=\"\",\"\",MAX(A$1:A494)+1)","v":""},{"$f":"IF('Process_&_CMS_Identification'!C517=\"\",\"\",'Process_&_CMS_Identification'!C517)","v":""},"",{"$f":"IF(COUNTIF(B$2:B495,B495)=1,B495,\"\")","v":""},{"$nulls":35},{"$f":"+IF(AS495=\"\",\"\",MAX(AN$1:AN494)+1)","v":""},{"$f":"IF('Using CMS - Inop_OoC - CMS'!B517=\"\",\"\",'Using CMS - Inop_OoC - CMS'!B517)","v":""},{"$f":"IF('Using CMS - Inop_OoC - CMS'!C517=\"\",\"\",'Using CMS - Inop_OoC - CMS'!C517)","v":""},{"$f":"IF('Using CMS - Inop_OoC - CMS'!D517=\"\",\"\",'Using CMS - Inop_OoC - CMS'!D517)","v":""},{"$f":"AO495&AP495&Table10[[#This Row],[CMS]]","v":""},{"$f":"IF(COUNTIF(AR$2:AR495,AR495)=1,AR495,\"\")","v":""},"","","",null,{"$f":"+IF(BB495=\"\",\"\",MAX(AX$1:AX494)+1)","v":""},{"$f":"IF('Using CMS - Deviation - Limits'!B517=\"\",\"\",'Using CMS - Deviation - Limits'!B517)","v":""},{"$f":"IF('Using CMS - Deviation - Limits'!C517=\"\",\"\",'Using CMS - Deviation - Limits'!C517)","v":""},{"$f":"AY495&AZ495&Table10[[#This Row],[CMS]]","v":""},{"$f":"IF(COUNTIF(BA$2:BA495,BA495)=1,BA495,\"\")","v":""},"","",{"$f":"+IFERROR(INDEX(#REF!,MATCH(ROW()-ROW(BC$1),AX$2:AX$955,0)),\"\")","v":""}]
[{"$f":"+IF(D496=\"\",\"\",MAX(A$1:A495)+1)","v":""},{"$f":"IF('Process_&_CMS_Identification'!C518=\"\",\"\",'Process_&_CMS_Identification'!C518)","v":""},"",{"$f":"IF(COUNTIF(B$2:B496,B496)=1,B496,\"\")","v":""},{"$nulls":35},{"$f":"+IF(AS496=\"\",\"\",MAX(AN$1:AN495)+1)","v":""},{"$f":"IF('Using CMS - Inop_OoC - CMS'!B518=\"\",\"\",'Using CMS - Inop_OoC - CMS'!B518)","v":""},{"$f":"IF('Using CMS - Inop_OoC - CMS'!C518=\"\",\"\",'Using CMS - Inop_OoC - CMS'!C518)","v":""},{"$f":"IF('Using CMS - Inop_OoC - CMS'!D518=\"\",\"\",'Using CMS - Inop_OoC - CMS'!D518)","v":""},{"$f":"AO496&AP496&Table10[[#This Row],[CMS]]","v":""},{"$f":"IF(COUNTIF(AR$2:AR496,AR496)=1,AR496,\"\")","v":""},"","","",null,{"$f":"+IF(BB496=\"\",\"\",MAX(AX$1:AX495)+1)","v":""},{"$f":"IF('Using CMS - Deviation - Limits'!B518=\"\",\"\",'Using CMS - Deviation - Limits'!B518)","v":""},{"$f":"IF('Using CMS - Deviation - Limits'!C518=\"\",\"\",'Using CMS - Deviation - Limits'!C518)","v":""},{"$f":"AY496&AZ496&Table10[[#This Row],[CMS]]","v":""},{"$f":"IF(COUNTIF(BA$2:BA496,BA496)=1,BA496,\"\")","v":""},"","",{"$f":"+IFERROR(INDEX(#REF!,MATCH(ROW()-ROW(BC$1),AX$2:AX$955,0)),\"\")","v":""}]
[{"$f":"+IF(D497=\"\",\"\",MAX(A$1:A496)+1)","v":""},{"$f":"IF('Process_&_CMS_Identification'!C519=\"\",\"\",'Process_&_CMS_Identification'!C519)","v":""},"",{"$f":"IF(COUNTIF(B$2:B497,B497)=1,B497,\"\")","v":""},{"$nulls":35},{"$f":"+IF(AS497=\"\",\"\",MAX(AN$1:AN496)+1)","v":""},{"$f":"IF('Using CMS - Inop_OoC - CMS'!B519=\"\",\"\",'Using CMS - Inop_OoC - CMS'!B519)","v":""},{"$f":"IF('Using CMS - Inop_OoC - CMS'!C519=\"\",\"\",'Using CMS - Inop_OoC - CMS'!C519)","v":""},{"$f":"IF('Using CMS - Inop_OoC - CMS'!D519=\"\",\"\",'Using CMS - Inop_OoC - CMS'!D519)","v":""},{"$f":"AO497&AP497&Table10[[#This Row],[CMS]]","v":""},{"$f":"IF(COUNTIF(AR$2:AR497,AR497)=1,AR497,\"\")","v":""},"","","",null,{"$f":"+IF(BB497=\"\",\"\",MAX(AX$1:AX496)+1)","v":""},{"$f":"IF('Using CMS - Deviation - Limits'!B519=\"\",\"\",'Using CMS - Deviation - Limits'!B519)","v":""},{"$f":"IF('Using CMS - Deviation - Limits'!C519=\"\",\"\",'Using CMS - Deviation - Limits'!C519)","v":""},{"$f":"AY497&AZ497&Table10[[#This Row],[CMS]]","v":""},{"$f":"IF(COUNTIF(BA$2:BA497,BA497)=1,BA497,\"\")","v":""},"","",{"$f":"+IFERROR(INDEX(#REF!,MATCH(ROW()-ROW(BC$1),AX$2:AX$955,0)),\"\")","v":""}]
[{"$f":"+IF(D498=\"\",\"\",MAX(A$1:A497)+1)","v":""},{"$f":"IF('Process_&_CMS_Identification'!C520=\"\",\"\",'Process_&_CMS_Identification'!C520)","v":""},"",{"$f":"IF(COUNTIF(B$2:B498,B498)=1,B498,\"\")","v":""},{"$nulls":35},{"$f":"+IF(AS498=\"\",\"\",MAX(AN$1:AN497)+1)","v":""},{"$f":"IF('Using CMS - Inop_OoC - CMS'!B520=\"\",\"\",'Using CMS - Inop_OoC - CMS'!B520)","v":""},{"$f":"IF('Using CMS - Inop_OoC - CMS'!C520=\"\",\"\",'Using CMS - Inop_OoC - CMS'!C520)","v":""},{"$f":"IF('Using CMS - Inop_OoC - CMS'!D520=\"\",\"\",'Using CMS - Inop_OoC - CMS'!D520)","v":""},{"$f":"AO498&AP498&Table10[[#This Row],[CMS]]","v":""},{"$f":"IF(COUNTIF(AR$2:AR498,AR498)=1,AR498,\"\")","v":""},"","","",null,{"$f":"+IF(BB498=\"\",\"\",MAX(AX$1:AX497)+1)","v":""},{"$f":"IF('Using CMS - Deviation - Limits'!B520=\"\",\"\",'Using CMS - Deviation - Limits'!B520)","v":""},{"$f":"IF('Using CMS - Deviation - Limits'!C520=\"\",\"\",'Using CMS - Deviation - Limits'!C520)","v":""},{"$f":"AY498&AZ498&Table10[[#This Row],[CMS]]","v":""},{"$f":"IF(COUNTIF(BA$2:BA498,BA498)=1,BA498,\"\")","v":""},"","",{"$f":"+IFERROR(INDEX(#REF!,MATCH(ROW()-ROW(BC$1),AX$2:AX$955,0)),\"\")","v":""}]
[{"$f":"+IF(D499=\"\",\"\",MAX(A$1:A498)+1)","v":""},{"$f":"IF('Process_&_CMS_Identification'!C521=\"\",\"\",'Process_&_CMS_Identification'!C521)","v":""},"",{"$f":"IF(COUNTIF(B$2:B499,B499)=1,B499,\"\")","v":""},{"$nulls":35},{"$f":"+IF(AS499=\"\",\"\",MAX(AN$1:AN498)+1)","v":""},{"$f":"IF('Using CMS - Inop_OoC - CMS'!B521=\"\",\"\",'Using CMS - Inop_OoC - CMS'!B521)","v":""},{"$f":"IF('Using CMS - Inop_OoC - CMS'!C521=\"\",\"\",'Using CMS - Inop_OoC - CMS'!C521)","v":""},{"$f":"IF('Using CMS - Inop_OoC - CMS'!D521=\"\",\"\",'Using CMS - Inop_OoC - CMS'!D521)","v":""},{"$f":"AO499&AP499&Table10[[#This Row],[CMS]]","v":""},{"$f":"IF(COUNTIF(AR$2:AR499,AR499)=1,AR499,\"\")","v":""},"","","",null,{"$f":"+IF(BB499=\"\",\"\",MAX(AX$1:AX498)+1)","v":""},{"$f":"IF('Using CMS - Deviation - Limits'!B521=\"\",\"\",'Using CMS - Deviation - Limits'!B521)","v":""},{"$f":"IF('Using CMS - Deviation - Limits'!C521=\"\",\"\",'Using CMS - Deviation - Limits'!C521)","v":""},{"$f":"AY499&AZ499&Table10[[#This Row],[CMS]]","v":""},{"$f":"IF(COUNTIF(BA$2:BA499,BA499)=1,BA499,\"\")","v":""},"","",{"$f":"+IFERROR(INDEX(#REF!,MATCH(ROW()-ROW(BC$1),AX$2:AX$955,0)),\"\")","v":""}]
[{"$f":"+IF(D500=\"\",\"\",MAX(A$1:A499)+1)","v":""},{"$f":"IF('Process_&_CMS_Identification'!C522=\"\",\"\",'Process_&_CMS_Identification'!C522)","v":""},"",{"$f":"IF(COUNTIF(B$2:B500,B500)=1,B500,\"\")","v":""}]

{"sheet":"No CMS - Deviation - Limits","index":3,"n_rows":23,"n_cols":8,"rows_kept":23}
[null,"DO NOT REMOVE OR EDIT INFORMATION IN ROWS 1 THROUGH 5\nFOR INTERNAL USE ONLY"]
[null,"Template Name",{"$f":"+Welcome!B2","v":"63.5580(g) Semiannual Compliance Report (Spreadsheet Template)"}]
[null,"CitationID",{"$f":"+Welcome!B3","v":"63.5580(g)"}]
[null,"Template Version",{"$f":"+Welcome!B4","v":"ICR Draft"}]
[null,"Last Updated Date",{"$f":"+Welcome!B5","v":{"v":45176,"d":"4517600.00%"}}]
[]
[null,"40 CFR Part 63, Subpart UUUU National Emission Standards for Hazardous Air Pollutants for Cellulose Products Manufacturing - §63.5580 Semiannual Compliance Report Spreadsheet Template"]
[null,"\n"]
[]
[]
[]
[null,"Company Record No.  \n(Select from Dropdown)","Affected Source \n(§63.5580(d))","Total \nOperating Time of Affected Source During the Reporting Period \n(§63.5580(d)(1))","Number of Deviations                 (§63.5580(d)(2))","Duration of \nDeviation \n(§63.5580(d)(2))","Cause of Deviation \n(including unkown cause, if applicable) \n(§63.5580(d)(2))","Corrective Action Taken \n(§63.5580(d)(2))"]
[null,"RecordId","AffectedSource","TotalOperatingTime","DeviationCount","DeviationDuration","DeviationCause","CorrectiveAction"]
[null,"e.g.: 1","e.g.: Line 1 ","e.g. : 6240 hrs","e.g.: 10","e.g.: 16.08 hrs","e.g.: Control Equipment Problems","e.g.: replaced thermocouple"]
[null,"e.g.:","e.g.:","e.g.:","e.g.:","e.g.:","e.g.:","e.g.:"]
[null,"e.g.:","e.g.:","e.g.:","e.g.:","e.g.:","e.g.:","e.g.:"]
[null,"e.g.:","e.g.:","e.g.:","e.g.:","e.g.:","e.g.:","e.g.:"]
[null,"e.g.:","e.g.:","e.g.:","e.g.:","e.g.:","e.g.:","e.g.:"]
[null,"e.g.:","e.g.:","e.g.:","e.g.:","e.g.:","e.g.:","e.g.:"]
[null,"e.g.:","e.g.:","e.g.:","e.g.:","e.g.:","e.g.:","e.g.:"]
[null,"e.g.:","e.g.:","e.g.:","e.g.:","e.g.:","e.g.:","e.g.:"]
[null,"e.g.:","e.g.:","e.g.:","e.g.:","e.g.:","e.g.:","e.g.:"]
[null,"e.g.:","e.g.:","e.g.:","e.g.:","e.g.:","e.g.:","e.g.:"]

{"sheet":"Process_&_CMS_Identification","index":4,"n_rows":23,"n_cols":6,"rows_kept":23}
[null,"DO NOT REMOVE OR EDIT INFORMATION IN ROWS 1 THROUGH 5\nFOR INTERNAL USE ONLY"]
[null,"Template Name",{"$f":"+Welcome!B2","v":"63.5580(g) Semiannual Compliance Report (Spreadsheet Template)"}]
[null,"CitationID",{"$f":"+Welcome!B3","v":"63.5580(g)"}]
[null,"Template Version",{"$f":"+Welcome!B4","v":"ICR Draft"}]
[null,"Last Updated Date",{"$f":"+Welcome!B5","v":{"v":45176,"d":"4517600.00%"}}]
[]
[null,"40 CFR Part 63, Subpart UUUU National Emission Standards for Hazardous Air Pollutants for Cellulose Products Manufacturing -"]
[null,"§63.5580 Semiannual Compliance Report Spreadsheet Template"]
[]
[]
[]
[null,"Company Record No. \n(Select from Dropdown)","Process Unit Description \n(§63.5580(e)(9))","Brief Description of CMS \n(§63.5580(e)(10))","Identification of Hazardous Air Pollutant Known To Be in Emission Stream\n(§63.5580(e)(8))","Date of Latest CEMS\nCertification or Audit or CPMS Inspection, Calibration, or Validation Check \n(§63.5580(e)(11))"]
[null,"RecordId","ProcessUnitDesc","MonitorEqDesc","Pollutant","CPMSAuditDate"]
[null,"e.g.: 1","e.g. Line 1","e.g.: TC1792 PM Filter Bank Inlet Temperature","e.g.: Methanol","e.g.: 2/2/2020"]
[null,"e.g.:","e.g.:","e.g.:","e.g.:","e.g.:"]
[null,"e.g.:","e.g.:","e.g.:","e.g.:","e.g.:"]
[null,"e.g.:","e.g.:","e.g.:","e.g.:","e.g.:"]
[null,"e.g.:","e.g.:","e.g.:","e.g.:","e.g.:"]
[null,"e.g.:","e.g.:","e.g.:","e.g.:","e.g.:"]
[null,"e.g.:","e.g.:","e.g.:","e.g.:","e.g.:"]
[null,"e.g.:","e.g.:","e.g.:","e.g.:","e.g.:"]
[null,"e.g.:","e.g.:","e.g.:","e.g.:","e.g.:"]
[null,"e.g.:","e.g.:","e.g.:","e.g.:","e.g.:"]

{"sheet":"Using CMS - Malfunction","index":5,"n_rows":26,"n_cols":7,"rows_kept":26}
[null,"DO NOT REMOVE OR EDIT INFORMATION IN ROWS 1 THROUGH 5\nFOR INTERNAL USE ONLY"]
[null,"Template Name"]
[null,"CitationID"]
[null,"Template Version"]
[null,"Last Updated Date"]
[]
[null,"40 CFR Part 63, Subpart UUUU National Emission Standards for Hazardous Air Pollutants for Cellulose Products Manufacturing - "]
[null,"§63.5580 Semiannual Compliance Report Spreadsheet Template"]
[]
[]
[]
[null,"Company Record No. \n(Select from Dropdown)","Process Unit Description\n(§63.5580(e)(9)) \n(Select from Dropdown)","Starting Date Malfunction \n(§63.5580(e)(1))","Starting Time Malfunction \n(§63.5580(e)(1))","Ending Date Malfunction \n(§63.5580(e)(1))","Ending Time Malfunction \n(§63.5580(e)(1))"]
[null,"RecordId","ProcessUnitDesc","MalfunctionStartDate","MalfunctionStartTime","MalfunctionEndDate","MalfunctionEndTime"]
[null,"e.g.: 1","e.g. Line 1","e.g.: 3/2/2020","e.g.: 15:52","e.g.: 3/2/2020","e.g.: 17:45"]
[null,"e.g.:","e.g.:","e.g.:","e.g.:","e.g.:","e.g.:"]
[null,"e.g.:","e.g.:","e.g.:","e.g.:","e.g.:","e.g.:"]
[null,"e.g.:","e.g.:","e.g.:","e.g.:","e.g.:","e.g.:"]
[null,"e.g.:","e.g.:","e.g.:","e.g.:","e.g.:","e.g.:"]
[null,"e.g.:","e.g.:","e.g.:","e.g.:","e.g.:","e.g.:"]
[null,"e.g.:","e.g.:","e.g.:","e.g.:","e.g.:","e.g.:"]
[null,"e.g.:","e.g.:","e.g.:","e.g.:","e.g.:","e.g.:"]
[null,"e.g.:","e.g.:","e.g.:","e.g.:","e.g.:","e.g.:"]
[null,"e.g.:","e.g.:","e.g.:","e.g.:","e.g.:","e.g.:"]
[]
[]
[{"$nulls":3}," "," ","  "," "]

{"sheet":"Using CMS - Inop_OoC - CMS","index":6,"n_rows":23,"n_cols":8,"rows_kept":23}
[null,"DO NOT REMOVE OR EDIT INFORMATION IN ROWS 1 THROUGH 5\nFOR INTERNAL USE ONLY"]
[null,"Template Name",null,{"$f":"+Welcome!B2","v":"63.5580(g) Semiannual Compliance Report (Spreadsheet Template)"}]
[null,"CitationID",null,{"$f":"+Welcome!B3","v":"63.5580(g)"}]
[null,"Template Version",null,{"$f":"+Welcome!B4","v":"ICR Draft"}]
[null,"Last Updated Date",null,{"$f":"+Welcome!B5","v":{"v":45176,"d":"4517600.00%"}}]
[]
[null,"40 CFR Part 63, Subpart UUUU National Emission Standards for Hazardous Air Pollutants for Cellulose Products Manufacturing - §63.5580 Semiannual Compliance Report Spreadsheet Template"]
[null,"\n"]
[]
[]
[]
[null,"Company Record No. \n(Select from Dropdown)","Process Unit Description\n(§63.5580(e)(9)) \n(Select from Dropdown)","Brief Description of CMS \n(§63.5580(e)(10))\n(Select from Dropdown)","CMS  Inoperative or\nOut of Control    (§63.5580(e)(2) and (3))\n(Select from Dropdown)"," Date CMS \n Inoperative or\nOut of Control \n(§63.5580(e)(2) or (3))","Time CMS Inoperative or\nOut of Control \n(§63.5580(e)(2) or (3))","Duration CMS Inoperative \nor Out of Control  (hours)\n(§63.5580(e)(2) or (3))"]
[null,"RecordId","ProcessUnitDesc","MonitorEqDesc","CMSOutageDescription","CMSOutageDate","CMSOutageTime","CMSOutageDuration"]
[null,"e.g.: 1","e.g. Line 1","e.g.: TC1792 PM Filter Bank Inlet Temperature","e.g. Inoperative","e.g.: 3/2/2020-3/5/2020","e.g.: 15:52 ","e.g.: 72 "]
[null,"e.g.:","e.g.:","e.g.:","e.g.:","e.g.:","e.g.:","e.g.:"]
[null,"e.g.:","e.g.:","e.g.:","e.g.:","e.g.:","e.g.:","e.g.:"]
[null,"e.g.:","e.g.:","e.g.:","e.g.:","e.g.:","e.g.:","e.g.:"]
[null,"e.g.:","e.g.:","e.g.:","e.g.:","e.g.:","e.g.:","e.g.:"]
[null,"e.g.:","e.g.:","e.g.:","e.g.:","e.g.:","e.g.:","e.g.:"]
[null,"e.g.:","e.g.:","e.g.:","e.g.:","e.g.:","e.g.:","e.g.:"]
[null,"e.g.:","e.g.:","e.g.:","e.g.:","e.g.:","e.g.:","e.g.:"]
[null,"e.g.:","e.g.:","e.g.:","e.g.:","e.g.:","e.g.:","e.g.:"]
[null,"e.g.:","e.g.:","e.g.:","e.g.:","e.g.:","e.g.:","e.g.:"]

{"sheet":"Downtime - CMS Summary","index":7,"n_rows":500,"n_cols":7,"rows_kept":500}
[null,"DO NOT REMOVE OR EDIT INFORMATION IN ROWS 1 THROUGH 5\nFOR INTERNAL USE ONLY"]
[null,"Template Name",null,{"$f":"+Welcome!B2","v":"63.5580(g) Semiannual Compliance Report (Spreadsheet Template)"}]
[null,"CitationID",null,{"$f":"+Welcome!B3","v":"63.5580(g)"}]
[null,"Template Version",null,{"$f":"+Welcome!B4","v":"ICR Draft"}]
[null,"Last Updated Date",null,{"$f":"+Welcome!B5","v":{"v":45176,"d":"4517600.00%"}}]
[]
[null,"40 CFR Part 63, Subpart UUUU National Emission Standards for Hazardous Air Pollutants for Cellulose Products Manufacturing - §63.5580 Semiannual Compliance Report Spreadsheet Template"]
[null,"\n"]
[]
[]
[]
[null,"Company Record No. \n(Autocompleted)","Process Unit Description\n(§63.5580(e)(9)) \n(Autocompleted)","Brief Description of CMS \n(§63.5580(e)(10))\n(Autocompleted)","Total Source\nOperating Time \n(hours)                            (§63.5580(e)(7))","Total Duration of\n CMS Downtime \n(hours) \n(§63.5580(e)(7))\n(Calculated value)","Total Duration of\n CMS Downtime as\n a per cent of Total\n Source Operating Time\n(§63.5580(e)(7))\n(Calculated value)"]
[null,"RecordId","ProcessUnitDesc","MonitorEqDesc","TotalOperatingTime","CMSDowntimeDuration","CMSDowntimePercent"]
[null,"e.g.: 1","e.g. Line 1","e.g.: TC1792 PM Filter Bank Inlet Temperature","e.g.: 6240","e.g.: 0","e.g.: N/A"]
[null,"e.g.:","e.g.:","e.g.:","e.g.:","e.g.:","e.g.:"]
[null,"e.g.:","e.g.:","e.g.:","e.g.:","e.g.:","e.g.:"]
[null,"e.g.:","e.g.:","e.g.:","e.g.:","e.g.:","e.g.:"]
[null,"e.g.:","e.g.:","e.g.:","e.g.:","e.g.:","e.g.:"]
[null,"e.g.:","e.g.:","e.g.:","e.g.:","e.g.:","e.g.:"]
[null,"e.g.:","e.g.:","e.g.:","e.g.:","e.g.:","e.g.:"]
[null,"e.g.:","e.g.:","e.g.:","e.g.:","e.g.:","e.g.:"]
[null,"e.g.:","e.g.:","e.g.:","e.g.:","e.g.:","e.g.:"]
[null,"e.g.:","e.g.:","e.g.:","e.g.:","e.g.:","e.g.:"]
[null,{"$f":"IF(Lists!AT2=\"\",\"\",Lists!AT2)","v":""},{"$f":"IF(Lists!AU2=\"\",\"\",Lists!AU2)","v":""},{"$f":"IF(Lists!AV2=\"\",\"\",Lists!AV2)","v":""},null,{"$f":"IF($E24=\"\",\"\",SUMIFS('Using CMS - Inop_OoC - CMS'!$H$24:$H$5400,'Using CMS - Inop_OoC - CMS'!$B$24:$B$5400,B24,'Using CMS - Inop_OoC - CMS'!$C$24:$C$5400,C24,'Using CMS - Inop_OoC - CMS'!$D$24:$D$5400,D24))","v":""},{"$f":"IF($E24=\"\",\"\",IF(F24=0,\"N/A\",F24/$E24))","v":""}]
[null,{"$f":"IF(Lists!AT3=\"\",\"\",Lists!AT3)","v":""},{"$f":"IF(Lists!AU3=\"\",\"\",Lists!AU3)","v":""},{"$f":"IF(Lists!AV3=\"\",\"\",Lists!AV3)","v":""},null,{"$f":"IF($E25=\"\",\"\",SUMIFS('Using CMS - Inop_OoC - CMS'!$H$24:$H$5400,'Using CMS - Inop_OoC - CMS'!$B$24:$B$5400,B25,'Using CMS - Inop_OoC - CMS'!$C$24:$C$5400,C25,'Using CMS - Inop_OoC - CMS'!$D$24:$D$5400,D25))","v":""},""]
[null,{"$f":"IF(Lists!AT4=\"\",\"\",Lists!AT4)","v":""},{"$f":"IF(Lists!AU4=\"\",\"\",Lists!AU4)","v":""},{"$f":"IF(Lists!AV4=\"\",\"\",Lists!AV4)","v":""},null,{"$f":"IF($E26=\"\",\"\",SUMIFS('Using CMS - Inop_OoC - CMS'!$H$24:$H$5400,'Using CMS - Inop_OoC - CMS'!$B$24:$B$5400,B26,'Using CMS - Inop_OoC - CMS'!$C$24:$C$5400,C26,'Using CMS - Inop_OoC - CMS'!$D$24:$D$5400,D26))","v":""},""]
[null,{"$f":"IF(Lists!AT5=\"\",\"\",Lists!AT5)","v":""},{"$f":"IF(Lists!AU5=\"\",\"\",Lists!AU5)","v":""},{"$f":"IF(Lists!AV5=\"\",\"\",Lists!AV5)","v":""},null,{"$f":"IF($E27=\"\",\"\",SUMIFS('Using CMS - Inop_OoC - CMS'!$H$24:$H$5400,'Using CMS - Inop_OoC - CMS'!$B$24:$B$5400,B27,'Using CMS - Inop_OoC - CMS'!$C$24:$C$5400,C27,'Using CMS - Inop_OoC - CMS'!$D$24:$D$5400,D27))","v":""},""]
[null,{"$f":"IF(Lists!AT6=\"\",\"\",Lists!AT6)","v":""},{"$f":"IF(Lists!AU6=\"\",\"\",Lists!AU6)","v":""},{"$f":"IF(Lists!AV6=\"\",\"\",Lists!AV6)","v":""},null,{"$f":"IF($E28=\"\",\"\",SUMIFS('Using CMS - Inop_OoC - CMS'!$H$24:$H$5400,'Using CMS - Inop_OoC - CMS'!$B$24:$B$5400,B28,'Using CMS - Inop_OoC - CMS'!$C$24:$C$5400,C28,'Using CMS - Inop_OoC - CMS'!$D$24:$D$5400,D28))","v":""},""]
[null,{"$f":"IF(Lists!AT7=\"\",\"\",Lists!AT7)","v":""},{"$f":"IF(Lists!AU7=\"\",\"\",Lists!AU7)","v":""},{"$f":"IF(Lists!AV7=\"\",\"\",Lists!AV7)","v":""},null,{"$f":"IF($E29=\"\",\"\",SUMIFS('Using CMS - Inop_OoC - CMS'!$H$24:$H$5400,'Using CMS - Inop_OoC - CMS'!$B$24:$B$5400,B29,'Using CMS - Inop_OoC - CMS'!$C$24:$C$5400,C29,'Using CMS - Inop_OoC - CMS'!$D$24:$D$5400,D29))","v":""},""]
[null,{"$f":"IF(Lists!AT8=\"\",\"\",Lists!AT8)","v":""},{"$f":"IF(Lists!AU8=\"\",\"\",Lists!AU8)","v":""},{"$f":"IF(Lists!AV8=\"\",\"\",Lists!AV8)","v":""},null,{"$f":"IF($E30=\"\",\"\",SUMIFS('Using CMS - Inop_OoC - CMS'!$H$24:$H$5400,'Using CMS - Inop_OoC - CMS'!$B$24:$B$5400,B30,'Using CMS - Inop_OoC - CMS'!$C$24:$C$5400,C30,'Using CMS - Inop_OoC - CMS'!$D$24:$D$5400,D30))","v":""},""]
[null,{"$f":"IF(Lists!AT9=\"\",\"\",Lists!AT9)","v":""},{"$f":"IF(Lists!AU9=\"\",\"\",Lists!AU9)","v":""},{"$f":"IF(Lists!AV9=\"\",\"\",Lists!AV9)","v":""},null,{"$f":"IF($E31=\"\",\"\",SUMIFS('Using CMS - Inop_OoC - CMS'!$H$24:$H$5400,'Using CMS - Inop_OoC - CMS'!$B$24:$B$5400,B31,'Using CMS - Inop_OoC - CMS'!$C$24:$C$5400,C31,'Using CMS - Inop_OoC - CMS'!$D$24:$D$5400,D31))","v":""},""]
[null,{"$f":"IF(Lists!AT10=\"\",\"\",Lists!AT10)","v":""},{"$f":"IF(Lists!AU10=\"\",\"\",Lists!AU10)","v":""},{"$f":"IF(Lists!AV10=\"\",\"\",Lists!AV10)","v":""},null,{"$f":"IF($E32=\"\",\"\",SUMIFS('Using CMS - Inop_OoC - CMS'!$H$24:$H$5400,'Using CMS - Inop_OoC - CMS'!$B$24:$B$5400,B32,'Using CMS - Inop_OoC - CMS'!$C$24:$C$5400,C32,'Using CMS - Inop_OoC - CMS'!$D$24:$D$5400,D32))","v":""},""]
[null,{"$f":"IF(Lists!AT11=\"\",\"\",Lists!AT11)","v":""},{"$f":"IF(Lists!AU11=\"\",\"\",Lists!AU11)","v":""},{"$f":"IF(Lists!AV11=\"\",\"\",Lists!AV11)","v":""},null,{"$f":"IF($E33=\"\",\"\",SUMIFS('Using CMS - Inop_OoC - CMS'!$H$24:$H$5400,'Using CMS - Inop_OoC - CMS'!$B$24:$B$5400,B33,'Using CMS - Inop_OoC - CMS'!$C$24:$C$5400,C33,'Using CMS - Inop_OoC - CMS'!$D$24:$D$5400,D33))","v":""},""]
[null,{"$f":"IF(Lists!AT12=\"\",\"\",Lists!AT12)","v":""},{"$f":"IF(Lists!AU12=\"\",\"\",Lists!AU12)","v":""},{"$f":"IF(Lists!AV12=\"\",\"\",Lists!AV12)","v":""},null,{"$f":"IF($E34=\"\",\"\",SUMIFS('Using CMS - Inop_OoC - CMS'!$H$24:$H$5400,'Using CMS - Inop_OoC - CMS'!$B$24:$B$5400,B34,'Using CMS - Inop_OoC - CMS'!$C$24:$C$5400,C34,'Using CMS - Inop_OoC - CMS'!$D$24:$D$5400,D34))","v":""},""]
[null,{"$f":"IF(Lists!AT13=\"\",\"\",Lists!AT13)","v":""},{"$f":"IF(Lists!AU13=\"\",\"\",Lists!AU13)","v":""},{"$f":"IF(Lists!AV13=\"\",\"\",Lists!AV13)","v":""},null,{"$f":"IF($E35=\"\",\"\",SUMIFS('Using CMS - Inop_OoC - CMS'!$H$24:$H$5400,'Using CMS - Inop_OoC - CMS'!$B$24:$B$5400,B35,'Using CMS - Inop_OoC - CMS'!$C$24:$C$5400,C35,'Using CMS - Inop_OoC - CMS'!$D$24:$D$5400,D35))","v":""},""]
[null,{"$f":"IF(Lists!AT14=\"\",\"\",Lists!AT14)","v":""},{"$f":"IF(Lists!AU14=\"\",\"\",Lists!AU14)","v":""},{"$f":"IF(Lists!AV14=\"\",\"\",Lists!AV14)","v":""},null,{"$f":"IF($E36=\"\",\"\",SUMIFS('Using CMS - Inop_OoC - CMS'!$H$24:$H$5400,'Using CMS - Inop_OoC - CMS'!$B$24:$B$5400,B36,'Using CMS - Inop_OoC - CMS'!$C$24:$C$5400,C36,'Using CMS - Inop_OoC - CMS'!$D$24:$D$5400,D36))","v":""},""]
[null,{"$f":"IF(Lists!AT15=\"\",\"\",Lists!AT15)","v":""},{"$f":"IF(Lists!AU15=\"\",\"\",Lists!AU15)","v":""},{"$f":"IF(Lists!AV15=\"\",\"\",Lists!AV15)","v":""},null,{"$f":"IF($E37=\"\",\"\",SUMIFS('Using CMS - Inop_OoC - CMS'!$H$24:$H$5400,'Using CMS - Inop_OoC - CMS'!$B$24:$B$5400,B37,'Using CMS - Inop_OoC - CMS'!$C$24:$C$5400,C37,'Using CMS - Inop_OoC - CMS'!$D$24:$D$5400,D37))","v":""},""]
[null,{"$f":"IF(Lists!AT16=\"\",\"\",Lists!AT16)","v":""},{"$f":"IF(Lists!AU16=\"\",\"\",Lists!AU16)","v":""},{"$f":"IF(Lists!AV16=\"\",\"\",Lists!AV16)","v":""},null,{"$f":"IF($E38=\"\",\"\",SUMIFS('Using CMS - Inop_OoC - CMS'!$H$24:$H$5400,'Using CMS - Inop_OoC - CMS'!$B$24:$B$5400,B38,'Using CMS - Inop_OoC - CMS'!$C$24:$C$5400,C38,'Using CMS - Inop_OoC - CMS'!$D$24:$D$5400,D38))","v":""},""]
[null,{"$f":"IF(Lists!AT17=\"\",\"\",Lists!AT17)","v":""},{"$f":"IF(Lists!AU17=\"\",\"\",Lists!AU17)","v":""},{"$f":"IF(Lists!AV17=\"\",\"\",Lists!AV17)","v":""},null,{"$f":"IF($E39=\"\",\"\",SUMIFS('Using CMS - Inop_OoC - CMS'!$H$24:$H$5400,'Using CMS - Inop_OoC - CMS'!$B$24:$B$5400,B39,'Using CMS - Inop_OoC - CMS'!$C$24:$C$5400,C39,'Using CMS - Inop_OoC - CMS'!$D$24:$D$5400,D39))","v":""},""]
[null,{"$f":"IF(Lists!AT18=\"\",\"\",Lists!AT18)","v":""},{"$f":"IF(Lists!AU18=\"\",\"\",Lists!AU18)","v":""},{"$f":"IF(Lists!AV18=\"\",\"\",Lists!AV18)","v":""},null,{"$f":"IF($E40=\"\",\"\",SUMIFS('Using CMS - Inop_OoC - CMS'!$H$24:$H$5400,'Using CMS - Inop_OoC - CMS'!$B$24:$B$5400,B40,'Using CMS - Inop_OoC - CMS'!$C$24:$C$5400,C40,'Using CMS - Inop_OoC - CMS'!$D$24:$D$5400,D40))","v":""},""]
[null,{"$f":"IF(Lists!AT19=\"\",\"\",Lists!AT19)","v":""},{"$f":"IF(Lists!AU19=\"\",\"\",Lists!AU19)","v":""},{"$f":"IF(Lists!AV19=\"\",\"\",Lists!AV19)","v":""},null,{"$f":"IF($E41=\"\",\"\",SUMIFS('Using CMS - Inop_OoC - CMS'!$H$24:$H$5400,'Using CMS - Inop_OoC - CMS'!$B$24:$B$5400,B41,'Using CMS - Inop_OoC - CMS'!$C$24:$C$5400,C41,'Using CMS - Inop_OoC - CMS'!$D$24:$D$5400,D41))","v":""},""]
[null,{"$f":"IF(Lists!AT20=\"\",\"\",Lists!AT20)","v":""},{"$f":"IF(Lists!AU20=\"\",\"\",Lists!AU20)","v":""},{"$f":"IF(Lists!AV20=\"\",\"\",Lists!AV20)","v":""},null,{"$f":"IF($E42=\"\",\"\",SUMIFS('Using CMS - Inop_OoC - CMS'!$H$24:$H$5400,'Using CMS - Inop_OoC - CMS'!$B$24:$B$5400,B42,'Using CMS - Inop_OoC - CMS'!$C$24:$C$5400,C42,'Using CMS - Inop_OoC - CMS'!$D$24:$D$5400,D42))","v":""},""]
[null,{"$f":"IF(Lists!AT21=\"\",\"\",Lists!AT21)","v":""},{"$f":"IF(Lists!AU21=\"\",\"\",Lists!AU21)","v":""},{"$f":"IF(Lists!AV21=\"\",\"\",Lists!AV21)","v":""},null,{"$f":"IF($E43=\"\",\"\",SUMIFS('Using CMS - Inop_OoC - CMS'!$H$24:$H$5400,'Using CMS - Inop_OoC - CMS'!$B$24:$B$5400,B43,'Using CMS - Inop_OoC - CMS'!$C$24:$C$5400,C43,'Using CMS - Inop_OoC - CMS'!$D$24:$D$5400,D43))","v":""},""]
[null,{"$f":"IF(Lists!AT22=\"\",\"\",Lists!AT22)","v":""},{"$f":"IF(Lists!AU22=\"\",\"\",Lists!AU22)","v":""},{"$f":"IF(Lists!AV22=\"\",\"\",Lists!AV22)","v":""},null,{"$f":"IF($E44=\"\",\"\",SUMIFS('Using CMS - Inop_OoC - CMS'!$H$24:$H$5400,'Using CMS - Inop_OoC - CMS'!$B$24:$B$5400,B44,'Using CMS - Inop_OoC - CMS'!$C$24:$C$5400,C44,'Using CMS - Inop_OoC - CMS'!$D$24:$D$5400,D44))","v":""},""]
[null,{"$f":"IF(Lists!AT23=\"\",\"\",Lists!AT23)","v":""},{"$f":"IF(Lists!AU23=\"\",\"\",Lists!AU23)","v":""},{"$f":"IF(Lists!AV23=\"\",\"\",Lists!AV23)","v":""},null,{"$f":"IF($E45=\"\",\"\",SUMIFS('Using CMS - Inop_OoC - CMS'!$H$24:$H$5400,'Using CMS - Inop_OoC - CMS'!$B$24:$B$5400,B45,'Using CMS - Inop_OoC - CMS'!$C$24:$C$5400,C45,'Using CMS - Inop_OoC - CMS'!$D$24:$D$5400,D45))","v":""},""]
[null,{"$f":"IF(Lists!AT24=\"\",\"\",Lists!AT24)","v":""},{"$f":"IF(Lists!AU24=\"\",\"\",Lists!AU24)","v":""},{"$f":"IF(Lists!AV24=\"\",\"\",Lists!AV24)","v":""},null,{"$f":"IF($E46=\"\",\"\",SUMIFS('Using CMS - Inop_OoC - CMS'!$H$24:$H$5400,'Using CMS - Inop_OoC - CMS'!$B$24:$B$5400,B46,'Using CMS - Inop_OoC - CMS'!$C$24:$C$5400,C46,'Using CMS - Inop_OoC - CMS'!$D$24:$D$5400,D46))","v":""},""]
[null,{"$f":"IF(Lists!AT25=\"\",\"\",Lists!AT25)","v":""},{"$f":"IF(Lists!AU25=\"\",\"\",Lists!AU25)","v":""},{"$f":"IF(Lists!AV25=\"\",\"\",Lists!AV25)","v":""},null,{"$f":"IF($E47=\"\",\"\",SUMIFS('Using CMS - Inop_OoC - CMS'!$H$24:$H$5400,'Using CMS - Inop_OoC - CMS'!$B$24:$B$5400,B47,'Using CMS - Inop_OoC - CMS'!$C$24:$C$5400,C47,'Using CMS - Inop_OoC - CMS'!$D$24:$D$5400,D47))","v":""},""]
[null,{"$f":"IF(Lists!AT26=\"\",\"\",Lists!AT26)","v":""},{"$f":"IF(Lists!AU26=\"\",\"\",Lists!AU26)","v":""},{"$f":"IF(Lists!AV26=\"\",\"\",Lists!AV26)","v":""},null,{"$f":"IF($E48=\"\",\"\",SUMIFS('Using CMS - Inop_OoC - CMS'!$H$24:$H$5400,'Using CMS - Inop_OoC - CMS'!$B$24:$B$5400,B48,'Using CMS - Inop_OoC - CMS'!$C$24:$C$5400,C48,'Using CMS - Inop_OoC - CMS'!$D$24:$D$5400,D48))","v":""},""]
[null,{"$f":"IF(Lists!AT27=\"\",\"\",Lists!AT27)","v":""},{"$f":"IF(Lists!AU27=\"\",\"\",Lists!AU27)","v":""},{"$f":"IF(Lists!AV27=\"\",\"\",Lists!AV27)","v":""},null,{"$f":"IF($E49=\"\",\"\",SUMIFS('Using CMS - Inop_OoC - CMS'!$H$24:$H$5400,'Using CMS - Inop_OoC - CMS'!$B$24:$B$5400,B49,'Using CMS - Inop_OoC - CMS'!$C$24:$C$5400,C49,'Using CMS - Inop_OoC - CMS'!$D$24:$D$5400,D49))","v":""},""]
[null,{"$f":"IF(Lists!AT28=\"\",\"\",Lists!AT28)","v":""},{"$f":"IF(Lists!AU28=\"\",\"\",Lists!AU28)","v":""},{"$f":"IF(Lists!AV28=\"\",\"\",Lists!AV28)","v":""},null,{"$f":"IF($E50=\"\",\"\",SUMIFS('Using CMS - Inop_OoC - CMS'!$H$24:$H$5400,'Using CMS - Inop_OoC - CMS'!$B$24:$B$5400,B50,'Using CMS - Inop_OoC - CMS'!$C$24:$C$5400,C50,'Using CMS - Inop_OoC - CMS'!$D$24:$D$5400,D50))","v":""},""]
[null,{"$f":"IF(Lists!AT29=\"\",\"\",Lists!AT29)","v":""},{"$f":"IF(Lists!AU29=\"\",\"\",Lists!AU29)","v":""},{"$f":"IF(Lists!AV29=\"\",\"\",Lists!AV29)","v":""},null,{"$f":"IF($E51=\"\",\"\",SUMIFS('Using CMS - Inop_OoC - CMS'!$H$24:$H$5400,'Using CMS - Inop_OoC - CMS'!$B$24:$B$5400,B51,'Using CMS - Inop_OoC - CMS'!$C$24:$C$5400,C51,'Using CMS - Inop_OoC - CMS'!$D$24:$D$5400,D51))","v":""},""]
[null,{"$f":"IF(Lists!AT30=\"\",\"\",Lists!AT30)","v":""},{"$f":"IF(Lists!AU30=\"\",\"\",Lists!AU30)","v":""},{"$f":"IF(Lists!AV30=\"\",\"\",Lists!AV30)","v":""},null,{"$f":"IF($E52=\"\",\"\",SUMIFS('Using CMS - Inop_OoC - CMS'!$H$24:$H$5400,'Using CMS - Inop_OoC - CMS'!$B$24:$B$5400,B52,'Using CMS - Inop_OoC - CMS'!$C$24:$C$5400,C52,'Using CMS - Inop_OoC - CMS'!$D$24:$D$5400,D52))","v":""},""]
[null,{"$f":"IF(Lists!AT31=\"\",\"\",Lists!AT31)","v":""},{"$f":"IF(Lists!AU31=\"\",\"\",Lists!AU31)","v":""},{"$f":"IF(Lists!AV31=\"\",\"\",Lists!AV31)","v":""},null,{"$f":"IF($E53=\"\",\"\",SUMIFS('Using CMS - Inop_OoC - CMS'!$H$24:$H$5400,'Using CMS - Inop_OoC - CMS'!$B$24:$B$5400,B53,'Using CMS - Inop_OoC - CMS'!$C$24:$C$5400,C53,'Using CMS - Inop_OoC - CMS'!$D$24:$D$5400,D53))","v":""},""]
[null,{"$f":"IF(Lists!AT32=\"\",\"\",Lists!AT32)","v":""},{"$f":"IF(Lists!AU32=\"\",\"\",Lists!AU32)","v":""},{"$f":"IF(Lists!AV32=\"\",\"\",Lists!AV32)","v":""},null,{"$f":"IF($E54=\"\",\"\",SUMIFS('Using CMS - Inop_OoC - CMS'!$H$24:$H$5400,'Using CMS - Inop_OoC - CMS'!$B$24:$B$5400,B54,'Using CMS - Inop_OoC - CMS'!$C$24:$C$5400,C54,'Using CMS - Inop_OoC - CMS'!$D$24:$D$5400,D54))","v":""},""]
[null,{"$f":"IF(Lists!AT33=\"\",\"\",Lists!AT33)","v":""},{"$f":"IF(Lists!AU33=\"\",\"\",Lists!AU33)","v":""},{"$f":"IF(Lists!AV33=\"\",\"\",Lists!AV33)","v":""},null,{"$f":"IF($E55=\"\",\"\",SUMIFS('Using CMS - Inop_OoC - CMS'!$H$24:$H$5400,'Using CMS - Inop_OoC - CMS'!$B$24:$B$5400,B55,'Using CMS - Inop_OoC - CMS'!$C$24:$C$5400,C55,'Using CMS - Inop_OoC - CMS'!$D$24:$D$5400,D55))","v":""},""]
[null,{"$f":"IF(Lists!AT34=\"\",\"\",Lists!AT34)","v":""},{"$f":"IF(Lists!AU34=\"\",\"\",Lists!AU34)","v":""},{"$f":"IF(Lists!AV34=\"\",\"\",Lists!AV34)","v":""},null,{"$f":"IF($E56=\"\",\"\",SUMIFS('Using CMS - Inop_OoC - CMS'!$H$24:$H$5400,'Using CMS - Inop_OoC - CMS'!$B$24:$B$5400,B56,'Using CMS - Inop_OoC - CMS'!$C$24:$C$5400,C56,'Using CMS - Inop_OoC - CMS'!$D$24:$D$5400,D56))","v":""},""]
[null,{"$f":"IF(Lists!AT35=\"\",\"\",Lists!AT35)","v":""},{"$f":"IF(Lists!AU35=\"\",\"\",Lists!AU35)","v":""},{"$f":"IF(Lists!AV35=\"\",\"\",Lists!AV35)","v":""},null,{"$f":"IF($E57=\"\",\"\",SUMIFS('Using CMS - Inop_OoC - CMS'!$H$24:$H$5400,'Using CMS - Inop_OoC - CMS'!$B$24:$B$5400,B57,'Using CMS - Inop_OoC - CMS'!$C$24:$C$5400,C57,'Using CMS - Inop_OoC - CMS'!$D$24:$D$5400,D57))","v":""},""]
[null,{"$f":"IF(Lists!AT36=\"\",\"\",Lists!AT36)","v":""},{"$f":"IF(Lists!AU36=\"\",\"\",Lists!AU36)","v":""},{"$f":"IF(Lists!AV36=\"\",\"\",Lists!AV36)","v":""},null,{"$f":"IF($E58=\"\",\"\",SUMIFS('Using CMS - Inop_OoC - CMS'!$H$24:$H$5400,'Using CMS - Inop_OoC - CMS'!$B$24:$B$5400,B58,'Using CMS - Inop_OoC - CMS'!$C$24:$C$5400,C58,'Using CMS - Inop_OoC - CMS'!$D$24:$D$5400,D58))","v":""},""]
[null,{"$f":"IF(Lists!AT37=\"\",\"\",Lists!AT37)","v":""},{"$f":"IF(Lists!AU37=\"\",\"\",Lists!AU37)","v":""},{"$f":"IF(Lists!AV37=\"\",\"\",Lists!AV37)","v":""},null,{"$f":"IF($E59=\"\",\"\",SUMIFS('Using CMS - Inop_OoC - CMS'!$H$24:$H$5400,'Using CMS - Inop_OoC - CMS'!$B$24:$B$5400,B59,'Using CMS - Inop_OoC - CMS'!$C$24:$C$5400,C59,'Using CMS - Inop_OoC - CMS'!$D$24:$D$5400,D59))","v":""},""]
[null,{"$f":"IF(Lists!AT38=\"\",\"\",Lists!AT38)","v":""},{"$f":"IF(Lists!AU38=\"\",\"\",Lists!AU38)","v":""},{"$f":"IF(Lists!AV38=\"\",\"\",Lists!AV38)","v":""},null,{"$f":"IF($E60=\"\",\"\",SUMIFS('Using CMS - Inop_OoC - CMS'!$H$24:$H$5400,'Using CMS - Inop_OoC - CMS'!$B$24:$B$5400,B60,'Using CMS - Inop_OoC - CMS'!$C$24:$C$5400,C60,'Using CMS - Inop_OoC - CMS'!$D$24:$D$5400,D60))","v":""},""]
[null,{"$f":"IF(Lists!AT39=\"\",\"\",Lists!AT39)","v":""},{"$f":"IF(Lists!AU39=\"\",\"\",Lists!AU39)","v":""},{"$f":"IF(Lists!AV39=\"\",\"\",Lists!AV39)","v":""},null,{"$f":"IF($E61=\"\",\"\",SUMIFS('Using CMS - Inop_OoC - CMS'!$H$24:$H$5400,'Using CMS - Inop_OoC - CMS'!$B$24:$B$5400,B61,'Using CMS - Inop_OoC - CMS'!$C$24:$C$5400,C61,'Using CMS - Inop_OoC - CMS'!$D$24:$D$5400,D61))","v":""},""]
[null,{"$f":"IF(Lists!AT40=\"\",\"\",Lists!AT40)","v":""},{"$f":"IF(Lists!AU40=\"\",\"\",Lists!AU40)","v":""},{"$f":"IF(Lists!AV40=\"\",\"\",Lists!AV40)","v":""},null,{"$f":"IF($E62=\"\",\"\",SUMIFS('Using CMS - Inop_OoC - CMS'!$H$24:$H$5400,'Using CMS - Inop_OoC - CMS'!$B$24:$B$5400,B62,'Using CMS - Inop_OoC - CMS'!$C$24:$C$5400,C62,'Using CMS - Inop_OoC - CMS'!$D$24:$D$5400,D62))","v":""},""]
[null,{"$f":"IF(Lists!AT41=\"\",\"\",Lists!AT41)","v":""},{"$f":"IF(Lists!AU41=\"\",\"\",Lists!AU41)","v":""},{"$f":"IF(Lists!AV41=\"\",\"\",Lists!AV41)","v":""},null,{"$f":"IF($E63=\"\",\"\",SUMIFS('Using CMS - Inop_OoC - CMS'!$H$24:$H$5400,'Using CMS - Inop_OoC - CMS'!$B$24:$B$5400,B63,'Using CMS - Inop_OoC - CMS'!$C$24:$C$5400,C63,'Using CMS - Inop_OoC - CMS'!$D$24:$D$5400,D63))","v":""},""]
[null,{"$f":"IF(Lists!AT42=\"\",\"\",Lists!AT42)","v":""},{"$f":"IF(Lists!AU42=\"\",\"\",Lists!AU42)","v":""},{"$f":"IF(Lists!AV42=\"\",\"\",Lists!AV42)","v":""},null,{"$f":"IF($E64=\"\",\"\",SUMIFS('Using CMS - Inop_OoC - CMS'!$H$24:$H$5400,'Using CMS - Inop_OoC - CMS'!$B$24:$B$5400,B64,'Using CMS - Inop_OoC - CMS'!$C$24:$C$5400,C64,'Using CMS - Inop_OoC - CMS'!$D$24:$D$5400,D64))","v":""},""]
[null,{"$f":"IF(Lists!AT43=\"\",\"\",Lists!AT43)","v":""},{"$f":"IF(Lists!AU43=\"\",\"\",Lists!AU43)","v":""},{"$f":"IF(Lists!AV43=\"\",\"\",Lists!AV43)","v":""},null,{"$f":"IF($E65=\"\",\"\",SUMIFS('Using CMS - Inop_OoC - CMS'!$H$24:$H$5400,'Using CMS - Inop_OoC - CMS'!$B$24:$B$5400,B65,'Using CMS - Inop_OoC - CMS'!$C$24:$C$5400,C65,'Using CMS - Inop_OoC - CMS'!$D$24:$D$5400,D65))","v":""},""]
[null,{"$f":"IF(Lists!AT44=\"\",\"\",Lists!AT44)","v":""},{"$f":"IF(Lists!AU44=\"\",\"\",Lists!AU44)","v":""},{"$f":"IF(Lists!AV44=\"\",\"\",Lists!AV44)","v":""},null,{"$f":"IF($E66=\"\",\"\",SUMIFS('Using CMS - Inop_OoC - CMS'!$H$24:$H$5400,'Using CMS - Inop_OoC - CMS'!$B$24:$B$5400,B66,'Using CMS - Inop_OoC - CMS'!$C$24:$C$5400,C66,'Using CMS - Inop_OoC - CMS'!$D$24:$D$5400,D66))","v":""},""]
[null,{"$f":"IF(Lists!AT45=\"\",\"\",Lists!AT45)","v":""},{"$f":"IF(Lists!AU45=\"\",\"\",Lists!AU45)","v":""},{"$f":"IF(Lists!AV45=\"\",\"\",Lists!AV45)","v":""},null,{"$f":"IF($E67=\"\",\"\",SUMIFS('Using CMS - Inop_OoC - CMS'!$H$24:$H$5400,'Using CMS - Inop_OoC - CMS'!$B$24:$B$5400,B67,'Using CMS - Inop_OoC - CMS'!$C$24:$C$5400,C67,'Using CMS - Inop_OoC - CMS'!$D$24:$D$5400,D67))","v":""},""]
[null,{"$f":"IF(Lists!AT46=\"\",\"\",Lists!AT46)","v":""},{"$f":"IF(Lists!AU46=\"\",\"\",Lists!AU46)","v":""},{"$f":"IF(Lists!AV46=\"\",\"\",Lists!AV46)","v":""},null,{"$f":"IF($E68=\"\",\"\",SUMIFS('Using CMS - Inop_OoC - CMS'!$H$24:$H$5400,'Using CMS - Inop_OoC - CMS'!$B$24:$B$5400,B68,'Using CMS - Inop_OoC - CMS'!$C$24:$C$5400,C68,'Using CMS - Inop_OoC - CMS'!$D$24:$D$5400,D68))","v":""},""]
[null,{"$f":"IF(Lists!AT47=\"\",\"\",Lists!AT47)","v":""},{"$f":"IF(Lists!AU47=\"\",\"\",Lists!AU47)","v":""},{"$f":"IF(Lists!AV47=\"\",\"\",Lists!AV47)","v":""},null,{"$f":"IF($E69=\"\",\"\",SUMIFS('Using CMS - Inop_OoC - CMS'!$H$24:$H$5400,'Using CMS - Inop_OoC - CMS'!$B$24:$B$5400,B69,'Using CMS - Inop_OoC - CMS'!$C$24:$C$5400,C69,'Using CMS - Inop_OoC - CMS'!$D$24:$D$5400,D69))","v":""},""]
[null,{"$f":"IF(Lists!AT48=\"\",\"\",Lists!AT48)","v":""},{"$f":"IF(Lists!AU48=\"\",\"\",Lists!AU48)","v":""},{"$f":"IF(Lists!AV48=\"\",\"\",Lists!AV48)","v":""},null,{"$f":"IF($E70=\"\",\"\",SUMIFS('Using CMS - Inop_OoC - CMS'!$H$24:$H$5400,'Using CMS - Inop_OoC - CMS'!$B$24:$B$5400,B70,'Using CMS - Inop_OoC - CMS'!$C$24:$C$5400,C70,'Using CMS - Inop_OoC - CMS'!$D$24:$D$5400,D70))","v":""},""]
[null,{"$f":"IF(Lists!AT49=\"\",\"\",Lists!AT49)","v":""},{"$f":"IF(Lists!AU49=\"\",\"\",Lists!AU49)","v":""},{"$f":"IF(Lists!AV49=\"\",\"\",Lists!AV49)","v":""},null,{"$f":"IF($E71=\"\",\"\",SUMIFS('Using CMS - Inop_OoC - CMS'!$H$24:$H$5400,'Using CMS - Inop_OoC - CMS'!$B$24:$B$5400,B71,'Using CMS - Inop_OoC - CMS'!$C$24:$C$5400,C71,'Using CMS - Inop_OoC - CMS'!$D$24:$D$5400,D71))","v":""},""]
[null,{"$f":"IF(Lists!AT50=\"\",\"\",Lists!AT50)","v":""},{"$f":"IF(Lists!AU50=\"\",\"\",Lists!AU50)","v":""},{"$f":"IF(Lists!AV50=\"\",\"\",Lists!AV50)","v":""},null,{"$f":"IF($E72=\"\",\"\",SUMIFS('Using CMS - Inop_OoC - CMS'!$H$24:$H$5400,'Using CMS - Inop_OoC - CMS'!$B$24:$B$5400,B72,'Using CMS - Inop_OoC - CMS'!$C$24:$C$5400,C72,'Using CMS - Inop_OoC - CMS'!$D$24:$D$5400,D72))","v":""},""]
[null,{"$f":"IF(Lists!AT51=\"\",\"\",Lists!AT51)","v":""},{"$f":"IF(Lists!AU51=\"\",\"\",Lists!AU51)","v":""},{"$f":"IF(Lists!AV51=\"\",\"\",Lists!AV51)","v":""},null,{"$f":"IF($E73=\"\",\"\",SUMIFS('Using CMS - Inop_OoC - CMS'!$H$24:$H$5400,'Using CMS - Inop_OoC - CMS'!$B$24:$B$5400,B73,'Using CMS - Inop_OoC - CMS'!$C$24:$C$5400,C73,'Using CMS - Inop_OoC - CMS'!$D$24:$D$5400,D73))","v":""},""]
[null,{"$f":"IF(Lists!AT52=\"\",\"\",Lists!AT52)","v":""},{"$f":"IF(Lists!AU52=\"\",\"\",Lists!AU52)","v":""},{"$f":"IF(Lists!AV52=\"\",\"\",Lists!AV52)","v":""},null,{"$f":"IF($E74=\"\",\"\",SUMIFS('Using CMS - Inop_OoC - CMS'!$H$24:$H$5400,'Using CMS - Inop_OoC - CMS'!$B$24:$B$5400,B74,'Using CMS - Inop_OoC - CMS'!$C$24:$C$5400,C74,'Using CMS - Inop_OoC - CMS'!$D$24:$D$5400,D74))","v":""},""]
[null,{"$f":"IF(Lists!AT53=\"\",\"\",Lists!AT53)","v":""},{"$f":"IF(Lists!AU53=\"\",\"\",Lists!AU53)","v":""},{"$f":"IF(Lists!AV53=\"\",\"\",Lists!AV53)","v":""},null,{"$f":"IF($E75=\"\",\"\",SUMIFS('Using CMS - Inop_OoC - CMS'!$H$24:$H$5400,'Using CMS - Inop_OoC - CMS'!$B$24:$B$5400,B75,'Using CMS - Inop_OoC - CMS'!$C$24:$C$5400,C75,'Using CMS - Inop_OoC - CMS'!$D$24:$D$5400,D75))","v":""},""]
[null,{"$f":"IF(Lists!AT54=\"\",\"\",Lists!AT54)","v":""},{"$f":"IF(Lists!AU54=\"\",\"\",Lists!AU54)","v":""},{"$f":"IF(Lists!AV54=\"\",\"\",Lists!AV54)","v":""},null,{"$f":"IF($E76=\"\",\"\",SUMIFS('Using CMS - Inop_OoC - CMS'!$H$24:$H$5400,'Using CMS - Inop_OoC - CMS'!$B$24:$B$5400,B76,'Using CMS - Inop_OoC - CMS'!$C$24:$C$5400,C76,'Using CMS - Inop_OoC - CMS'!$D$24:$D$5400,D76))","v":""},""]
[null,{"$f":"IF(Lists!AT55=\"\",\"\",Lists!AT55)","v":""},{"$f":"IF(Lists!AU55=\"\",\"\",Lists!AU55)","v":""},{"$f":"IF(Lists!AV55=\"\",\"\",Lists!AV55)","v":""},null,{"$f":"IF($E77=\"\",\"\",SUMIFS('Using CMS - Inop_OoC - CMS'!$H$24:$H$5400,'Using CMS - Inop_OoC - CMS'!$B$24:$B$5400,B77,'Using CMS - Inop_OoC - CMS'!$C$24:$C$5400,C77,'Using CMS - Inop_OoC - CMS'!$D$24:$D$5400,D77))","v":""},""]
[null,{"$f":"IF(Lists!AT56=\"\",\"\",Lists!AT56)","v":""},{"$f":"IF(Lists!AU56=\"\",\"\",Lists!AU56)","v":""},{"$f":"IF(Lists!AV56=\"\",\"\",Lists!AV56)","v":""},null,{"$f":"IF($E78=\"\",\"\",SUMIFS('Using CMS - Inop_OoC - CMS'!$H$24:$H$5400,'Using CMS - Inop_OoC - CMS'!$B$24:$B$5400,B78,'Using CMS - Inop_OoC - CMS'!$C$24:$C$5400,C78,'Using CMS - Inop_OoC - CMS'!$D$24:$D$5400,D78))","v":""},""]
[null,{"$f":"IF(Lists!AT57=\"\",\"\",Lists!AT57)","v":""},{"$f":"IF(Lists!AU57=\"\",\"\",Lists!AU57)","v":""},{"$f":"IF(Lists!AV57=\"\",\"\",Lists!AV57)","v":""},null,{"$f":"IF($E79=\"\",\"\",SUMIFS('Using CMS - Inop_OoC - CMS'!$H$24:$H$5400,'Using CMS - Inop_OoC - CMS'!$B$24:$B$5400,B79,'Using CMS - Inop_OoC - CMS'!$C$24:$C$5400,C79,'Using CMS - Inop_OoC - CMS'!$D$24:$D$5400,D79))","v":""},""]
[null,{"$f":"IF(Lists!AT58=\"\",\"\",Lists!AT58)","v":""},{"$f":"IF(Lists!AU58=\"\",\"\",Lists!AU58)","v":""},{"$f":"IF(Lists!AV58=\"\",\"\",Lists!AV58)","v":""},null,{"$f":"IF($E80=\"\",\"\",SUMIFS('Using CMS - Inop_OoC - CMS'!$H$24:$H$5400,'Using CMS - Inop_OoC - CMS'!$B$24:$B$5400,B80,'Using CMS - Inop_OoC - CMS'!$C$24:$C$5400,C80,'Using CMS - Inop_OoC - CMS'!$D$24:$D$5400,D80))","v":""},""]
[null,{"$f":"IF(Lists!AT59=\"\",\"\",Lists!AT59)","v":""},{"$f":"IF(Lists!AU59=\"\",\"\",Lists!AU59)","v":""},{"$f":"IF(Lists!AV59=\"\",\"\",Lists!AV59)","v":""},null,{"$f":"IF($E81=\"\",\"\",SUMIFS('Using CMS - Inop_OoC - CMS'!$H$24:$H$5400,'Using CMS - Inop_OoC - CMS'!$B$24:$B$5400,B81,'Using CMS - Inop_OoC - CMS'!$C$24:$C$5400,C81,'Using CMS - Inop_OoC - CMS'!$D$24:$D$5400,D81))","v":""},""]
[null,{"$f":"IF(Lists!AT60=\"\",\"\",Lists!AT60)","v":""},{"$f":"IF(Lists!AU60=\"\",\"\",Lists!AU60)","v":""},{"$f":"IF(Lists!AV60=\"\",\"\",Lists!AV60)","v":""},null,{"$f":"IF($E82=\"\",\"\",SUMIFS('Using CMS - Inop_OoC - CMS'!$H$24:$H$5400,'Using CMS - Inop_OoC - CMS'!$B$24:$B$5400,B82,'Using CMS - Inop_OoC - CMS'!$C$24:$C$5400,C82,'Using CMS - Inop_OoC - CMS'!$D$24:$D$5400,D82))","v":""},""]
[null,{"$f":"IF(Lists!AT61=\"\",\"\",Lists!AT61)","v":""},{"$f":"IF(Lists!AU61=\"\",\"\",Lists!AU61)","v":""},{"$f":"IF(Lists!AV61=\"\",\"\",Lists!AV61)","v":""},null,{"$f":"IF($E83=\"\",\"\",SUMIFS('Using CMS - Inop_OoC - CMS'!$H$24:$H$5400,'Using CMS - Inop_OoC - CMS'!$B$24:$B$5400,B83,'Using CMS - Inop_OoC - CMS'!$C$24:$C$5400,C83,'Using CMS - Inop_OoC - CMS'!$D$24:$D$5400,D83))","v":""},""]
[null,{"$f":"IF(Lists!AT62=\"\",\"\",Lists!AT62)","v":""},{"$f":"IF(Lists!AU62=\"\",\"\",Lists!AU62)","v":""},{"$f":"IF(Lists!AV62=\"\",\"\",Lists!AV62)","v":""},null,{"$f":"IF($E84=\"\",\"\",SUMIFS('Using CMS - Inop_OoC - CMS'!$H$24:$H$5400,'Using CMS - Inop_OoC - CMS'!$B$24:$B$5400,B84,'Using CMS - Inop_OoC - CMS'!$C$24:$C$5400,C84,'Using CMS - Inop_OoC - CMS'!$D$24:$D$5400,D84))","v":""},""]
[null,{"$f":"IF(Lists!AT63=\"\",\"\",Lists!AT63)","v":""},{"$f":"IF(Lists!AU63=\"\",\"\",Lists!AU63)","v":""},{"$f":"IF(Lists!AV63=\"\",\"\",Lists!AV63)","v":""},null,{"$f":"IF($E85=\"\",\"\",SUMIFS('Using CMS - Inop_OoC - CMS'!$H$24:$H$5400,'Using CMS - Inop_OoC - CMS'!$B$24:$B$5400,B85,'Using CMS - Inop_OoC - CMS'!$C$24:$C$5400,C85,'Using CMS - Inop_OoC - CMS'!$D$24:$D$5400,D85))","v":""},""]
[null,{"$f":"IF(Lists!AT64=\"\",\"\",Lists!AT64)","v":""},{"$f":"IF(Lists!AU64=\"\",\"\",Lists!AU64)","v":""},{"$f":"IF(Lists!AV64=\"\",\"\",Lists!AV64)","v":""},null,{"$f":"IF($E86=\"\",\"\",SUMIFS('Using CMS - Inop_OoC - CMS'!$H$24:$H$5400,'Using CMS - Inop_OoC - CMS'!$B$24:$B$5400,B86,'Using CMS - Inop_OoC - CMS'!$C$24:$C$5400,C86,'Using CMS - Inop_OoC - CMS'!$D$24:$D$5400,D86))","v":""},""]
[null,{"$f":"IF(Lists!AT65=\"\",\"\",Lists!AT65)","v":""},{"$f":"IF(Lists!AU65=\"\",\"\",Lists!AU65)","v":""},{"$f":"IF(Lists!AV65=\"\",\"\",Lists!AV65)","v":""},null,{"$f":"IF($E87=\"\",\"\",SUMIFS('Using CMS - Inop_OoC - CMS'!$H$24:$H$5400,'Using CMS - Inop_OoC - CMS'!$B$24:$B$5400,B87,'Using CMS - Inop_OoC - CMS'!$C$24:$C$5400,C87,'Using CMS - Inop_OoC - CMS'!$D$24:$D$5400,D87))","v":""},""]
[null,{"$f":"IF(Lists!AT66=\"\",\"\",Lists!AT66)","v":""},{"$f":"IF(Lists!AU66=\"\",\"\",Lists!AU66)","v":""},{"$f":"IF(Lists!AV66=\"\",\"\",Lists!AV66)","v":""},null,{"$f":"IF($E88=\"\",\"\",SUMIFS('Using CMS - Inop_OoC - CMS'!$H$24:$H$5400,'Using CMS - Inop_OoC - CMS'!$B$24:$B$5400,B88,'Using CMS - Inop_OoC - CMS'!$C$24:$C$5400,C88,'Using CMS - Inop_OoC - CMS'!$D$24:$D$5400,D88))","v":""},{"$f":"IF($E88=\"\",\"\",IF(F88=0,\"N/A\",F88/$E88))","v":""}]
[null,{"$f":"IF(Lists!AT67=\"\",\"\",Lists!AT67)","v":""},{"$f":"IF(Lists!AU67=\"\",\"\",Lists!AU67)","v":""},{"$f":"IF(Lists!AV67=\"\",\"\",Lists!AV67)","v":""},null,{"$f":"IF($E89=\"\",\"\",SUMIFS('Using CMS - Inop_OoC - CMS'!$H$24:$H$5400,'Using CMS - Inop_OoC - CMS'!$B$24:$B$5400,B89,'Using CMS - Inop_OoC - CMS'!$C$24:$C$5400,C89,'Using CMS - Inop_OoC - CMS'!$D$24:$D$5400,D89))","v":""},""]
[null,{"$f":"IF(Lists!AT68=\"\",\"\",Lists!AT68)","v":""},{"$f":"IF(Lists!AU68=\"\",\"\",Lists!AU68)","v":""},{"$f":"IF(Lists!AV68=\"\",\"\",Lists!AV68)","v":""},null,{"$f":"IF($E90=\"\",\"\",SUMIFS('Using CMS - Inop_OoC - CMS'!$H$24:$H$5400,'Using CMS - Inop_OoC - CMS'!$B$24:$B$5400,B90,'Using CMS - Inop_OoC - CMS'!$C$24:$C$5400,C90,'Using CMS - Inop_OoC - CMS'!$D$24:$D$5400,D90))","v":""},""]
[null,{"$f":"IF(Lists!AT69=\"\",\"\",Lists!AT69)","v":""},{"$f":"IF(Lists!AU69=\"\",\"\",Lists!AU69)","v":""},{"$f":"IF(Lists!AV69=\"\",\"\",Lists!AV69)","v":""},null,{"$f":"IF($E91=\"\",\"\",SUMIFS('Using CMS - Inop_OoC - CMS'!$H$24:$H$5400,'Using CMS - Inop_OoC - CMS'!$B$24:$B$5400,B91,'Using CMS - Inop_OoC - CMS'!$C$24:$C$5400,C91,'Using CMS - Inop_OoC - CMS'!$D$24:$D$5400,D91))","v":""},""]
[null,{"$f":"IF(Lists!AT70=\"\",\"\",Lists!AT70)","v":""},{"$f":"IF(Lists!AU70=\"\",\"\",Lists!AU70)","v":""},{"$f":"IF(Lists!AV70=\"\",\"\",Lists!AV70)","v":""},null,{"$f":"IF($E92=\"\",\"\",SUMIFS('Using CMS - Inop_OoC - CMS'!$H$24:$H$5400,'Using CMS - Inop_OoC - CMS'!$B$24:$B$5400,B92,'Using CMS - Inop_OoC - CMS'!$C$24:$C$5400,C92,'Using CMS - Inop_OoC - CMS'!$D$24:$D$5400,D92))","v":""},""]
[null,{"$f":"IF(Lists!AT71=\"\",\"\",Lists!AT71)","v":""},{"$f":"IF(Lists!AU71=\"\",\"\",Lists!AU71)","v":""},{"$f":"IF(Lists!AV71=\"\",\"\",Lists!AV71)","v":""},null,{"$f":"IF($E93=\"\",\"\",SUMIFS('Using CMS - Inop_OoC - CMS'!$H$24:$H$5400,'Using CMS - Inop_OoC - CMS'!$B$24:$B$5400,B93,'Using CMS - Inop_OoC - CMS'!$C$24:$C$5400,C93,'Using CMS - Inop_OoC - CMS'!$D$24:$D$5400,D93))","v":""},""]
[null,{"$f":"IF(Lists!AT72=\"\",\"\",Lists!AT72)","v":""},{"$f":"IF(Lists!AU72=\"\",\"\",Lists!AU72)","v":""},{"$f":"IF(Lists!AV72=\"\",\"\",Lists!AV72)","v":""},null,{"$f":"IF($E94=\"\",\"\",SUMIFS('Using CMS - Inop_OoC - CMS'!$H$24:$H$5400,'Using CMS - Inop_OoC - CMS'!$B$24:$B$5400,B94,'Using CMS - Inop_OoC - CMS'!$C$24:$C$5400,C94,'Using CMS - Inop_OoC - CMS'!$D$24:$D$5400,D94))","v":""},""]
[null,{"$f":"IF(Lists!AT73=\"\",\"\",Lists!AT73)","v":""},{"$f":"IF(Lists!AU73=\"\",\"\",Lists!AU73)","v":""},{"$f":"IF(Lists!AV73=\"\",\"\",Lists!AV73)","v":""},null,{"$f":"IF($E95=\"\",\"\",SUMIFS('Using CMS - Inop_OoC - CMS'!$H$24:$H$5400,'Using CMS - Inop_OoC - CMS'!$B$24:$B$5400,B95,'Using CMS - Inop_OoC - CMS'!$C$24:$C$5400,C95,'Using CMS - Inop_OoC - CMS'!$D$24:$D$5400,D95))","v":""},""]
[null,{"$f":"IF(Lists!AT74=\"\",\"\",Lists!AT74)","v":""},{"$f":"IF(Lists!AU74=\"\",\"\",Lists!AU74)","v":""},{"$f":"IF(Lists!AV74=\"\",\"\",Lists!AV74)","v":""},null,{"$f":"IF($E96=\"\",\"\",SUMIFS('Using CMS - Inop_OoC - CMS'!$H$24:$H$5400,'Using CMS - Inop_OoC - CMS'!$B$24:$B$5400,B96,'Using CMS - Inop_OoC - CMS'!$C$24:$C$5400,C96,'Using CMS - Inop_OoC - CMS'!$D$24:$D$5400,D96))","v":""},""]
[null,{"$f":"IF(Lists!AT75=\"\",\"\",Lists!AT75)","v":""},{"$f":"IF(Lists!AU75=\"\",\"\",Lists!AU75)","v":""},{"$f":"IF(Lists!AV75=\"\",\"\",Lists!AV75)","v":""},null,{"$f":"IF($E97=\"\",\"\",SUMIFS('Using CMS - Inop_OoC - CMS'!$H$24:$H$5400,'Using CMS - Inop_OoC - CMS'!$B$24:$B$5400,B97,'Using CMS - Inop_OoC - CMS'!$C$24:$C$5400,C97,'Using CMS - Inop_OoC - CMS'!$D$24:$D$5400,D97))","v":""},""]
[null,{"$f":"IF(Lists!AT76=\"\",\"\",Lists!AT76)","v":""},{"$f":"IF(Lists!AU76=\"\",\"\",Lists!AU76)","v":""},{"$f":"IF(Lists!AV76=\"\",\"\",Lists!AV76)","v":""},null,{"$f":"IF($E98=\"\",\"\",SUMIFS('Using CMS - Inop_OoC - CMS'!$H$24:$H$5400,'Using CMS - Inop_OoC - CMS'!$B$24:$B$5400,B98,'Using CMS - Inop_OoC - CMS'!$C$24:$C$5400,C98,'Using CMS - Inop_OoC - CMS'!$D$24:$D$5400,D98))","v":""},""]
[null,{"$f":"IF(Lists!AT77=\"\",\"\",Lists!AT77)","v":""},{"$f":"IF(Lists!AU77=\"\",\"\",Lists!AU77)","v":""},{"$f":"IF(Lists!AV77=\"\",\"\",Lists!AV77)","v":""},null,{"$f":"IF($E99=\"\",\"\",SUMIFS('Using CMS - Inop_OoC - CMS'!$H$24:$H$5400,'Using CMS - Inop_OoC - CMS'!$B$24:$B$5400,B99,'Using CMS - Inop_OoC - CMS'!$C$24:$C$5400,C99,'Using CMS - Inop_OoC - CMS'!$D$24:$D$5400,D99))","v":""},""]
[null,{"$f":"IF(Lists!AT78=\"\",\"\",Lists!AT78)","v":""},{"$f":"IF(Lists!AU78=\"\",\"\",Lists!AU78)","v":""},{"$f":"IF(Lists!AV78=\"\",\"\",Lists!AV78)","v":""},null,{"$f":"IF($E100=\"\",\"\",SUMIFS('Using CMS - Inop_OoC - CMS'!$H$24:$H$5400,'Using CMS - Inop_OoC - CMS'!$B$24:$B$5400,B100,'Using CMS - Inop_OoC - CMS'!$C$24:$C$5400,C100,'Using CMS - Inop_OoC - CMS'!$D$24:$D$5400,D100))","v":""},""]
[null,{"$f":"IF(Lists!AT79=\"\",\"\",Lists!AT79)","v":""},{"$f":"IF(Lists!AU79=\"\",\"\",Lists!AU79)","v":""},{"$f":"IF(Lists!AV79=\"\",\"\",Lists!AV79)","v":""},null,{"$f":"IF($E101=\"\",\"\",SUMIFS('Using CMS - Inop_OoC - CMS'!$H$24:$H$5400,'Using CMS - Inop_OoC - CMS'!$B$24:$B$5400,B101,'Using CMS - Inop_OoC - CMS'!$C$24:$C$5400,C101,'Using CMS - Inop_OoC - CMS'!$D$24:$D$5400,D101))","v":""},""]
[null,{"$f":"IF(Lists!AT80=\"\",\"\",Lists!AT80)","v":""},{"$f":"IF(Lists!AU80=\"\",\"\",Lists!AU80)","v":""},{"$f":"IF(Lists!AV80=\"\",\"\",Lists!AV80)","v":""},null,{"$f":"IF($E102=\"\",\"\",SUMIFS('Using CMS - Inop_OoC - CMS'!$H$24:$H$5400,'Using CMS - Inop_OoC - CMS'!$B$24:$B$5400,B102,'Using CMS - Inop_OoC - CMS'!$C$24:$C$5400,C102,'Using CMS - Inop_OoC - CMS'!$D$24:$D$5400,D102))","v":""},""]
[null,{"$f":"IF(Lists!AT81=\"\",\"\",Lists!AT81)","v":""},{"$f":"IF(Lists!AU81=\"\",\"\",Lists!AU81)","v":""},{"$f":"IF(Lists!AV81=\"\",\"\",Lists!AV81)","v":""},null,{"$f":"IF($E103=\"\",\"\",SUMIFS('Using CMS - Inop_OoC - CMS'!$H$24:$H$5400,'Using CMS - Inop_OoC - CMS'!$B$24:$B$5400,B103,'Using CMS - Inop_OoC - CMS'!$C$24:$C$5400,C103,'Using CMS - Inop_OoC - CMS'!$D$24:$D$5400,D103))","v":""},""]
[null,{"$f":"IF(Lists!AT82=\"\",\"\",Lists!AT82)","v":""},{"$f":"IF(Lists!AU82=\"\",\"\",Lists!AU82)","v":""},{"$f":"IF(Lists!AV82=\"\",\"\",Lists!AV82)","v":""},null,{"$f":"IF($E104=\"\",\"\",SUMIFS('Using CMS - Inop_OoC - CMS'!$H$24:$H$5400,'Using CMS - Inop_OoC - CMS'!$B$24:$B$5400,B104,'Using CMS - Inop_OoC - CMS'!$C$24:$C$5400,C104,'Using CMS - Inop_OoC - CMS'!$D$24:$D$5400,D104))","v":""},""]
[null,{"$f":"IF(Lists!AT83=\"\",\"\",Lists!AT83)","v":""},{"$f":"IF(Lists!AU83=\"\",\"\",Lists!AU83)","v":""},{"$f":"IF(Lists!AV83=\"\",\"\",Lists!AV83)","v":""},null,{"$f":"IF($E105=\"\",\"\",SUMIFS('Using CMS - Inop_OoC - CMS'!$H$24:$H$5400,'Using CMS - Inop_OoC - CMS'!$B$24:$B$5400,B105,'Using CMS - Inop_OoC - CMS'!$C$24:$C$5400,C105,'Using CMS - Inop_OoC - CMS'!$D$24:$D$5400,D105))","v":""},""]
[null,{"$f":"IF(Lists!AT84=\"\",\"\",Lists!AT84)","v":""},{"$f":"IF(Lists!AU84=\"\",\"\",Lists!AU84)","v":""},{"$f":"IF(Lists!AV84=\"\",\"\",Lists!AV84)","v":""},null,{"$f":"IF($E106=\"\",\"\",SUMIFS('Using CMS - Inop_OoC - CMS'!$H$24:$H$5400,'Using CMS - Inop_OoC - CMS'!$B$24:$B$5400,B106,'Using CMS - Inop_OoC - CMS'!$C$24:$C$5400,C106,'Using CMS - Inop_OoC - CMS'!$D$24:$D$5400,D106))","v":""},""]
[null,{"$f":"IF(Lists!AT85=\"\",\"\",Lists!AT85)","v":""},{"$f":"IF(Lists!AU85=\"\",\"\",Lists!AU85)","v":""},{"$f":"IF(Lists!AV85=\"\",\"\",Lists!AV85)","v":""},null,{"$f":"IF($E107=\"\",\"\",SUMIFS('Using CMS - Inop_OoC - CMS'!$H$24:$H$5400,'Using CMS - Inop_OoC - CMS'!$B$24:$B$5400,B107,'Using CMS - Inop_OoC - CMS'!$C$24:$C$5400,C107,'Using CMS - Inop_OoC - CMS'!$D$24:$D$5400,D107))","v":""},""]
[null,{"$f":"IF(Lists!AT86=\"\",\"\",Lists!AT86)","v":""},{"$f":"IF(Lists!AU86=\"\",\"\",Lists!AU86)","v":""},{"$f":"IF(Lists!AV86=\"\",\"\",Lists!AV86)","v":""},null,{"$f":"IF($E108=\"\",\"\",SUMIFS('Using CMS - Inop_OoC - CMS'!$H$24:$H$5400,'Using CMS - Inop_OoC - CMS'!$B$24:$B$5400,B108,'Using CMS - Inop_OoC - CMS'!$C$24:$C$5400,C108,'Using CMS - Inop_OoC - CMS'!$D$24:$D$5400,D108))","v":""},""]
[null,{"$f":"IF(Lists!AT87=\"\",\"\",Lists!AT87)","v":""},{"$f":"IF(Lists!AU87=\"\",\"\",Lists!AU87)","v":""},{"$f":"IF(Lists!AV87=\"\",\"\",Lists!AV87)","v":""},null,{"$f":"IF($E109=\"\",\"\",SUMIFS('Using CMS - Inop_OoC - CMS'!$H$24:$H$5400,'Using CMS - Inop_OoC - CMS'!$B$24:$B$5400,B109,'Using CMS - Inop_OoC - CMS'!$C$24:$C$5400,C109,'Using CMS - Inop_OoC - CMS'!$D$24:$D$5400,D109))","v":""},""]
[null,{"$f":"IF(Lists!AT88=\"\",\"\",Lists!AT88)","v":""},{"$f":"IF(Lists!AU88=\"\",\"\",Lists!AU88)","v":""},{"$f":"IF(Lists!AV88=\"\",\"\",Lists!AV88)","v":""},null,{"$f":"IF($E110=\"\",\"\",SUMIFS('Using CMS - Inop_OoC - CMS'!$H$24:$H$5400,'Using CMS - Inop_OoC - CMS'!$B$24:$B$5400,B110,'Using CMS - Inop_OoC - CMS'!$C$24:$C$5400,C110,'Using CMS - Inop_OoC - CMS'!$D$24:$D$5400,D110))","v":""},""]
[null,{"$f":"IF(Lists!AT89=\"\",\"\",Lists!AT89)","v":""},{"$f":"IF(Lists!AU89=\"\",\"\",Lists!AU89)","v":""},{"$f":"IF(Lists!AV89=\"\",\"\",Lists!AV89)","v":""},null,{"$f":"IF($E111=\"\",\"\",SUMIFS('Using CMS - Inop_OoC - CMS'!$H$24:$H$5400,'Using CMS - Inop_OoC - CMS'!$B$24:$B$5400,B111,'Using CMS - Inop_OoC - CMS'!$C$24:$C$5400,C111,'Using CMS - Inop_OoC - CMS'!$D$24:$D$5400,D111))","v":""},""]
[null,{"$f":"IF(Lists!AT90=\"\",\"\",Lists!AT90)","v":""},{"$f":"IF(Lists!AU90=\"\",\"\",Lists!AU90)","v":""},{"$f":"IF(Lists!AV90=\"\",\"\",Lists!AV90)","v":""},null,{"$f":"IF($E112=\"\",\"\",SUMIFS('Using CMS - Inop_OoC - CMS'!$H$24:$H$5400,'Using CMS - Inop_OoC - CMS'!$B$24:$B$5400,B112,'Using CMS - Inop_OoC - CMS'!$C$24:$C$5400,C112,'Using CMS - Inop_OoC - CMS'!$D$24:$D$5400,D112))","v":""},""]
[null,{"$f":"IF(Lists!AT91=\"\",\"\",Lists!AT91)","v":""},{"$f":"IF(Lists!AU91=\"\",\"\",Lists!AU91)","v":""},{"$f":"IF(Lists!AV91=\"\",\"\",Lists!AV91)","v":""},null,{"$f":"IF($E113=\"\",\"\",SUMIFS('Using CMS - Inop_OoC - CMS'!$H$24:$H$5400,'Using CMS - Inop_OoC - CMS'!$B$24:$B$5400,B113,'Using CMS - Inop_OoC - CMS'!$C$24:$C$5400,C113,'Using CMS - Inop_OoC - CMS'!$D$24:$D$5400,D113))","v":""},""]
[null,{"$f":"IF(Lists!AT92=\"\",\"\",Lists!AT92)","v":""},{"$f":"IF(Lists!AU92=\"\",\"\",Lists!AU92)","v":""},{"$f":"IF(Lists!AV92=\"\",\"\",Lists!AV92)","v":""},null,{"$f":"IF($E114=\"\",\"\",SUMIFS('Using CMS - Inop_OoC - CMS'!$H$24:$H$5400,'Using CMS - Inop_OoC - CMS'!$B$24:$B$5400,B114,'Using CMS - Inop_OoC - CMS'!$C$24:$C$5400,C114,'Using CMS - Inop_OoC - CMS'!$D$24:$D$5400,D114))","v":""},""]
[null,{"$f":"IF(Lists!AT93=\"\",\"\",Lists!AT93)","v":""},{"$f":"IF(Lists!AU93=\"\",\"\",Lists!AU93)","v":""},{"$f":"IF(Lists!AV93=\"\",\"\",Lists!AV93)","v":""},null,{"$f":"IF($E115=\"\",\"\",SUMIFS('Using CMS - Inop_OoC - CMS'!$H$24:$H$5400,'Using CMS - Inop_OoC - CMS'!$B$24:$B$5400,B115,'Using CMS - Inop_OoC - CMS'!$C$24:$C$5400,C115,'Using CMS - Inop_OoC - CMS'!$D$24:$D$5400,D115))","v":""},""]
[null,{"$f":"IF(Lists!AT94=\"\",\"\",Lists!AT94)","v":""},{"$f":"IF(Lists!AU94=\"\",\"\",Lists!AU94)","v":""},{"$f":"IF(Lists!AV94=\"\",\"\",Lists!AV94)","v":""},null,{"$f":"IF($E116=\"\",\"\",SUMIFS('Using CMS - Inop_OoC - CMS'!$H$24:$H$5400,'Using CMS - Inop_OoC - CMS'!$B$24:$B$5400,B116,'Using CMS - Inop_OoC - CMS'!$C$24:$C$5400,C116,'Using CMS - Inop_OoC - CMS'!$D$24:$D$5400,D116))","v":""},""]
[null,{"$f":"IF(Lists!AT95=\"\",\"\",Lists!AT95)","v":""},{"$f":"IF(Lists!AU95=\"\",\"\",Lists!AU95)","v":""},{"$f":"IF(Lists!AV95=\"\",\"\",Lists!AV95)","v":""},null,{"$f":"IF($E117=\"\",\"\",SUMIFS('Using CMS - Inop_OoC - CMS'!$H$24:$H$5400,'Using CMS - Inop_OoC - CMS'!$B$24:$B$5400,B117,'Using CMS - Inop_OoC - CMS'!$C$24:$C$5400,C117,'Using CMS - Inop_OoC - CMS'!$D$24:$D$5400,D117))","v":""},""]
[null,{"$f":"IF(Lists!AT96=\"\",\"\",Lists!AT96)","v":""},{"$f":"IF(Lists!AU96=\"\",\"\",Lists!AU96)","v":""},{"$f":"IF(Lists!AV96=\"\",\"\",Lists!AV96)","v":""},null,{"$f":"IF($E118=\"\",\"\",SUMIFS('Using CMS - Inop_OoC - CMS'!$H$24:$H$5400,'Using CMS - Inop_OoC - CMS'!$B$24:$B$5400,B118,'Using CMS - Inop_OoC - CMS'!$C$24:$C$5400,C118,'Using CMS - Inop_OoC - CMS'!$D$24:$D$5400,D118))","v":""},""]
[null,{"$f":"IF(Lists!AT97=\"\",\"\",Lists!AT97)","v":""},{"$f":"IF(Lists!AU97=\"\",\"\",Lists!AU97)","v":""},{"$f":"IF(Lists!AV97=\"\",\"\",Lists!AV97)","v":""},null,{"$f":"IF($E119=\"\",\"\",SUMIFS('Using CMS - Inop_OoC - CMS'!$H$24:$H$5400,'Using CMS - Inop_OoC - CMS'!$B$24:$B$5400,B119,'Using CMS - Inop_OoC - CMS'!$C$24:$C$5400,C119,'Using CMS - Inop_OoC - CMS'!$D$24:$D$5400,D119))","v":""},""]
[null,{"$f":"IF(Lists!AT98=\"\",\"\",Lists!AT98)","v":""},{"$f":"IF(Lists!AU98=\"\",\"\",Lists!AU98)","v":""},{"$f":"IF(Lists!AV98=\"\",\"\",Lists!AV98)","v":""},null,{"$f":"IF($E120=\"\",\"\",SUMIFS('Using CMS - Inop_OoC - CMS'!$H$24:$H$5400,'Using CMS - Inop_OoC - CMS'!$B$24:$B$5400,B120,'Using CMS - Inop_OoC - CMS'!$C$24:$C$5400,C120,'Using CMS - Inop_OoC - CMS'!$D$24:$D$5400,D120))","v":""},""]
[null,{"$f":"IF(Lists!AT99=\"\",\"\",Lists!AT99)","v":""},{"$f":"IF(Lists!AU99=\"\",\"\",Lists!AU99)","v":""},{"$f":"IF(Lists!AV99=\"\",\"\",Lists!AV99)","v":""},null,{"$f":"IF($E121=\"\",\"\",SUMIFS('Using CMS - Inop_OoC - CMS'!$H$24:$H$5400,'Using CMS - Inop_OoC - CMS'!$B$24:$B$5400,B121,'Using CMS - Inop_OoC - CMS'!$C$24:$C$5400,C121,'Using CMS - Inop_OoC - CMS'!$D$24:$D$5400,D121))","v":""},""]
[null,{"$f":"IF(Lists!AT100=\"\",\"\",Lists!AT100)","v":""},{"$f":"IF(Lists!AU100=\"\",\"\",Lists!AU100)","v":""},{"$f":"IF(Lists!AV100=\"\",\"\",Lists!AV100)","v":""},null,{"$f":"IF($E122=\"\",\"\",SUMIFS('Using CMS - Inop_OoC - CMS'!$H$24:$H$5400,'Using CMS - Inop_OoC - CMS'!$B$24:$B$5400,B122,'Using CMS - Inop_OoC - CMS'!$C$24:$C$5400,C122,'Using CMS - Inop_OoC - CMS'!$D$24:$D$5400,D122))","v":""},""]
[null,{"$f":"IF(Lists!AT101=\"\",\"\",Lists!AT101)","v":""},{"$f":"IF(Lists!AU101=\"\",\"\",Lists!AU101)","v":""},{"$f":"IF(Lists!AV101=\"\",\"\",Lists!AV101)","v":""},null,{"$f":"IF($E123=\"\",\"\",SUMIFS('Using CMS - Inop_OoC - CMS'!$H$24:$H$5400,'Using CMS - Inop_OoC - CMS'!$B$24:$B$5400,B123,'Using CMS - Inop_OoC - CMS'!$C$24:$C$5400,C123,'Using CMS - Inop_OoC - CMS'!$D$24:$D$5400,D123))","v":""},""]
[null,{"$f":"IF(Lists!AT102=\"\",\"\",Lists!AT102)","v":""},{"$f":"IF(Lists!AU102=\"\",\"\",Lists!AU102)","v":""},{"$f":"IF(Lists!AV102=\"\",\"\",Lists!AV102)","v":""},null,{"$f":"IF($E124=\"\",\"\",SUMIFS('Using CMS - Inop_OoC - CMS'!$H$24:$H$5400,'Using CMS - Inop_OoC - CMS'!$B$24:$B$5400,B124,'Using CMS - Inop_OoC - CMS'!$C$24:$C$5400,C124,'Using CMS - Inop_OoC - CMS'!$D$24:$D$5400,D124))","v":""},""]
[null,{"$f":"IF(Lists!AT103=\"\",\"\",Lists!AT103)","v":""},{"$f":"IF(Lists!AU103=\"\",\"\",Lists!AU103)","v":""},{"$f":"IF(Lists!AV103=\"\",\"\",Lists!AV103)","v":""},null,{"$f":"IF($E125=\"\",\"\",SUMIFS('Using CMS - Inop_OoC - CMS'!$H$24:$H$5400,'Using CMS - Inop_OoC - CMS'!$B$24:$B$5400,B125,'Using CMS - Inop_OoC - CMS'!$C$24:$C$5400,C125,'Using CMS - Inop_OoC - CMS'!$D$24:$D$5400,D125))","v":""},""]
[null,{"$f":"IF(Lists!AT104=\"\",\"\",Lists!AT104)","v":""},{"$f":"IF(Lists!AU104=\"\",\"\",Lists!AU104)","v":""},{"$f":"IF(Lists!AV104=\"\",\"\",Lists!AV104)","v":""},null,{"$f":"IF($E126=\"\",\"\",SUMIFS('Using CMS - Inop_OoC - CMS'!$H$24:$H$5400,'Using CMS - Inop_OoC - CMS'!$B$24:$B$5400,B126,'Using CMS - Inop_OoC - CMS'!$C$24:$C$5400,C126,'Using CMS - Inop_OoC - CMS'!$D$24:$D$5400,D126))","v":""},""]
[null,{"$f":"IF(Lists!AT105=\"\",\"\",Lists!AT105)","v":""},{"$f":"IF(Lists!AU105=\"\",\"\",Lists!AU105)","v":""},{"$f":"IF(Lists!AV105=\"\",\"\",Lists!AV105)","v":""},null,{"$f":"IF($E127=\"\",\"\",SUMIFS('Using CMS - Inop_OoC - CMS'!$H$24:$H$5400,'Using CMS - Inop_OoC - CMS'!$B$24:$B$5400,B127,'Using CMS - Inop_OoC - CMS'!$C$24:$C$5400,C127,'Using CMS - Inop_OoC - CMS'!$D$24:$D$5400,D127))","v":""},""]
[null,{"$f":"IF(Lists!AT106=\"\",\"\",Lists!AT106)","v":""},{"$f":"IF(Lists!AU106=\"\",\"\",Lists!AU106)","v":""},{"$f":"IF(Lists!AV106=\"\",\"\",Lists!AV106)","v":""},null,{"$f":"IF($E128=\"\",\"\",SUMIFS('Using CMS - Inop_OoC - CMS'!$H$24:$H$5400,'Using CMS - Inop_OoC - CMS'!$B$24:$B$5400,B128,'Using CMS - Inop_OoC - CMS'!$C$24:$C$5400,C128,'Using CMS - Inop_OoC - CMS'!$D$24:$D$5400,D128))","v":""},""]
[null,{"$f":"IF(Lists!AT107=\"\",\"\",Lists!AT107)","v":""},{"$f":"IF(Lists!AU107=\"\",\"\",Lists!AU107)","v":""},{"$f":"IF(Lists!AV107=\"\",\"\",Lists!AV107)","v":""},null,{"$f":"IF($E129=\"\",\"\",SUMIFS('Using CMS - Inop_OoC - CMS'!$H$24:$H$5400,'Using CMS - Inop_OoC - CMS'!$B$24:$B$5400,B129,'Using CMS - Inop_OoC - CMS'!$C$24:$C$5400,C129,'Using CMS - Inop_OoC - CMS'!$D$24:$D$5400,D129))","v":""},""]
[null,{"$f":"IF(Lists!AT108=\"\",\"\",Lists!AT108)","v":""},{"$f":"IF(Lists!AU108=\"\",\"\",Lists!AU108)","v":""},{"$f":"IF(Lists!AV108=\"\",\"\",Lists!AV108)","v":""},null,{"$f":"IF($E130=\"\",\"\",SUMIFS('Using CMS - Inop_OoC - CMS'!$H$24:$H$5400,'Using CMS - Inop_OoC - CMS'!$B$24:$B$5400,B130,'Using CMS - Inop_OoC - CMS'!$C$24:$C$5400,C130,'Using CMS - Inop_OoC - CMS'!$D$24:$D$5400,D130))","v":""},""]
[null,{"$f":"IF(Lists!AT109=\"\",\"\",Lists!AT109)","v":""},{"$f":"IF(Lists!AU109=\"\",\"\",Lists!AU109)","v":""},{"$f":"IF(Lists!AV109=\"\",\"\",Lists!AV109)","v":""},null,{"$f":"IF($E131=\"\",\"\",SUMIFS('Using CMS - Inop_OoC - CMS'!$H$24:$H$5400,'Using CMS - Inop_OoC - CMS'!$B$24:$B$5400,B131,'Using CMS - Inop_OoC - CMS'!$C$24:$C$5400,C131,'Using CMS - Inop_OoC - CMS'!$D$24:$D$5400,D131))","v":""},""]
[null,{"$f":"IF(Lists!AT110=\"\",\"\",Lists!AT110)","v":""},{"$f":"IF(Lists!AU110=\"\",\"\",Lists!AU110)","v":""},{"$f":"IF(Lists!AV110=\"\",\"\",Lists!AV110)","v":""},null,{"$f":"IF($E132=\"\",\"\",SUMIFS('Using CMS - Inop_OoC - CMS'!$H$24:$H$5400,'Using CMS - Inop_OoC - CMS'!$B$24:$B$5400,B132,'Using CMS - Inop_OoC - CMS'!$C$24:$C$5400,C132,'Using CMS - Inop_OoC - CMS'!$D$24:$D$5400,D132))","v":""},""]
[null,{"$f":"IF(Lists!AT111=\"\",\"\",Lists!AT111)","v":""},{"$f":"IF(Lists!AU111=\"\",\"\",Lists!AU111)","v":""},{"$f":"IF(Lists!AV111=\"\",\"\",Lists!AV111)","v":""},null,{"$f":"IF($E133=\"\",\"\",SUMIFS('Using CMS - Inop_OoC - CMS'!$H$24:$H$5400,'Using CMS - Inop_OoC - CMS'!$B$24:$B$5400,B133,'Using CMS - Inop_OoC - CMS'!$C$24:$C$5400,C133,'Using CMS - Inop_OoC - CMS'!$D$24:$D$5400,D133))","v":""},""]
[null,{"$f":"IF(Lists!AT112=\"\",\"\",Lists!AT112)","v":""},{"$f":"IF(Lists!AU112=\"\",\"\",Lists!AU112)","v":""},{"$f":"IF(Lists!AV112=\"\",\"\",Lists!AV112)","v":""},null,{"$f":"IF($E134=\"\",\"\",SUMIFS('Using CMS - Inop_OoC - CMS'!$H$24:$H$5400,'Using CMS - Inop_OoC - CMS'!$B$24:$B$5400,B134,'Using CMS - Inop_OoC - CMS'!$C$24:$C$5400,C134,'Using CMS - Inop_OoC - CMS'!$D$24:$D$5400,D134))","v":""},""]
[null,{"$f":"IF(Lists!AT113=\"\",\"\",Lists!AT113)","v":""},{"$f":"IF(Lists!AU113=\"\",\"\",Lists!AU113)","v":""},{"$f":"IF(Lists!AV113=\"\",\"\",Lists!AV113)","v":""},null,{"$f":"IF($E135=\"\",\"\",SUMIFS('Using CMS - Inop_OoC - CMS'!$H$24:$H$5400,'Using CMS - Inop_OoC - CMS'!$B$24:$B$5400,B135,'Using CMS - Inop_OoC - CMS'!$C$24:$C$5400,C135,'Using CMS - Inop_OoC - CMS'!$D$24:$D$5400,D135))","v":""},""]
[null,{"$f":"IF(Lists!AT114=\"\",\"\",Lists!AT114)","v":""},{"$f":"IF(Lists!AU114=\"\",\"\",Lists!AU114)","v":""},{"$f":"IF(Lists!AV114=\"\",\"\",Lists!AV114)","v":""},null,{"$f":"IF($E136=\"\",\"\",SUMIFS('Using CMS - Inop_OoC - CMS'!$H$24:$H$5400,'Using CMS - Inop_OoC - CMS'!$B$24:$B$5400,B136,'Using CMS - Inop_OoC - CMS'!$C$24:$C$5400,C136,'Using CMS - Inop_OoC - CMS'!$D$24:$D$5400,D136))","v":""},""]
[null,{"$f":"IF(Lists!AT115=\"\",\"\",Lists!AT115)","v":""},{"$f":"IF(Lists!AU115=\"\",\"\",Lists!AU115)","v":""},{"$f":"IF(Lists!AV115=\"\",\"\",Lists!AV115)","v":""},null,{"$f":"IF($E137=\"\",\"\",SUMIFS('Using CMS - Inop_OoC - CMS'!$H$24:$H$5400,'Using CMS - Inop_OoC - CMS'!$B$24:$B$5400,B137,'Using CMS - Inop_OoC - CMS'!$C$24:$C$5400,C137,'Using CMS - Inop_OoC - CMS'!$D$24:$D$5400,D137))","v":""},""]
[null,{"$f":"IF(Lists!AT116=\"\",\"\",Lists!AT116)","v":""},{"$f":"IF(Lists!AU116=\"\",\"\",Lists!AU116)","v":""},{"$f":"IF(Lists!AV116=\"\",\"\",Lists!AV116)","v":""},null,{"$f":"IF($E138=\"\",\"\",SUMIFS('Using CMS - Inop_OoC - CMS'!$H$24:$H$5400,'Using CMS - Inop_OoC - CMS'!$B$24:$B$5400,B138,'Using CMS - Inop_OoC - CMS'!$C$24:$C$5400,C138,'Using CMS - Inop_OoC - CMS'!$D$24:$D$5400,D138))","v":""},""]
[null,{"$f":"IF(Lists!AT117=\"\",\"\",Lists!AT117)","v":""},{"$f":"IF(Lists!AU117=\"\",\"\",Lists!AU117)","v":""},{"$f":"IF(Lists!AV117=\"\",\"\",Lists!AV117)","v":""},null,{"$f":"IF($E139=\"\",\"\",SUMIFS('Using CMS - Inop_OoC - CMS'!$H$24:$H$5400,'Using CMS - Inop_OoC - CMS'!$B$24:$B$5400,B139,'Using CMS - Inop_OoC - CMS'!$C$24:$C$5400,C139,'Using CMS - Inop_OoC - CMS'!$D$24:$D$5400,D139))","v":""},""]
[null,{"$f":"IF(Lists!AT118=\"\",\"\",Lists!AT118)","v":""},{"$f":"IF(Lists!AU118=\"\",\"\",Lists!AU118)","v":""},{"$f":"IF(Lists!AV118=\"\",\"\",Lists!AV118)","v":""},null,{"$f":"IF($E140=\"\",\"\",SUMIFS('Using CMS - Inop_OoC - CMS'!$H$24:$H$5400,'Using CMS - Inop_OoC - CMS'!$B$24:$B$5400,B140,'Using CMS - Inop_OoC - CMS'!$C$24:$C$5400,C140,'Using CMS - Inop_OoC - CMS'!$D$24:$D$5400,D140))","v":""},""]
[null,{"$f":"IF(Lists!AT119=\"\",\"\",Lists!AT119)","v":""},{"$f":"IF(Lists!AU119=\"\",\"\",Lists!AU119)","v":""},{"$f":"IF(Lists!AV119=\"\",\"\",Lists!AV119)","v":""},null,{"$f":"IF($E141=\"\",\"\",SUMIFS('Using CMS - Inop_OoC - CMS'!$H$24:$H$5400,'Using CMS - Inop_OoC - CMS'!$B$24:$B$5400,B141,'Using CMS - Inop_OoC - CMS'!$C$24:$C$5400,C141,'Using CMS - Inop_OoC - CMS'!$D$24:$D$5400,D141))","v":""},""]
[null,{"$f":"IF(Lists!AT120=\"\",\"\",Lists!AT120)","v":""},{"$f":"IF(Lists!AU120=\"\",\"\",Lists!AU120)","v":""},{"$f":"IF(Lists!AV120=\"\",\"\",Lists!AV120)","v":""},null,{"$f":"IF($E142=\"\",\"\",SUMIFS('Using CMS - Inop_OoC - CMS'!$H$24:$H$5400,'Using CMS - Inop_OoC - CMS'!$B$24:$B$5400,B142,'Using CMS - Inop_OoC - CMS'!$C$24:$C$5400,C142,'Using CMS - Inop_OoC - CMS'!$D$24:$D$5400,D142))","v":""},""]
[null,{"$f":"IF(Lists!AT121=\"\",\"\",Lists!AT121)","v":""},{"$f":"IF(Lists!AU121=\"\",\"\",Lists!AU121)","v":""},{"$f":"IF(Lists!AV121=\"\",\"\",Lists!AV121)","v":""},null,{"$f":"IF($E143=\"\",\"\",SUMIFS('Using CMS - Inop_OoC - CMS'!$H$24:$H$5400,'Using CMS - Inop_OoC - CMS'!$B$24:$B$5400,B143,'Using CMS - Inop_OoC - CMS'!$C$24:$C$5400,C143,'Using CMS - Inop_OoC - CMS'!$D$24:$D$5400,D143))","v":""},""]
[null,{"$f":"IF(Lists!AT122=\"\",\"\",Lists!AT122)","v":""},{"$f":"IF(Lists!AU122=\"\",\"\",Lists!AU122)","v":""},{"$f":"IF(Lists!AV122=\"\",\"\",Lists!AV122)","v":""},null,{"$f":"IF($E144=\"\",\"\",SUMIFS('Using CMS - Inop_OoC - CMS'!$H$24:$H$5400,'Using CMS - Inop_OoC - CMS'!$B$24:$B$5400,B144,'Using CMS - Inop_OoC - CMS'!$C$24:$C$5400,C144,'Using CMS - Inop_OoC - CMS'!$D$24:$D$5400,D144))","v":""},""]
[null,{"$f":"IF(Lists!AT123=\"\",\"\",Lists!AT123)","v":""},{"$f":"IF(Lists!AU123=\"\",\"\",Lists!AU123)","v":""},{"$f":"IF(Lists!AV123=\"\",\"\",Lists!AV123)","v":""},null,{"$f":"IF($E145=\"\",\"\",SUMIFS('Using CMS - Inop_OoC - CMS'!$H$24:$H$5400,'Using CMS - Inop_OoC - CMS'!$B$24:$B$5400,B145,'Using CMS - Inop_OoC - CMS'!$C$24:$C$5400,C145,'Using CMS - Inop_OoC - CMS'!$D$24:$D$5400,D145))","v":""},""]
[null,{"$f":"IF(Lists!AT124=\"\",\"\",Lists!AT124)","v":""},{"$f":"IF(Lists!AU124=\"\",\"\",Lists!AU124)","v":""},{"$f":"IF(Lists!AV124=\"\",\"\",Lists!AV124)","v":""},null,{"$f":"IF($E146=\"\",\"\",SUMIFS('Using CMS - Inop_OoC - CMS'!$H$24:$H$5400,'Using CMS - Inop_OoC - CMS'!$B$24:$B$5400,B146,'Using CMS - Inop_OoC - CMS'!$C$24:$C$5400,C146,'Using CMS - Inop_OoC - CMS'!$D$24:$D$5400,D146))","v":""},""]
[null,{"$f":"IF(Lists!AT125=\"\",\"\",Lists!AT125)","v":""},{"$f":"IF(Lists!AU125=\"\",\"\",Lists!AU125)","v":""},{"$f":"IF(Lists!AV125=\"\",\"\",Lists!AV125)","v":""},null,{"$f":"IF($E147=\"\",\"\",SUMIFS('Using CMS - Inop_OoC - CMS'!$H$24:$H$5400,'Using CMS - Inop_OoC - CMS'!$B$24:$B$5400,B147,'Using CMS - Inop_OoC - CMS'!$C$24:$C$5400,C147,'Using CMS - Inop_OoC - CMS'!$D$24:$D$5400,D147))","v":""},""]
[null,{"$f":"IF(Lists!AT126=\"\",\"\",Lists!AT126)","v":""},{"$f":"IF(Lists!AU126=\"\",\"\",Lists!AU126)","v":""},{"$f":"IF(Lists!AV126=\"\",\"\",Lists!AV126)","v":""},null,{"$f":"IF($E148=\"\",\"\",SUMIFS('Using CMS - Inop_OoC - CMS'!$H$24:$H$5400,'Using CMS - Inop_OoC - CMS'!$B$24:$B$5400,B148,'Using CMS - Inop_OoC - CMS'!$C$24:$C$5400,C148,'Using CMS - Inop_OoC - CMS'!$D$24:$D$5400,D148))","v":""},""]
[null,{"$f":"IF(Lists!AT127=\"\",\"\",Lists!AT127)","v":""},{"$f":"IF(Lists!AU127=\"\",\"\",Lists!AU127)","v":""},{"$f":"IF(Lists!AV127=\"\",\"\",Lists!AV127)","v":""},null,{"$f":"IF($E149=\"\",\"\",SUMIFS('Using CMS - Inop_OoC - CMS'!$H$24:$H$5400,'Using CMS - Inop_OoC - CMS'!$B$24:$B$5400,B149,'Using CMS - Inop_OoC - CMS'!$C$24:$C$5400,C149,'Using CMS - Inop_OoC - CMS'!$D$24:$D$5400,D149))","v":""},""]
[null,{"$f":"IF(Lists!AT128=\"\",\"\",Lists!AT128)","v":""},{"$f":"IF(Lists!AU128=\"\",\"\",Lists!AU128)","v":""},{"$f":"IF(Lists!AV128=\"\",\"\",Lists!AV128)","v":""},null,{"$f":"IF($E150=\"\",\"\",SUMIFS('Using CMS - Inop_OoC - CMS'!$H$24:$H$5400,'Using CMS - Inop_OoC - CMS'!$B$24:$B$5400,B150,'Using CMS - Inop_OoC - CMS'!$C$24:$C$5400,C150,'Using CMS - Inop_OoC - CMS'!$D$24:$D$5400,D150))","v":""},""]
[null,{"$f":"IF(Lists!AT129=\"\",\"\",Lists!AT129)","v":""},{"$f":"IF(Lists!AU129=\"\",\"\",Lists!AU129)","v":""},{"$f":"IF(Lists!AV129=\"\",\"\",Lists!AV129)","v":""},null,{"$f":"IF($E151=\"\",\"\",SUMIFS('Using CMS - Inop_OoC - CMS'!$H$24:$H$5400,'Using CMS - Inop_OoC - CMS'!$B$24:$B$5400,B151,'Using CMS - Inop_OoC - CMS'!$C$24:$C$5400,C151,'Using CMS - Inop_OoC - CMS'!$D$24:$D$5400,D151))","v":""},""]
[null,{"$f":"IF(Lists!AT130=\"\",\"\",Lists!AT130)","v":""},{"$f":"IF(Lists!AU130=\"\",\"\",Lists!AU130)","v":""},{"$f":"IF(Lists!AV130=\"\",\"\",Lists!AV130)","v":""},null,{"$f":"IF($E152=\"\",\"\",SUMIFS('Using CMS - Inop_OoC - CMS'!$H$24:$H$5400,'Using CMS - Inop_OoC - CMS'!$B$24:$B$5400,B152,'Using CMS - Inop_OoC - CMS'!$C$24:$C$5400,C152,'Using CMS - Inop_OoC - CMS'!$D$24:$D$5400,D152))","v":""},{"$f":"IF($E152=\"\",\"\",IF(F152=0,\"N/A\",F152/$E152))","v":""}]
[null,{"$f":"IF(Lists!AT131=\"\",\"\",Lists!AT131)","v":""},{"$f":"IF(Lists!AU131=\"\",\"\",Lists!AU131)","v":""},{"$f":"IF(Lists!AV131=\"\",\"\",Lists!AV131)","v":""},null,{"$f":"IF($E153=\"\",\"\",SUMIFS('Using CMS - Inop_OoC - CMS'!$H$24:$H$5400,'Using CMS - Inop_OoC - CMS'!$B$24:$B$5400,B153,'Using CMS - Inop_OoC - CMS'!$C$24:$C$5400,C153,'Using CMS - Inop_OoC - CMS'!$D$24:$D$5400,D153))","v":""},""]
[null,{"$f":"IF(Lists!AT132=\"\",\"\",Lists!AT132)","v":""},{"$f":"IF(Lists!AU132=\"\",\"\",Lists!AU132)","v":""},{"$f":"IF(Lists!AV132=\"\",\"\",Lists!AV132)","v":""},null,{"$f":"IF($E154=\"\",\"\",SUMIFS('Using CMS - Inop_OoC - CMS'!$H$24:$H$5400,'Using CMS - Inop_OoC - CMS'!$B$24:$B$5400,B154,'Using CMS - Inop_OoC - CMS'!$C$24:$C$5400,C154,'Using CMS - Inop_OoC - CMS'!$D$24:$D$5400,D154))","v":""},""]
[null,{"$f":"IF(Lists!AT133=\"\",\"\",Lists!AT133)","v":""},{"$f":"IF(Lists!AU133=\"\",\"\",Lists!AU133)","v":""},{"$f":"IF(Lists!AV133=\"\",\"\",Lists!AV133)","v":""},null,{"$f":"IF($E155=\"\",\"\",SUMIFS('Using CMS - Inop_OoC - CMS'!$H$24:$H$5400,'Using CMS - Inop_OoC - CMS'!$B$24:$B$5400,B155,'Using CMS - Inop_OoC - CMS'!$C$24:$C$5400,C155,'Using CMS - Inop_OoC - CMS'!$D$24:$D$5400,D155))","v":""},""]
[null,{"$f":"IF(Lists!AT134=\"\",\"\",Lists!AT134)","v":""},{"$f":"IF(Lists!AU134=\"\",\"\",Lists!AU134)","v":""},{"$f":"IF(Lists!AV134=\"\",\"\",Lists!AV134)","v":""},null,{"$f":"IF($E156=\"\",\"\",SUMIFS('Using CMS - Inop_OoC - CMS'!$H$24:$H$5400,'Using CMS - Inop_OoC - CMS'!$B$24:$B$5400,B156,'Using CMS - Inop_OoC - CMS'!$C$24:$C$5400,C156,'Using CMS - Inop_OoC - CMS'!$D$24:$D$5400,D156))","v":""},""]
[null,{"$f":"IF(Lists!AT135=\"\",\"\",Lists!AT135)","v":""},{"$f":"IF(Lists!AU135=\"\",\"\",Lists!AU135)","v":""},{"$f":"IF(Lists!AV135=\"\",\"\",Lists!AV135)","v":""},null,{"$f":"IF($E157=\"\",\"\",SUMIFS('Using CMS - Inop_OoC - CMS'!$H$24:$H$5400,'Using CMS - Inop_OoC - CMS'!$B$24:$B$5400,B157,'Using CMS - Inop_OoC - CMS'!$C$24:$C$5400,C157,'Using CMS - Inop_OoC - CMS'!$D$24:$D$5400,D157))","v":""},""]
[null,{"$f":"IF(Lists!AT136=\"\",\"\",Lists!AT136)","v":""},{"$f":"IF(Lists!AU136=\"\",\"\",Lists!AU136)","v":""},{"$f":"IF(Lists!AV136=\"\",\"\",Lists!AV136)","v":""},null,{"$f":"IF($E158=\"\",\"\",SUMIFS('Using CMS - Inop_OoC - CMS'!$H$24:$H$5400,'Using CMS - Inop_OoC - CMS'!$B$24:$B$5400,B158,'Using CMS - Inop_OoC - CMS'!$C$24:$C$5400,C158,'Using CMS - Inop_OoC - CMS'!$D$24:$D$5400,D158))","v":""},""]
[null,{"$f":"IF(Lists!AT137=\"\",\"\",Lists!AT137)","v":""},{"$f":"IF(Lists!AU137=\"\",\"\",Lists!AU137)","v":""},{"$f":"IF(Lists!AV137=\"\",\"\",Lists!AV137)","v":""},null,{"$f":"IF($E159=\"\",\"\",SUMIFS('Using CMS - Inop_OoC - CMS'!$H$24:$H$5400,'Using CMS - Inop_OoC - CMS'!$B$24:$B$5400,B159,'Using CMS - Inop_OoC - CMS'!$C$24:$C$5400,C159,'Using CMS - Inop_OoC - CMS'!$D$24:$D$5400,D159))","v":""},""]
[null,{"$f":"IF(Lists!AT138=\"\",\"\",Lists!AT138)","v":""},{"$f":"IF(Lists!AU138=\"\",\"\",Lists!AU138)","v":""},{"$f":"IF(Lists!AV138=\"\",\"\",Lists!AV138)","v":""},null,{"$f":"IF($E160=\"\",\"\",SUMIFS('Using CMS - Inop_OoC - CMS'!$H$24:$H$5400,'Using CMS - Inop_OoC - CMS'!$B$24:$B$5400,B160,'Using CMS - Inop_OoC - CMS'!$C$24:$C$5400,C160,'Using CMS - Inop_OoC - CMS'!$D$24:$D$5400,D160))","v":""},""]
[null,{"$f":"IF(Lists!AT139=\"\",\"\",Lists!AT139)","v":""},{"$f":"IF(Lists!AU139=\"\",\"\",Lists!AU139)","v":""},{"$f":"IF(Lists!AV139=\"\",\"\",Lists!AV139)","v":""},null,{"$f":"IF($E161=\"\",\"\",SUMIFS('Using CMS - Inop_OoC - CMS'!$H$24:$H$5400,'Using CMS - Inop_OoC - CMS'!$B$24:$B$5400,B161,'Using CMS - Inop_OoC - CMS'!$C$24:$C$5400,C161,'Using CMS - Inop_OoC - CMS'!$D$24:$D$5400,D161))","v":""},""]
[null,{"$f":"IF(Lists!AT140=\"\",\"\",Lists!AT140)","v":""},{"$f":"IF(Lists!AU140=\"\",\"\",Lists!AU140)","v":""},{"$f":"IF(Lists!AV140=\"\",\"\",Lists!AV140)","v":""},null,{"$f":"IF($E162=\"\",\"\",SUMIFS('Using CMS - Inop_OoC - CMS'!$H$24:$H$5400,'Using CMS - Inop_OoC - CMS'!$B$24:$B$5400,B162,'Using CMS - Inop_OoC - CMS'!$C$24:$C$5400,C162,'Using CMS - Inop_OoC - CMS'!$D$24:$D$5400,D162))","v":""},""]
[null,{"$f":"IF(Lists!AT141=\"\",\"\",Lists!AT141)","v":""},{"$f":"IF(Lists!AU141=\"\",\"\",Lists!AU141)","v":""},{"$f":"IF(Lists!AV141=\"\",\"\",Lists!AV141)","v":""},null,{"$f":"IF($E163=\"\",\"\",SUMIFS('Using CMS - Inop_OoC - CMS'!$H$24:$H$5400,'Using CMS - Inop_OoC - CMS'!$B$24:$B$5400,B163,'Using CMS - Inop_OoC - CMS'!$C$24:$C$5400,C163,'Using CMS - Inop_OoC - CMS'!$D$24:$D$5400,D163))","v":""},""]
[null,{"$f":"IF(Lists!AT142=\"\",\"\",Lists!AT142)","v":""},{"$f":"IF(Lists!AU142=\"\",\"\",Lists!AU142)","v":""},{"$f":"IF(Lists!AV142=\"\",\"\",Lists!AV142)","v":""},null,{"$f":"IF($E164=\"\",\"\",SUMIFS('Using CMS - Inop_OoC - CMS'!$H$24:$H$5400,'Using CMS - Inop_OoC - CMS'!$B$24:$B$5400,B164,'Using CMS - Inop_OoC - CMS'!$C$24:$C$5400,C164,'Using CMS - Inop_OoC - CMS'!$D$24:$D$5400,D164))","v":""},""]
[null,{"$f":"IF(Lists!AT143=\"\",\"\",Lists!AT143)","v":""},{"$f":"IF(Lists!AU143=\"\",\"\",Lists!AU143)","v":""},{"$f":"IF(Lists!AV143=\"\",\"\",Lists!AV143)","v":""},null,{"$f":"IF($E165=\"\",\"\",SUMIFS('Using CMS - Inop_OoC - CMS'!$H$24:$H$5400,'Using CMS - Inop_OoC - CMS'!$B$24:$B$5400,B165,'Using CMS - Inop_OoC - CMS'!$C$24:$C$5400,C165,'Using CMS - Inop_OoC - CMS'!$D$24:$D$5400,D165))","v":""},""]
[null,{"$f":"IF(Lists!AT144=\"\",\"\",Lists!AT144)","v":""},{"$f":"IF(Lists!AU144=\"\",\"\",Lists!AU144)","v":""},{"$f":"IF(Lists!AV144=\"\",\"\",Lists!AV144)","v":""},null,{"$f":"IF($E166=\"\",\"\",SUMIFS('Using CMS - Inop_OoC - CMS'!$H$24:$H$5400,'Using CMS - Inop_OoC - CMS'!$B$24:$B$5400,B166,'Using CMS - Inop_OoC - CMS'!$C$24:$C$5400,C166,'Using CMS - Inop_OoC - CMS'!$D$24:$D$5400,D166))","v":""},""]
[null,{"$f":"IF(Lists!AT145=\"\",\"\",Lists!AT145)","v":""},{"$f":"IF(Lists!AU145=\"\",\"\",Lists!AU145)","v":""},{"$f":"IF(Lists!AV145=\"\",\"\",Lists!AV145)","v":""},null,{"$f":"IF($E167=\"\",\"\",SUMIFS('Using CMS - Inop_OoC - CMS'!$H$24:$H$5400,'Using CMS - Inop_OoC - CMS'!$B$24:$B$5400,B167,'Using CMS - Inop_OoC - CMS'!$C$24:$C$5400,C167,'Using CMS - Inop_OoC - CMS'!$D$24:$D$5400,D167))","v":""},""]
[null,{"$f":"IF(Lists!AT146=\"\",\"\",Lists!AT146)","v":""},{"$f":"IF(Lists!AU146=\"\",\"\",Lists!AU146)","v":""},{"$f":"IF(Lists!AV146=\"\",\"\",Lists!AV146)","v":""},null,{"$f":"IF($E168=\"\",\"\",SUMIFS('Using CMS - Inop_OoC - CMS'!$H$24:$H$5400,'Using CMS - Inop_OoC - CMS'!$B$24:$B$5400,B168,'Using CMS - Inop_OoC - CMS'!$C$24:$C$5400,C168,'Using CMS - Inop_OoC - CMS'!$D$24:$D$5400,D168))","v":""},""]
[null,{"$f":"IF(Lists!AT147=\"\",\"\",Lists!AT147)","v":""},{"$f":"IF(Lists!AU147=\"\",\"\",Lists!AU147)","v":""},{"$f":"IF(Lists!AV147=\"\",\"\",Lists!AV147)","v":""},null,{"$f":"IF($E169=\"\",\"\",SUMIFS('Using CMS - Inop_OoC - CMS'!$H$24:$H$5400,'Using CMS - Inop_OoC - CMS'!$B$24:$B$5400,B169,'Using CMS - Inop_OoC - CMS'!$C$24:$C$5400,C169,'Using CMS - Inop_OoC - CMS'!$D$24:$D$5400,D169))","v":""},""]
[null,{"$f":"IF(Lists!AT148=\"\",\"\",Lists!AT148)","v":""},{"$f":"IF(Lists!AU148=\"\",\"\",Lists!AU148)","v":""},{"$f":"IF(Lists!AV148=\"\",\"\",Lists!AV148)","v":""},null,{"$f":"IF($E170=\"\",\"\",SUMIFS('Using CMS - Inop_OoC - CMS'!$H$24:$H$5400,'Using CMS - Inop_OoC - CMS'!$B$24:$B$5400,B170,'Using CMS - Inop_OoC - CMS'!$C$24:$C$5400,C170,'Using CMS - Inop_OoC - CMS'!$D$24:$D$5400,D170))","v":""},""]
[null,{"$f":"IF(Lists!AT149=\"\",\"\",Lists!AT149)","v":""},{"$f":"IF(Lists!AU149=\"\",\"\",Lists!AU149)","v":""},{"$f":"IF(Lists!AV149=\"\",\"\",Lists!AV149)","v":""},null,{"$f":"IF($E171=\"\",\"\",SUMIFS('Using CMS - Inop_OoC - CMS'!$H$24:$H$5400,'Using CMS - Inop_OoC - CMS'!$B$24:$B$5400,B171,'Using CMS - Inop_OoC - CMS'!$C$24:$C$5400,C171,'Using CMS - Inop_OoC - CMS'!$D$24:$D$5400,D171))","v":""},""]
[null,{"$f":"IF(Lists!AT150=\"\",\"\",Lists!AT150)","v":""},{"$f":"IF(Lists!AU150=\"\",\"\",Lists!AU150)","v":""},{"$f":"IF(Lists!AV150=\"\",\"\",Lists!AV150)","v":""},null,{"$f":"IF($E172=\"\",\"\",SUMIFS('Using CMS - Inop_OoC - CMS'!$H$24:$H$5400,'Using CMS - Inop_OoC - CMS'!$B$24:$B$5400,B172,'Using CMS - Inop_OoC - CMS'!$C$24:$C$5400,C172,'Using CMS - Inop_OoC - CMS'!$D$24:$D$5400,D172))","v":""},""]
[null,{"$f":"IF(Lists!AT151=\"\",\"\",Lists!AT151)","v":""},{"$f":"IF(Lists!AU151=\"\",\"\",Lists!AU151)","v":""},{"$f":"IF(Lists!AV151=\"\",\"\",Lists!AV151)","v":""},null,{"$f":"IF($E173=\"\",\"\",SUMIFS('Using CMS - Inop_OoC - CMS'!$H$24:$H$5400,'Using CMS - Inop_OoC - CMS'!$B$24:$B$5400,B173,'Using CMS - Inop_OoC - CMS'!$C$24:$C$5400,C173,'Using CMS - Inop_OoC - CMS'!$D$24:$D$5400,D173))","v":""},""]
[null,{"$f":"IF(Lists!AT152=\"\",\"\",Lists!AT152)","v":""},{"$f":"IF(Lists!AU152=\"\",\"\",Lists!AU152)","v":""},{"$f":"IF(Lists!AV152=\"\",\"\",Lists!AV152)","v":""},null,{"$f":"IF($E174=\"\",\"\",SUMIFS('Using CMS - Inop_OoC - CMS'!$H$24:$H$5400,'Using CMS - Inop_OoC - CMS'!$B$24:$B$5400,B174,'Using CMS - Inop_OoC - CMS'!$C$24:$C$5400,C174,'Using CMS - Inop_OoC - CMS'!$D$24:$D$5400,D174))","v":""},""]
[null,{"$f":"IF(Lists!AT153=\"\",\"\",Lists!AT153)","v":""},{"$f":"IF(Lists!AU153=\"\",\"\",Lists!AU153)","v":""},{"$f":"IF(Lists!AV153=\"\",\"\",Lists!AV153)","v":""},null,{"$f":"IF($E175=\"\",\"\",SUMIFS('Using CMS - Inop_OoC - CMS'!$H$24:$H$5400,'Using CMS - Inop_OoC - CMS'!$B$24:$B$5400,B175,'Using CMS - Inop_OoC - CMS'!$C$24:$C$5400,C175,'Using CMS - Inop_OoC - CMS'!$D$24:$D$5400,D175))","v":""},""]
[null,{"$f":"IF(Lists!AT154=\"\",\"\",Lists!AT154)","v":""},{"$f":"IF(Lists!AU154=\"\",\"\",Lists!AU154)","v":""},{"$f":"IF(Lists!AV154=\"\",\"\",Lists!AV154)","v":""},null,{"$f":"IF($E176=\"\",\"\",SUMIFS('Using CMS - Inop_OoC - CMS'!$H$24:$H$5400,'Using CMS - Inop_OoC - CMS'!$B$24:$B$5400,B176,'Using CMS - Inop_OoC - CMS'!$C$24:$C$5400,C176,'Using CMS - Inop_OoC - CMS'!$D$24:$D$5400,D176))","v":""},""]
[null,{"$f":"IF(Lists!AT155=\"\",\"\",Lists!AT155)","v":""},{"$f":"IF(Lists!AU155=\"\",\"\",Lists!AU155)","v":""},{"$f":"IF(Lists!AV155=\"\",\"\",Lists!AV155)","v":""},null,{"$f":"IF($E177=\"\",\"\",SUMIFS('Using CMS - Inop_OoC - CMS'!$H$24:$H$5400,'Using CMS - Inop_OoC - CMS'!$B$24:$B$5400,B177,'Using CMS - Inop_OoC - CMS'!$C$24:$C$5400,C177,'Using CMS - Inop_OoC - CMS'!$D$24:$D$5400,D177))","v":""},""]
[null,{"$f":"IF(Lists!AT156=\"\",\"\",Lists!AT156)","v":""},{"$f":"IF(Lists!AU156=\"\",\"\",Lists!AU156)","v":""},{"$f":"IF(Lists!AV156=\"\",\"\",Lists!AV156)","v":""},null,{"$f":"IF($E178=\"\",\"\",SUMIFS('Using CMS - Inop_OoC - CMS'!$H$24:$H$5400,'Using CMS - Inop_OoC - CMS'!$B$24:$B$5400,B178,'Using CMS - Inop_OoC - CMS'!$C$24:$C$5400,C178,'Using CMS - Inop_OoC - CMS'!$D$24:$D$5400,D178))","v":""},""]
[null,{"$f":"IF(Lists!AT157=\"\",\"\",Lists!AT157)","v":""},{"$f":"IF(Lists!AU157=\"\",\"\",Lists!AU157)","v":""},{"$f":"IF(Lists!AV157=\"\",\"\",Lists!AV157)","v":""},null,{"$f":"IF($E179=\"\",\"\",SUMIFS('Using CMS - Inop_OoC - CMS'!$H$24:$H$5400,'Using CMS - Inop_OoC - CMS'!$B$24:$B$5400,B179,'Using CMS - Inop_OoC - CMS'!$C$24:$C$5400,C179,'Using CMS - Inop_OoC - CMS'!$D$24:$D$5400,D179))","v":""},""]
[null,{"$f":"IF(Lists!AT158=\"\",\"\",Lists!AT158)","v":""},{"$f":"IF(Lists!AU158=\"\",\"\",Lists!AU158)","v":""},{"$f":"IF(Lists!AV158=\"\",\"\",Lists!AV158)","v":""},null,{"$f":"IF($E180=\"\",\"\",SUMIFS('Using CMS - Inop_OoC - CMS'!$H$24:$H$5400,'Using CMS - Inop_OoC - CMS'!$B$24:$B$5400,B180,'Using CMS - Inop_OoC - CMS'!$C$24:$C$5400,C180,'Using CMS - Inop_OoC - CMS'!$D$24:$D$5400,D180))","v":""},""]
[null,{"$f":"IF(Lists!AT159=\"\",\"\",Lists!AT159)","v":""},{"$f":"IF(Lists!AU159=\"\",\"\",Lists!AU159)","v":""},{"$f":"IF(Lists!AV159=\"\",\"\",Lists!AV159)","v":""},null,{"$f":"IF($E181=\"\",\"\",SUMIFS('Using CMS - Inop_OoC - CMS'!$H$24:$H$5400,'Using CMS - Inop_OoC - CMS'!$B$24:$B$5400,B181,'Using CMS - Inop_OoC - CMS'!$C$24:$C$5400,C181,'Using CMS - Inop_OoC - CMS'!$D$24:$D$5400,D181))","v":""},""]
[null,{"$f":"IF(Lists!AT160=\"\",\"\",Lists!AT160)","v":""},{"$f":"IF(Lists!AU160=\"\",\"\",Lists!AU160)","v":""},{"$f":"IF(Lists!AV160=\"\",\"\",Lists!AV160)","v":""},null,{"$f":"IF($E182=\"\",\"\",SUMIFS('Using CMS - Inop_OoC - CMS'!$H$24:$H$5400,'Using CMS - Inop_OoC - CMS'!$B$24:$B$5400,B182,'Using CMS - Inop_OoC - CMS'!$C$24:$C$5400,C182,'Using CMS - Inop_OoC - CMS'!$D$24:$D$5400,D182))","v":""},""]
[null,{"$f":"IF(Lists!AT161=\"\",\"\",Lists!AT161)","v":""},{"$f":"IF(Lists!AU161=\"\",\"\",Lists!AU161)","v":""},{"$f":"IF(Lists!AV161=\"\",\"\",Lists!AV161)","v":""},null,{"$f":"IF($E183=\"\",\"\",SUMIFS('Using CMS - Inop_OoC - CMS'!$H$24:$H$5400,'Using CMS - Inop_OoC - CMS'!$B$24:$B$5400,B183,'Using CMS - Inop_OoC - CMS'!$C$24:$C$5400,C183,'Using CMS - Inop_OoC - CMS'!$D$24:$D$5400,D183))","v":""},""]
[null,{"$f":"IF(Lists!AT162=\"\",\"\",Lists!AT162)","v":""},{"$f":"IF(Lists!AU162=\"\",\"\",Lists!AU162)","v":""},{"$f":"IF(Lists!AV162=\"\",\"\",Lists!AV162)","v":""},null,{"$f":"IF($E184=\"\",\"\",SUMIFS('Using CMS - Inop_OoC - CMS'!$H$24:$H$5400,'Using CMS - Inop_OoC - CMS'!$B$24:$B$5400,B184,'Using CMS - Inop_OoC - CMS'!$C$24:$C$5400,C184,'Using CMS - Inop_OoC - CMS'!$D$24:$D$5400,D184))","v":""},""]
[null,{"$f":"IF(Lists!AT163=\"\",\"\",Lists!AT163)","v":""},{"$f":"IF(Lists!AU163=\"\",\"\",Lists!AU163)","v":""},{"$f":"IF(Lists!AV163=\"\",\"\",Lists!AV163)","v":""},null,{"$f":"IF($E185=\"\",\"\",SUMIFS('Using CMS - Inop_OoC - CMS'!$H$24:$H$5400,'Using CMS - Inop_OoC - CMS'!$B$24:$B$5400,B185,'Using CMS - Inop_OoC - CMS'!$C$24:$C$5400,C185,'Using CMS - Inop_OoC - CMS'!$D$24:$D$5400,D185))","v":""},""]
[null,{"$f":"IF(Lists!AT164=\"\",\"\",Lists!AT164)","v":""},{"$f":"IF(Lists!AU164=\"\",\"\",Lists!AU164)","v":""},{"$f":"IF(Lists!AV164=\"\",\"\",Lists!AV164)","v":""},null,{"$f":"IF($E186=\"\",\"\",SUMIFS('Using CMS - Inop_OoC - CMS'!$H$24:$H$5400,'Using CMS - Inop_OoC - CMS'!$B$24:$B$5400,B186,'Using CMS - Inop_OoC - CMS'!$C$24:$C$5400,C186,'Using CMS - Inop_OoC - CMS'!$D$24:$D$5400,D186))","v":""},""]
[null,{"$f":"IF(Lists!AT165=\"\",\"\",Lists!AT165)","v":""},{"$f":"IF(Lists!AU165=\"\",\"\",Lists!AU165)","v":""},{"$f":"IF(Lists!AV165=\"\",\"\",Lists!AV165)","v":""},null,{"$f":"IF($E187=\"\",\"\",SUMIFS('Using CMS - Inop_OoC - CMS'!$H$24:$H$5400,'Using CMS - Inop_OoC - CMS'!$B$24:$B$5400,B187,'Using CMS - Inop_OoC - CMS'!$C$24:$C$5400,C187,'Using CMS - Inop_OoC - CMS'!$D$24:$D$5400,D187))","v":""},""]
[null,{"$f":"IF(Lists!AT166=\"\",\"\",Lists!AT166)","v":""},{"$f":"IF(Lists!AU166=\"\",\"\",Lists!AU166)","v":""},{"$f":"IF(Lists!AV166=\"\",\"\",Lists!AV166)","v":""},null,{"$f":"IF($E188=\"\",\"\",SUMIFS('Using CMS - Inop_OoC - CMS'!$H$24:$H$5400,'Using CMS - Inop_OoC - CMS'!$B$24:$B$5400,B188,'Using CMS - Inop_OoC - CMS'!$C$24:$C$5400,C188,'Using CMS - Inop_OoC - CMS'!$D$24:$D$5400,D188))","v":""},""]
[null,{"$f":"IF(Lists!AT167=\"\",\"\",Lists!AT167)","v":""},{"$f":"IF(Lists!AU167=\"\",\"\",Lists!AU167)","v":""},{"$f":"IF(Lists!AV167=\"\",\"\",Lists!AV167)","v":""},null,{"$f":"IF($E189=\"\",\"\",SUMIFS('Using CMS - Inop_OoC - CMS'!$H$24:$H$5400,'Using CMS - Inop_OoC - CMS'!$B$24:$B$5400,B189,'Using CMS - Inop_OoC - CMS'!$C$24:$C$5400,C189,'Using CMS - Inop_OoC - CMS'!$D$24:$D$5400,D189))","v":""},""]
[null,{"$f":"IF(Lists!AT168=\"\",\"\",Lists!AT168)","v":""},{"$f":"IF(Lists!AU168=\"\",\"\",Lists!AU168)","v":""},{"$f":"IF(Lists!AV168=\"\",\"\",Lists!AV168)","v":""},null,{"$f":"IF($E190=\"\",\"\",SUMIFS('Using CMS - Inop_OoC - CMS'!$H$24:$H$5400,'Using CMS - Inop_OoC - CMS'!$B$24:$B$5400,B190,'Using CMS - Inop_OoC - CMS'!$C$24:$C$5400,C190,'Using CMS - Inop_OoC - CMS'!$D$24:$D$5400,D190))","v":""},""]
[null,{"$f":"IF(Lists!AT169=\"\",\"\",Lists!AT169)","v":""},{"$f":"IF(Lists!AU169=\"\",\"\",Lists!AU169)","v":""},{"$f":"IF(Lists!AV169=\"\",\"\",Lists!AV169)","v":""},null,{"$f":"IF($E191=\"\",\"\",SUMIFS('Using CMS - Inop_OoC - CMS'!$H$24:$H$5400,'Using CMS - Inop_OoC - CMS'!$B$24:$B$5400,B191,'Using CMS - Inop_OoC - CMS'!$C$24:$C$5400,C191,'Using CMS - Inop_OoC - CMS'!$D$24:$D$5400,D191))","v":""},""]
[null,{"$f":"IF(Lists!AT170=\"\",\"\",Lists!AT170)","v":""},{"$f":"IF(Lists!AU170=\"\",\"\",Lists!AU170)","v":""},{"$f":"IF(Lists!AV170=\"\",\"\",Lists!AV170)","v":""},null,{"$f":"IF($E192=\"\",\"\",SUMIFS('Using CMS - Inop_OoC - CMS'!$H$24:$H$5400,'Using CMS - Inop_OoC - CMS'!$B$24:$B$5400,B192,'Using CMS - Inop_OoC - CMS'!$C$24:$C$5400,C192,'Using CMS - Inop_OoC - CMS'!$D$24:$D$5400,D192))","v":""},""]
[null,{"$f":"IF(Lists!AT171=\"\",\"\",Lists!AT171)","v":""},{"$f":"IF(Lists!AU171=\"\",\"\",Lists!AU171)","v":""},{"$f":"IF(Lists!AV171=\"\",\"\",Lists!AV171)","v":""},null,{"$f":"IF($E193=\"\",\"\",SUMIFS('Using CMS - Inop_OoC - CMS'!$H$24:$H$5400,'Using CMS - Inop_OoC - CMS'!$B$24:$B$5400,B193,'Using CMS - Inop_OoC - CMS'!$C$24:$C$5400,C193,'Using CMS - Inop_OoC - CMS'!$D$24:$D$5400,D193))","v":""},""]
[null,{"$f":"IF(Lists!AT172=\"\",\"\",Lists!AT172)","v":""},{"$f":"IF(Lists!AU172=\"\",\"\",Lists!AU172)","v":""},{"$f":"IF(Lists!AV172=\"\",\"\",Lists!AV172)","v":""},null,{"$f":"IF($E194=\"\",\"\",SUMIFS('Using CMS - Inop_OoC - CMS'!$H$24:$H$5400,'Using CMS - Inop_OoC - CMS'!$B$24:$B$5400,B194,'Using CMS - Inop_OoC - CMS'!$C$24:$C$5400,C194,'Using CMS - Inop_OoC - CMS'!$D$24:$D$5400,D194))","v":""},""]
[null,{"$f":"IF(Lists!AT173=\"\",\"\",Lists!AT173)","v":""},{"$f":"IF(Lists!AU173=\"\",\"\",Lists!AU173)","v":""},{"$f":"IF(Lists!AV173=\"\",\"\",Lists!AV173)","v":""},null,{"$f":"IF($E195=\"\",\"\",SUMIFS('Using CMS - Inop_OoC - CMS'!$H$24:$H$5400,'Using CMS - Inop_OoC - CMS'!$B$24:$B$5400,B195,'Using CMS - Inop_OoC - CMS'!$C$24:$C$5400,C195,'Using CMS - Inop_OoC - CMS'!$D$24:$D$5400,D195))","v":""},""]
[null,{"$f":"IF(Lists!AT174=\"\",\"\",Lists!AT174)","v":""},{"$f":"IF(Lists!AU174=\"\",\"\",Lists!AU174)","v":""},{"$f":"IF(Lists!AV174=\"\",\"\",Lists!AV174)","v":""},null,{"$f":"IF($E196=\"\",\"\",SUMIFS('Using CMS - Inop_OoC - CMS'!$H$24:$H$5400,'Using CMS - Inop_OoC - CMS'!$B$24:$B$5400,B196,'Using CMS - Inop_OoC - CMS'!$C$24:$C$5400,C196,'Using CMS - Inop_OoC - CMS'!$D$24:$D$5400,D196))","v":""},""]
[null,{"$f":"IF(Lists!AT175=\"\",\"\",Lists!AT175)","v":""},{"$f":"IF(Lists!AU175=\"\",\"\",Lists!AU175)","v":""},{"$f":"IF(Lists!AV175=\"\",\"\",Lists!AV175)","v":""},null,{"$f":"IF($E197=\"\",\"\",SUMIFS('Using CMS - Inop_OoC - CMS'!$H$24:$H$5400,'Using CMS - Inop_OoC - CMS'!$B$24:$B$5400,B197,'Using CMS - Inop_OoC - CMS'!$C$24:$C$5400,C197,'Using CMS - Inop_OoC - CMS'!$D$24:$D$5400,D197))","v":""},""]
[null,{"$f":"IF(Lists!AT176=\"\",\"\",Lists!AT176)","v":""},{"$f":"IF(Lists!AU176=\"\",\"\",Lists!AU176)","v":""},{"$f":"IF(Lists!AV176=\"\",\"\",Lists!AV176)","v":""},null,{"$f":"IF($E198=\"\",\"\",SUMIFS('Using CMS - Inop_OoC - CMS'!$H$24:$H$5400,'Using CMS - Inop_OoC - CMS'!$B$24:$B$5400,B198,'Using CMS - Inop_OoC - CMS'!$C$24:$C$5400,C198,'Using CMS - Inop_OoC - CMS'!$D$24:$D$5400,D198))","v":""},""]
[null,{"$f":"IF(Lists!AT177=\"\",\"\",Lists!AT177)","v":""},{"$f":"IF(Lists!AU177=\"\",\"\",Lists!AU177)","v":""},{"$f":"IF(Lists!AV177=\"\",\"\",Lists!AV177)","v":""},null,{"$f":"IF($E199=\"\",\"\",SUMIFS('Using CMS - Inop_OoC - CMS'!$H$24:$H$5400,'Using CMS - Inop_OoC - CMS'!$B$24:$B$5400,B199,'Using CMS - Inop_OoC - CMS'!$C$24:$C$5400,C199,'Using CMS - Inop_OoC - CMS'!$D$24:$D$5400,D199))","v":""},""]
[null,{"$f":"IF(Lists!AT178=\"\",\"\",Lists!AT178)","v":""},{"$f":"IF(Lists!AU178=\"\",\"\",Lists!AU178)","v":""},{"$f":"IF(Lists!AV178=\"\",\"\",Lists!AV178)","v":""},null,{"$f":"IF($E200=\"\",\"\",SUMIFS('Using CMS - Inop_OoC - CMS'!$H$24:$H$5400,'Using CMS - Inop_OoC - CMS'!$B$24:$B$5400,B200,'Using CMS - Inop_OoC - CMS'!$C$24:$C$5400,C200,'Using CMS - Inop_OoC - CMS'!$D$24:$D$5400,D200))","v":""},""]
[null,{"$f":"IF(Lists!AT179=\"\",\"\",Lists!AT179)","v":""},{"$f":"IF(Lists!AU179=\"\",\"\",Lists!AU179)","v":""},{"$f":"IF(Lists!AV179=\"\",\"\",Lists!AV179)","v":""},null,{"$f":"IF($E201=\"\",\"\",SUMIFS('Using CMS - Inop_OoC - CMS'!$H$24:$H$5400,'Using CMS - Inop_OoC - CMS'!$B$24:$B$5400,B201,'Using CMS - Inop_OoC - CMS'!$C$24:$C$5400,C201,'Using CMS - Inop_OoC - CMS'!$D$24:$D$5400,D201))","v":""},""]
[null,{"$f":"IF(Lists!AT180=\"\",\"\",Lists!AT180)","v":""},{"$f":"IF(Lists!AU180=\"\",\"\",Lists!AU180)","v":""},{"$f":"IF(Lists!AV180=\"\",\"\",Lists!AV180)","v":""},null,{"$f":"IF($E202=\"\",\"\",SUMIFS('Using CMS - Inop_OoC - CMS'!$H$24:$H$5400,'Using CMS - Inop_OoC - CMS'!$B$24:$B$5400,B202,'Using CMS - Inop_OoC - CMS'!$C$24:$C$5400,C202,'Using CMS - Inop_OoC - CMS'!$D$24:$D$5400,D202))","v":""},""]
[null,{"$f":"IF(Lists!AT181=\"\",\"\",Lists!AT181)","v":""},{"$f":"IF(Lists!AU181=\"\",\"\",Lists!AU181)","v":""},{"$f":"IF(Lists!AV181=\"\",\"\",Lists!AV181)","v":""},null,{"$f":"IF($E203=\"\",\"\",SUMIFS('Using CMS - Inop_OoC - CMS'!$H$24:$H$5400,'Using CMS - Inop_OoC - CMS'!$B$24:$B$5400,B203,'Using CMS - Inop_OoC - CMS'!$C$24:$C$5400,C203,'Using CMS - Inop_OoC - CMS'!$D$24:$D$5400,D203))","v":""},""]
[null,{"$f":"IF(Lists!AT182=\"\",\"\",Lists!AT182)","v":""},{"$f":"IF(Lists!AU182=\"\",\"\",Lists!AU182)","v":""},{"$f":"IF(Lists!AV182=\"\",\"\",Lists!AV182)","v":""},null,{"$f":"IF($E204=\"\",\"\",SUMIFS('Using CMS - Inop_OoC - CMS'!$H$24:$H$5400,'Using CMS - Inop_OoC - CMS'!$B$24:$B$5400,B204,'Using CMS - Inop_OoC - CMS'!$C$24:$C$5400,C204,'Using CMS - Inop_OoC - CMS'!$D$24:$D$5400,D204))","v":""},""]
[null,{"$f":"IF(Lists!AT183=\"\",\"\",Lists!AT183)","v":""},{"$f":"IF(Lists!AU183=\"\",\"\",Lists!AU183)","v":""},{"$f":"IF(Lists!AV183=\"\",\"\",Lists!AV183)","v":""},null,{"$f":"IF($E205=\"\",\"\",SUMIFS('Using CMS - Inop_OoC - CMS'!$H$24:$H$5400,'Using CMS - Inop_OoC - CMS'!$B$24:$B$5400,B205,'Using CMS - Inop_OoC - CMS'!$C$24:$C$5400,C205,'Using CMS - Inop_OoC - CMS'!$D$24:$D$5400,D205))","v":""},""]
[null,{"$f":"IF(Lists!AT184=\"\",\"\",Lists!AT184)","v":""},{"$f":"IF(Lists!AU184=\"\",\"\",Lists!AU184)","v":""},{"$f":"IF(Lists!AV184=\"\",\"\",Lists!AV184)","v":""},null,{"$f":"IF($E206=\"\",\"\",SUMIFS('Using CMS - Inop_OoC - CMS'!$H$24:$H$5400,'Using CMS - Inop_OoC - CMS'!$B$24:$B$5400,B206,'Using CMS - Inop_OoC - CMS'!$C$24:$C$5400,C206,'Using CMS - Inop_OoC - CMS'!$D$24:$D$5400,D206))","v":""},""]
[null,{"$f":"IF(Lists!AT185=\"\",\"\",Lists!AT185)","v":""},{"$f":"IF(Lists!AU185=\"\",\"\",Lists!AU185)","v":""},{"$f":"IF(Lists!AV185=\"\",\"\",Lists!AV185)","v":""},null,{"$f":"IF($E207=\"\",\"\",SUMIFS('Using CMS - Inop_OoC - CMS'!$H$24:$H$5400,'Using CMS - Inop_OoC - CMS'!$B$24:$B$5400,B207,'Using CMS - Inop_OoC - CMS'!$C$24:$C$5400,C207,'Using CMS - Inop_OoC - CMS'!$D$24:$D$5400,D207))","v":""},""]
[null,{"$f":"IF(Lists!AT186=\"\",\"\",Lists!AT186)","v":""},{"$f":"IF(Lists!AU186=\"\",\"\",Lists!AU186)","v":""},{"$f":"IF(Lists!AV186=\"\",\"\",Lists!AV186)","v":""},null,{"$f":"IF($E208=\"\",\"\",SUMIFS('Using CMS - Inop_OoC - CMS'!$H$24:$H$5400,'Using CMS - Inop_OoC - CMS'!$B$24:$B$5400,B208,'Using CMS - Inop_OoC - CMS'!$C$24:$C$5400,C208,'Using CMS - Inop_OoC - CMS'!$D$24:$D$5400,D208))","v":""},""]
[null,{"$f":"IF(Lists!AT187=\"\",\"\",Lists!AT187)","v":""},{"$f":"IF(Lists!AU187=\"\",\"\",Lists!AU187)","v":""},{"$f":"IF(Lists!AV187=\"\",\"\",Lists!AV187)","v":""},null,{"$f":"IF($E209=\"\",\"\",SUMIFS('Using CMS - Inop_OoC - CMS'!$H$24:$H$5400,'Using CMS - Inop_OoC - CMS'!$B$24:$B$5400,B209,'Using CMS - Inop_OoC - CMS'!$C$24:$C$5400,C209,'Using CMS - Inop_OoC - CMS'!$D$24:$D$5400,D209))","v":""},""]
[null,{"$f":"IF(Lists!AT188=\"\",\"\",Lists!AT188)","v":""},{"$f":"IF(Lists!AU188=\"\",\"\",Lists!AU188)","v":""},{"$f":"IF(Lists!AV188=\"\",\"\",Lists!AV188)","v":""},null,{"$f":"IF($E210=\"\",\"\",SUMIFS('Using CMS - Inop_OoC - CMS'!$H$24:$H$5400,'Using CMS - Inop_OoC - CMS'!$B$24:$B$5400,B210,'Using CMS - Inop_OoC - CMS'!$C$24:$C$5400,C210,'Using CMS - Inop_OoC - CMS'!$D$24:$D$5400,D210))","v":""},""]
[null,{"$f":"IF(Lists!AT189=\"\",\"\",Lists!AT189)","v":""},{"$f":"IF(Lists!AU189=\"\",\"\",Lists!AU189)","v":""},{"$f":"IF(Lists!AV189=\"\",\"\",Lists!AV189)","v":""},null,{"$f":"IF($E211=\"\",\"\",SUMIFS('Using CMS - Inop_OoC - CMS'!$H$24:$H$5400,'Using CMS - Inop_OoC - CMS'!$B$24:$B$5400,B211,'Using CMS - Inop_OoC - CMS'!$C$24:$C$5400,C211,'Using CMS - Inop_OoC - CMS'!$D$24:$D$5400,D211))","v":""},""]
[null,{"$f":"IF(Lists!AT190=\"\",\"\",Lists!AT190)","v":""},{"$f":"IF(Lists!AU190=\"\",\"\",Lists!AU190)","v":""},{"$f":"IF(Lists!AV190=\"\",\"\",Lists!AV190)","v":""},null,{"$f":"IF($E212=\"\",\"\",SUMIFS('Using CMS - Inop_OoC - CMS'!$H$24:$H$5400,'Using CMS - Inop_OoC - CMS'!$B$24:$B$5400,B212,'Using CMS - Inop_OoC - CMS'!$C$24:$C$5400,C212,'Using CMS - Inop_OoC - CMS'!$D$24:$D$5400,D212))","v":""},""]
[null,{"$f":"IF(Lists!AT191=\"\",\"\",Lists!AT191)","v":""},{"$f":"IF(Lists!AU191=\"\",\"\",Lists!AU191)","v":""},{"$f":"IF(Lists!AV191=\"\",\"\",Lists!AV191)","v":""},null,{"$f":"IF($E213=\"\",\"\",SUMIFS('Using CMS - Inop_OoC - CMS'!$H$24:$H$5400,'Using CMS - Inop_OoC - CMS'!$B$24:$B$5400,B213,'Using CMS - Inop_OoC - CMS'!$C$24:$C$5400,C213,'Using CMS - Inop_OoC - CMS'!$D$24:$D$5400,D213))","v":""},""]
[null,{"$f":"IF(Lists!AT192=\"\",\"\",Lists!AT192)","v":""},{"$f":"IF(Lists!AU192=\"\",\"\",Lists!AU192)","v":""},{"$f":"IF(Lists!AV192=\"\",\"\",Lists!AV192)","v":""},null,{"$f":"IF($E214=\"\",\"\",SUMIFS('Using CMS - Inop_OoC - CMS'!$H$24:$H$5400,'Using CMS - Inop_OoC - CMS'!$B$24:$B$5400,B214,'Using CMS - Inop_OoC - CMS'!$C$24:$C$5400,C214,'Using CMS - Inop_OoC - CMS'!$D$24:$D$5400,D214))","v":""},""]
[null,{"$f":"IF(Lists!AT193=\"\",\"\",Lists!AT193)","v":""},{"$f":"IF(Lists!AU193=\"\",\"\",Lists!AU193)","v":""},{"$f":"IF(Lists!AV193=\"\",\"\",Lists!AV193)","v":""},null,{"$f":"IF($E215=\"\",\"\",SUMIFS('Using CMS - Inop_OoC - CMS'!$H$24:$H$5400,'Using CMS - Inop_OoC - CMS'!$B$24:$B$5400,B215,'Using CMS - Inop_OoC - CMS'!$C$24:$C$5400,C215,'Using CMS - Inop_OoC - CMS'!$D$24:$D$5400,D215))","v":""},""]
[null,{"$f":"IF(Lists!AT194=\"\",\"\",Lists!AT194)","v":""},{"$f":"IF(Lists!AU194=\"\",\"\",Lists!AU194)","v":""},{"$f":"IF(Lists!AV194=\"\",\"\",Lists!AV194)","v":""},null,{"$f":"IF($E216=\"\",\"\",SUMIFS('Using CMS - Inop_OoC - CMS'!$H$24:$H$5400,'Using CMS - Inop_OoC - CMS'!$B$24:$B$5400,B216,'Using CMS - Inop_OoC - CMS'!$C$24:$C$5400,C216,'Using CMS - Inop_OoC - CMS'!$D$24:$D$5400,D216))","v":""},{"$f":"IF($E216=\"\",\"\",IF(F216=0,\"N/A\",F216/$E216))","v":""}]
[null,{"$f":"IF(Lists!AT195=\"\",\"\",Lists!AT195)","v":""},{"$f":"IF(Lists!AU195=\"\",\"\",Lists!AU195)","v":""},{"$f":"IF(Lists!AV195=\"\",\"\",Lists!AV195)","v":""},null,{"$f":"IF($E217=\"\",\"\",SUMIFS('Using CMS - Inop_OoC - CMS'!$H$24:$H$5400,'Using CMS - Inop_OoC - CMS'!$B$24:$B$5400,B217,'Using CMS - Inop_OoC - CMS'!$C$24:$C$5400,C217,'Using CMS - Inop_OoC - CMS'!$D$24:$D$5400,D217))","v":""},""]
[null,{"$f":"IF(Lists!AT196=\"\",\"\",Lists!AT196)","v":""},{"$f":"IF(Lists!AU196=\"\",\"\",Lists!AU196)","v":""},{"$f":"IF(Lists!AV196=\"\",\"\",Lists!AV196)","v":""},null,{"$f":"IF($E218=\"\",\"\",SUMIFS('Using CMS - Inop_OoC - CMS'!$H$24:$H$5400,'Using CMS - Inop_OoC - CMS'!$B$24:$B$5400,B218,'Using CMS - Inop_OoC - CMS'!$C$24:$C$5400,C218,'Using CMS - Inop_OoC - CMS'!$D$24:$D$5400,D218))","v":""},""]
[null,{"$f":"IF(Lists!AT197=\"\",\"\",Lists!AT197)","v":""},{"$f":"IF(Lists!AU197=\"\",\"\",Lists!AU197)","v":""},{"$f":"IF(Lists!AV197=\"\",\"\",Lists!AV197)","v":""},null,{"$f":"IF($E219=\"\",\"\",SUMIFS('Using CMS - Inop_OoC - CMS'!$H$24:$H$5400,'Using CMS - Inop_OoC - CMS'!$B$24:$B$5400,B219,'Using CMS - Inop_OoC - CMS'!$C$24:$C$5400,C219,'Using CMS - Inop_OoC - CMS'!$D$24:$D$5400,D219))","v":""},""]
[null,{"$f":"IF(Lists!AT198=\"\",\"\",Lists!AT198)","v":""},{"$f":"IF(Lists!AU198=\"\",\"\",Lists!AU198)","v":""},{"$f":"IF(Lists!AV198=\"\",\"\",Lists!AV198)","v":""},null,{"$f":"IF($E220=\"\",\"\",SUMIFS('Using CMS - Inop_OoC - CMS'!$H$24:$H$5400,'Using CMS - Inop_OoC - CMS'!$B$24:$B$5400,B220,'Using CMS - Inop_OoC - CMS'!$C$24:$C$5400,C220,'Using CMS - Inop_OoC - CMS'!$D$24:$D$5400,D220))","v":""},""]
[null,{"$f":"IF(Lists!AT199=\"\",\"\",Lists!AT199)","v":""},{"$f":"IF(Lists!AU199=\"\",\"\",Lists!AU199)","v":""},{"$f":"IF(Lists!AV199=\"\",\"\",Lists!AV199)","v":""},null,{"$f":"IF($E221=\"\",\"\",SUMIFS('Using CMS - Inop_OoC - CMS'!$H$24:$H$5400,'Using CMS - Inop_OoC - CMS'!$B$24:$B$5400,B221,'Using CMS - Inop_OoC - CMS'!$C$24:$C$5400,C221,'Using CMS - Inop_OoC - CMS'!$D$24:$D$5400,D221))","v":""},""]
[null,{"$f":"IF(Lists!AT200=\"\",\"\",Lists!AT200)","v":""},{"$f":"IF(Lists!AU200=\"\",\"\",Lists!AU200)","v":""},{"$f":"IF(Lists!AV200=\"\",\"\",Lists!AV200)","v":""},null,{"$f":"IF($E222=\"\",\"\",SUMIFS('Using CMS - Inop_OoC - CMS'!$H$24:$H$5400,'Using CMS - Inop_OoC - CMS'!$B$24:$B$5400,B222,'Using CMS - Inop_OoC - CMS'!$C$24:$C$5400,C222,'Using CMS - Inop_OoC - CMS'!$D$24:$D$5400,D222))","v":""},""]
[null,{"$f":"IF(Lists!AT201=\"\",\"\",Lists!AT201)","v":""},{"$f":"IF(Lists!AU201=\"\",\"\",Lists!AU201)","v":""},{"$f":"IF(Lists!AV201=\"\",\"\",Lists!AV201)","v":""},null,{"$f":"IF($E223=\"\",\"\",SUMIFS('Using CMS - Inop_OoC - CMS'!$H$24:$H$5400,'Using CMS - Inop_OoC - CMS'!$B$24:$B$5400,B223,'Using CMS - Inop_OoC - CMS'!$C$24:$C$5400,C223,'Using CMS - Inop_OoC - CMS'!$D$24:$D$5400,D223))","v":""},""]
[null,{"$f":"IF(Lists!AT202=\"\",\"\",Lists!AT202)","v":""},{"$f":"IF(Lists!AU202=\"\",\"\",Lists!AU202)","v":""},{"$f":"IF(Lists!AV202=\"\",\"\",Lists!AV202)","v":""},null,{"$f":"IF($E224=\"\",\"\",SUMIFS('Using CMS - Inop_OoC - CMS'!$H$24:$H$5400,'Using CMS - Inop_OoC - CMS'!$B$24:$B$5400,B224,'Using CMS - Inop_OoC - CMS'!$C$24:$C$5400,C224,'Using CMS - Inop_OoC - CMS'!$D$24:$D$5400,D224))","v":""},""]
[null,{"$f":"IF(Lists!AT203=\"\",\"\",Lists!AT203)","v":""},{"$f":"IF(Lists!AU203=\"\",\"\",Lists!AU203)","v":""},{"$f":"IF(Lists!AV203=\"\",\"\",Lists!AV203)","v":""},null,{"$f":"IF($E225=\"\",\"\",SUMIFS('Using CMS - Inop_OoC - CMS'!$H$24:$H$5400,'Using CMS - Inop_OoC - CMS'!$B$24:$B$5400,B225,'Using CMS - Inop_OoC - CMS'!$C$24:$C$5400,C225,'Using CMS - Inop_OoC - CMS'!$D$24:$D$5400,D225))","v":""},""]
[null,{"$f":"IF(Lists!AT204=\"\",\"\",Lists!AT204)","v":""},{"$f":"IF(Lists!AU204=\"\",\"\",Lists!AU204)","v":""},{"$f":"IF(Lists!AV204=\"\",\"\",Lists!AV204)","v":""},null,{"$f":"IF($E226=\"\",\"\",SUMIFS('Using CMS - Inop_OoC - CMS'!$H$24:$H$5400,'Using CMS - Inop_OoC - CMS'!$B$24:$B$5400,B226,'Using CMS - Inop_OoC - CMS'!$C$24:$C$5400,C226,'Using CMS - Inop_OoC - CMS'!$D$24:$D$5400,D226))","v":""},""]
[null,{"$f":"IF(Lists!AT205=\"\",\"\",Lists!AT205)","v":""},{"$f":"IF(Lists!AU205=\"\",\"\",Lists!AU205)","v":""},{"$f":"IF(Lists!AV205=\"\",\"\",Lists!AV205)","v":""},null,{"$f":"IF($E227=\"\",\"\",SUMIFS('Using CMS - Inop_OoC - CMS'!$H$24:$H$5400,'Using CMS - Inop_OoC - CMS'!$B$24:$B$5400,B227,'Using CMS - Inop_OoC - CMS'!$C$24:$C$5400,C227,'Using CMS - Inop_OoC - CMS'!$D$24:$D$5400,D227))","v":""},""]
[null,{"$f":"IF(Lists!AT206=\"\",\"\",Lists!AT206)","v":""},{"$f":"IF(Lists!AU206=\"\",\"\",Lists!AU206)","v":""},{"$f":"IF(Lists!AV206=\"\",\"\",Lists!AV206)","v":""},null,{"$f":"IF($E228=\"\",\"\",SUMIFS('Using CMS - Inop_OoC - CMS'!$H$24:$H$5400,'Using CMS - Inop_OoC - CMS'!$B$24:$B$5400,B228,'Using CMS - Inop_OoC - CMS'!$C$24:$C$5400,C228,'Using CMS - Inop_OoC - CMS'!$D$24:$D$5400,D228))","v":""},""]
[null,{"$f":"IF(Lists!AT207=\"\",\"\",Lists!AT207)","v":""},{"$f":"IF(Lists!AU207=\"\",\"\",Lists!AU207)","v":""},{"$f":"IF(Lists!AV207=\"\",\"\",Lists!AV207)","v":""},null,{"$f":"IF($E229=\"\",\"\",SUMIFS('Using CMS - Inop_OoC - CMS'!$H$24:$H$5400,'Using CMS - Inop_OoC - CMS'!$B$24:$B$5400,B229,'Using CMS - Inop_OoC - CMS'!$C$24:$C$5400,C229,'Using CMS - Inop_OoC - CMS'!$D$24:$D$5400,D229))","v":""},""]
[null,{"$f":"IF(Lists!AT208=\"\",\"\",Lists!AT208)","v":""},{"$f":"IF(Lists!AU208=\"\",\"\",Lists!AU208)","v":""},{"$f":"IF(Lists!AV208=\"\",\"\",Lists!AV208)","v":""},null,{"$f":"IF($E230=\"\",\"\",SUMIFS('Using CMS - Inop_OoC - CMS'!$H$24:$H$5400,'Using CMS - Inop_OoC - CMS'!$B$24:$B$5400,B230,'Using CMS - Inop_OoC - CMS'!$C$24:$C$5400,C230,'Using CMS - Inop_OoC - CMS'!$D$24:$D$5400,D230))","v":""},""]
[null,{"$f":"IF(Lists!AT209=\"\",\"\",Lists!AT209)","v":""},{"$f":"IF(Lists!AU209=\"\",\"\",Lists!AU209)","v":""},{"$f":"IF(Lists!AV209=\"\",\"\",Lists!AV209)","v":""},null,{"$f":"IF($E231=\"\",\"\",SUMIFS('Using CMS - Inop_OoC - CMS'!$H$24:$H$5400,'Using CMS - Inop_OoC - CMS'!$B$24:$B$5400,B231,'Using CMS - Inop_OoC - CMS'!$C$24:$C$5400,C231,'Using CMS - Inop_OoC - CMS'!$D$24:$D$5400,D231))","v":""},""]
[null,{"$f":"IF(Lists!AT210=\"\",\"\",Lists!AT210)","v":""},{"$f":"IF(Lists!AU210=\"\",\"\",Lists!AU210)","v":""},{"$f":"IF(Lists!AV210=\"\",\"\",Lists!AV210)","v":""},null,{"$f":"IF($E232=\"\",\"\",SUMIFS('Using CMS - Inop_OoC - CMS'!$H$24:$H$5400,'Using CMS - Inop_OoC - CMS'!$B$24:$B$5400,B232,'Using CMS - Inop_OoC - CMS'!$C$24:$C$5400,C232,'Using CMS - Inop_OoC - CMS'!$D$24:$D$5400,D232))","v":""},""]
[null,{"$f":"IF(Lists!AT211=\"\",\"\",Lists!AT211)","v":""},{"$f":"IF(Lists!AU211=\"\",\"\",Lists!AU211)","v":""},{"$f":"IF(Lists!AV211=\"\",\"\",Lists!AV211)","v":""},null,{"$f":"IF($E233=\"\",\"\",SUMIFS('Using CMS - Inop_OoC - CMS'!$H$24:$H$5400,'Using CMS - Inop_OoC - CMS'!$B$24:$B$5400,B233,'Using CMS - Inop_OoC - CMS'!$C$24:$C$5400,C233,'Using CMS - Inop_OoC - CMS'!$D$24:$D$5400,D233))","v":""},""]
[null,{"$f":"IF(Lists!AT212=\"\",\"\",Lists!AT212)","v":""},{"$f":"IF(Lists!AU212=\"\",\"\",Lists!AU212)","v":""},{"$f":"IF(Lists!AV212=\"\",\"\",Lists!AV212)","v":""},null,{"$f":"IF($E234=\"\",\"\",SUMIFS('Using CMS - Inop_OoC - CMS'!$H$24:$H$5400,'Using CMS - Inop_OoC - CMS'!$B$24:$B$5400,B234,'Using CMS - Inop_OoC - CMS'!$C$24:$C$5400,C234,'Using CMS - Inop_OoC - CMS'!$D$24:$D$5400,D234))","v":""},""]
[null,{"$f":"IF(Lists!AT213=\"\",\"\",Lists!AT213)","v":""},{"$f":"IF(Lists!AU213=\"\",\"\",Lists!AU213)","v":""},{"$f":"IF(Lists!AV213=\"\",\"\",Lists!AV213)","v":""},null,{"$f":"IF($E235=\"\",\"\",SUMIFS('Using CMS - Inop_OoC - CMS'!$H$24:$H$5400,'Using CMS - Inop_OoC - CMS'!$B$24:$B$5400,B235,'Using CMS - Inop_OoC - CMS'!$C$24:$C$5400,C235,'Using CMS - Inop_OoC - CMS'!$D$24:$D$5400,D235))","v":""},""]
[null,{"$f":"IF(Lists!AT214=\"\",\"\",Lists!AT214)","v":""},{"$f":"IF(Lists!AU214=\"\",\"\",Lists!AU214)","v":""},{"$f":"IF(Lists!AV214=\"\",\"\",Lists!AV214)","v":""},null,{"$f":"IF($E236=\"\",\"\",SUMIFS('Using CMS - Inop_OoC - CMS'!$H$24:$H$5400,'Using CMS - Inop_OoC - CMS'!$B$24:$B$5400,B236,'Using CMS - Inop_OoC - CMS'!$C$24:$C$5400,C236,'Using CMS - Inop_OoC - CMS'!$D$24:$D$5400,D236))","v":""},""]
[null,{"$f":"IF(Lists!AT215=\"\",\"\",Lists!AT215)","v":""},{"$f":"IF(Lists!AU215=\"\",\"\",Lists!AU215)","v":""},{"$f":"IF(Lists!AV215=\"\",\"\",Lists!AV215)","v":""},null,{"$f":"IF($E237=\"\",\"\",SUMIFS('Using CMS - Inop_OoC - CMS'!$H$24:$H$5400,'Using CMS - Inop_OoC - CMS'!$B$24:$B$5400,B237,'Using CMS - Inop_OoC - CMS'!$C$24:$C$5400,C237,'Using CMS - Inop_OoC - CMS'!$D$24:$D$5400,D237))","v":""},""]
[null,{"$f":"IF(Lists!AT216=\"\",\"\",Lists!AT216)","v":""},{"$f":"IF(Lists!AU216=\"\",\"\",Lists!AU216)","v":""},{"$f":"IF(Lists!AV216=\"\",\"\",Lists!AV216)","v":""},null,{"$f":"IF($E238=\"\",\"\",SUMIFS('Using CMS - Inop_OoC - CMS'!$H$24:$H$5400,'Using CMS - Inop_OoC - CMS'!$B$24:$B$5400,B238,'Using CMS - Inop_OoC - CMS'!$C$24:$C$5400,C238,'Using CMS - Inop_OoC - CMS'!$D$24:$D$5400,D238))","v":""},""]
[null,{"$f":"IF(Lists!AT217=\"\",\"\",Lists!AT217)","v":""},{"$f":"IF(Lists!AU217=\"\",\"\",Lists!AU217)","v":""},{"$f":"IF(Lists!AV217=\"\",\"\",Lists!AV217)","v":""},null,{"$f":"IF($E239=\"\",\"\",SUMIFS('Using CMS - Inop_OoC - CMS'!$H$24:$H$5400,'Using CMS - Inop_OoC - CMS'!$B$24:$B$5400,B239,'Using CMS - Inop_OoC - CMS'!$C$24:$C$5400,C239,'Using CMS - Inop_OoC - CMS'!$D$24:$D$5400,D239))","v":""},""]
[null,{"$f":"IF(Lists!AT218=\"\",\"\",Lists!AT218)","v":""},{"$f":"IF(Lists!AU218=\"\",\"\",Lists!AU218)","v":""},{"$f":"IF(Lists!AV218=\"\",\"\",Lists!AV218)","v":""},null,{"$f":"IF($E240=\"\",\"\",SUMIFS('Using CMS - Inop_OoC - CMS'!$H$24:$H$5400,'Using CMS - Inop_OoC - CMS'!$B$24:$B$5400,B240,'Using CMS - Inop_OoC - CMS'!$C$24:$C$5400,C240,'Using CMS - Inop_OoC - CMS'!$D$24:$D$5400,D240))","v":""},""]
[null,{"$f":"IF(Lists!AT219=\"\",\"\",Lists!AT219)","v":""},{"$f":"IF(Lists!AU219=\"\",\"\",Lists!AU219)","v":""},{"$f":"IF(Lists!AV219=\"\",\"\",Lists!AV219)","v":""},null,{"$f":"IF($E241=\"\",\"\",SUMIFS('Using CMS - Inop_OoC - CMS'!$H$24:$H$5400,'Using CMS - Inop_OoC - CMS'!$B$24:$B$5400,B241,'Using CMS - Inop_OoC - CMS'!$C$24:$C$5400,C241,'Using CMS - Inop_OoC - CMS'!$D$24:$D$5400,D241))","v":""},""]
[null,{"$f":"IF(Lists!AT220=\"\",\"\",Lists!AT220)","v":""},{"$f":"IF(Lists!AU220=\"\",\"\",Lists!AU220)","v":""},{"$f":"IF(Lists!AV220=\"\",\"\",Lists!AV220)","v":""},null,{"$f":"IF($E242=\"\",\"\",SUMIFS('Using CMS - Inop_OoC - CMS'!$H$24:$H$5400,'Using CMS - Inop_OoC - CMS'!$B$24:$B$5400,B242,'Using CMS - Inop_OoC - CMS'!$C$24:$C$5400,C242,'Using CMS - Inop_OoC - CMS'!$D$24:$D$5400,D242))","v":""},""]
[null,{"$f":"IF(Lists!AT221=\"\",\"\",Lists!AT221)","v":""},{"$f":"IF(Lists!AU221=\"\",\"\",Lists!AU221)","v":""},{"$f":"IF(Lists!AV221=\"\",\"\",Lists!AV221)","v":""},null,{"$f":"IF($E243=\"\",\"\",SUMIFS('Using CMS - Inop_OoC - CMS'!$H$24:$H$5400,'Using CMS - Inop_OoC - CMS'!$B$24:$B$5400,B243,'Using CMS - Inop_OoC - CMS'!$C$24:$C$5400,C243,'Using CMS - Inop_OoC - CMS'!$D$24:$D$5400,D243))","v":""},""]
[null,{"$f":"IF(Lists!AT222=\"\",\"\",Lists!AT222)","v":""},{"$f":"IF(Lists!AU222=\"\",\"\",Lists!AU222)","v":""},{"$f":"IF(Lists!AV222=\"\",\"\",Lists!AV222)","v":""},null,{"$f":"IF($E244=\"\",\"\",SUMIFS('Using CMS - Inop_OoC - CMS'!$H$24:$H$5400,'Using CMS - Inop_OoC - CMS'!$B$24:$B$5400,B244,'Using CMS - Inop_OoC - CMS'!$C$24:$C$5400,C244,'Using CMS - Inop_OoC - CMS'!$D$24:$D$5400,D244))","v":""},""]
[null,{"$f":"IF(Lists!AT223=\"\",\"\",Lists!AT223)","v":""},{"$f":"IF(Lists!AU223=\"\",\"\",Lists!AU223)","v":""},{"$f":"IF(Lists!AV223=\"\",\"\",Lists!AV223)","v":""},null,{"$f":"IF($E245=\"\",\"\",SUMIFS('Using CMS - Inop_OoC - CMS'!$H$24:$H$5400,'Using CMS - Inop_OoC - CMS'!$B$24:$B$5400,B245,'Using CMS - Inop_OoC - CMS'!$C$24:$C$5400,C245,'Using CMS - Inop_OoC - CMS'!$D$24:$D$5400,D245))","v":""},""]
[null,{"$f":"IF(Lists!AT224=\"\",\"\",Lists!AT224)","v":""},{"$f":"IF(Lists!AU224=\"\",\"\",Lists!AU224)","v":""},{"$f":"IF(Lists!AV224=\"\",\"\",Lists!AV224)","v":""},null,{"$f":"IF($E246=\"\",\"\",SUMIFS('Using CMS - Inop_OoC - CMS'!$H$24:$H$5400,'Using CMS - Inop_OoC - CMS'!$B$24:$B$5400,B246,'Using CMS - Inop_OoC - CMS'!$C$24:$C$5400,C246,'Using CMS - Inop_OoC - CMS'!$D$24:$D$5400,D246))","v":""},""]
[null,{"$f":"IF(Lists!AT225=\"\",\"\",Lists!AT225)","v":""},{"$f":"IF(Lists!AU225=\"\",\"\",Lists!AU225)","v":""},{"$f":"IF(Lists!AV225=\"\",\"\",Lists!AV225)","v":""},null,{"$f":"IF($E247=\"\",\"\",SUMIFS('Using CMS - Inop_OoC - CMS'!$H$24:$H$5400,'Using CMS - Inop_OoC - CMS'!$B$24:$B$5400,B247,'Using CMS - Inop_OoC - CMS'!$C$24:$C$5400,C247,'Using CMS - Inop_OoC - CMS'!$D$24:$D$5400,D247))","v":""},""]
[null,{"$f":"IF(Lists!AT226=\"\",\"\",Lists!AT226)","v":""},{"$f":"IF(Lists!AU226=\"\",\"\",Lists!AU226)","v":""},{"$f":"IF(Lists!AV226=\"\",\"\",Lists!AV226)","v":""},null,{"$f":"IF($E248=\"\",\"\",SUMIFS('Using CMS - Inop_OoC - CMS'!$H$24:$H$5400,'Using CMS - Inop_OoC - CMS'!$B$24:$B$5400,B248,'Using CMS - Inop_OoC - CMS'!$C$24:$C$5400,C248,'Using CMS - Inop_OoC - CMS'!$D$24:$D$5400,D248))","v":""},""]
[null,{"$f":"IF(Lists!AT227=\"\",\"\",Lists!AT227)","v":""},{"$f":"IF(Lists!AU227=\"\",\"\",Lists!AU227)","v":""},{"$f":"IF(Lists!AV227=\"\",\"\",Lists!AV227)","v":""},null,{"$f":"IF($E249=\"\",\"\",SUMIFS('Using CMS - Inop_OoC - CMS'!$H$24:$H$5400,'Using CMS - Inop_OoC - CMS'!$B$24:$B$5400,B249,'Using CMS - Inop_OoC - CMS'!$C$24:$C$5400,C249,'Using CMS - Inop_OoC - CMS'!$D$24:$D$5400,D249))","v":""},""]
[null,{"$f":"IF(Lists!AT228=\"\",\"\",Lists!AT228)","v":""},{"$f":"IF(Lists!AU228=\"\",\"\",Lists!AU228)","v":""},{"$f":"IF(Lists!AV228=\"\",\"\",Lists!AV228)","v":""},null,{"$f":"IF($E250=\"\",\"\",SUMIFS('Using CMS - Inop_OoC - CMS'!$H$24:$H$5400,'Using CMS - Inop_OoC - CMS'!$B$24:$B$5400,B250,'Using CMS - Inop_OoC - CMS'!$C$24:$C$5400,C250,'Using CMS - Inop_OoC - CMS'!$D$24:$D$5400,D250))","v":""},""]
[null,{"$f":"IF(Lists!AT229=\"\",\"\",Lists!AT229)","v":""},{"$f":"IF(Lists!AU229=\"\",\"\",Lists!AU229)","v":""},{"$f":"IF(Lists!AV229=\"\",\"\",Lists!AV229)","v":""},null,{"$f":"IF($E251=\"\",\"\",SUMIFS('Using CMS - Inop_OoC - CMS'!$H$24:$H$5400,'Using CMS - Inop_OoC - CMS'!$B$24:$B$5400,B251,'Using CMS - Inop_OoC - CMS'!$C$24:$C$5400,C251,'Using CMS - Inop_OoC - CMS'!$D$24:$D$5400,D251))","v":""},""]
[null,{"$f":"IF(Lists!AT230=\"\",\"\",Lists!AT230)","v":""},{"$f":"IF(Lists!AU230=\"\",\"\",Lists!AU230)","v":""},{"$f":"IF(Lists!AV230=\"\",\"\",Lists!AV230)","v":""},null,{"$f":"IF($E252=\"\",\"\",SUMIFS('Using CMS - Inop_OoC - CMS'!$H$24:$H$5400,'Using CMS - Inop_OoC - CMS'!$B$24:$B$5400,B252,'Using CMS - Inop_OoC - CMS'!$C$24:$C$5400,C252,'Using CMS - Inop_OoC - CMS'!$D$24:$D$5400,D252))","v":""},""]
[null,{"$f":"IF(Lists!AT231=\"\",\"\",Lists!AT231)","v":""},{"$f":"IF(Lists!AU231=\"\",\"\",Lists!AU231)","v":""},{"$f":"IF(Lists!AV231=\"\",\"\",Lists!AV231)","v":""},null,{"$f":"IF($E253=\"\",\"\",SUMIFS('Using CMS - Inop_OoC - CMS'!$H$24:$H$5400,'Using CMS - Inop_OoC - CMS'!$B$24:$B$5400,B253,'Using CMS - Inop_OoC - CMS'!$C$24:$C$5400,C253,'Using CMS - Inop_OoC - CMS'!$D$24:$D$5400,D253))","v":""},""]
[null,{"$f":"IF(Lists!AT232=\"\",\"\",Lists!AT232)","v":""},{"$f":"IF(Lists!AU232=\"\",\"\",Lists!AU232)","v":""},{"$f":"IF(Lists!AV232=\"\",\"\",Lists!AV232)","v":""},null,{"$f":"IF($E254=\"\",\"\",SUMIFS('Using CMS - Inop_OoC - CMS'!$H$24:$H$5400,'Using CMS - Inop_OoC - CMS'!$B$24:$B$5400,B254,'Using CMS - Inop_OoC - CMS'!$C$24:$C$5400,C254,'Using CMS - Inop_OoC - CMS'!$D$24:$D$5400,D254))","v":""},""]
[null,{"$f":"IF(Lists!AT233=\"\",\"\",Lists!AT233)","v":""},{"$f":"IF(Lists!AU233=\"\",\"\",Lists!AU233)","v":""},{"$f":"IF(Lists!AV233=\"\",\"\",Lists!AV233)","v":""},null,{"$f":"IF($E255=\"\",\"\",SUMIFS('Using CMS - Inop_OoC - CMS'!$H$24:$H$5400,'Using CMS - Inop_OoC - CMS'!$B$24:$B$5400,B255,'Using CMS - Inop_OoC - CMS'!$C$24:$C$5400,C255,'Using CMS - Inop_OoC - CMS'!$D$24:$D$5400,D255))","v":""},""]
[null,{"$f":"IF(Lists!AT234=\"\",\"\",Lists!AT234)","v":""},{"$f":"IF(Lists!AU234=\"\",\"\",Lists!AU234)","v":""},{"$f":"IF(Lists!AV234=\"\",\"\",Lists!AV234)","v":""},null,{"$f":"IF($E256=\"\",\"\",SUMIFS('Using CMS - Inop_OoC - CMS'!$H$24:$H$5400,'Using CMS - Inop_OoC - CMS'!$B$24:$B$5400,B256,'Using CMS - Inop_OoC - CMS'!$C$24:$C$5400,C256,'Using CMS - Inop_OoC - CMS'!$D$24:$D$5400,D256))","v":""},""]
[null,{"$f":"IF(Lists!AT235=\"\",\"\",Lists!AT235)","v":""},{"$f":"IF(Lists!AU235=\"\",\"\",Lists!AU235)","v":""},{"$f":"IF(Lists!AV235=\"\",\"\",Lists!AV235)","v":""},null,{"$f":"IF($E257=\"\",\"\",SUMIFS('Using CMS - Inop_OoC - CMS'!$H$24:$H$5400,'Using CMS - Inop_OoC - CMS'!$B$24:$B$5400,B257,'Using CMS - Inop_OoC - CMS'!$C$24:$C$5400,C257,'Using CMS - Inop_OoC - CMS'!$D$24:$D$5400,D257))","v":""},""]
[null,{"$f":"IF(Lists!AT236=\"\",\"\",Lists!AT236)","v":""},{"$f":"IF(Lists!AU236=\"\",\"\",Lists!AU236)","v":""},{"$f":"IF(Lists!AV236=\"\",\"\",Lists!AV236)","v":""},null,{"$f":"IF($E258=\"\",\"\",SUMIFS('Using CMS - Inop_OoC - CMS'!$H$24:$H$5400,'Using CMS - Inop_OoC - CMS'!$B$24:$B$5400,B258,'Using CMS - Inop_OoC - CMS'!$C$24:$C$5400,C258,'Using CMS - Inop_OoC - CMS'!$D$24:$D$5400,D258))","v":""},""]
[null,{"$f":"IF(Lists!AT237=\"\",\"\",Lists!AT237)","v":""},{"$f":"IF(Lists!AU237=\"\",\"\",Lists!AU237)","v":""},{"$f":"IF(Lists!AV237=\"\",\"\",Lists!AV237)","v":""},null,{"$f":"IF($E259=\"\",\"\",SUMIFS('Using CMS - Inop_OoC - CMS'!$H$24:$H$5400,'Using CMS - Inop_OoC - CMS'!$B$24:$B$5400,B259,'Using CMS - Inop_OoC - CMS'!$C$24:$C$5400,C259,'Using CMS - Inop_OoC - CMS'!$D$24:$D$5400,D259))","v":""},""]
[null,{"$f":"IF(Lists!AT238=\"\",\"\",Lists!AT238)","v":""},{"$f":"IF(Lists!AU238=\"\",\"\",Lists!AU238)","v":""},{"$f":"IF(Lists!AV238=\"\",\"\",Lists!AV238)","v":""},null,{"$f":"IF($E260=\"\",\"\",SUMIFS('Using CMS - Inop_OoC - CMS'!$H$24:$H$5400,'Using CMS - Inop_OoC - CMS'!$B$24:$B$5400,B260,'Using CMS - Inop_OoC - CMS'!$C$24:$C$5400,C260,'Using CMS - Inop_OoC - CMS'!$D$24:$D$5400,D260))","v":""},""]
[null,{"$f":"IF(Lists!AT239=\"\",\"\",Lists!AT239)","v":""},{"$f":"IF(Lists!AU239=\"\",\"\",Lists!AU239)","v":""},{"$f":"IF(Lists!AV239=\"\",\"\",Lists!AV239)","v":""},null,{"$f":"IF($E261=\"\",\"\",SUMIFS('Using CMS - Inop_OoC - CMS'!$H$24:$H$5400,'Using CMS - Inop_OoC - CMS'!$B$24:$B$5400,B261,'Using CMS - Inop_OoC - CMS'!$C$24:$C$5400,C261,'Using CMS - Inop_OoC - CMS'!$D$24:$D$5400,D261))","v":""},""]
[null,{"$f":"IF(Lists!AT240=\"\",\"\",Lists!AT240)","v":""},{"$f":"IF(Lists!AU240=\"\",\"\",Lists!AU240)","v":""},{"$f":"IF(Lists!AV240=\"\",\"\",Lists!AV240)","v":""},null,{"$f":"IF($E262=\"\",\"\",SUMIFS('Using CMS - Inop_OoC - CMS'!$H$24:$H$5400,'Using CMS - Inop_OoC - CMS'!$B$24:$B$5400,B262,'Using CMS - Inop_OoC - CMS'!$C$24:$C$5400,C262,'Using CMS - Inop_OoC - CMS'!$D$24:$D$5400,D262))","v":""},""]
[null,{"$f":"IF(Lists!AT241=\"\",\"\",Lists!AT241)","v":""},{"$f":"IF(Lists!AU241=\"\",\"\",Lists!AU241)","v":""},{"$f":"IF(Lists!AV241=\"\",\"\",Lists!AV241)","v":""},null,{"$f":"IF($E263=\"\",\"\",SUMIFS('Using CMS - Inop_OoC - CMS'!$H$24:$H$5400,'Using CMS - Inop_OoC - CMS'!$B$24:$B$5400,B263,'Using CMS - Inop_OoC - CMS'!$C$24:$C$5400,C263,'Using CMS - Inop_OoC - CMS'!$D$24:$D$5400,D263))","v":""},""]
[null,{"$f":"IF(Lists!AT242=\"\",\"\",Lists!AT242)","v":""},{"$f":"IF(Lists!AU242=\"\",\"\",Lists!AU242)","v":""},{"$f":"IF(Lists!AV242=\"\",\"\",Lists!AV242)","v":""},null,{"$f":"IF($E264=\"\",\"\",SUMIFS('Using CMS - Inop_OoC - CMS'!$H$24:$H$5400,'Using CMS - Inop_OoC - CMS'!$B$24:$B$5400,B264,'Using CMS - Inop_OoC - CMS'!$C$24:$C$5400,C264,'Using CMS - Inop_OoC - CMS'!$D$24:$D$5400,D264))","v":""},""]
[null,{"$f":"IF(Lists!AT243=\"\",\"\",Lists!AT243)","v":""},{"$f":"IF(Lists!AU243=\"\",\"\",Lists!AU243)","v":""},{"$f":"IF(Lists!AV243=\"\",\"\",Lists!AV243)","v":""},null,{"$f":"IF($E265=\"\",\"\",SUMIFS('Using CMS - Inop_OoC - CMS'!$H$24:$H$5400,'Using CMS - Inop_OoC - CMS'!$B$24:$B$5400,B265,'Using CMS - Inop_OoC - CMS'!$C$24:$C$5400,C265,'Using CMS - Inop_OoC - CMS'!$D$24:$D$5400,D265))","v":""},""]
[null,{"$f":"IF(Lists!AT244=\"\",\"\",Lists!AT244)","v":""},{"$f":"IF(Lists!AU244=\"\",\"\",Lists!AU244)","v":""},{"$f":"IF(Lists!AV244=\"\",\"\",Lists!AV244)","v":""},null,{"$f":"IF($E266=\"\",\"\",SUMIFS('Using CMS - Inop_OoC - CMS'!$H$24:$H$5400,'Using CMS - Inop_OoC - CMS'!$B$24:$B$5400,B266,'Using CMS - Inop_OoC - CMS'!$C$24:$C$5400,C266,'Using CMS - Inop_OoC - CMS'!$D$24:$D$5400,D266))","v":""},""]
[null,{"$f":"IF(Lists!AT245=\"\",\"\",Lists!AT245)","v":""},{"$f":"IF(Lists!AU245=\"\",\"\",Lists!AU245)","v":""},{"$f":"IF(Lists!AV245=\"\",\"\",Lists!AV245)","v":""},null,{"$f":"IF($E267=\"\",\"\",SUMIFS('Using CMS - Inop_OoC - CMS'!$H$24:$H$5400,'Using CMS - Inop_OoC - CMS'!$B$24:$B$5400,B267,'Using CMS - Inop_OoC - CMS'!$C$24:$C$5400,C267,'Using CMS - Inop_OoC - CMS'!$D$24:$D$5400,D267))","v":""},""]
[null,{"$f":"IF(Lists!AT246=\"\",\"\",Lists!AT246)","v":""},{"$f":"IF(Lists!AU246=\"\",\"\",Lists!AU246)","v":""},{"$f":"IF(Lists!AV246=\"\",\"\",Lists!AV246)","v":""},null,{"$f":"IF($E268=\"\",\"\",SUMIFS('Using CMS - Inop_OoC - CMS'!$H$24:$H$5400,'Using CMS - Inop_OoC - CMS'!$B$24:$B$5400,B268,'Using CMS - Inop_OoC - CMS'!$C$24:$C$5400,C268,'Using CMS - Inop_OoC - CMS'!$D$24:$D$5400,D268))","v":""},""]
[null,{"$f":"IF(Lists!AT247=\"\",\"\",Lists!AT247)","v":""},{"$f":"IF(Lists!AU247=\"\",\"\",Lists!AU247)","v":""},{"$f":"IF(Lists!AV247=\"\",\"\",Lists!AV247)","v":""},null,{"$f":"IF($E269=\"\",\"\",SUMIFS('Using CMS - Inop_OoC - CMS'!$H$24:$H$5400,'Using CMS - Inop_OoC - CMS'!$B$24:$B$5400,B269,'Using CMS - Inop_OoC - CMS'!$C$24:$C$5400,C269,'Using CMS - Inop_OoC - CMS'!$D$24:$D$5400,D269))","v":""},""]
[null,{"$f":"IF(Lists!AT248=\"\",\"\",Lists!AT248)","v":""},{"$f":"IF(Lists!AU248=\"\",\"\",Lists!AU248)","v":""},{"$f":"IF(Lists!AV248=\"\",\"\",Lists!AV248)","v":""},null,{"$f":"IF($E270=\"\",\"\",SUMIFS('Using CMS - Inop_OoC - CMS'!$H$24:$H$5400,'Using CMS - Inop_OoC - CMS'!$B$24:$B$5400,B270,'Using CMS - Inop_OoC - CMS'!$C$24:$C$5400,C270,'Using CMS - Inop_OoC - CMS'!$D$24:$D$5400,D270))","v":""},""]
[null,{"$f":"IF(Lists!AT249=\"\",\"\",Lists!AT249)","v":""},{"$f":"IF(Lists!AU249=\"\",\"\",Lists!AU249)","v":""},{"$f":"IF(Lists!AV249=\"\",\"\",Lists!AV249)","v":""},null,{"$f":"IF($E271=\"\",\"\",SUMIFS('Using CMS - Inop_OoC - CMS'!$H$24:$H$5400,'Using CMS - Inop_OoC - CMS'!$B$24:$B$5400,B271,'Using CMS - Inop_OoC - CMS'!$C$24:$C$5400,C271,'Using CMS - Inop_OoC - CMS'!$D$24:$D$5400,D271))","v":""},""]
[null,{"$f":"IF(Lists!AT250=\"\",\"\",Lists!AT250)","v":""},{"$f":"IF(Lists!AU250=\"\",\"\",Lists!AU250)","v":""},{"$f":"IF(Lists!AV250=\"\",\"\",Lists!AV250)","v":""},null,{"$f":"IF($E272=\"\",\"\",SUMIFS('Using CMS - Inop_OoC - CMS'!$H$24:$H$5400,'Using CMS - Inop_OoC - CMS'!$B$24:$B$5400,B272,'Using CMS - Inop_OoC - CMS'!$C$24:$C$5400,C272,'Using CMS - Inop_OoC - CMS'!$D$24:$D$5400,D272))","v":""},""]
[null,{"$f":"IF(Lists!AT251=\"\",\"\",Lists!AT251)","v":""},{"$f":"IF(Lists!AU251=\"\",\"\",Lists!AU251)","v":""},{"$f":"IF(Lists!AV251=\"\",\"\",Lists!AV251)","v":""},null,{"$f":"IF($E273=\"\",\"\",SUMIFS('Using CMS - Inop_OoC - CMS'!$H$24:$H$5400,'Using CMS - Inop_OoC - CMS'!$B$24:$B$5400,B273,'Using CMS - Inop_OoC - CMS'!$C$24:$C$5400,C273,'Using CMS - Inop_OoC - CMS'!$D$24:$D$5400,D273))","v":""},""]
[null,{"$f":"IF(Lists!AT252=\"\",\"\",Lists!AT252)","v":""},{"$f":"IF(Lists!AU252=\"\",\"\",Lists!AU252)","v":""},{"$f":"IF(Lists!AV252=\"\",\"\",Lists!AV252)","v":""},null,{"$f":"IF($E274=\"\",\"\",SUMIFS('Using CMS - Inop_OoC - CMS'!$H$24:$H$5400,'Using CMS - Inop_OoC - CMS'!$B$24:$B$5400,B274,'Using CMS - Inop_OoC - CMS'!$C$24:$C$5400,C274,'Using CMS - Inop_OoC - CMS'!$D$24:$D$5400,D274))","v":""},""]
[null,{"$f":"IF(Lists!AT253=\"\",\"\",Lists!AT253)","v":""},{"$f":"IF(Lists!AU253=\"\",\"\",Lists!AU253)","v":""},{"$f":"IF(Lists!AV253=\"\",\"\",Lists!AV253)","v":""},null,{"$f":"IF($E275=\"\",\"\",SUMIFS('Using CMS - Inop_OoC - CMS'!$H$24:$H$5400,'Using CMS - Inop_OoC - CMS'!$B$24:$B$5400,B275,'Using CMS - Inop_OoC - CMS'!$C$24:$C$5400,C275,'Using CMS - Inop_OoC - CMS'!$D$24:$D$5400,D275))","v":""},""]
[null,{"$f":"IF(Lists!AT254=\"\",\"\",Lists!AT254)","v":""},{"$f":"IF(Lists!AU254=\"\",\"\",Lists!AU254)","v":""},{"$f":"IF(Lists!AV254=\"\",\"\",Lists!AV254)","v":""},null,{"$f":"IF($E276=\"\",\"\",SUMIFS('Using CMS - Inop_OoC - CMS'!$H$24:$H$5400,'Using CMS - Inop_OoC - CMS'!$B$24:$B$5400,B276,'Using CMS - Inop_OoC - CMS'!$C$24:$C$5400,C276,'Using CMS - Inop_OoC - CMS'!$D$24:$D$5400,D276))","v":""},""]
[null,{"$f":"IF(Lists!AT255=\"\",\"\",Lists!AT255)","v":""},{"$f":"IF(Lists!AU255=\"\",\"\",Lists!AU255)","v":""},{"$f":"IF(Lists!AV255=\"\",\"\",Lists!AV255)","v":""},null,{"$f":"IF($E277=\"\",\"\",SUMIFS('Using CMS - Inop_OoC - CMS'!$H$24:$H$5400,'Using CMS - Inop_OoC - CMS'!$B$24:$B$5400,B277,'Using CMS - Inop_OoC - CMS'!$C$24:$C$5400,C277,'Using CMS - Inop_OoC - CMS'!$D$24:$D$5400,D277))","v":""},""]
[null,{"$f":"IF(Lists!AT256=\"\",\"\",Lists!AT256)","v":""},{"$f":"IF(Lists!AU256=\"\",\"\",Lists!AU256)","v":""},{"$f":"IF(Lists!AV256=\"\",\"\",Lists!AV256)","v":""},null,{"$f":"IF($E278=\"\",\"\",SUMIFS('Using CMS - Inop_OoC - CMS'!$H$24:$H$5400,'Using CMS - Inop_OoC - CMS'!$B$24:$B$5400,B278,'Using CMS - Inop_OoC - CMS'!$C$24:$C$5400,C278,'Using CMS - Inop_OoC - CMS'!$D$24:$D$5400,D278))","v":""},""]
[null,{"$f":"IF(Lists!AT257=\"\",\"\",Lists!AT257)","v":""},{"$f":"IF(Lists!AU257=\"\",\"\",Lists!AU257)","v":""},{"$f":"IF(Lists!AV257=\"\",\"\",Lists!AV257)","v":""},null,{"$f":"IF($E279=\"\",\"\",SUMIFS('Using CMS - Inop_OoC - CMS'!$H$24:$H$5400,'Using CMS - Inop_OoC - CMS'!$B$24:$B$5400,B279,'Using CMS - Inop_OoC - CMS'!$C$24:$C$5400,C279,'Using CMS - Inop_OoC - CMS'!$D$24:$D$5400,D279))","v":""},""]
[null,{"$f":"IF(Lists!AT258=\"\",\"\",Lists!AT258)","v":""},{"$f":"IF(Lists!AU258=\"\",\"\",Lists!AU258)","v":""},{"$f":"IF(Lists!AV258=\"\",\"\",Lists!AV258)","v":""},null,{"$f":"IF($E280=\"\",\"\",SUMIFS('Using CMS - Inop_OoC - CMS'!$H$24:$H$5400,'Using CMS - Inop_OoC - CMS'!$B$24:$B$5400,B280,'Using CMS - Inop_OoC - CMS'!$C$24:$C$5400,C280,'Using CMS - Inop_OoC - CMS'!$D$24:$D$5400,D280))","v":""},{"$f":"IF($E280=\"\",\"\",IF(F280=0,\"N/A\",F280/$E280))","v":""}]
[null,{"$f":"IF(Lists!AT259=\"\",\"\",Lists!AT259)","v":""},{"$f":"IF(Lists!AU259=\"\",\"\",Lists!AU259)","v":""},{"$f":"IF(Lists!AV259=\"\",\"\",Lists!AV259)","v":""},null,{"$f":"IF($E281=\"\",\"\",SUMIFS('Using CMS - Inop_OoC - CMS'!$H$24:$H$5400,'Using CMS - Inop_OoC - CMS'!$B$24:$B$5400,B281,'Using CMS - Inop_OoC - CMS'!$C$24:$C$5400,C281,'Using CMS - Inop_OoC - CMS'!$D$24:$D$5400,D281))","v":""},""]
[null,{"$f":"IF(Lists!AT260=\"\",\"\",Lists!AT260)","v":""},{"$f":"IF(Lists!AU260=\"\",\"\",Lists!AU260)","v":""},{"$f":"IF(Lists!AV260=\"\",\"\",Lists!AV260)","v":""},null,{"$f":"IF($E282=\"\",\"\",SUMIFS('Using CMS - Inop_OoC - CMS'!$H$24:$H$5400,'Using CMS - Inop_OoC - CMS'!$B$24:$B$5400,B282,'Using CMS - Inop_OoC - CMS'!$C$24:$C$5400,C282,'Using CMS - Inop_OoC - CMS'!$D$24:$D$5400,D282))","v":""},""]
[null,{"$f":"IF(Lists!AT261=\"\",\"\",Lists!AT261)","v":""},{"$f":"IF(Lists!AU261=\"\",\"\",Lists!AU261)","v":""},{"$f":"IF(Lists!AV261=\"\",\"\",Lists!AV261)","v":""},null,{"$f":"IF($E283=\"\",\"\",SUMIFS('Using CMS - Inop_OoC - CMS'!$H$24:$H$5400,'Using CMS - Inop_OoC - CMS'!$B$24:$B$5400,B283,'Using CMS - Inop_OoC - CMS'!$C$24:$C$5400,C283,'Using CMS - Inop_OoC - CMS'!$D$24:$D$5400,D283))","v":""},""]
[null,{"$f":"IF(Lists!AT262=\"\",\"\",Lists!AT262)","v":""},{"$f":"IF(Lists!AU262=\"\",\"\",Lists!AU262)","v":""},{"$f":"IF(Lists!AV262=\"\",\"\",Lists!AV262)","v":""},null,{"$f":"IF($E284=\"\",\"\",SUMIFS('Using CMS - Inop_OoC - CMS'!$H$24:$H$5400,'Using CMS - Inop_OoC - CMS'!$B$24:$B$5400,B284,'Using CMS - Inop_OoC - CMS'!$C$24:$C$5400,C284,'Using CMS - Inop_OoC - CMS'!$D$24:$D$5400,D284))","v":""},""]
[null,{"$f":"IF(Lists!AT263=\"\",\"\",Lists!AT263)","v":""},{"$f":"IF(Lists!AU263=\"\",\"\",Lists!AU263)","v":""},{"$f":"IF(Lists!AV263=\"\",\"\",Lists!AV263)","v":""},null,{"$f":"IF($E285=\"\",\"\",SUMIFS('Using CMS - Inop_OoC - CMS'!$H$24:$H$5400,'Using CMS - Inop_OoC - CMS'!$B$24:$B$5400,B285,'Using CMS - Inop_OoC - CMS'!$C$24:$C$5400,C285,'Using CMS - Inop_OoC - CMS'!$D$24:$D$5400,D285))","v":""},""]
[null,{"$f":"IF(Lists!AT264=\"\",\"\",Lists!AT264)","v":""},{"$f":"IF(Lists!AU264=\"\",\"\",Lists!AU264)","v":""},{"$f":"IF(Lists!AV264=\"\",\"\",Lists!AV264)","v":""},null,{"$f":"IF($E286=\"\",\"\",SUMIFS('Using CMS - Inop_OoC - CMS'!$H$24:$H$5400,'Using CMS - Inop_OoC - CMS'!$B$24:$B$5400,B286,'Using CMS - Inop_OoC - CMS'!$C$24:$C$5400,C286,'Using CMS - Inop_OoC - CMS'!$D$24:$D$5400,D286))","v":""},""]
[null,{"$f":"IF(Lists!AT265=\"\",\"\",Lists!AT265)","v":""},{"$f":"IF(Lists!AU265=\"\",\"\",Lists!AU265)","v":""},{"$f":"IF(Lists!AV265=\"\",\"\",Lists!AV265)","v":""},null,{"$f":"IF($E287=\"\",\"\",SUMIFS('Using CMS - Inop_OoC - CMS'!$H$24:$H$5400,'Using CMS - Inop_OoC - CMS'!$B$24:$B$5400,B287,'Using CMS - Inop_OoC - CMS'!$C$24:$C$5400,C287,'Using CMS - Inop_OoC - CMS'!$D$24:$D$5400,D287))","v":""},""]
[null,{"$f":"IF(Lists!AT266=\"\",\"\",Lists!AT266)","v":""},{"$f":"IF(Lists!AU266=\"\",\"\",Lists!AU266)","v":""},{"$f":"IF(Lists!AV266=\"\",\"\",Lists!AV266)","v":""},null,{"$f":"IF($E288=\"\",\"\",SUMIFS('Using CMS - Inop_OoC - CMS'!$H$24:$H$5400,'Using CMS - Inop_OoC - CMS'!$B$24:$B$5400,B288,'Using CMS - Inop_OoC - CMS'!$C$24:$C$5400,C288,'Using CMS - Inop_OoC - CMS'!$D$24:$D$5400,D288))","v":""},""]
[null,{"$f":"IF(Lists!AT267=\"\",\"\",Lists!AT267)","v":""},{"$f":"IF(Lists!AU267=\"\",\"\",Lists!AU267)","v":""},{"$f":"IF(Lists!AV267=\"\",\"\",Lists!AV267)","v":""},null,{"$f":"IF($E289=\"\",\"\",SUMIFS('Using CMS - Inop_OoC - CMS'!$H$24:$H$5400,'Using CMS - Inop_OoC - CMS'!$B$24:$B$5400,B289,'Using CMS - Inop_OoC - CMS'!$C$24:$C$5400,C289,'Using CMS - Inop_OoC - CMS'!$D$24:$D$5400,D289))","v":""},""]
[null,{"$f":"IF(Lists!AT268=\"\",\"\",Lists!AT268)","v":""},{"$f":"IF(Lists!AU268=\"\",\"\",Lists!AU268)","v":""},{"$f":"IF(Lists!AV268=\"\",\"\",Lists!AV268)","v":""},null,{"$f":"IF($E290=\"\",\"\",SUMIFS('Using CMS - Inop_OoC - CMS'!$H$24:$H$5400,'Using CMS - Inop_OoC - CMS'!$B$24:$B$5400,B290,'Using CMS - Inop_OoC - CMS'!$C$24:$C$5400,C290,'Using CMS - Inop_OoC - CMS'!$D$24:$D$5400,D290))","v":""},""]
[null,{"$f":"IF(Lists!AT269=\"\",\"\",Lists!AT269)","v":""},{"$f":"IF(Lists!AU269=\"\",\"\",Lists!AU269)","v":""},{"$f":"IF(Lists!AV269=\"\",\"\",Lists!AV269)","v":""},null,{"$f":"IF($E291=\"\",\"\",SUMIFS('Using CMS - Inop_OoC - CMS'!$H$24:$H$5400,'Using CMS - Inop_OoC - CMS'!$B$24:$B$5400,B291,'Using CMS - Inop_OoC - CMS'!$C$24:$C$5400,C291,'Using CMS - Inop_OoC - CMS'!$D$24:$D$5400,D291))","v":""},""]
[null,{"$f":"IF(Lists!AT270=\"\",\"\",Lists!AT270)","v":""},{"$f":"IF(Lists!AU270=\"\",\"\",Lists!AU270)","v":""},{"$f":"IF(Lists!AV270=\"\",\"\",Lists!AV270)","v":""},null,{"$f":"IF($E292=\"\",\"\",SUMIFS('Using CMS - Inop_OoC - CMS'!$H$24:$H$5400,'Using CMS - Inop_OoC - CMS'!$B$24:$B$5400,B292,'Using CMS - Inop_OoC - CMS'!$C$24:$C$5400,C292,'Using CMS - Inop_OoC - CMS'!$D$24:$D$5400,D292))","v":""},""]
[null,{"$f":"IF(Lists!AT271=\"\",\"\",Lists!AT271)","v":""},{"$f":"IF(Lists!AU271=\"\",\"\",Lists!AU271)","v":""},{"$f":"IF(Lists!AV271=\"\",\"\",Lists!AV271)","v":""},null,{"$f":"IF($E293=\"\",\"\",SUMIFS('Using CMS - Inop_OoC - CMS'!$H$24:$H$5400,'Using CMS - Inop_OoC - CMS'!$B$24:$B$5400,B293,'Using CMS - Inop_OoC - CMS'!$C$24:$C$5400,C293,'Using CMS - Inop_OoC - CMS'!$D$24:$D$5400,D293))","v":""},""]
[null,{"$f":"IF(Lists!AT272=\"\",\"\",Lists!AT272)","v":""},{"$f":"IF(Lists!AU272=\"\",\"\",Lists!AU272)","v":""},{"$f":"IF(Lists!AV272=\"\",\"\",Lists!AV272)","v":""},null,{"$f":"IF($E294=\"\",\"\",SUMIFS('Using CMS - Inop_OoC - CMS'!$H$24:$H$5400,'Using CMS - Inop_OoC - CMS'!$B$24:$B$5400,B294,'Using CMS - Inop_OoC - CMS'!$C$24:$C$5400,C294,'Using CMS - Inop_OoC - CMS'!$D$24:$D$5400,D294))","v":""},""]
[null,{"$f":"IF(Lists!AT273=\"\",\"\",Lists!AT273)","v":""},{"$f":"IF(Lists!AU273=\"\",\"\",Lists!AU273)","v":""},{"$f":"IF(Lists!AV273=\"\",\"\",Lists!AV273)","v":""},null,{"$f":"IF($E295=\"\",\"\",SUMIFS('Using CMS - Inop_OoC - CMS'!$H$24:$H$5400,'Using CMS - Inop_OoC - CMS'!$B$24:$B$5400,B295,'Using CMS - Inop_OoC - CMS'!$C$24:$C$5400,C295,'Using CMS - Inop_OoC - CMS'!$D$24:$D$5400,D295))","v":""},""]
[null,{"$f":"IF(Lists!AT274=\"\",\"\",Lists!AT274)","v":""},{"$f":"IF(Lists!AU274=\"\",\"\",Lists!AU274)","v":""},{"$f":"IF(Lists!AV274=\"\",\"\",Lists!AV274)","v":""},null,{"$f":"IF($E296=\"\",\"\",SUMIFS('Using CMS - Inop_OoC - CMS'!$H$24:$H$5400,'Using CMS - Inop_OoC - CMS'!$B$24:$B$5400,B296,'Using CMS - Inop_OoC - CMS'!$C$24:$C$5400,C296,'Using CMS - Inop_OoC - CMS'!$D$24:$D$5400,D296))","v":""},""]
[null,{"$f":"IF(Lists!AT275=\"\",\"\",Lists!AT275)","v":""},{"$f":"IF(Lists!AU275=\"\",\"\",Lists!AU275)","v":""},{"$f":"IF(Lists!AV275=\"\",\"\",Lists!AV275)","v":""},null,{"$f":"IF($E297=\"\",\"\",SUMIFS('Using CMS - Inop_OoC - CMS'!$H$24:$H$5400,'Using CMS - Inop_OoC - CMS'!$B$24:$B$5400,B297,'Using CMS - Inop_OoC - CMS'!$C$24:$C$5400,C297,'Using CMS - Inop_OoC - CMS'!$D$24:$D$5400,D297))","v":""},""]
[null,{"$f":"IF(Lists!AT276=\"\",\"\",Lists!AT276)","v":""},{"$f":"IF(Lists!AU276=\"\",\"\",Lists!AU276)","v":""},{"$f":"IF(Lists!AV276=\"\",\"\",Lists!AV276)","v":""},null,{"$f":"IF($E298=\"\",\"\",SUMIFS('Using CMS - Inop_OoC - CMS'!$H$24:$H$5400,'Using CMS - Inop_OoC - CMS'!$B$24:$B$5400,B298,'Using CMS - Inop_OoC - CMS'!$C$24:$C$5400,C298,'Using CMS - Inop_OoC - CMS'!$D$24:$D$5400,D298))","v":""},""]
[null,{"$f":"IF(Lists!AT277=\"\",\"\",Lists!AT277)","v":""},{"$f":"IF(Lists!AU277=\"\",\"\",Lists!AU277)","v":""},{"$f":"IF(Lists!AV277=\"\",\"\",Lists!AV277)","v":""},null,{"$f":"IF($E299=\"\",\"\",SUMIFS('Using CMS - Inop_OoC - CMS'!$H$24:$H$5400,'Using CMS - Inop_OoC - CMS'!$B$24:$B$5400,B299,'Using CMS - Inop_OoC - CMS'!$C$24:$C$5400,C299,'Using CMS - Inop_OoC - CMS'!$D$24:$D$5400,D299))","v":""},""]
[null,{"$f":"IF(Lists!AT278=\"\",\"\",Lists!AT278)","v":""},{"$f":"IF(Lists!AU278=\"\",\"\",Lists!AU278)","v":""},{"$f":"IF(Lists!AV278=\"\",\"\",Lists!AV278)","v":""},null,{"$f":"IF($E300=\"\",\"\",SUMIFS('Using CMS - Inop_OoC - CMS'!$H$24:$H$5400,'Using CMS - Inop_OoC - CMS'!$B$24:$B$5400,B300,'Using CMS - Inop_OoC - CMS'!$C$24:$C$5400,C300,'Using CMS - Inop_OoC - CMS'!$D$24:$D$5400,D300))","v":""},""]
[null,{"$f":"IF(Lists!AT279=\"\",\"\",Lists!AT279)","v":""},{"$f":"IF(Lists!AU279=\"\",\"\",Lists!AU279)","v":""},{"$f":"IF(Lists!AV279=\"\",\"\",Lists!AV279)","v":""},null,{"$f":"IF($E301=\"\",\"\",SUMIFS('Using CMS - Inop_OoC - CMS'!$H$24:$H$5400,'Using CMS - Inop_OoC - CMS'!$B$24:$B$5400,B301,'Using CMS - Inop_OoC - CMS'!$C$24:$C$5400,C301,'Using CMS - Inop_OoC - CMS'!$D$24:$D$5400,D301))","v":""},""]
[null,{"$f":"IF(Lists!AT280=\"\",\"\",Lists!AT280)","v":""},{"$f":"IF(Lists!AU280=\"\",\"\",Lists!AU280)","v":""},{"$f":"IF(Lists!AV280=\"\",\"\",Lists!AV280)","v":""},null,{"$f":"IF($E302=\"\",\"\",SUMIFS('Using CMS - Inop_OoC - CMS'!$H$24:$H$5400,'Using CMS - Inop_OoC - CMS'!$B$24:$B$5400,B302,'Using CMS - Inop_OoC - CMS'!$C$24:$C$5400,C302,'Using CMS - Inop_OoC - CMS'!$D$24:$D$5400,D302))","v":""},""]
[null,{"$f":"IF(Lists!AT281=\"\",\"\",Lists!AT281)","v":""},{"$f":"IF(Lists!AU281=\"\",\"\",Lists!AU281)","v":""},{"$f":"IF(Lists!AV281=\"\",\"\",Lists!AV281)","v":""},null,{"$f":"IF($E303=\"\",\"\",SUMIFS('Using CMS - Inop_OoC - CMS'!$H$24:$H$5400,'Using CMS - Inop_OoC - CMS'!$B$24:$B$5400,B303,'Using CMS - Inop_OoC - CMS'!$C$24:$C$5400,C303,'Using CMS - Inop_OoC - CMS'!$D$24:$D$5400,D303))","v":""},""]
[null,{"$f":"IF(Lists!AT282=\"\",\"\",Lists!AT282)","v":""},{"$f":"IF(Lists!AU282=\"\",\"\",Lists!AU282)","v":""},{"$f":"IF(Lists!AV282=\"\",\"\",Lists!AV282)","v":""},null,{"$f":"IF($E304=\"\",\"\",SUMIFS('Using CMS - Inop_OoC - CMS'!$H$24:$H$5400,'Using CMS - Inop_OoC - CMS'!$B$24:$B$5400,B304,'Using CMS - Inop_OoC - CMS'!$C$24:$C$5400,C304,'Using CMS - Inop_OoC - CMS'!$D$24:$D$5400,D304))","v":""},""]
[null,{"$f":"IF(Lists!AT283=\"\",\"\",Lists!AT283)","v":""},{"$f":"IF(Lists!AU283=\"\",\"\",Lists!AU283)","v":""},{"$f":"IF(Lists!AV283=\"\",\"\",Lists!AV283)","v":""},null,{"$f":"IF($E305=\"\",\"\",SUMIFS('Using CMS - Inop_OoC - CMS'!$H$24:$H$5400,'Using CMS - Inop_OoC - CMS'!$B$24:$B$5400,B305,'Using CMS - Inop_OoC - CMS'!$C$24:$C$5400,C305,'Using CMS - Inop_OoC - CMS'!$D$24:$D$5400,D305))","v":""},""]
[null,{"$f":"IF(Lists!AT284=\"\",\"\",Lists!AT284)","v":""},{"$f":"IF(Lists!AU284=\"\",\"\",Lists!AU284)","v":""},{"$f":"IF(Lists!AV284=\"\",\"\",Lists!AV284)","v":""},null,{"$f":"IF($E306=\"\",\"\",SUMIFS('Using CMS - Inop_OoC - CMS'!$H$24:$H$5400,'Using CMS - Inop_OoC - CMS'!$B$24:$B$5400,B306,'Using CMS - Inop_OoC - CMS'!$C$24:$C$5400,C306,'Using CMS - Inop_OoC - CMS'!$D$24:$D$5400,D306))","v":""},""]
[null,{"$f":"IF(Lists!AT285=\"\",\"\",Lists!AT285)","v":""},{"$f":"IF(Lists!AU285=\"\",\"\",Lists!AU285)","v":""},{"$f":"IF(Lists!AV285=\"\",\"\",Lists!AV285)","v":""},null,{"$f":"IF($E307=\"\",\"\",SUMIFS('Using CMS - Inop_OoC - CMS'!$H$24:$H$5400,'Using CMS - Inop_OoC - CMS'!$B$24:$B$5400,B307,'Using CMS - Inop_OoC - CMS'!$C$24:$C$5400,C307,'Using CMS - Inop_OoC - CMS'!$D$24:$D$5400,D307))","v":""},""]
[null,{"$f":"IF(Lists!AT286=\"\",\"\",Lists!AT286)","v":""},{"$f":"IF(Lists!AU286=\"\",\"\",Lists!AU286)","v":""},{"$f":"IF(Lists!AV286=\"\",\"\",Lists!AV286)","v":""},null,{"$f":"IF($E308=\"\",\"\",SUMIFS('Using CMS - Inop_OoC - CMS'!$H$24:$H$5400,'Using CMS - Inop_OoC - CMS'!$B$24:$B$5400,B308,'Using CMS - Inop_OoC - CMS'!$C$24:$C$5400,C308,'Using CMS - Inop_OoC - CMS'!$D$24:$D$5400,D308))","v":""},""]
[null,{"$f":"IF(Lists!AT287=\"\",\"\",Lists!AT287)","v":""},{"$f":"IF(Lists!AU287=\"\",\"\",Lists!AU287)","v":""},{"$f":"IF(Lists!AV287=\"\",\"\",Lists!AV287)","v":""},null,{"$f":"IF($E309=\"\",\"\",SUMIFS('Using CMS - Inop_OoC - CMS'!$H$24:$H$5400,'Using CMS - Inop_OoC - CMS'!$B$24:$B$5400,B309,'Using CMS - Inop_OoC - CMS'!$C$24:$C$5400,C309,'Using CMS - Inop_OoC - CMS'!$D$24:$D$5400,D309))","v":""},""]
[null,{"$f":"IF(Lists!AT288=\"\",\"\",Lists!AT288)","v":""},{"$f":"IF(Lists!AU288=\"\",\"\",Lists!AU288)","v":""},{"$f":"IF(Lists!AV288=\"\",\"\",Lists!AV288)","v":""},null,{"$f":"IF($E310=\"\",\"\",SUMIFS('Using CMS - Inop_OoC - CMS'!$H$24:$H$5400,'Using CMS - Inop_OoC - CMS'!$B$24:$B$5400,B310,'Using CMS - Inop_OoC - CMS'!$C$24:$C$5400,C310,'Using CMS - Inop_OoC - CMS'!$D$24:$D$5400,D310))","v":""},""]
[null,{"$f":"IF(Lists!AT289=\"\",\"\",Lists!AT289)","v":""},{"$f":"IF(Lists!AU289=\"\",\"\",Lists!AU289)","v":""},{"$f":"IF(Lists!AV289=\"\",\"\",Lists!AV289)","v":""},null,{"$f":"IF($E311=\"\",\"\",SUMIFS('Using CMS - Inop_OoC - CMS'!$H$24:$H$5400,'Using CMS - Inop_OoC - CMS'!$B$24:$B$5400,B311,'Using CMS - Inop_OoC - CMS'!$C$24:$C$5400,C311,'Using CMS - Inop_OoC - CMS'!$D$24:$D$5400,D311))","v":""},""]
[null,{"$f":"IF(Lists!AT290=\"\",\"\",Lists!AT290)","v":""},{"$f":"IF(Lists!AU290=\"\",\"\",Lists!AU290)","v":""},{"$f":"IF(Lists!AV290=\"\",\"\",Lists!AV290)","v":""},null,{"$f":"IF($E312=\"\",\"\",SUMIFS('Using CMS - Inop_OoC - CMS'!$H$24:$H$5400,'Using CMS - Inop_OoC - CMS'!$B$24:$B$5400,B312,'Using CMS - Inop_OoC - CMS'!$C$24:$C$5400,C312,'Using CMS - Inop_OoC - CMS'!$D$24:$D$5400,D312))","v":""},""]
[null,{"$f":"IF(Lists!AT291=\"\",\"\",Lists!AT291)","v":""},{"$f":"IF(Lists!AU291=\"\",\"\",Lists!AU291)","v":""},{"$f":"IF(Lists!AV291=\"\",\"\",Lists!AV291)","v":""},null,{"$f":"IF($E313=\"\",\"\",SUMIFS('Using CMS - Inop_OoC - CMS'!$H$24:$H$5400,'Using CMS - Inop_OoC - CMS'!$B$24:$B$5400,B313,'Using CMS - Inop_OoC - CMS'!$C$24:$C$5400,C313,'Using CMS - Inop_OoC - CMS'!$D$24:$D$5400,D313))","v":""},""]
[null,{"$f":"IF(Lists!AT292=\"\",\"\",Lists!AT292)","v":""},{"$f":"IF(Lists!AU292=\"\",\"\",Lists!AU292)","v":""},{"$f":"IF(Lists!AV292=\"\",\"\",Lists!AV292)","v":""},null,{"$f":"IF($E314=\"\",\"\",SUMIFS('Using CMS - Inop_OoC - CMS'!$H$24:$H$5400,'Using CMS - Inop_OoC - CMS'!$B$24:$B$5400,B314,'Using CMS - Inop_OoC - CMS'!$C$24:$C$5400,C314,'Using CMS - Inop_OoC - CMS'!$D$24:$D$5400,D314))","v":""},""]
[null,{"$f":"IF(Lists!AT293=\"\",\"\",Lists!AT293)","v":""},{"$f":"IF(Lists!AU293=\"\",\"\",Lists!AU293)","v":""},{"$f":"IF(Lists!AV293=\"\",\"\",Lists!AV293)","v":""},null,{"$f":"IF($E315=\"\",\"\",SUMIFS('Using CMS - Inop_OoC - CMS'!$H$24:$H$5400,'Using CMS - Inop_OoC - CMS'!$B$24:$B$5400,B315,'Using CMS - Inop_OoC - CMS'!$C$24:$C$5400,C315,'Using CMS - Inop_OoC - CMS'!$D$24:$D$5400,D315))","v":""},""]
[null,{"$f":"IF(Lists!AT294=\"\",\"\",Lists!AT294)","v":""},{"$f":"IF(Lists!AU294=\"\",\"\",Lists!AU294)","v":""},{"$f":"IF(Lists!AV294=\"\",\"\",Lists!AV294)","v":""},null,{"$f":"IF($E316=\"\",\"\",SUMIFS('Using CMS - Inop_OoC - CMS'!$H$24:$H$5400,'Using CMS - Inop_OoC - CMS'!$B$24:$B$5400,B316,'Using CMS - Inop_OoC - CMS'!$C$24:$C$5400,C316,'Using CMS - Inop_OoC - CMS'!$D$24:$D$5400,D316))","v":""},""]
[null,{"$f":"IF(Lists!AT295=\"\",\"\",Lists!AT295)","v":""},{"$f":"IF(Lists!AU295=\"\",\"\",Lists!AU295)","v":""},{"$f":"IF(Lists!AV295=\"\",\"\",Lists!AV295)","v":""},null,{"$f":"IF($E317=\"\",\"\",SUMIFS('Using CMS - Inop_OoC - CMS'!$H$24:$H$5400,'Using CMS - Inop_OoC - CMS'!$B$24:$B$5400,B317,'Using CMS - Inop_OoC - CMS'!$C$24:$C$5400,C317,'Using CMS - Inop_OoC - CMS'!$D$24:$D$5400,D317))","v":""},""]
[null,{"$f":"IF(Lists!AT296=\"\",\"\",Lists!AT296)","v":""},{"$f":"IF(Lists!AU296=\"\",\"\",Lists!AU296)","v":""},{"$f":"IF(Lists!AV296=\"\",\"\",Lists!AV296)","v":""},null,{"$f":"IF($E318=\"\",\"\",SUMIFS('Using CMS - Inop_OoC - CMS'!$H$24:$H$5400,'Using CMS - Inop_OoC - CMS'!$B$24:$B$5400,B318,'Using CMS - Inop_OoC - CMS'!$C$24:$C$5400,C318,'Using CMS - Inop_OoC - CMS'!$D$24:$D$5400,D318))","v":""},""]
[null,{"$f":"IF(Lists!AT297=\"\",\"\",Lists!AT297)","v":""},{"$f":"IF(Lists!AU297=\"\",\"\",Lists!AU297)","v":""},{"$f":"IF(Lists!AV297=\"\",\"\",Lists!AV297)","v":""},null,{"$f":"IF($E319=\"\",\"\",SUMIFS('Using CMS - Inop_OoC - CMS'!$H$24:$H$5400,'Using CMS - Inop_OoC - CMS'!$B$24:$B$5400,B319,'Using CMS - Inop_OoC - CMS'!$C$24:$C$5400,C319,'Using CMS - Inop_OoC - CMS'!$D$24:$D$5400,D319))","v":""},""]
[null,{"$f":"IF(Lists!AT298=\"\",\"\",Lists!AT298)","v":""},{"$f":"IF(Lists!AU298=\"\",\"\",Lists!AU298)","v":""},{"$f":"IF(Lists!AV298=\"\",\"\",Lists!AV298)","v":""},null,{"$f":"IF($E320=\"\",\"\",SUMIFS('Using CMS - Inop_OoC - CMS'!$H$24:$H$5400,'Using CMS - Inop_OoC - CMS'!$B$24:$B$5400,B320,'Using CMS - Inop_OoC - CMS'!$C$24:$C$5400,C320,'Using CMS - Inop_OoC - CMS'!$D$24:$D$5400,D320))","v":""},""]
[null,{"$f":"IF(Lists!AT299=\"\",\"\",Lists!AT299)","v":""},{"$f":"IF(Lists!AU299=\"\",\"\",Lists!AU299)","v":""},{"$f":"IF(Lists!AV299=\"\",\"\",Lists!AV299)","v":""},null,{"$f":"IF($E321=\"\",\"\",SUMIFS('Using CMS - Inop_OoC - CMS'!$H$24:$H$5400,'Using CMS - Inop_OoC - CMS'!$B$24:$B$5400,B321,'Using CMS - Inop_OoC - CMS'!$C$24:$C$5400,C321,'Using CMS - Inop_OoC - CMS'!$D$24:$D$5400,D321))","v":""},""]
[null,{"$f":"IF(Lists!AT300=\"\",\"\",Lists!AT300)","v":""},{"$f":"IF(Lists!AU300=\"\",\"\",Lists!AU300)","v":""},{"$f":"IF(Lists!AV300=\"\",\"\",Lists!AV300)","v":""},null,{"$f":"IF($E322=\"\",\"\",SUMIFS('Using CMS - Inop_OoC - CMS'!$H$24:$H$5400,'Using CMS - Inop_OoC - CMS'!$B$24:$B$5400,B322,'Using CMS - Inop_OoC - CMS'!$C$24:$C$5400,C322,'Using CMS - Inop_OoC - CMS'!$D$24:$D$5400,D322))","v":""},""]
[null,{"$f":"IF(Lists!AT301=\"\",\"\",Lists!AT301)","v":""},{"$f":"IF(Lists!AU301=\"\",\"\",Lists!AU301)","v":""},{"$f":"IF(Lists!AV301=\"\",\"\",Lists!AV301)","v":""},null,{"$f":"IF($E323=\"\",\"\",SUMIFS('Using CMS - Inop_OoC - CMS'!$H$24:$H$5400,'Using CMS - Inop_OoC - CMS'!$B$24:$B$5400,B323,'Using CMS - Inop_OoC - CMS'!$C$24:$C$5400,C323,'Using CMS - Inop_OoC - CMS'!$D$24:$D$5400,D323))","v":""},""]
[null,{"$f":"IF(Lists!AT302=\"\",\"\",Lists!AT302)","v":""},{"$f":"IF(Lists!AU302=\"\",\"\",Lists!AU302)","v":""},{"$f":"IF(Lists!AV302=\"\",\"\",Lists!AV302)","v":""},null,{"$f":"IF($E324=\"\",\"\",SUMIFS('Using CMS - Inop_OoC - CMS'!$H$24:$H$5400,'Using CMS - Inop_OoC - CMS'!$B$24:$B$5400,B324,'Using CMS - Inop_OoC - CMS'!$C$24:$C$5400,C324,'Using CMS - Inop_OoC - CMS'!$D$24:$D$5400,D324))","v":""},""]
[null,{"$f":"IF(Lists!AT303=\"\",\"\",Lists!AT303)","v":""},{"$f":"IF(Lists!AU303=\"\",\"\",Lists!AU303)","v":""},{"$f":"IF(Lists!AV303=\"\",\"\",Lists!AV303)","v":""},null,{"$f":"IF($E325=\"\",\"\",SUMIFS('Using CMS - Inop_OoC - CMS'!$H$24:$H$5400,'Using CMS - Inop_OoC - CMS'!$B$24:$B$5400,B325,'Using CMS - Inop_OoC - CMS'!$C$24:$C$5400,C325,'Using CMS - Inop_OoC - CMS'!$D$24:$D$5400,D325))","v":""},""]
[null,{"$f":"IF(Lists!AT304=\"\",\"\",Lists!AT304)","v":""},{"$f":"IF(Lists!AU304=\"\",\"\",Lists!AU304)","v":""},{"$f":"IF(Lists!AV304=\"\",\"\",Lists!AV304)","v":""},null,{"$f":"IF($E326=\"\",\"\",SUMIFS('Using CMS - Inop_OoC - CMS'!$H$24:$H$5400,'Using CMS - Inop_OoC - CMS'!$B$24:$B$5400,B326,'Using CMS - Inop_OoC - CMS'!$C$24:$C$5400,C326,'Using CMS - Inop_OoC - CMS'!$D$24:$D$5400,D326))","v":""},""]
[null,{"$f":"IF(Lists!AT305=\"\",\"\",Lists!AT305)","v":""},{"$f":"IF(Lists!AU305=\"\",\"\",Lists!AU305)","v":""},{"$f":"IF(Lists!AV305=\"\",\"\",Lists!AV305)","v":""},null,{"$f":"IF($E327=\"\",\"\",SUMIFS('Using CMS - Inop_OoC - CMS'!$H$24:$H$5400,'Using CMS - Inop_OoC - CMS'!$B$24:$B$5400,B327,'Using CMS - Inop_OoC - CMS'!$C$24:$C$5400,C327,'Using CMS - Inop_OoC - CMS'!$D$24:$D$5400,D327))","v":""},""]
[null,{"$f":"IF(Lists!AT306=\"\",\"\",Lists!AT306)","v":""},{"$f":"IF(Lists!AU306=\"\",\"\",Lists!AU306)","v":""},{"$f":"IF(Lists!AV306=\"\",\"\",Lists!AV306)","v":""},null,{"$f":"IF($E328=\"\",\"\",SUMIFS('Using CMS - Inop_OoC - CMS'!$H$24:$H$5400,'Using CMS - Inop_OoC - CMS'!$B$24:$B$5400,B328,'Using CMS - Inop_OoC - CMS'!$C$24:$C$5400,C328,'Using CMS - Inop_OoC - CMS'!$D$24:$D$5400,D328))","v":""},""]
[null,{"$f":"IF(Lists!AT307=\"\",\"\",Lists!AT307)","v":""},{"$f":"IF(Lists!AU307=\"\",\"\",Lists!AU307)","v":""},{"$f":"IF(Lists!AV307=\"\",\"\",Lists!AV307)","v":""},null,{"$f":"IF($E329=\"\",\"\",SUMIFS('Using CMS - Inop_OoC - CMS'!$H$24:$H$5400,'Using CMS - Inop_OoC - CMS'!$B$24:$B$5400,B329,'Using CMS - Inop_OoC - CMS'!$C$24:$C$5400,C329,'Using CMS - Inop_OoC - CMS'!$D$24:$D$5400,D329))","v":""},""]
[null,{"$f":"IF(Lists!AT308=\"\",\"\",Lists!AT308)","v":""},{"$f":"IF(Lists!AU308=\"\",\"\",Lists!AU308)","v":""},{"$f":"IF(Lists!AV308=\"\",\"\",Lists!AV308)","v":""},null,{"$f":"IF($E330=\"\",\"\",SUMIFS('Using CMS - Inop_OoC - CMS'!$H$24:$H$5400,'Using CMS - Inop_OoC - CMS'!$B$24:$B$5400,B330,'Using CMS - Inop_OoC - CMS'!$C$24:$C$5400,C330,'Using CMS - Inop_OoC - CMS'!$D$24:$D$5400,D330))","v":""},""]
[null,{"$f":"IF(Lists!AT309=\"\",\"\",Lists!AT309)","v":""},{"$f":"IF(Lists!AU309=\"\",\"\",Lists!AU309)","v":""},{"$f":"IF(Lists!AV309=\"\",\"\",Lists!AV309)","v":""},null,{"$f":"IF($E331=\"\",\"\",SUMIFS('Using CMS - Inop_OoC - CMS'!$H$24:$H$5400,'Using CMS - Inop_OoC - CMS'!$B$24:$B$5400,B331,'Using CMS - Inop_OoC - CMS'!$C$24:$C$5400,C331,'Using CMS - Inop_OoC - CMS'!$D$24:$D$5400,D331))","v":""},""]
[null,{"$f":"IF(Lists!AT310=\"\",\"\",Lists!AT310)","v":""},{"$f":"IF(Lists!AU310=\"\",\"\",Lists!AU310)","v":""},{"$f":"IF(Lists!AV310=\"\",\"\",Lists!AV310)","v":""},null,{"$f":"IF($E332=\"\",\"\",SUMIFS('Using CMS - Inop_OoC - CMS'!$H$24:$H$5400,'Using CMS - Inop_OoC - CMS'!$B$24:$B$5400,B332,'Using CMS - Inop_OoC - CMS'!$C$24:$C$5400,C332,'Using CMS - Inop_OoC - CMS'!$D$24:$D$5400,D332))","v":""},""]
[null,{"$f":"IF(Lists!AT311=\"\",\"\",Lists!AT311)","v":""},{"$f":"IF(Lists!AU311=\"\",\"\",Lists!AU311)","v":""},{"$f":"IF(Lists!AV311=\"\",\"\",Lists!AV311)","v":""},null,{"$f":"IF($E333=\"\",\"\",SUMIFS('Using CMS - Inop_OoC - CMS'!$H$24:$H$5400,'Using CMS - Inop_OoC - CMS'!$B$24:$B$5400,B333,'Using CMS - Inop_OoC - CMS'!$C$24:$C$5400,C333,'Using CMS - Inop_OoC - CMS'!$D$24:$D$5400,D333))","v":""},""]
[null,{"$f":"IF(Lists!AT312=\"\",\"\",Lists!AT312)","v":""},{"$f":"IF(Lists!AU312=\"\",\"\",Lists!AU312)","v":""},{"$f":"IF(Lists!AV312=\"\",\"\",Lists!AV312)","v":""},null,{"$f":"IF($E334=\"\",\"\",SUMIFS('Using CMS - Inop_OoC - CMS'!$H$24:$H$5400,'Using CMS - Inop_OoC - CMS'!$B$24:$B$5400,B334,'Using CMS - Inop_OoC - CMS'!$C$24:$C$5400,C334,'Using CMS - Inop_OoC - CMS'!$D$24:$D$5400,D334))","v":""},""]
[null,{"$f":"IF(Lists!AT313=\"\",\"\",Lists!AT313)","v":""},{"$f":"IF(Lists!AU313=\"\",\"\",Lists!AU313)","v":""},{"$f":"IF(Lists!AV313=\"\",\"\",Lists!AV313)","v":""},null,{"$f":"IF($E335=\"\",\"\",SUMIFS('Using CMS - Inop_OoC - CMS'!$H$24:$H$5400,'Using CMS - Inop_OoC - CMS'!$B$24:$B$5400,B335,'Using CMS - Inop_OoC - CMS'!$C$24:$C$5400,C335,'Using CMS - Inop_OoC - CMS'!$D$24:$D$5400,D335))","v":""},""]
[null,{"$f":"IF(Lists!AT314=\"\",\"\",Lists!AT314)","v":""},{"$f":"IF(Lists!AU314=\"\",\"\",Lists!AU314)","v":""},{"$f":"IF(Lists!AV314=\"\",\"\",Lists!AV314)","v":""},null,{"$f":"IF($E336=\"\",\"\",SUMIFS('Using CMS - Inop_OoC - CMS'!$H$24:$H$5400,'Using CMS - Inop_OoC - CMS'!$B$24:$B$5400,B336,'Using CMS - Inop_OoC - CMS'!$C$24:$C$5400,C336,'Using CMS - Inop_OoC - CMS'!$D$24:$D$5400,D336))","v":""},""]
[null,{"$f":"IF(Lists!AT315=\"\",\"\",Lists!AT315)","v":""},{"$f":"IF(Lists!AU315=\"\",\"\",Lists!AU315)","v":""},{"$f":"IF(Lists!AV315=\"\",\"\",Lists!AV315)","v":""},null,{"$f":"IF($E337=\"\",\"\",SUMIFS('Using CMS - Inop_OoC - CMS'!$H$24:$H$5400,'Using CMS - Inop_OoC - CMS'!$B$24:$B$5400,B337,'Using CMS - Inop_OoC - CMS'!$C$24:$C$5400,C337,'Using CMS - Inop_OoC - CMS'!$D$24:$D$5400,D337))","v":""},""]
[null,{"$f":"IF(Lists!AT316=\"\",\"\",Lists!AT316)","v":""},{"$f":"IF(Lists!AU316=\"\",\"\",Lists!AU316)","v":""},{"$f":"IF(Lists!AV316=\"\",\"\",Lists!AV316)","v":""},null,{"$f":"IF($E338=\"\",\"\",SUMIFS('Using CMS - Inop_OoC - CMS'!$H$24:$H$5400,'Using CMS - Inop_OoC - CMS'!$B$24:$B$5400,B338,'Using CMS - Inop_OoC - CMS'!$C$24:$C$5400,C338,'Using CMS - Inop_OoC - CMS'!$D$24:$D$5400,D338))","v":""},""]
[null,{"$f":"IF(Lists!AT317=\"\",\"\",Lists!AT317)","v":""},{"$f":"IF(Lists!AU317=\"\",\"\",Lists!AU317)","v":""},{"$f":"IF(Lists!AV317=\"\",\"\",Lists!AV317)","v":""},null,{"$f":"IF($E339=\"\",\"\",SUMIFS('Using CMS - Inop_OoC - CMS'!$H$24:$H$5400,'Using CMS - Inop_OoC - CMS'!$B$24:$B$5400,B339,'Using CMS - Inop_OoC - CMS'!$C$24:$C$5400,C339,'Using CMS - Inop_OoC - CMS'!$D$24:$D$5400,D339))","v":""},""]
[null,{"$f":"IF(Lists!AT318=\"\",\"\",Lists!AT318)","v":""},{"$f":"IF(Lists!AU318=\"\",\"\",Lists!AU318)","v":""},{"$f":"IF(Lists!AV318=\"\",\"\",Lists!AV318)","v":""},null,{"$f":"IF($E340=\"\",\"\",SUMIFS('Using CMS - Inop_OoC - CMS'!$H$24:$H$5400,'Using CMS - Inop_OoC - CMS'!$B$24:$B$5400,B340,'Using CMS - Inop_OoC - CMS'!$C$24:$C$5400,C340,'Using CMS - Inop_OoC - CMS'!$D$24:$D$5400,D340))","v":""},""]
[null,{"$f":"IF(Lists!AT319=\"\",\"\",Lists!AT319)","v":""},{"$f":"IF(Lists!AU319=\"\",\"\",Lists!AU319)","v":""},{"$f":"IF(Lists!AV319=\"\",\"\",Lists!AV319)","v":""},null,{"$f":"IF($E341=\"\",\"\",SUMIFS('Using CMS - Inop_OoC - CMS'!$H$24:$H$5400,'Using CMS - Inop_OoC - CMS'!$B$24:$B$5400,B341,'Using CMS - Inop_OoC - CMS'!$C$24:$C$5400,C341,'Using CMS - Inop_OoC - CMS'!$D$24:$D$5400,D341))","v":""},""]
[null,{"$f":"IF(Lists!AT320=\"\",\"\",Lists!AT320)","v":""},{"$f":"IF(Lists!AU320=\"\",\"\",Lists!AU320)","v":""},{"$f":"IF(Lists!AV320=\"\",\"\",Lists!AV320)","v":""},null,{"$f":"IF($E342=\"\",\"\",SUMIFS('Using CMS - Inop_OoC - CMS'!$H$24:$H$5400,'Using CMS - Inop_OoC - CMS'!$B$24:$B$5400,B342,'Using CMS - Inop_OoC - CMS'!$C$24:$C$5400,C342,'Using CMS - Inop_OoC - CMS'!$D$24:$D$5400,D342))","v":""},""]
[null,{"$f":"IF(Lists!AT321=\"\",\"\",Lists!AT321)","v":""},{"$f":"IF(Lists!AU321=\"\",\"\",Lists!AU321)","v":""},{"$f":"IF(Lists!AV321=\"\",\"\",Lists!AV321)","v":""},null,{"$f":"IF($E343=\"\",\"\",SUMIFS('Using CMS - Inop_OoC - CMS'!$H$24:$H$5400,'Using CMS - Inop_OoC - CMS'!$B$24:$B$5400,B343,'Using CMS - Inop_OoC - CMS'!$C$24:$C$5400,C343,'Using CMS - Inop_OoC - CMS'!$D$24:$D$5400,D343))","v":""},""]
[null,{"$f":"IF(Lists!AT322=\"\",\"\",Lists!AT322)","v":""},{"$f":"IF(Lists!AU322=\"\",\"\",Lists!AU322)","v":""},{"$f":"IF(Lists!AV322=\"\",\"\",Lists!AV322)","v":""},null,{"$f":"IF($E344=\"\",\"\",SUMIFS('Using CMS - Inop_OoC - CMS'!$H$24:$H$5400,'Using CMS - Inop_OoC - CMS'!$B$24:$B$5400,B344,'Using CMS - Inop_OoC - CMS'!$C$24:$C$5400,C344,'Using CMS - Inop_OoC - CMS'!$D$24:$D$5400,D344))","v":""},{"$f":"IF($E344=\"\",\"\",IF(F344=0,\"N/A\",F344/$E344))","v":""}]
[null,{"$f":"IF(Lists!AT323=\"\",\"\",Lists!AT323)","v":""},{"$f":"IF(Lists!AU323=\"\",\"\",Lists!AU323)","v":""},{"$f":"IF(Lists!AV323=\"\",\"\",Lists!AV323)","v":""},null,{"$f":"IF($E345=\"\",\"\",SUMIFS('Using CMS - Inop_OoC - CMS'!$H$24:$H$5400,'Using CMS - Inop_OoC - CMS'!$B$24:$B$5400,B345,'Using CMS - Inop_OoC - CMS'!$C$24:$C$5400,C345,'Using CMS - Inop_OoC - CMS'!$D$24:$D$5400,D345))","v":""},""]
[null,{"$f":"IF(Lists!AT324=\"\",\"\",Lists!AT324)","v":""},{"$f":"IF(Lists!AU324=\"\",\"\",Lists!AU324)","v":""},{"$f":"IF(Lists!AV324=\"\",\"\",Lists!AV324)","v":""},null,{"$f":"IF($E346=\"\",\"\",SUMIFS('Using CMS - Inop_OoC - CMS'!$H$24:$H$5400,'Using CMS - Inop_OoC - CMS'!$B$24:$B$5400,B346,'Using CMS - Inop_OoC - CMS'!$C$24:$C$5400,C346,'Using CMS - Inop_OoC - CMS'!$D$24:$D$5400,D346))","v":""},""]
[null,{"$f":"IF(Lists!AT325=\"\",\"\",Lists!AT325)","v":""},{"$f":"IF(Lists!AU325=\"\",\"\",Lists!AU325)","v":""},{"$f":"IF(Lists!AV325=\"\",\"\",Lists!AV325)","v":""},null,{"$f":"IF($E347=\"\",\"\",SUMIFS('Using CMS - Inop_OoC - CMS'!$H$24:$H$5400,'Using CMS - Inop_OoC - CMS'!$B$24:$B$5400,B347,'Using CMS - Inop_OoC - CMS'!$C$24:$C$5400,C347,'Using CMS - Inop_OoC - CMS'!$D$24:$D$5400,D347))","v":""},""]
[null,{"$f":"IF(Lists!AT326=\"\",\"\",Lists!AT326)","v":""},{"$f":"IF(Lists!AU326=\"\",\"\",Lists!AU326)","v":""},{"$f":"IF(Lists!AV326=\"\",\"\",Lists!AV326)","v":""},null,{"$f":"IF($E348=\"\",\"\",SUMIFS('Using CMS - Inop_OoC - CMS'!$H$24:$H$5400,'Using CMS - Inop_OoC - CMS'!$B$24:$B$5400,B348,'Using CMS - Inop_OoC - CMS'!$C$24:$C$5400,C348,'Using CMS - Inop_OoC - CMS'!$D$24:$D$5400,D348))","v":""},""]
[null,{"$f":"IF(Lists!AT327=\"\",\"\",Lists!AT327)","v":""},{"$f":"IF(Lists!AU327=\"\",\"\",Lists!AU327)","v":""},{"$f":"IF(Lists!AV327=\"\",\"\",Lists!AV327)","v":""},null,{"$f":"IF($E349=\"\",\"\",SUMIFS('Using CMS - Inop_OoC - CMS'!$H$24:$H$5400,'Using CMS - Inop_OoC - CMS'!$B$24:$B$5400,B349,'Using CMS - Inop_OoC - CMS'!$C$24:$C$5400,C349,'Using CMS - Inop_OoC - CMS'!$D$24:$D$5400,D349))","v":""},""]
[null,{"$f":"IF(Lists!AT328=\"\",\"\",Lists!AT328)","v":""},{"$f":"IF(Lists!AU328=\"\",\"\",Lists!AU328)","v":""},{"$f":"IF(Lists!AV328=\"\",\"\",Lists!AV328)","v":""},null,{"$f":"IF($E350=\"\",\"\",SUMIFS('Using CMS - Inop_OoC - CMS'!$H$24:$H$5400,'Using CMS - Inop_OoC - CMS'!$B$24:$B$5400,B350,'Using CMS - Inop_OoC - CMS'!$C$24:$C$5400,C350,'Using CMS - Inop_OoC - CMS'!$D$24:$D$5400,D350))","v":""},""]
[null,{"$f":"IF(Lists!AT329=\"\",\"\",Lists!AT329)","v":""},{"$f":"IF(Lists!AU329=\"\",\"\",Lists!AU329)","v":""},{"$f":"IF(Lists!AV329=\"\",\"\",Lists!AV329)","v":""},null,{"$f":"IF($E351=\"\",\"\",SUMIFS('Using CMS - Inop_OoC - CMS'!$H$24:$H$5400,'Using CMS - Inop_OoC - CMS'!$B$24:$B$5400,B351,'Using CMS - Inop_OoC - CMS'!$C$24:$C$5400,C351,'Using CMS - Inop_OoC - CMS'!$D$24:$D$5400,D351))","v":""},""]
[null,{"$f":"IF(Lists!AT330=\"\",\"\",Lists!AT330)","v":""},{"$f":"IF(Lists!AU330=\"\",\"\",Lists!AU330)","v":""},{"$f":"IF(Lists!AV330=\"\",\"\",Lists!AV330)","v":""},null,{"$f":"IF($E352=\"\",\"\",SUMIFS('Using CMS - Inop_OoC - CMS'!$H$24:$H$5400,'Using CMS - Inop_OoC - CMS'!$B$24:$B$5400,B352,'Using CMS - Inop_OoC - CMS'!$C$24:$C$5400,C352,'Using CMS - Inop_OoC - CMS'!$D$24:$D$5400,D352))","v":""},""]
[null,{"$f":"IF(Lists!AT331=\"\",\"\",Lists!AT331)","v":""},{"$f":"IF(Lists!AU331=\"\",\"\",Lists!AU331)","v":""},{"$f":"IF(Lists!AV331=\"\",\"\",Lists!AV331)","v":""},null,{"$f":"IF($E353=\"\",\"\",SUMIFS('Using CMS - Inop_OoC - CMS'!$H$24:$H$5400,'Using CMS - Inop_OoC - CMS'!$B$24:$B$5400,B353,'Using CMS - Inop_OoC - CMS'!$C$24:$C$5400,C353,'Using CMS - Inop_OoC - CMS'!$D$24:$D$5400,D353))","v":""},""]
[null,{"$f":"IF(Lists!AT332=\"\",\"\",Lists!AT332)","v":""},{"$f":"IF(Lists!AU332=\"\",\"\",Lists!AU332)","v":""},{"$f":"IF(Lists!AV332=\"\",\"\",Lists!AV332)","v":""},null,{"$f":"IF($E354=\"\",\"\",SUMIFS('Using CMS - Inop_OoC - CMS'!$H$24:$H$5400,'Using CMS - Inop_OoC - CMS'!$B$24:$B$5400,B354,'Using CMS - Inop_OoC - CMS'!$C$24:$C$5400,C354,'Using CMS - Inop_OoC - CMS'!$D$24:$D$5400,D354))","v":""},""]
[null,{"$f":"IF(Lists!AT333=\"\",\"\",Lists!AT333)","v":""},{"$f":"IF(Lists!AU333=\"\",\"\",Lists!AU333)","v":""},{"$f":"IF(Lists!AV333=\"\",\"\",Lists!AV333)","v":""},null,{"$f":"IF($E355=\"\",\"\",SUMIFS('Using CMS - Inop_OoC - CMS'!$H$24:$H$5400,'Using CMS - Inop_OoC - CMS'!$B$24:$B$5400,B355,'Using CMS - Inop_OoC - CMS'!$C$24:$C$5400,C355,'Using CMS - Inop_OoC - CMS'!$D$24:$D$5400,D355))","v":""},""]
[null,{"$f":"IF(Lists!AT334=\"\",\"\",Lists!AT334)","v":""},{"$f":"IF(Lists!AU334=\"\",\"\",Lists!AU334)","v":""},{"$f":"IF(Lists!AV334=\"\",\"\",Lists!AV334)","v":""},null,{"$f":"IF($E356=\"\",\"\",SUMIFS('Using CMS - Inop_OoC - CMS'!$H$24:$H$5400,'Using CMS - Inop_OoC - CMS'!$B$24:$B$5400,B356,'Using CMS - Inop_OoC - CMS'!$C$24:$C$5400,C356,'Using CMS - Inop_OoC - CMS'!$D$24:$D$5400,D356))","v":""},""]
[null,{"$f":"IF(Lists!AT335=\"\",\"\",Lists!AT335)","v":""},{"$f":"IF(Lists!AU335=\"\",\"\",Lists!AU335)","v":""},{"$f":"IF(Lists!AV335=\"\",\"\",Lists!AV335)","v":""},null,{"$f":"IF($E357=\"\",\"\",SUMIFS('Using CMS - Inop_OoC - CMS'!$H$24:$H$5400,'Using CMS - Inop_OoC - CMS'!$B$24:$B$5400,B357,'Using CMS - Inop_OoC - CMS'!$C$24:$C$5400,C357,'Using CMS - Inop_OoC - CMS'!$D$24:$D$5400,D357))","v":""},""]
[null,{"$f":"IF(Lists!AT336=\"\",\"\",Lists!AT336)","v":""},{"$f":"IF(Lists!AU336=\"\",\"\",Lists!AU336)","v":""},{"$f":"IF(Lists!AV336=\"\",\"\",Lists!AV336)","v":""},null,{"$f":"IF($E358=\"\",\"\",SUMIFS('Using CMS - Inop_OoC - CMS'!$H$24:$H$5400,'Using CMS - Inop_OoC - CMS'!$B$24:$B$5400,B358,'Using CMS - Inop_OoC - CMS'!$C$24:$C$5400,C358,'Using CMS - Inop_OoC - CMS'!$D$24:$D$5400,D358))","v":""},""]
[null,{"$f":"IF(Lists!AT337=\"\",\"\",Lists!AT337)","v":""},{"$f":"IF(Lists!AU337=\"\",\"\",Lists!AU337)","v":""},{"$f":"IF(Lists!AV337=\"\",\"\",Lists!AV337)","v":""},null,{"$f":"IF($E359=\"\",\"\",SUMIFS('Using CMS - Inop_OoC - CMS'!$H$24:$H$5400,'Using CMS - Inop_OoC - CMS'!$B$24:$B$5400,B359,'Using CMS - Inop_OoC - CMS'!$C$24:$C$5400,C359,'Using CMS - Inop_OoC - CMS'!$D$24:$D$5400,D359))","v":""},""]
[null,{"$f":"IF(Lists!AT338=\"\",\"\",Lists!AT338)","v":""},{"$f":"IF(Lists!AU338=\"\",\"\",Lists!AU338)","v":""},{"$f":"IF(Lists!AV338=\"\",\"\",Lists!AV338)","v":""},null,{"$f":"IF($E360=\"\",\"\",SUMIFS('Using CMS - Inop_OoC - CMS'!$H$24:$H$5400,'Using CMS - Inop_OoC - CMS'!$B$24:$B$5400,B360,'Using CMS - Inop_OoC - CMS'!$C$24:$C$5400,C360,'Using CMS - Inop_OoC - CMS'!$D$24:$D$5400,D360))","v":""},""]
[null,{"$f":"IF(Lists!AT339=\"\",\"\",Lists!AT339)","v":""},{"$f":"IF(Lists!AU339=\"\",\"\",Lists!AU339)","v":""},{"$f":"IF(Lists!AV339=\"\",\"\",Lists!AV339)","v":""},null,{"$f":"IF($E361=\"\",\"\",SUMIFS('Using CMS - Inop_OoC - CMS'!$H$24:$H$5400,'Using CMS - Inop_OoC - CMS'!$B$24:$B$5400,B361,'Using CMS - Inop_OoC - CMS'!$C$24:$C$5400,C361,'Using CMS - Inop_OoC - CMS'!$D$24:$D$5400,D361))","v":""},""]
[null,{"$f":"IF(Lists!AT340=\"\",\"\",Lists!AT340)","v":""},{"$f":"IF(Lists!AU340=\"\",\"\",Lists!AU340)","v":""},{"$f":"IF(Lists!AV340=\"\",\"\",Lists!AV340)","v":""},null,{"$f":"IF($E362=\"\",\"\",SUMIFS('Using CMS - Inop_OoC - CMS'!$H$24:$H$5400,'Using CMS - Inop_OoC - CMS'!$B$24:$B$5400,B362,'Using CMS - Inop_OoC - CMS'!$C$24:$C$5400,C362,'Using CMS - Inop_OoC - CMS'!$D$24:$D$5400,D362))","v":""},""]
[null,{"$f":"IF(Lists!AT341=\"\",\"\",Lists!AT341)","v":""},{"$f":"IF(Lists!AU341=\"\",\"\",Lists!AU341)","v":""},{"$f":"IF(Lists!AV341=\"\",\"\",Lists!AV341)","v":""},null,{"$f":"IF($E363=\"\",\"\",SUMIFS('Using CMS - Inop_OoC - CMS'!$H$24:$H$5400,'Using CMS - Inop_OoC - CMS'!$B$24:$B$5400,B363,'Using CMS - Inop_OoC - CMS'!$C$24:$C$5400,C363,'Using CMS - Inop_OoC - CMS'!$D$24:$D$5400,D363))","v":""},""]
[null,{"$f":"IF(Lists!AT342=\"\",\"\",Lists!AT342)","v":""},{"$f":"IF(Lists!AU342=\"\",\"\",Lists!AU342)","v":""},{"$f":"IF(Lists!AV342=\"\",\"\",Lists!AV342)","v":""},null,{"$f":"IF($E364=\"\",\"\",SUMIFS('Using CMS - Inop_OoC - CMS'!$H$24:$H$5400,'Using CMS - Inop_OoC - CMS'!$B$24:$B$5400,B364,'Using CMS - Inop_OoC - CMS'!$C$24:$C$5400,C364,'Using CMS - Inop_OoC - CMS'!$D$24:$D$5400,D364))","v":""},""]
[null,{"$f":"IF(Lists!AT343=\"\",\"\",Lists!AT343)","v":""},{"$f":"IF(Lists!AU343=\"\",\"\",Lists!AU343)","v":""},{"$f":"IF(Lists!AV343=\"\",\"\",Lists!AV343)","v":""},null,{"$f":"IF($E365=\"\",\"\",SUMIFS('Using CMS - Inop_OoC - CMS'!$H$24:$H$5400,'Using CMS - Inop_OoC - CMS'!$B$24:$B$5400,B365,'Using CMS - Inop_OoC - CMS'!$C$24:$C$5400,C365,'Using CMS - Inop_OoC - CMS'!$D$24:$D$5400,D365))","v":""},""]
[null,{"$f":"IF(Lists!AT344=\"\",\"\",Lists!AT344)","v":""},{"$f":"IF(Lists!AU344=\"\",\"\",Lists!AU344)","v":""},{"$f":"IF(Lists!AV344=\"\",\"\",Lists!AV344)","v":""},null,{"$f":"IF($E366=\"\",\"\",SUMIFS('Using CMS - Inop_OoC - CMS'!$H$24:$H$5400,'Using CMS - Inop_OoC - CMS'!$B$24:$B$5400,B366,'Using CMS - Inop_OoC - CMS'!$C$24:$C$5400,C366,'Using CMS - Inop_OoC - CMS'!$D$24:$D$5400,D366))","v":""},""]
[null,{"$f":"IF(Lists!AT345=\"\",\"\",Lists!AT345)","v":""},{"$f":"IF(Lists!AU345=\"\",\"\",Lists!AU345)","v":""},{"$f":"IF(Lists!AV345=\"\",\"\",Lists!AV345)","v":""},null,{"$f":"IF($E367=\"\",\"\",SUMIFS('Using CMS - Inop_OoC - CMS'!$H$24:$H$5400,'Using CMS - Inop_OoC - CMS'!$B$24:$B$5400,B367,'Using CMS - Inop_OoC - CMS'!$C$24:$C$5400,C367,'Using CMS - Inop_OoC - CMS'!$D$24:$D$5400,D367))","v":""},""]
[null,{"$f":"IF(Lists!AT346=\"\",\"\",Lists!AT346)","v":""},{"$f":"IF(Lists!AU346=\"\",\"\",Lists!AU346)","v":""},{"$f":"IF(Lists!AV346=\"\",\"\",Lists!AV346)","v":""},null,{"$f":"IF($E368=\"\",\"\",SUMIFS('Using CMS - Inop_OoC - CMS'!$H$24:$H$5400,'Using CMS - Inop_OoC - CMS'!$B$24:$B$5400,B368,'Using CMS - Inop_OoC - CMS'!$C$24:$C$5400,C368,'Using CMS - Inop_OoC - CMS'!$D$24:$D$5400,D368))","v":""},""]
[null,{"$f":"IF(Lists!AT347=\"\",\"\",Lists!AT347)","v":""},{"$f":"IF(Lists!AU347=\"\",\"\",Lists!AU347)","v":""},{"$f":"IF(Lists!AV347=\"\",\"\",Lists!AV347)","v":""},null,{"$f":"IF($E369=\"\",\"\",SUMIFS('Using CMS - Inop_OoC - CMS'!$H$24:$H$5400,'Using CMS - Inop_OoC - CMS'!$B$24:$B$5400,B369,'Using CMS - Inop_OoC - CMS'!$C$24:$C$5400,C369,'Using CMS - Inop_OoC - CMS'!$D$24:$D$5400,D369))","v":""},""]
[null,{"$f":"IF(Lists!AT348=\"\",\"\",Lists!AT348)","v":""},{"$f":"IF(Lists!AU348=\"\",\"\",Lists!AU348)","v":""},{"$f":"IF(Lists!AV348=\"\",\"\",Lists!AV348)","v":""},null,{"$f":"IF($E370=\"\",\"\",SUMIFS('Using CMS - Inop_OoC - CMS'!$H$24:$H$5400,'Using CMS - Inop_OoC - CMS'!$B$24:$B$5400,B370,'Using CMS - Inop_OoC - CMS'!$C$24:$C$5400,C370,'Using CMS - Inop_OoC - CMS'!$D$24:$D$5400,D370))","v":""},""]
[null,{"$f":"IF(Lists!AT349=\"\",\"\",Lists!AT349)","v":""},{"$f":"IF(Lists!AU349=\"\",\"\",Lists!AU349)","v":""},{"$f":"IF(Lists!AV349=\"\",\"\",Lists!AV349)","v":""},null,{"$f":"IF($E371=\"\",\"\",SUMIFS('Using CMS - Inop_OoC - CMS'!$H$24:$H$5400,'Using CMS - Inop_OoC - CMS'!$B$24:$B$5400,B371,'Using CMS - Inop_OoC - CMS'!$C$24:$C$5400,C371,'Using CMS - Inop_OoC - CMS'!$D$24:$D$5400,D371))","v":""},""]
[null,{"$f":"IF(Lists!AT350=\"\",\"\",Lists!AT350)","v":""},{"$f":"IF(Lists!AU350=\"\",\"\",Lists!AU350)","v":""},{"$f":"IF(Lists!AV350=\"\",\"\",Lists!AV350)","v":""},null,{"$f":"IF($E372=\"\",\"\",SUMIFS('Using CMS - Inop_OoC - CMS'!$H$24:$H$5400,'Using CMS - Inop_OoC - CMS'!$B$24:$B$5400,B372,'Using CMS - Inop_OoC - CMS'!$C$24:$C$5400,C372,'Using CMS - Inop_OoC - CMS'!$D$24:$D$5400,D372))","v":""},""]
[null,{"$f":"IF(Lists!AT351=\"\",\"\",Lists!AT351)","v":""},{"$f":"IF(Lists!AU351=\"\",\"\",Lists!AU351)","v":""},{"$f":"IF(Lists!AV351=\"\",\"\",Lists!AV351)","v":""},null,{"$f":"IF($E373=\"\",\"\",SUMIFS('Using CMS - Inop_OoC - CMS'!$H$24:$H$5400,'Using CMS - Inop_OoC - CMS'!$B$24:$B$5400,B373,'Using CMS - Inop_OoC - CMS'!$C$24:$C$5400,C373,'Using CMS - Inop_OoC - CMS'!$D$24:$D$5400,D373))","v":""},""]
[null,{"$f":"IF(Lists!AT352=\"\",\"\",Lists!AT352)","v":""},{"$f":"IF(Lists!AU352=\"\",\"\",Lists!AU352)","v":""},{"$f":"IF(Lists!AV352=\"\",\"\",Lists!AV352)","v":""},null,{"$f":"IF($E374=\"\",\"\",SUMIFS('Using CMS - Inop_OoC - CMS'!$H$24:$H$5400,'Using CMS - Inop_OoC - CMS'!$B$24:$B$5400,B374,'Using CMS - Inop_OoC - CMS'!$C$24:$C$5400,C374,'Using CMS - Inop_OoC - CMS'!$D$24:$D$5400,D374))","v":""},""]
[null,{"$f":"IF(Lists!AT353=\"\",\"\",Lists!AT353)","v":""},{"$f":"IF(Lists!AU353=\"\",\"\",Lists!AU353)","v":""},{"$f":"IF(Lists!AV353=\"\",\"\",Lists!AV353)","v":""},null,{"$f":"IF($E375=\"\",\"\",SUMIFS('Using CMS - Inop_OoC - CMS'!$H$24:$H$5400,'Using CMS - Inop_OoC - CMS'!$B$24:$B$5400,B375,'Using CMS - Inop_OoC - CMS'!$C$24:$C$5400,C375,'Using CMS - Inop_OoC - CMS'!$D$24:$D$5400,D375))","v":""},""]
[null,{"$f":"IF(Lists!AT354=\"\",\"\",Lists!AT354)","v":""},{"$f":"IF(Lists!AU354=\"\",\"\",Lists!AU354)","v":""},{"$f":"IF(Lists!AV354=\"\",\"\",Lists!AV354)","v":""},null,{"$f":"IF($E376=\"\",\"\",SUMIFS('Using CMS - Inop_OoC - CMS'!$H$24:$H$5400,'Using CMS - Inop_OoC - CMS'!$B$24:$B$5400,B376,'Using CMS - Inop_OoC - CMS'!$C$24:$C$5400,C376,'Using CMS - Inop_OoC - CMS'!$D$24:$D$5400,D376))","v":""},""]
[null,{"$f":"IF(Lists!AT355=\"\",\"\",Lists!AT355)","v":""},{"$f":"IF(Lists!AU355=\"\",\"\",Lists!AU355)","v":""},{"$f":"IF(Lists!AV355=\"\",\"\",Lists!AV355)","v":""},null,{"$f":"IF($E377=\"\",\"\",SUMIFS('Using CMS - Inop_OoC - CMS'!$H$24:$H$5400,'Using CMS - Inop_OoC - CMS'!$B$24:$B$5400,B377,'Using CMS - Inop_OoC - CMS'!$C$24:$C$5400,C377,'Using CMS - Inop_OoC - CMS'!$D$24:$D$5400,D377))","v":""},""]
[null,{"$f":"IF(Lists!AT356=\"\",\"\",Lists!AT356)","v":""},{"$f":"IF(Lists!AU356=\"\",\"\",Lists!AU356)","v":""},{"$f":"IF(Lists!AV356=\"\",\"\",Lists!AV356)","v":""},null,{"$f":"IF($E378=\"\",\"\",SUMIFS('Using CMS - Inop_OoC - CMS'!$H$24:$H$5400,'Using CMS - Inop_OoC - CMS'!$B$24:$B$5400,B378,'Using CMS - Inop_OoC - CMS'!$C$24:$C$5400,C378,'Using CMS - Inop_OoC - CMS'!$D$24:$D$5400,D378))","v":""},""]
[null,{"$f":"IF(Lists!AT357=\"\",\"\",Lists!AT357)","v":""},{"$f":"IF(Lists!AU357=\"\",\"\",Lists!AU357)","v":""},{"$f":"IF(Lists!AV357=\"\",\"\",Lists!AV357)","v":""},null,{"$f":"IF($E379=\"\",\"\",SUMIFS('Using CMS - Inop_OoC - CMS'!$H$24:$H$5400,'Using CMS - Inop_OoC - CMS'!$B$24:$B$5400,B379,'Using CMS - Inop_OoC - CMS'!$C$24:$C$5400,C379,'Using CMS - Inop_OoC - CMS'!$D$24:$D$5400,D379))","v":""},""]
[null,{"$f":"IF(Lists!AT358=\"\",\"\",Lists!AT358)","v":""},{"$f":"IF(Lists!AU358=\"\",\"\",Lists!AU358)","v":""},{"$f":"IF(Lists!AV358=\"\",\"\",Lists!AV358)","v":""},null,{"$f":"IF($E380=\"\",\"\",SUMIFS('Using CMS - Inop_OoC - CMS'!$H$24:$H$5400,'Using CMS - Inop_OoC - CMS'!$B$24:$B$5400,B380,'Using CMS - Inop_OoC - CMS'!$C$24:$C$5400,C380,'Using CMS - Inop_OoC - CMS'!$D$24:$D$5400,D380))","v":""},""]
[null,{"$f":"IF(Lists!AT359=\"\",\"\",Lists!AT359)","v":""},{"$f":"IF(Lists!AU359=\"\",\"\",Lists!AU359)","v":""},{"$f":"IF(Lists!AV359=\"\",\"\",Lists!AV359)","v":""},null,{"$f":"IF($E381=\"\",\"\",SUMIFS('Using CMS - Inop_OoC - CMS'!$H$24:$H$5400,'Using CMS - Inop_OoC - CMS'!$B$24:$B$5400,B381,'Using CMS - Inop_OoC - CMS'!$C$24:$C$5400,C381,'Using CMS - Inop_OoC - CMS'!$D$24:$D$5400,D381))","v":""},""]
[null,{"$f":"IF(Lists!AT360=\"\",\"\",Lists!AT360)","v":""},{"$f":"IF(Lists!AU360=\"\",\"\",Lists!AU360)","v":""},{"$f":"IF(Lists!AV360=\"\",\"\",Lists!AV360)","v":""},null,{"$f":"IF($E382=\"\",\"\",SUMIFS('Using CMS - Inop_OoC - CMS'!$H$24:$H$5400,'Using CMS - Inop_OoC - CMS'!$B$24:$B$5400,B382,'Using CMS - Inop_OoC - CMS'!$C$24:$C$5400,C382,'Using CMS - Inop_OoC - CMS'!$D$24:$D$5400,D382))","v":""},""]
[null,{"$f":"IF(Lists!AT361=\"\",\"\",Lists!AT361)","v":""},{"$f":"IF(Lists!AU361=\"\",\"\",Lists!AU361)","v":""},{"$f":"IF(Lists!AV361=\"\",\"\",Lists!AV361)","v":""},null,{"$f":"IF($E383=\"\",\"\",SUMIFS('Using CMS - Inop_OoC - CMS'!$H$24:$H$5400,'Using CMS - Inop_OoC - CMS'!$B$24:$B$5400,B383,'Using CMS - Inop_OoC - CMS'!$C$24:$C$5400,C383,'Using CMS - Inop_OoC - CMS'!$D$24:$D$5400,D383))","v":""},""]
[null,{"$f":"IF(Lists!AT362=\"\",\"\",Lists!AT362)","v":""},{"$f":"IF(Lists!AU362=\"\",\"\",Lists!AU362)","v":""},{"$f":"IF(Lists!AV362=\"\",\"\",Lists!AV362)","v":""},null,{"$f":"IF($E384=\"\",\"\",SUMIFS('Using CMS - Inop_OoC - CMS'!$H$24:$H$5400,'Using CMS - Inop_OoC - CMS'!$B$24:$B$5400,B384,'Using CMS - Inop_OoC - CMS'!$C$24:$C$5400,C384,'Using CMS - Inop_OoC - CMS'!$D$24:$D$5400,D384))","v":""},""]
[null,{"$f":"IF(Lists!AT363=\"\",\"\",Lists!AT363)","v":""},{"$f":"IF(Lists!AU363=\"\",\"\",Lists!AU363)","v":""},{"$f":"IF(Lists!AV363=\"\",\"\",Lists!AV363)","v":""},null,{"$f":"IF($E385=\"\",\"\",SUMIFS('Using CMS - Inop_OoC - CMS'!$H$24:$H$5400,'Using CMS - Inop_OoC - CMS'!$B$24:$B$5400,B385,'Using CMS - Inop_OoC - CMS'!$C$24:$C$5400,C385,'Using CMS - Inop_OoC - CMS'!$D$24:$D$5400,D385))","v":""},""]
[null,{"$f":"IF(Lists!AT364=\"\",\"\",Lists!AT364)","v":""},{"$f":"IF(Lists!AU364=\"\",\"\",Lists!AU364)","v":""},{"$f":"IF(Lists!AV364=\"\",\"\",Lists!AV364)","v":""},null,{"$f":"IF($E386=\"\",\"\",SUMIFS('Using CMS - Inop_OoC - CMS'!$H$24:$H$5400,'Using CMS - Inop_OoC - CMS'!$B$24:$B$5400,B386,'Using CMS - Inop_OoC - CMS'!$C$24:$C$5400,C386,'Using CMS - Inop_OoC - CMS'!$D$24:$D$5400,D386))","v":""},""]
[null,{"$f":"IF(Lists!AT365=\"\",\"\",Lists!AT365)","v":""},{"$f":"IF(Lists!AU365=\"\",\"\",Lists!AU365)","v":""},{"$f":"IF(Lists!AV365=\"\",\"\",Lists!AV365)","v":""},null,{"$f":"IF($E387=\"\",\"\",SUMIFS('Using CMS - Inop_OoC - CMS'!$H$24:$H$5400,'Using CMS - Inop_OoC - CMS'!$B$24:$B$5400,B387,'Using CMS - Inop_OoC - CMS'!$C$24:$C$5400,C387,'Using CMS - Inop_OoC - CMS'!$D$24:$D$5400,D387))","v":""},""]
[null,{"$f":"IF(Lists!AT366=\"\",\"\",Lists!AT366)","v":""},{"$f":"IF(Lists!AU366=\"\",\"\",Lists!AU366)","v":""},{"$f":"IF(Lists!AV366=\"\",\"\",Lists!AV366)","v":""},null,{"$f":"IF($E388=\"\",\"\",SUMIFS('Using CMS - Inop_OoC - CMS'!$H$24:$H$5400,'Using CMS - Inop_OoC - CMS'!$B$24:$B$5400,B388,'Using CMS - Inop_OoC - CMS'!$C$24:$C$5400,C388,'Using CMS - Inop_OoC - CMS'!$D$24:$D$5400,D388))","v":""},""]
[null,{"$f":"IF(Lists!AT367=\"\",\"\",Lists!AT367)","v":""},{"$f":"IF(Lists!AU367=\"\",\"\",Lists!AU367)","v":""},{"$f":"IF(Lists!AV367=\"\",\"\",Lists!AV367)","v":""},null,{"$f":"IF($E389=\"\",\"\",SUMIFS('Using CMS - Inop_OoC - CMS'!$H$24:$H$5400,'Using CMS - Inop_OoC - CMS'!$B$24:$B$5400,B389,'Using CMS - Inop_OoC - CMS'!$C$24:$C$5400,C389,'Using CMS - Inop_OoC - CMS'!$D$24:$D$5400,D389))","v":""},""]
[null,{"$f":"IF(Lists!AT368=\"\",\"\",Lists!AT368)","v":""},{"$f":"IF(Lists!AU368=\"\",\"\",Lists!AU368)","v":""},{"$f":"IF(Lists!AV368=\"\",\"\",Lists!AV368)","v":""},null,{"$f":"IF($E390=\"\",\"\",SUMIFS('Using CMS - Inop_OoC - CMS'!$H$24:$H$5400,'Using CMS - Inop_OoC - CMS'!$B$24:$B$5400,B390,'Using CMS - Inop_OoC - CMS'!$C$24:$C$5400,C390,'Using CMS - Inop_OoC - CMS'!$D$24:$D$5400,D390))","v":""},""]
[null,{"$f":"IF(Lists!AT369=\"\",\"\",Lists!AT369)","v":""},{"$f":"IF(Lists!AU369=\"\",\"\",Lists!AU369)","v":""},{"$f":"IF(Lists!AV369=\"\",\"\",Lists!AV369)","v":""},null,{"$f":"IF($E391=\"\",\"\",SUMIFS('Using CMS - Inop_OoC - CMS'!$H$24:$H$5400,'Using CMS - Inop_OoC - CMS'!$B$24:$B$5400,B391,'Using CMS - Inop_OoC - CMS'!$C$24:$C$5400,C391,'Using CMS - Inop_OoC - CMS'!$D$24:$D$5400,D391))","v":""},""]
[null,{"$f":"IF(Lists!AT370=\"\",\"\",Lists!AT370)","v":""},{"$f":"IF(Lists!AU370=\"\",\"\",Lists!AU370)","v":""},{"$f":"IF(Lists!AV370=\"\",\"\",Lists!AV370)","v":""},null,{"$f":"IF($E392=\"\",\"\",SUMIFS('Using CMS - Inop_OoC - CMS'!$H$24:$H$5400,'Using CMS - Inop_OoC - CMS'!$B$24:$B$5400,B392,'Using CMS - Inop_OoC - CMS'!$C$24:$C$5400,C392,'Using CMS - Inop_OoC - CMS'!$D$24:$D$5400,D392))","v":""},""]
[null,{"$f":"IF(Lists!AT371=\"\",\"\",Lists!AT371)","v":""},{"$f":"IF(Lists!AU371=\"\",\"\",Lists!AU371)","v":""},{"$f":"IF(Lists!AV371=\"\",\"\",Lists!AV371)","v":""},null,{"$f":"IF($E393=\"\",\"\",SUMIFS('Using CMS - Inop_OoC - CMS'!$H$24:$H$5400,'Using CMS - Inop_OoC - CMS'!$B$24:$B$5400,B393,'Using CMS - Inop_OoC - CMS'!$C$24:$C$5400,C393,'Using CMS - Inop_OoC - CMS'!$D$24:$D$5400,D393))","v":""},""]
[null,{"$f":"IF(Lists!AT372=\"\",\"\",Lists!AT372)","v":""},{"$f":"IF(Lists!AU372=\"\",\"\",Lists!AU372)","v":""},{"$f":"IF(Lists!AV372=\"\",\"\",Lists!AV372)","v":""},null,{"$f":"IF($E394=\"\",\"\",SUMIFS('Using CMS - Inop_OoC - CMS'!$H$24:$H$5400,'Using CMS - Inop_OoC - CMS'!$B$24:$B$5400,B394,'Using CMS - Inop_OoC - CMS'!$C$24:$C$5400,C394,'Using CMS - Inop_OoC - CMS'!$D$24:$D$5400,D394))","v":""},""]
[null,{"$f":"IF(Lists!AT373=\"\",\"\",Lists!AT373)","v":""},{"$f":"IF(Lists!AU373=\"\",\"\",Lists!AU373)","v":""},{"$f":"IF(Lists!AV373=\"\",\"\",Lists!AV373)","v":""},null,{"$f":"IF($E395=\"\",\"\",SUMIFS('Using CMS - Inop_OoC - CMS'!$H$24:$H$5400,'Using CMS - Inop_OoC - CMS'!$B$24:$B$5400,B395,'Using CMS - Inop_OoC - CMS'!$C$24:$C$5400,C395,'Using CMS - Inop_OoC - CMS'!$D$24:$D$5400,D395))","v":""},""]
[null,{"$f":"IF(Lists!AT374=\"\",\"\",Lists!AT374)","v":""},{"$f":"IF(Lists!AU374=\"\",\"\",Lists!AU374)","v":""},{"$f":"IF(Lists!AV374=\"\",\"\",Lists!AV374)","v":""},null,{"$f":"IF($E396=\"\",\"\",SUMIFS('Using CMS - Inop_OoC - CMS'!$H$24:$H$5400,'Using CMS - Inop_OoC - CMS'!$B$24:$B$5400,B396,'Using CMS - Inop_OoC - CMS'!$C$24:$C$5400,C396,'Using CMS - Inop_OoC - CMS'!$D$24:$D$5400,D396))","v":""},""]
[null,{"$f":"IF(Lists!AT375=\"\",\"\",Lists!AT375)","v":""},{"$f":"IF(Lists!AU375=\"\",\"\",Lists!AU375)","v":""},{"$f":"IF(Lists!AV375=\"\",\"\",Lists!AV375)","v":""},null,{"$f":"IF($E397=\"\",\"\",SUMIFS('Using CMS - Inop_OoC - CMS'!$H$24:$H$5400,'Using CMS - Inop_OoC - CMS'!$B$24:$B$5400,B397,'Using CMS - Inop_OoC - CMS'!$C$24:$C$5400,C397,'Using CMS - Inop_OoC - CMS'!$D$24:$D$5400,D397))","v":""},""]
[null,{"$f":"IF(Lists!AT376=\"\",\"\",Lists!AT376)","v":""},{"$f":"IF(Lists!AU376=\"\",\"\",Lists!AU376)","v":""},{"$f":"IF(Lists!AV376=\"\",\"\",Lists!AV376)","v":""},null,{"$f":"IF($E398=\"\",\"\",SUMIFS('Using CMS - Inop_OoC - CMS'!$H$24:$H$5400,'Using CMS - Inop_OoC - CMS'!$B$24:$B$5400,B398,'Using CMS - Inop_OoC - CMS'!$C$24:$C$5400,C398,'Using CMS - Inop_OoC - CMS'!$D$24:$D$5400,D398))","v":""},""]
[null,{"$f":"IF(Lists!AT377=\"\",\"\",Lists!AT377)","v":""},{"$f":"IF(Lists!AU377=\"\",\"\",Lists!AU377)","v":""},{"$f":"IF(Lists!AV377=\"\",\"\",Lists!AV377)","v":""},null,{"$f":"IF($E399=\"\",\"\",SUMIFS('Using CMS - Inop_OoC - CMS'!$H$24:$H$5400,'Using CMS - Inop_OoC - CMS'!$B$24:$B$5400,B399,'Using CMS - Inop_OoC - CMS'!$C$24:$C$5400,C399,'Using CMS - Inop_OoC - CMS'!$D$24:$D$5400,D399))","v":""},""]
[null,{"$f":"IF(Lists!AT378=\"\",\"\",Lists!AT378)","v":""},{"$f":"IF(Lists!AU378=\"\",\"\",Lists!AU378)","v":""},{"$f":"IF(Lists!AV378=\"\",\"\",Lists!AV378)","v":""},null,{"$f":"IF($E400=\"\",\"\",SUMIFS('Using CMS - Inop_OoC - CMS'!$H$24:$H$5400,'Using CMS - Inop_OoC - CMS'!$B$24:$B$5400,B400,'Using CMS - Inop_OoC - CMS'!$C$24:$C$5400,C400,'Using CMS - Inop_OoC - CMS'!$D$24:$D$5400,D400))","v":""},""]
[null,{"$f":"IF(Lists!AT379=\"\",\"\",Lists!AT379)","v":""},{"$f":"IF(Lists!AU379=\"\",\"\",Lists!AU379)","v":""},{"$f":"IF(Lists!AV379=\"\",\"\",Lists!AV379)","v":""},null,{"$f":"IF($E401=\"\",\"\",SUMIFS('Using CMS - Inop_OoC - CMS'!$H$24:$H$5400,'Using CMS - Inop_OoC - CMS'!$B$24:$B$5400,B401,'Using CMS - Inop_OoC - CMS'!$C$24:$C$5400,C401,'Using CMS - Inop_OoC - CMS'!$D$24:$D$5400,D401))","v":""},""]
[null,{"$f":"IF(Lists!AT380=\"\",\"\",Lists!AT380)","v":""},{"$f":"IF(Lists!AU380=\"\",\"\",Lists!AU380)","v":""},{"$f":"IF(Lists!AV380=\"\",\"\",Lists!AV380)","v":""},null,{"$f":"IF($E402=\"\",\"\",SUMIFS('Using CMS - Inop_OoC - CMS'!$H$24:$H$5400,'Using CMS - Inop_OoC - CMS'!$B$24:$B$5400,B402,'Using CMS - Inop_OoC - CMS'!$C$24:$C$5400,C402,'Using CMS - Inop_OoC - CMS'!$D$24:$D$5400,D402))","v":""},""]
[null,{"$f":"IF(Lists!AT381=\"\",\"\",Lists!AT381)","v":""},{"$f":"IF(Lists!AU381=\"\",\"\",Lists!AU381)","v":""},{"$f":"IF(Lists!AV381=\"\",\"\",Lists!AV381)","v":""},null,{"$f":"IF($E403=\"\",\"\",SUMIFS('Using CMS - Inop_OoC - CMS'!$H$24:$H$5400,'Using CMS - Inop_OoC - CMS'!$B$24:$B$5400,B403,'Using CMS - Inop_OoC - CMS'!$C$24:$C$5400,C403,'Using CMS - Inop_OoC - CMS'!$D$24:$D$5400,D403))","v":""},""]
[null,{"$f":"IF(Lists!AT382=\"\",\"\",Lists!AT382)","v":""},{"$f":"IF(Lists!AU382=\"\",\"\",Lists!AU382)","v":""},{"$f":"IF(Lists!AV382=\"\",\"\",Lists!AV382)","v":""},null,{"$f":"IF($E404=\"\",\"\",SUMIFS('Using CMS - Inop_OoC - CMS'!$H$24:$H$5400,'Using CMS - Inop_OoC - CMS'!$B$24:$B$5400,B404,'Using CMS - Inop_OoC - CMS'!$C$24:$C$5400,C404,'Using CMS - Inop_OoC - CMS'!$D$24:$D$5400,D404))","v":""},""]
[null,{"$f":"IF(Lists!AT383=\"\",\"\",Lists!AT383)","v":""},{"$f":"IF(Lists!AU383=\"\",\"\",Lists!AU383)","v":""},{"$f":"IF(Lists!AV383=\"\",\"\",Lists!AV383)","v":""},null,{"$f":"IF($E405=\"\",\"\",SUMIFS('Using CMS - Inop_OoC - CMS'!$H$24:$H$5400,'Using CMS - Inop_OoC - CMS'!$B$24:$B$5400,B405,'Using CMS - Inop_OoC - CMS'!$C$24:$C$5400,C405,'Using CMS - Inop_OoC - CMS'!$D$24:$D$5400,D405))","v":""},""]
[null,{"$f":"IF(Lists!AT384=\"\",\"\",Lists!AT384)","v":""},{"$f":"IF(Lists!AU384=\"\",\"\",Lists!AU384)","v":""},{"$f":"IF(Lists!AV384=\"\",\"\",Lists!AV384)","v":""},null,{"$f":"IF($E406=\"\",\"\",SUMIFS('Using CMS - Inop_OoC - CMS'!$H$24:$H$5400,'Using CMS - Inop_OoC - CMS'!$B$24:$B$5400,B406,'Using CMS - Inop_OoC - CMS'!$C$24:$C$5400,C406,'Using CMS - Inop_OoC - CMS'!$D$24:$D$5400,D406))","v":""},""]
[null,{"$f":"IF(Lists!AT385=\"\",\"\",Lists!AT385)","v":""},{"$f":"IF(Lists!AU385=\"\",\"\",Lists!AU385)","v":""},{"$f":"IF(Lists!AV385=\"\",\"\",Lists!AV385)","v":""},null,{"$f":"IF($E407=\"\",\"\",SUMIFS('Using CMS - Inop_OoC - CMS'!$H$24:$H$5400,'Using CMS - Inop_OoC - CMS'!$B$24:$B$5400,B407,'Using CMS - Inop_OoC - CMS'!$C$24:$C$5400,C407,'Using CMS - Inop_OoC - CMS'!$D$24:$D$5400,D407))","v":""},""]
[null,{"$f":"IF(Lists!AT386=\"\",\"\",Lists!AT386)","v":""},{"$f":"IF(Lists!AU386=\"\",\"\",Lists!AU386)","v":""},{"$f":"IF(Lists!AV386=\"\",\"\",Lists!AV386)","v":""},null,{"$f":"IF($E408=\"\",\"\",SUMIFS('Using CMS - Inop_OoC - CMS'!$H$24:$H$5400,'Using CMS - Inop_OoC - CMS'!$B$24:$B$5400,B408,'Using CMS - Inop_OoC - CMS'!$C$24:$C$5400,C408,'Using CMS - Inop_OoC - CMS'!$D$24:$D$5400,D408))","v":""},{"$f":"IF($E408=\"\",\"\",IF(F408=0,\"N/A\",F408/$E408))","v":""}]
[null,{"$f":"IF(Lists!AT387=\"\",\"\",Lists!AT387)","v":""},{"$f":"IF(Lists!AU387=\"\",\"\",Lists!AU387)","v":""},{"$f":"IF(Lists!AV387=\"\",\"\",Lists!AV387)","v":""},null,{"$f":"IF($E409=\"\",\"\",SUMIFS('Using CMS - Inop_OoC - CMS'!$H$24:$H$5400,'Using CMS - Inop_OoC - CMS'!$B$24:$B$5400,B409,'Using CMS - Inop_OoC - CMS'!$C$24:$C$5400,C409,'Using CMS - Inop_OoC - CMS'!$D$24:$D$5400,D409))","v":""},""]
[null,{"$f":"IF(Lists!AT388=\"\",\"\",Lists!AT388)","v":""},{"$f":"IF(Lists!AU388=\"\",\"\",Lists!AU388)","v":""},{"$f":"IF(Lists!AV388=\"\",\"\",Lists!AV388)","v":""},null,{"$f":"IF($E410=\"\",\"\",SUMIFS('Using CMS - Inop_OoC - CMS'!$H$24:$H$5400,'Using CMS - Inop_OoC - CMS'!$B$24:$B$5400,B410,'Using CMS - Inop_OoC - CMS'!$C$24:$C$5400,C410,'Using CMS - Inop_OoC - CMS'!$D$24:$D$5400,D410))","v":""},""]
[null,{"$f":"IF(Lists!AT389=\"\",\"\",Lists!AT389)","v":""},{"$f":"IF(Lists!AU389=\"\",\"\",Lists!AU389)","v":""},{"$f":"IF(Lists!AV389=\"\",\"\",Lists!AV389)","v":""},null,{"$f":"IF($E411=\"\",\"\",SUMIFS('Using CMS - Inop_OoC - CMS'!$H$24:$H$5400,'Using CMS - Inop_OoC - CMS'!$B$24:$B$5400,B411,'Using CMS - Inop_OoC - CMS'!$C$24:$C$5400,C411,'Using CMS - Inop_OoC - CMS'!$D$24:$D$5400,D411))","v":""},""]
[null,{"$f":"IF(Lists!AT390=\"\",\"\",Lists!AT390)","v":""},{"$f":"IF(Lists!AU390=\"\",\"\",Lists!AU390)","v":""},{"$f":"IF(Lists!AV390=\"\",\"\",Lists!AV390)","v":""},null,{"$f":"IF($E412=\"\",\"\",SUMIFS('Using CMS - Inop_OoC - CMS'!$H$24:$H$5400,'Using CMS - Inop_OoC - CMS'!$B$24:$B$5400,B412,'Using CMS - Inop_OoC - CMS'!$C$24:$C$5400,C412,'Using CMS - Inop_OoC - CMS'!$D$24:$D$5400,D412))","v":""},""]
[null,{"$f":"IF(Lists!AT391=\"\",\"\",Lists!AT391)","v":""},{"$f":"IF(Lists!AU391=\"\",\"\",Lists!AU391)","v":""},{"$f":"IF(Lists!AV391=\"\",\"\",Lists!AV391)","v":""},null,{"$f":"IF($E413=\"\",\"\",SUMIFS('Using CMS - Inop_OoC - CMS'!$H$24:$H$5400,'Using CMS - Inop_OoC - CMS'!$B$24:$B$5400,B413,'Using CMS - Inop_OoC - CMS'!$C$24:$C$5400,C413,'Using CMS - Inop_OoC - CMS'!$D$24:$D$5400,D413))","v":""},""]
[null,{"$f":"IF(Lists!AT392=\"\",\"\",Lists!AT392)","v":""},{"$f":"IF(Lists!AU392=\"\",\"\",Lists!AU392)","v":""},{"$f":"IF(Lists!AV392=\"\",\"\",Lists!AV392)","v":""},null,{"$f":"IF($E414=\"\",\"\",SUMIFS('Using CMS - Inop_OoC - CMS'!$H$24:$H$5400,'Using CMS - Inop_OoC - CMS'!$B$24:$B$5400,B414,'Using CMS - Inop_OoC - CMS'!$C$24:$C$5400,C414,'Using CMS - Inop_OoC - CMS'!$D$24:$D$5400,D414))","v":""},""]
[null,{"$f":"IF(Lists!AT393=\"\",\"\",Lists!AT393)","v":""},{"$f":"IF(Lists!AU393=\"\",\"\",Lists!AU393)","v":""},{"$f":"IF(Lists!AV393=\"\",\"\",Lists!AV393)","v":""},null,{"$f":"IF($E415=\"\",\"\",SUMIFS('Using CMS - Inop_OoC - CMS'!$H$24:$H$5400,'Using CMS - Inop_OoC - CMS'!$B$24:$B$5400,B415,'Using CMS - Inop_OoC - CMS'!$C$24:$C$5400,C415,'Using CMS - Inop_OoC - CMS'!$D$24:$D$5400,D415))","v":""},""]
[null,{"$f":"IF(Lists!AT394=\"\",\"\",Lists!AT394)","v":""},{"$f":"IF(Lists!AU394=\"\",\"\",Lists!AU394)","v":""},{"$f":"IF(Lists!AV394=\"\",\"\",Lists!AV394)","v":""},null,{"$f":"IF($E416=\"\",\"\",SUMIFS('Using CMS - Inop_OoC - CMS'!$H$24:$H$5400,'Using CMS - Inop_OoC - CMS'!$B$24:$B$5400,B416,'Using CMS - Inop_OoC - CMS'!$C$24:$C$5400,C416,'Using CMS - Inop_OoC - CMS'!$D$24:$D$5400,D416))","v":""},""]
[null,{"$f":"IF(Lists!AT395=\"\",\"\",Lists!AT395)","v":""},{"$f":"IF(Lists!AU395=\"\",\"\",Lists!AU395)","v":""},{"$f":"IF(Lists!AV395=\"\",\"\",Lists!AV395)","v":""},null,{"$f":"IF($E417=\"\",\"\",SUMIFS('Using CMS - Inop_OoC - CMS'!$H$24:$H$5400,'Using CMS - Inop_OoC - CMS'!$B$24:$B$5400,B417,'Using CMS - Inop_OoC - CMS'!$C$24:$C$5400,C417,'Using CMS - Inop_OoC - CMS'!$D$24:$D$5400,D417))","v":""},""]
[null,{"$f":"IF(Lists!AT396=\"\",\"\",Lists!AT396)","v":""},{"$f":"IF(Lists!AU396=\"\",\"\",Lists!AU396)","v":""},{"$f":"IF(Lists!AV396=\"\",\"\",Lists!AV396)","v":""},null,{"$f":"IF($E418=\"\",\"\",SUMIFS('Using CMS - Inop_OoC - CMS'!$H$24:$H$5400,'Using CMS - Inop_OoC - CMS'!$B$24:$B$5400,B418,'Using CMS - Inop_OoC - CMS'!$C$24:$C$5400,C418,'Using CMS - Inop_OoC - CMS'!$D$24:$D$5400,D418))","v":""},""]
[null,{"$f":"IF(Lists!AT397=\"\",\"\",Lists!AT397)","v":""},{"$f":"IF(Lists!AU397=\"\",\"\",Lists!AU397)","v":""},{"$f":"IF(Lists!AV397=\"\",\"\",Lists!AV397)","v":""},null,{"$f":"IF($E419=\"\",\"\",SUMIFS('Using CMS - Inop_OoC - CMS'!$H$24:$H$5400,'Using CMS - Inop_OoC - CMS'!$B$24:$B$5400,B419,'Using CMS - Inop_OoC - CMS'!$C$24:$C$5400,C419,'Using CMS - Inop_OoC - CMS'!$D$24:$D$5400,D419))","v":""},""]
[null,{"$f":"IF(Lists!AT398=\"\",\"\",Lists!AT398)","v":""},{"$f":"IF(Lists!AU398=\"\",\"\",Lists!AU398)","v":""},{"$f":"IF(Lists!AV398=\"\",\"\",Lists!AV398)","v":""},null,{"$f":"IF($E420=\"\",\"\",SUMIFS('Using CMS - Inop_OoC - CMS'!$H$24:$H$5400,'Using CMS - Inop_OoC - CMS'!$B$24:$B$5400,B420,'Using CMS - Inop_OoC - CMS'!$C$24:$C$5400,C420,'Using CMS - Inop_OoC - CMS'!$D$24:$D$5400,D420))","v":""},""]
[null,{"$f":"IF(Lists!AT399=\"\",\"\",Lists!AT399)","v":""},{"$f":"IF(Lists!AU399=\"\",\"\",Lists!AU399)","v":""},{"$f":"IF(Lists!AV399=\"\",\"\",Lists!AV399)","v":""},null,{"$f":"IF($E421=\"\",\"\",SUMIFS('Using CMS - Inop_OoC - CMS'!$H$24:$H$5400,'Using CMS - Inop_OoC - CMS'!$B$24:$B$5400,B421,'Using CMS - Inop_OoC - CMS'!$C$24:$C$5400,C421,'Using CMS - Inop_OoC - CMS'!$D$24:$D$5400,D421))","v":""},""]
[null,{"$f":"IF(Lists!AT400=\"\",\"\",Lists!AT400)","v":""},{"$f":"IF(Lists!AU400=\"\",\"\",Lists!AU400)","v":""},{"$f":"IF(Lists!AV400=\"\",\"\",Lists!AV400)","v":""},null,{"$f":"IF($E422=\"\",\"\",SUMIFS('Using CMS - Inop_OoC - CMS'!$H$24:$H$5400,'Using CMS - Inop_OoC - CMS'!$B$24:$B$5400,B422,'Using CMS - Inop_OoC - CMS'!$C$24:$C$5400,C422,'Using CMS - Inop_OoC - CMS'!$D$24:$D$5400,D422))","v":""},""]
[null,{"$f":"IF(Lists!AT401=\"\",\"\",Lists!AT401)","v":""},{"$f":"IF(Lists!AU401=\"\",\"\",Lists!AU401)","v":""},{"$f":"IF(Lists!AV401=\"\",\"\",Lists!AV401)","v":""},null,{"$f":"IF($E423=\"\",\"\",SUMIFS('Using CMS - Inop_OoC - CMS'!$H$24:$H$5400,'Using CMS - Inop_OoC - CMS'!$B$24:$B$5400,B423,'Using CMS - Inop_OoC - CMS'!$C$24:$C$5400,C423,'Using CMS - Inop_OoC - CMS'!$D$24:$D$5400,D423))","v":""},""]
[null,{"$f":"IF(Lists!AT402=\"\",\"\",Lists!AT402)","v":""},{"$f":"IF(Lists!AU402=\"\",\"\",Lists!AU402)","v":""},{"$f":"IF(Lists!AV402=\"\",\"\",Lists!AV402)","v":""},null,{"$f":"IF($E424=\"\",\"\",SUMIFS('Using CMS - Inop_OoC - CMS'!$H$24:$H$5400,'Using CMS - Inop_OoC - CMS'!$B$24:$B$5400,B424,'Using CMS - Inop_OoC - CMS'!$C$24:$C$5400,C424,'Using CMS - Inop_OoC - CMS'!$D$24:$D$5400,D424))","v":""},""]
[null,{"$f":"IF(Lists!AT403=\"\",\"\",Lists!AT403)","v":""},{"$f":"IF(Lists!AU403=\"\",\"\",Lists!AU403)","v":""},{"$f":"IF(Lists!AV403=\"\",\"\",Lists!AV403)","v":""},null,{"$f":"IF($E425=\"\",\"\",SUMIFS('Using CMS - Inop_OoC - CMS'!$H$24:$H$5400,'Using CMS - Inop_OoC - CMS'!$B$24:$B$5400,B425,'Using CMS - Inop_OoC - CMS'!$C$24:$C$5400,C425,'Using CMS - Inop_OoC - CMS'!$D$24:$D$5400,D425))","v":""},""]
[null,{"$f":"IF(Lists!AT404=\"\",\"\",Lists!AT404)","v":""},{"$f":"IF(Lists!AU404=\"\",\"\",Lists!AU404)","v":""},{"$f":"IF(Lists!AV404=\"\",\"\",Lists!AV404)","v":""},null,{"$f":"IF($E426=\"\",\"\",SUMIFS('Using CMS - Inop_OoC - CMS'!$H$24:$H$5400,'Using CMS - Inop_OoC - CMS'!$B$24:$B$5400,B426,'Using CMS - Inop_OoC - CMS'!$C$24:$C$5400,C426,'Using CMS - Inop_OoC - CMS'!$D$24:$D$5400,D426))","v":""},""]
[null,{"$f":"IF(Lists!AT405=\"\",\"\",Lists!AT405)","v":""},{"$f":"IF(Lists!AU405=\"\",\"\",Lists!AU405)","v":""},{"$f":"IF(Lists!AV405=\"\",\"\",Lists!AV405)","v":""},null,{"$f":"IF($E427=\"\",\"\",SUMIFS('Using CMS - Inop_OoC - CMS'!$H$24:$H$5400,'Using CMS - Inop_OoC - CMS'!$B$24:$B$5400,B427,'Using CMS - Inop_OoC - CMS'!$C$24:$C$5400,C427,'Using CMS - Inop_OoC - CMS'!$D$24:$D$5400,D427))","v":""},""]
[null,{"$f":"IF(Lists!AT406=\"\",\"\",Lists!AT406)","v":""},{"$f":"IF(Lists!AU406=\"\",\"\",Lists!AU406)","v":""},{"$f":"IF(Lists!AV406=\"\",\"\",Lists!AV406)","v":""},null,{"$f":"IF($E428=\"\",\"\",SUMIFS('Using CMS - Inop_OoC - CMS'!$H$24:$H$5400,'Using CMS - Inop_OoC - CMS'!$B$24:$B$5400,B428,'Using CMS - Inop_OoC - CMS'!$C$24:$C$5400,C428,'Using CMS - Inop_OoC - CMS'!$D$24:$D$5400,D428))","v":""},""]
[null,{"$f":"IF(Lists!AT407=\"\",\"\",Lists!AT407)","v":""},{"$f":"IF(Lists!AU407=\"\",\"\",Lists!AU407)","v":""},{"$f":"IF(Lists!AV407=\"\",\"\",Lists!AV407)","v":""},null,{"$f":"IF($E429=\"\",\"\",SUMIFS('Using CMS - Inop_OoC - CMS'!$H$24:$H$5400,'Using CMS - Inop_OoC - CMS'!$B$24:$B$5400,B429,'Using CMS - Inop_OoC - CMS'!$C$24:$C$5400,C429,'Using CMS - Inop_OoC - CMS'!$D$24:$D$5400,D429))","v":""},""]
[null,{"$f":"IF(Lists!AT408=\"\",\"\",Lists!AT408)","v":""},{"$f":"IF(Lists!AU408=\"\",\"\",Lists!AU408)","v":""},{"$f":"IF(Lists!AV408=\"\",\"\",Lists!AV408)","v":""},null,{"$f":"IF($E430=\"\",\"\",SUMIFS('Using CMS - Inop_OoC - CMS'!$H$24:$H$5400,'Using CMS - Inop_OoC - CMS'!$B$24:$B$5400,B430,'Using CMS - Inop_OoC - CMS'!$C$24:$C$5400,C430,'Using CMS - Inop_OoC - CMS'!$D$24:$D$5400,D430))","v":""},""]
[null,{"$f":"IF(Lists!AT409=\"\",\"\",Lists!AT409)","v":""},{"$f":"IF(Lists!AU409=\"\",\"\",Lists!AU409)","v":""},{"$f":"IF(Lists!AV409=\"\",\"\",Lists!AV409)","v":""},null,{"$f":"IF($E431=\"\",\"\",SUMIFS('Using CMS - Inop_OoC - CMS'!$H$24:$H$5400,'Using CMS - Inop_OoC - CMS'!$B$24:$B$5400,B431,'Using CMS - Inop_OoC - CMS'!$C$24:$C$5400,C431,'Using CMS - Inop_OoC - CMS'!$D$24:$D$5400,D431))","v":""},""]
[null,{"$f":"IF(Lists!AT410=\"\",\"\",Lists!AT410)","v":""},{"$f":"IF(Lists!AU410=\"\",\"\",Lists!AU410)","v":""},{"$f":"IF(Lists!AV410=\"\",\"\",Lists!AV410)","v":""},null,{"$f":"IF($E432=\"\",\"\",SUMIFS('Using CMS - Inop_OoC - CMS'!$H$24:$H$5400,'Using CMS - Inop_OoC - CMS'!$B$24:$B$5400,B432,'Using CMS - Inop_OoC - CMS'!$C$24:$C$5400,C432,'Using CMS - Inop_OoC - CMS'!$D$24:$D$5400,D432))","v":""},""]
[null,{"$f":"IF(Lists!AT411=\"\",\"\",Lists!AT411)","v":""},{"$f":"IF(Lists!AU411=\"\",\"\",Lists!AU411)","v":""},{"$f":"IF(Lists!AV411=\"\",\"\",Lists!AV411)","v":""},null,{"$f":"IF($E433=\"\",\"\",SUMIFS('Using CMS - Inop_OoC - CMS'!$H$24:$H$5400,'Using CMS - Inop_OoC - CMS'!$B$24:$B$5400,B433,'Using CMS - Inop_OoC - CMS'!$C$24:$C$5400,C433,'Using CMS - Inop_OoC - CMS'!$D$24:$D$5400,D433))","v":""},""]
[null,{"$f":"IF(Lists!AT412=\"\",\"\",Lists!AT412)","v":""},{"$f":"IF(Lists!AU412=\"\",\"\",Lists!AU412)","v":""},{"$f":"IF(Lists!AV412=\"\",\"\",Lists!AV412)","v":""},null,{"$f":"IF($E434=\"\",\"\",SUMIFS('Using CMS - Inop_OoC - CMS'!$H$24:$H$5400,'Using CMS - Inop_OoC - CMS'!$B$24:$B$5400,B434,'Using CMS - Inop_OoC - CMS'!$C$24:$C$5400,C434,'Using CMS - Inop_OoC - CMS'!$D$24:$D$5400,D434))","v":""},""]
[null,{"$f":"IF(Lists!AT413=\"\",\"\",Lists!AT413)","v":""},{"$f":"IF(Lists!AU413=\"\",\"\",Lists!AU413)","v":""},{"$f":"IF(Lists!AV413=\"\",\"\",Lists!AV413)","v":""},null,{"$f":"IF($E435=\"\",\"\",SUMIFS('Using CMS - Inop_OoC - CMS'!$H$24:$H$5400,'Using CMS - Inop_OoC - CMS'!$B$24:$B$5400,B435,'Using CMS - Inop_OoC - CMS'!$C$24:$C$5400,C435,'Using CMS - Inop_OoC - CMS'!$D$24:$D$5400,D435))","v":""},""]
[null,{"$f":"IF(Lists!AT414=\"\",\"\",Lists!AT414)","v":""},{"$f":"IF(Lists!AU414=\"\",\"\",Lists!AU414)","v":""},{"$f":"IF(Lists!AV414=\"\",\"\",Lists!AV414)","v":""},null,{"$f":"IF($E436=\"\",\"\",SUMIFS('Using CMS - Inop_OoC - CMS'!$H$24:$H$5400,'Using CMS - Inop_OoC - CMS'!$B$24:$B$5400,B436,'Using CMS - Inop_OoC - CMS'!$C$24:$C$5400,C436,'Using CMS - Inop_OoC - CMS'!$D$24:$D$5400,D436))","v":""},""]
[null,{"$f":"IF(Lists!AT415=\"\",\"\",Lists!AT415)","v":""},{"$f":"IF(Lists!AU415=\"\",\"\",Lists!AU415)","v":""},{"$f":"IF(Lists!AV415=\"\",\"\",Lists!AV415)","v":""},null,{"$f":"IF($E437=\"\",\"\",SUMIFS('Using CMS - Inop_OoC - CMS'!$H$24:$H$5400,'Using CMS - Inop_OoC - CMS'!$B$24:$B$5400,B437,'Using CMS - Inop_OoC - CMS'!$C$24:$C$5400,C437,'Using CMS - Inop_OoC - CMS'!$D$24:$D$5400,D437))","v":""},""]
[null,{"$f":"IF(Lists!AT416=\"\",\"\",Lists!AT416)","v":""},{"$f":"IF(Lists!AU416=\"\",\"\",Lists!AU416)","v":""},{"$f":"IF(Lists!AV416=\"\",\"\",Lists!AV416)","v":""},null,{"$f":"IF($E438=\"\",\"\",SUMIFS('Using CMS - Inop_OoC - CMS'!$H$24:$H$5400,'Using CMS - Inop_OoC - CMS'!$B$24:$B$5400,B438,'Using CMS - Inop_OoC - CMS'!$C$24:$C$5400,C438,'Using CMS - Inop_OoC - CMS'!$D$24:$D$5400,D438))","v":""},""]
[null,{"$f":"IF(Lists!AT417=\"\",\"\",Lists!AT417)","v":""},{"$f":"IF(Lists!AU417=\"\",\"\",Lists!AU417)","v":""},{"$f":"IF(Lists!AV417=\"\",\"\",Lists!AV417)","v":""},null,{"$f":"IF($E439=\"\",\"\",SUMIFS('Using CMS - Inop_OoC - CMS'!$H$24:$H$5400,'Using CMS - Inop_OoC - CMS'!$B$24:$B$5400,B439,'Using CMS - Inop_OoC - CMS'!$C$24:$C$5400,C439,'Using CMS - Inop_OoC - CMS'!$D$24:$D$5400,D439))","v":""},""]
[null,{"$f":"IF(Lists!AT418=\"\",\"\",Lists!AT418)","v":""},{"$f":"IF(Lists!AU418=\"\",\"\",Lists!AU418)","v":""},{"$f":"IF(Lists!AV418=\"\",\"\",Lists!AV418)","v":""},null,{"$f":"IF($E440=\"\",\"\",SUMIFS('Using CMS - Inop_OoC - CMS'!$H$24:$H$5400,'Using CMS - Inop_OoC - CMS'!$B$24:$B$5400,B440,'Using CMS - Inop_OoC - CMS'!$C$24:$C$5400,C440,'Using CMS - Inop_OoC - CMS'!$D$24:$D$5400,D440))","v":""},""]
[null,{"$f":"IF(Lists!AT419=\"\",\"\",Lists!AT419)","v":""},{"$f":"IF(Lists!AU419=\"\",\"\",Lists!AU419)","v":""},{"$f":"IF(Lists!AV419=\"\",\"\",Lists!AV419)","v":""},null,{"$f":"IF($E441=\"\",\"\",SUMIFS('Using CMS - Inop_OoC - CMS'!$H$24:$H$5400,'Using CMS - Inop_OoC - CMS'!$B$24:$B$5400,B441,'Using CMS - Inop_OoC - CMS'!$C$24:$C$5400,C441,'Using CMS - Inop_OoC - CMS'!$D$24:$D$5400,D441))","v":""},""]
[null,{"$f":"IF(Lists!AT420=\"\",\"\",Lists!AT420)","v":""},{"$f":"IF(Lists!AU420=\"\",\"\",Lists!AU420)","v":""},{"$f":"IF(Lists!AV420=\"\",\"\",Lists!AV420)","v":""},null,{"$f":"IF($E442=\"\",\"\",SUMIFS('Using CMS - Inop_OoC - CMS'!$H$24:$H$5400,'Using CMS - Inop_OoC - CMS'!$B$24:$B$5400,B442,'Using CMS - Inop_OoC - CMS'!$C$24:$C$5400,C442,'Using CMS - Inop_OoC - CMS'!$D$24:$D$5400,D442))","v":""},""]
[null,{"$f":"IF(Lists!AT421=\"\",\"\",Lists!AT421)","v":""},{"$f":"IF(Lists!AU421=\"\",\"\",Lists!AU421)","v":""},{"$f":"IF(Lists!AV421=\"\",\"\",Lists!AV421)","v":""},null,{"$f":"IF($E443=\"\",\"\",SUMIFS('Using CMS - Inop_OoC - CMS'!$H$24:$H$5400,'Using CMS - Inop_OoC - CMS'!$B$24:$B$5400,B443,'Using CMS - Inop_OoC - CMS'!$C$24:$C$5400,C443,'Using CMS - Inop_OoC - CMS'!$D$24:$D$5400,D443))","v":""},""]
[null,{"$f":"IF(Lists!AT422=\"\",\"\",Lists!AT422)","v":""},{"$f":"IF(Lists!AU422=\"\",\"\",Lists!AU422)","v":""},{"$f":"IF(Lists!AV422=\"\",\"\",Lists!AV422)","v":""},null,{"$f":"IF($E444=\"\",\"\",SUMIFS('Using CMS - Inop_OoC - CMS'!$H$24:$H$5400,'Using CMS - Inop_OoC - CMS'!$B$24:$B$5400,B444,'Using CMS - Inop_OoC - CMS'!$C$24:$C$5400,C444,'Using CMS - Inop_OoC - CMS'!$D$24:$D$5400,D444))","v":""},""]
[null,{"$f":"IF(Lists!AT423=\"\",\"\",Lists!AT423)","v":""},{"$f":"IF(Lists!AU423=\"\",\"\",Lists!AU423)","v":""},{"$f":"IF(Lists!AV423=\"\",\"\",Lists!AV423)","v":""},null,{"$f":"IF($E445=\"\",\"\",SUMIFS('Using CMS - Inop_OoC - CMS'!$H$24:$H$5400,'Using CMS - Inop_OoC - CMS'!$B$24:$B$5400,B445,'Using CMS - Inop_OoC - CMS'!$C$24:$C$5400,C445,'Using CMS - Inop_OoC - CMS'!$D$24:$D$5400,D445))","v":""},""]
[null,{"$f":"IF(Lists!AT424=\"\",\"\",Lists!AT424)","v":""},{"$f":"IF(Lists!AU424=\"\",\"\",Lists!AU424)","v":""},{"$f":"IF(Lists!AV424=\"\",\"\",Lists!AV424)","v":""},null,{"$f":"IF($E446=\"\",\"\",SUMIFS('Using CMS - Inop_OoC - CMS'!$H$24:$H$5400,'Using CMS - Inop_OoC - CMS'!$B$24:$B$5400,B446,'Using CMS - Inop_OoC - CMS'!$C$24:$C$5400,C446,'Using CMS - Inop_OoC - CMS'!$D$24:$D$5400,D446))","v":""},""]
[null,{"$f":"IF(Lists!AT425=\"\",\"\",Lists!AT425)","v":""},{"$f":"IF(Lists!AU425=\"\",\"\",Lists!AU425)","v":""},{"$f":"IF(Lists!AV425=\"\",\"\",Lists!AV425)","v":""},null,{"$f":"IF($E447=\"\",\"\",SUMIFS('Using CMS - Inop_OoC - CMS'!$H$24:$H$5400,'Using CMS - Inop_OoC - CMS'!$B$24:$B$5400,B447,'Using CMS - Inop_OoC - CMS'!$C$24:$C$5400,C447,'Using CMS - Inop_OoC - CMS'!$D$24:$D$5400,D447))","v":""},""]
[null,{"$f":"IF(Lists!AT426=\"\",\"\",Lists!AT426)","v":""},{"$f":"IF(Lists!AU426=\"\",\"\",Lists!AU426)","v":""},{"$f":"IF(Lists!AV426=\"\",\"\",Lists!AV426)","v":""},null,{"$f":"IF($E448=\"\",\"\",SUMIFS('Using CMS - Inop_OoC - CMS'!$H$24:$H$5400,'Using CMS - Inop_OoC - CMS'!$B$24:$B$5400,B448,'Using CMS - Inop_OoC - CMS'!$C$24:$C$5400,C448,'Using CMS - Inop_OoC - CMS'!$D$24:$D$5400,D448))","v":""},""]
[null,{"$f":"IF(Lists!AT427=\"\",\"\",Lists!AT427)","v":""},{"$f":"IF(Lists!AU427=\"\",\"\",Lists!AU427)","v":""},{"$f":"IF(Lists!AV427=\"\",\"\",Lists!AV427)","v":""},null,{"$f":"IF($E449=\"\",\"\",SUMIFS('Using CMS - Inop_OoC - CMS'!$H$24:$H$5400,'Using CMS - Inop_OoC - CMS'!$B$24:$B$5400,B449,'Using CMS - Inop_OoC - CMS'!$C$24:$C$5400,C449,'Using CMS - Inop_OoC - CMS'!$D$24:$D$5400,D449))","v":""},""]
[null,{"$f":"IF(Lists!AT428=\"\",\"\",Lists!AT428)","v":""},{"$f":"IF(Lists!AU428=\"\",\"\",Lists!AU428)","v":""},{"$f":"IF(Lists!AV428=\"\",\"\",Lists!AV428)","v":""},null,{"$f":"IF($E450=\"\",\"\",SUMIFS('Using CMS - Inop_OoC - CMS'!$H$24:$H$5400,'Using CMS - Inop_OoC - CMS'!$B$24:$B$5400,B450,'Using CMS - Inop_OoC - CMS'!$C$24:$C$5400,C450,'Using CMS - Inop_OoC - CMS'!$D$24:$D$5400,D450))","v":""},""]
[null,{"$f":"IF(Lists!AT429=\"\",\"\",Lists!AT429)","v":""},{"$f":"IF(Lists!AU429=\"\",\"\",Lists!AU429)","v":""},{"$f":"IF(Lists!AV429=\"\",\"\",Lists!AV429)","v":""},null,{"$f":"IF($E451=\"\",\"\",SUMIFS('Using CMS - Inop_OoC - CMS'!$H$24:$H$5400,'Using CMS - Inop_OoC - CMS'!$B$24:$B$5400,B451,'Using CMS - Inop_OoC - CMS'!$C$24:$C$5400,C451,'Using CMS - Inop_OoC - CMS'!$D$24:$D$5400,D451))","v":""},""]
[null,{"$f":"IF(Lists!AT430=\"\",\"\",Lists!AT430)","v":""},{"$f":"IF(Lists!AU430=\"\",\"\",Lists!AU430)","v":""},{"$f":"IF(Lists!AV430=\"\",\"\",Lists!AV430)","v":""},null,{"$f":"IF($E452=\"\",\"\",SUMIFS('Using CMS - Inop_OoC - CMS'!$H$24:$H$5400,'Using CMS - Inop_OoC - CMS'!$B$24:$B$5400,B452,'Using CMS - Inop_OoC - CMS'!$C$24:$C$5400,C452,'Using CMS - Inop_OoC - CMS'!$D$24:$D$5400,D452))","v":""},""]
[null,{"$f":"IF(Lists!AT431=\"\",\"\",Lists!AT431)","v":""},{"$f":"IF(Lists!AU431=\"\",\"\",Lists!AU431)","v":""},{"$f":"IF(Lists!AV431=\"\",\"\",Lists!AV431)","v":""},null,{"$f":"IF($E453=\"\",\"\",SUMIFS('Using CMS - Inop_OoC - CMS'!$H$24:$H$5400,'Using CMS - Inop_OoC - CMS'!$B$24:$B$5400,B453,'Using CMS - Inop_OoC - CMS'!$C$24:$C$5400,C453,'Using CMS - Inop_OoC - CMS'!$D$24:$D$5400,D453))","v":""},""]
[null,{"$f":"IF(Lists!AT432=\"\",\"\",Lists!AT432)","v":""},{"$f":"IF(Lists!AU432=\"\",\"\",Lists!AU432)","v":""},{"$f":"IF(Lists!AV432=\"\",\"\",Lists!AV432)","v":""},null,{"$f":"IF($E454=\"\",\"\",SUMIFS('Using CMS - Inop_OoC - CMS'!$H$24:$H$5400,'Using CMS - Inop_OoC - CMS'!$B$24:$B$5400,B454,'Using CMS - Inop_OoC - CMS'!$C$24:$C$5400,C454,'Using CMS - Inop_OoC - CMS'!$D$24:$D$5400,D454))","v":""},""]
[null,{"$f":"IF(Lists!AT433=\"\",\"\",Lists!AT433)","v":""},{"$f":"IF(Lists!AU433=\"\",\"\",Lists!AU433)","v":""},{"$f":"IF(Lists!AV433=\"\",\"\",Lists!AV433)","v":""},null,{"$f":"IF($E455=\"\",\"\",SUMIFS('Using CMS - Inop_OoC - CMS'!$H$24:$H$5400,'Using CMS - Inop_OoC - CMS'!$B$24:$B$5400,B455,'Using CMS - Inop_OoC - CMS'!$C$24:$C$5400,C455,'Using CMS - Inop_OoC - CMS'!$D$24:$D$5400,D455))","v":""},""]
[null,{"$f":"IF(Lists!AT434=\"\",\"\",Lists!AT434)","v":""},{"$f":"IF(Lists!AU434=\"\",\"\",Lists!AU434)","v":""},{"$f":"IF(Lists!AV434=\"\",\"\",Lists!AV434)","v":""},null,{"$f":"IF($E456=\"\",\"\",SUMIFS('Using CMS - Inop_OoC - CMS'!$H$24:$H$5400,'Using CMS - Inop_OoC - CMS'!$B$24:$B$5400,B456,'Using CMS - Inop_OoC - CMS'!$C$24:$C$5400,C456,'Using CMS - Inop_OoC - CMS'!$D$24:$D$5400,D456))","v":""},""]
[null,{"$f":"IF(Lists!AT435=\"\",\"\",Lists!AT435)","v":""},{"$f":"IF(Lists!AU435=\"\",\"\",Lists!AU435)","v":""},{"$f":"IF(Lists!AV435=\"\",\"\",Lists!AV435)","v":""},null,{"$f":"IF($E457=\"\",\"\",SUMIFS('Using CMS - Inop_OoC - CMS'!$H$24:$H$5400,'Using CMS - Inop_OoC - CMS'!$B$24:$B$5400,B457,'Using CMS - Inop_OoC - CMS'!$C$24:$C$5400,C457,'Using CMS - Inop_OoC - CMS'!$D$24:$D$5400,D457))","v":""},""]
[null,{"$f":"IF(Lists!AT436=\"\",\"\",Lists!AT436)","v":""},{"$f":"IF(Lists!AU436=\"\",\"\",Lists!AU436)","v":""},{"$f":"IF(Lists!AV436=\"\",\"\",Lists!AV436)","v":""},null,{"$f":"IF($E458=\"\",\"\",SUMIFS('Using CMS - Inop_OoC - CMS'!$H$24:$H$5400,'Using CMS - Inop_OoC - CMS'!$B$24:$B$5400,B458,'Using CMS - Inop_OoC - CMS'!$C$24:$C$5400,C458,'Using CMS - Inop_OoC - CMS'!$D$24:$D$5400,D458))","v":""},""]
[null,{"$f":"IF(Lists!AT437=\"\",\"\",Lists!AT437)","v":""},{"$f":"IF(Lists!AU437=\"\",\"\",Lists!AU437)","v":""},{"$f":"IF(Lists!AV437=\"\",\"\",Lists!AV437)","v":""},null,{"$f":"IF($E459=\"\",\"\",SUMIFS('Using CMS - Inop_OoC - CMS'!$H$24:$H$5400,'Using CMS - Inop_OoC - CMS'!$B$24:$B$5400,B459,'Using CMS - Inop_OoC - CMS'!$C$24:$C$5400,C459,'Using CMS - Inop_OoC - CMS'!$D$24:$D$5400,D459))","v":""},""]
[null,{"$f":"IF(Lists!AT438=\"\",\"\",Lists!AT438)","v":""},{"$f":"IF(Lists!AU438=\"\",\"\",Lists!AU438)","v":""},{"$f":"IF(Lists!AV438=\"\",\"\",Lists!AV438)","v":""},null,{"$f":"IF($E460=\"\",\"\",SUMIFS('Using CMS - Inop_OoC - CMS'!$H$24:$H$5400,'Using CMS - Inop_OoC - CMS'!$B$24:$B$5400,B460,'Using CMS - Inop_OoC - CMS'!$C$24:$C$5400,C460,'Using CMS - Inop_OoC - CMS'!$D$24:$D$5400,D460))","v":""},""]
[null,{"$f":"IF(Lists!AT439=\"\",\"\",Lists!AT439)","v":""},{"$f":"IF(Lists!AU439=\"\",\"\",Lists!AU439)","v":""},{"$f":"IF(Lists!AV439=\"\",\"\",Lists!AV439)","v":""},null,{"$f":"IF($E461=\"\",\"\",SUMIFS('Using CMS - Inop_OoC - CMS'!$H$24:$H$5400,'Using CMS - Inop_OoC - CMS'!$B$24:$B$5400,B461,'Using CMS - Inop_OoC - CMS'!$C$24:$C$5400,C461,'Using CMS - Inop_OoC - CMS'!$D$24:$D$5400,D461))","v":""},""]
[null,{"$f":"IF(Lists!AT440=\"\",\"\",Lists!AT440)","v":""},{"$f":"IF(Lists!AU440=\"\",\"\",Lists!AU440)","v":""},{"$f":"IF(Lists!AV440=\"\",\"\",Lists!AV440)","v":""},null,{"$f":"IF($E462=\"\",\"\",SUMIFS('Using CMS - Inop_OoC - CMS'!$H$24:$H$5400,'Using CMS - Inop_OoC - CMS'!$B$24:$B$5400,B462,'Using CMS - Inop_OoC - CMS'!$C$24:$C$5400,C462,'Using CMS - Inop_OoC - CMS'!$D$24:$D$5400,D462))","v":""},""]
[null,{"$f":"IF(Lists!AT441=\"\",\"\",Lists!AT441)","v":""},{"$f":"IF(Lists!AU441=\"\",\"\",Lists!AU441)","v":""},{"$f":"IF(Lists!AV441=\"\",\"\",Lists!AV441)","v":""},null,{"$f":"IF($E463=\"\",\"\",SUMIFS('Using CMS - Inop_OoC - CMS'!$H$24:$H$5400,'Using CMS - Inop_OoC - CMS'!$B$24:$B$5400,B463,'Using CMS - Inop_OoC - CMS'!$C$24:$C$5400,C463,'Using CMS - Inop_OoC - CMS'!$D$24:$D$5400,D463))","v":""},""]
[null,{"$f":"IF(Lists!AT442=\"\",\"\",Lists!AT442)","v":""},{"$f":"IF(Lists!AU442=\"\",\"\",Lists!AU442)","v":""},{"$f":"IF(Lists!AV442=\"\",\"\",Lists!AV442)","v":""},null,{"$f":"IF($E464=\"\",\"\",SUMIFS('Using CMS - Inop_OoC - CMS'!$H$24:$H$5400,'Using CMS - Inop_OoC - CMS'!$B$24:$B$5400,B464,'Using CMS - Inop_OoC - CMS'!$C$24:$C$5400,C464,'Using CMS - Inop_OoC - CMS'!$D$24:$D$5400,D464))","v":""},""]
[null,{"$f":"IF(Lists!AT443=\"\",\"\",Lists!AT443)","v":""},{"$f":"IF(Lists!AU443=\"\",\"\",Lists!AU443)","v":""},{"$f":"IF(Lists!AV443=\"\",\"\",Lists!AV443)","v":""},null,{"$f":"IF($E465=\"\",\"\",SUMIFS('Using CMS - Inop_OoC - CMS'!$H$24:$H$5400,'Using CMS - Inop_OoC - CMS'!$B$24:$B$5400,B465,'Using CMS - Inop_OoC - CMS'!$C$24:$C$5400,C465,'Using CMS - Inop_OoC - CMS'!$D$24:$D$5400,D465))","v":""},""]
[null,{"$f":"IF(Lists!AT444=\"\",\"\",Lists!AT444)","v":""},{"$f":"IF(Lists!AU444=\"\",\"\",Lists!AU444)","v":""},{"$f":"IF(Lists!AV444=\"\",\"\",Lists!AV444)","v":""},null,{"$f":"IF($E466=\"\",\"\",SUMIFS('Using CMS - Inop_OoC - CMS'!$H$24:$H$5400,'Using CMS - Inop_OoC - CMS'!$B$24:$B$5400,B466,'Using CMS - Inop_OoC - CMS'!$C$24:$C$5400,C466,'Using CMS - Inop_OoC - CMS'!$D$24:$D$5400,D466))","v":""},""]
[null,{"$f":"IF(Lists!AT445=\"\",\"\",Lists!AT445)","v":""},{"$f":"IF(Lists!AU445=\"\",\"\",Lists!AU445)","v":""},{"$f":"IF(Lists!AV445=\"\",\"\",Lists!AV445)","v":""},null,{"$f":"IF($E467=\"\",\"\",SUMIFS('Using CMS - Inop_OoC - CMS'!$H$24:$H$5400,'Using CMS - Inop_OoC - CMS'!$B$24:$B$5400,B467,'Using CMS - Inop_OoC - CMS'!$C$24:$C$5400,C467,'Using CMS - Inop_OoC - CMS'!$D$24:$D$5400,D467))","v":""},""]
[null,{"$f":"IF(Lists!AT446=\"\",\"\",Lists!AT446)","v":""},{"$f":"IF(Lists!AU446=\"\",\"\",Lists!AU446)","v":""},{"$f":"IF(Lists!AV446=\"\",\"\",Lists!AV446)","v":""},null,{"$f":"IF($E468=\"\",\"\",SUMIFS('Using CMS - Inop_OoC - CMS'!$H$24:$H$5400,'Using CMS - Inop_OoC - CMS'!$B$24:$B$5400,B468,'Using CMS - Inop_OoC - CMS'!$C$24:$C$5400,C468,'Using CMS - Inop_OoC - CMS'!$D$24:$D$5400,D468))","v":""},""]
[null,{"$f":"IF(Lists!AT447=\"\",\"\",Lists!AT447)","v":""},{"$f":"IF(Lists!AU447=\"\",\"\",Lists!AU447)","v":""},{"$f":"IF(Lists!AV447=\"\",\"\",Lists!AV447)","v":""},null,{"$f":"IF($E469=\"\",\"\",SUMIFS('Using CMS - Inop_OoC - CMS'!$H$24:$H$5400,'Using CMS - Inop_OoC - CMS'!$B$24:$B$5400,B469,'Using CMS - Inop_OoC - CMS'!$C$24:$C$5400,C469,'Using CMS - Inop_OoC - CMS'!$D$24:$D$5400,D469))","v":""},""]
[null,{"$f":"IF(Lists!AT448=\"\",\"\",Lists!AT448)","v":""},{"$f":"IF(Lists!AU448=\"\",\"\",Lists!AU448)","v":""},{"$f":"IF(Lists!AV448=\"\",\"\",Lists!AV448)","v":""},null,{"$f":"IF($E470=\"\",\"\",SUMIFS('Using CMS - Inop_OoC - CMS'!$H$24:$H$5400,'Using CMS - Inop_OoC - CMS'!$B$24:$B$5400,B470,'Using CMS - Inop_OoC - CMS'!$C$24:$C$5400,C470,'Using CMS - Inop_OoC - CMS'!$D$24:$D$5400,D470))","v":""},""]
[null,{"$f":"IF(Lists!AT449=\"\",\"\",Lists!AT449)","v":""},{"$f":"IF(Lists!AU449=\"\",\"\",Lists!AU449)","v":""},{"$f":"IF(Lists!AV449=\"\",\"\",Lists!AV449)","v":""},null,{"$f":"IF($E471=\"\",\"\",SUMIFS('Using CMS - Inop_OoC - CMS'!$H$24:$H$5400,'Using CMS - Inop_OoC - CMS'!$B$24:$B$5400,B471,'Using CMS - Inop_OoC - CMS'!$C$24:$C$5400,C471,'Using CMS - Inop_OoC - CMS'!$D$24:$D$5400,D471))","v":""},""]
[null,{"$f":"IF(Lists!AT450=\"\",\"\",Lists!AT450)","v":""},{"$f":"IF(Lists!AU450=\"\",\"\",Lists!AU450)","v":""},{"$f":"IF(Lists!AV450=\"\",\"\",Lists!AV450)","v":""},null,{"$f":"IF($E472=\"\",\"\",SUMIFS('Using CMS - Inop_OoC - CMS'!$H$24:$H$5400,'Using CMS - Inop_OoC - CMS'!$B$24:$B$5400,B472,'Using CMS - Inop_OoC - CMS'!$C$24:$C$5400,C472,'Using CMS - Inop_OoC - CMS'!$D$24:$D$5400,D472))","v":""},{"$f":"IF($E472=\"\",\"\",IF(F472=0,\"N/A\",F472/$E472))","v":""}]
[null,{"$f":"IF(Lists!AT451=\"\",\"\",Lists!AT451)","v":""},{"$f":"IF(Lists!AU451=\"\",\"\",Lists!AU451)","v":""},{"$f":"IF(Lists!AV451=\"\",\"\",Lists!AV451)","v":""},null,{"$f":"IF($E473=\"\",\"\",SUMIFS('Using CMS - Inop_OoC - CMS'!$H$24:$H$5400,'Using CMS - Inop_OoC - CMS'!$B$24:$B$5400,B473,'Using CMS - Inop_OoC - CMS'!$C$24:$C$5400,C473,'Using CMS - Inop_OoC - CMS'!$D$24:$D$5400,D473))","v":""},""]
[null,{"$f":"IF(Lists!AT452=\"\",\"\",Lists!AT452)","v":""},{"$f":"IF(Lists!AU452=\"\",\"\",Lists!AU452)","v":""},{"$f":"IF(Lists!AV452=\"\",\"\",Lists!AV452)","v":""},null,{"$f":"IF($E474=\"\",\"\",SUMIFS('Using CMS - Inop_OoC - CMS'!$H$24:$H$5400,'Using CMS - Inop_OoC - CMS'!$B$24:$B$5400,B474,'Using CMS - Inop_OoC - CMS'!$C$24:$C$5400,C474,'Using CMS - Inop_OoC - CMS'!$D$24:$D$5400,D474))","v":""},""]
[null,{"$f":"IF(Lists!AT453=\"\",\"\",Lists!AT453)","v":""},{"$f":"IF(Lists!AU453=\"\",\"\",Lists!AU453)","v":""},{"$f":"IF(Lists!AV453=\"\",\"\",Lists!AV453)","v":""},null,{"$f":"IF($E475=\"\",\"\",SUMIFS('Using CMS - Inop_OoC - CMS'!$H$24:$H$5400,'Using CMS - Inop_OoC - CMS'!$B$24:$B$5400,B475,'Using CMS - Inop_OoC - CMS'!$C$24:$C$5400,C475,'Using CMS - Inop_OoC - CMS'!$D$24:$D$5400,D475))","v":""},""]
[null,{"$f":"IF(Lists!AT454=\"\",\"\",Lists!AT454)","v":""},{"$f":"IF(Lists!AU454=\"\",\"\",Lists!AU454)","v":""},{"$f":"IF(Lists!AV454=\"\",\"\",Lists!AV454)","v":""},null,{"$f":"IF($E476=\"\",\"\",SUMIFS('Using CMS - Inop_OoC - CMS'!$H$24:$H$5400,'Using CMS - Inop_OoC - CMS'!$B$24:$B$5400,B476,'Using CMS - Inop_OoC - CMS'!$C$24:$C$5400,C476,'Using CMS - Inop_OoC - CMS'!$D$24:$D$5400,D476))","v":""},""]
[null,{"$f":"IF(Lists!AT455=\"\",\"\",Lists!AT455)","v":""},{"$f":"IF(Lists!AU455=\"\",\"\",Lists!AU455)","v":""},{"$f":"IF(Lists!AV455=\"\",\"\",Lists!AV455)","v":""},null,{"$f":"IF($E477=\"\",\"\",SUMIFS('Using CMS - Inop_OoC - CMS'!$H$24:$H$5400,'Using CMS - Inop_OoC - CMS'!$B$24:$B$5400,B477,'Using CMS - Inop_OoC - CMS'!$C$24:$C$5400,C477,'Using CMS - Inop_OoC - CMS'!$D$24:$D$5400,D477))","v":""},""]
[null,{"$f":"IF(Lists!AT456=\"\",\"\",Lists!AT456)","v":""},{"$f":"IF(Lists!AU456=\"\",\"\",Lists!AU456)","v":""},{"$f":"IF(Lists!AV456=\"\",\"\",Lists!AV456)","v":""},null,{"$f":"IF($E478=\"\",\"\",SUMIFS('Using CMS - Inop_OoC - CMS'!$H$24:$H$5400,'Using CMS - Inop_OoC - CMS'!$B$24:$B$5400,B478,'Using CMS - Inop_OoC - CMS'!$C$24:$C$5400,C478,'Using CMS - Inop_OoC - CMS'!$D$24:$D$5400,D478))","v":""},""]
[null,{"$f":"IF(Lists!AT457=\"\",\"\",Lists!AT457)","v":""},{"$f":"IF(Lists!AU457=\"\",\"\",Lists!AU457)","v":""},{"$f":"IF(Lists!AV457=\"\",\"\",Lists!AV457)","v":""},null,{"$f":"IF($E479=\"\",\"\",SUMIFS('Using CMS - Inop_OoC - CMS'!$H$24:$H$5400,'Using CMS - Inop_OoC - CMS'!$B$24:$B$5400,B479,'Using CMS - Inop_OoC - CMS'!$C$24:$C$5400,C479,'Using CMS - Inop_OoC - CMS'!$D$24:$D$5400,D479))","v":""},""]
[null,{"$f":"IF(Lists!AT458=\"\",\"\",Lists!AT458)","v":""},{"$f":"IF(Lists!AU458=\"\",\"\",Lists!AU458)","v":""},{"$f":"IF(Lists!AV458=\"\",\"\",Lists!AV458)","v":""},null,{"$f":"IF($E480=\"\",\"\",SUMIFS('Using CMS - Inop_OoC - CMS'!$H$24:$H$5400,'Using CMS - Inop_OoC - CMS'!$B$24:$B$5400,B480,'Using CMS - Inop_OoC - CMS'!$C$24:$C$5400,C480,'Using CMS - Inop_OoC - CMS'!$D$24:$D$5400,D480))","v":""},""]
[null,{"$f":"IF(Lists!AT459=\"\",\"\",Lists!AT459)","v":""},{"$f":"IF(Lists!AU459=\"\",\"\",Lists!AU459)","v":""},{"$f":"IF(Lists!AV459=\"\",\"\",Lists!AV459)","v":""},null,{"$f":"IF($E481=\"\",\"\",SUMIFS('Using CMS - Inop_OoC - CMS'!$H$24:$H$5400,'Using CMS - Inop_OoC - CMS'!$B$24:$B$5400,B481,'Using CMS - Inop_OoC - CMS'!$C$24:$C$5400,C481,'Using CMS - Inop_OoC - CMS'!$D$24:$D$5400,D481))","v":""},""]
[null,{"$f":"IF(Lists!AT460=\"\",\"\",Lists!AT460)","v":""},{"$f":"IF(Lists!AU460=\"\",\"\",Lists!AU460)","v":""},{"$f":"IF(Lists!AV460=\"\",\"\",Lists!AV460)","v":""},null,{"$f":"IF($E482=\"\",\"\",SUMIFS('Using CMS - Inop_OoC - CMS'!$H$24:$H$5400,'Using CMS - Inop_OoC - CMS'!$B$24:$B$5400,B482,'Using CMS - Inop_OoC - CMS'!$C$24:$C$5400,C482,'Using CMS - Inop_OoC - CMS'!$D$24:$D$5400,D482))","v":""},""]
[null,{"$f":"IF(Lists!AT461=\"\",\"\",Lists!AT461)","v":""},{"$f":"IF(Lists!AU461=\"\",\"\",Lists!AU461)","v":""},{"$f":"IF(Lists!AV461=\"\",\"\",Lists!AV461)","v":""},null,{"$f":"IF($E483=\"\",\"\",SUMIFS('Using CMS - Inop_OoC - CMS'!$H$24:$H$5400,'Using CMS - Inop_OoC - CMS'!$B$24:$B$5400,B483,'Using CMS - Inop_OoC - CMS'!$C$24:$C$5400,C483,'Using CMS - Inop_OoC - CMS'!$D$24:$D$5400,D483))","v":""},""]
[null,{"$f":"IF(Lists!AT462=\"\",\"\",Lists!AT462)","v":""},{"$f":"IF(Lists!AU462=\"\",\"\",Lists!AU462)","v":""},{"$f":"IF(Lists!AV462=\"\",\"\",Lists!AV462)","v":""},null,{"$f":"IF($E484=\"\",\"\",SUMIFS('Using CMS - Inop_OoC - CMS'!$H$24:$H$5400,'Using CMS - Inop_OoC - CMS'!$B$24:$B$5400,B484,'Using CMS - Inop_OoC - CMS'!$C$24:$C$5400,C484,'Using CMS - Inop_OoC - CMS'!$D$24:$D$5400,D484))","v":""},""]
[null,{"$f":"IF(Lists!AT463=\"\",\"\",Lists!AT463)","v":""},{"$f":"IF(Lists!AU463=\"\",\"\",Lists!AU463)","v":""},{"$f":"IF(Lists!AV463=\"\",\"\",Lists!AV463)","v":""},null,{"$f":"IF($E485=\"\",\"\",SUMIFS('Using CMS - Inop_OoC - CMS'!$H$24:$H$5400,'Using CMS - Inop_OoC - CMS'!$B$24:$B$5400,B485,'Using CMS - Inop_OoC - CMS'!$C$24:$C$5400,C485,'Using CMS - Inop_OoC - CMS'!$D$24:$D$5400,D485))","v":""},""]
[null,{"$f":"IF(Lists!AT464=\"\",\"\",Lists!AT464)","v":""},{"$f":"IF(Lists!AU464=\"\",\"\",Lists!AU464)","v":""},{"$f":"IF(Lists!AV464=\"\",\"\",Lists!AV464)","v":""},null,{"$f":"IF($E486=\"\",\"\",SUMIFS('Using CMS - Inop_OoC - CMS'!$H$24:$H$5400,'Using CMS - Inop_OoC - CMS'!$B$24:$B$5400,B486,'Using CMS - Inop_OoC - CMS'!$C$24:$C$5400,C486,'Using CMS - Inop_OoC - CMS'!$D$24:$D$5400,D486))","v":""},""]
[null,{"$f":"IF(Lists!AT465=\"\",\"\",Lists!AT465)","v":""},{"$f":"IF(Lists!AU465=\"\",\"\",Lists!AU465)","v":""},{"$f":"IF(Lists!AV465=\"\",\"\",Lists!AV465)","v":""},null,{"$f":"IF($E487=\"\",\"\",SUMIFS('Using CMS - Inop_OoC - CMS'!$H$24:$H$5400,'Using CMS - Inop_OoC - CMS'!$B$24:$B$5400,B487,'Using CMS - Inop_OoC - CMS'!$C$24:$C$5400,C487,'Using CMS - Inop_OoC - CMS'!$D$24:$D$5400,D487))","v":""},""]
[null,{"$f":"IF(Lists!AT466=\"\",\"\",Lists!AT466)","v":""},{"$f":"IF(Lists!AU466=\"\",\"\",Lists!AU466)","v":""},{"$f":"IF(Lists!AV466=\"\",\"\",Lists!AV466)","v":""},null,{"$f":"IF($E488=\"\",\"\",SUMIFS('Using CMS - Inop_OoC - CMS'!$H$24:$H$5400,'Using CMS - Inop_OoC - CMS'!$B$24:$B$5400,B488,'Using CMS - Inop_OoC - CMS'!$C$24:$C$5400,C488,'Using CMS - Inop_OoC - CMS'!$D$24:$D$5400,D488))","v":""},""]
[null,{"$f":"IF(Lists!AT467=\"\",\"\",Lists!AT467)","v":""},{"$f":"IF(Lists!AU467=\"\",\"\",Lists!AU467)","v":""},{"$f":"IF(Lists!AV467=\"\",\"\",Lists!AV467)","v":""},null,{"$f":"IF($E489=\"\",\"\",SUMIFS('Using CMS - Inop_OoC - CMS'!$H$24:$H$5400,'Using CMS - Inop_OoC - CMS'!$B$24:$B$5400,B489,'Using CMS - Inop_OoC - CMS'!$C$24:$C$5400,C489,'Using CMS - Inop_OoC - CMS'!$D$24:$D$5400,D489))","v":""},""]
[null,{"$f":"IF(Lists!AT468=\"\",\"\",Lists!AT468)","v":""},{"$f":"IF(Lists!AU468=\"\",\"\",Lists!AU468)","v":""},{"$f":"IF(Lists!AV468=\"\",\"\",Lists!AV468)","v":""},null,{"$f":"IF($E490=\"\",\"\",SUMIFS('Using CMS - Inop_OoC - CMS'!$H$24:$H$5400,'Using CMS - Inop_OoC - CMS'!$B$24:$B$5400,B490,'Using CMS - Inop_OoC - CMS'!$C$24:$C$5400,C490,'Using CMS - Inop_OoC - CMS'!$D$24:$D$5400,D490))","v":""},""]
[null,{"$f":"IF(Lists!AT469=\"\",\"\",Lists!AT469)","v":""},{"$f":"IF(Lists!AU469=\"\",\"\",Lists!AU469)","v":""},{"$f":"IF(Lists!AV469=\"\",\"\",Lists!AV469)","v":""},null,{"$f":"IF($E491=\"\",\"\",SUMIFS('Using CMS - Inop_OoC - CMS'!$H$24:$H$5400,'Using CMS - Inop_OoC - CMS'!$B$24:$B$5400,B491,'Using CMS - Inop_OoC - CMS'!$C$24:$C$5400,C491,'Using CMS - Inop_OoC - CMS'!$D$24:$D$5400,D491))","v":""},""]
[null,{"$f":"IF(Lists!AT470=\"\",\"\",Lists!AT470)","v":""},{"$f":"IF(Lists!AU470=\"\",\"\",Lists!AU470)","v":""},{"$f":"IF(Lists!AV470=\"\",\"\",Lists!AV470)","v":""},null,{"$f":"IF($E492=\"\",\"\",SUMIFS('Using CMS - Inop_OoC - CMS'!$H$24:$H$5400,'Using CMS - Inop_OoC - CMS'!$B$24:$B$5400,B492,'Using CMS - Inop_OoC - CMS'!$C$24:$C$5400,C492,'Using CMS - Inop_OoC - CMS'!$D$24:$D$5400,D492))","v":""},""]
[null,{"$f":"IF(Lists!AT471=\"\",\"\",Lists!AT471)","v":""},{"$f":"IF(Lists!AU471=\"\",\"\",Lists!AU471)","v":""},{"$f":"IF(Lists!AV471=\"\",\"\",Lists!AV471)","v":""},null,{"$f":"IF($E493=\"\",\"\",SUMIFS('Using CMS - Inop_OoC - CMS'!$H$24:$H$5400,'Using CMS - Inop_OoC - CMS'!$B$24:$B$5400,B493,'Using CMS - Inop_OoC - CMS'!$C$24:$C$5400,C493,'Using CMS - Inop_OoC - CMS'!$D$24:$D$5400,D493))","v":""},""]
[null,{"$f":"IF(Lists!AT472=\"\",\"\",Lists!AT472)","v":""},{"$f":"IF(Lists!AU472=\"\",\"\",Lists!AU472)","v":""},{"$f":"IF(Lists!AV472=\"\",\"\",Lists!AV472)","v":""},null,{"$f":"IF($E494=\"\",\"\",SUMIFS('Using CMS - Inop_OoC - CMS'!$H$24:$H$5400,'Using CMS - Inop_OoC - CMS'!$B$24:$B$5400,B494,'Using CMS - Inop_OoC - CMS'!$C$24:$C$5400,C494,'Using CMS - Inop_OoC - CMS'!$D$24:$D$5400,D494))","v":""},""]
[null,{"$f":"IF(Lists!AT473=\"\",\"\",Lists!AT473)","v":""},{"$f":"IF(Lists!AU473=\"\",\"\",Lists!AU473)","v":""},{"$f":"IF(Lists!AV473=\"\",\"\",Lists!AV473)","v":""},null,{"$f":"IF($E495=\"\",\"\",SUMIFS('Using CMS - Inop_OoC - CMS'!$H$24:$H$5400,'Using CMS - Inop_OoC - CMS'!$B$24:$B$5400,B495,'Using CMS - Inop_OoC - CMS'!$C$24:$C$5400,C495,'Using CMS - Inop_OoC - CMS'!$D$24:$D$5400,D495))","v":""},""]
[null,{"$f":"IF(Lists!AT474=\"\",\"\",Lists!AT474)","v":""},{"$f":"IF(Lists!AU474=\"\",\"\",Lists!AU474)","v":""},{"$f":"IF(Lists!AV474=\"\",\"\",Lists!AV474)","v":""},null,{"$f":"IF($E496=\"\",\"\",SUMIFS('Using CMS - Inop_OoC - CMS'!$H$24:$H$5400,'Using CMS - Inop_OoC - CMS'!$B$24:$B$5400,B496,'Using CMS - Inop_OoC - CMS'!$C$24:$C$5400,C496,'Using CMS - Inop_OoC - CMS'!$D$24:$D$5400,D496))","v":""},""]
[null,{"$f":"IF(Lists!AT475=\"\",\"\",Lists!AT475)","v":""},{"$f":"IF(Lists!AU475=\"\",\"\",Lists!AU475)","v":""},{"$f":"IF(Lists!AV475=\"\",\"\",Lists!AV475)","v":""},null,{"$f":"IF($E497=\"\",\"\",SUMIFS('Using CMS - Inop_OoC - CMS'!$H$24:$H$5400,'Using CMS - Inop_OoC - CMS'!$B$24:$B$5400,B497,'Using CMS - Inop_OoC - CMS'!$C$24:$C$5400,C497,'Using CMS - Inop_OoC - CMS'!$D$24:$D$5400,D497))","v":""},""]
[null,{"$f":"IF(Lists!AT476=\"\",\"\",Lists!AT476)","v":""},{"$f":"IF(Lists!AU476=\"\",\"\",Lists!AU476)","v":""},{"$f":"IF(Lists!AV476=\"\",\"\",Lists!AV476)","v":""},null,{"$f":"IF($E498=\"\",\"\",SUMIFS('Using CMS - Inop_OoC - CMS'!$H$24:$H$5400,'Using CMS - Inop_OoC - CMS'!$B$24:$B$5400,B498,'Using CMS - Inop_OoC - CMS'!$C$24:$C$5400,C498,'Using CMS - Inop_OoC - CMS'!$D$24:$D$5400,D498))","v":""},""]
[null,{"$f":"IF(Lists!AT477=\"\",\"\",Lists!AT477)","v":""},{"$f":"IF(Lists!AU477=\"\",\"\",Lists!AU477)","v":""},{"$f":"IF(Lists!AV477=\"\",\"\",Lists!AV477)","v":""},null,{"$f":"IF($E499=\"\",\"\",SUMIFS('Using CMS - Inop_OoC - CMS'!$H$24:$H$5400,'Using CMS - Inop_OoC - CMS'!$B$24:$B$5400,B499,'Using CMS - Inop_OoC - CMS'!$C$24:$C$5400,C499,'Using CMS - Inop_OoC - CMS'!$D$24:$D$5400,D499))","v":""},""]
[null,{"$f":"IF(Lists!AT478=\"\",\"\",Lists!AT478)","v":""},{"$f":"IF(Lists!AU478=\"\",\"\",Lists!AU478)","v":""},{"$f":"IF(Lists!AV478=\"\",\"\",Lists!AV478)","v":""},null,{"$f":"IF($E500=\"\",\"\",SUMIFS('Using CMS - Inop_OoC - CMS'!$H$24:$H$5400,'Using CMS - Inop_OoC - CMS'!$B$24:$B$5400,B500,'Using CMS - Inop_OoC - CMS'!$C$24:$C$5400,C500,'Using CMS - Inop_OoC - CMS'!$D$24:$D$5400,D500))","v":""},""]

{"sheet":"Using CMS - Deviation - Limits","index":8,"n_rows":500,"n_cols":12,"rows_kept":500}
[null,"DO NOT REMOVE OR EDIT INFORMATION IN ROWS 1 THROUGH 5\nFOR INTERNAL USE ONLY"]
[null,"Template Name",null,{"$f":"+Welcome!B2","v":"63.5580(g) Semiannual Compliance Report (Spreadsheet Template)"}]
[null,"CitationID",null,{"$f":"+Welcome!B3","v":"63.5580(g)"}]
[null,"Template Version",null,{"$f":"+Welcome!B4","v":"ICR Draft"}]
[null,"Last Updated Date",null,{"$f":"+Welcome!B5","v":{"v":45176,"d":"4517600.00%"}}]
[]
[null,"40 CFR Part 63, Subpart UUUU National Emission Standards for Hazardous Air Pollutants for Cellulose Products Manufacturing - §63.5580 Semiannual Compliance Report Spreadsheet Template"]
[null,"\n"]
[]
[]
[]
[null,"Company Record No. \n(Select from Dropdown)","Process Unit Description\n(§63.5580(e)(9))\n(Select from Dropdown)","Type of Operating Period\n(§63.5580(e)(4))\n(Select from Dropdown)","Starting Date of Deviation \n(§63.5580(e)(4))","Starting Time of \nDeviation \n(§63.5580(e)(4))","Ending Date of \nDeviation \n(§63.5580(e)(4))","Ending Time of \nDeviation \n(§63.5580(e)(4))","Duration of Deviation \n(hours)  \n(§63.5580(e)(5))  \n(Used for calculations on Deviation - Summary tab)","Cause of Deviation \n(§63.5580(e)(6))\n(Select from Dropdown)","Estimate of the Quantity of Each Regulated Pollutant (§63.5580(e)(14))","Method Used to Estimate Emissions (§63.5580(e)(14))"]
[null,"RecordId","ProcessUnitDesc","OperatingPeriod","DeviationStartDate","DeviationStartTime","DeviationEndDate","DeviationEndTime","DeviationDuration","DeviationCause","EmissionQuantity","EstimationMethod"]
[null,"e.g.: 1","e.g.: Line 1 ","e.g.: Other Operating Period","e.g.: 2/12/2020","e.g.: 13:05","e.g.: 2/13/2020","e.g.: 08:00","e.g.: 18.92","e.g.: Control Equipment Problems","e.g.: 16 lbs","e.g.: engineering estimate "]
[null,"e.g.:","e.g.:","e.g.:","e.g.:","e.g.:","e.g.:","e.g.:","e.g.:","e.g.:","e.g.:","e.g.:"]
[null,"e.g.:","e.g.:","e.g.:","e.g.:","e.g.:","e.g.:","e.g.:","e.g.:","e.g.:","e.g.:","e.g.:"]
[null,"e.g.:","e.g.:","e.g.:","e.g.:","e.g.:","e.g.:","e.g.:","e.g.:","e.g.:","e.g.:","e.g.:"]
[null,"e.g.:","e.g.:","e.g.:","e.g.:","e.g.:","e.g.:","e.g.:","e.g.:","e.g.:","e.g.:","e.g.:"]
[null,"e.g.:","e.g.:","e.g.:","e.g.:","e.g.:","e.g.:","e.g.:","e.g.:","e.g.:","e.g.:","e.g.:"]
[null,"e.g.:","e.g.:","e.g.:","e.g.:","e.g.:","e.g.:","e.g.:","e.g.:","e.g.:","e.g.:","e.g.:"]
[null,"e.g.:","e.g.:","e.g.:","e.g.:","e.g.:","e.g.:","e.g.:","e.g.:","e.g.:","e.g.:","e.g.:"]
[null,"e.g.:","e.g.:","e.g.:","e.g.:","e.g.:","e.g.:","e.g.:","e.g.:","e.g.:","e.g.:","e.g.:"]
[null,"e.g.:","e.g.:","e.g.:","e.g.:","e.g.:","e.g.:","e.g.:","e.g.:","e.g.:","e.g.:","e.g.:"]
[{"$nulls":8},{"$f":"IF(H24=\"\",\"\",(VALUE(TEXT(G24,\"m/dd/yy \")&TEXT(H24,\"hh:mm:ss\"))-(VALUE(TEXT(E24,\"m/dd/yy \")&TEXT(F24,\"hh:mm:ss\"))))*24)","v":""}]
[{"$nulls":8},{"$f":"IF(H25=\"\",\"\",(VALUE(TEXT(G25,\"m/dd/yy \")&TEXT(H25,\"hh:mm:ss\"))-(VALUE(TEXT(E25,\"m/dd/yy \")&TEXT(F25,\"hh:mm:ss\"))))*24)","v":""}]
[{"$nulls":8},""]
[{"$nulls":8},""]
[{"$nulls":8},""]
[{"$nulls":8},""]
[{"$nulls":8},""]
[{"$nulls":8},""]
[{"$nulls":8},""]
[{"$nulls":8},""]
[{"$nulls":8},""]
[{"$nulls":8},""]
[{"$nulls":8},""]
[{"$nulls":8},""]
[{"$nulls":8},""]
[{"$nulls":8},""]
[{"$nulls":8},""]
[{"$nulls":8},""]
[{"$nulls":8},""]
[{"$nulls":8},""]
[{"$nulls":8},""]
[{"$nulls":8},""]
[{"$nulls":8},""]
[{"$nulls":8},""]
[{"$nulls":8},""]
[{"$nulls":8},""]
[{"$nulls":8},""]
[{"$nulls":8},""]
[{"$nulls":8},""]
[{"$nulls":8},""]
[{"$nulls":8},""]
[{"$nulls":8},""]
[{"$nulls":8},""]
[{"$nulls":8},""]
[{"$nulls":8},""]
[{"$nulls":8},""]
[{"$nulls":8},""]
[{"$nulls":8},""]
[{"$nulls":8},""]
[{"$nulls":8},""]
[{"$nulls":8},""]
[{"$nulls":8},""]
[{"$nulls":8},""]
[{"$nulls":8},""]
[{"$nulls":8},""]
[{"$nulls":8},""]
[{"$nulls":8},""]
[{"$nulls":8},""]
[{"$nulls":8},""]
[{"$nulls":8},""]
[{"$nulls":8},""]
[{"$nulls":8},""]
[{"$nulls":8},""]
[{"$nulls":8},""]
[{"$nulls":8},""]
[{"$nulls":8},""]
[{"$nulls":8},""]
[{"$nulls":8},""]
[{"$nulls":8},""]
[{"$nulls":8},""]
[{"$nulls":8},""]
[{"$nulls":8},""]
[{"$nulls":8},""]
[{"$nulls":8},""]
[{"$nulls":8},""]
[{"$nulls":8},{"$f":"IF(H89=\"\",\"\",(VALUE(TEXT(G89,\"m/dd/yy \")&TEXT(H89,\"hh:mm:ss\"))-(VALUE(TEXT(E89,\"m/dd/yy \")&TEXT(F89,\"hh:mm:ss\"))))*24)","v":""}]
[{"$nulls":8},""]
[{"$nulls":8},""]
[{"$nulls":8},""]
[{"$nulls":8},""]
[{"$nulls":8},""]
[{"$nulls":8},""]
[{"$nulls":8},""]
[{"$nulls":8},""]
[{"$nulls":8},""]
[{"$nulls":8},""]
[{"$nulls":8},""]
[{"$nulls":8},""]
[{"$nulls":8},""]
[{"$nulls":8},""]
[{"$nulls":8},""]
[{"$nulls":8},""]
[{"$nulls":8},""]
[{"$nulls":8},""]
[{"$nulls":8},""]
[{"$nulls":8},""]
[{"$nulls":8},""]
[{"$nulls":8},""]
[{"$nulls":8},""]
[{"$nulls":8},""]
[{"$nulls":8},""]
[{"$nulls":8},""]
[{"$nulls":8},""]
[{"$nulls":8},""]
[{"$nulls":8},""]
[{"$nulls":8},""]
[{"$nulls":8},""]
[{"$nulls":8},""]
[{"$nulls":8},""]
[{"$nulls":8},""]
[{"$nulls":8},""]
[{"$nulls":8},""]
[{"$nulls":8},""]
[{"$nulls":8},""]
[{"$nulls":8},""]
[{"$nulls":8},""]
[{"$nulls":8},""]
[{"$nulls":8},""]
[{"$nulls":8},""]
[{"$nulls":8},""]
[{"$nulls":8},""]
[{"$nulls":8},""]
[{"$nulls":8},""]
[{"$nulls":8},""]
[{"$nulls":8},""]
[{"$nulls":8},""]
[{"$nulls":8},""]
[{"$nulls":8},""]
[{"$nulls":8},""]
[{"$nulls":8},""]
[{"$nulls":8},""]
[{"$nulls":8},""]
[{"$nulls":8},""]
[{"$nulls":8},""]
[{"$nulls":8},""]
[{"$nulls":8},""]
[{"$nulls":8},""]
[{"$nulls":8},""]
[{"$nulls":8},""]
[{"$nulls":8},{"$f":"IF(H153=\"\",\"\",(VALUE(TEXT(G153,\"m/dd/yy \")&TEXT(H153,\"hh:mm:ss\"))-(VALUE(TEXT(E153,\"m/dd/yy \")&TEXT(F153,\"hh:mm:ss\"))))*24)","v":""}]
[{"$nulls":8},""]
[{"$nulls":8},""]
[{"$nulls":8},""]
[{"$nulls":8},""]
[{"$nulls":8},""]
[{"$nulls":8},""]
[{"$nulls":8},""]
[{"$nulls":8},""]
[{"$nulls":8},""]
[{"$nulls":8},""]
[{"$nulls":8},""]
[{"$nulls":8},""]
[{"$nulls":8},""]
[{"$nulls":8},""]
[{"$nulls":8},""]
[{"$nulls":8},""]
[{"$nulls":8},""]
[{"$nulls":8},""]
[{"$nulls":8},""]
[{"$nulls":8},""]
[{"$nulls":8},""]
[{"$nulls":8},""]
[{"$nulls":8},""]
[{"$nulls":8},""]
[{"$nulls":8},""]
[{"$nulls":8},""]
[{"$nulls":8},""]
[{"$nulls":8},""]
[{"$nulls":8},""]
[{"$nulls":8},""]
[{"$nulls":8},""]
[{"$nulls":8},""]
[{"$nulls":8},""]
[{"$nulls":8},""]
[{"$nulls":8},""]
[{"$nulls":8},""]
[{"$nulls":8},""]
[{"$nulls":8},""]
[{"$nulls":8},""]
[{"$nulls":8},""]
[{"$nulls":8},""]
[{"$nulls":8},""]
[{"$nulls":8},""]
[{"$nulls":8},""]
[{"$nulls":8},""]
[{"$nulls":8},""]
[{"$nulls":8},""]
[{"$nulls":8},""]
[{"$nulls":8},""]
[{"$nulls":8},""]
[{"$nulls":8},""]
[{"$nulls":8},""]
[{"$nulls":8},""]
[{"$nulls":8},""]
[{"$nulls":8},""]
[{"$nulls":8},""]
[{"$nulls":8},""]
[{"$nulls":8},""]
[{"$nulls":8},""]
[{"$nulls":8},""]
[{"$nulls":8},""]
[{"$nulls":8},""]
[{"$nulls":8},""]
[{"$nulls":8},{"$f":"IF(H217=\"\",\"\",(VALUE(TEXT(G217,\"m/dd/yy \")&TEXT(H217,\"hh:mm:ss\"))-(VALUE(TEXT(E217,\"m/dd/yy \")&TEXT(F217,\"hh:mm:ss\"))))*24)","v":""}]
[{"$nulls":8},""]
[{"$nulls":8},""]
[{"$nulls":8},""]
[{"$nulls":8},""]
[{"$nulls":8},""]
[{"$nulls":8},""]
[{"$nulls":8},""]
[{"$nulls":8},""]
[{"$nulls":8},""]
[{"$nulls":8},""]
[{"$nulls":8},""]
[{"$nulls":8},""]
[{"$nulls":8},""]
[{"$nulls":8},""]
[{"$nulls":8},""]
[{"$nulls":8},""]
[{"$nulls":8},""]
[{"$nulls":8},""]
[{"$nulls":8},""]
[{"$nulls":8},""]
[{"$nulls":8},""]
[{"$nulls":8},""]
[{"$nulls":8},""]
[{"$nulls":8},""]
[{"$nulls":8},""]
[{"$nulls":8},""]
[{"$nulls":8},""]
[{"$nulls":8},""]
[{"$nulls":8},""]
[{"$nulls":8},""]
[{"$nulls":8},""]
[{"$nulls":8},""]
[{"$nulls":8},""]
[{"$nulls":8},""]
[{"$nulls":8},""]
[{"$nulls":8},""]
[{"$nulls":8},""]
[{"$nulls":8},""]
[{"$nulls":8},""]
[{"$nulls":8},""]
[{"$nulls":8},""]
[{"$nulls":8},""]
[{"$nulls":8},""]
[{"$nulls":8},""]
[{"$nulls":8},""]
[{"$nulls":8},""]
[{"$nulls":8},""]
[{"$nulls":8},""]
[{"$nulls":8},""]
[{"$nulls":8},""]
[{"$nulls":8},""]
[{"$nulls":8},""]
[{"$nulls":8},""]
[{"$nulls":8},""]
[{"$nulls":8},""]
[{"$nulls":8},""]
[{"$nulls":8},""]
[{"$nulls":8},""]
[{"$nulls":8},""]
[{"$nulls":8},""]
[{"$nulls":8},""]
[{"$nulls":8},""]
[{"$nulls":8},""]
[{"$nulls":8},{"$f":"IF(H281=\"\",\"\",(VALUE(TEXT(G281,\"m/dd/yy \")&TEXT(H281,\"hh:mm:ss\"))-(VALUE(TEXT(E281,\"m/dd/yy \")&TEXT(F281,\"hh:mm:ss\"))))*24)","v":""}]
[{"$nulls":8},""]
[{"$nulls":8},""]
[{"$nulls":8},""]
[{"$nulls":8},""]
[{"$nulls":8},""]
[{"$nulls":8},""]
[{"$nulls":8},""]
[{"$nulls":8},""]
[{"$nulls":8},""]
[{"$nulls":8},""]
[{"$nulls":8},""]
[{"$nulls":8},""]
[{"$nulls":8},""]
[{"$nulls":8},""]
[{"$nulls":8},""]
[{"$nulls":8},""]
[{"$nulls":8},""]
[{"$nulls":8},""]
[{"$nulls":8},""]
[{"$nulls":8},""]
[{"$nulls":8},""]
[{"$nulls":8},""]
[{"$nulls":8},""]
[{"$nulls":8},""]
[{"$nulls":8},""]
[{"$nulls":8},""]
[{"$nulls":8},""]
[{"$nulls":8},""]
[{"$nulls":8},""]
[{"$nulls":8},""]
[{"$nulls":8},""]
[{"$nulls":8},""]
[{"$nulls":8},""]
[{"$nulls":8},""]
[{"$nulls":8},""]
[{"$nulls":8},""]
[{"$nulls":8},""]
[{"$nulls":8},""]
[{"$nulls":8},""]
[{"$nulls":8},""]
[{"$nulls":8},""]
[{"$nulls":8},""]
[{"$nulls":8},""]
[{"$nulls":8},""]
[{"$nulls":8},""]
[{"$nulls":8},""]
[{"$nulls":8},""]
[{"$nulls":8},""]
[{"$nulls":8},""]
[{"$nulls":8},""]
[{"$nulls":8},""]
[{"$nulls":8},""]
[{"$nulls":8},""]
[{"$nulls":8},""]
[{"$nulls":8},""]
[{"$nulls":8},""]
[{"$nulls":8},""]
[{"$nulls":8},""]
[{"$nulls":8},""]
[{"$nulls":8},""]
[{"$nulls":8},""]
[{"$nulls":8},""]
[{"$nulls":8},""]
[{"$nulls":8},{"$f":"IF(H345=\"\",\"\",(VALUE(TEXT(G345,\"m/dd/yy \")&TEXT(H345,\"hh:mm:ss\"))-(VALUE(TEXT(E345,\"m/dd/yy \")&TEXT(F345,\"hh:mm:ss\"))))*24)","v":""}]
[{"$nulls":8},""]
[{"$nulls":8},""]
[{"$nulls":8},""]
[{"$nulls":8},""]
[{"$nulls":8},""]
[{"$nulls":8},""]
[{"$nulls":8},""]
[{"$nulls":8},""]
[{"$nulls":8},""]
[{"$nulls":8},""]
[{"$nulls":8},""]
[{"$nulls":8},""]
[{"$nulls":8},""]
[{"$nulls":8},""]
[{"$nulls":8},""]
[{"$nulls":8},""]
[{"$nulls":8},""]
[{"$nulls":8},""]
[{"$nulls":8},""]
[{"$nulls":8},""]
[{"$nulls":8},""]
[{"$nulls":8},""]
[{"$nulls":8},""]
[{"$nulls":8},""]
[{"$nulls":8},""]
[{"$nulls":8},""]
[{"$nulls":8},""]
[{"$nulls":8},""]
[{"$nulls":8},""]
[{"$nulls":8},""]
[{"$nulls":8},""]
[{"$nulls":8},""]
[{"$nulls":8},""]
[{"$nulls":8},""]
[{"$nulls":8},""]
[{"$nulls":8},""]
[{"$nulls":8},""]
[{"$nulls":8},""]
[{"$nulls":8},""]
[{"$nulls":8},""]
[{"$nulls":8},""]
[{"$nulls":8},""]
[{"$nulls":8},""]
[{"$nulls":8},""]
[{"$nulls":8},""]
[{"$nulls":8},""]
[{"$nulls":8},""]
[{"$nulls":8},""]
[{"$nulls":8},""]
[{"$nulls":8},""]
[{"$nulls":8},""]
[{"$nulls":8},""]
[{"$nulls":8},""]
[{"$nulls":8},""]
[{"$nulls":8},""]
[{"$nulls":8},""]
[{"$nulls":8},""]
[{"$nulls":8},""]
[{"$nulls":8},""]
[{"$nulls":8},""]
[{"$nulls":8},""]
[{"$nulls":8},""]
[{"$nulls":8},""]
[{"$nulls":8},{"$f":"IF(H409=\"\",\"\",(VALUE(TEXT(G409,\"m/dd/yy \")&TEXT(H409,\"hh:mm:ss\"))-(VALUE(TEXT(E409,\"m/dd/yy \")&TEXT(F409,\"hh:mm:ss\"))))*24)","v":""}]
[{"$nulls":8},""]
[{"$nulls":8},""]
[{"$nulls":8},""]
[{"$nulls":8},""]
[{"$nulls":8},""]
[{"$nulls":8},""]
[{"$nulls":8},""]
[{"$nulls":8},""]
[{"$nulls":8},""]
[{"$nulls":8},""]
[{"$nulls":8},""]
[{"$nulls":8},""]
[{"$nulls":8},""]
[{"$nulls":8},""]
[{"$nulls":8},""]
[{"$nulls":8},""]
[{"$nulls":8},""]
[{"$nulls":8},""]
[{"$nulls":8},""]
[{"$nulls":8},""]
[{"$nulls":8},""]
[{"$nulls":8},""]
[{"$nulls":8},""]
[{"$nulls":8},""]
[{"$nulls":8},""]
[{"$nulls":8},""]
[{"$nulls":8},""]
[{"$nulls":8},""]
[{"$nulls":8},""]
[{"$nulls":8},""]
[{"$nulls":8},""]
[{"$nulls":8},""]
[{"$nulls":8},""]
[{"$nulls":8},""]
[{"$nulls":8},""]
[{"$nulls":8},""]
[{"$nulls":8},""]
[{"$nulls":8},""]
[{"$nulls":8},""]
[{"$nulls":8},""]
[{"$nulls":8},""]
[{"$nulls":8},""]
[{"$nulls":8},""]
[{"$nulls":8},""]
[{"$nulls":8},""]
[{"$nulls":8},""]
[{"$nulls":8},""]
[{"$nulls":8},""]
[{"$nulls":8},""]
[{"$nulls":8},""]
[{"$nulls":8},""]
[{"$nulls":8},""]
[{"$nulls":8},""]
[{"$nulls":8},""]
[{"$nulls":8},""]
[{"$nulls":8},""]
[{"$nulls":8},""]
[{"$nulls":8},""]
[{"$nulls":8},""]
[{"$nulls":8},""]
[{"$nulls":8},""]
[{"$nulls":8},""]
[{"$nulls":8},""]
[{"$nulls":8},{"$f":"IF(H473=\"\",\"\",(VALUE(TEXT(G473,\"m/dd/yy \")&TEXT(H473,\"hh:mm:ss\"))-(VALUE(TEXT(E473,\"m/dd/yy \")&TEXT(F473,\"hh:mm:ss\"))))*24)","v":""}]
[{"$nulls":8},""]
[{"$nulls":8},""]
[{"$nulls":8},""]
[{"$nulls":8},""]
[{"$nulls":8},""]
[{"$nulls":8},""]
[{"$nulls":8},""]
[{"$nulls":8},""]
[{"$nulls":8},""]
[{"$nulls":8},""]
[{"$nulls":8},""]
[{"$nulls":8},""]
[{"$nulls":8},""]
[{"$nulls":8},""]
[{"$nulls":8},""]
[{"$nulls":8},""]
[{"$nulls":8},""]
[{"$nulls":8},""]
[{"$nulls":8},""]
[{"$nulls":8},""]
[{"$nulls":8},""]
[{"$nulls":8},""]
[{"$nulls":8},""]
[{"$nulls":8},""]
[{"$nulls":8},""]
[{"$nulls":8},""]
[{"$nulls":8},""]

{"sheet":"Using CMS - Deviation - Summary","index":9,"n_rows":707,"n_cols":12,"rows_kept":707}
[null,"DO NOT REMOVE OR EDIT INFORMATION IN ROWS 1 THROUGH 5\nFOR INTERNAL USE ONLY"]
[null,"Template Name",null,null,{"$f":"+Welcome!B2","v":"63.5580(g) Semiannual Compliance Report (Spreadsheet Template)"}]
[null,"CitationID",null,null,{"$f":"+Welcome!B3","v":"63.5580(g)"}]
[null,"Template Version",null,null,{"$f":"+Welcome!B4","v":"ICR Draft"}]
[null,"Last Updated Date",null,null,{"$f":"+Welcome!B5","v":{"v":45176,"d":"4517600.00%"}}]
[]
[null,"40 CFR Part 63, Subpart UUUU National Emission Standards for Hazardous Air Pollutants for Cellulose Products Manufacturing - §63.5580 Semiannual Compliance Report Spreadsheet Template"]
[null,"\n"]
[]
[]
[]
[null,"Company Record No. \n(Autocompleted)","Process Unit Description \n(§63.5580(e)(9))\n(Autocompleted)","Total Source\nOperating Time \n(hours)\n(For autocalculation of Total Duration as a percent of operating time, may also be manually entered)","Total Duration of \nDeviations from Emission or Operating Limit \n(hours) \n(§63.5580(e)(5))\n(Calculated Value)","Total Duration of \nDeviations from Emission or Operating Limit as a \nPercent of \nTotal Source Operating Time \n(§63.5580(e)(5))\n(Calculated Value or Manual Entry)","Total Duration of \nDeviations from \nEmission or Operating\nLimit Due to Startup \n(hours)  \n(§63.5580(e)(6))\n(Calculated Value)","Total Duration of \nDeviations from \nEmission or Operating\nLimit Due to Shutdown \n(hours)  \n(§63.5580(e)(6))\n(Calculated Value)","Total Duration of \nDeviations from \nEmission or Operating\nLimit Due to Control Equipment Problems \n(hours)  \n(§63.5580(e)(6))\n(Calculated Value)","Total Duration of \nDeviations from\nEmission or Operating\nLimits Due to \nProcess Problems \n(hours)  \n(§63.5580(e)(6))\n(Calculated Value)","Total Duration of\nDeviations from \nEmission or Operating\nLimits Due to \nOther Known Causes \n(hours)  \n(§63.5580(e)(6))\n(Calculated Value)","Total Duration of Deviations from Emission or Operating Limits Due to Other Unknown Causes  (hours)  \n(§63.5580(e)(6))\n(Calculated Value)"]
[null,"RecordId","ProcessUnitDesc","TotalOperatingTime","TotalDeviationDuration","TotalDeviationPercent","StartupCausedDeviation","ShutdownCausedDeviation","EquipmentCausedDeviation","ProcessCausedDeviation","OtherCausedDeviation","UnknownCausedDeviation"]
[null,"e.g.: 1","e.g.: Line 1","e.g.: 6240","e.g.: 18.92","e.g.: 0.30%","e.g.: 0.00","e.g.: 0.00","e.g.: 18.92","e.g.: 0.00","e.g.: 0.00","e.g.: 0.00"]
[null,"e.g.:","e.g.:","e.g.:","e.g.:","e.g.:","e.g.:","e.g.:","e.g.:","e.g.:","e.g.:","e.g.:"]
[null,"e.g.:","e.g.:","e.g.:","e.g.:","e.g.:","e.g.:","e.g.:","e.g.:","e.g.:","e.g.:","e.g.:"]
[null,"e.g.:","e.g.:","e.g.:","e.g.:","e.g.:","e.g.:","e.g.:","e.g.:","e.g.:","e.g.:","e.g.:"]
[null,"e.g.:","e.g.:","e.g.:","e.g.:","e.g.:","e.g.:","e.g.:","e.g.:","e.g.:","e.g.:","e.g.:"]
[null,"e.g.:","e.g.:","e.g.:","e.g.:","e.g.:","e.g.:","e.g.:","e.g.:","e.g.:","e.g.:","e.g.:"]
[null,"e.g.:","e.g.:","e.g.:","e.g.:","e.g.:","e.g.:","e.g.:","e.g.:","e.g.:","e.g.:","e.g.:"]
[null,"e.g.:","e.g.:","e.g.:","e.g.:","e.g.:","e.g.:","e.g.:","e.g.:","e.g.:","e.g.:","e.g.:"]
[null,"e.g.:","e.g.:","e.g.:","e.g.:","e.g.:","e.g.:","e.g.:","e.g.:","e.g.:","e.g.:","e.g.:"]
[null,"e.g.:","e.g.:","e.g.:","e.g.:","e.g.:","e.g.:","e.g.:","e.g.:","e.g.:","e.g.:","e.g.:"]
[null,{"$f":"IF(Lists!BC2=\"\",\"\",Lists!BC2)","v":""},{"$f":"IF(Lists!BD2=\"\",\"\",Lists!BD2)","v":""},null,{"$f":"IF(C24=\"\",\"\",SUMIFS('Using CMS - Deviation - Limits'!$I$24:$I$5400,'Using CMS - Deviation - Limits'!$B$24:$B$5400,B24,'Using CMS - Deviation - Limits'!$C$24:$C$5400,C24))","v":""},{"$f":"IF($C24=\"\",\"\",IF(E24=0,\"N/A\",E24/$D24))","v":""},{"$f":"IF($C24=\"\",\"\",SUMIFS('Using CMS - Deviation - Limits'!$I$24:$I$5800,'Using CMS - Deviation - Limits'!$B$24:$B$5800,B24,'Using CMS - Deviation - Limits'!$C$24:$C$5800,C24,'Using CMS - Deviation - Limits'!$D$24:$D$5800,\"Startup\"))","v":""},{"$f":"IF($C24=\"\",\"\",SUMIFS('Using CMS - Deviation - Limits'!$I$24:$I$5800,'Using CMS - Deviation - Limits'!$B$24:$B$5800,B24,'Using CMS - Deviation - Limits'!$C$24:$C$5800,C24,'Using CMS - Deviation - Limits'!$D$24:$D$5800,\"Shutdown\"))","v":""},{"$f":"IF($C24=\"\",\"\",SUMIFS('Using CMS - Deviation - Limits'!$I$24:$I$5800,'Using CMS - Deviation - Limits'!$B$24:$B$5800,B24,'Using CMS - Deviation - Limits'!$C$24:$C$5800,C24,'Using CMS - Deviation - Limits'!$J$24:$J$5800,\"Control Equipment Problems\"))","v":""},{"$f":"IF($C24=\"\",\"\",SUMIFS('Using CMS - Deviation - Limits'!$I$24:$I$5800,'Using CMS - Deviation - Limits'!$B$24:$B$5800,B24,'Using CMS - Deviation - Limits'!$C$24:$C$5800,C24,'Using CMS - Deviation - Limits'!$J$24:$J$5800,\"Process Problems\"))","v":""},{"$f":"IF($C24=\"\",\"\",SUMIFS('Using CMS - Deviation - Limits'!$I$24:$I$5800,'Using CMS - Deviation - Limits'!$B$24:$B$5800,B24,'Using CMS - Deviation - Limits'!$C$24:$C$5800,C24,'Using CMS - Deviation - Limits'!$J$24:$J$5800,\"Other Known Causes\"))","v":""},{"$f":"IF($C24=\"\",\"\",SUMIFS('Using CMS - Deviation - Limits'!$I$24:$I$5800,'Using CMS - Deviation - Limits'!$B$24:$B$5800,B24,'Using CMS - Deviation - Limits'!$C$24:$C$5800,C24,'Using CMS - Deviation - Limits'!$J$24:$J$5800,\"Other Unknown Causes\"))","v":""}]
[null,{"$f":"IF(Lists!BC3=\"\",\"\",Lists!BC3)","v":""},{"$f":"IF(Lists!BD3=\"\",\"\",Lists!BD3)","v":""},null,{"$f":"IF(C25=\"\",\"\",SUMIFS('Using CMS - Deviation - Limits'!$I$24:$I$5400,'Using CMS - Deviation - Limits'!$B$24:$B$5400,B25,'Using CMS - Deviation - Limits'!$C$24:$C$5400,C25))","v":""},"",{"$f":"IF($C25=\"\",\"\",SUMIFS('Using CMS - Deviation - Limits'!$I$24:$I$5800,'Using CMS - Deviation - Limits'!$B$24:$B$5800,B25,'Using CMS - Deviation - Limits'!$C$24:$C$5800,C25,'Using CMS - Deviation - Limits'!$D$24:$D$5800,\"Startup\"))","v":""},{"$f":"IF($C25=\"\",\"\",SUMIFS('Using CMS - Deviation - Limits'!$I$24:$I$5800,'Using CMS - Deviation - Limits'!$B$24:$B$5800,B25,'Using CMS - Deviation - Limits'!$C$24:$C$5800,C25,'Using CMS - Deviation - Limits'!$D$24:$D$5800,\"Shutdown\"))","v":""},{"$f":"IF($C25=\"\",\"\",SUMIFS('Using CMS - Deviation - Limits'!$I$24:$I$5800,'Using CMS - Deviation - Limits'!$B$24:$B$5800,B25,'Using CMS - Deviation - Limits'!$C$24:$C$5800,C25,'Using CMS - Deviation - Limits'!$J$24:$J$5800,\"Control Equipment Problems\"))","v":""},{"$f":"IF($C25=\"\",\"\",SUMIFS('Using CMS - Deviation - Limits'!$I$24:$I$5800,'Using CMS - Deviation - Limits'!$B$24:$B$5800,B25,'Using CMS - Deviation - Limits'!$C$24:$C$5800,C25,'Using CMS - Deviation - Limits'!$J$24:$J$5800,\"Process Problems\"))","v":""},{"$f":"IF($C25=\"\",\"\",SUMIFS('Using CMS - Deviation - Limits'!$I$24:$I$5800,'Using CMS - Deviation - Limits'!$B$24:$B$5800,B25,'Using CMS - Deviation - Limits'!$C$24:$C$5800,C25,'Using CMS - Deviation - Limits'!$J$24:$J$5800,\"Other Known Causes\"))","v":""},{"$f":"IF($C25=\"\",\"\",SUMIFS('Using CMS - Deviation - Limits'!$I$24:$I$5800,'Using CMS - Deviation - Limits'!$B$24:$B$5800,B25,'Using CMS - Deviation - Limits'!$C$24:$C$5800,C25,'Using CMS - Deviation - Limits'!$J$24:$J$5800,\"Other Unknown Causes\"))","v":""}]
[null,{"$f":"IF(Lists!BC4=\"\",\"\",Lists!BC4)","v":""},{"$f":"IF(Lists!BD4=\"\",\"\",Lists!BD4)","v":""},null,{"$f":"IF(C26=\"\",\"\",SUMIFS('Using CMS - Deviation - Limits'!$I$24:$I$5400,'Using CMS - Deviation - Limits'!$B$24:$B$5400,B26,'Using CMS - Deviation - Limits'!$C$24:$C$5400,C26))","v":""},"",{"$f":"IF($C26=\"\",\"\",SUMIFS('Using CMS - Deviation - Limits'!$I$24:$I$5800,'Using CMS - Deviation - Limits'!$B$24:$B$5800,B26,'Using CMS - Deviation - Limits'!$C$24:$C$5800,C26,'Using CMS - Deviation - Limits'!$D$24:$D$5800,\"Startup\"))","v":""},{"$f":"IF($C26=\"\",\"\",SUMIFS('Using CMS - Deviation - Limits'!$I$24:$I$5800,'Using CMS - Deviation - Limits'!$B$24:$B$5800,B26,'Using CMS - Deviation - Limits'!$C$24:$C$5800,C26,'Using CMS - Deviation - Limits'!$D$24:$D$5800,\"Shutdown\"))","v":""},{"$f":"IF($C26=\"\",\"\",SUMIFS('Using CMS - Deviation - Limits'!$I$24:$I$5800,'Using CMS - Deviation - Limits'!$B$24:$B$5800,B26,'Using CMS - Deviation - Limits'!$C$24:$C$5800,C26,'Using CMS - Deviation - Limits'!$J$24:$J$5800,\"Control Equipment Problems\"))","v":""},{"$f":"IF($C26=\"\",\"\",SUMIFS('Using CMS - Deviation - Limits'!$I$24:$I$5800,'Using CMS - Deviation - Limits'!$B$24:$B$5800,B26,'Using CMS - Deviation - Limits'!$C$24:$C$5800,C26,'Using CMS - Deviation - Limits'!$J$24:$J$5800,\"Process Problems\"))","v":""},{"$f":"IF($C26=\"\",\"\",SUMIFS('Using CMS - Deviation - Limits'!$I$24:$I$5800,'Using CMS - Deviation - Limits'!$B$24:$B$5800,B26,'Using CMS - Deviation - Limits'!$C$24:$C$5800,C26,'Using CMS - Deviation - Limits'!$J$24:$J$5800,\"Other Known Causes\"))","v":""},{"$f":"IF($C26=\"\",\"\",SUMIFS('Using CMS - Deviation - Limits'!$I$24:$I$5800,'Using CMS - Deviation - Limits'!$B$24:$B$5800,B26,'Using CMS - Deviation - Limits'!$C$24:$C$5800,C26,'Using CMS - Deviation - Limits'!$J$24:$J$5800,\"Other Unknown Causes\"))","v":""}]
[null,{"$f":"IF(Lists!BC5=\"\",\"\",Lists!BC5)","v":""},{"$f":"IF(Lists!BD5=\"\",\"\",Lists!BD5)","v":""},null,{"$f":"IF(C27=\"\",\"\",SUMIFS('Using CMS - Deviation - Limits'!$I$24:$I$5400,'Using CMS - Deviation - Limits'!$B$24:$B$5400,B27,'Using CMS - Deviation - Limits'!$C$24:$C$5400,C27))","v":""},"",{"$f":"IF($C27=\"\",\"\",SUMIFS('Using CMS - Deviation - Limits'!$I$24:$I$5800,'Using CMS - Deviation - Limits'!$B$24:$B$5800,B27,'Using CMS - Deviation - Limits'!$C$24:$C$5800,C27,'Using CMS - Deviation - Limits'!$D$24:$D$5800,\"Startup\"))","v":""},{"$f":"IF($C27=\"\",\"\",SUMIFS('Using CMS - Deviation - Limits'!$I$24:$I$5800,'Using CMS - Deviation - Limits'!$B$24:$B$5800,B27,'Using CMS - Deviation - Limits'!$C$24:$C$5800,C27,'Using CMS - Deviation - Limits'!$D$24:$D$5800,\"Shutdown\"))","v":""},{"$f":"IF($C27=\"\",\"\",SUMIFS('Using CMS - Deviation - Limits'!$I$24:$I$5800,'Using CMS - Deviation - Limits'!$B$24:$B$5800,B27,'Using CMS - Deviation - Limits'!$C$24:$C$5800,C27,'Using CMS - Deviation - Limits'!$J$24:$J$5800,\"Control Equipment Problems\"))","v":""},{"$f":"IF($C27=\"\",\"\",SUMIFS('Using CMS - Deviation - Limits'!$I$24:$I$5800,'Using CMS - Deviation - Limits'!$B$24:$B$5800,B27,'Using CMS - Deviation - Limits'!$C$24:$C$5800,C27,'Using CMS - Deviation - Limits'!$J$24:$J$5800,\"Process Problems\"))","v":""},{"$f":"IF($C27=\"\",\"\",SUMIFS('Using CMS - Deviation - Limits'!$I$24:$I$5800,'Using CMS - Deviation - Limits'!$B$24:$B$5800,B27,'Using CMS - Deviation - Limits'!$C$24:$C$5800,C27,'Using CMS - Deviation - Limits'!$J$24:$J$5800,\"Other Known Causes\"))","v":""},{"$f":"IF($C27=\"\",\"\",SUMIFS('Using CMS - Deviation - Limits'!$I$24:$I$5800,'Using CMS - Deviation - Limits'!$B$24:$B$5800,B27,'Using CMS - Deviation - Limits'!$C$24:$C$5800,C27,'Using CMS - Deviation - Limits'!$J$24:$J$5800,\"Other Unknown Causes\"))","v":""}]
[null,{"$f":"IF(Lists!BC6=\"\",\"\",Lists!BC6)","v":""},{"$f":"IF(Lists!BD6=\"\",\"\",Lists!BD6)","v":""},null,{"$f":"IF(C28=\"\",\"\",SUMIFS('Using CMS - Deviation - Limits'!$I$24:$I$5400,'Using CMS - Deviation - Limits'!$B$24:$B$5400,B28,'Using CMS - Deviation - Limits'!$C$24:$C$5400,C28))","v":""},"",{"$f":"IF($C28=\"\",\"\",SUMIFS('Using CMS - Deviation - Limits'!$I$24:$I$5800,'Using CMS - Deviation - Limits'!$B$24:$B$5800,B28,'Using CMS - Deviation - Limits'!$C$24:$C$5800,C28,'Using CMS - Deviation - Limits'!$D$24:$D$5800,\"Startup\"))","v":""},{"$f":"IF($C28=\"\",\"\",SUMIFS('Using CMS - Deviation - Limits'!$I$24:$I$5800,'Using CMS - Deviation - Limits'!$B$24:$B$5800,B28,'Using CMS - Deviation - Limits'!$C$24:$C$5800,C28,'Using CMS - Deviation - Limits'!$D$24:$D$5800,\"Shutdown\"))","v":""},{"$f":"IF($C28=\"\",\"\",SUMIFS('Using CMS - Deviation - Limits'!$I$24:$I$5800,'Using CMS - Deviation - Limits'!$B$24:$B$5800,B28,'Using CMS - Deviation - Limits'!$C$24:$C$5800,C28,'Using CMS - Deviation - Limits'!$J$24:$J$5800,\"Control Equipment Problems\"))","v":""},{"$f":"IF($C28=\"\",\"\",SUMIFS('Using CMS - Deviation - Limits'!$I$24:$I$5800,'Using CMS - Deviation - Limits'!$B$24:$B$5800,B28,'Using CMS - Deviation - Limits'!$C$24:$C$5800,C28,'Using CMS - Deviation - Limits'!$J$24:$J$5800,\"Process Problems\"))","v":""},{"$f":"IF($C28=\"\",\"\",SUMIFS('Using CMS - Deviation - Limits'!$I$24:$I$5800,'Using CMS - Deviation - Limits'!$B$24:$B$5800,B28,'Using CMS - Deviation - Limits'!$C$24:$C$5800,C28,'Using CMS - Deviation - Limits'!$J$24:$J$5800,\"Other Known Causes\"))","v":""},{"$f":"IF($C28=\"\",\"\",SUMIFS('Using CMS - Deviation - Limits'!$I$24:$I$5800,'Using CMS - Deviation - Limits'!$B$24:$B$5800,B28,'Using CMS - Deviation - Limits'!$C$24:$C$5800,C28,'Using CMS - Deviation - Limits'!$J$24:$J$5800,\"Other Unknown Causes\"))","v":""}]
[null,{"$f":"IF(Lists!BC7=\"\",\"\",Lists!BC7)","v":""},{"$f":"IF(Lists!BD7=\"\",\"\",Lists!BD7)","v":""},null,{"$f":"IF(C29=\"\",\"\",SUMIFS('Using CMS - Deviation - Limits'!$I$24:$I$5400,'Using CMS - Deviation - Limits'!$B$24:$B$5400,B29,'Using CMS - Deviation - Limits'!$C$24:$C$5400,C29))","v":""},"",{"$f":"IF($C29=\"\",\"\",SUMIFS('Using CMS - Deviation - Limits'!$I$24:$I$5800,'Using CMS - Deviation - Limits'!$B$24:$B$5800,B29,'Using CMS - Deviation - Limits'!$C$24:$C$5800,C29,'Using CMS - Deviation - Limits'!$D$24:$D$5800,\"Startup\"))","v":""},{"$f":"IF($C29=\"\",\"\",SUMIFS('Using CMS - Deviation - Limits'!$I$24:$I$5800,'Using CMS - Deviation - Limits'!$B$24:$B$5800,B29,'Using CMS - Deviation - Limits'!$C$24:$C$5800,C29,'Using CMS - Deviation - Limits'!$D$24:$D$5800,\"Shutdown\"))","v":""},{"$f":"IF($C29=\"\",\"\",SUMIFS('Using CMS - Deviation - Limits'!$I$24:$I$5800,'Using CMS - Deviation - Limits'!$B$24:$B$5800,B29,'Using CMS - Deviation - Limits'!$C$24:$C$5800,C29,'Using CMS - Deviation - Limits'!$J$24:$J$5800,\"Control Equipment Problems\"))","v":""},{"$f":"IF($C29=\"\",\"\",SUMIFS('Using CMS - Deviation - Limits'!$I$24:$I$5800,'Using CMS - Deviation - Limits'!$B$24:$B$5800,B29,'Using CMS - Deviation - Limits'!$C$24:$C$5800,C29,'Using CMS - Deviation - Limits'!$J$24:$J$5800,\"Process Problems\"))","v":""},{"$f":"IF($C29=\"\",\"\",SUMIFS('Using CMS - Deviation - Limits'!$I$24:$I$5800,'Using CMS - Deviation - Limits'!$B$24:$B$5800,B29,'Using CMS - Deviation - Limits'!$C$24:$C$5800,C29,'Using CMS - Deviation - Limits'!$J$24:$J$5800,\"Other Known Causes\"))","v":""},{"$f":"IF($C29=\"\",\"\",SUMIFS('Using CMS - Deviation - Limits'!$I$24:$I$5800,'Using CMS - Deviation - Limits'!$B$24:$B$5800,B29,'Using CMS - Deviation - Limits'!$C$24:$C$5800,C29,'Using CMS - Deviation - Limits'!$J$24:$J$5800,\"Other Unknown Causes\"))","v":""}]
[null,{"$f":"IF(Lists!BC8=\"\",\"\",Lists!BC8)","v":""},{"$f":"IF(Lists!BD8=\"\",\"\",Lists!BD8)","v":""},null,{"$f":"IF(C30=\"\",\"\",SUMIFS('Using CMS - Deviation - Limits'!$I$24:$I$5400,'Using CMS - Deviation - Limits'!$B$24:$B$5400,B30,'Using CMS - Deviation - Limits'!$C$24:$C$5400,C30))","v":""},"",{"$f":"IF($C30=\"\",\"\",SUMIFS('Using CMS - Deviation - Limits'!$I$24:$I$5800,'Using CMS - Deviation - Limits'!$B$24:$B$5800,B30,'Using CMS - Deviation - Limits'!$C$24:$C$5800,C30,'Using CMS - Deviation - Limits'!$D$24:$D$5800,\"Startup\"))","v":""},{"$f":"IF($C30=\"\",\"\",SUMIFS('Using CMS - Deviation - Limits'!$I$24:$I$5800,'Using CMS - Deviation - Limits'!$B$24:$B$5800,B30,'Using CMS - Deviation - Limits'!$C$24:$C$5800,C30,'Using CMS - Deviation - Limits'!$D$24:$D$5800,\"Shutdown\"))","v":""},{"$f":"IF($C30=\"\",\"\",SUMIFS('Using CMS - Deviation - Limits'!$I$24:$I$5800,'Using CMS - Deviation - Limits'!$B$24:$B$5800,B30,'Using CMS - Deviation - Limits'!$C$24:$C$5800,C30,'Using CMS - Deviation - Limits'!$J$24:$J$5800,\"Control Equipment Problems\"))","v":""},{"$f":"IF($C30=\"\",\"\",SUMIFS('Using CMS - Deviation - Limits'!$I$24:$I$5800,'Using CMS - Deviation - Limits'!$B$24:$B$5800,B30,'Using CMS - Deviation - Limits'!$C$24:$C$5800,C30,'Using CMS - Deviation - Limits'!$J$24:$J$5800,\"Process Problems\"))","v":""},{"$f":"IF($C30=\"\",\"\",SUMIFS('Using CMS - Deviation - Limits'!$I$24:$I$5800,'Using CMS - Deviation - Limits'!$B$24:$B$5800,B30,'Using CMS - Deviation - Limits'!$C$24:$C$5800,C30,'Using CMS - Deviation - Limits'!$J$24:$J$5800,\"Other Known Causes\"))","v":""},{"$f":"IF($C30=\"\",\"\",SUMIFS('Using CMS - Deviation - Limits'!$I$24:$I$5800,'Using CMS - Deviation - Limits'!$B$24:$B$5800,B30,'Using CMS - Deviation - Limits'!$C$24:$C$5800,C30,'Using CMS - Deviation - Limits'!$J$24:$J$5800,\"Other Unknown Causes\"))","v":""}]
[null,{"$f":"IF(Lists!BC9=\"\",\"\",Lists!BC9)","v":""},{"$f":"IF(Lists!BD9=\"\",\"\",Lists!BD9)","v":""},null,{"$f":"IF(C31=\"\",\"\",SUMIFS('Using CMS - Deviation - Limits'!$I$24:$I$5400,'Using CMS - Deviation - Limits'!$B$24:$B$5400,B31,'Using CMS - Deviation - Limits'!$C$24:$C$5400,C31))","v":""},"",{"$f":"IF($C31=\"\",\"\",SUMIFS('Using CMS - Deviation - Limits'!$I$24:$I$5800,'Using CMS - Deviation - Limits'!$B$24:$B$5800,B31,'Using CMS - Deviation - Limits'!$C$24:$C$5800,C31,'Using CMS - Deviation - Limits'!$D$24:$D$5800,\"Startup\"))","v":""},{"$f":"IF($C31=\"\",\"\",SUMIFS('Using CMS - Deviation - Limits'!$I$24:$I$5800,'Using CMS - Deviation - Limits'!$B$24:$B$5800,B31,'Using CMS - Deviation - Limits'!$C$24:$C$5800,C31,'Using CMS - Deviation - Limits'!$D$24:$D$5800,\"Shutdown\"))","v":""},{"$f":"IF($C31=\"\",\"\",SUMIFS('Using CMS - Deviation - Limits'!$I$24:$I$5800,'Using CMS - Deviation - Limits'!$B$24:$B$5800,B31,'Using CMS - Deviation - Limits'!$C$24:$C$5800,C31,'Using CMS - Deviation - Limits'!$J$24:$J$5800,\"Control Equipment Problems\"))","v":""},{"$f":"IF($C31=\"\",\"\",SUMIFS('Using CMS - Deviation - Limits'!$I$24:$I$5800,'Using CMS - Deviation - Limits'!$B$24:$B$5800,B31,'Using CMS - Deviation - Limits'!$C$24:$C$5800,C31,'Using CMS - Deviation - Limits'!$J$24:$J$5800,\"Process Problems\"))","v":""},{"$f":"IF($C31=\"\",\"\",SUMIFS('Using CMS - Deviation - Limits'!$I$24:$I$5800,'Using CMS - Deviation - Limits'!$B$24:$B$5800,B31,'Using CMS - Deviation - Limits'!$C$24:$C$5800,C31,'Using CMS - Deviation - Limits'!$J$24:$J$5800,\"Other Known Causes\"))","v":""},{"$f":"IF($C31=\"\",\"\",SUMIFS('Using CMS - Deviation - Limits'!$I$24:$I$5800,'Using CMS - Deviation - Limits'!$B$24:$B$5800,B31,'Using CMS - Deviation - Limits'!$C$24:$C$5800,C31,'Using CMS - Deviation - Limits'!$J$24:$J$5800,\"Other Unknown Causes\"))","v":""}]
[null,{"$f":"IF(Lists!BC10=\"\",\"\",Lists!BC10)","v":""},{"$f":"IF(Lists!BD10=\"\",\"\",Lists!BD10)","v":""},null,{"$f":"IF(C32=\"\",\"\",SUMIFS('Using CMS - Deviation - Limits'!$I$24:$I$5400,'Using CMS - Deviation - Limits'!$B$24:$B$5400,B32,'Using CMS - Deviation - Limits'!$C$24:$C$5400,C32))","v":""},"",{"$f":"IF($C32=\"\",\"\",SUMIFS('Using CMS - Deviation - Limits'!$I$24:$I$5800,'Using CMS - Deviation - Limits'!$B$24:$B$5800,B32,'Using CMS - Deviation - Limits'!$C$24:$C$5800,C32,'Using CMS - Deviation - Limits'!$D$24:$D$5800,\"Startup\"))","v":""},{"$f":"IF($C32=\"\",\"\",SUMIFS('Using CMS - Deviation - Limits'!$I$24:$I$5800,'Using CMS - Deviation - Limits'!$B$24:$B$5800,B32,'Using CMS - Deviation - Limits'!$C$24:$C$5800,C32,'Using CMS - Deviation - Limits'!$D$24:$D$5800,\"Shutdown\"))","v":""},{"$f":"IF($C32=\"\",\"\",SUMIFS('Using CMS - Deviation - Limits'!$I$24:$I$5800,'Using CMS - Deviation - Limits'!$B$24:$B$5800,B32,'Using CMS - Deviation - Limits'!$C$24:$C$5800,C32,'Using CMS - Deviation - Limits'!$J$24:$J$5800,\"Control Equipment Problems\"))","v":""},{"$f":"IF($C32=\"\",\"\",SUMIFS('Using CMS - Deviation - Limits'!$I$24:$I$5800,'Using CMS - Deviation - Limits'!$B$24:$B$5800,B32,'Using CMS - Deviation - Limits'!$C$24:$C$5800,C32,'Using CMS - Deviation - Limits'!$J$24:$J$5800,\"Process Problems\"))","v":""},{"$f":"IF($C32=\"\",\"\",SUMIFS('Using CMS - Deviation - Limits'!$I$24:$I$5800,'Using CMS - Deviation - Limits'!$B$24:$B$5800,B32,'Using CMS - Deviation - Limits'!$C$24:$C$5800,C32,'Using CMS - Deviation - Limits'!$J$24:$J$5800,\"Other Known Causes\"))","v":""},{"$f":"IF($C32=\"\",\"\",SUMIFS('Using CMS - Deviation - Limits'!$I$24:$I$5800,'Using CMS - Deviation - Limits'!$B$24:$B$5800,B32,'Using CMS - Deviation - Limits'!$C$24:$C$5800,C32,'Using CMS - Deviation - Limits'!$J$24:$J$5800,\"Other Unknown Causes\"))","v":""}]
[null,{"$f":"IF(Lists!BC11=\"\",\"\",Lists!BC11)","v":""},{"$f":"IF(Lists!BD11=\"\",\"\",Lists!BD11)","v":""},null,{"$f":"IF(C33=\"\",\"\",SUMIFS('Using CMS - Deviation - Limits'!$I$24:$I$5400,'Using CMS - Deviation - Limits'!$B$24:$B$5400,B33,'Using CMS - Deviation - Limits'!$C$24:$C$5400,C33))","v":""},"",{"$f":"IF($C33=\"\",\"\",SUMIFS('Using CMS - Deviation - Limits'!$I$24:$I$5800,'Using CMS - Deviation - Limits'!$B$24:$B$5800,B33,'Using CMS - Deviation - Limits'!$C$24:$C$5800,C33,'Using CMS - Deviation - Limits'!$D$24:$D$5800,\"Startup\"))","v":""},{"$f":"IF($C33=\"\",\"\",SUMIFS('Using CMS - Deviation - Limits'!$I$24:$I$5800,'Using CMS - Deviation - Limits'!$B$24:$B$5800,B33,'Using CMS - Deviation - Limits'!$C$24:$C$5800,C33,'Using CMS - Deviation - Limits'!$D$24:$D$5800,\"Shutdown\"))","v":""},{"$f":"IF($C33=\"\",\"\",SUMIFS('Using CMS - Deviation - Limits'!$I$24:$I$5800,'Using CMS - Deviation - Limits'!$B$24:$B$5800,B33,'Using CMS - Deviation - Limits'!$C$24:$C$5800,C33,'Using CMS - Deviation - Limits'!$J$24:$J$5800,\"Control Equipment Problems\"))","v":""},{"$f":"IF($C33=\"\",\"\",SUMIFS('Using CMS - Deviation - Limits'!$I$24:$I$5800,'Using CMS - Deviation - Limits'!$B$24:$B$5800,B33,'Using CMS - Deviation - Limits'!$C$24:$C$5800,C33,'Using CMS - Deviation - Limits'!$J$24:$J$5800,\"Process Problems\"))","v":""},{"$f":"IF($C33=\"\",\"\",SUMIFS('Using CMS - Deviation - Limits'!$I$24:$I$5800,'Using CMS - Deviation - Limits'!$B$24:$B$5800,B33,'Using CMS - Deviation - Limits'!$C$24:$C$5800,C33,'Using CMS - Deviation - Limits'!$J$24:$J$5800,\"Other Known Causes\"))","v":""},{"$f":"IF($C33=\"\",\"\",SUMIFS('Using CMS - Deviation - Limits'!$I$24:$I$5800,'Using CMS - Deviation - Limits'!$B$24:$B$5800,B33,'Using CMS - Deviation - Limits'!$C$24:$C$5800,C33,'Using CMS - Deviation - Limits'!$J$24:$J$5800,\"Other Unknown Causes\"))","v":""}]
[null,{"$f":"IF(Lists!BC12=\"\",\"\",Lists!BC12)","v":""},{"$f":"IF(Lists!BD12=\"\",\"\",Lists!BD12)","v":""},null,{"$f":"IF(C34=\"\",\"\",SUMIFS('Using CMS - Deviation - Limits'!$I$24:$I$5400,'Using CMS - Deviation - Limits'!$B$24:$B$5400,B34,'Using CMS - Deviation - Limits'!$C$24:$C$5400,C34))","v":""},"",{"$f":"IF($C34=\"\",\"\",SUMIFS('Using CMS - Deviation - Limits'!$I$24:$I$5800,'Using CMS - Deviation - Limits'!$B$24:$B$5800,B34,'Using CMS - Deviation - Limits'!$C$24:$C$5800,C34,'Using CMS - Deviation - Limits'!$D$24:$D$5800,\"Startup\"))","v":""},{"$f":"IF($C34=\"\",\"\",SUMIFS('Using CMS - Deviation - Limits'!$I$24:$I$5800,'Using CMS - Deviation - Limits'!$B$24:$B$5800,B34,'Using CMS - Deviation - Limits'!$C$24:$C$5800,C34,'Using CMS - Deviation - Limits'!$D$24:$D$5800,\"Shutdown\"))","v":""},{"$f":"IF($C34=\"\",\"\",SUMIFS('Using CMS - Deviation - Limits'!$I$24:$I$5800,'Using CMS - Deviation - Limits'!$B$24:$B$5800,B34,'Using CMS - Deviation - Limits'!$C$24:$C$5800,C34,'Using CMS - Deviation - Limits'!$J$24:$J$5800,\"Control Equipment Problems\"))","v":""},{"$f":"IF($C34=\"\",\"\",SUMIFS('Using CMS - Deviation - Limits'!$I$24:$I$5800,'Using CMS - Deviation - Limits'!$B$24:$B$5800,B34,'Using CMS - Deviation - Limits'!$C$24:$C$5800,C34,'Using CMS - Deviation - Limits'!$J$24:$J$5800,\"Process Problems\"))","v":""},{"$f":"IF($C34=\"\",\"\",SUMIFS('Using CMS - Deviation - Limits'!$I$24:$I$5800,'Using CMS - Deviation - Limits'!$B$24:$B$5800,B34,'Using CMS - Deviation - Limits'!$C$24:$C$5800,C34,'Using CMS - Deviation - Limits'!$J$24:$J$5800,\"Other Known Causes\"))","v":""},{"$f":"IF($C34=\"\",\"\",SUMIFS('Using CMS - Deviation - Limits'!$I$24:$I$5800,'Using CMS - Deviation - Limits'!$B$24:$B$5800,B34,'Using CMS - Deviation - Limits'!$C$24:$C$5800,C34,'Using CMS - Deviation - Limits'!$J$24:$J$5800,\"Other Unknown Causes\"))","v":""}]
[null,{"$f":"IF(Lists!BC13=\"\",\"\",Lists!BC13)","v":""},{"$f":"IF(Lists!BD13=\"\",\"\",Lists!BD13)","v":""},null,{"$f":"IF(C35=\"\",\"\",SUMIFS('Using CMS - Deviation - Limits'!$I$24:$I$5400,'Using CMS - Deviation - Limits'!$B$24:$B$5400,B35,'Using CMS - Deviation - Limits'!$C$24:$C$5400,C35))","v":""},"",{"$f":"IF($C35=\"\",\"\",SUMIFS('Using CMS - Deviation - Limits'!$I$24:$I$5800,'Using CMS - Deviation - Limits'!$B$24:$B$5800,B35,'Using CMS - Deviation - Limits'!$C$24:$C$5800,C35,'Using CMS - Deviation - Limits'!$D$24:$D$5800,\"Startup\"))","v":""},{"$f":"IF($C35=\"\",\"\",SUMIFS('Using CMS - Deviation - Limits'!$I$24:$I$5800,'Using CMS - Deviation - Limits'!$B$24:$B$5800,B35,'Using CMS - Deviation - Limits'!$C$24:$C$5800,C35,'Using CMS - Deviation - Limits'!$D$24:$D$5800,\"Shutdown\"))","v":""},{"$f":"IF($C35=\"\",\"\",SUMIFS('Using CMS - Deviation - Limits'!$I$24:$I$5800,'Using CMS - Deviation - Limits'!$B$24:$B$5800,B35,'Using CMS - Deviation - Limits'!$C$24:$C$5800,C35,'Using CMS - Deviation - Limits'!$J$24:$J$5800,\"Control Equipment Problems\"))","v":""},{"$f":"IF($C35=\"\",\"\",SUMIFS('Using CMS - Deviation - Limits'!$I$24:$I$5800,'Using CMS - Deviation - Limits'!$B$24:$B$5800,B35,'Using CMS - Deviation - Limits'!$C$24:$C$5800,C35,'Using CMS - Deviation - Limits'!$J$24:$J$5800,\"Process Problems\"))","v":""},{"$f":"IF($C35=\"\",\"\",SUMIFS('Using CMS - Deviation - Limits'!$I$24:$I$5800,'Using CMS - Deviation - Limits'!$B$24:$B$5800,B35,'Using CMS - Deviation - Limits'!$C$24:$C$5800,C35,'Using CMS - Deviation - Limits'!$J$24:$J$5800,\"Other Known Causes\"))","v":""},{"$f":"IF($C35=\"\",\"\",SUMIFS('Using CMS - Deviation - Limits'!$I$24:$I$5800,'Using CMS - Deviation - Limits'!$B$24:$B$5800,B35,'Using CMS - Deviation - Limits'!$C$24:$C$5800,C35,'Using CMS - Deviation - Limits'!$J$24:$J$5800,\"Other Unknown Causes\"))","v":""}]
[null,{"$f":"IF(Lists!BC14=\"\",\"\",Lists!BC14)","v":""},{"$f":"IF(Lists!BD14=\"\",\"\",Lists!BD14)","v":""},null,{"$f":"IF(C36=\"\",\"\",SUMIFS('Using CMS - Deviation - Limits'!$I$24:$I$5400,'Using CMS - Deviation - Limits'!$B$24:$B$5400,B36,'Using CMS - Deviation - Limits'!$C$24:$C$5400,C36))","v":""},"",{"$f":"IF($C36=\"\",\"\",SUMIFS('Using CMS - Deviation - Limits'!$I$24:$I$5800,'Using CMS - Deviation - Limits'!$B$24:$B$5800,B36,'Using CMS - Deviation - Limits'!$C$24:$C$5800,C36,'Using CMS - Deviation - Limits'!$D$24:$D$5800,\"Startup\"))","v":""},{"$f":"IF($C36=\"\",\"\",SUMIFS('Using CMS - Deviation - Limits'!$I$24:$I$5800,'Using CMS - Deviation - Limits'!$B$24:$B$5800,B36,'Using CMS - Deviation - Limits'!$C$24:$C$5800,C36,'Using CMS - Deviation - Limits'!$D$24:$D$5800,\"Shutdown\"))","v":""},{"$f":"IF($C36=\"\",\"\",SUMIFS('Using CMS - Deviation - Limits'!$I$24:$I$5800,'Using CMS - Deviation - Limits'!$B$24:$B$5800,B36,'Using CMS - Deviation - Limits'!$C$24:$C$5800,C36,'Using CMS - Deviation - Limits'!$J$24:$J$5800,\"Control Equipment Problems\"))","v":""},{"$f":"IF($C36=\"\",\"\",SUMIFS('Using CMS - Deviation - Limits'!$I$24:$I$5800,'Using CMS - Deviation - Limits'!$B$24:$B$5800,B36,'Using CMS - Deviation - Limits'!$C$24:$C$5800,C36,'Using CMS - Deviation - Limits'!$J$24:$J$5800,\"Process Problems\"))","v":""},{"$f":"IF($C36=\"\",\"\",SUMIFS('Using CMS - Deviation - Limits'!$I$24:$I$5800,'Using CMS - Deviation - Limits'!$B$24:$B$5800,B36,'Using CMS - Deviation - Limits'!$C$24:$C$5800,C36,'Using CMS - Deviation - Limits'!$J$24:$J$5800,\"Other Known Causes\"))","v":""},{"$f":"IF($C36=\"\",\"\",SUMIFS('Using CMS - Deviation - Limits'!$I$24:$I$5800,'Using CMS - Deviation - Limits'!$B$24:$B$5800,B36,'Using CMS - Deviation - Limits'!$C$24:$C$5800,C36,'Using CMS - Deviation - Limits'!$J$24:$J$5800,\"Other Unknown Causes\"))","v":""}]
[null,{"$f":"IF(Lists!BC15=\"\",\"\",Lists!BC15)","v":""},{"$f":"IF(Lists!BD15=\"\",\"\",Lists!BD15)","v":""},null,{"$f":"IF(C37=\"\",\"\",SUMIFS('Using CMS - Deviation - Limits'!$I$24:$I$5400,'Using CMS - Deviation - Limits'!$B$24:$B$5400,B37,'Using CMS - Deviation - Limits'!$C$24:$C$5400,C37))","v":""},"",{"$f":"IF($C37=\"\",\"\",SUMIFS('Using CMS - Deviation - Limits'!$I$24:$I$5800,'Using CMS - Deviation - Limits'!$B$24:$B$5800,B37,'Using CMS - Deviation - Limits'!$C$24:$C$5800,C37,'Using CMS - Deviation - Limits'!$D$24:$D$5800,\"Startup\"))","v":""},{"$f":"IF($C37=\"\",\"\",SUMIFS('Using CMS - Deviation - Limits'!$I$24:$I$5800,'Using CMS - Deviation - Limits'!$B$24:$B$5800,B37,'Using CMS - Deviation - Limits'!$C$24:$C$5800,C37,'Using CMS - Deviation - Limits'!$D$24:$D$5800,\"Shutdown\"))","v":""},{"$f":"IF($C37=\"\",\"\",SUMIFS('Using CMS - Deviation - Limits'!$I$24:$I$5800,'Using CMS - Deviation - Limits'!$B$24:$B$5800,B37,'Using CMS - Deviation - Limits'!$C$24:$C$5800,C37,'Using CMS - Deviation - Limits'!$J$24:$J$5800,\"Control Equipment Problems\"))","v":""},{"$f":"IF($C37=\"\",\"\",SUMIFS('Using CMS - Deviation - Limits'!$I$24:$I$5800,'Using CMS - Deviation - Limits'!$B$24:$B$5800,B37,'Using CMS - Deviation - Limits'!$C$24:$C$5800,C37,'Using CMS - Deviation - Limits'!$J$24:$J$5800,\"Process Problems\"))","v":""},{"$f":"IF($C37=\"\",\"\",SUMIFS('Using CMS - Deviation - Limits'!$I$24:$I$5800,'Using CMS - Deviation - Limits'!$B$24:$B$5800,B37,'Using CMS - Deviation - Limits'!$C$24:$C$5800,C37,'Using CMS - Deviation - Limits'!$J$24:$J$5800,\"Other Known Causes\"))","v":""},{"$f":"IF($C37=\"\",\"\",SUMIFS('Using CMS - Deviation - Limits'!$I$24:$I$5800,'Using CMS - Deviation - Limits'!$B$24:$B$5800,B37,'Using CMS - Deviation - Limits'!$C$24:$C$5800,C37,'Using CMS - Deviation - Limits'!$J$24:$J$5800,\"Other Unknown Causes\"))","v":""}]
[null,{"$f":"IF(Lists!BC16=\"\",\"\",Lists!BC16)","v":""},{"$f":"IF(Lists!BD16=\"\",\"\",Lists!BD16)","v":""},null,{"$f":"IF(C38=\"\",\"\",SUMIFS('Using CMS - Deviation - Limits'!$I$24:$I$5400,'Using CMS - Deviation - Limits'!$B$24:$B$5400,B38,'Using CMS - Deviation - Limits'!$C$24:$C$5400,C38))","v":""},"",{"$f":"IF($C38=\"\",\"\",SUMIFS('Using CMS - Deviation - Limits'!$I$24:$I$5800,'Using CMS - Deviation - Limits'!$B$24:$B$5800,B38,'Using CMS - Deviation - Limits'!$C$24:$C$5800,C38,'Using CMS - Deviation - Limits'!$D$24:$D$5800,\"Startup\"))","v":""},{"$f":"IF($C38=\"\",\"\",SUMIFS('Using CMS - Deviation - Limits'!$I$24:$I$5800,'Using CMS - Deviation - Limits'!$B$24:$B$5800,B38,'Using CMS - Deviation - Limits'!$C$24:$C$5800,C38,'Using CMS - Deviation - Limits'!$D$24:$D$5800,\"Shutdown\"))","v":""},{"$f":"IF($C38=\"\",\"\",SUMIFS('Using CMS - Deviation - Limits'!$I$24:$I$5800,'Using CMS - Deviation - Limits'!$B$24:$B$5800,B38,'Using CMS - Deviation - Limits'!$C$24:$C$5800,C38,'Using CMS - Deviation - Limits'!$J$24:$J$5800,\"Control Equipment Problems\"))","v":""},{"$f":"IF($C38=\"\",\"\",SUMIFS('Using CMS - Deviation - Limits'!$I$24:$I$5800,'Using CMS - Deviation - Limits'!$B$24:$B$5800,B38,'Using CMS - Deviation - Limits'!$C$24:$C$5800,C38,'Using CMS - Deviation - Limits'!$J$24:$J$5800,\"Process Problems\"))","v":""},{"$f":"IF($C38=\"\",\"\",SUMIFS('Using CMS - Deviation - Limits'!$I$24:$I$5800,'Using CMS - Deviation - Limits'!$B$24:$B$5800,B38,'Using CMS - Deviation - Limits'!$C$24:$C$5800,C38,'Using CMS - Deviation - Limits'!$J$24:$J$5800,\"Other Known Causes\"))","v":""},{"$f":"IF($C38=\"\",\"\",SUMIFS('Using CMS - Deviation - Limits'!$I$24:$I$5800,'Using CMS - Deviation - Limits'!$B$24:$B$5800,B38,'Using CMS - Deviation - Limits'!$C$24:$C$5800,C38,'Using CMS - Deviation - Limits'!$J$24:$J$5800,\"Other Unknown Causes\"))","v":""}]
[null,{"$f":"IF(Lists!BC17=\"\",\"\",Lists!BC17)","v":""},{"$f":"IF(Lists!BD17=\"\",\"\",Lists!BD17)","v":""},null,{"$f":"IF(C39=\"\",\"\",SUMIFS('Using CMS - Deviation - Limits'!$I$24:$I$5400,'Using CMS - Deviation - Limits'!$B$24:$B$5400,B39,'Using CMS - Deviation - Limits'!$C$24:$C$5400,C39))","v":""},"",{"$f":"IF($C39=\"\",\"\",SUMIFS('Using CMS - Deviation - Limits'!$I$24:$I$5800,'Using CMS - Deviation - Limits'!$B$24:$B$5800,B39,'Using CMS - Deviation - Limits'!$C$24:$C$5800,C39,'Using CMS - Deviation - Limits'!$D$24:$D$5800,\"Startup\"))","v":""},{"$f":"IF($C39=\"\",\"\",SUMIFS('Using CMS - Deviation - Limits'!$I$24:$I$5800,'Using CMS - Deviation - Limits'!$B$24:$B$5800,B39,'Using CMS - Deviation - Limits'!$C$24:$C$5800,C39,'Using CMS - Deviation - Limits'!$D$24:$D$5800,\"Shutdown\"))","v":""},{"$f":"IF($C39=\"\",\"\",SUMIFS('Using CMS - Deviation - Limits'!$I$24:$I$5800,'Using CMS - Deviation - Limits'!$B$24:$B$5800,B39,'Using CMS - Deviation - Limits'!$C$24:$C$5800,C39,'Using CMS - Deviation - Limits'!$J$24:$J$5800,\"Control Equipment Problems\"))","v":""},{"$f":"IF($C39=\"\",\"\",SUMIFS('Using CMS - Deviation - Limits'!$I$24:$I$5800,'Using CMS - Deviation - Limits'!$B$24:$B$5800,B39,'Using CMS - Deviation - Limits'!$C$24:$C$5800,C39,'Using CMS - Deviation - Limits'!$J$24:$J$5800,\"Process Problems\"))","v":""},{"$f":"IF($C39=\"\",\"\",SUMIFS('Using CMS - Deviation - Limits'!$I$24:$I$5800,'Using CMS - Deviation - Limits'!$B$24:$B$5800,B39,'Using CMS - Deviation - Limits'!$C$24:$C$5800,C39,'Using CMS - Deviation - Limits'!$J$24:$J$5800,\"Other Known Causes\"))","v":""},{"$f":"IF($C39=\"\",\"\",SUMIFS('Using CMS - Deviation - Limits'!$I$24:$I$5800,'Using CMS - Deviation - Limits'!$B$24:$B$5800,B39,'Using CMS - Deviation - Limits'!$C$24:$C$5800,C39,'Using CMS - Deviation - Limits'!$J$24:$J$5800,\"Other Unknown Causes\"))","v":""}]
[null,{"$f":"IF(Lists!BC18=\"\",\"\",Lists!BC18)","v":""},{"$f":"IF(Lists!BD18=\"\",\"\",Lists!BD18)","v":""},null,{"$f":"IF(C40=\"\",\"\",SUMIFS('Using CMS - Deviation - Limits'!$I$24:$I$5400,'Using CMS - Deviation - Limits'!$B$24:$B$5400,B40,'Using CMS - Deviation - Limits'!$C$24:$C$5400,C40))","v":""},"",{"$f":"IF($C40=\"\",\"\",SUMIFS('Using CMS - Deviation - Limits'!$I$24:$I$5800,'Using CMS - Deviation - Limits'!$B$24:$B$5800,B40,'Using CMS - Deviation - Limits'!$C$24:$C$5800,C40,'Using CMS - Deviation - Limits'!$D$24:$D$5800,\"Startup\"))","v":""},{"$f":"IF($C40=\"\",\"\",SUMIFS('Using CMS - Deviation - Limits'!$I$24:$I$5800,'Using CMS - Deviation - Limits'!$B$24:$B$5800,B40,'Using CMS - Deviation - Limits'!$C$24:$C$5800,C40,'Using CMS - Deviation - Limits'!$D$24:$D$5800,\"Shutdown\"))","v":""},{"$f":"IF($C40=\"\",\"\",SUMIFS('Using CMS - Deviation - Limits'!$I$24:$I$5800,'Using CMS - Deviation - Limits'!$B$24:$B$5800,B40,'Using CMS - Deviation - Limits'!$C$24:$C$5800,C40,'Using CMS - Deviation - Limits'!$J$24:$J$5800,\"Control Equipment Problems\"))","v":""},{"$f":"IF($C40=\"\",\"\",SUMIFS('Using CMS - Deviation - Limits'!$I$24:$I$5800,'Using CMS - Deviation - Limits'!$B$24:$B$5800,B40,'Using CMS - Deviation - Limits'!$C$24:$C$5800,C40,'Using CMS - Deviation - Limits'!$J$24:$J$5800,\"Process Problems\"))","v":""},{"$f":"IF($C40=\"\",\"\",SUMIFS('Using CMS - Deviation - Limits'!$I$24:$I$5800,'Using CMS - Deviation - Limits'!$B$24:$B$5800,B40,'Using CMS - Deviation - Limits'!$C$24:$C$5800,C40,'Using CMS - Deviation - Limits'!$J$24:$J$5800,\"Other Known Causes\"))","v":""},{"$f":"IF($C40=\"\",\"\",SUMIFS('Using CMS - Deviation - Limits'!$I$24:$I$5800,'Using CMS - Deviation - Limits'!$B$24:$B$5800,B40,'Using CMS - Deviation - Limits'!$C$24:$C$5800,C40,'Using CMS - Deviation - Limits'!$J$24:$J$5800,\"Other Unknown Causes\"))","v":""}]
[null,{"$f":"IF(Lists!BC19=\"\",\"\",Lists!BC19)","v":""},{"$f":"IF(Lists!BD19=\"\",\"\",Lists!BD19)","v":""},null,{"$f":"IF(C41=\"\",\"\",SUMIFS('Using CMS - Deviation - Limits'!$I$24:$I$5400,'Using CMS - Deviation - Limits'!$B$24:$B$5400,B41,'Using CMS - Deviation - Limits'!$C$24:$C$5400,C41))","v":""},"",{"$f":"IF($C41=\"\",\"\",SUMIFS('Using CMS - Deviation - Limits'!$I$24:$I$5800,'Using CMS - Deviation - Limits'!$B$24:$B$5800,B41,'Using CMS - Deviation - Limits'!$C$24:$C$5800,C41,'Using CMS - Deviation - Limits'!$D$24:$D$5800,\"Startup\"))","v":""},{"$f":"IF($C41=\"\",\"\",SUMIFS('Using CMS - Deviation - Limits'!$I$24:$I$5800,'Using CMS - Deviation - Limits'!$B$24:$B$5800,B41,'Using CMS - Deviation - Limits'!$C$24:$C$5800,C41,'Using CMS - Deviation - Limits'!$D$24:$D$5800,\"Shutdown\"))","v":""},{"$f":"IF($C41=\"\",\"\",SUMIFS('Using CMS - Deviation - Limits'!$I$24:$I$5800,'Using CMS - Deviation - Limits'!$B$24:$B$5800,B41,'Using CMS - Deviation - Limits'!$C$24:$C$5800,C41,'Using CMS - Deviation - Limits'!$J$24:$J$5800,\"Control Equipment Problems\"))","v":""},{"$f":"IF($C41=\"\",\"\",SUMIFS('Using CMS - Deviation - Limits'!$I$24:$I$5800,'Using CMS - Deviation - Limits'!$B$24:$B$5800,B41,'Using CMS - Deviation - Limits'!$C$24:$C$5800,C41,'Using CMS - Deviation - Limits'!$J$24:$J$5800,\"Process Problems\"))","v":""},{"$f":"IF($C41=\"\",\"\",SUMIFS('Using CMS - Deviation - Limits'!$I$24:$I$5800,'Using CMS - Deviation - Limits'!$B$24:$B$5800,B41,'Using CMS - Deviation - Limits'!$C$24:$C$5800,C41,'Using CMS - Deviation - Limits'!$J$24:$J$5800,\"Other Known Causes\"))","v":""},{"$f":"IF($C41=\"\",\"\",SUMIFS('Using CMS - Deviation - Limits'!$I$24:$I$5800,'Using CMS - Deviation - Limits'!$B$24:$B$5800,B41,'Using CMS - Deviation - Limits'!$C$24:$C$5800,C41,'Using CMS - Deviation - Limits'!$J$24:$J$5800,\"Other Unknown Causes\"))","v":""}]
[null,{"$f":"IF(Lists!BC20=\"\",\"\",Lists!BC20)","v":""},{"$f":"IF(Lists!BD20=\"\",\"\",Lists!BD20)","v":""},null,{"$f":"IF(C42=\"\",\"\",SUMIFS('Using CMS - Deviation - Limits'!$I$24:$I$5400,'Using CMS - Deviation - Limits'!$B$24:$B$5400,B42,'Using CMS - Deviation - Limits'!$C$24:$C$5400,C42))","v":""},"",{"$f":"IF($C42=\"\",\"\",SUMIFS('Using CMS - Deviation - Limits'!$I$24:$I$5800,'Using CMS - Deviation - Limits'!$B$24:$B$5800,B42,'Using CMS - Deviation - Limits'!$C$24:$C$5800,C42,'Using CMS - Deviation - Limits'!$D$24:$D$5800,\"Startup\"))","v":""},{"$f":"IF($C42=\"\",\"\",SUMIFS('Using CMS - Deviation - Limits'!$I$24:$I$5800,'Using CMS - Deviation - Limits'!$B$24:$B$5800,B42,'Using CMS - Deviation - Limits'!$C$24:$C$5800,C42,'Using CMS - Deviation - Limits'!$D$24:$D$5800,\"Shutdown\"))","v":""},{"$f":"IF($C42=\"\",\"\",SUMIFS('Using CMS - Deviation - Limits'!$I$24:$I$5800,'Using CMS - Deviation - Limits'!$B$24:$B$5800,B42,'Using CMS - Deviation - Limits'!$C$24:$C$5800,C42,'Using CMS - Deviation - Limits'!$J$24:$J$5800,\"Control Equipment Problems\"))","v":""},{"$f":"IF($C42=\"\",\"\",SUMIFS('Using CMS - Deviation - Limits'!$I$24:$I$5800,'Using CMS - Deviation - Limits'!$B$24:$B$5800,B42,'Using CMS - Deviation - Limits'!$C$24:$C$5800,C42,'Using CMS - Deviation - Limits'!$J$24:$J$5800,\"Process Problems\"))","v":""},{"$f":"IF($C42=\"\",\"\",SUMIFS('Using CMS - Deviation - Limits'!$I$24:$I$5800,'Using CMS - Deviation - Limits'!$B$24:$B$5800,B42,'Using CMS - Deviation - Limits'!$C$24:$C$5800,C42,'Using CMS - Deviation - Limits'!$J$24:$J$5800,\"Other Known Causes\"))","v":""},{"$f":"IF($C42=\"\",\"\",SUMIFS('Using CMS - Deviation - Limits'!$I$24:$I$5800,'Using CMS - Deviation - Limits'!$B$24:$B$5800,B42,'Using CMS - Deviation - Limits'!$C$24:$C$5800,C42,'Using CMS - Deviation - Limits'!$J$24:$J$5800,\"Other Unknown Causes\"))","v":""}]
[null,{"$f":"IF(Lists!BC21=\"\",\"\",Lists!BC21)","v":""},{"$f":"IF(Lists!BD21=\"\",\"\",Lists!BD21)","v":""},null,{"$f":"IF(C43=\"\",\"\",SUMIFS('Using CMS - Deviation - Limits'!$I$24:$I$5400,'Using CMS - Deviation - Limits'!$B$24:$B$5400,B43,'Using CMS - Deviation - Limits'!$C$24:$C$5400,C43))","v":""},"",{"$f":"IF($C43=\"\",\"\",SUMIFS('Using CMS - Deviation - Limits'!$I$24:$I$5800,'Using CMS - Deviation - Limits'!$B$24:$B$5800,B43,'Using CMS - Deviation - Limits'!$C$24:$C$5800,C43,'Using CMS - Deviation - Limits'!$D$24:$D$5800,\"Startup\"))","v":""},{"$f":"IF($C43=\"\",\"\",SUMIFS('Using CMS - Deviation - Limits'!$I$24:$I$5800,'Using CMS - Deviation - Limits'!$B$24:$B$5800,B43,'Using CMS - Deviation - Limits'!$C$24:$C$5800,C43,'Using CMS - Deviation - Limits'!$D$24:$D$5800,\"Shutdown\"))","v":""},{"$f":"IF($C43=\"\",\"\",SUMIFS('Using CMS - Deviation - Limits'!$I$24:$I$5800,'Using CMS - Deviation - Limits'!$B$24:$B$5800,B43,'Using CMS - Deviation - Limits'!$C$24:$C$5800,C43,'Using CMS - Deviation - Limits'!$J$24:$J$5800,\"Control Equipment Problems\"))","v":""},{"$f":"IF($C43=\"\",\"\",SUMIFS('Using CMS - Deviation - Limits'!$I$24:$I$5800,'Using CMS - Deviation - Limits'!$B$24:$B$5800,B43,'Using CMS - Deviation - Limits'!$C$24:$C$5800,C43,'Using CMS - Deviation - Limits'!$J$24:$J$5800,\"Process Problems\"))","v":""},{"$f":"IF($C43=\"\",\"\",SUMIFS('Using CMS - Deviation - Limits'!$I$24:$I$5800,'Using CMS - Deviation - Limits'!$B$24:$B$5800,B43,'Using CMS - Deviation - Limits'!$C$24:$C$5800,C43,'Using CMS - Deviation - Limits'!$J$24:$J$5800,\"Other Known Causes\"))","v":""},{"$f":"IF($C43=\"\",\"\",SUMIFS('Using CMS - Deviation - Limits'!$I$24:$I$5800,'Using CMS - Deviation - Limits'!$B$24:$B$5800,B43,'Using CMS - Deviation - Limits'!$C$24:$C$5800,C43,'Using CMS - Deviation - Limits'!$J$24:$J$5800,\"Other Unknown Causes\"))","v":""}]
[null,{"$f":"IF(Lists!BC22=\"\",\"\",Lists!BC22)","v":""},{"$f":"IF(Lists!BD22=\"\",\"\",Lists!BD22)","v":""},null,{"$f":"IF(C44=\"\",\"\",SUMIFS('Using CMS - Deviation - Limits'!$I$24:$I$5400,'Using CMS - Deviation - Limits'!$B$24:$B$5400,B44,'Using CMS - Deviation - Limits'!$C$24:$C$5400,C44))","v":""},"",{"$f":"IF($C44=\"\",\"\",SUMIFS('Using CMS - Deviation - Limits'!$I$24:$I$5800,'Using CMS - Deviation - Limits'!$B$24:$B$5800,B44,'Using CMS - Deviation - Limits'!$C$24:$C$5800,C44,'Using CMS - Deviation - Limits'!$D$24:$D$5800,\"Startup\"))","v":""},{"$f":"IF($C44=\"\",\"\",SUMIFS('Using CMS - Deviation - Limits'!$I$24:$I$5800,'Using CMS - Deviation - Limits'!$B$24:$B$5800,B44,'Using CMS - Deviation - Limits'!$C$24:$C$5800,C44,'Using CMS - Deviation - Limits'!$D$24:$D$5800,\"Shutdown\"))","v":""},{"$f":"IF($C44=\"\",\"\",SUMIFS('Using CMS - Deviation - Limits'!$I$24:$I$5800,'Using CMS - Deviation - Limits'!$B$24:$B$5800,B44,'Using CMS - Deviation - Limits'!$C$24:$C$5800,C44,'Using CMS - Deviation - Limits'!$J$24:$J$5800,\"Control Equipment Problems\"))","v":""},{"$f":"IF($C44=\"\",\"\",SUMIFS('Using CMS - Deviation - Limits'!$I$24:$I$5800,'Using CMS - Deviation - Limits'!$B$24:$B$5800,B44,'Using CMS - Deviation - Limits'!$C$24:$C$5800,C44,'Using CMS - Deviation - Limits'!$J$24:$J$5800,\"Process Problems\"))","v":""},{"$f":"IF($C44=\"\",\"\",SUMIFS('Using CMS - Deviation - Limits'!$I$24:$I$5800,'Using CMS - Deviation - Limits'!$B$24:$B$5800,B44,'Using CMS - Deviation - Limits'!$C$24:$C$5800,C44,'Using CMS - Deviation - Limits'!$J$24:$J$5800,\"Other Known Causes\"))","v":""},{"$f":"IF($C44=\"\",\"\",SUMIFS('Using CMS - Deviation - Limits'!$I$24:$I$5800,'Using CMS - Deviation - Limits'!$B$24:$B$5800,B44,'Using CMS - Deviation - Limits'!$C$24:$C$5800,C44,'Using CMS - Deviation - Limits'!$J$24:$J$5800,\"Other Unknown Causes\"))","v":""}]
[null,{"$f":"IF(Lists!BC23=\"\",\"\",Lists!BC23)","v":""},{"$f":"IF(Lists!BD23=\"\",\"\",Lists!BD23)","v":""},null,{"$f":"IF(C45=\"\",\"\",SUMIFS('Using CMS - Deviation - Limits'!$I$24:$I$5400,'Using CMS - Deviation - Limits'!$B$24:$B$5400,B45,'Using CMS - Deviation - Limits'!$C$24:$C$5400,C45))","v":""},"",{"$f":"IF($C45=\"\",\"\",SUMIFS('Using CMS - Deviation - Limits'!$I$24:$I$5800,'Using CMS - Deviation - Limits'!$B$24:$B$5800,B45,'Using CMS - Deviation - Limits'!$C$24:$C$5800,C45,'Using CMS - Deviation - Limits'!$D$24:$D$5800,\"Startup\"))","v":""},{"$f":"IF($C45=\"\",\"\",SUMIFS('Using CMS - Deviation - Limits'!$I$24:$I$5800,'Using CMS - Deviation - Limits'!$B$24:$B$5800,B45,'Using CMS - Deviation - Limits'!$C$24:$C$5800,C45,'Using CMS - Deviation - Limits'!$D$24:$D$5800,\"Shutdown\"))","v":""},{"$f":"IF($C45=\"\",\"\",SUMIFS('Using CMS - Deviation - Limits'!$I$24:$I$5800,'Using CMS - Deviation - Limits'!$B$24:$B$5800,B45,'Using CMS - Deviation - Limits'!$C$24:$C$5800,C45,'Using CMS - Deviation - Limits'!$J$24:$J$5800,\"Control Equipment Problems\"))","v":""},{"$f":"IF($C45=\"\",\"\",SUMIFS('Using CMS - Deviation - Limits'!$I$24:$I$5800,'Using CMS - Deviation - Limits'!$B$24:$B$5800,B45,'Using CMS - Deviation - Limits'!$C$24:$C$5800,C45,'Using CMS - Deviation - Limits'!$J$24:$J$5800,\"Process Problems\"))","v":""},{"$f":"IF($C45=\"\",\"\",SUMIFS('Using CMS - Deviation - Limits'!$I$24:$I$5800,'Using CMS - Deviation - Limits'!$B$24:$B$5800,B45,'Using CMS - Deviation - Limits'!$C$24:$C$5800,C45,'Using CMS - Deviation - Limits'!$J$24:$J$5800,\"Other Known Causes\"))","v":""},{"$f":"IF($C45=\"\",\"\",SUMIFS('Using CMS - Deviation - Limits'!$I$24:$I$5800,'Using CMS - Deviation - Limits'!$B$24:$B$5800,B45,'Using CMS - Deviation - Limits'!$C$24:$C$5800,C45,'Using CMS - Deviation - Limits'!$J$24:$J$5800,\"Other Unknown Causes\"))","v":""}]
[null,{"$f":"IF(Lists!BC24=\"\",\"\",Lists!BC24)","v":""},{"$f":"IF(Lists!BD24=\"\",\"\",Lists!BD24)","v":""},null,{"$f":"IF(C46=\"\",\"\",SUMIFS('Using CMS - Deviation - Limits'!$I$24:$I$5400,'Using CMS - Deviation - Limits'!$B$24:$B$5400,B46,'Using CMS - Deviation - Limits'!$C$24:$C$5400,C46))","v":""},"",{"$f":"IF($C46=\"\",\"\",SUMIFS('Using CMS - Deviation - Limits'!$I$24:$I$5800,'Using CMS - Deviation - Limits'!$B$24:$B$5800,B46,'Using CMS - Deviation - Limits'!$C$24:$C$5800,C46,'Using CMS - Deviation - Limits'!$D$24:$D$5800,\"Startup\"))","v":""},{"$f":"IF($C46=\"\",\"\",SUMIFS('Using CMS - Deviation - Limits'!$I$24:$I$5800,'Using CMS - Deviation - Limits'!$B$24:$B$5800,B46,'Using CMS - Deviation - Limits'!$C$24:$C$5800,C46,'Using CMS - Deviation - Limits'!$D$24:$D$5800,\"Shutdown\"))","v":""},{"$f":"IF($C46=\"\",\"\",SUMIFS('Using CMS - Deviation - Limits'!$I$24:$I$5800,'Using CMS - Deviation - Limits'!$B$24:$B$5800,B46,'Using CMS - Deviation - Limits'!$C$24:$C$5800,C46,'Using CMS - Deviation - Limits'!$J$24:$J$5800,\"Control Equipment Problems\"))","v":""},{"$f":"IF($C46=\"\",\"\",SUMIFS('Using CMS - Deviation - Limits'!$I$24:$I$5800,'Using CMS - Deviation - Limits'!$B$24:$B$5800,B46,'Using CMS - Deviation - Limits'!$C$24:$C$5800,C46,'Using CMS - Deviation - Limits'!$J$24:$J$5800,\"Process Problems\"))","v":""},{"$f":"IF($C46=\"\",\"\",SUMIFS('Using CMS - Deviation - Limits'!$I$24:$I$5800,'Using CMS - Deviation - Limits'!$B$24:$B$5800,B46,'Using CMS - Deviation - Limits'!$C$24:$C$5800,C46,'Using CMS - Deviation - Limits'!$J$24:$J$5800,\"Other Known Causes\"))","v":""},{"$f":"IF($C46=\"\",\"\",SUMIFS('Using CMS - Deviation - Limits'!$I$24:$I$5800,'Using CMS - Deviation - Limits'!$B$24:$B$5800,B46,'Using CMS - Deviation - Limits'!$C$24:$C$5800,C46,'Using CMS - Deviation - Limits'!$J$24:$J$5800,\"Other Unknown Causes\"))","v":""}]
[null,{"$f":"IF(Lists!BC25=\"\",\"\",Lists!BC25)","v":""},{"$f":"IF(Lists!BD25=\"\",\"\",Lists!BD25)","v":""},null,{"$f":"IF(C47=\"\",\"\",SUMIFS('Using CMS - Deviation - Limits'!$I$24:$I$5400,'Using CMS - Deviation - Limits'!$B$24:$B$5400,B47,'Using CMS - Deviation - Limits'!$C$24:$C$5400,C47))","v":""},"",{"$f":"IF($C47=\"\",\"\",SUMIFS('Using CMS - Deviation - Limits'!$I$24:$I$5800,'Using CMS - Deviation - Limits'!$B$24:$B$5800,B47,'Using CMS - Deviation - Limits'!$C$24:$C$5800,C47,'Using CMS - Deviation - Limits'!$D$24:$D$5800,\"Startup\"))","v":""},{"$f":"IF($C47=\"\",\"\",SUMIFS('Using CMS - Deviation - Limits'!$I$24:$I$5800,'Using CMS - Deviation - Limits'!$B$24:$B$5800,B47,'Using CMS - Deviation - Limits'!$C$24:$C$5800,C47,'Using CMS - Deviation - Limits'!$D$24:$D$5800,\"Shutdown\"))","v":""},{"$f":"IF($C47=\"\",\"\",SUMIFS('Using CMS - Deviation - Limits'!$I$24:$I$5800,'Using CMS - Deviation - Limits'!$B$24:$B$5800,B47,'Using CMS - Deviation - Limits'!$C$24:$C$5800,C47,'Using CMS - Deviation - Limits'!$J$24:$J$5800,\"Control Equipment Problems\"))","v":""},{"$f":"IF($C47=\"\",\"\",SUMIFS('Using CMS - Deviation - Limits'!$I$24:$I$5800,'Using CMS - Deviation - Limits'!$B$24:$B$5800,B47,'Using CMS - Deviation - Limits'!$C$24:$C$5800,C47,'Using CMS - Deviation - Limits'!$J$24:$J$5800,\"Process Problems\"))","v":""},{"$f":"IF($C47=\"\",\"\",SUMIFS('Using CMS - Deviation - Limits'!$I$24:$I$5800,'Using CMS - Deviation - Limits'!$B$24:$B$5800,B47,'Using CMS - Deviation - Limits'!$C$24:$C$5800,C47,'Using CMS - Deviation - Limits'!$J$24:$J$5800,\"Other Known Causes\"))","v":""},{"$f":"IF($C47=\"\",\"\",SUMIFS('Using CMS - Deviation - Limits'!$I$24:$I$5800,'Using CMS - Deviation - Limits'!$B$24:$B$5800,B47,'Using CMS - Deviation - Limits'!$C$24:$C$5800,C47,'Using CMS - Deviation - Limits'!$J$24:$J$5800,\"Other Unknown Causes\"))","v":""}]
[null,{"$f":"IF(Lists!BC26=\"\",\"\",Lists!BC26)","v":""},{"$f":"IF(Lists!BD26=\"\",\"\",Lists!BD26)","v":""},null,{"$f":"IF(C48=\"\",\"\",SUMIFS('Using CMS - Deviation - Limits'!$I$24:$I$5400,'Using CMS - Deviation - Limits'!$B$24:$B$5400,B48,'Using CMS - Deviation - Limits'!$C$24:$C$5400,C48))","v":""},"",{"$f":"IF($C48=\"\",\"\",SUMIFS('Using CMS - Deviation - Limits'!$I$24:$I$5800,'Using CMS - Deviation - Limits'!$B$24:$B$5800,B48,'Using CMS - Deviation - Limits'!$C$24:$C$5800,C48,'Using CMS - Deviation - Limits'!$D$24:$D$5800,\"Startup\"))","v":""},{"$f":"IF($C48=\"\",\"\",SUMIFS('Using CMS - Deviation - Limits'!$I$24:$I$5800,'Using CMS - Deviation - Limits'!$B$24:$B$5800,B48,'Using CMS - Deviation - Limits'!$C$24:$C$5800,C48,'Using CMS - Deviation - Limits'!$D$24:$D$5800,\"Shutdown\"))","v":""},{"$f":"IF($C48=\"\",\"\",SUMIFS('Using CMS - Deviation - Limits'!$I$24:$I$5800,'Using CMS - Deviation - Limits'!$B$24:$B$5800,B48,'Using CMS - Deviation - Limits'!$C$24:$C$5800,C48,'Using CMS - Deviation - Limits'!$J$24:$J$5800,\"Control Equipment Problems\"))","v":""},{"$f":"IF($C48=\"\",\"\",SUMIFS('Using CMS - Deviation - Limits'!$I$24:$I$5800,'Using CMS - Deviation - Limits'!$B$24:$B$5800,B48,'Using CMS - Deviation - Limits'!$C$24:$C$5800,C48,'Using CMS - Deviation - Limits'!$J$24:$J$5800,\"Process Problems\"))","v":""},{"$f":"IF($C48=\"\",\"\",SUMIFS('Using CMS - Deviation - Limits'!$I$24:$I$5800,'Using CMS - Deviation - Limits'!$B$24:$B$5800,B48,'Using CMS - Deviation - Limits'!$C$24:$C$5800,C48,'Using CMS - Deviation - Limits'!$J$24:$J$5800,\"Other Known Causes\"))","v":""},{"$f":"IF($C48=\"\",\"\",SUMIFS('Using CMS - Deviation - Limits'!$I$24:$I$5800,'Using CMS - Deviation - Limits'!$B$24:$B$5800,B48,'Using CMS - Deviation - Limits'!$C$24:$C$5800,C48,'Using CMS - Deviation - Limits'!$J$24:$J$5800,\"Other Unknown Causes\"))","v":""}]
[null,{"$f":"IF(Lists!BC27=\"\",\"\",Lists!BC27)","v":""},{"$f":"IF(Lists!BD27=\"\",\"\",Lists!BD27)","v":""},null,{"$f":"IF(C49=\"\",\"\",SUMIFS('Using CMS - Deviation - Limits'!$I$24:$I$5400,'Using CMS - Deviation - Limits'!$B$24:$B$5400,B49,'Using CMS - Deviation - Limits'!$C$24:$C$5400,C49))","v":""},"",{"$f":"IF($C49=\"\",\"\",SUMIFS('Using CMS - Deviation - Limits'!$I$24:$I$5800,'Using CMS - Deviation - Limits'!$B$24:$B$5800,B49,'Using CMS - Deviation - Limits'!$C$24:$C$5800,C49,'Using CMS - Deviation - Limits'!$D$24:$D$5800,\"Startup\"))","v":""},{"$f":"IF($C49=\"\",\"\",SUMIFS('Using CMS - Deviation - Limits'!$I$24:$I$5800,'Using CMS - Deviation - Limits'!$B$24:$B$5800,B49,'Using CMS - Deviation - Limits'!$C$24:$C$5800,C49,'Using CMS - Deviation - Limits'!$D$24:$D$5800,\"Shutdown\"))","v":""},{"$f":"IF($C49=\"\",\"\",SUMIFS('Using CMS - Deviation - Limits'!$I$24:$I$5800,'Using CMS - Deviation - Limits'!$B$24:$B$5800,B49,'Using CMS - Deviation - Limits'!$C$24:$C$5800,C49,'Using CMS - Deviation - Limits'!$J$24:$J$5800,\"Control Equipment Problems\"))","v":""},{"$f":"IF($C49=\"\",\"\",SUMIFS('Using CMS - Deviation - Limits'!$I$24:$I$5800,'Using CMS - Deviation - Limits'!$B$24:$B$5800,B49,'Using CMS - Deviation - Limits'!$C$24:$C$5800,C49,'Using CMS - Deviation - Limits'!$J$24:$J$5800,\"Process Problems\"))","v":""},{"$f":"IF($C49=\"\",\"\",SUMIFS('Using CMS - Deviation - Limits'!$I$24:$I$5800,'Using CMS - Deviation - Limits'!$B$24:$B$5800,B49,'Using CMS - Deviation - Limits'!$C$24:$C$5800,C49,'Using CMS - Deviation - Limits'!$J$24:$J$5800,\"Other Known Causes\"))","v":""},{"$f":"IF($C49=\"\",\"\",SUMIFS('Using CMS - Deviation - Limits'!$I$24:$I$5800,'Using CMS - Deviation - Limits'!$B$24:$B$5800,B49,'Using CMS - Deviation - Limits'!$C$24:$C$5800,C49,'Using CMS - Deviation - Limits'!$J$24:$J$5800,\"Other Unknown Causes\"))","v":""}]
[null,{"$f":"IF(Lists!BC28=\"\",\"\",Lists!BC28)","v":""},{"$f":"IF(Lists!BD28=\"\",\"\",Lists!BD28)","v":""},null,{"$f":"IF(C50=\"\",\"\",SUMIFS('Using CMS - Deviation - Limits'!$I$24:$I$5400,'Using CMS - Deviation - Limits'!$B$24:$B$5400,B50,'Using CMS - Deviation - Limits'!$C$24:$C$5400,C50))","v":""},"",{"$f":"IF($C50=\"\",\"\",SUMIFS('Using CMS - Deviation - Limits'!$I$24:$I$5800,'Using CMS - Deviation - Limits'!$B$24:$B$5800,B50,'Using CMS - Deviation - Limits'!$C$24:$C$5800,C50,'Using CMS - Deviation - Limits'!$D$24:$D$5800,\"Startup\"))","v":""},{"$f":"IF($C50=\"\",\"\",SUMIFS('Using CMS - Deviation - Limits'!$I$24:$I$5800,'Using CMS - Deviation - Limits'!$B$24:$B$5800,B50,'Using CMS - Deviation - Limits'!$C$24:$C$5800,C50,'Using CMS - Deviation - Limits'!$D$24:$D$5800,\"Shutdown\"))","v":""},{"$f":"IF($C50=\"\",\"\",SUMIFS('Using CMS - Deviation - Limits'!$I$24:$I$5800,'Using CMS - Deviation - Limits'!$B$24:$B$5800,B50,'Using CMS - Deviation - Limits'!$C$24:$C$5800,C50,'Using CMS - Deviation - Limits'!$J$24:$J$5800,\"Control Equipment Problems\"))","v":""},{"$f":"IF($C50=\"\",\"\",SUMIFS('Using CMS - Deviation - Limits'!$I$24:$I$5800,'Using CMS - Deviation - Limits'!$B$24:$B$5800,B50,'Using CMS - Deviation - Limits'!$C$24:$C$5800,C50,'Using CMS - Deviation - Limits'!$J$24:$J$5800,\"Process Problems\"))","v":""},{"$f":"IF($C50=\"\",\"\",SUMIFS('Using CMS - Deviation - Limits'!$I$24:$I$5800,'Using CMS - Deviation - Limits'!$B$24:$B$5800,B50,'Using CMS - Deviation - Limits'!$C$24:$C$5800,C50,'Using CMS - Deviation - Limits'!$J$24:$J$5800,\"Other Known Causes\"))","v":""},{"$f":"IF($C50=\"\",\"\",SUMIFS('Using CMS - Deviation - Limits'!$I$24:$I$5800,'Using CMS - Deviation - Limits'!$B$24:$B$5800,B50,'Using CMS - Deviation - Limits'!$C$24:$C$5800,C50,'Using CMS - Deviation - Limits'!$J$24:$J$5800,\"Other Unknown Causes\"))","v":""}]
[null,{"$f":"IF(Lists!BC29=\"\",\"\",Lists!BC29)","v":""},{"$f":"IF(Lists!BD29=\"\",\"\",Lists!BD29)","v":""},null,{"$f":"IF(C51=\"\",\"\",SUMIFS('Using CMS - Deviation - Limits'!$I$24:$I$5400,'Using CMS - Deviation - Limits'!$B$24:$B$5400,B51,'Using CMS - Deviation - Limits'!$C$24:$C$5400,C51))","v":""},"",{"$f":"IF($C51=\"\",\"\",SUMIFS('Using CMS - Deviation - Limits'!$I$24:$I$5800,'Using CMS - Deviation - Limits'!$B$24:$B$5800,B51,'Using CMS - Deviation - Limits'!$C$24:$C$5800,C51,'Using CMS - Deviation - Limits'!$D$24:$D$5800,\"Startup\"))","v":""},{"$f":"IF($C51=\"\",\"\",SUMIFS('Using CMS - Deviation - Limits'!$I$24:$I$5800,'Using CMS - Deviation - Limits'!$B$24:$B$5800,B51,'Using CMS - Deviation - Limits'!$C$24:$C$5800,C51,'Using CMS - Deviation - Limits'!$D$24:$D$5800,\"Shutdown\"))","v":""},{"$f":"IF($C51=\"\",\"\",SUMIFS('Using CMS - Deviation - Limits'!$I$24:$I$5800,'Using CMS - Deviation - Limits'!$B$24:$B$5800,B51,'Using CMS - Deviation - Limits'!$C$24:$C$5800,C51,'Using CMS - Deviation - Limits'!$J$24:$J$5800,\"Control Equipment Problems\"))","v":""},{"$f":"IF($C51=\"\",\"\",SUMIFS('Using CMS - Deviation - Limits'!$I$24:$I$5800,'Using CMS - Deviation - Limits'!$B$24:$B$5800,B51,'Using CMS - Deviation - Limits'!$C$24:$C$5800,C51,'Using CMS - Deviation - Limits'!$J$24:$J$5800,\"Process Problems\"))","v":""},{"$f":"IF($C51=\"\",\"\",SUMIFS('Using CMS - Deviation - Limits'!$I$24:$I$5800,'Using CMS - Deviation - Limits'!$B$24:$B$5800,B51,'Using CMS - Deviation - Limits'!$C$24:$C$5800,C51,'Using CMS - Deviation - Limits'!$J$24:$J$5800,\"Other Known Causes\"))","v":""},{"$f":"IF($C51=\"\",\"\",SUMIFS('Using CMS - Deviation - Limits'!$I$24:$I$5800,'Using CMS - Deviation - Limits'!$B$24:$B$5800,B51,'Using CMS - Deviation - Limits'!$C$24:$C$5800,C51,'Using CMS - Deviation - Limits'!$J$24:$J$5800,\"Other Unknown Causes\"))","v":""}]
[null,{"$f":"IF(Lists!BC30=\"\",\"\",Lists!BC30)","v":""},{"$f":"IF(Lists!BD30=\"\",\"\",Lists!BD30)","v":""},null,{"$f":"IF(C52=\"\",\"\",SUMIFS('Using CMS - Deviation - Limits'!$I$24:$I$5400,'Using CMS - Deviation - Limits'!$B$24:$B$5400,B52,'Using CMS - Deviation - Limits'!$C$24:$C$5400,C52))","v":""},"",{"$f":"IF($C52=\"\",\"\",SUMIFS('Using CMS - Deviation - Limits'!$I$24:$I$5800,'Using CMS - Deviation - Limits'!$B$24:$B$5800,B52,'Using CMS - Deviation - Limits'!$C$24:$C$5800,C52,'Using CMS - Deviation - Limits'!$D$24:$D$5800,\"Startup\"))","v":""},{"$f":"IF($C52=\"\",\"\",SUMIFS('Using CMS - Deviation - Limits'!$I$24:$I$5800,'Using CMS - Deviation - Limits'!$B$24:$B$5800,B52,'Using CMS - Deviation - Limits'!$C$24:$C$5800,C52,'Using CMS - Deviation - Limits'!$D$24:$D$5800,\"Shutdown\"))","v":""},{"$f":"IF($C52=\"\",\"\",SUMIFS('Using CMS - Deviation - Limits'!$I$24:$I$5800,'Using CMS - Deviation - Limits'!$B$24:$B$5800,B52,'Using CMS - Deviation - Limits'!$C$24:$C$5800,C52,'Using CMS - Deviation - Limits'!$J$24:$J$5800,\"Control Equipment Problems\"))","v":""},{"$f":"IF($C52=\"\",\"\",SUMIFS('Using CMS - Deviation - Limits'!$I$24:$I$5800,'Using CMS - Deviation - Limits'!$B$24:$B$5800,B52,'Using CMS - Deviation - Limits'!$C$24:$C$5800,C52,'Using CMS - Deviation - Limits'!$J$24:$J$5800,\"Process Problems\"))","v":""},{"$f":"IF($C52=\"\",\"\",SUMIFS('Using CMS - Deviation - Limits'!$I$24:$I$5800,'Using CMS - Deviation - Limits'!$B$24:$B$5800,B52,'Using CMS - Deviation - Limits'!$C$24:$C$5800,C52,'Using CMS - Deviation - Limits'!$J$24:$J$5800,\"Other Known Causes\"))","v":""},{"$f":"IF($C52=\"\",\"\",SUMIFS('Using CMS - Deviation - Limits'!$I$24:$I$5800,'Using CMS - Deviation - Limits'!$B$24:$B$5800,B52,'Using CMS - Deviation - Limits'!$C$24:$C$5800,C52,'Using CMS - Deviation - Limits'!$J$24:$J$5800,\"Other Unknown Causes\"))","v":""}]
[null,{"$f":"IF(Lists!BC31=\"\",\"\",Lists!BC31)","v":""},{"$f":"IF(Lists!BD31=\"\",\"\",Lists!BD31)","v":""},null,{"$f":"IF(C53=\"\",\"\",SUMIFS('Using CMS - Deviation - Limits'!$I$24:$I$5400,'Using CMS - Deviation - Limits'!$B$24:$B$5400,B53,'Using CMS - Deviation - Limits'!$C$24:$C$5400,C53))","v":""},"",{"$f":"IF($C53=\"\",\"\",SUMIFS('Using CMS - Deviation - Limits'!$I$24:$I$5800,'Using CMS - Deviation - Limits'!$B$24:$B$5800,B53,'Using CMS - Deviation - Limits'!$C$24:$C$5800,C53,'Using CMS - Deviation - Limits'!$D$24:$D$5800,\"Startup\"))","v":""},{"$f":"IF($C53=\"\",\"\",SUMIFS('Using CMS - Deviation - Limits'!$I$24:$I$5800,'Using CMS - Deviation - Limits'!$B$24:$B$5800,B53,'Using CMS - Deviation - Limits'!$C$24:$C$5800,C53,'Using CMS - Deviation - Limits'!$D$24:$D$5800,\"Shutdown\"))","v":""},{"$f":"IF($C53=\"\",\"\",SUMIFS('Using CMS - Deviation - Limits'!$I$24:$I$5800,'Using CMS - Deviation - Limits'!$B$24:$B$5800,B53,'Using CMS - Deviation - Limits'!$C$24:$C$5800,C53,'Using CMS - Deviation - Limits'!$J$24:$J$5800,\"Control Equipment Problems\"))","v":""},{"$f":"IF($C53=\"\",\"\",SUMIFS('Using CMS - Deviation - Limits'!$I$24:$I$5800,'Using CMS - Deviation - Limits'!$B$24:$B$5800,B53,'Using CMS - Deviation - Limits'!$C$24:$C$5800,C53,'Using CMS - Deviation - Limits'!$J$24:$J$5800,\"Process Problems\"))","v":""},{"$f":"IF($C53=\"\",\"\",SUMIFS('Using CMS - Deviation - Limits'!$I$24:$I$5800,'Using CMS - Deviation - Limits'!$B$24:$B$5800,B53,'Using CMS - Deviation - Limits'!$C$24:$C$5800,C53,'Using CMS - Deviation - Limits'!$J$24:$J$5800,\"Other Known Causes\"))","v":""},{"$f":"IF($C53=\"\",\"\",SUMIFS('Using CMS - Deviation - Limits'!$I$24:$I$5800,'Using CMS - Deviation - Limits'!$B$24:$B$5800,B53,'Using CMS - Deviation - Limits'!$C$24:$C$5800,C53,'Using CMS - Deviation - Limits'!$J$24:$J$5800,\"Other Unknown Causes\"))","v":""}]
[null,{"$f":"IF(Lists!BC32=\"\",\"\",Lists!BC32)","v":""},{"$f":"IF(Lists!BD32=\"\",\"\",Lists!BD32)","v":""},null,{"$f":"IF(C54=\"\",\"\",SUMIFS('Using CMS - Deviation - Limits'!$I$24:$I$5400,'Using CMS - Deviation - Limits'!$B$24:$B$5400,B54,'Using CMS - Deviation - Limits'!$C$24:$C$5400,C54))","v":""},"",{"$f":"IF($C54=\"\",\"\",SUMIFS('Using CMS - Deviation - Limits'!$I$24:$I$5800,'Using CMS - Deviation - Limits'!$B$24:$B$5800,B54,'Using CMS - Deviation - Limits'!$C$24:$C$5800,C54,'Using CMS - Deviation - Limits'!$D$24:$D$5800,\"Startup\"))","v":""},{"$f":"IF($C54=\"\",\"\",SUMIFS('Using CMS - Deviation - Limits'!$I$24:$I$5800,'Using CMS - Deviation - Limits'!$B$24:$B$5800,B54,'Using CMS - Deviation - Limits'!$C$24:$C$5800,C54,'Using CMS - Deviation - Limits'!$D$24:$D$5800,\"Shutdown\"))","v":""},{"$f":"IF($C54=\"\",\"\",SUMIFS('Using CMS - Deviation - Limits'!$I$24:$I$5800,'Using CMS - Deviation - Limits'!$B$24:$B$5800,B54,'Using CMS - Deviation - Limits'!$C$24:$C$5800,C54,'Using CMS - Deviation - Limits'!$J$24:$J$5800,\"Control Equipment Problems\"))","v":""},{"$f":"IF($C54=\"\",\"\",SUMIFS('Using CMS - Deviation - Limits'!$I$24:$I$5800,'Using CMS - Deviation - Limits'!$B$24:$B$5800,B54,'Using CMS - Deviation - Limits'!$C$24:$C$5800,C54,'Using CMS - Deviation - Limits'!$J$24:$J$5800,\"Process Problems\"))","v":""},{"$f":"IF($C54=\"\",\"\",SUMIFS('Using CMS - Deviation - Limits'!$I$24:$I$5800,'Using CMS - Deviation - Limits'!$B$24:$B$5800,B54,'Using CMS - Deviation - Limits'!$C$24:$C$5800,C54,'Using CMS - Deviation - Limits'!$J$24:$J$5800,\"Other Known Causes\"))","v":""},{"$f":"IF($C54=\"\",\"\",SUMIFS('Using CMS - Deviation - Limits'!$I$24:$I$5800,'Using CMS - Deviation - Limits'!$B$24:$B$5800,B54,'Using CMS - Deviation - Limits'!$C$24:$C$5800,C54,'Using CMS - Deviation - Limits'!$J$24:$J$5800,\"Other Unknown Causes\"))","v":""}]
[null,{"$f":"IF(Lists!BC33=\"\",\"\",Lists!BC33)","v":""},{"$f":"IF(Lists!BD33=\"\",\"\",Lists!BD33)","v":""},null,{"$f":"IF(C55=\"\",\"\",SUMIFS('Using CMS - Deviation - Limits'!$I$24:$I$5400,'Using CMS - Deviation - Limits'!$B$24:$B$5400,B55,'Using CMS - Deviation - Limits'!$C$24:$C$5400,C55))","v":""},"",{"$f":"IF($C55=\"\",\"\",SUMIFS('Using CMS - Deviation - Limits'!$I$24:$I$5800,'Using CMS - Deviation - Limits'!$B$24:$B$5800,B55,'Using CMS - Deviation - Limits'!$C$24:$C$5800,C55,'Using CMS - Deviation - Limits'!$D$24:$D$5800,\"Startup\"))","v":""},{"$f":"IF($C55=\"\",\"\",SUMIFS('Using CMS - Deviation - Limits'!$I$24:$I$5800,'Using CMS - Deviation - Limits'!$B$24:$B$5800,B55,'Using CMS - Deviation - Limits'!$C$24:$C$5800,C55,'Using CMS - Deviation - Limits'!$D$24:$D$5800,\"Shutdown\"))","v":""},{"$f":"IF($C55=\"\",\"\",SUMIFS('Using CMS - Deviation - Limits'!$I$24:$I$5800,'Using CMS - Deviation - Limits'!$B$24:$B$5800,B55,'Using CMS - Deviation - Limits'!$C$24:$C$5800,C55,'Using CMS - Deviation - Limits'!$J$24:$J$5800,\"Control Equipment Problems\"))","v":""},{"$f":"IF($C55=\"\",\"\",SUMIFS('Using CMS - Deviation - Limits'!$I$24:$I$5800,'Using CMS - Deviation - Limits'!$B$24:$B$5800,B55,'Using CMS - Deviation - Limits'!$C$24:$C$5800,C55,'Using CMS - Deviation - Limits'!$J$24:$J$5800,\"Process Problems\"))","v":""},{"$f":"IF($C55=\"\",\"\",SUMIFS('Using CMS - Deviation - Limits'!$I$24:$I$5800,'Using CMS - Deviation - Limits'!$B$24:$B$5800,B55,'Using CMS - Deviation - Limits'!$C$24:$C$5800,C55,'Using CMS - Deviation - Limits'!$J$24:$J$5800,\"Other Known Causes\"))","v":""},{"$f":"IF($C55=\"\",\"\",SUMIFS('Using CMS - Deviation - Limits'!$I$24:$I$5800,'Using CMS - Deviation - Limits'!$B$24:$B$5800,B55,'Using CMS - Deviation - Limits'!$C$24:$C$5800,C55,'Using CMS - Deviation - Limits'!$J$24:$J$5800,\"Other Unknown Causes\"))","v":""}]
[null,{"$f":"IF(Lists!BC34=\"\",\"\",Lists!BC34)","v":""},{"$f":"IF(Lists!BD34=\"\",\"\",Lists!BD34)","v":""},null,{"$f":"IF(C56=\"\",\"\",SUMIFS('Using CMS - Deviation - Limits'!$I$24:$I$5400,'Using CMS - Deviation - Limits'!$B$24:$B$5400,B56,'Using CMS - Deviation - Limits'!$C$24:$C$5400,C56))","v":""},"",{"$f":"IF($C56=\"\",\"\",SUMIFS('Using CMS - Deviation - Limits'!$I$24:$I$5800,'Using CMS - Deviation - Limits'!$B$24:$B$5800,B56,'Using CMS - Deviation - Limits'!$C$24:$C$5800,C56,'Using CMS - Deviation - Limits'!$D$24:$D$5800,\"Startup\"))","v":""},{"$f":"IF($C56=\"\",\"\",SUMIFS('Using CMS - Deviation - Limits'!$I$24:$I$5800,'Using CMS - Deviation - Limits'!$B$24:$B$5800,B56,'Using CMS - Deviation - Limits'!$C$24:$C$5800,C56,'Using CMS - Deviation - Limits'!$D$24:$D$5800,\"Shutdown\"))","v":""},{"$f":"IF($C56=\"\",\"\",SUMIFS('Using CMS - Deviation - Limits'!$I$24:$I$5800,'Using CMS - Deviation - Limits'!$B$24:$B$5800,B56,'Using CMS - Deviation - Limits'!$C$24:$C$5800,C56,'Using CMS - Deviation - Limits'!$J$24:$J$5800,\"Control Equipment Problems\"))","v":""},{"$f":"IF($C56=\"\",\"\",SUMIFS('Using CMS - Deviation - Limits'!$I$24:$I$5800,'Using CMS - Deviation - Limits'!$B$24:$B$5800,B56,'Using CMS - Deviation - Limits'!$C$24:$C$5800,C56,'Using CMS - Deviation - Limits'!$J$24:$J$5800,\"Process Problems\"))","v":""},{"$f":"IF($C56=\"\",\"\",SUMIFS('Using CMS - Deviation - Limits'!$I$24:$I$5800,'Using CMS - Deviation - Limits'!$B$24:$B$5800,B56,'Using CMS - Deviation - Limits'!$C$24:$C$5800,C56,'Using CMS - Deviation - Limits'!$J$24:$J$5800,\"Other Known Causes\"))","v":""},{"$f":"IF($C56=\"\",\"\",SUMIFS('Using CMS - Deviation - Limits'!$I$24:$I$5800,'Using CMS - Deviation - Limits'!$B$24:$B$5800,B56,'Using CMS - Deviation - Limits'!$C$24:$C$5800,C56,'Using CMS - Deviation - Limits'!$J$24:$J$5800,\"Other Unknown Causes\"))","v":""}]
[null,{"$f":"IF(Lists!BC35=\"\",\"\",Lists!BC35)","v":""},{"$f":"IF(Lists!BD35=\"\",\"\",Lists!BD35)","v":""},null,{"$f":"IF(C57=\"\",\"\",SUMIFS('Using CMS - Deviation - Limits'!$I$24:$I$5400,'Using CMS - Deviation - Limits'!$B$24:$B$5400,B57,'Using CMS - Deviation - Limits'!$C$24:$C$5400,C57))","v":""},"",{"$f":"IF($C57=\"\",\"\",SUMIFS('Using CMS - Deviation - Limits'!$I$24:$I$5800,'Using CMS - Deviation - Limits'!$B$24:$B$5800,B57,'Using CMS - Deviation - Limits'!$C$24:$C$5800,C57,'Using CMS - Deviation - Limits'!$D$24:$D$5800,\"Startup\"))","v":""},{"$f":"IF($C57=\"\",\"\",SUMIFS('Using CMS - Deviation - Limits'!$I$24:$I$5800,'Using CMS - Deviation - Limits'!$B$24:$B$5800,B57,'Using CMS - Deviation - Limits'!$C$24:$C$5800,C57,'Using CMS - Deviation - Limits'!$D$24:$D$5800,\"Shutdown\"))","v":""},{"$f":"IF($C57=\"\",\"\",SUMIFS('Using CMS - Deviation - Limits'!$I$24:$I$5800,'Using CMS - Deviation - Limits'!$B$24:$B$5800,B57,'Using CMS - Deviation - Limits'!$C$24:$C$5800,C57,'Using CMS - Deviation - Limits'!$J$24:$J$5800,\"Control Equipment Problems\"))","v":""},{"$f":"IF($C57=\"\",\"\",SUMIFS('Using CMS - Deviation - Limits'!$I$24:$I$5800,'Using CMS - Deviation - Limits'!$B$24:$B$5800,B57,'Using CMS - Deviation - Limits'!$C$24:$C$5800,C57,'Using CMS - Deviation - Limits'!$J$24:$J$5800,\"Process Problems\"))","v":""},{"$f":"IF($C57=\"\",\"\",SUMIFS('Using CMS - Deviation - Limits'!$I$24:$I$5800,'Using CMS - Deviation - Limits'!$B$24:$B$5800,B57,'Using CMS - Deviation - Limits'!$C$24:$C$5800,C57,'Using CMS - Deviation - Limits'!$J$24:$J$5800,\"Other Known Causes\"))","v":""},{"$f":"IF($C57=\"\",\"\",SUMIFS('Using CMS - Deviation - Limits'!$I$24:$I$5800,'Using CMS - Deviation - Limits'!$B$24:$B$5800,B57,'Using CMS - Deviation - Limits'!$C$24:$C$5800,C57,'Using CMS - Deviation - Limits'!$J$24:$J$5800,\"Other Unknown Causes\"))","v":""}]
[null,{"$f":"IF(Lists!BC36=\"\",\"\",Lists!BC36)","v":""},{"$f":"IF(Lists!BD36=\"\",\"\",Lists!BD36)","v":""},null,{"$f":"IF(C58=\"\",\"\",SUMIFS('Using CMS - Deviation - Limits'!$I$24:$I$5400,'Using CMS - Deviation - Limits'!$B$24:$B$5400,B58,'Using CMS - Deviation - Limits'!$C$24:$C$5400,C58))","v":""},"",{"$f":"IF($C58=\"\",\"\",SUMIFS('Using CMS - Deviation - Limits'!$I$24:$I$5800,'Using CMS - Deviation - Limits'!$B$24:$B$5800,B58,'Using CMS - Deviation - Limits'!$C$24:$C$5800,C58,'Using CMS - Deviation - Limits'!$D$24:$D$5800,\"Startup\"))","v":""},{"$f":"IF($C58=\"\",\"\",SUMIFS('Using CMS - Deviation - Limits'!$I$24:$I$5800,'Using CMS - Deviation - Limits'!$B$24:$B$5800,B58,'Using CMS - Deviation - Limits'!$C$24:$C$5800,C58,'Using CMS - Deviation - Limits'!$D$24:$D$5800,\"Shutdown\"))","v":""},{"$f":"IF($C58=\"\",\"\",SUMIFS('Using CMS - Deviation - Limits'!$I$24:$I$5800,'Using CMS - Deviation - Limits'!$B$24:$B$5800,B58,'Using CMS - Deviation - Limits'!$C$24:$C$5800,C58,'Using CMS - Deviation - Limits'!$J$24:$J$5800,\"Control Equipment Problems\"))","v":""},{"$f":"IF($C58=\"\",\"\",SUMIFS('Using CMS - Deviation - Limits'!$I$24:$I$5800,'Using CMS - Deviation - Limits'!$B$24:$B$5800,B58,'Using CMS - Deviation - Limits'!$C$24:$C$5800,C58,'Using CMS - Deviation - Limits'!$J$24:$J$5800,\"Process Problems\"))","v":""},{"$f":"IF($C58=\"\",\"\",SUMIFS('Using CMS - Deviation - Limits'!$I$24:$I$5800,'Using CMS - Deviation - Limits'!$B$24:$B$5800,B58,'Using CMS - Deviation - Limits'!$C$24:$C$5800,C58,'Using CMS - Deviation - Limits'!$J$24:$J$5800,\"Other Known Causes\"))","v":""},{"$f":"IF($C58=\"\",\"\",SUMIFS('Using CMS - Deviation - Limits'!$I$24:$I$5800,'Using CMS - Deviation - Limits'!$B$24:$B$5800,B58,'Using CMS - Deviation - Limits'!$C$24:$C$5800,C58,'Using CMS - Deviation - Limits'!$J$24:$J$5800,\"Other Unknown Causes\"))","v":""}]
[null,{"$f":"IF(Lists!BC37=\"\",\"\",Lists!BC37)","v":""},{"$f":"IF(Lists!BD37=\"\",\"\",Lists!BD37)","v":""},null,{"$f":"IF(C59=\"\",\"\",SUMIFS('Using CMS - Deviation - Limits'!$I$24:$I$5400,'Using CMS - Deviation - Limits'!$B$24:$B$5400,B59,'Using CMS - Deviation - Limits'!$C$24:$C$5400,C59))","v":""},"",{"$f":"IF($C59=\"\",\"\",SUMIFS('Using CMS - Deviation - Limits'!$I$24:$I$5800,'Using CMS - Deviation - Limits'!$B$24:$B$5800,B59,'Using CMS - Deviation - Limits'!$C$24:$C$5800,C59,'Using CMS - Deviation - Limits'!$D$24:$D$5800,\"Startup\"))","v":""},{"$f":"IF($C59=\"\",\"\",SUMIFS('Using CMS - Deviation - Limits'!$I$24:$I$5800,'Using CMS - Deviation - Limits'!$B$24:$B$5800,B59,'Using CMS - Deviation - Limits'!$C$24:$C$5800,C59,'Using CMS - Deviation - Limits'!$D$24:$D$5800,\"Shutdown\"))","v":""},{"$f":"IF($C59=\"\",\"\",SUMIFS('Using CMS - Deviation - Limits'!$I$24:$I$5800,'Using CMS - Deviation - Limits'!$B$24:$B$5800,B59,'Using CMS - Deviation - Limits'!$C$24:$C$5800,C59,'Using CMS - Deviation - Limits'!$J$24:$J$5800,\"Control Equipment Problems\"))","v":""},{"$f":"IF($C59=\"\",\"\",SUMIFS('Using CMS - Deviation - Limits'!$I$24:$I$5800,'Using CMS - Deviation - Limits'!$B$24:$B$5800,B59,'Using CMS - Deviation - Limits'!$C$24:$C$5800,C59,'Using CMS - Deviation - Limits'!$J$24:$J$5800,\"Process Problems\"))","v":""},{"$f":"IF($C59=\"\",\"\",SUMIFS('Using CMS - Deviation - Limits'!$I$24:$I$5800,'Using CMS - Deviation - Limits'!$B$24:$B$5800,B59,'Using CMS - Deviation - Limits'!$C$24:$C$5800,C59,'Using CMS - Deviation - Limits'!$J$24:$J$5800,\"Other Known Causes\"))","v":""},{"$f":"IF($C59=\"\",\"\",SUMIFS('Using CMS - Deviation - Limits'!$I$24:$I$5800,'Using CMS - Deviation - Limits'!$B$24:$B$5800,B59,'Using CMS - Deviation - Limits'!$C$24:$C$5800,C59,'Using CMS - Deviation - Limits'!$J$24:$J$5800,\"Other Unknown Causes\"))","v":""}]
[null,{"$f":"IF(Lists!BC38=\"\",\"\",Lists!BC38)","v":""},{"$f":"IF(Lists!BD38=\"\",\"\",Lists!BD38)","v":""},null,{"$f":"IF(C60=\"\",\"\",SUMIFS('Using CMS - Deviation - Limits'!$I$24:$I$5400,'Using CMS - Deviation - Limits'!$B$24:$B$5400,B60,'Using CMS - Deviation - Limits'!$C$24:$C$5400,C60))","v":""},"",{"$f":"IF($C60=\"\",\"\",SUMIFS('Using CMS - Deviation - Limits'!$I$24:$I$5800,'Using CMS - Deviation - Limits'!$B$24:$B$5800,B60,'Using CMS - Deviation - Limits'!$C$24:$C$5800,C60,'Using CMS - Deviation - Limits'!$D$24:$D$5800,\"Startup\"))","v":""},{"$f":"IF($C60=\"\",\"\",SUMIFS('Using CMS - Deviation - Limits'!$I$24:$I$5800,'Using CMS - Deviation - Limits'!$B$24:$B$5800,B60,'Using CMS - Deviation - Limits'!$C$24:$C$5800,C60,'Using CMS - Deviation - Limits'!$D$24:$D$5800,\"Shutdown\"))","v":""},{"$f":"IF($C60=\"\",\"\",SUMIFS('Using CMS - Deviation - Limits'!$I$24:$I$5800,'Using CMS - Deviation - Limits'!$B$24:$B$5800,B60,'Using CMS - Deviation - Limits'!$C$24:$C$5800,C60,'Using CMS - Deviation - Limits'!$J$24:$J$5800,\"Control Equipment Problems\"))","v":""},{"$f":"IF($C60=\"\",\"\",SUMIFS('Using CMS - Deviation - Limits'!$I$24:$I$5800,'Using CMS - Deviation - Limits'!$B$24:$B$5800,B60,'Using CMS - Deviation - Limits'!$C$24:$C$5800,C60,'Using CMS - Deviation - Limits'!$J$24:$J$5800,\"Process Problems\"))","v":""},{"$f":"IF($C60=\"\",\"\",SUMIFS('Using CMS - Deviation - Limits'!$I$24:$I$5800,'Using CMS - Deviation - Limits'!$B$24:$B$5800,B60,'Using CMS - Deviation - Limits'!$C$24:$C$5800,C60,'Using CMS - Deviation - Limits'!$J$24:$J$5800,\"Other Known Causes\"))","v":""},{"$f":"IF($C60=\"\",\"\",SUMIFS('Using CMS - Deviation - Limits'!$I$24:$I$5800,'Using CMS - Deviation - Limits'!$B$24:$B$5800,B60,'Using CMS - Deviation - Limits'!$C$24:$C$5800,C60,'Using CMS - Deviation - Limits'!$J$24:$J$5800,\"Other Unknown Causes\"))","v":""}]
[null,{"$f":"IF(Lists!BC39=\"\",\"\",Lists!BC39)","v":""},{"$f":"IF(Lists!BD39=\"\",\"\",Lists!BD39)","v":""},null,{"$f":"IF(C61=\"\",\"\",SUMIFS('Using CMS - Deviation - Limits'!$I$24:$I$5400,'Using CMS - Deviation - Limits'!$B$24:$B$5400,B61,'Using CMS - Deviation - Limits'!$C$24:$C$5400,C61))","v":""},"",{"$f":"IF($C61=\"\",\"\",SUMIFS('Using CMS - Deviation - Limits'!$I$24:$I$5800,'Using CMS - Deviation - Limits'!$B$24:$B$5800,B61,'Using CMS - Deviation - Limits'!$C$24:$C$5800,C61,'Using CMS - Deviation - Limits'!$D$24:$D$5800,\"Startup\"))","v":""},{"$f":"IF($C61=\"\",\"\",SUMIFS('Using CMS - Deviation - Limits'!$I$24:$I$5800,'Using CMS - Deviation - Limits'!$B$24:$B$5800,B61,'Using CMS - Deviation - Limits'!$C$24:$C$5800,C61,'Using CMS - Deviation - Limits'!$D$24:$D$5800,\"Shutdown\"))","v":""},{"$f":"IF($C61=\"\",\"\",SUMIFS('Using CMS - Deviation - Limits'!$I$24:$I$5800,'Using CMS - Deviation - Limits'!$B$24:$B$5800,B61,'Using CMS - Deviation - Limits'!$C$24:$C$5800,C61,'Using CMS - Deviation - Limits'!$J$24:$J$5800,\"Control Equipment Problems\"))","v":""},{"$f":"IF($C61=\"\",\"\",SUMIFS('Using CMS - Deviation - Limits'!$I$24:$I$5800,'Using CMS - Deviation - Limits'!$B$24:$B$5800,B61,'Using CMS - Deviation - Limits'!$C$24:$C$5800,C61,'Using CMS - Deviation - Limits'!$J$24:$J$5800,\"Process Problems\"))","v":""},{"$f":"IF($C61=\"\",\"\",SUMIFS('Using CMS - Deviation - Limits'!$I$24:$I$5800,'Using CMS - Deviation - Limits'!$B$24:$B$5800,B61,'Using CMS - Deviation - Limits'!$C$24:$C$5800,C61,'Using CMS - Deviation - Limits'!$J$24:$J$5800,\"Other Known Causes\"))","v":""},{"$f":"IF($C61=\"\",\"\",SUMIFS('Using CMS - Deviation - Limits'!$I$24:$I$5800,'Using CMS - Deviation - Limits'!$B$24:$B$5800,B61,'Using CMS - Deviation - Limits'!$C$24:$C$5800,C61,'Using CMS - Deviation - Limits'!$J$24:$J$5800,\"Other Unknown Causes\"))","v":""}]
[null,{"$f":"IF(Lists!BC40=\"\",\"\",Lists!BC40)","v":""},{"$f":"IF(Lists!BD40=\"\",\"\",Lists!BD40)","v":""},null,{"$f":"IF(C62=\"\",\"\",SUMIFS('Using CMS - Deviation - Limits'!$I$24:$I$5400,'Using CMS - Deviation - Limits'!$B$24:$B$5400,B62,'Using CMS - Deviation - Limits'!$C$24:$C$5400,C62))","v":""},"",{"$f":"IF($C62=\"\",\"\",SUMIFS('Using CMS - Deviation - Limits'!$I$24:$I$5800,'Using CMS - Deviation - Limits'!$B$24:$B$5800,B62,'Using CMS - Deviation - Limits'!$C$24:$C$5800,C62,'Using CMS - Deviation - Limits'!$D$24:$D$5800,\"Startup\"))","v":""},{"$f":"IF($C62=\"\",\"\",SUMIFS('Using CMS - Deviation - Limits'!$I$24:$I$5800,'Using CMS - Deviation - Limits'!$B$24:$B$5800,B62,'Using CMS - Deviation - Limits'!$C$24:$C$5800,C62,'Using CMS - Deviation - Limits'!$D$24:$D$5800,\"Shutdown\"))","v":""},{"$f":"IF($C62=\"\",\"\",SUMIFS('Using CMS - Deviation - Limits'!$I$24:$I$5800,'Using CMS - Deviation - Limits'!$B$24:$B$5800,B62,'Using CMS - Deviation - Limits'!$C$24:$C$5800,C62,'Using CMS - Deviation - Limits'!$J$24:$J$5800,\"Control Equipment Problems\"))","v":""},{"$f":"IF($C62=\"\",\"\",SUMIFS('Using CMS - Deviation - Limits'!$I$24:$I$5800,'Using CMS - Deviation - Limits'!$B$24:$B$5800,B62,'Using CMS - Deviation - Limits'!$C$24:$C$5800,C62,'Using CMS - Deviation - Limits'!$J$24:$J$5800,\"Process Problems\"))","v":""},{"$f":"IF($C62=\"\",\"\",SUMIFS('Using CMS - Deviation - Limits'!$I$24:$I$5800,'Using CMS - Deviation - Limits'!$B$24:$B$5800,B62,'Using CMS - Deviation - Limits'!$C$24:$C$5800,C62,'Using CMS - Deviation - Limits'!$J$24:$J$5800,\"Other Known Causes\"))","v":""},{"$f":"IF($C62=\"\",\"\",SUMIFS('Using CMS - Deviation - Limits'!$I$24:$I$5800,'Using CMS - Deviation - Limits'!$B$24:$B$5800,B62,'Using CMS - Deviation - Limits'!$C$24:$C$5800,C62,'Using CMS - Deviation - Limits'!$J$24:$J$5800,\"Other Unknown Causes\"))","v":""}]
[null,{"$f":"IF(Lists!BC41=\"\",\"\",Lists!BC41)","v":""},{"$f":"IF(Lists!BD41=\"\",\"\",Lists!BD41)","v":""},null,{"$f":"IF(C63=\"\",\"\",SUMIFS('Using CMS - Deviation - Limits'!$I$24:$I$5400,'Using CMS - Deviation - Limits'!$B$24:$B$5400,B63,'Using CMS - Deviation - Limits'!$C$24:$C$5400,C63))","v":""},"",{"$f":"IF($C63=\"\",\"\",SUMIFS('Using CMS - Deviation - Limits'!$I$24:$I$5800,'Using CMS - Deviation - Limits'!$B$24:$B$5800,B63,'Using CMS - Deviation - Limits'!$C$24:$C$5800,C63,'Using CMS - Deviation - Limits'!$D$24:$D$5800,\"Startup\"))","v":""},{"$f":"IF($C63=\"\",\"\",SUMIFS('Using CMS - Deviation - Limits'!$I$24:$I$5800,'Using CMS - Deviation - Limits'!$B$24:$B$5800,B63,'Using CMS - Deviation - Limits'!$C$24:$C$5800,C63,'Using CMS - Deviation - Limits'!$D$24:$D$5800,\"Shutdown\"))","v":""},{"$f":"IF($C63=\"\",\"\",SUMIFS('Using CMS - Deviation - Limits'!$I$24:$I$5800,'Using CMS - Deviation - Limits'!$B$24:$B$5800,B63,'Using CMS - Deviation - Limits'!$C$24:$C$5800,C63,'Using CMS - Deviation - Limits'!$J$24:$J$5800,\"Control Equipment Problems\"))","v":""},{"$f":"IF($C63=\"\",\"\",SUMIFS('Using CMS - Deviation - Limits'!$I$24:$I$5800,'Using CMS - Deviation - Limits'!$B$24:$B$5800,B63,'Using CMS - Deviation - Limits'!$C$24:$C$5800,C63,'Using CMS - Deviation - Limits'!$J$24:$J$5800,\"Process Problems\"))","v":""},{"$f":"IF($C63=\"\",\"\",SUMIFS('Using CMS - Deviation - Limits'!$I$24:$I$5800,'Using CMS - Deviation - Limits'!$B$24:$B$5800,B63,'Using CMS - Deviation - Limits'!$C$24:$C$5800,C63,'Using CMS - Deviation - Limits'!$J$24:$J$5800,\"Other Known Causes\"))","v":""},{"$f":"IF($C63=\"\",\"\",SUMIFS('Using CMS - Deviation - Limits'!$I$24:$I$5800,'Using CMS - Deviation - Limits'!$B$24:$B$5800,B63,'Using CMS - Deviation - Limits'!$C$24:$C$5800,C63,'Using CMS - Deviation - Limits'!$J$24:$J$5800,\"Other Unknown Causes\"))","v":""}]
[null,{"$f":"IF(Lists!BC42=\"\",\"\",Lists!BC42)","v":""},{"$f":"IF(Lists!BD42=\"\",\"\",Lists!BD42)","v":""},null,{"$f":"IF(C64=\"\",\"\",SUMIFS('Using CMS - Deviation - Limits'!$I$24:$I$5400,'Using CMS - Deviation - Limits'!$B$24:$B$5400,B64,'Using CMS - Deviation - Limits'!$C$24:$C$5400,C64))","v":""},"",{"$f":"IF($C64=\"\",\"\",SUMIFS('Using CMS - Deviation - Limits'!$I$24:$I$5800,'Using CMS - Deviation - Limits'!$B$24:$B$5800,B64,'Using CMS - Deviation - Limits'!$C$24:$C$5800,C64,'Using CMS - Deviation - Limits'!$D$24:$D$5800,\"Startup\"))","v":""},{"$f":"IF($C64=\"\",\"\",SUMIFS('Using CMS - Deviation - Limits'!$I$24:$I$5800,'Using CMS - Deviation - Limits'!$B$24:$B$5800,B64,'Using CMS - Deviation - Limits'!$C$24:$C$5800,C64,'Using CMS - Deviation - Limits'!$D$24:$D$5800,\"Shutdown\"))","v":""},{"$f":"IF($C64=\"\",\"\",SUMIFS('Using CMS - Deviation - Limits'!$I$24:$I$5800,'Using CMS - Deviation - Limits'!$B$24:$B$5800,B64,'Using CMS - Deviation - Limits'!$C$24:$C$5800,C64,'Using CMS - Deviation - Limits'!$J$24:$J$5800,\"Control Equipment Problems\"))","v":""},{"$f":"IF($C64=\"\",\"\",SUMIFS('Using CMS - Deviation - Limits'!$I$24:$I$5800,'Using CMS - Deviation - Limits'!$B$24:$B$5800,B64,'Using CMS - Deviation - Limits'!$C$24:$C$5800,C64,'Using CMS - Deviation - Limits'!$J$24:$J$5800,\"Process Problems\"))","v":""},{"$f":"IF($C64=\"\",\"\",SUMIFS('Using CMS - Deviation - Limits'!$I$24:$I$5800,'Using CMS - Deviation - Limits'!$B$24:$B$5800,B64,'Using CMS - Deviation - Limits'!$C$24:$C$5800,C64,'Using CMS - Deviation - Limits'!$J$24:$J$5800,\"Other Known Causes\"))","v":""},{"$f":"IF($C64=\"\",\"\",SUMIFS('Using CMS - Deviation - Limits'!$I$24:$I$5800,'Using CMS - Deviation - Limits'!$B$24:$B$5800,B64,'Using CMS - Deviation - Limits'!$C$24:$C$5800,C64,'Using CMS - Deviation - Limits'!$J$24:$J$5800,\"Other Unknown Causes\"))","v":""}]
[null,{"$f":"IF(Lists!BC43=\"\",\"\",Lists!BC43)","v":""},{"$f":"IF(Lists!BD43=\"\",\"\",Lists!BD43)","v":""},null,{"$f":"IF(C65=\"\",\"\",SUMIFS('Using CMS - Deviation - Limits'!$I$24:$I$5400,'Using CMS - Deviation - Limits'!$B$24:$B$5400,B65,'Using CMS - Deviation - Limits'!$C$24:$C$5400,C65))","v":""},"",{"$f":"IF($C65=\"\",\"\",SUMIFS('Using CMS - Deviation - Limits'!$I$24:$I$5800,'Using CMS - Deviation - Limits'!$B$24:$B$5800,B65,'Using CMS - Deviation - Limits'!$C$24:$C$5800,C65,'Using CMS - Deviation - Limits'!$D$24:$D$5800,\"Startup\"))","v":""},{"$f":"IF($C65=\"\",\"\",SUMIFS('Using CMS - Deviation - Limits'!$I$24:$I$5800,'Using CMS - Deviation - Limits'!$B$24:$B$5800,B65,'Using CMS - Deviation - Limits'!$C$24:$C$5800,C65,'Using CMS - Deviation - Limits'!$D$24:$D$5800,\"Shutdown\"))","v":""},{"$f":"IF($C65=\"\",\"\",SUMIFS('Using CMS - Deviation - Limits'!$I$24:$I$5800,'Using CMS - Deviation - Limits'!$B$24:$B$5800,B65,'Using CMS - Deviation - Limits'!$C$24:$C$5800,C65,'Using CMS - Deviation - Limits'!$J$24:$J$5800,\"Control Equipment Problems\"))","v":""},{"$f":"IF($C65=\"\",\"\",SUMIFS('Using CMS - Deviation - Limits'!$I$24:$I$5800,'Using CMS - Deviation - Limits'!$B$24:$B$5800,B65,'Using CMS - Deviation - Limits'!$C$24:$C$5800,C65,'Using CMS - Deviation - Limits'!$J$24:$J$5800,\"Process Problems\"))","v":""},{"$f":"IF($C65=\"\",\"\",SUMIFS('Using CMS - Deviation - Limits'!$I$24:$I$5800,'Using CMS - Deviation - Limits'!$B$24:$B$5800,B65,'Using CMS - Deviation - Limits'!$C$24:$C$5800,C65,'Using CMS - Deviation - Limits'!$J$24:$J$5800,\"Other Known Causes\"))","v":""},{"$f":"IF($C65=\"\",\"\",SUMIFS('Using CMS - Deviation - Limits'!$I$24:$I$5800,'Using CMS - Deviation - Limits'!$B$24:$B$5800,B65,'Using CMS - Deviation - Limits'!$C$24:$C$5800,C65,'Using CMS - Deviation - Limits'!$J$24:$J$5800,\"Other Unknown Causes\"))","v":""}]
[null,{"$f":"IF(Lists!BC44=\"\",\"\",Lists!BC44)","v":""},{"$f":"IF(Lists!BD44=\"\",\"\",Lists!BD44)","v":""},null,{"$f":"IF(C66=\"\",\"\",SUMIFS('Using CMS - Deviation - Limits'!$I$24:$I$5400,'Using CMS - Deviation - Limits'!$B$24:$B$5400,B66,'Using CMS - Deviation - Limits'!$C$24:$C$5400,C66))","v":""},"",{"$f":"IF($C66=\"\",\"\",SUMIFS('Using CMS - Deviation - Limits'!$I$24:$I$5800,'Using CMS - Deviation - Limits'!$B$24:$B$5800,B66,'Using CMS - Deviation - Limits'!$C$24:$C$5800,C66,'Using CMS - Deviation - Limits'!$D$24:$D$5800,\"Startup\"))","v":""},{"$f":"IF($C66=\"\",\"\",SUMIFS('Using CMS - Deviation - Limits'!$I$24:$I$5800,'Using CMS - Deviation - Limits'!$B$24:$B$5800,B66,'Using CMS - Deviation - Limits'!$C$24:$C$5800,C66,'Using CMS - Deviation - Limits'!$D$24:$D$5800,\"Shutdown\"))","v":""},{"$f":"IF($C66=\"\",\"\",SUMIFS('Using CMS - Deviation - Limits'!$I$24:$I$5800,'Using CMS - Deviation - Limits'!$B$24:$B$5800,B66,'Using CMS - Deviation - Limits'!$C$24:$C$5800,C66,'Using CMS - Deviation - Limits'!$J$24:$J$5800,\"Control Equipment Problems\"))","v":""},{"$f":"IF($C66=\"\",\"\",SUMIFS('Using CMS - Deviation - Limits'!$I$24:$I$5800,'Using CMS - Deviation - Limits'!$B$24:$B$5800,B66,'Using CMS - Deviation - Limits'!$C$24:$C$5800,C66,'Using CMS - Deviation - Limits'!$J$24:$J$5800,\"Process Problems\"))","v":""},{"$f":"IF($C66=\"\",\"\",SUMIFS('Using CMS - Deviation - Limits'!$I$24:$I$5800,'Using CMS - Deviation - Limits'!$B$24:$B$5800,B66,'Using CMS - Deviation - Limits'!$C$24:$C$5800,C66,'Using CMS - Deviation - Limits'!$J$24:$J$5800,\"Other Known Causes\"))","v":""},{"$f":"IF($C66=\"\",\"\",SUMIFS('Using CMS - Deviation - Limits'!$I$24:$I$5800,'Using CMS - Deviation - Limits'!$B$24:$B$5800,B66,'Using CMS - Deviation - Limits'!$C$24:$C$5800,C66,'Using CMS - Deviation - Limits'!$J$24:$J$5800,\"Other Unknown Causes\"))","v":""}]
[null,{"$f":"IF(Lists!BC45=\"\",\"\",Lists!BC45)","v":""},{"$f":"IF(Lists!BD45=\"\",\"\",Lists!BD45)","v":""},null,{"$f":"IF(C67=\"\",\"\",SUMIFS('Using CMS - Deviation - Limits'!$I$24:$I$5400,'Using CMS - Deviation - Limits'!$B$24:$B$5400,B67,'Using CMS - Deviation - Limits'!$C$24:$C$5400,C67))","v":""},"",{"$f":"IF($C67=\"\",\"\",SUMIFS('Using CMS - Deviation - Limits'!$I$24:$I$5800,'Using CMS - Deviation - Limits'!$B$24:$B$5800,B67,'Using CMS - Deviation - Limits'!$C$24:$C$5800,C67,'Using CMS - Deviation - Limits'!$D$24:$D$5800,\"Startup\"))","v":""},{"$f":"IF($C67=\"\",\"\",SUMIFS('Using CMS - Deviation - Limits'!$I$24:$I$5800,'Using CMS - Deviation - Limits'!$B$24:$B$5800,B67,'Using CMS - Deviation - Limits'!$C$24:$C$5800,C67,'Using CMS - Deviation - Limits'!$D$24:$D$5800,\"Shutdown\"))","v":""},{"$f":"IF($C67=\"\",\"\",SUMIFS('Using CMS - Deviation - Limits'!$I$24:$I$5800,'Using CMS - Deviation - Limits'!$B$24:$B$5800,B67,'Using CMS - Deviation - Limits'!$C$24:$C$5800,C67,'Using CMS - Deviation - Limits'!$J$24:$J$5800,\"Control Equipment Problems\"))","v":""},{"$f":"IF($C67=\"\",\"\",SUMIFS('Using CMS - Deviation - Limits'!$I$24:$I$5800,'Using CMS - Deviation - Limits'!$B$24:$B$5800,B67,'Using CMS - Deviation - Limits'!$C$24:$C$5800,C67,'Using CMS - Deviation - Limits'!$J$24:$J$5800,\"Process Problems\"))","v":""},{"$f":"IF($C67=\"\",\"\",SUMIFS('Using CMS - Deviation - Limits'!$I$24:$I$5800,'Using CMS - Deviation - Limits'!$B$24:$B$5800,B67,'Using CMS - Deviation - Limits'!$C$24:$C$5800,C67,'Using CMS - Deviation - Limits'!$J$24:$J$5800,\"Other Known Causes\"))","v":""},{"$f":"IF($C67=\"\",\"\",SUMIFS('Using CMS - Deviation - Limits'!$I$24:$I$5800,'Using CMS - Deviation - Limits'!$B$24:$B$5800,B67,'Using CMS - Deviation - Limits'!$C$24:$C$5800,C67,'Using CMS - Deviation - Limits'!$J$24:$J$5800,\"Other Unknown Causes\"))","v":""}]
[null,{"$f":"IF(Lists!BC46=\"\",\"\",Lists!BC46)","v":""},{"$f":"IF(Lists!BD46=\"\",\"\",Lists!BD46)","v":""},null,{"$f":"IF(C68=\"\",\"\",SUMIFS('Using CMS - Deviation - Limits'!$I$24:$I$5400,'Using CMS - Deviation - Limits'!$B$24:$B$5400,B68,'Using CMS - Deviation - Limits'!$C$24:$C$5400,C68))","v":""},"",{"$f":"IF($C68=\"\",\"\",SUMIFS('Using CMS - Deviation - Limits'!$I$24:$I$5800,'Using CMS - Deviation - Limits'!$B$24:$B$5800,B68,'Using CMS - Deviation - Limits'!$C$24:$C$5800,C68,'Using CMS - Deviation - Limits'!$D$24:$D$5800,\"Startup\"))","v":""},{"$f":"IF($C68=\"\",\"\",SUMIFS('Using CMS - Deviation - Limits'!$I$24:$I$5800,'Using CMS - Deviation - Limits'!$B$24:$B$5800,B68,'Using CMS - Deviation - Limits'!$C$24:$C$5800,C68,'Using CMS - Deviation - Limits'!$D$24:$D$5800,\"Shutdown\"))","v":""},{"$f":"IF($C68=\"\",\"\",SUMIFS('Using CMS - Deviation - Limits'!$I$24:$I$5800,'Using CMS - Deviation - Limits'!$B$24:$B$5800,B68,'Using CMS - Deviation - Limits'!$C$24:$C$5800,C68,'Using CMS - Deviation - Limits'!$J$24:$J$5800,\"Control Equipment Problems\"))","v":""},{"$f":"IF($C68=\"\",\"\",SUMIFS('Using CMS - Deviation - Limits'!$I$24:$I$5800,'Using CMS - Deviation - Limits'!$B$24:$B$5800,B68,'Using CMS - Deviation - Limits'!$C$24:$C$5800,C68,'Using CMS - Deviation - Limits'!$J$24:$J$5800,\"Process Problems\"))","v":""},{"$f":"IF($C68=\"\",\"\",SUMIFS('Using CMS - Deviation - Limits'!$I$24:$I$5800,'Using CMS - Deviation - Limits'!$B$24:$B$5800,B68,'Using CMS - Deviation - Limits'!$C$24:$C$5800,C68,'Using CMS - Deviation - Limits'!$J$24:$J$5800,\"Other Known Causes\"))","v":""},{"$f":"IF($C68=\"\",\"\",SUMIFS('Using CMS - Deviation - Limits'!$I$24:$I$5800,'Using CMS - Deviation - Limits'!$B$24:$B$5800,B68,'Using CMS - Deviation - Limits'!$C$24:$C$5800,C68,'Using CMS - Deviation - Limits'!$J$24:$J$5800,\"Other Unknown Causes\"))","v":""}]
[null,{"$f":"IF(Lists!BC47=\"\",\"\",Lists!BC47)","v":""},{"$f":"IF(Lists!BD47=\"\",\"\",Lists!BD47)","v":""},null,{"$f":"IF(C69=\"\",\"\",SUMIFS('Using CMS - Deviation - Limits'!$I$24:$I$5400,'Using CMS - Deviation - Limits'!$B$24:$B$5400,B69,'Using CMS - Deviation - Limits'!$C$24:$C$5400,C69))","v":""},"",{"$f":"IF($C69=\"\",\"\",SUMIFS('Using CMS - Deviation - Limits'!$I$24:$I$5800,'Using CMS - Deviation - Limits'!$B$24:$B$5800,B69,'Using CMS - Deviation - Limits'!$C$24:$C$5800,C69,'Using CMS - Deviation - Limits'!$D$24:$D$5800,\"Startup\"))","v":""},{"$f":"IF($C69=\"\",\"\",SUMIFS('Using CMS - Deviation - Limits'!$I$24:$I$5800,'Using CMS - Deviation - Limits'!$B$24:$B$5800,B69,'Using CMS - Deviation - Limits'!$C$24:$C$5800,C69,'Using CMS - Deviation - Limits'!$D$24:$D$5800,\"Shutdown\"))","v":""},{"$f":"IF($C69=\"\",\"\",SUMIFS('Using CMS - Deviation - Limits'!$I$24:$I$5800,'Using CMS - Deviation - Limits'!$B$24:$B$5800,B69,'Using CMS - Deviation - Limits'!$C$24:$C$5800,C69,'Using CMS - Deviation - Limits'!$J$24:$J$5800,\"Control Equipment Problems\"))","v":""},{"$f":"IF($C69=\"\",\"\",SUMIFS('Using CMS - Deviation - Limits'!$I$24:$I$5800,'Using CMS - Deviation - Limits'!$B$24:$B$5800,B69,'Using CMS - Deviation - Limits'!$C$24:$C$5800,C69,'Using CMS - Deviation - Limits'!$J$24:$J$5800,\"Process Problems\"))","v":""},{"$f":"IF($C69=\"\",\"\",SUMIFS('Using CMS - Deviation - Limits'!$I$24:$I$5800,'Using CMS - Deviation - Limits'!$B$24:$B$5800,B69,'Using CMS - Deviation - Limits'!$C$24:$C$5800,C69,'Using CMS - Deviation - Limits'!$J$24:$J$5800,\"Other Known Causes\"))","v":""},{"$f":"IF($C69=\"\",\"\",SUMIFS('Using CMS - Deviation - Limits'!$I$24:$I$5800,'Using CMS - Deviation - Limits'!$B$24:$B$5800,B69,'Using CMS - Deviation - Limits'!$C$24:$C$5800,C69,'Using CMS - Deviation - Limits'!$J$24:$J$5800,\"Other Unknown Causes\"))","v":""}]
[null,{"$f":"IF(Lists!BC48=\"\",\"\",Lists!BC48)","v":""},{"$f":"IF(Lists!BD48=\"\",\"\",Lists!BD48)","v":""},null,{"$f":"IF(C70=\"\",\"\",SUMIFS('Using CMS - Deviation - Limits'!$I$24:$I$5400,'Using CMS - Deviation - Limits'!$B$24:$B$5400,B70,'Using CMS - Deviation - Limits'!$C$24:$C$5400,C70))","v":""},"",{"$f":"IF($C70=\"\",\"\",SUMIFS('Using CMS - Deviation - Limits'!$I$24:$I$5800,'Using CMS - Deviation - Limits'!$B$24:$B$5800,B70,'Using CMS - Deviation - Limits'!$C$24:$C$5800,C70,'Using CMS - Deviation - Limits'!$D$24:$D$5800,\"Startup\"))","v":""},{"$f":"IF($C70=\"\",\"\",SUMIFS('Using CMS - Deviation - Limits'!$I$24:$I$5800,'Using CMS - Deviation - Limits'!$B$24:$B$5800,B70,'Using CMS - Deviation - Limits'!$C$24:$C$5800,C70,'Using CMS - Deviation - Limits'!$D$24:$D$5800,\"Shutdown\"))","v":""},{"$f":"IF($C70=\"\",\"\",SUMIFS('Using CMS - Deviation - Limits'!$I$24:$I$5800,'Using CMS - Deviation - Limits'!$B$24:$B$5800,B70,'Using CMS - Deviation - Limits'!$C$24:$C$5800,C70,'Using CMS - Deviation - Limits'!$J$24:$J$5800,\"Control Equipment Problems\"))","v":""},{"$f":"IF($C70=\"\",\"\",SUMIFS('Using CMS - Deviation - Limits'!$I$24:$I$5800,'Using CMS - Deviation - Limits'!$B$24:$B$5800,B70,'Using CMS - Deviation - Limits'!$C$24:$C$5800,C70,'Using CMS - Deviation - Limits'!$J$24:$J$5800,\"Process Problems\"))","v":""},{"$f":"IF($C70=\"\",\"\",SUMIFS('Using CMS - Deviation - Limits'!$I$24:$I$5800,'Using CMS - Deviation - Limits'!$B$24:$B$5800,B70,'Using CMS - Deviation - Limits'!$C$24:$C$5800,C70,'Using CMS - Deviation - Limits'!$J$24:$J$5800,\"Other Known Causes\"))","v":""},{"$f":"IF($C70=\"\",\"\",SUMIFS('Using CMS - Deviation - Limits'!$I$24:$I$5800,'Using CMS - Deviation - Limits'!$B$24:$B$5800,B70,'Using CMS - Deviation - Limits'!$C$24:$C$5800,C70,'Using CMS - Deviation - Limits'!$J$24:$J$5800,\"Other Unknown Causes\"))","v":""}]
[null,{"$f":"IF(Lists!BC49=\"\",\"\",Lists!BC49)","v":""},{"$f":"IF(Lists!BD49=\"\",\"\",Lists!BD49)","v":""},null,{"$f":"IF(C71=\"\",\"\",SUMIFS('Using CMS - Deviation - Limits'!$I$24:$I$5400,'Using CMS - Deviation - Limits'!$B$24:$B$5400,B71,'Using CMS - Deviation - Limits'!$C$24:$C$5400,C71))","v":""},"",{"$f":"IF($C71=\"\",\"\",SUMIFS('Using CMS - Deviation - Limits'!$I$24:$I$5800,'Using CMS - Deviation - Limits'!$B$24:$B$5800,B71,'Using CMS - Deviation - Limits'!$C$24:$C$5800,C71,'Using CMS - Deviation - Limits'!$D$24:$D$5800,\"Startup\"))","v":""},{"$f":"IF($C71=\"\",\"\",SUMIFS('Using CMS - Deviation - Limits'!$I$24:$I$5800,'Using CMS - Deviation - Limits'!$B$24:$B$5800,B71,'Using CMS - Deviation - Limits'!$C$24:$C$5800,C71,'Using CMS - Deviation - Limits'!$D$24:$D$5800,\"Shutdown\"))","v":""},{"$f":"IF($C71=\"\",\"\",SUMIFS('Using CMS - Deviation - Limits'!$I$24:$I$5800,'Using CMS - Deviation - Limits'!$B$24:$B$5800,B71,'Using CMS - Deviation - Limits'!$C$24:$C$5800,C71,'Using CMS - Deviation - Limits'!$J$24:$J$5800,\"Control Equipment Problems\"))","v":""},{"$f":"IF($C71=\"\",\"\",SUMIFS('Using CMS - Deviation - Limits'!$I$24:$I$5800,'Using CMS - Deviation - Limits'!$B$24:$B$5800,B71,'Using CMS - Deviation - Limits'!$C$24:$C$5800,C71,'Using CMS - Deviation - Limits'!$J$24:$J$5800,\"Process Problems\"))","v":""},{"$f":"IF($C71=\"\",\"\",SUMIFS('Using CMS - Deviation - Limits'!$I$24:$I$5800,'Using CMS - Deviation - Limits'!$B$24:$B$5800,B71,'Using CMS - Deviation - Limits'!$C$24:$C$5800,C71,'Using CMS - Deviation - Limits'!$J$24:$J$5800,\"Other Known Causes\"))","v":""},{"$f":"IF($C71=\"\",\"\",SUMIFS('Using CMS - Deviation - Limits'!$I$24:$I$5800,'Using CMS - Deviation - Limits'!$B$24:$B$5800,B71,'Using CMS - Deviation - Limits'!$C$24:$C$5800,C71,'Using CMS - Deviation - Limits'!$J$24:$J$5800,\"Other Unknown Causes\"))","v":""}]
[null,{"$f":"IF(Lists!BC50=\"\",\"\",Lists!BC50)","v":""},{"$f":"IF(Lists!BD50=\"\",\"\",Lists!BD50)","v":""},null,{"$f":"IF(C72=\"\",\"\",SUMIFS('Using CMS - Deviation - Limits'!$I$24:$I$5400,'Using CMS - Deviation - Limits'!$B$24:$B$5400,B72,'Using CMS - Deviation - Limits'!$C$24:$C$5400,C72))","v":""},"",{"$f":"IF($C72=\"\",\"\",SUMIFS('Using CMS - Deviation - Limits'!$I$24:$I$5800,'Using CMS - Deviation - Limits'!$B$24:$B$5800,B72,'Using CMS - Deviation - Limits'!$C$24:$C$5800,C72,'Using CMS - Deviation - Limits'!$D$24:$D$5800,\"Startup\"))","v":""},{"$f":"IF($C72=\"\",\"\",SUMIFS('Using CMS - Deviation - Limits'!$I$24:$I$5800,'Using CMS - Deviation - Limits'!$B$24:$B$5800,B72,'Using CMS - Deviation - Limits'!$C$24:$C$5800,C72,'Using CMS - Deviation - Limits'!$D$24:$D$5800,\"Shutdown\"))","v":""},{"$f":"IF($C72=\"\",\"\",SUMIFS('Using CMS - Deviation - Limits'!$I$24:$I$5800,'Using CMS - Deviation - Limits'!$B$24:$B$5800,B72,'Using CMS - Deviation - Limits'!$C$24:$C$5800,C72,'Using CMS - Deviation - Limits'!$J$24:$J$5800,\"Control Equipment Problems\"))","v":""},{"$f":"IF($C72=\"\",\"\",SUMIFS('Using CMS - Deviation - Limits'!$I$24:$I$5800,'Using CMS - Deviation - Limits'!$B$24:$B$5800,B72,'Using CMS - Deviation - Limits'!$C$24:$C$5800,C72,'Using CMS - Deviation - Limits'!$J$24:$J$5800,\"Process Problems\"))","v":""},{"$f":"IF($C72=\"\",\"\",SUMIFS('Using CMS - Deviation - Limits'!$I$24:$I$5800,'Using CMS - Deviation - Limits'!$B$24:$B$5800,B72,'Using CMS - Deviation - Limits'!$C$24:$C$5800,C72,'Using CMS - Deviation - Limits'!$J$24:$J$5800,\"Other Known Causes\"))","v":""},{"$f":"IF($C72=\"\",\"\",SUMIFS('Using CMS - Deviation - Limits'!$I$24:$I$5800,'Using CMS - Deviation - Limits'!$B$24:$B$5800,B72,'Using CMS - Deviation - Limits'!$C$24:$C$5800,C72,'Using CMS - Deviation - Limits'!$J$24:$J$5800,\"Other Unknown Causes\"))","v":""}]
[null,{"$f":"IF(Lists!BC51=\"\",\"\",Lists!BC51)","v":""},{"$f":"IF(Lists!BD51=\"\",\"\",Lists!BD51)","v":""},null,{"$f":"IF(C73=\"\",\"\",SUMIFS('Using CMS - Deviation - Limits'!$I$24:$I$5400,'Using CMS - Deviation - Limits'!$B$24:$B$5400,B73,'Using CMS - Deviation - Limits'!$C$24:$C$5400,C73))","v":""},"",{"$f":"IF($C73=\"\",\"\",SUMIFS('Using CMS - Deviation - Limits'!$I$24:$I$5800,'Using CMS - Deviation - Limits'!$B$24:$B$5800,B73,'Using CMS - Deviation - Limits'!$C$24:$C$5800,C73,'Using CMS - Deviation - Limits'!$D$24:$D$5800,\"Startup\"))","v":""},{"$f":"IF($C73=\"\",\"\",SUMIFS('Using CMS - Deviation - Limits'!$I$24:$I$5800,'Using CMS - Deviation - Limits'!$B$24:$B$5800,B73,'Using CMS - Deviation - Limits'!$C$24:$C$5800,C73,'Using CMS - Deviation - Limits'!$D$24:$D$5800,\"Shutdown\"))","v":""},{"$f":"IF($C73=\"\",\"\",SUMIFS('Using CMS - Deviation - Limits'!$I$24:$I$5800,'Using CMS - Deviation - Limits'!$B$24:$B$5800,B73,'Using CMS - Deviation - Limits'!$C$24:$C$5800,C73,'Using CMS - Deviation - Limits'!$J$24:$J$5800,\"Control Equipment Problems\"))","v":""},{"$f":"IF($C73=\"\",\"\",SUMIFS('Using CMS - Deviation - Limits'!$I$24:$I$5800,'Using CMS - Deviation - Limits'!$B$24:$B$5800,B73,'Using CMS - Deviation - Limits'!$C$24:$C$5800,C73,'Using CMS - Deviation - Limits'!$J$24:$J$5800,\"Process Problems\"))","v":""},{"$f":"IF($C73=\"\",\"\",SUMIFS('Using CMS - Deviation - Limits'!$I$24:$I$5800,'Using CMS - Deviation - Limits'!$B$24:$B$5800,B73,'Using CMS - Deviation - Limits'!$C$24:$C$5800,C73,'Using CMS - Deviation - Limits'!$J$24:$J$5800,\"Other Known Causes\"))","v":""},{"$f":"IF($C73=\"\",\"\",SUMIFS('Using CMS - Deviation - Limits'!$I$24:$I$5800,'Using CMS - Deviation - Limits'!$B$24:$B$5800,B73,'Using CMS - Deviation - Limits'!$C$24:$C$5800,C73,'Using CMS - Deviation - Limits'!$J$24:$J$5800,\"Other Unknown Causes\"))","v":""}]
[null,{"$f":"IF(Lists!BC52=\"\",\"\",Lists!BC52)","v":""},{"$f":"IF(Lists!BD52=\"\",\"\",Lists!BD52)","v":""},null,{"$f":"IF(C74=\"\",\"\",SUMIFS('Using CMS - Deviation - Limits'!$I$24:$I$5400,'Using CMS - Deviation - Limits'!$B$24:$B$5400,B74,'Using CMS - Deviation - Limits'!$C$24:$C$5400,C74))","v":""},"",{"$f":"IF($C74=\"\",\"\",SUMIFS('Using CMS - Deviation - Limits'!$I$24:$I$5800,'Using CMS - Deviation - Limits'!$B$24:$B$5800,B74,'Using CMS - Deviation - Limits'!$C$24:$C$5800,C74,'Using CMS - Deviation - Limits'!$D$24:$D$5800,\"Startup\"))","v":""},{"$f":"IF($C74=\"\",\"\",SUMIFS('Using CMS - Deviation - Limits'!$I$24:$I$5800,'Using CMS - Deviation - Limits'!$B$24:$B$5800,B74,'Using CMS - Deviation - Limits'!$C$24:$C$5800,C74,'Using CMS - Deviation - Limits'!$D$24:$D$5800,\"Shutdown\"))","v":""},{"$f":"IF($C74=\"\",\"\",SUMIFS('Using CMS - Deviation - Limits'!$I$24:$I$5800,'Using CMS - Deviation - Limits'!$B$24:$B$5800,B74,'Using CMS - Deviation - Limits'!$C$24:$C$5800,C74,'Using CMS - Deviation - Limits'!$J$24:$J$5800,\"Control Equipment Problems\"))","v":""},{"$f":"IF($C74=\"\",\"\",SUMIFS('Using CMS - Deviation - Limits'!$I$24:$I$5800,'Using CMS - Deviation - Limits'!$B$24:$B$5800,B74,'Using CMS - Deviation - Limits'!$C$24:$C$5800,C74,'Using CMS - Deviation - Limits'!$J$24:$J$5800,\"Process Problems\"))","v":""},{"$f":"IF($C74=\"\",\"\",SUMIFS('Using CMS - Deviation - Limits'!$I$24:$I$5800,'Using CMS - Deviation - Limits'!$B$24:$B$5800,B74,'Using CMS - Deviation - Limits'!$C$24:$C$5800,C74,'Using CMS - Deviation - Limits'!$J$24:$J$5800,\"Other Known Causes\"))","v":""},{"$f":"IF($C74=\"\",\"\",SUMIFS('Using CMS - Deviation - Limits'!$I$24:$I$5800,'Using CMS - Deviation - Limits'!$B$24:$B$5800,B74,'Using CMS - Deviation - Limits'!$C$24:$C$5800,C74,'Using CMS - Deviation - Limits'!$J$24:$J$5800,\"Other Unknown Causes\"))","v":""}]
[null,{"$f":"IF(Lists!BC53=\"\",\"\",Lists!BC53)","v":""},{"$f":"IF(Lists!BD53=\"\",\"\",Lists!BD53)","v":""},null,{"$f":"IF(C75=\"\",\"\",SUMIFS('Using CMS - Deviation - Limits'!$I$24:$I$5400,'Using CMS - Deviation - Limits'!$B$24:$B$5400,B75,'Using CMS - Deviation - Limits'!$C$24:$C$5400,C75))","v":""},"",{"$f":"IF($C75=\"\",\"\",SUMIFS('Using CMS - Deviation - Limits'!$I$24:$I$5800,'Using CMS - Deviation - Limits'!$B$24:$B$5800,B75,'Using CMS - Deviation - Limits'!$C$24:$C$5800,C75,'Using CMS - Deviation - Limits'!$D$24:$D$5800,\"Startup\"))","v":""},{"$f":"IF($C75=\"\",\"\",SUMIFS('Using CMS - Deviation - Limits'!$I$24:$I$5800,'Using CMS - Deviation - Limits'!$B$24:$B$5800,B75,'Using CMS - Deviation - Limits'!$C$24:$C$5800,C75,'Using CMS - Deviation - Limits'!$D$24:$D$5800,\"Shutdown\"))","v":""},{"$f":"IF($C75=\"\",\"\",SUMIFS('Using CMS - Deviation - Limits'!$I$24:$I$5800,'Using CMS - Deviation - Limits'!$B$24:$B$5800,B75,'Using CMS - Deviation - Limits'!$C$24:$C$5800,C75,'Using CMS - Deviation - Limits'!$J$24:$J$5800,\"Control Equipment Problems\"))","v":""},{"$f":"IF($C75=\"\",\"\",SUMIFS('Using CMS - Deviation - Limits'!$I$24:$I$5800,'Using CMS - Deviation - Limits'!$B$24:$B$5800,B75,'Using CMS - Deviation - Limits'!$C$24:$C$5800,C75,'Using CMS - Deviation - Limits'!$J$24:$J$5800,\"Process Problems\"))","v":""},{"$f":"IF($C75=\"\",\"\",SUMIFS('Using CMS - Deviation - Limits'!$I$24:$I$5800,'Using CMS - Deviation - Limits'!$B$24:$B$5800,B75,'Using CMS - Deviation - Limits'!$C$24:$C$5800,C75,'Using CMS - Deviation - Limits'!$J$24:$J$5800,\"Other Known Causes\"))","v":""},{"$f":"IF($C75=\"\",\"\",SUMIFS('Using CMS - Deviation - Limits'!$I$24:$I$5800,'Using CMS - Deviation - Limits'!$B$24:$B$5800,B75,'Using CMS - Deviation - Limits'!$C$24:$C$5800,C75,'Using CMS - Deviation - Limits'!$J$24:$J$5800,\"Other Unknown Causes\"))","v":""}]
[null,{"$f":"IF(Lists!BC54=\"\",\"\",Lists!BC54)","v":""},{"$f":"IF(Lists!BD54=\"\",\"\",Lists!BD54)","v":""},null,{"$f":"IF(C76=\"\",\"\",SUMIFS('Using CMS - Deviation - Limits'!$I$24:$I$5400,'Using CMS - Deviation - Limits'!$B$24:$B$5400,B76,'Using CMS - Deviation - Limits'!$C$24:$C$5400,C76))","v":""},"",{"$f":"IF($C76=\"\",\"\",SUMIFS('Using CMS - Deviation - Limits'!$I$24:$I$5800,'Using CMS - Deviation - Limits'!$B$24:$B$5800,B76,'Using CMS - Deviation - Limits'!$C$24:$C$5800,C76,'Using CMS - Deviation - Limits'!$D$24:$D$5800,\"Startup\"))","v":""},{"$f":"IF($C76=\"\",\"\",SUMIFS('Using CMS - Deviation - Limits'!$I$24:$I$5800,'Using CMS - Deviation - Limits'!$B$24:$B$5800,B76,'Using CMS - Deviation - Limits'!$C$24:$C$5800,C76,'Using CMS - Deviation - Limits'!$D$24:$D$5800,\"Shutdown\"))","v":""},{"$f":"IF($C76=\"\",\"\",SUMIFS('Using CMS - Deviation - Limits'!$I$24:$I$5800,'Using CMS - Deviation - Limits'!$B$24:$B$5800,B76,'Using CMS - Deviation - Limits'!$C$24:$C$5800,C76,'Using CMS - Deviation - Limits'!$J$24:$J$5800,\"Control Equipment Problems\"))","v":""},{"$f":"IF($C76=\"\",\"\",SUMIFS('Using CMS - Deviation - Limits'!$I$24:$I$5800,'Using CMS - Deviation - Limits'!$B$24:$B$5800,B76,'Using CMS - Deviation - Limits'!$C$24:$C$5800,C76,'Using CMS - Deviation - Limits'!$J$24:$J$5800,\"Process Problems\"))","v":""},{"$f":"IF($C76=\"\",\"\",SUMIFS('Using CMS - Deviation - Limits'!$I$24:$I$5800,'Using CMS - Deviation - Limits'!$B$24:$B$5800,B76,'Using CMS - Deviation - Limits'!$C$24:$C$5800,C76,'Using CMS - Deviation - Limits'!$J$24:$J$5800,\"Other Known Causes\"))","v":""},{"$f":"IF($C76=\"\",\"\",SUMIFS('Using CMS - Deviation - Limits'!$I$24:$I$5800,'Using CMS - Deviation - Limits'!$B$24:$B$5800,B76,'Using CMS - Deviation - Limits'!$C$24:$C$5800,C76,'Using CMS - Deviation - Limits'!$J$24:$J$5800,\"Other Unknown Causes\"))","v":""}]
[null,{"$f":"IF(Lists!BC55=\"\",\"\",Lists!BC55)","v":""},{"$f":"IF(Lists!BD55=\"\",\"\",Lists!BD55)","v":""},null,{"$f":"IF(C77=\"\",\"\",SUMIFS('Using CMS - Deviation - Limits'!$I$24:$I$5400,'Using CMS - Deviation - Limits'!$B$24:$B$5400,B77,'Using CMS - Deviation - Limits'!$C$24:$C$5400,C77))","v":""},"",{"$f":"IF($C77=\"\",\"\",SUMIFS('Using CMS - Deviation - Limits'!$I$24:$I$5800,'Using CMS - Deviation - Limits'!$B$24:$B$5800,B77,'Using CMS - Deviation - Limits'!$C$24:$C$5800,C77,'Using CMS - Deviation - Limits'!$D$24:$D$5800,\"Startup\"))","v":""},{"$f":"IF($C77=\"\",\"\",SUMIFS('Using CMS - Deviation - Limits'!$I$24:$I$5800,'Using CMS - Deviation - Limits'!$B$24:$B$5800,B77,'Using CMS - Deviation - Limits'!$C$24:$C$5800,C77,'Using CMS - Deviation - Limits'!$D$24:$D$5800,\"Shutdown\"))","v":""},{"$f":"IF($C77=\"\",\"\",SUMIFS('Using CMS - Deviation - Limits'!$I$24:$I$5800,'Using CMS - Deviation - Limits'!$B$24:$B$5800,B77,'Using CMS - Deviation - Limits'!$C$24:$C$5800,C77,'Using CMS - Deviation - Limits'!$J$24:$J$5800,\"Control Equipment Problems\"))","v":""},{"$f":"IF($C77=\"\",\"\",SUMIFS('Using CMS - Deviation - Limits'!$I$24:$I$5800,'Using CMS - Deviation - Limits'!$B$24:$B$5800,B77,'Using CMS - Deviation - Limits'!$C$24:$C$5800,C77,'Using CMS - Deviation - Limits'!$J$24:$J$5800,\"Process Problems\"))","v":""},{"$f":"IF($C77=\"\",\"\",SUMIFS('Using CMS - Deviation - Limits'!$I$24:$I$5800,'Using CMS - Deviation - Limits'!$B$24:$B$5800,B77,'Using CMS - Deviation - Limits'!$C$24:$C$5800,C77,'Using CMS - Deviation - Limits'!$J$24:$J$5800,\"Other Known Causes\"))","v":""},{"$f":"IF($C77=\"\",\"\",SUMIFS('Using CMS - Deviation - Limits'!$I$24:$I$5800,'Using CMS - Deviation - Limits'!$B$24:$B$5800,B77,'Using CMS - Deviation - Limits'!$C$24:$C$5800,C77,'Using CMS - Deviation - Limits'!$J$24:$J$5800,\"Other Unknown Causes\"))","v":""}]
[null,{"$f":"IF(Lists!BC56=\"\",\"\",Lists!BC56)","v":""},{"$f":"IF(Lists!BD56=\"\",\"\",Lists!BD56)","v":""},null,{"$f":"IF(C78=\"\",\"\",SUMIFS('Using CMS - Deviation - Limits'!$I$24:$I$5400,'Using CMS - Deviation - Limits'!$B$24:$B$5400,B78,'Using CMS - Deviation - Limits'!$C$24:$C$5400,C78))","v":""},"",{"$f":"IF($C78=\"\",\"\",SUMIFS('Using CMS - Deviation - Limits'!$I$24:$I$5800,'Using CMS - Deviation - Limits'!$B$24:$B$5800,B78,'Using CMS - Deviation - Limits'!$C$24:$C$5800,C78,'Using CMS - Deviation - Limits'!$D$24:$D$5800,\"Startup\"))","v":""},{"$f":"IF($C78=\"\",\"\",SUMIFS('Using CMS - Deviation - Limits'!$I$24:$I$5800,'Using CMS - Deviation - Limits'!$B$24:$B$5800,B78,'Using CMS - Deviation - Limits'!$C$24:$C$5800,C78,'Using CMS - Deviation - Limits'!$D$24:$D$5800,\"Shutdown\"))","v":""},{"$f":"IF($C78=\"\",\"\",SUMIFS('Using CMS - Deviation - Limits'!$I$24:$I$5800,'Using CMS - Deviation - Limits'!$B$24:$B$5800,B78,'Using CMS - Deviation - Limits'!$C$24:$C$5800,C78,'Using CMS - Deviation - Limits'!$J$24:$J$5800,\"Control Equipment Problems\"))","v":""},{"$f":"IF($C78=\"\",\"\",SUMIFS('Using CMS - Deviation - Limits'!$I$24:$I$5800,'Using CMS - Deviation - Limits'!$B$24:$B$5800,B78,'Using CMS - Deviation - Limits'!$C$24:$C$5800,C78,'Using CMS - Deviation - Limits'!$J$24:$J$5800,\"Process Problems\"))","v":""},{"$f":"IF($C78=\"\",\"\",SUMIFS('Using CMS - Deviation - Limits'!$I$24:$I$5800,'Using CMS - Deviation - Limits'!$B$24:$B$5800,B78,'Using CMS - Deviation - Limits'!$C$24:$C$5800,C78,'Using CMS - Deviation - Limits'!$J$24:$J$5800,\"Other Known Causes\"))","v":""},{"$f":"IF($C78=\"\",\"\",SUMIFS('Using CMS - Deviation - Limits'!$I$24:$I$5800,'Using CMS - Deviation - Limits'!$B$24:$B$5800,B78,'Using CMS - Deviation - Limits'!$C$24:$C$5800,C78,'Using CMS - Deviation - Limits'!$J$24:$J$5800,\"Other Unknown Causes\"))","v":""}]
[null,{"$f":"IF(Lists!BC57=\"\",\"\",Lists!BC57)","v":""},{"$f":"IF(Lists!BD57=\"\",\"\",Lists!BD57)","v":""},null,{"$f":"IF(C79=\"\",\"\",SUMIFS('Using CMS - Deviation - Limits'!$I$24:$I$5400,'Using CMS - Deviation - Limits'!$B$24:$B$5400,B79,'Using CMS - Deviation - Limits'!$C$24:$C$5400,C79))","v":""},"",{"$f":"IF($C79=\"\",\"\",SUMIFS('Using CMS - Deviation - Limits'!$I$24:$I$5800,'Using CMS - Deviation - Limits'!$B$24:$B$5800,B79,'Using CMS - Deviation - Limits'!$C$24:$C$5800,C79,'Using CMS - Deviation - Limits'!$D$24:$D$5800,\"Startup\"))","v":""},{"$f":"IF($C79=\"\",\"\",SUMIFS('Using CMS - Deviation - Limits'!$I$24:$I$5800,'Using CMS - Deviation - Limits'!$B$24:$B$5800,B79,'Using CMS - Deviation - Limits'!$C$24:$C$5800,C79,'Using CMS - Deviation - Limits'!$D$24:$D$5800,\"Shutdown\"))","v":""},{"$f":"IF($C79=\"\",\"\",SUMIFS('Using CMS - Deviation - Limits'!$I$24:$I$5800,'Using CMS - Deviation - Limits'!$B$24:$B$5800,B79,'Using CMS - Deviation - Limits'!$C$24:$C$5800,C79,'Using CMS - Deviation - Limits'!$J$24:$J$5800,\"Control Equipment Problems\"))","v":""},{"$f":"IF($C79=\"\",\"\",SUMIFS('Using CMS - Deviation - Limits'!$I$24:$I$5800,'Using CMS - Deviation - Limits'!$B$24:$B$5800,B79,'Using CMS - Deviation - Limits'!$C$24:$C$5800,C79,'Using CMS - Deviation - Limits'!$J$24:$J$5800,\"Process Problems\"))","v":""},{"$f":"IF($C79=\"\",\"\",SUMIFS('Using CMS - Deviation - Limits'!$I$24:$I$5800,'Using CMS - Deviation - Limits'!$B$24:$B$5800,B79,'Using CMS - Deviation - Limits'!$C$24:$C$5800,C79,'Using CMS - Deviation - Limits'!$J$24:$J$5800,\"Other Known Causes\"))","v":""},{"$f":"IF($C79=\"\",\"\",SUMIFS('Using CMS - Deviation - Limits'!$I$24:$I$5800,'Using CMS - Deviation - Limits'!$B$24:$B$5800,B79,'Using CMS - Deviation - Limits'!$C$24:$C$5800,C79,'Using CMS - Deviation - Limits'!$J$24:$J$5800,\"Other Unknown Causes\"))","v":""}]
[null,{"$f":"IF(Lists!BC58=\"\",\"\",Lists!BC58)","v":""},{"$f":"IF(Lists!BD58=\"\",\"\",Lists!BD58)","v":""},null,{"$f":"IF(C80=\"\",\"\",SUMIFS('Using CMS - Deviation - Limits'!$I$24:$I$5400,'Using CMS - Deviation - Limits'!$B$24:$B$5400,B80,'Using CMS - Deviation - Limits'!$C$24:$C$5400,C80))","v":""},"",{"$f":"IF($C80=\"\",\"\",SUMIFS('Using CMS - Deviation - Limits'!$I$24:$I$5800,'Using CMS - Deviation - Limits'!$B$24:$B$5800,B80,'Using CMS - Deviation - Limits'!$C$24:$C$5800,C80,'Using CMS - Deviation - Limits'!$D$24:$D$5800,\"Startup\"))","v":""},{"$f":"IF($C80=\"\",\"\",SUMIFS('Using CMS - Deviation - Limits'!$I$24:$I$5800,'Using CMS - Deviation - Limits'!$B$24:$B$5800,B80,'Using CMS - Deviation - Limits'!$C$24:$C$5800,C80,'Using CMS - Deviation - Limits'!$D$24:$D$5800,\"Shutdown\"))","v":""},{"$f":"IF($C80=\"\",\"\",SUMIFS('Using CMS - Deviation - Limits'!$I$24:$I$5800,'Using CMS - Deviation - Limits'!$B$24:$B$5800,B80,'Using CMS - Deviation - Limits'!$C$24:$C$5800,C80,'Using CMS - Deviation - Limits'!$J$24:$J$5800,\"Control Equipment Problems\"))","v":""},{"$f":"IF($C80=\"\",\"\",SUMIFS('Using CMS - Deviation - Limits'!$I$24:$I$5800,'Using CMS - Deviation - Limits'!$B$24:$B$5800,B80,'Using CMS - Deviation - Limits'!$C$24:$C$5800,C80,'Using CMS - Deviation - Limits'!$J$24:$J$5800,\"Process Problems\"))","v":""},{"$f":"IF($C80=\"\",\"\",SUMIFS('Using CMS - Deviation - Limits'!$I$24:$I$5800,'Using CMS - Deviation - Limits'!$B$24:$B$5800,B80,'Using CMS - Deviation - Limits'!$C$24:$C$5800,C80,'Using CMS - Deviation - Limits'!$J$24:$J$5800,\"Other Known Causes\"))","v":""},{"$f":"IF($C80=\"\",\"\",SUMIFS('Using CMS - Deviation - Limits'!$I$24:$I$5800,'Using CMS - Deviation - Limits'!$B$24:$B$5800,B80,'Using CMS - Deviation - Limits'!$C$24:$C$5800,C80,'Using CMS - Deviation - Limits'!$J$24:$J$5800,\"Other Unknown Causes\"))","v":""}]
[null,{"$f":"IF(Lists!BC59=\"\",\"\",Lists!BC59)","v":""},{"$f":"IF(Lists!BD59=\"\",\"\",Lists!BD59)","v":""},null,{"$f":"IF(C81=\"\",\"\",SUMIFS('Using CMS - Deviation - Limits'!$I$24:$I$5400,'Using CMS - Deviation - Limits'!$B$24:$B$5400,B81,'Using CMS - Deviation - Limits'!$C$24:$C$5400,C81))","v":""},"",{"$f":"IF($C81=\"\",\"\",SUMIFS('Using CMS - Deviation - Limits'!$I$24:$I$5800,'Using CMS - Deviation - Limits'!$B$24:$B$5800,B81,'Using CMS - Deviation - Limits'!$C$24:$C$5800,C81,'Using CMS - Deviation - Limits'!$D$24:$D$5800,\"Startup\"))","v":""},{"$f":"IF($C81=\"\",\"\",SUMIFS('Using CMS - Deviation - Limits'!$I$24:$I$5800,'Using CMS - Deviation - Limits'!$B$24:$B$5800,B81,'Using CMS - Deviation - Limits'!$C$24:$C$5800,C81,'Using CMS - Deviation - Limits'!$D$24:$D$5800,\"Shutdown\"))","v":""},{"$f":"IF($C81=\"\",\"\",SUMIFS('Using CMS - Deviation - Limits'!$I$24:$I$5800,'Using CMS - Deviation - Limits'!$B$24:$B$5800,B81,'Using CMS - Deviation - Limits'!$C$24:$C$5800,C81,'Using CMS - Deviation - Limits'!$J$24:$J$5800,\"Control Equipment Problems\"))","v":""},{"$f":"IF($C81=\"\",\"\",SUMIFS('Using CMS - Deviation - Limits'!$I$24:$I$5800,'Using CMS - Deviation - Limits'!$B$24:$B$5800,B81,'Using CMS - Deviation - Limits'!$C$24:$C$5800,C81,'Using CMS - Deviation - Limits'!$J$24:$J$5800,\"Process Problems\"))","v":""},{"$f":"IF($C81=\"\",\"\",SUMIFS('Using CMS - Deviation - Limits'!$I$24:$I$5800,'Using CMS - Deviation - Limits'!$B$24:$B$5800,B81,'Using CMS - Deviation - Limits'!$C$24:$C$5800,C81,'Using CMS - Deviation - Limits'!$J$24:$J$5800,\"Other Known Causes\"))","v":""},{"$f":"IF($C81=\"\",\"\",SUMIFS('Using CMS - Deviation - Limits'!$I$24:$I$5800,'Using CMS - Deviation - Limits'!$B$24:$B$5800,B81,'Using CMS - Deviation - Limits'!$C$24:$C$5800,C81,'Using CMS - Deviation - Limits'!$J$24:$J$5800,\"Other Unknown Causes\"))","v":""}]
[null,{"$f":"IF(Lists!BC60=\"\",\"\",Lists!BC60)","v":""},{"$f":"IF(Lists!BD60=\"\",\"\",Lists!BD60)","v":""},null,{"$f":"IF(C82=\"\",\"\",SUMIFS('Using CMS - Deviation - Limits'!$I$24:$I$5400,'Using CMS - Deviation - Limits'!$B$24:$B$5400,B82,'Using CMS - Deviation - Limits'!$C$24:$C$5400,C82))","v":""},"",{"$f":"IF($C82=\"\",\"\",SUMIFS('Using CMS - Deviation - Limits'!$I$24:$I$5800,'Using CMS - Deviation - Limits'!$B$24:$B$5800,B82,'Using CMS - Deviation - Limits'!$C$24:$C$5800,C82,'Using CMS - Deviation - Limits'!$D$24:$D$5800,\"Startup\"))","v":""},{"$f":"IF($C82=\"\",\"\",SUMIFS('Using CMS - Deviation - Limits'!$I$24:$I$5800,'Using CMS - Deviation - Limits'!$B$24:$B$5800,B82,'Using CMS - Deviation - Limits'!$C$24:$C$5800,C82,'Using CMS - Deviation - Limits'!$D$24:$D$5800,\"Shutdown\"))","v":""},{"$f":"IF($C82=\"\",\"\",SUMIFS('Using CMS - Deviation - Limits'!$I$24:$I$5800,'Using CMS - Deviation - Limits'!$B$24:$B$5800,B82,'Using CMS - Deviation - Limits'!$C$24:$C$5800,C82,'Using CMS - Deviation - Limits'!$J$24:$J$5800,\"Control Equipment Problems\"))","v":""},{"$f":"IF($C82=\"\",\"\",SUMIFS('Using CMS - Deviation - Limits'!$I$24:$I$5800,'Using CMS - Deviation - Limits'!$B$24:$B$5800,B82,'Using CMS - Deviation - Limits'!$C$24:$C$5800,C82,'Using CMS - Deviation - Limits'!$J$24:$J$5800,\"Process Problems\"))","v":""},{"$f":"IF($C82=\"\",\"\",SUMIFS('Using CMS - Deviation - Limits'!$I$24:$I$5800,'Using CMS - Deviation - Limits'!$B$24:$B$5800,B82,'Using CMS - Deviation - Limits'!$C$24:$C$5800,C82,'Using CMS - Deviation - Limits'!$J$24:$J$5800,\"Other Known Causes\"))","v":""},{"$f":"IF($C82=\"\",\"\",SUMIFS('Using CMS - Deviation - Limits'!$I$24:$I$5800,'Using CMS - Deviation - Limits'!$B$24:$B$5800,B82,'Using CMS - Deviation - Limits'!$C$24:$C$5800,C82,'Using CMS - Deviation - Limits'!$J$24:$J$5800,\"Other Unknown Causes\"))","v":""}]
[null,{"$f":"IF(Lists!BC61=\"\",\"\",Lists!BC61)","v":""},{"$f":"IF(Lists!BD61=\"\",\"\",Lists!BD61)","v":""},null,{"$f":"IF(C83=\"\",\"\",SUMIFS('Using CMS - Deviation - Limits'!$I$24:$I$5400,'Using CMS - Deviation - Limits'!$B$24:$B$5400,B83,'Using CMS - Deviation - Limits'!$C$24:$C$5400,C83))","v":""},"",{"$f":"IF($C83=\"\",\"\",SUMIFS('Using CMS - Deviation - Limits'!$I$24:$I$5800,'Using CMS - Deviation - Limits'!$B$24:$B$5800,B83,'Using CMS - Deviation - Limits'!$C$24:$C$5800,C83,'Using CMS - Deviation - Limits'!$D$24:$D$5800,\"Startup\"))","v":""},{"$f":"IF($C83=\"\",\"\",SUMIFS('Using CMS - Deviation - Limits'!$I$24:$I$5800,'Using CMS - Deviation - Limits'!$B$24:$B$5800,B83,'Using CMS - Deviation - Limits'!$C$24:$C$5800,C83,'Using CMS - Deviation - Limits'!$D$24:$D$5800,\"Shutdown\"))","v":""},{"$f":"IF($C83=\"\",\"\",SUMIFS('Using CMS - Deviation - Limits'!$I$24:$I$5800,'Using CMS - Deviation - Limits'!$B$24:$B$5800,B83,'Using CMS - Deviation - Limits'!$C$24:$C$5800,C83,'Using CMS - Deviation - Limits'!$J$24:$J$5800,\"Control Equipment Problems\"))","v":""},{"$f":"IF($C83=\"\",\"\",SUMIFS('Using CMS - Deviation - Limits'!$I$24:$I$5800,'Using CMS - Deviation - Limits'!$B$24:$B$5800,B83,'Using CMS - Deviation - Limits'!$C$24:$C$5800,C83,'Using CMS - Deviation - Limits'!$J$24:$J$5800,\"Process Problems\"))","v":""},{"$f":"IF($C83=\"\",\"\",SUMIFS('Using CMS - Deviation - Limits'!$I$24:$I$5800,'Using CMS - Deviation - Limits'!$B$24:$B$5800,B83,'Using CMS - Deviation - Limits'!$C$24:$C$5800,C83,'Using CMS - Deviation - Limits'!$J$24:$J$5800,\"Other Known Causes\"))","v":""},{"$f":"IF($C83=\"\",\"\",SUMIFS('Using CMS - Deviation - Limits'!$I$24:$I$5800,'Using CMS - Deviation - Limits'!$B$24:$B$5800,B83,'Using CMS - Deviation - Limits'!$C$24:$C$5800,C83,'Using CMS - Deviation - Limits'!$J$24:$J$5800,\"Other Unknown Causes\"))","v":""}]
[null,{"$f":"IF(Lists!BC62=\"\",\"\",Lists!BC62)","v":""},{"$f":"IF(Lists!BD62=\"\",\"\",Lists!BD62)","v":""},null,{"$f":"IF(C84=\"\",\"\",SUMIFS('Using CMS - Deviation - Limits'!$I$24:$I$5400,'Using CMS - Deviation - Limits'!$B$24:$B$5400,B84,'Using CMS - Deviation - Limits'!$C$24:$C$5400,C84))","v":""},"",{"$f":"IF($C84=\"\",\"\",SUMIFS('Using CMS - Deviation - Limits'!$I$24:$I$5800,'Using CMS - Deviation - Limits'!$B$24:$B$5800,B84,'Using CMS - Deviation - Limits'!$C$24:$C$5800,C84,'Using CMS - Deviation - Limits'!$D$24:$D$5800,\"Startup\"))","v":""},{"$f":"IF($C84=\"\",\"\",SUMIFS('Using CMS - Deviation - Limits'!$I$24:$I$5800,'Using CMS - Deviation - Limits'!$B$24:$B$5800,B84,'Using CMS - Deviation - Limits'!$C$24:$C$5800,C84,'Using CMS - Deviation - Limits'!$D$24:$D$5800,\"Shutdown\"))","v":""},{"$f":"IF($C84=\"\",\"\",SUMIFS('Using CMS - Deviation - Limits'!$I$24:$I$5800,'Using CMS - Deviation - Limits'!$B$24:$B$5800,B84,'Using CMS - Deviation - Limits'!$C$24:$C$5800,C84,'Using CMS - Deviation - Limits'!$J$24:$J$5800,\"Control Equipment Problems\"))","v":""},{"$f":"IF($C84=\"\",\"\",SUMIFS('Using CMS - Deviation - Limits'!$I$24:$I$5800,'Using CMS - Deviation - Limits'!$B$24:$B$5800,B84,'Using CMS - Deviation - Limits'!$C$24:$C$5800,C84,'Using CMS - Deviation - Limits'!$J$24:$J$5800,\"Process Problems\"))","v":""},{"$f":"IF($C84=\"\",\"\",SUMIFS('Using CMS - Deviation - Limits'!$I$24:$I$5800,'Using CMS - Deviation - Limits'!$B$24:$B$5800,B84,'Using CMS - Deviation - Limits'!$C$24:$C$5800,C84,'Using CMS - Deviation - Limits'!$J$24:$J$5800,\"Other Known Causes\"))","v":""},{"$f":"IF($C84=\"\",\"\",SUMIFS('Using CMS - Deviation - Limits'!$I$24:$I$5800,'Using CMS - Deviation - Limits'!$B$24:$B$5800,B84,'Using CMS - Deviation - Limits'!$C$24:$C$5800,C84,'Using CMS - Deviation - Limits'!$J$24:$J$5800,\"Other Unknown Causes\"))","v":""}]
[null,{"$f":"IF(Lists!BC63=\"\",\"\",Lists!BC63)","v":""},{"$f":"IF(Lists!BD63=\"\",\"\",Lists!BD63)","v":""},null,{"$f":"IF(C85=\"\",\"\",SUMIFS('Using CMS - Deviation - Limits'!$I$24:$I$5400,'Using CMS - Deviation - Limits'!$B$24:$B$5400,B85,'Using CMS - Deviation - Limits'!$C$24:$C$5400,C85))","v":""},"",{"$f":"IF($C85=\"\",\"\",SUMIFS('Using CMS - Deviation - Limits'!$I$24:$I$5800,'Using CMS - Deviation - Limits'!$B$24:$B$5800,B85,'Using CMS - Deviation - Limits'!$C$24:$C$5800,C85,'Using CMS - Deviation - Limits'!$D$24:$D$5800,\"Startup\"))","v":""},{"$f":"IF($C85=\"\",\"\",SUMIFS('Using CMS - Deviation - Limits'!$I$24:$I$5800,'Using CMS - Deviation - Limits'!$B$24:$B$5800,B85,'Using CMS - Deviation - Limits'!$C$24:$C$5800,C85,'Using CMS - Deviation - Limits'!$D$24:$D$5800,\"Shutdown\"))","v":""},{"$f":"IF($C85=\"\",\"\",SUMIFS('Using CMS - Deviation - Limits'!$I$24:$I$5800,'Using CMS - Deviation - Limits'!$B$24:$B$5800,B85,'Using CMS - Deviation - Limits'!$C$24:$C$5800,C85,'Using CMS - Deviation - Limits'!$J$24:$J$5800,\"Control Equipment Problems\"))","v":""},{"$f":"IF($C85=\"\",\"\",SUMIFS('Using CMS - Deviation - Limits'!$I$24:$I$5800,'Using CMS - Deviation - Limits'!$B$24:$B$5800,B85,'Using CMS - Deviation - Limits'!$C$24:$C$5800,C85,'Using CMS - Deviation - Limits'!$J$24:$J$5800,\"Process Problems\"))","v":""},{"$f":"IF($C85=\"\",\"\",SUMIFS('Using CMS - Deviation - Limits'!$I$24:$I$5800,'Using CMS - Deviation - Limits'!$B$24:$B$5800,B85,'Using CMS - Deviation - Limits'!$C$24:$C$5800,C85,'Using CMS - Deviation - Limits'!$J$24:$J$5800,\"Other Known Causes\"))","v":""},{"$f":"IF($C85=\"\",\"\",SUMIFS('Using CMS - Deviation - Limits'!$I$24:$I$5800,'Using CMS - Deviation - Limits'!$B$24:$B$5800,B85,'Using CMS - Deviation - Limits'!$C$24:$C$5800,C85,'Using CMS - Deviation - Limits'!$J$24:$J$5800,\"Other Unknown Causes\"))","v":""}]
[null,{"$f":"IF(Lists!BC64=\"\",\"\",Lists!BC64)","v":""},{"$f":"IF(Lists!BD64=\"\",\"\",Lists!BD64)","v":""},null,{"$f":"IF(C86=\"\",\"\",SUMIFS('Using CMS - Deviation - Limits'!$I$24:$I$5400,'Using CMS - Deviation - Limits'!$B$24:$B$5400,B86,'Using CMS - Deviation - Limits'!$C$24:$C$5400,C86))","v":""},"",{"$f":"IF($C86=\"\",\"\",SUMIFS('Using CMS - Deviation - Limits'!$I$24:$I$5800,'Using CMS - Deviation - Limits'!$B$24:$B$5800,B86,'Using CMS - Deviation - Limits'!$C$24:$C$5800,C86,'Using CMS - Deviation - Limits'!$D$24:$D$5800,\"Startup\"))","v":""},{"$f":"IF($C86=\"\",\"\",SUMIFS('Using CMS - Deviation - Limits'!$I$24:$I$5800,'Using CMS - Deviation - Limits'!$B$24:$B$5800,B86,'Using CMS - Deviation - Limits'!$C$24:$C$5800,C86,'Using CMS - Deviation - Limits'!$D$24:$D$5800,\"Shutdown\"))","v":""},{"$f":"IF($C86=\"\",\"\",SUMIFS('Using CMS - Deviation - Limits'!$I$24:$I$5800,'Using CMS - Deviation - Limits'!$B$24:$B$5800,B86,'Using CMS - Deviation - Limits'!$C$24:$C$5800,C86,'Using CMS - Deviation - Limits'!$J$24:$J$5800,\"Control Equipment Problems\"))","v":""},{"$f":"IF($C86=\"\",\"\",SUMIFS('Using CMS - Deviation - Limits'!$I$24:$I$5800,'Using CMS - Deviation - Limits'!$B$24:$B$5800,B86,'Using CMS - Deviation - Limits'!$C$24:$C$5800,C86,'Using CMS - Deviation - Limits'!$J$24:$J$5800,\"Process Problems\"))","v":""},{"$f":"IF($C86=\"\",\"\",SUMIFS('Using CMS - Deviation - Limits'!$I$24:$I$5800,'Using CMS - Deviation - Limits'!$B$24:$B$5800,B86,'Using CMS - Deviation - Limits'!$C$24:$C$5800,C86,'Using CMS - Deviation - Limits'!$J$24:$J$5800,\"Other Known Causes\"))","v":""},{"$f":"IF($C86=\"\",\"\",SUMIFS('Using CMS - Deviation - Limits'!$I$24:$I$5800,'Using CMS - Deviation - Limits'!$B$24:$B$5800,B86,'Using CMS - Deviation - Limits'!$C$24:$C$5800,C86,'Using CMS - Deviation - Limits'!$J$24:$J$5800,\"Other Unknown Causes\"))","v":""}]
[null,{"$f":"IF(Lists!BC65=\"\",\"\",Lists!BC65)","v":""},{"$f":"IF(Lists!BD65=\"\",\"\",Lists!BD65)","v":""},null,{"$f":"IF(C87=\"\",\"\",SUMIFS('Using CMS - Deviation - Limits'!$I$24:$I$5400,'Using CMS - Deviation - Limits'!$B$24:$B$5400,B87,'Using CMS - Deviation - Limits'!$C$24:$C$5400,C87))","v":""},"",{"$f":"IF($C87=\"\",\"\",SUMIFS('Using CMS - Deviation - Limits'!$I$24:$I$5800,'Using CMS - Deviation - Limits'!$B$24:$B$5800,B87,'Using CMS - Deviation - Limits'!$C$24:$C$5800,C87,'Using CMS - Deviation - Limits'!$D$24:$D$5800,\"Startup\"))","v":""},{"$f":"IF($C87=\"\",\"\",SUMIFS('Using CMS - Deviation - Limits'!$I$24:$I$5800,'Using CMS - Deviation - Limits'!$B$24:$B$5800,B87,'Using CMS - Deviation - Limits'!$C$24:$C$5800,C87,'Using CMS - Deviation - Limits'!$D$24:$D$5800,\"Shutdown\"))","v":""},{"$f":"IF($C87=\"\",\"\",SUMIFS('Using CMS - Deviation - Limits'!$I$24:$I$5800,'Using CMS - Deviation - Limits'!$B$24:$B$5800,B87,'Using CMS - Deviation - Limits'!$C$24:$C$5800,C87,'Using CMS - Deviation - Limits'!$J$24:$J$5800,\"Control Equipment Problems\"))","v":""},{"$f":"IF($C87=\"\",\"\",SUMIFS('Using CMS - Deviation - Limits'!$I$24:$I$5800,'Using CMS - Deviation - Limits'!$B$24:$B$5800,B87,'Using CMS - Deviation - Limits'!$C$24:$C$5800,C87,'Using CMS - Deviation - Limits'!$J$24:$J$5800,\"Process Problems\"))","v":""},{"$f":"IF($C87=\"\",\"\",SUMIFS('Using CMS - Deviation - Limits'!$I$24:$I$5800,'Using CMS - Deviation - Limits'!$B$24:$B$5800,B87,'Using CMS - Deviation - Limits'!$C$24:$C$5800,C87,'Using CMS - Deviation - Limits'!$J$24:$J$5800,\"Other Known Causes\"))","v":""},{"$f":"IF($C87=\"\",\"\",SUMIFS('Using CMS - Deviation - Limits'!$I$24:$I$5800,'Using CMS - Deviation - Limits'!$B$24:$B$5800,B87,'Using CMS - Deviation - Limits'!$C$24:$C$5800,C87,'Using CMS - Deviation - Limits'!$J$24:$J$5800,\"Other Unknown Causes\"))","v":""}]
[null,{"$f":"IF(Lists!BC66=\"\",\"\",Lists!BC66)","v":""},{"$f":"IF(Lists!BD66=\"\",\"\",Lists!BD66)","v":""},null,{"$f":"IF(C88=\"\",\"\",SUMIFS('Using CMS - Deviation - Limits'!$I$24:$I$5400,'Using CMS - Deviation - Limits'!$B$24:$B$5400,B88,'Using CMS - Deviation - Limits'!$C$24:$C$5400,C88))","v":""},"",{"$f":"IF($C88=\"\",\"\",SUMIFS('Using CMS - Deviation - Limits'!$I$24:$I$5800,'Using CMS - Deviation - Limits'!$B$24:$B$5800,B88,'Using CMS - Deviation - Limits'!$C$24:$C$5800,C88,'Using CMS - Deviation - Limits'!$D$24:$D$5800,\"Startup\"))","v":""},{"$f":"IF($C88=\"\",\"\",SUMIFS('Using CMS - Deviation - Limits'!$I$24:$I$5800,'Using CMS - Deviation - Limits'!$B$24:$B$5800,B88,'Using CMS - Deviation - Limits'!$C$24:$C$5800,C88,'Using CMS - Deviation - Limits'!$D$24:$D$5800,\"Shutdown\"))","v":""},{"$f":"IF($C88=\"\",\"\",SUMIFS('Using CMS - Deviation - Limits'!$I$24:$I$5800,'Using CMS - Deviation - Limits'!$B$24:$B$5800,B88,'Using CMS - Deviation - Limits'!$C$24:$C$5800,C88,'Using CMS - Deviation - Limits'!$J$24:$J$5800,\"Control Equipment Problems\"))","v":""},{"$f":"IF($C88=\"\",\"\",SUMIFS('Using CMS - Deviation - Limits'!$I$24:$I$5800,'Using CMS - Deviation - Limits'!$B$24:$B$5800,B88,'Using CMS - Deviation - Limits'!$C$24:$C$5800,C88,'Using CMS - Deviation - Limits'!$J$24:$J$5800,\"Process Problems\"))","v":""},{"$f":"IF($C88=\"\",\"\",SUMIFS('Using CMS - Deviation - Limits'!$I$24:$I$5800,'Using CMS - Deviation - Limits'!$B$24:$B$5800,B88,'Using CMS - Deviation - Limits'!$C$24:$C$5800,C88,'Using CMS - Deviation - Limits'!$J$24:$J$5800,\"Other Known Causes\"))","v":""},{"$f":"IF($C88=\"\",\"\",SUMIFS('Using CMS - Deviation - Limits'!$I$24:$I$5800,'Using CMS - Deviation - Limits'!$B$24:$B$5800,B88,'Using CMS - Deviation - Limits'!$C$24:$C$5800,C88,'Using CMS - Deviation - Limits'!$J$24:$J$5800,\"Other Unknown Causes\"))","v":""}]
[null,{"$f":"IF(Lists!BC67=\"\",\"\",Lists!BC67)","v":""},{"$f":"IF(Lists!BD67=\"\",\"\",Lists!BD67)","v":""},null,{"$f":"IF(C89=\"\",\"\",SUMIFS('Using CMS - Deviation - Limits'!$I$24:$I$5400,'Using CMS - Deviation - Limits'!$B$24:$B$5400,B89,'Using CMS - Deviation - Limits'!$C$24:$C$5400,C89))","v":""},{"$f":"IF($C89=\"\",\"\",IF(E89=0,\"N/A\",E89/$D89))","v":""},{"$f":"IF($C89=\"\",\"\",SUMIFS('Using CMS - Deviation - Limits'!$I$24:$I$5800,'Using CMS - Deviation - Limits'!$B$24:$B$5800,B89,'Using CMS - Deviation - Limits'!$C$24:$C$5800,C89,'Using CMS - Deviation - Limits'!$D$24:$D$5800,\"Startup\"))","v":""},{"$f":"IF($C89=\"\",\"\",SUMIFS('Using CMS - Deviation - Limits'!$I$24:$I$5800,'Using CMS - Deviation - Limits'!$B$24:$B$5800,B89,'Using CMS - Deviation - Limits'!$C$24:$C$5800,C89,'Using CMS - Deviation - Limits'!$D$24:$D$5800,\"Shutdown\"))","v":""},{"$f":"IF($C89=\"\",\"\",SUMIFS('Using CMS - Deviation - Limits'!$I$24:$I$5800,'Using CMS - Deviation - Limits'!$B$24:$B$5800,B89,'Using CMS - Deviation - Limits'!$C$24:$C$5800,C89,'Using CMS - Deviation - Limits'!$J$24:$J$5800,\"Control Equipment Problems\"))","v":""},{"$f":"IF($C89=\"\",\"\",SUMIFS('Using CMS - Deviation - Limits'!$I$24:$I$5800,'Using CMS - Deviation - Limits'!$B$24:$B$5800,B89,'Using CMS - Deviation - Limits'!$C$24:$C$5800,C89,'Using CMS - Deviation - Limits'!$J$24:$J$5800,\"Process Problems\"))","v":""},{"$f":"IF($C89=\"\",\"\",SUMIFS('Using CMS - Deviation - Limits'!$I$24:$I$5800,'Using CMS - Deviation - Limits'!$B$24:$B$5800,B89,'Using CMS - Deviation - Limits'!$C$24:$C$5800,C89,'Using CMS - Deviation - Limits'!$J$24:$J$5800,\"Other Known Causes\"))","v":""},{"$f":"IF($C89=\"\",\"\",SUMIFS('Using CMS - Deviation - Limits'!$I$24:$I$5800,'Using CMS - Deviation - Limits'!$B$24:$B$5800,B89,'Using CMS - Deviation - Limits'!$C$24:$C$5800,C89,'Using CMS - Deviation - Limits'!$J$24:$J$5800,\"Other Unknown Causes\"))","v":""}]
[null,{"$f":"IF(Lists!BC68=\"\",\"\",Lists!BC68)","v":""},{"$f":"IF(Lists!BD68=\"\",\"\",Lists!BD68)","v":""},null,{"$f":"IF(C90=\"\",\"\",SUMIFS('Using CMS - Deviation - Limits'!$I$24:$I$5400,'Using CMS - Deviation - Limits'!$B$24:$B$5400,B90,'Using CMS - Deviation - Limits'!$C$24:$C$5400,C90))","v":""},"",{"$f":"IF($C90=\"\",\"\",SUMIFS('Using CMS - Deviation - Limits'!$I$24:$I$5800,'Using CMS - Deviation - Limits'!$B$24:$B$5800,B90,'Using CMS - Deviation - Limits'!$C$24:$C$5800,C90,'Using CMS - Deviation - Limits'!$D$24:$D$5800,\"Startup\"))","v":""},{"$f":"IF($C90=\"\",\"\",SUMIFS('Using CMS - Deviation - Limits'!$I$24:$I$5800,'Using CMS - Deviation - Limits'!$B$24:$B$5800,B90,'Using CMS - Deviation - Limits'!$C$24:$C$5800,C90,'Using CMS - Deviation - Limits'!$D$24:$D$5800,\"Shutdown\"))","v":""},{"$f":"IF($C90=\"\",\"\",SUMIFS('Using CMS - Deviation - Limits'!$I$24:$I$5800,'Using CMS - Deviation - Limits'!$B$24:$B$5800,B90,'Using CMS - Deviation - Limits'!$C$24:$C$5800,C90,'Using CMS - Deviation - Limits'!$J$24:$J$5800,\"Control Equipment Problems\"))","v":""},{"$f":"IF($C90=\"\",\"\",SUMIFS('Using CMS - Deviation - Limits'!$I$24:$I$5800,'Using CMS - Deviation - Limits'!$B$24:$B$5800,B90,'Using CMS - Deviation - Limits'!$C$24:$C$5800,C90,'Using CMS - Deviation - Limits'!$J$24:$J$5800,\"Process Problems\"))","v":""},{"$f":"IF($C90=\"\",\"\",SUMIFS('Using CMS - Deviation - Limits'!$I$24:$I$5800,'Using CMS - Deviation - Limits'!$B$24:$B$5800,B90,'Using CMS - Deviation - Limits'!$C$24:$C$5800,C90,'Using CMS - Deviation - Limits'!$J$24:$J$5800,\"Other Known Causes\"))","v":""},{"$f":"IF($C90=\"\",\"\",SUMIFS('Using CMS - Deviation - Limits'!$I$24:$I$5800,'Using CMS - Deviation - Limits'!$B$24:$B$5800,B90,'Using CMS - Deviation - Limits'!$C$24:$C$5800,C90,'Using CMS - Deviation - Limits'!$J$24:$J$5800,\"Other Unknown Causes\"))","v":""}]
[null,{"$f":"IF(Lists!BC69=\"\",\"\",Lists!BC69)","v":""},{"$f":"IF(Lists!BD69=\"\",\"\",Lists!BD69)","v":""},null,{"$f":"IF(C91=\"\",\"\",SUMIFS('Using CMS - Deviation - Limits'!$I$24:$I$5400,'Using CMS - Deviation - Limits'!$B$24:$B$5400,B91,'Using CMS - Deviation - Limits'!$C$24:$C$5400,C91))","v":""},"",{"$f":"IF($C91=\"\",\"\",SUMIFS('Using CMS - Deviation - Limits'!$I$24:$I$5800,'Using CMS - Deviation - Limits'!$B$24:$B$5800,B91,'Using CMS - Deviation - Limits'!$C$24:$C$5800,C91,'Using CMS - Deviation - Limits'!$D$24:$D$5800,\"Startup\"))","v":""},{"$f":"IF($C91=\"\",\"\",SUMIFS('Using CMS - Deviation - Limits'!$I$24:$I$5800,'Using CMS - Deviation - Limits'!$B$24:$B$5800,B91,'Using CMS - Deviation - Limits'!$C$24:$C$5800,C91,'Using CMS - Deviation - Limits'!$D$24:$D$5800,\"Shutdown\"))","v":""},{"$f":"IF($C91=\"\",\"\",SUMIFS('Using CMS - Deviation - Limits'!$I$24:$I$5800,'Using CMS - Deviation - Limits'!$B$24:$B$5800,B91,'Using CMS - Deviation - Limits'!$C$24:$C$5800,C91,'Using CMS - Deviation - Limits'!$J$24:$J$5800,\"Control Equipment Problems\"))","v":""},{"$f":"IF($C91=\"\",\"\",SUMIFS('Using CMS - Deviation - Limits'!$I$24:$I$5800,'Using CMS - Deviation - Limits'!$B$24:$B$5800,B91,'Using CMS - Deviation - Limits'!$C$24:$C$5800,C91,'Using CMS - Deviation - Limits'!$J$24:$J$5800,\"Process Problems\"))","v":""},{"$f":"IF($C91=\"\",\"\",SUMIFS('Using CMS - Deviation - Limits'!$I$24:$I$5800,'Using CMS - Deviation - Limits'!$B$24:$B$5800,B91,'Using CMS - Deviation - Limits'!$C$24:$C$5800,C91,'Using CMS - Deviation - Limits'!$J$24:$J$5800,\"Other Known Causes\"))","v":""},{"$f":"IF($C91=\"\",\"\",SUMIFS('Using CMS - Deviation - Limits'!$I$24:$I$5800,'Using CMS - Deviation - Limits'!$B$24:$B$5800,B91,'Using CMS - Deviation - Limits'!$C$24:$C$5800,C91,'Using CMS - Deviation - Limits'!$J$24:$J$5800,\"Other Unknown Causes\"))","v":""}]
[null,{"$f":"IF(Lists!BC70=\"\",\"\",Lists!BC70)","v":""},{"$f":"IF(Lists!BD70=\"\",\"\",Lists!BD70)","v":""},null,{"$f":"IF(C92=\"\",\"\",SUMIFS('Using CMS - Deviation - Limits'!$I$24:$I$5400,'Using CMS - Deviation - Limits'!$B$24:$B$5400,B92,'Using CMS - Deviation - Limits'!$C$24:$C$5400,C92))","v":""},"",{"$f":"IF($C92=\"\",\"\",SUMIFS('Using CMS - Deviation - Limits'!$I$24:$I$5800,'Using CMS - Deviation - Limits'!$B$24:$B$5800,B92,'Using CMS - Deviation - Limits'!$C$24:$C$5800,C92,'Using CMS - Deviation - Limits'!$D$24:$D$5800,\"Startup\"))","v":""},{"$f":"IF($C92=\"\",\"\",SUMIFS('Using CMS - Deviation - Limits'!$I$24:$I$5800,'Using CMS - Deviation - Limits'!$B$24:$B$5800,B92,'Using CMS - Deviation - Limits'!$C$24:$C$5800,C92,'Using CMS - Deviation - Limits'!$D$24:$D$5800,\"Shutdown\"))","v":""},{"$f":"IF($C92=\"\",\"\",SUMIFS('Using CMS - Deviation - Limits'!$I$24:$I$5800,'Using CMS - Deviation - Limits'!$B$24:$B$5800,B92,'Using CMS - Deviation - Limits'!$C$24:$C$5800,C92,'Using CMS - Deviation - Limits'!$J$24:$J$5800,\"Control Equipment Problems\"))","v":""},{"$f":"IF($C92=\"\",\"\",SUMIFS('Using CMS - Deviation - Limits'!$I$24:$I$5800,'Using CMS - Deviation - Limits'!$B$24:$B$5800,B92,'Using CMS - Deviation - Limits'!$C$24:$C$5800,C92,'Using CMS - Deviation - Limits'!$J$24:$J$5800,\"Process Problems\"))","v":""},{"$f":"IF($C92=\"\",\"\",SUMIFS('Using CMS - Deviation - Limits'!$I$24:$I$5800,'Using CMS - Deviation - Limits'!$B$24:$B$5800,B92,'Using CMS - Deviation - Limits'!$C$24:$C$5800,C92,'Using CMS - Deviation - Limits'!$J$24:$J$5800,\"Other Known Causes\"))","v":""},{"$f":"IF($C92=\"\",\"\",SUMIFS('Using CMS - Deviation - Limits'!$I$24:$I$5800,'Using CMS - Deviation - Limits'!$B$24:$B$5800,B92,'Using CMS - Deviation - Limits'!$C$24:$C$5800,C92,'Using CMS - Deviation - Limits'!$J$24:$J$5800,\"Other Unknown Causes\"))","v":""}]
[null,{"$f":"IF(Lists!BC71=\"\",\"\",Lists!BC71)","v":""},{"$f":"IF(Lists!BD71=\"\",\"\",Lists!BD71)","v":""},null,{"$f":"IF(C93=\"\",\"\",SUMIFS('Using CMS - Deviation - Limits'!$I$24:$I$5400,'Using CMS - Deviation - Limits'!$B$24:$B$5400,B93,'Using CMS - Deviation - Limits'!$C$24:$C$5400,C93))","v":""},"",{"$f":"IF($C93=\"\",\"\",SUMIFS('Using CMS - Deviation - Limits'!$I$24:$I$5800,'Using CMS - Deviation - Limits'!$B$24:$B$5800,B93,'Using CMS - Deviation - Limits'!$C$24:$C$5800,C93,'Using CMS - Deviation - Limits'!$D$24:$D$5800,\"Startup\"))","v":""},{"$f":"IF($C93=\"\",\"\",SUMIFS('Using CMS - Deviation - Limits'!$I$24:$I$5800,'Using CMS - Deviation - Limits'!$B$24:$B$5800,B93,'Using CMS - Deviation - Limits'!$C$24:$C$5800,C93,'Using CMS - Deviation - Limits'!$D$24:$D$5800,\"Shutdown\"))","v":""},{"$f":"IF($C93=\"\",\"\",SUMIFS('Using CMS - Deviation - Limits'!$I$24:$I$5800,'Using CMS - Deviation - Limits'!$B$24:$B$5800,B93,'Using CMS - Deviation - Limits'!$C$24:$C$5800,C93,'Using CMS - Deviation - Limits'!$J$24:$J$5800,\"Control Equipment Problems\"))","v":""},{"$f":"IF($C93=\"\",\"\",SUMIFS('Using CMS - Deviation - Limits'!$I$24:$I$5800,'Using CMS - Deviation - Limits'!$B$24:$B$5800,B93,'Using CMS - Deviation - Limits'!$C$24:$C$5800,C93,'Using CMS - Deviation - Limits'!$J$24:$J$5800,\"Process Problems\"))","v":""},{"$f":"IF($C93=\"\",\"\",SUMIFS('Using CMS - Deviation - Limits'!$I$24:$I$5800,'Using CMS - Deviation - Limits'!$B$24:$B$5800,B93,'Using CMS - Deviation - Limits'!$C$24:$C$5800,C93,'Using CMS - Deviation - Limits'!$J$24:$J$5800,\"Other Known Causes\"))","v":""},{"$f":"IF($C93=\"\",\"\",SUMIFS('Using CMS - Deviation - Limits'!$I$24:$I$5800,'Using CMS - Deviation - Limits'!$B$24:$B$5800,B93,'Using CMS - Deviation - Limits'!$C$24:$C$5800,C93,'Using CMS - Deviation - Limits'!$J$24:$J$5800,\"Other Unknown Causes\"))","v":""}]
[null,{"$f":"IF(Lists!BC72=\"\",\"\",Lists!BC72)","v":""},{"$f":"IF(Lists!BD72=\"\",\"\",Lists!BD72)","v":""},null,{"$f":"IF(C94=\"\",\"\",SUMIFS('Using CMS - Deviation - Limits'!$I$24:$I$5400,'Using CMS - Deviation - Limits'!$B$24:$B$5400,B94,'Using CMS - Deviation - Limits'!$C$24:$C$5400,C94))","v":""},"",{"$f":"IF($C94=\"\",\"\",SUMIFS('Using CMS - Deviation - Limits'!$I$24:$I$5800,'Using CMS - Deviation - Limits'!$B$24:$B$5800,B94,'Using CMS - Deviation - Limits'!$C$24:$C$5800,C94,'Using CMS - Deviation - Limits'!$D$24:$D$5800,\"Startup\"))","v":""},{"$f":"IF($C94=\"\",\"\",SUMIFS('Using CMS - Deviation - Limits'!$I$24:$I$5800,'Using CMS - Deviation - Limits'!$B$24:$B$5800,B94,'Using CMS - Deviation - Limits'!$C$24:$C$5800,C94,'Using CMS - Deviation - Limits'!$D$24:$D$5800,\"Shutdown\"))","v":""},{"$f":"IF($C94=\"\",\"\",SUMIFS('Using CMS - Deviation - Limits'!$I$24:$I$5800,'Using CMS - Deviation - Limits'!$B$24:$B$5800,B94,'Using CMS - Deviation - Limits'!$C$24:$C$5800,C94,'Using CMS - Deviation - Limits'!$J$24:$J$5800,\"Control Equipment Problems\"))","v":""},{"$f":"IF($C94=\"\",\"\",SUMIFS('Using CMS - Deviation - Limits'!$I$24:$I$5800,'Using CMS - Deviation - Limits'!$B$24:$B$5800,B94,'Using CMS - Deviation - Limits'!$C$24:$C$5800,C94,'Using CMS - Deviation - Limits'!$J$24:$J$5800,\"Process Problems\"))","v":""},{"$f":"IF($C94=\"\",\"\",SUMIFS('Using CMS - Deviation - Limits'!$I$24:$I$5800,'Using CMS - Deviation - Limits'!$B$24:$B$5800,B94,'Using CMS - Deviation - Limits'!$C$24:$C$5800,C94,'Using CMS - Deviation - Limits'!$J$24:$J$5800,\"Other Known Causes\"))","v":""},{"$f":"IF($C94=\"\",\"\",SUMIFS('Using CMS - Deviation - Limits'!$I$24:$I$5800,'Using CMS - Deviation - Limits'!$B$24:$B$5800,B94,'Using CMS - Deviation - Limits'!$C$24:$C$5800,C94,'Using CMS - Deviation - Limits'!$J$24:$J$5800,\"Other Unknown Causes\"))","v":""}]
[null,{"$f":"IF(Lists!BC73=\"\",\"\",Lists!BC73)","v":""},{"$f":"IF(Lists!BD73=\"\",\"\",Lists!BD73)","v":""},null,{"$f":"IF(C95=\"\",\"\",SUMIFS('Using CMS - Deviation - Limits'!$I$24:$I$5400,'Using CMS - Deviation - Limits'!$B$24:$B$5400,B95,'Using CMS - Deviation - Limits'!$C$24:$C$5400,C95))","v":""},"",{"$f":"IF($C95=\"\",\"\",SUMIFS('Using CMS - Deviation - Limits'!$I$24:$I$5800,'Using CMS - Deviation - Limits'!$B$24:$B$5800,B95,'Using CMS - Deviation - Limits'!$C$24:$C$5800,C95,'Using CMS - Deviation - Limits'!$D$24:$D$5800,\"Startup\"))","v":""},{"$f":"IF($C95=\"\",\"\",SUMIFS('Using CMS - Deviation - Limits'!$I$24:$I$5800,'Using CMS - Deviation - Limits'!$B$24:$B$5800,B95,'Using CMS - Deviation - Limits'!$C$24:$C$5800,C95,'Using CMS - Deviation - Limits'!$D$24:$D$5800,\"Shutdown\"))","v":""},{"$f":"IF($C95=\"\",\"\",SUMIFS('Using CMS - Deviation - Limits'!$I$24:$I$5800,'Using CMS - Deviation - Limits'!$B$24:$B$5800,B95,'Using CMS - Deviation - Limits'!$C$24:$C$5800,C95,'Using CMS - Deviation - Limits'!$J$24:$J$5800,\"Control Equipment Problems\"))","v":""},{"$f":"IF($C95=\"\",\"\",SUMIFS('Using CMS - Deviation - Limits'!$I$24:$I$5800,'Using CMS - Deviation - Limits'!$B$24:$B$5800,B95,'Using CMS - Deviation - Limits'!$C$24:$C$5800,C95,'Using CMS - Deviation - Limits'!$J$24:$J$5800,\"Process Problems\"))","v":""},{"$f":"IF($C95=\"\",\"\",SUMIFS('Using CMS - Deviation - Limits'!$I$24:$I$5800,'Using CMS - Deviation - Limits'!$B$24:$B$5800,B95,'Using CMS - Deviation - Limits'!$C$24:$C$5800,C95,'Using CMS - Deviation - Limits'!$J$24:$J$5800,\"Other Known Causes\"))","v":""},{"$f":"IF($C95=\"\",\"\",SUMIFS('Using CMS - Deviation - Limits'!$I$24:$I$5800,'Using CMS - Deviation - Limits'!$B$24:$B$5800,B95,'Using CMS - Deviation - Limits'!$C$24:$C$5800,C95,'Using CMS - Deviation - Limits'!$J$24:$J$5800,\"Other Unknown Causes\"))","v":""}]
[null,{"$f":"IF(Lists!BC74=\"\",\"\",Lists!BC74)","v":""},{"$f":"IF(Lists!BD74=\"\",\"\",Lists!BD74)","v":""},null,{"$f":"IF(C96=\"\",\"\",SUMIFS('Using CMS - Deviation - Limits'!$I$24:$I$5400,'Using CMS - Deviation - Limits'!$B$24:$B$5400,B96,'Using CMS - Deviation - Limits'!$C$24:$C$5400,C96))","v":""},"",{"$f":"IF($C96=\"\",\"\",SUMIFS('Using CMS - Deviation - Limits'!$I$24:$I$5800,'Using CMS - Deviation - Limits'!$B$24:$B$5800,B96,'Using CMS - Deviation - Limits'!$C$24:$C$5800,C96,'Using CMS - Deviation - Limits'!$D$24:$D$5800,\"Startup\"))","v":""},{"$f":"IF($C96=\"\",\"\",SUMIFS('Using CMS - Deviation - Limits'!$I$24:$I$5800,'Using CMS - Deviation - Limits'!$B$24:$B$5800,B96,'Using CMS - Deviation - Limits'!$C$24:$C$5800,C96,'Using CMS - Deviation - Limits'!$D$24:$D$5800,\"Shutdown\"))","v":""},{"$f":"IF($C96=\"\",\"\",SUMIFS('Using CMS - Deviation - Limits'!$I$24:$I$5800,'Using CMS - Deviation - Limits'!$B$24:$B$5800,B96,'Using CMS - Deviation - Limits'!$C$24:$C$5800,C96,'Using CMS - Deviation - Limits'!$J$24:$J$5800,\"Control Equipment Problems\"))","v":""},{"$f":"IF($C96=\"\",\"\",SUMIFS('Using CMS - Deviation - Limits'!$I$24:$I$5800,'Using CMS - Deviation - Limits'!$B$24:$B$5800,B96,'Using CMS - Deviation - Limits'!$C$24:$C$5800,C96,'Using CMS - Deviation - Limits'!$J$24:$J$5800,\"Process Problems\"))","v":""},{"$f":"IF($C96=\"\",\"\",SUMIFS('Using CMS - Deviation - Limits'!$I$24:$I$5800,'Using CMS - Deviation - Limits'!$B$24:$B$5800,B96,'Using CMS - Deviation - Limits'!$C$24:$C$5800,C96,'Using CMS - Deviation - Limits'!$J$24:$J$5800,\"Other Known Causes\"))","v":""},{"$f":"IF($C96=\"\",\"\",SUMIFS('Using CMS - Deviation - Limits'!$I$24:$I$5800,'Using CMS - Deviation - Limits'!$B$24:$B$5800,B96,'Using CMS - Deviation - Limits'!$C$24:$C$5800,C96,'Using CMS - Deviation - Limits'!$J$24:$J$5800,\"Other Unknown Causes\"))","v":""}]
[null,{"$f":"IF(Lists!BC75=\"\",\"\",Lists!BC75)","v":""},{"$f":"IF(Lists!BD75=\"\",\"\",Lists!BD75)","v":""},null,{"$f":"IF(C97=\"\",\"\",SUMIFS('Using CMS - Deviation - Limits'!$I$24:$I$5400,'Using CMS - Deviation - Limits'!$B$24:$B$5400,B97,'Using CMS - Deviation - Limits'!$C$24:$C$5400,C97))","v":""},"",{"$f":"IF($C97=\"\",\"\",SUMIFS('Using CMS - Deviation - Limits'!$I$24:$I$5800,'Using CMS - Deviation - Limits'!$B$24:$B$5800,B97,'Using CMS - Deviation - Limits'!$C$24:$C$5800,C97,'Using CMS - Deviation - Limits'!$D$24:$D$5800,\"Startup\"))","v":""},{"$f":"IF($C97=\"\",\"\",SUMIFS('Using CMS - Deviation - Limits'!$I$24:$I$5800,'Using CMS - Deviation - Limits'!$B$24:$B$5800,B97,'Using CMS - Deviation - Limits'!$C$24:$C$5800,C97,'Using CMS - Deviation - Limits'!$D$24:$D$5800,\"Shutdown\"))","v":""},{"$f":"IF($C97=\"\",\"\",SUMIFS('Using CMS - Deviation - Limits'!$I$24:$I$5800,'Using CMS - Deviation - Limits'!$B$24:$B$5800,B97,'Using CMS - Deviation - Limits'!$C$24:$C$5800,C97,'Using CMS - Deviation - Limits'!$J$24:$J$5800,\"Control Equipment Problems\"))","v":""},{"$f":"IF($C97=\"\",\"\",SUMIFS('Using CMS - Deviation - Limits'!$I$24:$I$5800,'Using CMS - Deviation - Limits'!$B$24:$B$5800,B97,'Using CMS - Deviation - Limits'!$C$24:$C$5800,C97,'Using CMS - Deviation - Limits'!$J$24:$J$5800,\"Process Problems\"))","v":""},{"$f":"IF($C97=\"\",\"\",SUMIFS('Using CMS - Deviation - Limits'!$I$24:$I$5800,'Using CMS - Deviation - Limits'!$B$24:$B$5800,B97,'Using CMS - Deviation - Limits'!$C$24:$C$5800,C97,'Using CMS - Deviation - Limits'!$J$24:$J$5800,\"Other Known Causes\"))","v":""},{"$f":"IF($C97=\"\",\"\",SUMIFS('Using CMS - Deviation - Limits'!$I$24:$I$5800,'Using CMS - Deviation - Limits'!$B$24:$B$5800,B97,'Using CMS - Deviation - Limits'!$C$24:$C$5800,C97,'Using CMS - Deviation - Limits'!$J$24:$J$5800,\"Other Unknown Causes\"))","v":""}]
[null,{"$f":"IF(Lists!BC76=\"\",\"\",Lists!BC76)","v":""},{"$f":"IF(Lists!BD76=\"\",\"\",Lists!BD76)","v":""},null,{"$f":"IF(C98=\"\",\"\",SUMIFS('Using CMS - Deviation - Limits'!$I$24:$I$5400,'Using CMS - Deviation - Limits'!$B$24:$B$5400,B98,'Using CMS - Deviation - Limits'!$C$24:$C$5400,C98))","v":""},"",{"$f":"IF($C98=\"\",\"\",SUMIFS('Using CMS - Deviation - Limits'!$I$24:$I$5800,'Using CMS - Deviation - Limits'!$B$24:$B$5800,B98,'Using CMS - Deviation - Limits'!$C$24:$C$5800,C98,'Using CMS - Deviation - Limits'!$D$24:$D$5800,\"Startup\"))","v":""},{"$f":"IF($C98=\"\",\"\",SUMIFS('Using CMS - Deviation - Limits'!$I$24:$I$5800,'Using CMS - Deviation - Limits'!$B$24:$B$5800,B98,'Using CMS - Deviation - Limits'!$C$24:$C$5800,C98,'Using CMS - Deviation - Limits'!$D$24:$D$5800,\"Shutdown\"))","v":""},{"$f":"IF($C98=\"\",\"\",SUMIFS('Using CMS - Deviation - Limits'!$I$24:$I$5800,'Using CMS - Deviation - Limits'!$B$24:$B$5800,B98,'Using CMS - Deviation - Limits'!$C$24:$C$5800,C98,'Using CMS - Deviation - Limits'!$J$24:$J$5800,\"Control Equipment Problems\"))","v":""},{"$f":"IF($C98=\"\",\"\",SUMIFS('Using CMS - Deviation - Limits'!$I$24:$I$5800,'Using CMS - Deviation - Limits'!$B$24:$B$5800,B98,'Using CMS - Deviation - Limits'!$C$24:$C$5800,C98,'Using CMS - Deviation - Limits'!$J$24:$J$5800,\"Process Problems\"))","v":""},{"$f":"IF($C98=\"\",\"\",SUMIFS('Using CMS - Deviation - Limits'!$I$24:$I$5800,'Using CMS - Deviation - Limits'!$B$24:$B$5800,B98,'Using CMS - Deviation - Limits'!$C$24:$C$5800,C98,'Using CMS - Deviation - Limits'!$J$24:$J$5800,\"Other Known Causes\"))","v":""},{"$f":"IF($C98=\"\",\"\",SUMIFS('Using CMS - Deviation - Limits'!$I$24:$I$5800,'Using CMS - Deviation - Limits'!$B$24:$B$5800,B98,'Using CMS - Deviation - Limits'!$C$24:$C$5800,C98,'Using CMS - Deviation - Limits'!$J$24:$J$5800,\"Other Unknown Causes\"))","v":""}]
[null,{"$f":"IF(Lists!BC77=\"\",\"\",Lists!BC77)","v":""},{"$f":"IF(Lists!BD77=\"\",\"\",Lists!BD77)","v":""},null,{"$f":"IF(C99=\"\",\"\",SUMIFS('Using CMS - Deviation - Limits'!$I$24:$I$5400,'Using CMS - Deviation - Limits'!$B$24:$B$5400,B99,'Using CMS - Deviation - Limits'!$C$24:$C$5400,C99))","v":""},"",{"$f":"IF($C99=\"\",\"\",SUMIFS('Using CMS - Deviation - Limits'!$I$24:$I$5800,'Using CMS - Deviation - Limits'!$B$24:$B$5800,B99,'Using CMS - Deviation - Limits'!$C$24:$C$5800,C99,'Using CMS - Deviation - Limits'!$D$24:$D$5800,\"Startup\"))","v":""},{"$f":"IF($C99=\"\",\"\",SUMIFS('Using CMS - Deviation - Limits'!$I$24:$I$5800,'Using CMS - Deviation - Limits'!$B$24:$B$5800,B99,'Using CMS - Deviation - Limits'!$C$24:$C$5800,C99,'Using CMS - Deviation - Limits'!$D$24:$D$5800,\"Shutdown\"))","v":""},{"$f":"IF($C99=\"\",\"\",SUMIFS('Using CMS - Deviation - Limits'!$I$24:$I$5800,'Using CMS - Deviation - Limits'!$B$24:$B$5800,B99,'Using CMS - Deviation - Limits'!$C$24:$C$5800,C99,'Using CMS - Deviation - Limits'!$J$24:$J$5800,\"Control Equipment Problems\"))","v":""},{"$f":"IF($C99=\"\",\"\",SUMIFS('Using CMS - Deviation - Limits'!$I$24:$I$5800,'Using CMS - Deviation - Limits'!$B$24:$B$5800,B99,'Using CMS - Deviation - Limits'!$C$24:$C$5800,C99,'Using CMS - Deviation - Limits'!$J$24:$J$5800,\"Process Problems\"))","v":""},{"$f":"IF($C99=\"\",\"\",SUMIFS('Using CMS - Deviation - Limits'!$I$24:$I$5800,'Using CMS - Deviation - Limits'!$B$24:$B$5800,B99,'Using CMS - Deviation - Limits'!$C$24:$C$5800,C99,'Using CMS - Deviation - Limits'!$J$24:$J$5800,\"Other Known Causes\"))","v":""},{"$f":"IF($C99=\"\",\"\",SUMIFS('Using CMS - Deviation - Limits'!$I$24:$I$5800,'Using CMS - Deviation - Limits'!$B$24:$B$5800,B99,'Using CMS - Deviation - Limits'!$C$24:$C$5800,C99,'Using CMS - Deviation - Limits'!$J$24:$J$5800,\"Other Unknown Causes\"))","v":""}]
[null,{"$f":"IF(Lists!BC78=\"\",\"\",Lists!BC78)","v":""},{"$f":"IF(Lists!BD78=\"\",\"\",Lists!BD78)","v":""},null,{"$f":"IF(C100=\"\",\"\",SUMIFS('Using CMS - Deviation - Limits'!$I$24:$I$5400,'Using CMS - Deviation - Limits'!$B$24:$B$5400,B100,'Using CMS - Deviation - Limits'!$C$24:$C$5400,C100))","v":""},"",{"$f":"IF($C100=\"\",\"\",SUMIFS('Using CMS - Deviation - Limits'!$I$24:$I$5800,'Using CMS - Deviation - Limits'!$B$24:$B$5800,B100,'Using CMS - Deviation - Limits'!$C$24:$C$5800,C100,'Using CMS - Deviation - Limits'!$D$24:$D$5800,\"Startup\"))","v":""},{"$f":"IF($C100=\"\",\"\",SUMIFS('Using CMS - Deviation - Limits'!$I$24:$I$5800,'Using CMS - Deviation - Limits'!$B$24:$B$5800,B100,'Using CMS - Deviation - Limits'!$C$24:$C$5800,C100,'Using CMS - Deviation - Limits'!$D$24:$D$5800,\"Shutdown\"))","v":""},{"$f":"IF($C100=\"\",\"\",SUMIFS('Using CMS - Deviation - Limits'!$I$24:$I$5800,'Using CMS - Deviation - Limits'!$B$24:$B$5800,B100,'Using CMS - Deviation - Limits'!$C$24:$C$5800,C100,'Using CMS - Deviation - Limits'!$J$24:$J$5800,\"Control Equipment Problems\"))","v":""},{"$f":"IF($C100=\"\",\"\",SUMIFS('Using CMS - Deviation - Limits'!$I$24:$I$5800,'Using CMS - Deviation - Limits'!$B$24:$B$5800,B100,'Using CMS - Deviation - Limits'!$C$24:$C$5800,C100,'Using CMS - Deviation - Limits'!$J$24:$J$5800,\"Process Problems\"))","v":""},{"$f":"IF($C100=\"\",\"\",SUMIFS('Using CMS - Deviation - Limits'!$I$24:$I$5800,'Using CMS - Deviation - Limits'!$B$24:$B$5800,B100,'Using CMS - Deviation - Limits'!$C$24:$C$5800,C100,'Using CMS - Deviation - Limits'!$J$24:$J$5800,\"Other Known Causes\"))","v":""},{"$f":"IF($C100=\"\",\"\",SUMIFS('Using CMS - Deviation - Limits'!$I$24:$I$5800,'Using CMS - Deviation - Limits'!$B$24:$B$5800,B100,'Using CMS - Deviation - Limits'!$C$24:$C$5800,C100,'Using CMS - Deviation - Limits'!$J$24:$J$5800,\"Other Unknown Causes\"))","v":""}]
[null,{"$f":"IF(E101=\"\",\"\",COUNT($E$24:$E$452)-COUNT(E102:$E$452))","v":""}]
[null,{"$f":"IF(E102=\"\",\"\",COUNT($E$24:$E$452)-COUNT(E103:$E$452))","v":""}]
[null,{"$f":"IF(E103=\"\",\"\",COUNT($E$24:$E$452)-COUNT(E104:$E$452))","v":""}]
[null,{"$f":"IF(E104=\"\",\"\",COUNT($E$24:$E$452)-COUNT(E105:$E$452))","v":""}]
[null,{"$f":"IF(E105=\"\",\"\",COUNT($E$24:$E$452)-COUNT(E106:$E$452))","v":""}]
[null,{"$f":"IF(E106=\"\",\"\",COUNT($E$24:$E$452)-COUNT(E107:$E$452))","v":""}]
[null,{"$f":"IF(E107=\"\",\"\",COUNT($E$24:$E$452)-COUNT(E108:$E$452))","v":""}]
[null,{"$f":"IF(E108=\"\",\"\",COUNT($E$24:$E$452)-COUNT(E109:$E$452))","v":""}]
[null,{"$f":"IF(E109=\"\",\"\",COUNT($E$24:$E$452)-COUNT(E110:$E$452))","v":""}]
[null,{"$f":"IF(E110=\"\",\"\",COUNT($E$24:$E$452)-COUNT(E111:$E$452))","v":""}]
[null,{"$f":"IF(E111=\"\",\"\",COUNT($E$24:$E$452)-COUNT(E112:$E$452))","v":""}]
[null,{"$f":"IF(E112=\"\",\"\",COUNT($E$24:$E$452)-COUNT(E113:$E$452))","v":""}]
[null,{"$f":"IF(E113=\"\",\"\",COUNT($E$24:$E$452)-COUNT(E114:$E$452))","v":""}]
[null,{"$f":"IF(E114=\"\",\"\",COUNT($E$24:$E$452)-COUNT(E115:$E$452))","v":""}]
[null,{"$f":"IF(E115=\"\",\"\",COUNT($E$24:$E$452)-COUNT(E116:$E$452))","v":""}]
[null,{"$f":"IF(E116=\"\",\"\",COUNT($E$24:$E$452)-COUNT(E117:$E$452))","v":""}]
[null,{"$f":"IF(E117=\"\",\"\",COUNT($E$24:$E$452)-COUNT(E118:$E$452))","v":""}]
[null,{"$f":"IF(E118=\"\",\"\",COUNT($E$24:$E$452)-COUNT(E119:$E$452))","v":""}]
[null,{"$f":"IF(E119=\"\",\"\",COUNT($E$24:$E$452)-COUNT(E120:$E$452))","v":""}]
[null,{"$f":"IF(E120=\"\",\"\",COUNT($E$24:$E$452)-COUNT(E121:$E$452))","v":""}]
[null,{"$f":"IF(E121=\"\",\"\",COUNT($E$24:$E$452)-COUNT(E122:$E$452))","v":""}]
[null,{"$f":"IF(E122=\"\",\"\",COUNT($E$24:$E$452)-COUNT(E123:$E$452))","v":""}]
[null,{"$f":"IF(E123=\"\",\"\",COUNT($E$24:$E$452)-COUNT(E124:$E$452))","v":""}]
[null,{"$f":"IF(E124=\"\",\"\",COUNT($E$24:$E$452)-COUNT(E125:$E$452))","v":""}]
[null,{"$f":"IF(E125=\"\",\"\",COUNT($E$24:$E$452)-COUNT(E126:$E$452))","v":""}]
[null,{"$f":"IF(E126=\"\",\"\",COUNT($E$24:$E$452)-COUNT(E127:$E$452))","v":""}]
[null,{"$f":"IF(E127=\"\",\"\",COUNT($E$24:$E$452)-COUNT(E128:$E$452))","v":""}]
[null,{"$f":"IF(E128=\"\",\"\",COUNT($E$24:$E$452)-COUNT(E129:$E$452))","v":""}]
[null,{"$f":"IF(E129=\"\",\"\",COUNT($E$24:$E$452)-COUNT(E130:$E$452))","v":""}]
[null,{"$f":"IF(E130=\"\",\"\",COUNT($E$24:$E$452)-COUNT(E131:$E$452))","v":""}]
[null,{"$f":"IF(E131=\"\",\"\",COUNT($E$24:$E$452)-COUNT(E132:$E$452))","v":""}]
[null,{"$f":"IF(E132=\"\",\"\",COUNT($E$24:$E$452)-COUNT(E133:$E$452))","v":""}]
[null,{"$f":"IF(E133=\"\",\"\",COUNT($E$24:$E$452)-COUNT(E134:$E$452))","v":""}]
[null,{"$f":"IF(E134=\"\",\"\",COUNT($E$24:$E$452)-COUNT(E135:$E$452))","v":""}]
[null,{"$f":"IF(E135=\"\",\"\",COUNT($E$24:$E$452)-COUNT(E136:$E$452))","v":""}]
[null,{"$f":"IF(E136=\"\",\"\",COUNT($E$24:$E$452)-COUNT(E137:$E$452))","v":""}]
[null,{"$f":"IF(E137=\"\",\"\",COUNT($E$24:$E$452)-COUNT(E138:$E$452))","v":""}]
[null,{"$f":"IF(E138=\"\",\"\",COUNT($E$24:$E$452)-COUNT(E139:$E$452))","v":""}]
[null,{"$f":"IF(E139=\"\",\"\",COUNT($E$24:$E$452)-COUNT(E140:$E$452))","v":""}]
[null,{"$f":"IF(E140=\"\",\"\",COUNT($E$24:$E$452)-COUNT(E141:$E$452))","v":""}]
[null,{"$f":"IF(E141=\"\",\"\",COUNT($E$24:$E$452)-COUNT(E142:$E$452))","v":""}]
[null,{"$f":"IF(E142=\"\",\"\",COUNT($E$24:$E$452)-COUNT(E143:$E$452))","v":""}]
[null,{"$f":"IF(E143=\"\",\"\",COUNT($E$24:$E$452)-COUNT(E144:$E$452))","v":""}]
[null,{"$f":"IF(E144=\"\",\"\",COUNT($E$24:$E$452)-COUNT(E145:$E$452))","v":""}]
[null,{"$f":"IF(E145=\"\",\"\",COUNT($E$24:$E$452)-COUNT(E146:$E$452))","v":""}]
[null,{"$f":"IF(E146=\"\",\"\",COUNT($E$24:$E$452)-COUNT(E147:$E$452))","v":""}]
[null,{"$f":"IF(E147=\"\",\"\",COUNT($E$24:$E$452)-COUNT(E148:$E$452))","v":""}]
[null,{"$f":"IF(E148=\"\",\"\",COUNT($E$24:$E$452)-COUNT(E149:$E$452))","v":""}]
[null,{"$f":"IF(E149=\"\",\"\",COUNT($E$24:$E$452)-COUNT(E150:$E$452))","v":""}]
[null,{"$f":"IF(E150=\"\",\"\",COUNT($E$24:$E$452)-COUNT(E151:$E$452))","v":""}]
[null,{"$f":"IF(E151=\"\",\"\",COUNT($E$24:$E$452)-COUNT(E152:$E$452))","v":""}]
[null,{"$f":"IF(E152=\"\",\"\",COUNT($E$24:$E$452)-COUNT(E153:$E$452))","v":""}]
[null,{"$f":"IF(E153=\"\",\"\",COUNT($E$24:$E$452)-COUNT(E154:$E$452))","v":""}]
[null,{"$f":"IF(E154=\"\",\"\",COUNT($E$24:$E$452)-COUNT(E155:$E$452))","v":""}]
[null,{"$f":"IF(E155=\"\",\"\",COUNT($E$24:$E$452)-COUNT(E156:$E$452))","v":""}]
[null,{"$f":"IF(E156=\"\",\"\",COUNT($E$24:$E$452)-COUNT(E157:$E$452))","v":""}]
[null,{"$f":"IF(E157=\"\",\"\",COUNT($E$24:$E$452)-COUNT(E158:$E$452))","v":""}]
[null,{"$f":"IF(E158=\"\",\"\",COUNT($E$24:$E$452)-COUNT(E159:$E$452))","v":""}]
[null,{"$f":"IF(E159=\"\",\"\",COUNT($E$24:$E$452)-COUNT(E160:$E$452))","v":""}]
[null,{"$f":"IF(E160=\"\",\"\",COUNT($E$24:$E$452)-COUNT(E161:$E$452))","v":""}]
[null,{"$f":"IF(E161=\"\",\"\",COUNT($E$24:$E$452)-COUNT(E162:$E$452))","v":""}]
[null,{"$f":"IF(E162=\"\",\"\",COUNT($E$24:$E$452)-COUNT(E163:$E$452))","v":""}]
[null,{"$f":"IF(E163=\"\",\"\",COUNT($E$24:$E$452)-COUNT(E164:$E$452))","v":""}]
[null,{"$f":"IF(E164=\"\",\"\",COUNT($E$24:$E$452)-COUNT(E165:$E$452))","v":""}]
[null,{"$f":"IF(E165=\"\",\"\",COUNT($E$24:$E$452)-COUNT(E166:$E$452))","v":""}]
[null,{"$f":"IF(E166=\"\",\"\",COUNT($E$24:$E$452)-COUNT(E167:$E$452))","v":""}]
[null,{"$f":"IF(E167=\"\",\"\",COUNT($E$24:$E$452)-COUNT(E168:$E$452))","v":""}]
[null,{"$f":"IF(E168=\"\",\"\",COUNT($E$24:$E$452)-COUNT(E169:$E$452))","v":""}]
[null,{"$f":"IF(E169=\"\",\"\",COUNT($E$24:$E$452)-COUNT(E170:$E$452))","v":""}]
[null,{"$f":"IF(E170=\"\",\"\",COUNT($E$24:$E$452)-COUNT(E171:$E$452))","v":""}]
[null,{"$f":"IF(E171=\"\",\"\",COUNT($E$24:$E$452)-COUNT(E172:$E$452))","v":""}]
[null,{"$f":"IF(E172=\"\",\"\",COUNT($E$24:$E$452)-COUNT(E173:$E$452))","v":""}]
[null,{"$f":"IF(E173=\"\",\"\",COUNT($E$24:$E$452)-COUNT(E174:$E$452))","v":""}]
[null,{"$f":"IF(E174=\"\",\"\",COUNT($E$24:$E$452)-COUNT(E175:$E$452))","v":""}]
[null,{"$f":"IF(E175=\"\",\"\",COUNT($E$24:$E$452)-COUNT(E176:$E$452))","v":""}]
[null,{"$f":"IF(E176=\"\",\"\",COUNT($E$24:$E$452)-COUNT(E177:$E$452))","v":""}]
[null,{"$f":"IF(E177=\"\",\"\",COUNT($E$24:$E$452)-COUNT(E178:$E$452))","v":""}]
[null,{"$f":"IF(E178=\"\",\"\",COUNT($E$24:$E$452)-COUNT(E179:$E$452))","v":""}]
[null,{"$f":"IF(E179=\"\",\"\",COUNT($E$24:$E$452)-COUNT(E180:$E$452))","v":""}]
[null,{"$f":"IF(E180=\"\",\"\",COUNT($E$24:$E$452)-COUNT(E181:$E$452))","v":""}]
[null,{"$f":"IF(E181=\"\",\"\",COUNT($E$24:$E$452)-COUNT(E182:$E$452))","v":""}]
[null,{"$f":"IF(E182=\"\",\"\",COUNT($E$24:$E$452)-COUNT(E183:$E$452))","v":""}]
[null,{"$f":"IF(E183=\"\",\"\",COUNT($E$24:$E$452)-COUNT(E184:$E$452))","v":""}]
[null,{"$f":"IF(E184=\"\",\"\",COUNT($E$24:$E$452)-COUNT(E185:$E$452))","v":""}]
[null,{"$f":"IF(E185=\"\",\"\",COUNT($E$24:$E$452)-COUNT(E186:$E$452))","v":""}]
[null,{"$f":"IF(E186=\"\",\"\",COUNT($E$24:$E$452)-COUNT(E187:$E$452))","v":""}]
[null,{"$f":"IF(E187=\"\",\"\",COUNT($E$24:$E$452)-COUNT(E188:$E$452))","v":""}]
[null,{"$f":"IF(E188=\"\",\"\",COUNT($E$24:$E$452)-COUNT(E189:$E$452))","v":""}]
[null,{"$f":"IF(E189=\"\",\"\",COUNT($E$24:$E$452)-COUNT(E190:$E$452))","v":""}]
[null,{"$f":"IF(E190=\"\",\"\",COUNT($E$24:$E$452)-COUNT(E191:$E$452))","v":""}]
[null,{"$f":"IF(E191=\"\",\"\",COUNT($E$24:$E$452)-COUNT(E192:$E$452))","v":""}]
[null,{"$f":"IF(E192=\"\",\"\",COUNT($E$24:$E$452)-COUNT(E193:$E$452))","v":""}]
[null,{"$f":"IF(E193=\"\",\"\",COUNT($E$24:$E$452)-COUNT(E194:$E$452))","v":""}]
[null,{"$f":"IF(E194=\"\",\"\",COUNT($E$24:$E$452)-COUNT(E195:$E$452))","v":""}]
[null,{"$f":"IF(E195=\"\",\"\",COUNT($E$24:$E$452)-COUNT(E196:$E$452))","v":""}]
[null,{"$f":"IF(E196=\"\",\"\",COUNT($E$24:$E$452)-COUNT(E197:$E$452))","v":""}]
[null,{"$f":"IF(E197=\"\",\"\",COUNT($E$24:$E$452)-COUNT(E198:$E$452))","v":""}]
[null,{"$f":"IF(E198=\"\",\"\",COUNT($E$24:$E$452)-COUNT(E199:$E$452))","v":""}]
[null,{"$f":"IF(E199=\"\",\"\",COUNT($E$24:$E$452)-COUNT(E200:$E$452))","v":""}]
[null,{"$f":"IF(E200=\"\",\"\",COUNT($E$24:$E$452)-COUNT(E201:$E$452))","v":""}]
[null,{"$f":"IF(E201=\"\",\"\",COUNT($E$24:$E$452)-COUNT(E202:$E$452))","v":""}]
[null,{"$f":"IF(E202=\"\",\"\",COUNT($E$24:$E$452)-COUNT(E203:$E$452))","v":""}]
[null,{"$f":"IF(E203=\"\",\"\",COUNT($E$24:$E$452)-COUNT(E204:$E$452))","v":""}]
[null,{"$f":"IF(E204=\"\",\"\",COUNT($E$24:$E$452)-COUNT(E205:$E$452))","v":""}]
[null,{"$f":"IF(E205=\"\",\"\",COUNT($E$24:$E$452)-COUNT(E206:$E$452))","v":""}]
[null,{"$f":"IF(E206=\"\",\"\",COUNT($E$24:$E$452)-COUNT(E207:$E$452))","v":""}]
[null,{"$f":"IF(E207=\"\",\"\",COUNT($E$24:$E$452)-COUNT(E208:$E$452))","v":""}]
[null,{"$f":"IF(E208=\"\",\"\",COUNT($E$24:$E$452)-COUNT(E209:$E$452))","v":""}]
[null,{"$f":"IF(E209=\"\",\"\",COUNT($E$24:$E$452)-COUNT(E210:$E$452))","v":""}]
[null,{"$f":"IF(E210=\"\",\"\",COUNT($E$24:$E$452)-COUNT(E211:$E$452))","v":""}]
[null,{"$f":"IF(E211=\"\",\"\",COUNT($E$24:$E$452)-COUNT(E212:$E$452))","v":""}]
[null,{"$f":"IF(E212=\"\",\"\",COUNT($E$24:$E$452)-COUNT(E213:$E$452))","v":""}]
[null,{"$f":"IF(E213=\"\",\"\",COUNT($E$24:$E$452)-COUNT(E214:$E$452))","v":""}]
[null,{"$f":"IF(E214=\"\",\"\",COUNT($E$24:$E$452)-COUNT(E215:$E$452))","v":""}]
[null,{"$f":"IF(E215=\"\",\"\",COUNT($E$24:$E$452)-COUNT(E216:$E$452))","v":""}]
[null,{"$f":"IF(E216=\"\",\"\",COUNT($E$24:$E$452)-COUNT(E217:$E$452))","v":""}]
[null,{"$f":"IF(E217=\"\",\"\",COUNT($E$24:$E$452)-COUNT(E218:$E$452))","v":""}]
[null,{"$f":"IF(E218=\"\",\"\",COUNT($E$24:$E$452)-COUNT(E219:$E$452))","v":""}]
[null,{"$f":"IF(E219=\"\",\"\",COUNT($E$24:$E$452)-COUNT(E220:$E$452))","v":""}]
[null,{"$f":"IF(E220=\"\",\"\",COUNT($E$24:$E$452)-COUNT(E221:$E$452))","v":""}]
[null,{"$f":"IF(E221=\"\",\"\",COUNT($E$24:$E$452)-COUNT(E222:$E$452))","v":""}]
[null,{"$f":"IF(E222=\"\",\"\",COUNT($E$24:$E$452)-COUNT(E223:$E$452))","v":""}]
[null,{"$f":"IF(E223=\"\",\"\",COUNT($E$24:$E$452)-COUNT(E224:$E$452))","v":""}]
[null,{"$f":"IF(E224=\"\",\"\",COUNT($E$24:$E$452)-COUNT(E225:$E$452))","v":""}]
[null,{"$f":"IF(E225=\"\",\"\",COUNT($E$24:$E$452)-COUNT(E226:$E$452))","v":""}]
[null,{"$f":"IF(E226=\"\",\"\",COUNT($E$24:$E$452)-COUNT(E227:$E$452))","v":""}]
[null,{"$f":"IF(E227=\"\",\"\",COUNT($E$24:$E$452)-COUNT(E228:$E$452))","v":""}]
[null,{"$f":"IF(E228=\"\",\"\",COUNT($E$24:$E$452)-COUNT(E229:$E$452))","v":""}]
[null,{"$f":"IF(E229=\"\",\"\",COUNT($E$24:$E$452)-COUNT(E230:$E$452))","v":""}]
[null,{"$f":"IF(E230=\"\",\"\",COUNT($E$24:$E$452)-COUNT(E231:$E$452))","v":""}]
[null,{"$f":"IF(E231=\"\",\"\",COUNT($E$24:$E$452)-COUNT(E232:$E$452))","v":""}]
[null,{"$f":"IF(E232=\"\",\"\",COUNT($E$24:$E$452)-COUNT(E233:$E$452))","v":""}]
[null,{"$f":"IF(E233=\"\",\"\",COUNT($E$24:$E$452)-COUNT(E234:$E$452))","v":""}]
[null,{"$f":"IF(E234=\"\",\"\",COUNT($E$24:$E$452)-COUNT(E235:$E$452))","v":""}]
[null,{"$f":"IF(E235=\"\",\"\",COUNT($E$24:$E$452)-COUNT(E236:$E$452))","v":""}]
[null,{"$f":"IF(E236=\"\",\"\",COUNT($E$24:$E$452)-COUNT(E237:$E$452))","v":""}]
[null,{"$f":"IF(E237=\"\",\"\",COUNT($E$24:$E$452)-COUNT(E238:$E$452))","v":""}]
[null,{"$f":"IF(E238=\"\",\"\",COUNT($E$24:$E$452)-COUNT(E239:$E$452))","v":""}]
[null,{"$f":"IF(E239=\"\",\"\",COUNT($E$24:$E$452)-COUNT(E240:$E$452))","v":""}]
[null,{"$f":"IF(E240=\"\",\"\",COUNT($E$24:$E$452)-COUNT(E241:$E$452))","v":""}]
[null,{"$f":"IF(E241=\"\",\"\",COUNT($E$24:$E$452)-COUNT(E242:$E$452))","v":""}]
[null,{"$f":"IF(E242=\"\",\"\",COUNT($E$24:$E$452)-COUNT(E243:$E$452))","v":""}]
[null,{"$f":"IF(E243=\"\",\"\",COUNT($E$24:$E$452)-COUNT(E244:$E$452))","v":""}]
[null,{"$f":"IF(E244=\"\",\"\",COUNT($E$24:$E$452)-COUNT(E245:$E$452))","v":""}]
[null,{"$f":"IF(E245=\"\",\"\",COUNT($E$24:$E$452)-COUNT(E246:$E$452))","v":""}]
[null,{"$f":"IF(E246=\"\",\"\",COUNT($E$24:$E$452)-COUNT(E247:$E$452))","v":""}]
[null,{"$f":"IF(E247=\"\",\"\",COUNT($E$24:$E$452)-COUNT(E248:$E$452))","v":""}]
[null,{"$f":"IF(E248=\"\",\"\",COUNT($E$24:$E$452)-COUNT(E249:$E$452))","v":""}]
[null,{"$f":"IF(E249=\"\",\"\",COUNT($E$24:$E$452)-COUNT(E250:$E$452))","v":""}]
[null,{"$f":"IF(E250=\"\",\"\",COUNT($E$24:$E$452)-COUNT(E251:$E$452))","v":""}]
[null,{"$f":"IF(E251=\"\",\"\",COUNT($E$24:$E$452)-COUNT(E252:$E$452))","v":""}]
[null,{"$f":"IF(E252=\"\",\"\",COUNT($E$24:$E$452)-COUNT(E253:$E$452))","v":""}]
[null,{"$f":"IF(E253=\"\",\"\",COUNT($E$24:$E$452)-COUNT(E254:$E$452))","v":""}]
[null,{"$f":"IF(E254=\"\",\"\",COUNT($E$24:$E$452)-COUNT(E255:$E$452))","v":""}]
[null,{"$f":"IF(E255=\"\",\"\",COUNT($E$24:$E$452)-COUNT(E256:$E$452))","v":""}]
[null,{"$f":"IF(E256=\"\",\"\",COUNT($E$24:$E$452)-COUNT(E257:$E$452))","v":""}]
[null,{"$f":"IF(E257=\"\",\"\",COUNT($E$24:$E$452)-COUNT(E258:$E$452))","v":""}]
[null,{"$f":"IF(E258=\"\",\"\",COUNT($E$24:$E$452)-COUNT(E259:$E$452))","v":""}]
[null,{"$f":"IF(E259=\"\",\"\",COUNT($E$24:$E$452)-COUNT(E260:$E$452))","v":""}]
[null,{"$f":"IF(E260=\"\",\"\",COUNT($E$24:$E$452)-COUNT(E261:$E$452))","v":""}]
[null,{"$f":"IF(E261=\"\",\"\",COUNT($E$24:$E$452)-COUNT(E262:$E$452))","v":""}]
[null,{"$f":"IF(E262=\"\",\"\",COUNT($E$24:$E$452)-COUNT(E263:$E$452))","v":""}]
[null,{"$f":"IF(E263=\"\",\"\",COUNT($E$24:$E$452)-COUNT(E264:$E$452))","v":""}]
[null,{"$f":"IF(E264=\"\",\"\",COUNT($E$24:$E$452)-COUNT(E265:$E$452))","v":""}]
[null,{"$f":"IF(E265=\"\",\"\",COUNT($E$24:$E$452)-COUNT(E266:$E$452))","v":""}]
[null,{"$f":"IF(E266=\"\",\"\",COUNT($E$24:$E$452)-COUNT(E267:$E$452))","v":""}]
[null,{"$f":"IF(E267=\"\",\"\",COUNT($E$24:$E$452)-COUNT(E268:$E$452))","v":""}]
[null,{"$f":"IF(E268=\"\",\"\",COUNT($E$24:$E$452)-COUNT(E269:$E$452))","v":""}]
[null,{"$f":"IF(E269=\"\",\"\",COUNT($E$24:$E$452)-COUNT(E270:$E$452))","v":""}]
[null,{"$f":"IF(E270=\"\",\"\",COUNT($E$24:$E$452)-COUNT(E271:$E$452))","v":""}]
[null,{"$f":"IF(E271=\"\",\"\",COUNT($E$24:$E$452)-COUNT(E272:$E$452))","v":""}]
[null,{"$f":"IF(E272=\"\",\"\",COUNT($E$24:$E$452)-COUNT(E273:$E$452))","v":""}]
[null,{"$f":"IF(E273=\"\",\"\",COUNT($E$24:$E$452)-COUNT(E274:$E$452))","v":""}]
[null,{"$f":"IF(E274=\"\",\"\",COUNT($E$24:$E$452)-COUNT(E275:$E$452))","v":""}]
[null,{"$f":"IF(E275=\"\",\"\",COUNT($E$24:$E$452)-COUNT(E276:$E$452))","v":""}]
[null,{"$f":"IF(E276=\"\",\"\",COUNT($E$24:$E$452)-COUNT(E277:$E$452))","v":""}]
[null,{"$f":"IF(E277=\"\",\"\",COUNT($E$24:$E$452)-COUNT(E278:$E$452))","v":""}]
[null,{"$f":"IF(E278=\"\",\"\",COUNT($E$24:$E$452)-COUNT(E279:$E$452))","v":""}]
[null,{"$f":"IF(E279=\"\",\"\",COUNT($E$24:$E$452)-COUNT(E280:$E$452))","v":""}]
[null,{"$f":"IF(E280=\"\",\"\",COUNT($E$24:$E$452)-COUNT(E281:$E$452))","v":""}]
[null,{"$f":"IF(E281=\"\",\"\",COUNT($E$24:$E$452)-COUNT(E282:$E$452))","v":""}]
[null,{"$f":"IF(E282=\"\",\"\",COUNT($E$24:$E$452)-COUNT(E283:$E$452))","v":""}]
[null,{"$f":"IF(E283=\"\",\"\",COUNT($E$24:$E$452)-COUNT(E284:$E$452))","v":""}]
[null,{"$f":"IF(E284=\"\",\"\",COUNT($E$24:$E$452)-COUNT(E285:$E$452))","v":""}]
[null,{"$f":"IF(E285=\"\",\"\",COUNT($E$24:$E$452)-COUNT(E286:$E$452))","v":""}]
[null,{"$f":"IF(E286=\"\",\"\",COUNT($E$24:$E$452)-COUNT(E287:$E$452))","v":""}]
[null,{"$f":"IF(E287=\"\",\"\",COUNT($E$24:$E$452)-COUNT(E288:$E$452))","v":""}]
[null,{"$f":"IF(E288=\"\",\"\",COUNT($E$24:$E$452)-COUNT(E289:$E$452))","v":""}]
[null,{"$f":"IF(E289=\"\",\"\",COUNT($E$24:$E$452)-COUNT(E290:$E$452))","v":""}]
[null,{"$f":"IF(E290=\"\",\"\",COUNT($E$24:$E$452)-COUNT(E291:$E$452))","v":""}]
[null,{"$f":"IF(E291=\"\",\"\",COUNT($E$24:$E$452)-COUNT(E292:$E$452))","v":""}]
[null,{"$f":"IF(E292=\"\",\"\",COUNT($E$24:$E$452)-COUNT(E293:$E$452))","v":""}]
[null,{"$f":"IF(E293=\"\",\"\",COUNT($E$24:$E$452)-COUNT(E294:$E$452))","v":""}]
[null,{"$f":"IF(E294=\"\",\"\",COUNT($E$24:$E$452)-COUNT(E295:$E$452))","v":""}]
[null,{"$f":"IF(E295=\"\",\"\",COUNT($E$24:$E$452)-COUNT(E296:$E$452))","v":""}]
[null,{"$f":"IF(E296=\"\",\"\",COUNT($E$24:$E$452)-COUNT(E297:$E$452))","v":""}]
[null,{"$f":"IF(E297=\"\",\"\",COUNT($E$24:$E$452)-COUNT(E298:$E$452))","v":""}]
[null,{"$f":"IF(E298=\"\",\"\",COUNT($E$24:$E$452)-COUNT(E299:$E$452))","v":""}]
[null,{"$f":"IF(E299=\"\",\"\",COUNT($E$24:$E$452)-COUNT(E300:$E$452))","v":""}]
[null,{"$f":"IF(E300=\"\",\"\",COUNT($E$24:$E$452)-COUNT(E301:$E$452))","v":""}]
[null,{"$f":"IF(E301=\"\",\"\",COUNT($E$24:$E$452)-COUNT(E302:$E$452))","v":""}]
[null,{"$f":"IF(E302=\"\",\"\",COUNT($E$24:$E$452)-COUNT(E303:$E$452))","v":""}]
[null,{"$f":"IF(E303=\"\",\"\",COUNT($E$24:$E$452)-COUNT(E304:$E$452))","v":""}]
[null,{"$f":"IF(E304=\"\",\"\",COUNT($E$24:$E$452)-COUNT(E305:$E$452))","v":""}]
[null,{"$f":"IF(E305=\"\",\"\",COUNT($E$24:$E$452)-COUNT(E306:$E$452))","v":""}]
[null,{"$f":"IF(E306=\"\",\"\",COUNT($E$24:$E$452)-COUNT(E307:$E$452))","v":""}]
[null,{"$f":"IF(E307=\"\",\"\",COUNT($E$24:$E$452)-COUNT(E308:$E$452))","v":""}]
[null,{"$f":"IF(E308=\"\",\"\",COUNT($E$24:$E$452)-COUNT(E309:$E$452))","v":""}]
[null,{"$f":"IF(E309=\"\",\"\",COUNT($E$24:$E$452)-COUNT(E310:$E$452))","v":""}]
[null,{"$f":"IF(E310=\"\",\"\",COUNT($E$24:$E$452)-COUNT(E311:$E$452))","v":""}]
[null,{"$f":"IF(E311=\"\",\"\",COUNT($E$24:$E$452)-COUNT(E312:$E$452))","v":""}]
[null,{"$f":"IF(E312=\"\",\"\",COUNT($E$24:$E$452)-COUNT(E313:$E$452))","v":""}]
[null,{"$f":"IF(E313=\"\",\"\",COUNT($E$24:$E$452)-COUNT(E314:$E$452))","v":""}]
[null,{"$f":"IF(E314=\"\",\"\",COUNT($E$24:$E$452)-COUNT(E315:$E$452))","v":""}]
[null,{"$f":"IF(E315=\"\",\"\",COUNT($E$24:$E$452)-COUNT(E316:$E$452))","v":""}]
[null,{"$f":"IF(E316=\"\",\"\",COUNT($E$24:$E$452)-COUNT(E317:$E$452))","v":""}]
[null,{"$f":"IF(E317=\"\",\"\",COUNT($E$24:$E$452)-COUNT(E318:$E$452))","v":""}]
[null,{"$f":"IF(E318=\"\",\"\",COUNT($E$24:$E$452)-COUNT(E319:$E$452))","v":""}]
[null,{"$f":"IF(E319=\"\",\"\",COUNT($E$24:$E$452)-COUNT(E320:$E$452))","v":""}]
[null,{"$f":"IF(E320=\"\",\"\",COUNT($E$24:$E$452)-COUNT(E321:$E$452))","v":""}]
[null,{"$f":"IF(E321=\"\",\"\",COUNT($E$24:$E$452)-COUNT(E322:$E$452))","v":""}]
[null,{"$f":"IF(E322=\"\",\"\",COUNT($E$24:$E$452)-COUNT(E323:$E$452))","v":""}]
[null,{"$f":"IF(E323=\"\",\"\",COUNT($E$24:$E$452)-COUNT(E324:$E$452))","v":""}]
[null,{"$f":"IF(E324=\"\",\"\",COUNT($E$24:$E$452)-COUNT(E325:$E$452))","v":""}]
[null,{"$f":"IF(E325=\"\",\"\",COUNT($E$24:$E$452)-COUNT(E326:$E$452))","v":""}]
[null,{"$f":"IF(E326=\"\",\"\",COUNT($E$24:$E$452)-COUNT(E327:$E$452))","v":""}]
[null,{"$f":"IF(E327=\"\",\"\",COUNT($E$24:$E$452)-COUNT(E328:$E$452))","v":""}]
[null,{"$f":"IF(E328=\"\",\"\",COUNT($E$24:$E$452)-COUNT(E329:$E$452))","v":""}]
[null,{"$f":"IF(E329=\"\",\"\",COUNT($E$24:$E$452)-COUNT(E330:$E$452))","v":""}]
[null,{"$f":"IF(E330=\"\",\"\",COUNT($E$24:$E$452)-COUNT(E331:$E$452))","v":""}]
[null,{"$f":"IF(E331=\"\",\"\",COUNT($E$24:$E$452)-COUNT(E332:$E$452))","v":""}]
[null,{"$f":"IF(E332=\"\",\"\",COUNT($E$24:$E$452)-COUNT(E333:$E$452))","v":""}]
[null,{"$f":"IF(E333=\"\",\"\",COUNT($E$24:$E$452)-COUNT(E334:$E$452))","v":""}]
[null,{"$f":"IF(E334=\"\",\"\",COUNT($E$24:$E$452)-COUNT(E335:$E$452))","v":""}]
[null,{"$f":"IF(E335=\"\",\"\",COUNT($E$24:$E$452)-COUNT(E336:$E$452))","v":""}]
[null,{"$f":"IF(E336=\"\",\"\",COUNT($E$24:$E$452)-COUNT(E337:$E$452))","v":""}]
[null,{"$f":"IF(E337=\"\",\"\",COUNT($E$24:$E$452)-COUNT(E338:$E$452))","v":""}]
[null,{"$f":"IF(E338=\"\",\"\",COUNT($E$24:$E$452)-COUNT(E339:$E$452))","v":""}]
[null,{"$f":"IF(E339=\"\",\"\",COUNT($E$24:$E$452)-COUNT(E340:$E$452))","v":""}]
[null,{"$f":"IF(E340=\"\",\"\",COUNT($E$24:$E$452)-COUNT(E341:$E$452))","v":""}]
[null,{"$f":"IF(E341=\"\",\"\",COUNT($E$24:$E$452)-COUNT(E342:$E$452))","v":""}]
[null,{"$f":"IF(E342=\"\",\"\",COUNT($E$24:$E$452)-COUNT(E343:$E$452))","v":""}]
[null,{"$f":"IF(E343=\"\",\"\",COUNT($E$24:$E$452)-COUNT(E344:$E$452))","v":""}]
[null,{"$f":"IF(E344=\"\",\"\",COUNT($E$24:$E$452)-COUNT(E345:$E$452))","v":""}]
[null,{"$f":"IF(E345=\"\",\"\",COUNT($E$24:$E$452)-COUNT(E346:$E$452))","v":""}]
[null,{"$f":"IF(E346=\"\",\"\",COUNT($E$24:$E$452)-COUNT(E347:$E$452))","v":""}]
[null,{"$f":"IF(E347=\"\",\"\",COUNT($E$24:$E$452)-COUNT(E348:$E$452))","v":""}]
[null,{"$f":"IF(E348=\"\",\"\",COUNT($E$24:$E$452)-COUNT(E349:$E$452))","v":""}]
[null,{"$f":"IF(E349=\"\",\"\",COUNT($E$24:$E$452)-COUNT(E350:$E$452))","v":""}]
[null,{"$f":"IF(E350=\"\",\"\",COUNT($E$24:$E$452)-COUNT(E351:$E$452))","v":""}]
[null,{"$f":"IF(E351=\"\",\"\",COUNT($E$24:$E$452)-COUNT(E352:$E$452))","v":""}]
[null,{"$f":"IF(E352=\"\",\"\",COUNT($E$24:$E$452)-COUNT(E353:$E$452))","v":""}]
[null,{"$f":"IF(E353=\"\",\"\",COUNT($E$24:$E$452)-COUNT(E354:$E$452))","v":""}]
[null,{"$f":"IF(E354=\"\",\"\",COUNT($E$24:$E$452)-COUNT(E355:$E$452))","v":""}]
[null,{"$f":"IF(E355=\"\",\"\",COUNT($E$24:$E$452)-COUNT(E356:$E$452))","v":""}]
[null,{"$f":"IF(E356=\"\",\"\",COUNT($E$24:$E$452)-COUNT(E357:$E$452))","v":""}]
[null,{"$f":"IF(E357=\"\",\"\",COUNT($E$24:$E$452)-COUNT(E358:$E$452))","v":""}]
[null,{"$f":"IF(E358=\"\",\"\",COUNT($E$24:$E$452)-COUNT(E359:$E$452))","v":""}]
[null,{"$f":"IF(E359=\"\",\"\",COUNT($E$24:$E$452)-COUNT(E360:$E$452))","v":""}]
[null,{"$f":"IF(E360=\"\",\"\",COUNT($E$24:$E$452)-COUNT(E361:$E$452))","v":""}]
[null,{"$f":"IF(E361=\"\",\"\",COUNT($E$24:$E$452)-COUNT(E362:$E$452))","v":""}]
[null,{"$f":"IF(E362=\"\",\"\",COUNT($E$24:$E$452)-COUNT(E363:$E$452))","v":""}]
[null,{"$f":"IF(E363=\"\",\"\",COUNT($E$24:$E$452)-COUNT(E364:$E$452))","v":""}]
[null,{"$f":"IF(E364=\"\",\"\",COUNT($E$24:$E$452)-COUNT(E365:$E$452))","v":""}]
[null,{"$f":"IF(E365=\"\",\"\",COUNT($E$24:$E$452)-COUNT(E366:$E$452))","v":""}]
[null,{"$f":"IF(E366=\"\",\"\",COUNT($E$24:$E$452)-COUNT(E367:$E$452))","v":""}]
[null,{"$f":"IF(E367=\"\",\"\",COUNT($E$24:$E$452)-COUNT(E368:$E$452))","v":""}]
[null,{"$f":"IF(E368=\"\",\"\",COUNT($E$24:$E$452)-COUNT(E369:$E$452))","v":""}]
[null,{"$f":"IF(E369=\"\",\"\",COUNT($E$24:$E$452)-COUNT(E370:$E$452))","v":""}]
[null,{"$f":"IF(E370=\"\",\"\",COUNT($E$24:$E$452)-COUNT(E371:$E$452))","v":""}]
[null,{"$f":"IF(E371=\"\",\"\",COUNT($E$24:$E$452)-COUNT(E372:$E$452))","v":""}]
[null,{"$f":"IF(E372=\"\",\"\",COUNT($E$24:$E$452)-COUNT(E373:$E$452))","v":""}]
[null,{"$f":"IF(E373=\"\",\"\",COUNT($E$24:$E$452)-COUNT(E374:$E$452))","v":""}]
[null,{"$f":"IF(E374=\"\",\"\",COUNT($E$24:$E$452)-COUNT(E375:$E$452))","v":""}]
[null,{"$f":"IF(E375=\"\",\"\",COUNT($E$24:$E$452)-COUNT(E376:$E$452))","v":""}]
[null,{"$f":"IF(E376=\"\",\"\",COUNT($E$24:$E$452)-COUNT(E377:$E$452))","v":""}]
[null,{"$f":"IF(E377=\"\",\"\",COUNT($E$24:$E$452)-COUNT(E378:$E$452))","v":""}]
[null,{"$f":"IF(E378=\"\",\"\",COUNT($E$24:$E$452)-COUNT(E379:$E$452))","v":""}]
[null,{"$f":"IF(E379=\"\",\"\",COUNT($E$24:$E$452)-COUNT(E380:$E$452))","v":""}]
[null,{"$f":"IF(E380=\"\",\"\",COUNT($E$24:$E$452)-COUNT(E381:$E$452))","v":""}]
[null,{"$f":"IF(E381=\"\",\"\",COUNT($E$24:$E$452)-COUNT(E382:$E$452))","v":""}]
[null,{"$f":"IF(E382=\"\",\"\",COUNT($E$24:$E$452)-COUNT(E383:$E$452))","v":""}]
[null,{"$f":"IF(E383=\"\",\"\",COUNT($E$24:$E$452)-COUNT(E384:$E$452))","v":""}]
[null,{"$f":"IF(E384=\"\",\"\",COUNT($E$24:$E$452)-COUNT(E385:$E$452))","v":""}]
[null,{"$f":"IF(E385=\"\",\"\",COUNT($E$24:$E$452)-COUNT(E386:$E$452))","v":""}]
[null,{"$f":"IF(E386=\"\",\"\",COUNT($E$24:$E$452)-COUNT(E387:$E$452))","v":""}]
[null,{"$f":"IF(E387=\"\",\"\",COUNT($E$24:$E$452)-COUNT(E388:$E$452))","v":""}]
[null,{"$f":"IF(E388=\"\",\"\",COUNT($E$24:$E$452)-COUNT(E389:$E$452))","v":""}]
[null,{"$f":"IF(E389=\"\",\"\",COUNT($E$24:$E$452)-COUNT(E390:$E$452))","v":""}]
[null,{"$f":"IF(E390=\"\",\"\",COUNT($E$24:$E$452)-COUNT(E391:$E$452))","v":""}]
[null,{"$f":"IF(E391=\"\",\"\",COUNT($E$24:$E$452)-COUNT(E392:$E$452))","v":""}]
[null,{"$f":"IF(E392=\"\",\"\",COUNT($E$24:$E$452)-COUNT(E393:$E$452))","v":""}]
[null,{"$f":"IF(E393=\"\",\"\",COUNT($E$24:$E$452)-COUNT(E394:$E$452))","v":""}]
[null,{"$f":"IF(E394=\"\",\"\",COUNT($E$24:$E$452)-COUNT(E395:$E$452))","v":""}]
[null,{"$f":"IF(E395=\"\",\"\",COUNT($E$24:$E$452)-COUNT(E396:$E$452))","v":""}]
[null,{"$f":"IF(E396=\"\",\"\",COUNT($E$24:$E$452)-COUNT(E397:$E$452))","v":""}]
[null,{"$f":"IF(E397=\"\",\"\",COUNT($E$24:$E$452)-COUNT(E398:$E$452))","v":""}]
[null,{"$f":"IF(E398=\"\",\"\",COUNT($E$24:$E$452)-COUNT(E399:$E$452))","v":""}]
[null,{"$f":"IF(E399=\"\",\"\",COUNT($E$24:$E$452)-COUNT(E400:$E$452))","v":""}]
[null,{"$f":"IF(E400=\"\",\"\",COUNT($E$24:$E$452)-COUNT(E401:$E$452))","v":""}]
[null,{"$f":"IF(E401=\"\",\"\",COUNT($E$24:$E$452)-COUNT(E402:$E$452))","v":""}]
[null,{"$f":"IF(E402=\"\",\"\",COUNT($E$24:$E$452)-COUNT(E403:$E$452))","v":""}]
[null,{"$f":"IF(E403=\"\",\"\",COUNT($E$24:$E$452)-COUNT(E404:$E$452))","v":""}]
[null,{"$f":"IF(E404=\"\",\"\",COUNT($E$24:$E$452)-COUNT(E405:$E$452))","v":""}]
[null,{"$f":"IF(E405=\"\",\"\",COUNT($E$24:$E$452)-COUNT(E406:$E$452))","v":""}]
[null,{"$f":"IF(E406=\"\",\"\",COUNT($E$24:$E$452)-COUNT(E407:$E$452))","v":""}]
[null,{"$f":"IF(E407=\"\",\"\",COUNT($E$24:$E$452)-COUNT(E408:$E$452))","v":""}]
[null,{"$f":"IF(E408=\"\",\"\",COUNT($E$24:$E$452)-COUNT(E409:$E$452))","v":""}]
[null,{"$f":"IF(E409=\"\",\"\",COUNT($E$24:$E$452)-COUNT(E410:$E$452))","v":""}]
[null,{"$f":"IF(E410=\"\",\"\",COUNT($E$24:$E$452)-COUNT(E411:$E$452))","v":""}]
[null,{"$f":"IF(E411=\"\",\"\",COUNT($E$24:$E$452)-COUNT(E412:$E$452))","v":""}]
[null,{"$f":"IF(E412=\"\",\"\",COUNT($E$24:$E$452)-COUNT(E413:$E$452))","v":""}]
[null,{"$f":"IF(E413=\"\",\"\",COUNT($E$24:$E$452)-COUNT(E414:$E$452))","v":""}]
[null,{"$f":"IF(E414=\"\",\"\",COUNT($E$24:$E$452)-COUNT(E415:$E$452))","v":""}]
[null,{"$f":"IF(E415=\"\",\"\",COUNT($E$24:$E$452)-COUNT(E416:$E$452))","v":""}]
[null,{"$f":"IF(E416=\"\",\"\",COUNT($E$24:$E$452)-COUNT(E417:$E$452))","v":""}]
[null,{"$f":"IF(E417=\"\",\"\",COUNT($E$24:$E$452)-COUNT(E418:$E$452))","v":""}]
[null,{"$f":"IF(E418=\"\",\"\",COUNT($E$24:$E$452)-COUNT(E419:$E$452))","v":""}]
[null,{"$f":"IF(E419=\"\",\"\",COUNT($E$24:$E$452)-COUNT(E420:$E$452))","v":""}]
[null,{"$f":"IF(E420=\"\",\"\",COUNT($E$24:$E$452)-COUNT(E421:$E$452))","v":""}]
[null,{"$f":"IF(E421=\"\",\"\",COUNT($E$24:$E$452)-COUNT(E422:$E$452))","v":""}]
[null,{"$f":"IF(E422=\"\",\"\",COUNT($E$24:$E$452)-COUNT(E423:$E$452))","v":""}]
[null,{"$f":"IF(E423=\"\",\"\",COUNT($E$24:$E$452)-COUNT(E424:$E$452))","v":""}]
[null,{"$f":"IF(E424=\"\",\"\",COUNT($E$24:$E$452)-COUNT(E425:$E$452))","v":""}]
[null,{"$f":"IF(E425=\"\",\"\",COUNT($E$24:$E$452)-COUNT(E426:$E$452))","v":""}]
[null,{"$f":"IF(E426=\"\",\"\",COUNT($E$24:$E$452)-COUNT(E427:$E$452))","v":""}]
[null,{"$f":"IF(E427=\"\",\"\",COUNT($E$24:$E$452)-COUNT(E428:$E$452))","v":""}]
[null,{"$f":"IF(E428=\"\",\"\",COUNT($E$24:$E$452)-COUNT(E429:$E$452))","v":""}]
[null,{"$f":"IF(E429=\"\",\"\",COUNT($E$24:$E$452)-COUNT(E430:$E$452))","v":""}]
[null,{"$f":"IF(E430=\"\",\"\",COUNT($E$24:$E$452)-COUNT(E431:$E$452))","v":""}]
[null,{"$f":"IF(E431=\"\",\"\",COUNT($E$24:$E$452)-COUNT(E432:$E$452))","v":""}]
[null,{"$f":"IF(E432=\"\",\"\",COUNT($E$24:$E$452)-COUNT(E433:$E$452))","v":""}]
[null,{"$f":"IF(E433=\"\",\"\",COUNT($E$24:$E$452)-COUNT(E434:$E$452))","v":""}]
[null,{"$f":"IF(E434=\"\",\"\",COUNT($E$24:$E$452)-COUNT(E435:$E$452))","v":""}]
[null,{"$f":"IF(E435=\"\",\"\",COUNT($E$24:$E$452)-COUNT(E436:$E$452))","v":""}]
[null,{"$f":"IF(E436=\"\",\"\",COUNT($E$24:$E$452)-COUNT(E437:$E$452))","v":""}]
[null,{"$f":"IF(E437=\"\",\"\",COUNT($E$24:$E$452)-COUNT(E438:$E$452))","v":""}]
[null,{"$f":"IF(E438=\"\",\"\",COUNT($E$24:$E$452)-COUNT(E439:$E$452))","v":""}]
[null,{"$f":"IF(E439=\"\",\"\",COUNT($E$24:$E$452)-COUNT(E440:$E$452))","v":""}]
[null,{"$f":"IF(E440=\"\",\"\",COUNT($E$24:$E$452)-COUNT(E441:$E$452))","v":""}]
[null,{"$f":"IF(E441=\"\",\"\",COUNT($E$24:$E$452)-COUNT(E442:$E$452))","v":""}]
[null,{"$f":"IF(E442=\"\",\"\",COUNT($E$24:$E$452)-COUNT(E443:$E$452))","v":""}]
[null,{"$f":"IF(E443=\"\",\"\",COUNT($E$24:$E$452)-COUNT(E444:$E$452))","v":""}]
[null,{"$f":"IF(E444=\"\",\"\",COUNT($E$24:$E$452)-COUNT(E445:$E$452))","v":""}]
[null,{"$f":"IF(E445=\"\",\"\",COUNT($E$24:$E$452)-COUNT(E446:$E$452))","v":""}]
[null,{"$f":"IF(E446=\"\",\"\",COUNT($E$24:$E$452)-COUNT(E447:$E$452))","v":""}]
[null,{"$f":"IF(E447=\"\",\"\",COUNT($E$24:$E$452)-COUNT(E448:$E$452))","v":""}]
[null,{"$f":"IF(E448=\"\",\"\",COUNT($E$24:$E$452)-COUNT(E449:$E$452))","v":""}]
[null,{"$f":"IF(E449=\"\",\"\",COUNT($E$24:$E$452)-COUNT(E450:$E$452))","v":""}]
[null,{"$f":"IF(E450=\"\",\"\",COUNT($E$24:$E$452)-COUNT(E451:$E$452))","v":""}]
[null,{"$f":"IF(E451=\"\",\"\",COUNT($E$24:$E$452)-COUNT(E$452:$E452))","v":""}]
[null,{"$f":"IF(E452=\"\",\"\",COUNT($E$24:$E$452)-COUNT(E$452:$E453))","v":""}]
[null,{"$f":"IF(E453=\"\",\"\",COUNT($E$24:$E$452)-COUNT(E$452:$E454))","v":""}]
[null,{"$f":"IF(E454=\"\",\"\",COUNT($E$24:$E$452)-COUNT(E$452:$E455))","v":""}]
[null,{"$f":"IF(E455=\"\",\"\",COUNT($E$24:$E$452)-COUNT(E$452:$E456))","v":""}]
[null,{"$f":"IF(E456=\"\",\"\",COUNT($E$24:$E$452)-COUNT(E$452:$E457))","v":""}]
[null,{"$f":"IF(E457=\"\",\"\",COUNT($E$24:$E$452)-COUNT(E$452:$E458))","v":""}]
[null,{"$f":"IF(E458=\"\",\"\",COUNT($E$24:$E$452)-COUNT(E$452:$E459))","v":""}]
[null,{"$f":"IF(E459=\"\",\"\",COUNT($E$24:$E$452)-COUNT(E$452:$E460))","v":""}]
[null,{"$f":"IF(E460=\"\",\"\",COUNT($E$24:$E$452)-COUNT(E$452:$E461))","v":""}]
[null,{"$f":"IF(E461=\"\",\"\",COUNT($E$24:$E$452)-COUNT(E$452:$E462))","v":""}]
[null,{"$f":"IF(E462=\"\",\"\",COUNT($E$24:$E$452)-COUNT(E$452:$E463))","v":""}]
[null,{"$f":"IF(E463=\"\",\"\",COUNT($E$24:$E$452)-COUNT(E$452:$E464))","v":""}]
[null,{"$f":"IF(E464=\"\",\"\",COUNT($E$24:$E$452)-COUNT(E$452:$E465))","v":""}]
[null,{"$f":"IF(E465=\"\",\"\",COUNT($E$24:$E$452)-COUNT(E$452:$E466))","v":""}]
[null,{"$f":"IF(E466=\"\",\"\",COUNT($E$24:$E$452)-COUNT(E$452:$E467))","v":""}]
[null,{"$f":"IF(E467=\"\",\"\",COUNT($E$24:$E$452)-COUNT(E$452:$E468))","v":""}]
[null,{"$f":"IF(E468=\"\",\"\",COUNT($E$24:$E$452)-COUNT(E$452:$E469))","v":""}]
[null,{"$f":"IF(E469=\"\",\"\",COUNT($E$24:$E$452)-COUNT(E$452:$E470))","v":""}]
[null,{"$f":"IF(E470=\"\",\"\",COUNT($E$24:$E$452)-COUNT(E$452:$E471))","v":""}]
[null,{"$f":"IF(E471=\"\",\"\",COUNT($E$24:$E$452)-COUNT(E$452:$E472))","v":""}]
[null,{"$f":"IF(E472=\"\",\"\",COUNT($E$24:$E$452)-COUNT(E$452:$E473))","v":""}]
[null,{"$f":"IF(E473=\"\",\"\",COUNT($E$24:$E$452)-COUNT(E$452:$E474))","v":""}]
[null,{"$f":"IF(E474=\"\",\"\",COUNT($E$24:$E$452)-COUNT(E$452:$E475))","v":""}]
[null,{"$f":"IF(E475=\"\",\"\",COUNT($E$24:$E$452)-COUNT(E$452:$E476))","v":""}]
[null,{"$f":"IF(E476=\"\",\"\",COUNT($E$24:$E$452)-COUNT(E$452:$E477))","v":""}]
[null,{"$f":"IF(E477=\"\",\"\",COUNT($E$24:$E$452)-COUNT(E$452:$E478))","v":""}]
[null,{"$f":"IF(E478=\"\",\"\",COUNT($E$24:$E$452)-COUNT(E$452:$E479))","v":""}]
[null,{"$f":"IF(E479=\"\",\"\",COUNT($E$24:$E$452)-COUNT(E$452:$E480))","v":""}]
[null,{"$f":"IF(E480=\"\",\"\",COUNT($E$24:$E$452)-COUNT(E$452:$E481))","v":""}]
[null,{"$f":"IF(E481=\"\",\"\",COUNT($E$24:$E$452)-COUNT(E$452:$E482))","v":""}]
[null,{"$f":"IF(E482=\"\",\"\",COUNT($E$24:$E$452)-COUNT(E$452:$E483))","v":""}]
[null,{"$f":"IF(E483=\"\",\"\",COUNT($E$24:$E$452)-COUNT(E$452:$E484))","v":""}]
[null,{"$f":"IF(E484=\"\",\"\",COUNT($E$24:$E$452)-COUNT(E$452:$E485))","v":""}]
[null,{"$f":"IF(E485=\"\",\"\",COUNT($E$24:$E$452)-COUNT(E$452:$E486))","v":""}]
[null,{"$f":"IF(E486=\"\",\"\",COUNT($E$24:$E$452)-COUNT(E$452:$E487))","v":""}]
[null,{"$f":"IF(E487=\"\",\"\",COUNT($E$24:$E$452)-COUNT(E$452:$E488))","v":""}]
[null,{"$f":"IF(E488=\"\",\"\",COUNT($E$24:$E$452)-COUNT(E$452:$E489))","v":""}]
[null,{"$f":"IF(E489=\"\",\"\",COUNT($E$24:$E$452)-COUNT(E$452:$E490))","v":""}]
[null,{"$f":"IF(E490=\"\",\"\",COUNT($E$24:$E$452)-COUNT(E$452:$E491))","v":""}]
[null,{"$f":"IF(E491=\"\",\"\",COUNT($E$24:$E$452)-COUNT(E$452:$E492))","v":""}]
[null,{"$f":"IF(E492=\"\",\"\",COUNT($E$24:$E$452)-COUNT(E$452:$E493))","v":""}]
[null,{"$f":"IF(E493=\"\",\"\",COUNT($E$24:$E$452)-COUNT(E$452:$E494))","v":""}]
[null,{"$f":"IF(E494=\"\",\"\",COUNT($E$24:$E$452)-COUNT(E$452:$E495))","v":""}]
[null,{"$f":"IF(E495=\"\",\"\",COUNT($E$24:$E$452)-COUNT(E$452:$E496))","v":""}]
[null,{"$f":"IF(E496=\"\",\"\",COUNT($E$24:$E$452)-COUNT(E$452:$E497))","v":""}]
[null,{"$f":"IF(E497=\"\",\"\",COUNT($E$24:$E$452)-COUNT(E$452:$E498))","v":""}]
[null,{"$f":"IF(E498=\"\",\"\",COUNT($E$24:$E$452)-COUNT(E$452:$E499))","v":""}]
[null,{"$f":"IF(E499=\"\",\"\",COUNT($E$24:$E$452)-COUNT(E$452:$E500))","v":""}]
[null,{"$f":"IF(E500=\"\",\"\",COUNT($E$24:$E$452)-COUNT(E$452:$E501))","v":""}]
[null,{"$f":"IF(E501=\"\",\"\",COUNT($E$24:$E$452)-COUNT(E$452:$E502))","v":""}]
[null,{"$f":"IF(E502=\"\",\"\",COUNT($E$24:$E$452)-COUNT(E$452:$E503))","v":""}]
[null,{"$f":"IF(E503=\"\",\"\",COUNT($E$24:$E$452)-COUNT(E$452:$E504))","v":""}]
[null,{"$f":"IF(E504=\"\",\"\",COUNT($E$24:$E$452)-COUNT(E$452:$E505))","v":""}]
[null,{"$f":"IF(E505=\"\",\"\",COUNT($E$24:$E$452)-COUNT(E$452:$E506))","v":""}]
[null,{"$f":"IF(E506=\"\",\"\",COUNT($E$24:$E$452)-COUNT(E$452:$E507))","v":""}]
[null,{"$f":"IF(E507=\"\",\"\",COUNT($E$24:$E$452)-COUNT(E$452:$E508))","v":""}]
[null,{"$f":"IF(E508=\"\",\"\",COUNT($E$24:$E$452)-COUNT(E$452:$E509))","v":""}]
[null,{"$f":"IF(E509=\"\",\"\",COUNT($E$24:$E$452)-COUNT(E$452:$E510))","v":""}]
[null,{"$f":"IF(E510=\"\",\"\",COUNT($E$24:$E$452)-COUNT(E$452:$E511))","v":""}]
[null,{"$f":"IF(E511=\"\",\"\",COUNT($E$24:$E$452)-COUNT(E$452:$E512))","v":""}]
[null,{"$f":"IF(E512=\"\",\"\",COUNT($E$24:$E$452)-COUNT(E$452:$E513))","v":""}]
[null,{"$f":"IF(E513=\"\",\"\",COUNT($E$24:$E$452)-COUNT(E$452:$E514))","v":""}]
[null,{"$f":"IF(E514=\"\",\"\",COUNT($E$24:$E$452)-COUNT(E$452:$E515))","v":""}]
[null,{"$f":"IF(E515=\"\",\"\",COUNT($E$24:$E$452)-COUNT(E$452:$E516))","v":""}]
[null,{"$f":"IF(E516=\"\",\"\",COUNT($E$24:$E$452)-COUNT(E$452:$E517))","v":""}]
[null,{"$f":"IF(E517=\"\",\"\",COUNT($E$24:$E$452)-COUNT(E$452:$E518))","v":""}]
[null,{"$f":"IF(E518=\"\",\"\",COUNT($E$24:$E$452)-COUNT(E$452:$E519))","v":""}]
[null,{"$f":"IF(E519=\"\",\"\",COUNT($E$24:$E$452)-COUNT(E$452:$E520))","v":""}]
[null,{"$f":"IF(E520=\"\",\"\",COUNT($E$24:$E$452)-COUNT(E$452:$E521))","v":""}]
[null,{"$f":"IF(E521=\"\",\"\",COUNT($E$24:$E$452)-COUNT(E$452:$E522))","v":""}]
[null,{"$f":"IF(E522=\"\",\"\",COUNT($E$24:$E$452)-COUNT(E$452:$E523))","v":""}]
[null,{"$f":"IF(E523=\"\",\"\",COUNT($E$24:$E$452)-COUNT(E$452:$E524))","v":""}]
[null,{"$f":"IF(E524=\"\",\"\",COUNT($E$24:$E$452)-COUNT(E$452:$E525))","v":""}]
[null,{"$f":"IF(E525=\"\",\"\",COUNT($E$24:$E$452)-COUNT(E$452:$E526))","v":""}]
[null,{"$f":"IF(E526=\"\",\"\",COUNT($E$24:$E$452)-COUNT(E$452:$E527))","v":""}]
[null,{"$f":"IF(E527=\"\",\"\",COUNT($E$24:$E$452)-COUNT(E$452:$E528))","v":""}]
[null,{"$f":"IF(E528=\"\",\"\",COUNT($E$24:$E$452)-COUNT(E$452:$E529))","v":""}]
[null,{"$f":"IF(E529=\"\",\"\",COUNT($E$24:$E$452)-COUNT(E$452:$E530))","v":""}]
[null,{"$f":"IF(E530=\"\",\"\",COUNT($E$24:$E$452)-COUNT(E$452:$E531))","v":""}]
[null,{"$f":"IF(E531=\"\",\"\",COUNT($E$24:$E$452)-COUNT(E$452:$E532))","v":""}]
[null,{"$f":"IF(E532=\"\",\"\",COUNT($E$24:$E$452)-COUNT(E$452:$E533))","v":""}]
[null,{"$f":"IF(E533=\"\",\"\",COUNT($E$24:$E$452)-COUNT(E$452:$E534))","v":""}]
[null,{"$f":"IF(E534=\"\",\"\",COUNT($E$24:$E$452)-COUNT(E$452:$E535))","v":""}]
[null,{"$f":"IF(E535=\"\",\"\",COUNT($E$24:$E$452)-COUNT(E$452:$E536))","v":""}]
[null,{"$f":"IF(E536=\"\",\"\",COUNT($E$24:$E$452)-COUNT(E$452:$E537))","v":""}]
[null,{"$f":"IF(E537=\"\",\"\",COUNT($E$24:$E$452)-COUNT(E$452:$E538))","v":""}]
[null,{"$f":"IF(E538=\"\",\"\",COUNT($E$24:$E$452)-COUNT(E$452:$E539))","v":""}]
[null,{"$f":"IF(E539=\"\",\"\",COUNT($E$24:$E$452)-COUNT(E$452:$E540))","v":""}]
[null,{"$f":"IF(E540=\"\",\"\",COUNT($E$24:$E$452)-COUNT(E$452:$E541))","v":""}]
[null,{"$f":"IF(E541=\"\",\"\",COUNT($E$24:$E$452)-COUNT(E$452:$E542))","v":""}]
[null,{"$f":"IF(E542=\"\",\"\",COUNT($E$24:$E$452)-COUNT(E$452:$E543))","v":""}]
[null,{"$f":"IF(E543=\"\",\"\",COUNT($E$24:$E$452)-COUNT(E$452:$E544))","v":""}]
[null,{"$f":"IF(E544=\"\",\"\",COUNT($E$24:$E$452)-COUNT(E$452:$E545))","v":""}]
[null,{"$f":"IF(E545=\"\",\"\",COUNT($E$24:$E$452)-COUNT(E$452:$E546))","v":""}]
[null,{"$f":"IF(E546=\"\",\"\",COUNT($E$24:$E$452)-COUNT(E$452:$E547))","v":""}]
[null,{"$f":"IF(E547=\"\",\"\",COUNT($E$24:$E$452)-COUNT(E$452:$E548))","v":""}]
[null,{"$f":"IF(E548=\"\",\"\",COUNT($E$24:$E$452)-COUNT(E$452:$E549))","v":""}]
[null,{"$f":"IF(E549=\"\",\"\",COUNT($E$24:$E$452)-COUNT(E$452:$E550))","v":""}]
[null,{"$f":"IF(E550=\"\",\"\",COUNT($E$24:$E$452)-COUNT(E$452:$E551))","v":""}]
[null,{"$f":"IF(E551=\"\",\"\",COUNT($E$24:$E$452)-COUNT(E$452:$E552))","v":""}]
[null,{"$f":"IF(E552=\"\",\"\",COUNT($E$24:$E$452)-COUNT(E$452:$E553))","v":""}]
[null,{"$f":"IF(E553=\"\",\"\",COUNT($E$24:$E$452)-COUNT(E$452:$E554))","v":""}]
[null,{"$f":"IF(E554=\"\",\"\",COUNT($E$24:$E$452)-COUNT(E$452:$E555))","v":""}]
[null,{"$f":"IF(E555=\"\",\"\",COUNT($E$24:$E$452)-COUNT(E$452:$E556))","v":""}]
[null,{"$f":"IF(E556=\"\",\"\",COUNT($E$24:$E$452)-COUNT(E$452:$E557))","v":""}]
[null,{"$f":"IF(E557=\"\",\"\",COUNT($E$24:$E$452)-COUNT(E$452:$E558))","v":""}]
[null,{"$f":"IF(E558=\"\",\"\",COUNT($E$24:$E$452)-COUNT(E$452:$E559))","v":""}]
[null,{"$f":"IF(E559=\"\",\"\",COUNT($E$24:$E$452)-COUNT(E$452:$E560))","v":""}]
[null,{"$f":"IF(E560=\"\",\"\",COUNT($E$24:$E$452)-COUNT(E$452:$E561))","v":""}]
[null,{"$f":"IF(E561=\"\",\"\",COUNT($E$24:$E$452)-COUNT(E$452:$E562))","v":""}]
[null,{"$f":"IF(E562=\"\",\"\",COUNT($E$24:$E$452)-COUNT(E$452:$E563))","v":""}]
[null,{"$f":"IF(E563=\"\",\"\",COUNT($E$24:$E$452)-COUNT(E$452:$E564))","v":""}]
[null,{"$f":"IF(E564=\"\",\"\",COUNT($E$24:$E$452)-COUNT(E$452:$E565))","v":""}]
[null,{"$f":"IF(E565=\"\",\"\",COUNT($E$24:$E$452)-COUNT(E$452:$E566))","v":""}]
[null,{"$f":"IF(E566=\"\",\"\",COUNT($E$24:$E$452)-COUNT(E$452:$E567))","v":""}]
[null,{"$f":"IF(E567=\"\",\"\",COUNT($E$24:$E$452)-COUNT(E$452:$E568))","v":""}]
[null,{"$f":"IF(E568=\"\",\"\",COUNT($E$24:$E$452)-COUNT(E$452:$E569))","v":""}]
[null,{"$f":"IF(E569=\"\",\"\",COUNT($E$24:$E$452)-COUNT(E$452:$E570))","v":""}]
[null,{"$f":"IF(E570=\"\",\"\",COUNT($E$24:$E$452)-COUNT(E$452:$E571))","v":""}]
[null,{"$f":"IF(E571=\"\",\"\",COUNT($E$24:$E$452)-COUNT(E$452:$E572))","v":""}]
[null,{"$f":"IF(E572=\"\",\"\",COUNT($E$24:$E$452)-COUNT(E$452:$E573))","v":""}]
[null,{"$f":"IF(E573=\"\",\"\",COUNT($E$24:$E$452)-COUNT(E$452:$E574))","v":""}]
[null,{"$f":"IF(E574=\"\",\"\",COUNT($E$24:$E$452)-COUNT(E$452:$E575))","v":""}]
[null,{"$f":"IF(E575=\"\",\"\",COUNT($E$24:$E$452)-COUNT(E$452:$E576))","v":""}]
[null,{"$f":"IF(E576=\"\",\"\",COUNT($E$24:$E$452)-COUNT(E$452:$E577))","v":""}]
[null,{"$f":"IF(E577=\"\",\"\",COUNT($E$24:$E$452)-COUNT(E$452:$E578))","v":""}]
[null,{"$f":"IF(E578=\"\",\"\",COUNT($E$24:$E$452)-COUNT(E$452:$E579))","v":""}]
[null,{"$f":"IF(E579=\"\",\"\",COUNT($E$24:$E$452)-COUNT(E$452:$E580))","v":""}]
[null,{"$f":"IF(E580=\"\",\"\",COUNT($E$24:$E$452)-COUNT(E$452:$E581))","v":""}]
[null,{"$f":"IF(E581=\"\",\"\",COUNT($E$24:$E$452)-COUNT(E$452:$E582))","v":""}]
[null,{"$f":"IF(E582=\"\",\"\",COUNT($E$24:$E$452)-COUNT(E$452:$E583))","v":""}]
[null,{"$f":"IF(E583=\"\",\"\",COUNT($E$24:$E$452)-COUNT(E$452:$E584))","v":""}]
[null,{"$f":"IF(E584=\"\",\"\",COUNT($E$24:$E$452)-COUNT(E$452:$E585))","v":""}]
[null,{"$f":"IF(E585=\"\",\"\",COUNT($E$24:$E$452)-COUNT(E$452:$E586))","v":""}]
[null,{"$f":"IF(E586=\"\",\"\",COUNT($E$24:$E$452)-COUNT(E$452:$E587))","v":""}]
[null,{"$f":"IF(E587=\"\",\"\",COUNT($E$24:$E$452)-COUNT(E$452:$E588))","v":""}]
[null,{"$f":"IF(E588=\"\",\"\",COUNT($E$24:$E$452)-COUNT(E$452:$E589))","v":""}]
[null,{"$f":"IF(E589=\"\",\"\",COUNT($E$24:$E$452)-COUNT(E$452:$E590))","v":""}]
[null,{"$f":"IF(E590=\"\",\"\",COUNT($E$24:$E$452)-COUNT(E$452:$E591))","v":""}]
[null,{"$f":"IF(E591=\"\",\"\",COUNT($E$24:$E$452)-COUNT(E$452:$E592))","v":""}]
[null,{"$f":"IF(E592=\"\",\"\",COUNT($E$24:$E$452)-COUNT(E$452:$E593))","v":""}]
[null,{"$f":"IF(E593=\"\",\"\",COUNT($E$24:$E$452)-COUNT(E$452:$E594))","v":""}]
[null,{"$f":"IF(E594=\"\",\"\",COUNT($E$24:$E$452)-COUNT(E$452:$E595))","v":""}]
[null,{"$f":"IF(E595=\"\",\"\",COUNT($E$24:$E$452)-COUNT(E$452:$E596))","v":""}]
[null,{"$f":"IF(E596=\"\",\"\",COUNT($E$24:$E$452)-COUNT(E$452:$E597))","v":""}]
[null,{"$f":"IF(E597=\"\",\"\",COUNT($E$24:$E$452)-COUNT(E$452:$E598))","v":""}]
[null,{"$f":"IF(E598=\"\",\"\",COUNT($E$24:$E$452)-COUNT(E$452:$E599))","v":""}]
[null,{"$f":"IF(E599=\"\",\"\",COUNT($E$24:$E$452)-COUNT(E$452:$E600))","v":""}]
[null,{"$f":"IF(E600=\"\",\"\",COUNT($E$24:$E$452)-COUNT(E$452:$E601))","v":""}]
[null,{"$f":"IF(E601=\"\",\"\",COUNT($E$24:$E$452)-COUNT(E$452:$E602))","v":""}]
[null,{"$f":"IF(E602=\"\",\"\",COUNT($E$24:$E$452)-COUNT(E$452:$E603))","v":""}]
[null,{"$f":"IF(E603=\"\",\"\",COUNT($E$24:$E$452)-COUNT(E$452:$E604))","v":""}]
[null,{"$f":"IF(E604=\"\",\"\",COUNT($E$24:$E$452)-COUNT(E$452:$E605))","v":""}]
[null,{"$f":"IF(E605=\"\",\"\",COUNT($E$24:$E$452)-COUNT(E$452:$E606))","v":""}]
[null,{"$f":"IF(E606=\"\",\"\",COUNT($E$24:$E$452)-COUNT(E$452:$E607))","v":""}]
[null,{"$f":"IF(E607=\"\",\"\",COUNT($E$24:$E$452)-COUNT(E$452:$E608))","v":""}]
[null,{"$f":"IF(E608=\"\",\"\",COUNT($E$24:$E$452)-COUNT(E$452:$E609))","v":""}]
[null,{"$f":"IF(E609=\"\",\"\",COUNT($E$24:$E$452)-COUNT(E$452:$E610))","v":""}]
[null,{"$f":"IF(E610=\"\",\"\",COUNT($E$24:$E$452)-COUNT(E$452:$E611))","v":""}]
[null,{"$f":"IF(E611=\"\",\"\",COUNT($E$24:$E$452)-COUNT(E$452:$E612))","v":""}]
[null,{"$f":"IF(E612=\"\",\"\",COUNT($E$24:$E$452)-COUNT(E$452:$E613))","v":""}]
[null,{"$f":"IF(E613=\"\",\"\",COUNT($E$24:$E$452)-COUNT(E$452:$E614))","v":""}]
[null,{"$f":"IF(E614=\"\",\"\",COUNT($E$24:$E$452)-COUNT(E$452:$E615))","v":""}]
[null,{"$f":"IF(E615=\"\",\"\",COUNT($E$24:$E$452)-COUNT(E$452:$E616))","v":""}]
[null,{"$f":"IF(E616=\"\",\"\",COUNT($E$24:$E$452)-COUNT(E$452:$E617))","v":""}]
[null,{"$f":"IF(E617=\"\",\"\",COUNT($E$24:$E$452)-COUNT(E$452:$E618))","v":""}]
[null,{"$f":"IF(E618=\"\",\"\",COUNT($E$24:$E$452)-COUNT(E$452:$E619))","v":""}]
[null,{"$f":"IF(E619=\"\",\"\",COUNT($E$24:$E$452)-COUNT(E$452:$E620))","v":""}]
[null,{"$f":"IF(E620=\"\",\"\",COUNT($E$24:$E$452)-COUNT(E$452:$E621))","v":""}]
[null,{"$f":"IF(E621=\"\",\"\",COUNT($E$24:$E$452)-COUNT(E$452:$E622))","v":""}]
[null,{"$f":"IF(E622=\"\",\"\",COUNT($E$24:$E$452)-COUNT(E$452:$E623))","v":""}]
[null,{"$f":"IF(E623=\"\",\"\",COUNT($E$24:$E$452)-COUNT(E$452:$E624))","v":""}]
[null,{"$f":"IF(E624=\"\",\"\",COUNT($E$24:$E$452)-COUNT(E$452:$E625))","v":""}]
[null,{"$f":"IF(E625=\"\",\"\",COUNT($E$24:$E$452)-COUNT(E$452:$E626))","v":""}]
[null,{"$f":"IF(E626=\"\",\"\",COUNT($E$24:$E$452)-COUNT(E$452:$E627))","v":""}]
[null,{"$f":"IF(E627=\"\",\"\",COUNT($E$24:$E$452)-COUNT(E$452:$E628))","v":""}]
[null,{"$f":"IF(E628=\"\",\"\",COUNT($E$24:$E$452)-COUNT(E$452:$E629))","v":""}]
[null,{"$f":"IF(E629=\"\",\"\",COUNT($E$24:$E$452)-COUNT(E$452:$E630))","v":""}]
[null,{"$f":"IF(E630=\"\",\"\",COUNT($E$24:$E$452)-COUNT(E$452:$E631))","v":""}]
[null,{"$f":"IF(E631=\"\",\"\",COUNT($E$24:$E$452)-COUNT(E$452:$E632))","v":""}]
[null,{"$f":"IF(E632=\"\",\"\",COUNT($E$24:$E$452)-COUNT(E$452:$E633))","v":""}]
[null,{"$f":"IF(E633=\"\",\"\",COUNT($E$24:$E$452)-COUNT(E$452:$E634))","v":""}]
[null,{"$f":"IF(E634=\"\",\"\",COUNT($E$24:$E$452)-COUNT(E$452:$E635))","v":""}]
[null,{"$f":"IF(E635=\"\",\"\",COUNT($E$24:$E$452)-COUNT(E$452:$E636))","v":""}]
[null,{"$f":"IF(E636=\"\",\"\",COUNT($E$24:$E$452)-COUNT(E$452:$E637))","v":""}]
[null,{"$f":"IF(E637=\"\",\"\",COUNT($E$24:$E$452)-COUNT(E$452:$E638))","v":""}]
[null,{"$f":"IF(E638=\"\",\"\",COUNT($E$24:$E$452)-COUNT(E$452:$E639))","v":""}]
[null,{"$f":"IF(E639=\"\",\"\",COUNT($E$24:$E$452)-COUNT(E$452:$E640))","v":""}]
[null,{"$f":"IF(E640=\"\",\"\",COUNT($E$24:$E$452)-COUNT(E$452:$E641))","v":""}]
[null,{"$f":"IF(E641=\"\",\"\",COUNT($E$24:$E$452)-COUNT(E$452:$E642))","v":""}]
[null,{"$f":"IF(E642=\"\",\"\",COUNT($E$24:$E$452)-COUNT(E$452:$E643))","v":""}]
[null,{"$f":"IF(E643=\"\",\"\",COUNT($E$24:$E$452)-COUNT(E$452:$E644))","v":""}]
[null,{"$f":"IF(E644=\"\",\"\",COUNT($E$24:$E$452)-COUNT(E$452:$E645))","v":""}]
[null,{"$f":"IF(E645=\"\",\"\",COUNT($E$24:$E$452)-COUNT(E$452:$E646))","v":""}]
[null,{"$f":"IF(E646=\"\",\"\",COUNT($E$24:$E$452)-COUNT(E$452:$E647))","v":""}]
[null,{"$f":"IF(E647=\"\",\"\",COUNT($E$24:$E$452)-COUNT(E$452:$E648))","v":""}]
[null,{"$f":"IF(E648=\"\",\"\",COUNT($E$24:$E$452)-COUNT(E$452:$E649))","v":""}]
[null,{"$f":"IF(E649=\"\",\"\",COUNT($E$24:$E$452)-COUNT(E$452:$E650))","v":""}]
[null,{"$f":"IF(E650=\"\",\"\",COUNT($E$24:$E$452)-COUNT(E$452:$E651))","v":""}]
[null,{"$f":"IF(E651=\"\",\"\",COUNT($E$24:$E$452)-COUNT(E$452:$E652))","v":""}]
[null,{"$f":"IF(E652=\"\",\"\",COUNT($E$24:$E$452)-COUNT(E$452:$E653))","v":""}]
[null,{"$f":"IF(E653=\"\",\"\",COUNT($E$24:$E$452)-COUNT(E$452:$E654))","v":""}]
[null,{"$f":"IF(E654=\"\",\"\",COUNT($E$24:$E$452)-COUNT(E$452:$E655))","v":""}]
[null,{"$f":"IF(E655=\"\",\"\",COUNT($E$24:$E$452)-COUNT(E$452:$E656))","v":""}]
[null,{"$f":"IF(E656=\"\",\"\",COUNT($E$24:$E$452)-COUNT(E$452:$E657))","v":""}]
[null,{"$f":"IF(E657=\"\",\"\",COUNT($E$24:$E$452)-COUNT(E$452:$E658))","v":""}]
[null,{"$f":"IF(E658=\"\",\"\",COUNT($E$24:$E$452)-COUNT(E$452:$E659))","v":""}]
[null,{"$f":"IF(E659=\"\",\"\",COUNT($E$24:$E$452)-COUNT(E$452:$E660))","v":""}]
[null,{"$f":"IF(E660=\"\",\"\",COUNT($E$24:$E$452)-COUNT(E$452:$E661))","v":""}]
[null,{"$f":"IF(E661=\"\",\"\",COUNT($E$24:$E$452)-COUNT(E$452:$E662))","v":""}]
[null,{"$f":"IF(E662=\"\",\"\",COUNT($E$24:$E$452)-COUNT(E$452:$E663))","v":""}]
[null,{"$f":"IF(E663=\"\",\"\",COUNT($E$24:$E$452)-COUNT(E$452:$E664))","v":""}]
[null,{"$f":"IF(E664=\"\",\"\",COUNT($E$24:$E$452)-COUNT(E$452:$E665))","v":""}]
[null,{"$f":"IF(E665=\"\",\"\",COUNT($E$24:$E$452)-COUNT(E$452:$E666))","v":""}]
[null,{"$f":"IF(E666=\"\",\"\",COUNT($E$24:$E$452)-COUNT(E$452:$E667))","v":""}]
[null,{"$f":"IF(E667=\"\",\"\",COUNT($E$24:$E$452)-COUNT(E$452:$E668))","v":""}]
[null,{"$f":"IF(E668=\"\",\"\",COUNT($E$24:$E$452)-COUNT(E$452:$E669))","v":""}]
[null,{"$f":"IF(E669=\"\",\"\",COUNT($E$24:$E$452)-COUNT(E$452:$E670))","v":""}]
[null,{"$f":"IF(E670=\"\",\"\",COUNT($E$24:$E$452)-COUNT(E$452:$E671))","v":""}]
[null,{"$f":"IF(E671=\"\",\"\",COUNT($E$24:$E$452)-COUNT(E$452:$E672))","v":""}]
[null,{"$f":"IF(E672=\"\",\"\",COUNT($E$24:$E$452)-COUNT(E$452:$E673))","v":""}]
[null,{"$f":"IF(E673=\"\",\"\",COUNT($E$24:$E$452)-COUNT(E$452:$E674))","v":""}]
[null,{"$f":"IF(E674=\"\",\"\",COUNT($E$24:$E$452)-COUNT(E$452:$E675))","v":""}]
[null,{"$f":"IF(E675=\"\",\"\",COUNT($E$24:$E$452)-COUNT(E$452:$E676))","v":""}]
[null,{"$f":"IF(E676=\"\",\"\",COUNT($E$24:$E$452)-COUNT(E$452:$E677))","v":""}]
[null,{"$f":"IF(E677=\"\",\"\",COUNT($E$24:$E$452)-COUNT(E$452:$E678))","v":""}]
[null,{"$f":"IF(E678=\"\",\"\",COUNT($E$24:$E$452)-COUNT(E$452:$E679))","v":""}]
[null,{"$f":"IF(E679=\"\",\"\",COUNT($E$24:$E$452)-COUNT(E$452:$E680))","v":""}]
[null,{"$f":"IF(E680=\"\",\"\",COUNT($E$24:$E$452)-COUNT(E$452:$E681))","v":""}]
[null,{"$f":"IF(E681=\"\",\"\",COUNT($E$24:$E$452)-COUNT(E$452:$E682))","v":""}]
[null,{"$f":"IF(E682=\"\",\"\",COUNT($E$24:$E$452)-COUNT(E$452:$E683))","v":""}]
[null,{"$f":"IF(E683=\"\",\"\",COUNT($E$24:$E$452)-COUNT(E$452:$E684))","v":""}]
[null,{"$f":"IF(E684=\"\",\"\",COUNT($E$24:$E$452)-COUNT(E$452:$E685))","v":""}]
[null,{"$f":"IF(E685=\"\",\"\",COUNT($E$24:$E$452)-COUNT(E$452:$E686))","v":""}]
[null,{"$f":"IF(E686=\"\",\"\",COUNT($E$24:$E$452)-COUNT(E$452:$E687))","v":""}]
[null,{"$f":"IF(E687=\"\",\"\",COUNT($E$24:$E$452)-COUNT(E$452:$E688))","v":""}]
[null,{"$f":"IF(E688=\"\",\"\",COUNT($E$24:$E$452)-COUNT(E$452:$E689))","v":""}]
[null,{"$f":"IF(E689=\"\",\"\",COUNT($E$24:$E$452)-COUNT(E$452:$E690))","v":""}]
[null,{"$f":"IF(E690=\"\",\"\",COUNT($E$24:$E$452)-COUNT(E$452:$E691))","v":""}]
[null,{"$f":"IF(E691=\"\",\"\",COUNT($E$24:$E$452)-COUNT(E$452:$E692))","v":""}]
[null,{"$f":"IF(E692=\"\",\"\",COUNT($E$24:$E$452)-COUNT(E$452:$E693))","v":""}]
[null,{"$f":"IF(E693=\"\",\"\",COUNT($E$24:$E$452)-COUNT(E$452:$E694))","v":""}]
[null,{"$f":"IF(E694=\"\",\"\",COUNT($E$24:$E$452)-COUNT(E$452:$E695))","v":""}]
[null,{"$f":"IF(E695=\"\",\"\",COUNT($E$24:$E$452)-COUNT(E$452:$E696))","v":""}]
[null,{"$f":"IF(E696=\"\",\"\",COUNT($E$24:$E$452)-COUNT(E$452:$E697))","v":""}]
[null,{"$f":"IF(E697=\"\",\"\",COUNT($E$24:$E$452)-COUNT(E$452:$E698))","v":""}]
[null,{"$f":"IF(E698=\"\",\"\",COUNT($E$24:$E$452)-COUNT(E$452:$E699))","v":""}]
[null,{"$f":"IF(E699=\"\",\"\",COUNT($E$24:$E$452)-COUNT(E$452:$E700))","v":""}]
[null,{"$f":"IF(E700=\"\",\"\",COUNT($E$24:$E$452)-COUNT(E$452:$E701))","v":""}]
[null,{"$f":"IF(E701=\"\",\"\",COUNT($E$24:$E$452)-COUNT(E$452:$E702))","v":""}]
[null,{"$f":"IF(E702=\"\",\"\",COUNT($E$24:$E$452)-COUNT(E$452:$E703))","v":""}]
[null,{"$f":"IF(E703=\"\",\"\",COUNT($E$24:$E$452)-COUNT(E$452:$E704))","v":""}]
[null,{"$f":"IF(E704=\"\",\"\",COUNT($E$24:$E$452)-COUNT(E$452:$E705))","v":""}]
[null,{"$f":"IF(E705=\"\",\"\",COUNT($E$24:$E$452)-COUNT(E$452:$E706))","v":""}]
[null,{"$f":"IF(E706=\"\",\"\",COUNT($E$24:$E$452)-COUNT(E$452:$E707))","v":""}]
[null,{"$f":"IF(E707=\"\",\"\",COUNT($E$24:$E$452)-COUNT(E$452:$E708))","v":""}]

{"sheet":"Deviation - Daily Averages","index":10,"n_rows":500,"n_cols":7,"rows_kept":500}
[null,"DO NOT REMOVE OR EDIT INFORMATION IN ROWS 1 THROUGH 5\nFOR INTERNAL USE ONLY"]
[null,"Template Name",null,{"$f":"+Welcome!B2","v":"63.5580(g) Semiannual Compliance Report (Spreadsheet Template)"}]
[null,"CitationID",null,{"$f":"+Welcome!B3","v":"63.5580(g)"}]
[null,"Template Version",null,{"$f":"+Welcome!B4","v":"ICR Draft"}]
[null,"Last Updated Date",null,{"$f":"+Welcome!B5","v":{"v":45176,"d":"4517600.00%"}}]
[]
[null,"40 CFR Part 63, Subpart UUUU National Emission Standards for Hazardous Air Pollutants for Cellulose Products Manufacturing - §63.5580 Semiannual Compliance Report Spreadsheet Template"]
[null,"\n"]
[]
[]
[]
[null,"Company Record No.  \n(Select from Dropdown)","Process Unit Description \n(§63.5580(e)(9))\n(Select from Dropdown)","Emission or Operating\nLimit Deviated From or Failed to Meet \n(§63.5580(e))\n(Select from dropdown or Type site specific limit)","Applicable Operating Parameter Limit  \n(§63.5580(e))","Date of Deviation\n(§63.5580(e))","Daily Average of Monitored Operating Parameter\n(§63.5580(e)(13)) "]
[null,"RecordId","ProcessUnitDesc","OperatingLimit","ParameterLimit","DeviationDate","ParameterAverage"]
[null,"e.g.: 1","e.g.: Line 1 ","e.g.:  Maximum gas temperature at inlet to PM  control device","e.g. 500 F","e.g.: 2/12/2020","e.g.: 16.08"]
[null,"e.g.:","e.g.:","e.g.:","e.g.:","e.g.:","e.g.:"]
[null,"e.g.:","e.g.:","e.g.:","e.g.:","e.g.:","e.g.:"]
[null,"e.g.:","e.g.:","e.g.:","e.g.:","e.g.:","e.g.:"]
[null,"e.g.:","e.g.:","e.g.:","e.g.:","e.g.:","e.g.:"]
[null,"e.g.:","e.g.:","e.g.:","e.g.:","e.g.:","e.g.:"]
[null,"e.g.:","e.g.:","e.g.:","e.g.:","e.g.:","e.g.:"]
[null,"e.g.:","e.g.:","e.g.:","e.g.:","e.g.:","e.g.:"]
[null,"e.g.:","e.g.:","e.g.:","e.g.:","e.g.:","e.g.:"]
[null,"e.g.:","e.g.:","e.g.:","e.g.:","e.g.:","e.g.:"]
{"$rows_empty":476}
[{"$nulls":6}," "]

{"sheet":"Using CMS - Descrip of Changes","index":11,"n_rows":33,"n_cols":3,"rows_kept":33}
[null,"DO NOT REMOVE OR EDIT INFORMATION IN ROWS 1 THROUGH 5\nFOR INTERNAL USE ONLY"]
[null,"Template Name",{"$f":"Welcome!B2","v":"63.5580(g) Semiannual Compliance Report (Spreadsheet Template)"}]
[null,"CitationID",{"$f":"+Welcome!B3","v":"63.5580(g)"}]
[null,"Template Version",{"$f":"+Welcome!B4","v":"ICR Draft"}]
[null,"Last Updated Date",{"$f":"+Welcome!B5","v":{"v":45176,"d":"4517600.00%"}}]
[]
[null,"40 CFR Part 63, Subpart UUUU National Emission Standards for Hazardous Air Pollutants for Cellulose Products Manufacturing -"]
[null," §63.5580 Semiannual Compliance Report Spreadsheet Template"]
[null,"CMS, Process, or Control Changes"]
[]
[]
[null,"Company Record No.  \n(Autocompleted)","Description of any changes in CMS, processes, or controls since the last reporting period \n(§63.5580(e)(12))"]
[null,"RecordId","PeriodChangeDesc"]
[null,"eg: 1","e.g.:"]
[null,"e.g.:","e.g.:"]
[null,"e.g.:","e.g.:"]
[null,"e.g.:","e.g.:"]
[null,"e.g.:","e.g.:"]
[null,"e.g.:","e.g.:"]
[null,"e.g.:","e.g.:"]
[null,"e.g.:","e.g.:"]
[null,"e.g.:","e.g.:"]
[null,"e.g.:","e.g.:"]
[null,{"$f":"IF(Lists!H2=\"\",\"\",Lists!H2)","v":""}]
[null,{"$f":"IF(Lists!H3=\"\",\"\",Lists!H3)","v":""}]
[null,{"$f":"IF(Lists!H4=\"\",\"\",Lists!H4)","v":""}]
[null,{"$f":"IF(Lists!H5=\"\",\"\",Lists!H5)","v":""}]
[null,{"$f":"IF(Lists!H6=\"\",\"\",Lists!H6)","v":""}]
[null,{"$f":"IF(Lists!H7=\"\",\"\",Lists!H7)","v":""}]
[null,{"$f":"IF(Lists!H8=\"\",\"\",Lists!H8)","v":""}]
[null,{"$f":"IF(Lists!H9=\"\",\"\",Lists!H9)","v":""}]
[null,{"$f":"IF(Lists!H10=\"\",\"\",Lists!H10)","v":""}]
[null,{"$f":"IF(Lists!H11=\"\",\"\",Lists!H11)","v":""}]

{"sheet":"Semiannual - Certification","index":12,"n_rows":33,"n_cols":5,"rows_kept":33}
[null,"DO NOT REMOVE OR EDIT INFORMATION IN ROWS 1 THROUGH 5\nFOR INTERNAL USE ONLY"]
[null,"Template Name",{"$f":"+Welcome!B2","v":"63.5580(g) Semiannual Compliance Report (Spreadsheet Template)"}]
[null,"CitationID",{"$f":"+Welcome!B3","v":"63.5580(g)"}]
[null,"Template Version",{"$f":"+Welcome!B4","v":"ICR Draft"}]
[null,"Last Updated Date",{"$f":"+Welcome!B5","v":{"v":45176,"d":"4517600.00%"}}]
[]
[null,"40 CFR Part 63, Subpart UUUU National Emission Standards for Hazardous Air Pollutants for Cellulose Products Manufacturing - "]
[null,"§63.5580 Semiannual Compliance Report Spreadsheet Template"]
[null,"Complete this form when you have completed the semiannual compliance report."]
[]
[null,"Company Record No.  \n(Autocompleted)","There were no deviations from emission limits, operating limits, or work practice standards during the reporting period  \n(§63.5580(c)(5))\n(Select from Dropdown)","There were no periods during which CMS was out of control during the reporting period \n(§63.5580(c)(6))\n(Select from Dropdown)","Pursuant to §63.5580(f), all required deviation information was submitted in the semiannial monitoring report required by §70.6(a)(3)(iii)(A) or §71.6(a)(3)(iii)(A). \n(Select from Dropdown)"]
[null,"Field:"]
[null,"RecordId","OperationDeviationFlag","PeriodDeviationFlag","DeviationInformationFlag"]
[null,"e.g.:","e.g.:","e.g.:","e.g.:"]
[null,"e.g.:","e.g.:","e.g.:","e.g.:"]
[null,"e.g.:","e.g.:","e.g.:","e.g.:"]
[null,"e.g.:","e.g.:","e.g.:","e.g.:"]
[null,"e.g.:","e.g.:","e.g.:","e.g.:"]
[null,"e.g.:","e.g.:","e.g.:","e.g.:"]
[null,"e.g.:","e.g.:","e.g.:","e.g.:"]
[null,"e.g.:","e.g.:","e.g.:","e.g.:"]
[null,"e.g.:","e.g.:","e.g.:","e.g.:"]
[null,"e.g.:","e.g.:","e.g.:","e.g.:"]
[null,{"$f":"IF(Lists!H2=\"\",\"\",Lists!H2)","v":""}]
[null,{"$f":"IF(Lists!H3=\"\",\"\",Lists!H3)","v":""}]
[null,{"$f":"IF(Lists!H4=\"\",\"\",Lists!H4)","v":""}]
[null,{"$f":"IF(Lists!H5=\"\",\"\",Lists!H5)","v":""}]
[null,{"$f":"IF(Lists!H6=\"\",\"\",Lists!H6)","v":""}]
[null,{"$f":"IF(Lists!H7=\"\",\"\",Lists!H7)","v":""}]
[null,{"$f":"IF(Lists!H8=\"\",\"\",Lists!H8)","v":""}]
[null,{"$f":"IF(Lists!H9=\"\",\"\",Lists!H9)","v":""}]
[null,{"$f":"IF(Lists!H10=\"\",\"\",Lists!H10)","v":""}]
[null,{"$f":"IF(Lists!H11=\"\",\"\",Lists!H11)","v":""}]

{"sheet":"Revisions","index":13,"n_rows":9,"n_cols":3,"rows_kept":9}
["40 CFR Part 63, Subpart UUUU National Emission Standards for Hazardous Air Pollutants for Cellulose Products Manufacturing - "]
["§63.5580 Semiannual Compliance Report Spreadsheet Template"]
["Revision Number","Date","Revisions"]
[{"v":1,"d":"1.00"},{"v":43850,"d":"4385000.00%"},"Version for comment"]
[{"v":1.1,"d":"1.10"},null,"Finalized Release Version - wrap text added and fixed duration formulas"]
[{"v":2,"d":"2.00"},{"v":43917,"d":"4391700.00%"},"Added hidden mapping sheet and hidden column A to accommodate CEDRI EXCEL JSON Parser"]
[2.01,{"v":43963,"d":"4396300.00%"},"Updated CBI Disclaimer"]
[{"v":3,"d":"3.00"},{"v":44053,"d":"4405300.00%"},"Corrected spelling mistake on DeviationStartTime field XML tag; file name changed"]
["ICR Draft",{"v":45176,"d":"4517600.00%"},"Added PRA information and form number to Welcome tab, Removed \"*\" and Required Field\" labelling (redundant with addition of regulatory citation), revise cell orientation throughout, added e.g. to blank example rows to ease filtering, enabled filtering on Summary tabs, hid blank non-data entry rows, Added Header to Revisions tab"]

{"sheet":"Worksheet Map","index":14,"n_rows":12,"n_cols":5,"rows_kept":12,"hidden":true}
["Worksheet Name","Parent","JSON Key","Parent Primary Key","Child Foreign Key"]
["Company_Information",null,"records"]
["No CMS - Deviation - Limits","records","NoCMSDeviationLimits","RecordId","RecordId"]
["Process_&_CMS_Identification","records","ProcessCMSIdentification","RecordId","RecordId"]
["Using CMS - Malfunction","records","UsingCMSMalfunction","RecordId","RecordId"]
["Using CMS - Inop_OoC - CMS","records","UsingSMSInopOoCCMS","RecordId","RecordId"]
["Downtime - CMS Summary","records","DowntimeCMSSummary","RecordId","RecordId"]
["Using CMS - Deviation - Limits","records","UsingCMSDeviationLimits","RecordId","RecordId"]
["Using CMS - Deviation - Summary","records","UsingCMSDeviationSummary","RecordId","RecordId"]
["Deviation - Daily Averages","records","DeviationDailyAverages","RecordId","RecordId"]
["Using CMS - Descrip of Changes","records","UsingCMSDescripOfChanges","RecordId","RecordId"]
["Semiannual - Certification","records","SemiannualCertification","RecordId","RecordId"]