{"text_format":"3","workbook":"xlsx","n_sheets":8,"sheets":["Page 1 (Hydrology)","Page 2 (Vegetation, 5 Strata)","Page 2 (Vegetation, 4 Strata)","Page 3 (Soil)","Vegetation Continued, 5 Strata","Vegetation Continued, 4 Strata","Privacy Act Information","Plant List"],"not_rendered":{"images":1,"macros":1,"external_links":2,"defined_names":22,"comments":6},"read":"whole","date_system":"1900"}

{"sheet":"Page 1 (Hydrology)","index":0,"n_rows":88,"n_cols":48,"rows_kept":88,"merged":[[0,0,0,31],[0,32,0,44],[1,6,1,21],[1,22,1,27],[1,28,1,36],[1,37,1,40],[1,41,1,44],[2,8,2,32],[2,34,2,36],[2,41,2,44],[3,7,3,19],[3,20,3,30],[3,31,3,44],[4,0,4,11],[4,12,4,18],[4,19,4,32],[4,33,4,38],[4,39,4,40],[4,41,4,44],[5,11,5,16],[5,18,5,28],[5,30,5,38],[5,39,5,40],[5,41,5,44],[6,8,6,32],[6,33,6,38],[6,39,6,44],[7,0,7,25],[7,26,7,28],[7,30,7,32],[7,35,7,44],[8,17,8,25],[8,26,8,38],[9,17,9,25],[9,26,9,44],[11,0,13,0],[11,1,11,13],[11,14,11,15],[11,19,13,20],[11,21,14,21],[11,22,11,44],[12,1,12,13],[12,14,12,15],[12,22,12,31],[12,32,12,34],[12,36,12,38],[12,40,12,44],[13,1,13,13],[13,14,13,15],[13,22,14,44],[14,0,14,20],[15,0,20,0],[15,1,15,44],[16,1,20,44],[21,0,21,44],[22,0,33,0],[22,1,22,30],[22,31,22,44],[23,1,23,30],[23,32,23,44],[24,2,24,14],[24,16,24,30],[24,32,24,44],[25,2,25,14],[25,16,25,30],[25,32,25,44],[26,2,26,14],[26,16,26,30],[26,32,26,44],[27,2,27,14],[27,16,27,30],[27,32,27,44],[28,2,28,14],[28,16,28,30],[28,32,28,44],[29,2,29,14],[29,16,29,30],[29,32,29,44],[30,2,30,14],[30,16,30,30],[30,32,30,44],[31,2,31,14],[31,16,31,30],[31,32,31,44],[32,2,32,30],[32,32,32,44],[33,2,33,30],[33,32,33,44],[34,0,34,44],[35,1,35,26],[35,27,37,44],[36,0,39,0],[36,1,36,10],[36,13,36,15],[36,17,36,21],[36,22,36,25],[37,1,37,10],[37,13,37,15],[37,17,37,21],[37,22,37,25],[38,1,38,10],[38,13,38,15],[38,17,38,21],[38,22,38,25],[38,28,38,37],[38,38,38,39],[39,1,39,26],[39,27,39,44],[40,0,42,0],[40,1,40,44],[41,1,42,44],[43,0,53,0],[43,1,43,44],[44,1,53,44]]}
["U.S.  Army Corps of Engineers\nWETLAND DETERMINATION DATA SHEET – Atlantic and Gulf Coastal Plain Region\nSee ERDC/EL TR-10-20; the proponent agency is CECW-CO-R",{"$nulls":31},"OMB Control #: 0710-0024, Exp: 11/30/2024\nRequirement Control Symbol EXEMPT:\n(Authority: AR 335-15, paragraph 5-2a)",{"$nulls":12},"Atlantic and Gulf Coastal Plain Region Automated Wetland Determination Data Sheet (ADS) version 1.19"]
["Project/Site:",{"$nulls":21},"City/County:",{"$nulls":14},"Sampling Date:"]
["Applicant/Owner:",{"$nulls":32},"State:",{"$nulls":3},"Sampling Point:"]
["Investigator(s):",{"$nulls":19},"Section, Township, Range:"]
["Landform (hillside, terrace, etc.):",{"$nulls":18},"Local relief (concave, convex, none):",{"$nulls":19},"Slope (%):"]
["Subregion (LRR or MLRA):",{"$nulls":16},"Lat:",{"$nulls":11},"Long:",{"$nulls":9},"Datum:"]
["Soil Map Unit Name:",{"$nulls":32},"NWI classification:"]
["Are climatic / hydrologic conditions on the site typical for this time of year?",{"$nulls":25},"Yes",{"$nulls":3},"No",{"$nulls":4},"(If no, explain in Remarks.) "]
["Are Vegetation",{"$nulls":7},", Soil",{"$nulls":3},", or Hydrology",{"$nulls":4},"significantly disturbed?",{"$nulls":8},"Are “Normal Circumstances” present?",{"$nulls":12},"Yes",null,null,"No",null,null,"Hydrophytic Vegetation Present?"]
["Are Vegetation",{"$nulls":7},", Soil",{"$nulls":3},", or Hydrology",{"$nulls":4},"naturally problematic?",{"$nulls":8},"(If needed, explain any answers in Remarks.)",{"$nulls":18},{"$f":"IFERROR(IF('Page 2 (Vegetation, 5 Strata)'!BM1=1,'Page 2 (Vegetation, 5 Strata)'!BB53,'Page 2 (Vegetation, 4 Strata)'!BB49),'Page 2 (Vegetation, 4 Strata)'!BB49)","v":""},{"$f":"IFERROR(IF('Page 2 (Vegetation, 5 Strata)'!BM1=1,'Page 2 (Vegetation, 5 Strata)'!BG53,'Page 2 (Vegetation, 4 Strata)'!BG49),'Page 2 (Vegetation, 4 Strata)'!BG49)","v":"X"}]
["SUMMARY OF FINDINGS – Attach site map showing sampling point locations, transects, important features, etc.",{"$nulls":44},"Hydric Soil Present?"]
[null,"Hydrophytic Vegetation Present?",{"$nulls":12},"Yes",null,{"$f":"AT10","v":""},"No",{"$f":"AU10","v":"X"},{"$nulls":3},"Is the Sampled Area",{"$nulls":22},{"$f":"'Page 3 (Soil)'!BE38","v":""},{"$f":"'Page 3 (Soil)'!BI38","v":"X"}]
[null,"Hydric Soil Present? ",{"$nulls":12},"Yes",null,{"$f":"AT12","v":""},"No",{"$f":"AU12","v":"X"},{"$nulls":3},"within a Wetland?",{"$nulls":9},"Yes",null,null,{"$f":"AT14","v":""},"No",null,null,{"$f":"AU14","v":"X"},{"$nulls":5},"Sampled Area within a Wetland"]
[null,"Wetland Hydrology Present?",{"$nulls":12},"Yes",null,{"$f":"AO39","v":""},"No",{"$f":"AR39","v":"X"},{"$nulls":26},{"$f":"IF(AND(Q12=\"X\",Q13=\"X\",Q14=\"X\"),\"X\",\"\")","v":""},{"$f":"IF(AJ13=\"\",\"X\",\"\")","v":"X"}]
[]
[null,"Remarks:"]
[]
[]
[]
[]
[]
["HYDROLOGY"]
[null,"Wetland Hydrology Indicators:",{"$nulls":29},"Secondary Indicators (minimum of two required)"]
[null,"Primary Indicators (minimum of one is required; check all that apply)                                         ",{"$nulls":30},"Surface Soil Cracks (B6)",{"$nulls":12},"Wetland Hydrology"]
[null,{"$f":"AT25","v":""},"Surface Water (A1)",{"$nulls":13},"Aquatic Fauna (B13)",{"$nulls":14},{"$f":"AU25","v":""},"Sparsely Vegetated Concave Surface (B8)",{"$nulls":12},{"$f":"IFERROR(IF(ISTEXT(M37),\"X\",\"\"),\"\")","v":""},{"$f":"IFERROR(IF('Page 2 (Vegetation, 5 Strata)'!BM1=1,IF(AND(OR('Page 2 (Vegetation, 5 Strata)'!Z44=\"\",'Page 2 (Vegetation, 5 Strata)'!Z44<5),OR('Page 2 (Vegetation, 5 Strata)'!Z11<>\"\",'Page 2 (Vegetation, 5 Strata)'!Z21<>\"\",'Page 2 (Vegetation, 5 Strata)'!Z30<>\"\",'Page 2 (Vegetation, 5 Strata)'!Z52<>\"\")),\"?\",\"\"),IF(AND(OR('Page 2 (Vegetation, 4 Strata)'!Z40=\"\",'Page 2 (Vegetation, 4 Strata)'!Z40<5),OR('Page 2 (Vegetation, 4 Strata)'!Z13<>\"\",'Page 2 (Vegetation, 4 Strata)'!Z25<>\"\",'Page 2 (Vegetation, 4 Strata)'!Z48<>\"\")),\"?\",\"\")),IF(AND(OR('Page 2 (Vegetation, 4 Strata)'!Z40=\"\",'Page 2 (Vegetation, 4 Strata)'!Z40<5),OR('Page 2 (Vegetation, 4 Strata)'!Z13<>\"\",'Page 2 (Vegetation, 4 Strata)'!Z25<>\"\",'Page 2 (Vegetation, 4 Strata)'!Z48<>\"\")),\"?\",\"\"))","v":""}]
[null,{"$f":"AT26","v":""},"High Water Table (A2)",{"$nulls":13},"Marl Deposits (B15) (LRR U)",{"$nulls":15},"Drainage Patterns (B10)",{"$nulls":12},{"$f":"IFERROR(IF(AND(ISTEXT(M38),W38<=12,ISNUMBER(W38)),\"X\",\"\"),\"\")","v":""},{"$f":"IFERROR(IF(AND(ISTEXT(M38),W38>12,W38<=24),\"?\",\"\"),\"\")","v":""},"Hydrogen Sulfide Conditional Formatting"]
[null,{"$f":"AT27","v":""},"Saturation (A3)",{"$nulls":12},{"$f":"AT28","v":""},"Hydrogen Sulfide Odor (C1)",{"$nulls":15},"Moss Trim Lines (B16)",{"$nulls":12},{"$f":"IFERROR(IF(AND(ISTEXT(M39),W39<=12,ISNUMBER(W39),OR(AND(ISTEXT(M38),W38>W39),AND(ISNUMBER('Page 3 (Soil)'!K38),'Page 3 (Soil)'!K38<=12,'Page 3 (Soil)'!K38>W39))),\"X\",\"\"),\"\")","v":""},{"$f":"IFERROR(IF(ISNUMBER('Page 3 (Soil)'!K38),\"?\",\"\"),\"\")","v":""},{"$f":"IF('Page 3 (Soil)'!B18=\"X\",\"X\",\"\")","v":""}]
[null,null,"Water Marks (B1)",{"$nulls":13},"Oxidized Rhizospheres on Living Roots (C3)",{"$nulls":14},{"$f":"AU26","v":""},"Dry-Season Water Table (C2)",{"$nulls":12},{"$f":"IFERROR(IF('Page 3 (Soil)'!CZ8=\"X\",\"X\",\"\"),\"\")","v":""},{"$f":"IFERROR(IF('Page 2 (Vegetation, 5 Strata)'!BM1=1,IF(AV29=\"X\",\"X\",\"\"),IF(AV30=\"X\",\"X\",\"\")),IF(AV30=\"X\",\"X\",\"\"))","v":""},"FAC-Neutral Vegetation Pages"]
[null,null,"Sediment Deposits (B2)",{"$nulls":12},{"$f":"AT29","v":""},"Presence of Reduced Iron (C4)",{"$nulls":15},"Crayfish Burrows (C8)",{"$nulls":12},{"$f":"IFERROR(IF('Page 3 (Soil)'!KK13=\"X\",\"X\",\"\"),\"\")","v":""},null,{"$f":"IFERROR(IF(SUM('Page 2 (Vegetation, 5 Strata)'!BT4:BT75)>SUM('Page 2 (Vegetation, 5 Strata)'!BU4:BU75),\"X\",IF(SUM('Page 2 (Vegetation, 5 Strata)'!BT4:BT75)=SUM('Page 2 (Vegetation, 5 Strata)'!BU4:BU75),IF(SUM('Page 2 (Vegetation, 5 Strata)'!BV4:BV75)>SUM('Page 2 (Vegetation, 5 Strata)'!BW4:BW75),\"X\",\"\"),\"\")),\"\")","v":""}]
[null,null,"Drift Deposits (B3)",{"$nulls":13},"Recent Iron Reduction in Tilled Soils (C6)",{"$nulls":15},"Saturation Visible on Aerial Imagery (C9)",{"$nulls":12},{"$f":"IFERROR(IF(AND('Page 3 (Soil)'!BP6-'Page 3 (Soil)'!BO6<=1,'Page 3 (Soil)'!AQ6='Page 3 (Soil)'!BX65),\"X\",\"\"),\"\")","v":""},null,{"$f":"IFERROR(IF(SUM('Page 2 (Vegetation, 4 Strata)'!BT4:BT72)>SUM('Page 2 (Vegetation, 4 Strata)'!BU4:BU72),\"X\",IF(SUM('Page 2 (Vegetation, 4 Strata)'!BT4:BT72)=SUM('Page 2 (Vegetation, 4 Strata)'!BU4:BU72),IF(SUM('Page 2 (Vegetation, 4 Strata)'!BV4:BV72)>SUM('Page 2 (Vegetation, 4 Strata)'!BW4:BW72),\"X\",\"\"),\"\")),\"\")","v":""}]
[null,null,"Algal Mat or Crust (B4)",{"$nulls":12},{"$f":"AT30","v":""},"Thin Muck Surface (C7)",{"$nulls":15},"Geomorphic Position (D2)"]
[null,null,"Iron Deposits (B5)",{"$nulls":13},"Other (Explain in Remarks)",{"$nulls":14},{"$f":"AU27","v":""},"Shallow Aquitard (D3)"]
[null,null,"Inundation Visible on Aerial Imagery (B7)",{"$nulls":28},{"$f":"AU28","v":""},"FAC-Neutral Test (D5)"]
[null,null,"Water-Stained Leaves (B9)",{"$nulls":29},"Sphagnum Moss (D8) (LRR T, U)"]
[]
[null,"Field Observations:",{"$nulls":43},"Hydrology Indicators",null,"State List"]
[null,"Surface Water Present?",{"$nulls":9},"Yes",null,"No",{"$nulls":3},"Depth (inches):",{"$nulls":27},{"$f":"IF(B25=\"X\",1,0)","v":0},{"$f":"IF(AF24=\"X\",1,0)","v":0},"AL"]
[null,"Water Table Present?",{"$nulls":9},"Yes",null,"No",{"$nulls":3},"Depth (inches):",{"$nulls":27},{"$f":"IF(B26=\"X\",1,0)","v":0},0,"AR"]
[null,"Saturation Present?",{"$nulls":9},"Yes",null,"No",{"$nulls":3},"Depth (inches):",{"$nulls":10},"Wetland Hydrology Present?",{"$nulls":9},"Yes",null,{"$f":"AT59","v":""},null,"No",{"$f":"AU59","v":"X"},null,0,0,"DE"]
[null,"(includes capillary fringe)",{"$nulls":43},0,0,"DC"]
[null,"Describe Recorded Data (stream gauge, monitoring well, aerial photos, previous inspections), if available:",{"$nulls":43},0,0,"FL"]
[{"$nulls":45},0,0,"GA"]
[{"$nulls":45},0,0,"IL"]
[null,"Remarks: ",{"$nulls":43},0,0,"KY"]
[{"$nulls":45},0,0,"LA"]
[{"$nulls":45},0,0,"MD"]
[{"$nulls":45},{"$f":"IF(P25=\"X\",1,0)","v":0},0,"MS"]
[{"$nulls":45},0,null,"MO"]
[{"$nulls":45},0,null,"NJ"]
[{"$nulls":45},0,null,"NC"]
[{"$nulls":45},0,null,"OK"]
[{"$nulls":45},0,null,"PA"]
[{"$nulls":45},0,null,"SC"]
[{"$nulls":45},{"$f":"IF(P32=\"X\",1,0)","v":0},null,"TN"]
["ENG FORM 6116-2, JUL 2018",{"$nulls":31},"Atlantic and Gulf Coastal Plain – Version 2.0",{"$nulls":14},"TX"]
[{"$nulls":45},{"$f":"SUM(AT37:AT54)","v":0},{"$f":"SUM(AU37:AU47)","v":0},"VA"]
[]
[{"$nulls":45},"Wetland Hydrology Present?",null,"LRR/MLRA List"]
[{"$nulls":45},{"$f":"IF(OR(AT56>0,AU56>1),\"X\",\"\")","v":""},{"$f":"IF(OR(Q9=\"X\",Q9=\"Yes\",Q9=\"Y\",Q10=\"X\",Q10=\"Yes\",Q10=\"Y\"),\"\",IF(AND(AO39=\"\",Q14=\"\"),\"X\",\"\"))","v":"X"},"LRR O"]
[{"$nulls":47},"LRR O, MLRA 131A"]
[{"$nulls":47},"LRR O, MLRA 131B"]
[{"$nulls":47},"LRR O, MLRA 131C"]
[{"$nulls":47},"LRR O, MLRA 131D"]
[{"$nulls":47},"LRR P"]
[{"$nulls":47},"LRR P, MLRA 133A"]
[{"$nulls":47},"LRR P, MLRA 133B"]
[{"$nulls":47},"LRR P, MLRA 133C"]
[{"$nulls":47},"LRR P, MLRA 134"]
[{"$nulls":47},"LRR P, MLRA 135A"]
[{"$nulls":47},"LRR P, MLRA 135B"]
[{"$nulls":47},"LRR P, MLRA 137"]
[{"$nulls":47},"LRR P, MLRA 138"]
[{"$nulls":47},"LRR S, MLRA 149A"]
[{"$nulls":47},"LRR T"]
[{"$nulls":47},"LRR T, MLRA 150A"]
[{"$nulls":47},"LRR T, MLRA 150B"]
[{"$nulls":47},"LRR T, MLRA 151"]
[{"$nulls":47},"LRR T, MLRA 152A"]
[{"$nulls":47},"LRR T, MLRA 152B"]
[{"$nulls":47},"LRR T, MLRA 153A"]
[{"$nulls":47},"LRR T, MLRA 153B"]
[{"$nulls":47},"LRR T, MLRA 153C"]
[{"$nulls":47},"LRR T, MLRA 153D"]
[{"$nulls":47},"LRR U"]
[{"$nulls":47},"LRR U, MLRA 154"]
[{"$nulls":47},"LRR U, MLRA 155"]
[{"$nulls":47},"LRR U, MLRA 156A"]
[{"$nulls":47},"LRR U, MLRA 156B"]

{"sheet":"Page 2 (Vegetation, 5 Strata)","index":1,"n_rows":156,"n_cols":87,"rows_kept":156,"merged":[[0,0,0,16],[0,17,0,51],[0,58,0,62],[1,0,1,63],[2,0,53,0],[2,1,2,7],[2,13,2,19],[2,20,2,24],[2,25,2,29],[2,31,2,35],[2,37,2,41],[2,43,8,43],[2,44,2,63],[3,3,3,23],[3,25,3,29],[3,31,3,35],[3,37,3,41],[3,44,4,55],[3,56,3,63],[4,3,4,23],[4,25,4,29],[4,31,4,35],[4,37,4,41],[4,56,4,60],[4,61,4,63],[5,3,5,23],[5,25,5,29],[5,31,5,35],[5,37,5,41],[5,44,6,55],[5,56,5,63],[6,3,6,23],[6,25,6,29],[6,31,6,35],[6,37,6,41],[6,56,6,60],[6,61,6,63],[7,3,7,23],[7,25,7,29],[7,31,7,35],[7,37,7,41],[7,44,8,55],[7,56,7,63],[8,3,8,23],[8,25,8,29],[8,31,8,35],[8,37,8,41],[8,56,8,60],[9,1,9,42],[9,43,9,63],[10,1,10,24],[10,25,10,29],[10,30,10,42],[10,43,17,43],[10,44,10,63],[11,1,11,12],[11,22,11,26],[11,37,11,41],[11,44,11,53],[11,54,16,54],[11,55,11,61],[11,62,16,63],[12,14,12,20],[12,21,12,42],[12,44,12,49],[12,50,12,53],[12,58,12,61],[13,3,13,23],[13,25,13,29],[13,31,13,35],[13,37,13,41],[13,42,18,42],[13,44,13,49],[13,50,13,53],[13,58,13,61],[14,3,14,23],[14,25,14,29],[14,31,14,35],[14,37,14,41],[14,44,14,49],[14,50,14,53],[14,58,14,61],[15,3,15,23],[15,25,15,29],[15,31,15,35],[15,37,15,41],[15,44,15,49],[15,50,15,53],[15,58,15,61],[16,3,16,23],[16,25,16,29],[16,31,16,35],[16,37,16,41],[16,44,16,49],[16,50,16,53],[16,58,16,61],[17,3,17,23],[17,25,17,29],[17,31,17,35],[17,37,17,41],[17,50,17,53],[17,54,17,57],[17,58,17,61],[18,3,18,23],[18,25,18,29],[18,31,18,35],[18,37,18,41],[18,43,18,45],[18,46,18,56],[18,57,18,61],[18,62,18,63],[19,1,19,42],[19,43,19,63],[20,1,20,24],[20,25,20,29],[20,30,20,42],[20,43,28,43],[20,44,20,63],[21,1,21,12],[21,22,21,26],[21,37,21,41],[21,45,21,63],[22,13,22,19],[22,20,22,42],[22,45,22,63],[23,3,23,23],[23,25,23,29],[23,31,23,35],[23,37,23,41],[23,42,28,42],[23,45,23,63],[24,3,24,23],[24,25,24,29],[24,31,24,35],[24,37,24,41],[24,45,24,63],[25,3,25,23],[25,25,25,29],[25,31,25,35],[25,37,25,41],[25,44,26,63],[26,3,26,23],[26,25,26,29],[26,31,26,35],[26,37,26,41],[27,3,27,23],[27,25,27,29],[27,31,27,35],[27,37,27,41],[27,44,28,63],[28,3,28,23],[28,25,28,29],[28,31,28,35],[28,37,28,41],[29,1,29,24],[29,25,29,29],[29,30,29,42],[29,43,43,43],[29,44,29,63],[30,1,30,12],[30,22,30,26],[30,37,30,41],[30,44,32,63],[31,13,31,19],[31,20,31,42],[32,3,32,23],[32,25,32,29],[32,31,32,35],[32,37,32,41],[32,42,42,42],[33,3,33,23],[33,25,33,29],[33,31,33,35],[33,37,33,41],[33,44,35,63],[34,3,34,23],[34,25,34,29],[34,31,34,35],[34,37,34,41],[35,3,35,23],[35,25,35,29],[35,31,35,35],[35,37,35,41],[36,3,36,23],[36,25,36,29],[36,31,36,35],[36,37,36,41],[36,44,37,63],[37,3,37,23],[37,25,37,29],[37,31,37,35],[37,37,37,41],[38,3,38,23],[38,25,38,29],[38,31,38,35],[38,37,38,41],[38,44,41,63],[39,3,39,23],[39,25,39,29],[39,31,39,35],[39,37,39,41],[40,3,40,23],[40,25,40,29],[40,31,40,35],[40,37,40,41],[41,3,41,23],[41,25,41,29],[41,31,41,35],[41,37,41,41],[42,3,42,23],[42,25,42,29],[42,31,42,35],[42,37,42,41],[42,44,43,63],[43,1,43,24],[43,25,43,29],[43,30,43,42],[44,1,44,12],[44,22,44,26],[44,37,44,41],[44,43,49,63],[45,16,45,22],[45,23,45,42],[46,3,46,23],[46,25,46,29],[46,31,46,35],[46,37,46,41],[46,42,50,42],[47,3,47,23],[47,25,47,29],[47,31,47,35],[47,37,47,41],[48,3,48,23],[48,25,48,29],[48,31,48,35],[48,37,48,41],[49,3,49,23],[49,25,49,29],[49,31,49,35],[49,37,49,41],[50,3,50,23],[50,25,50,29],[50,31,50,35],[50,37,50,41],[50,43,52,43],[50,44,52,49],[50,50,51,63],[51,1,51,24],[51,25,51,29],[51,30,51,42],[52,1,52,12],[52,22,52,26],[52,37,52,41],[52,50,52,52],[52,54,52,57],[52,59,52,63],[53,1,53,42],[53,43,53,63],[54,0,55,0],[54,1,54,63],[55,1,55,63]]}
["VEGETATION (Five Strata)",{"$nulls":16},"– Use scientific names of plants.",{"$nulls":34},"Sampling Point:",{"$nulls":5},{"$f":"IF('Page 1 (Hydrology)'!AP3=0,\"\",'Page 1 (Hydrology)'!AP3)","v":""},{"$nulls":5},1,null,{"$f":"IF(AND(D9=\"\",D19=\"\",D29=\"\",D43=\"\",D51=\"\"),FALSE,TRUE)","v":false},{"$f":"ISERROR('Vegetation Continued, 5 Strata'!Z4)","v":false}]
[]
[null,"Tree Stratum",{"$nulls":6},"(Plot size:",{"$nulls":11},")",{"$nulls":4},"Absolute % Cover",{"$nulls":5},"Dominant Species?",{"$nulls":5},"Indicator Status",{"$nulls":6},"Dominance Test worksheet:",{"$nulls":21},"Indicators",null,"Absolute Cover","Dominance",null,"FAC-Neutral",{"$nulls":3},"Rapid","Prevalence Index Plant Totals For Worksheet",{"$nulls":4},"50/20 rule",{"$nulls":3},"Indicator Status"]
[null,"1.",null,"",{"$nulls":27},{"$f":"IF(Z4>0,IF(OR(AND(Z$11<5,Z$21=\"\",Z$30=\"\",Z$44=\"\",Z$52=\"\"),Z$11>=5),IF(AND(ISNA(MATCH(Z4,CG$4:CG$15,0)),CD4<0.2),\"No\",\"Yes\"),\"No\"),\"\")","v":""},{"$nulls":5},{"$f":"IF(CI4=0,\"\",CI4)","v":""},{"$nulls":6},"Number of Dominant Species That Are OBL, FACW, or FAC:",{"$nulls":21},"OBL",null,{"$f":"IFERROR(Z4,0)","v":0},{"$f":"IF(AND(AF4=\"Yes\",OR(AL4=\"OBL\",AL4=\"FACW\",AL4=\"FAC\")),1,0)","v":0},{"$f":"IF(AF4=\"Yes\",1,0)","v":0},{"$f":"IF(AND(AF4=\"Yes\",OR(AL4=\"OBL\",AL4=\"FACW\")),1,0)","v":0},{"$f":"IF(AND(AF4=\"Yes\",OR(AL4=\"UPL\",AL4=\"FACU\")),1,0)","v":0},{"$f":"IF(OR(AL4=\"OBL\",AL4=\"FACW\"),1,0)","v":0},{"$f":"IF(OR(AL4=\"UPL\",AL4=\"FACU\"),1,0)","v":0},{"$f":"IF(AND(AF4=\"YES\",OR(AL4=\"UPL\",AL4=\"FACU\",AL4=\"FAC\")),FALSE,TRUE)","v":true},{"$f":"IF($AL4=\"obl\",$Z4,0)","v":0},{"$f":"IF($AL4=\"facw\",$Z4,0)","v":0},{"$f":"IF($AL4=\"fac\",$Z4,0)","v":0},{"$f":"IF($AL4=\"facu\",$Z4,0)","v":0},{"$f":"IF($AL4=\"upl\",$Z4,0)","v":0},{"$f":"IFERROR(Z4/Z$11,0)","v":0},{"$f":"IFERROR(LARGE((BQ$4:BQ$15),1),0)","v":0},{"$f":"IFERROR(CE4/Z$11,0)","v":0},{"$f":"IF(CE4>0,CE4,\"\")","v":""},{"$f":"IF(ISNA(MATCH('Page 1 (Hydrology)'!$AI$3,$BO$33:$BO$43,0)),IF(ISNA(MATCH('Page 1 (Hydrology)'!$AI$3,$BO$46:$BO$49,0)),0,\"WGC\"),\"AGCP\")","v":0},{"$f":"IFERROR(IF(ISNA(MATCH(\"AGCP\",$CH$4:$CH$9,0)),IF(ISNA(MATCH(\"WGC\",$CH$4:$CH$9,0)),\"\",VLOOKUP(D4,Plant_List,3,FALSE)),VLOOKUP(D4,Plant_List,2,FALSE)),\"\")","v":""}]
[null,"2.",null,"",{"$nulls":27},{"$f":"IF(Z5>0,IF(OR(AND(Z$11<5,Z$21=\"\",Z$30=\"\",Z$44=\"\",Z$52=\"\"),Z$11>=5),IF(AND(ISNA(MATCH(Z5,CG$4:CG$15,0)),CD5<0.2),\"No\",\"Yes\"),\"No\"),\"\")","v":""},{"$nulls":5},{"$f":"IF(CI5=0,\"\",CI5)","v":""},{"$nulls":18},{"$f":"IF($BM$5=FALSE,IF(BE7=\"\",\"\",SUM(BR4:BR75)),\"\")","v":""},{"$nulls":4},"(A)",null,null,false,"This sampling point has passed the Rapid Test for Hydrophytic Vegetation.","FACW",null,{"$f":"IFERROR(Z5,0)","v":0},0,0,0,0,{"$f":"IF(OR(AL5=\"OBL\",AL5=\"FACW\"),1,0)","v":0},{"$f":"IF(OR(AL5=\"UPL\",AL5=\"FACU\"),1,0)","v":0},{"$f":"IF(AND(AF5=\"YES\",OR(AL5=\"UPL\",AL5=\"FACU\",AL5=\"FAC\")),FALSE,TRUE)","v":true},0,0,0,0,0,0,{"$f":"IFERROR(LARGE((BQ$4:BQ$15),2),0)","v":0},0,{"$f":"IF(AND(CE5>0,CF4>0.5),\"\",CE5)","v":0},{"$f":"IF(AND(CH$4=0,'Page 1 (Hydrology)'!$AI$3=\"AR\"),IF(ISNA(MATCH('Page 1 (Hydrology)'!$L$6,BO64,0)),IF(ISNA(MATCH('Page 1 (Hydrology)'!$L$6,BO66:BO72,0)),0,\"WGC\"),\"AGCP\"),0)","v":0},""]
[null,"3.",{"$nulls":29},"",{"$nulls":5},{"$f":"IF(CI6=0,\"\",CI6)","v":""},{"$nulls":6},"Total Number of Dominant Species Across All Strata:",{"$nulls":20},"I do not wish to have the Dominance Test worksheet calculated.","FAC",null,0,0,0,0,0,0,0,true,0,0,0,0,0,0,{"$f":"IFERROR(LARGE((BQ$4:BQ$15),3),0)","v":0},0,{"$f":"IF(AND(CE6>0,SUM(CF$4:CF5)>0.5),\"\",CE6)","v":0},{"$f":"IF(AND(CH$4=0,'Page 1 (Hydrology)'!$AI$3=\"LA\"),IF(ISNA(MATCH('Page 1 (Hydrology)'!$L$6,BO75:BO76,0)),IF(ISNA(MATCH('Page 1 (Hydrology)'!$L$6,BO78:BO87,0)),0,\"WGC\"),\"AGCP\"),0)","v":0},""]
[null,"4.",null,"",{"$nulls":27},"",{"$nulls":5},"",{"$nulls":18},{"$f":"IF($BM$5=FALSE,IF(SUM(BS4:BS75)>0,SUM(BS4:BS75),\"\"),\"\")","v":""},{"$nulls":4},"(B)",{"$nulls":4},"FACU",null,0,0,0,0,0,0,0,true,0,0,0,0,0,0,{"$f":"IFERROR(LARGE((BQ$4:BQ$15),4),0)","v":0},0,{"$f":"IF(AND(CE7>0,SUM(CF$4:CF6)>0.5),\"\",CE7)","v":0},{"$f":"IF(AND(CH$4=0,'Page 1 (Hydrology)'!$AI$3=\"MS\"),IF(ISNA(MATCH('Page 1 (Hydrology)'!$L$6,BO90:BO92,0)),IF(ISNA(MATCH('Page 1 (Hydrology)'!$L$6,BO95:BO98,0)),0,\"WGC\"),\"AGCP\"),0)","v":0},""]
[null,"5.",null,"",{"$nulls":27},"",{"$nulls":5},"",{"$nulls":6},"Percent of Dominant Species That Are OBL, FACW, or FAC:",{"$nulls":21},"UPL",null,0,0,0,0,0,0,0,true,0,0,0,0,0,0,{"$f":"IFERROR(LARGE((BQ$4:BQ$15),5),0)","v":0},0,{"$f":"IF(AND(CE8>0,SUM(CF$4:CF7)>0.5),\"\",CE8)","v":0},{"$f":"IF(AND(CH$4=0,'Page 1 (Hydrology)'!$AI$3=\"OK\"),IF(ISNA(MATCH('Page 1 (Hydrology)'!$L$6,BO101,0)),IF(ISNA(MATCH('Page 1 (Hydrology)'!$L$6,BO103,0)),0,\"WGC\"),\"AGCP\"),0)","v":0},""]
[null,"6.",null,"",{"$nulls":27},{"$f":"IF(Z9>0,IF(OR(AND(Z$11<5,Z$21=\"\",Z$30=\"\",Z$44=\"\",Z$52=\"\"),Z$11>=5),IF(AND(ISNA(MATCH(Z9,CG$4:CG$15,0)),CD9<0.2),\"No\",\"Yes\"),\"No\"),\"\")","v":""},{"$nulls":5},"",{"$nulls":18},{"$f":"IF(BE7=\"\",\"\",ROUND(BE5/BE7,3))","v":""},{"$nulls":4},"(A/B)",{"$nulls":6},0,0,0,0,0,0,0,true,0,0,0,0,0,0,{"$f":"IFERROR(LARGE((BQ$4:BQ$15),6),0)","v":0},0,{"$f":"IF(AND(CE9>0,SUM(CF$4:CF8)>0.5),\"\",CE9)","v":0},{"$f":"IF(AND(CH$4=0,'Page 1 (Hydrology)'!$AI$3=\"TN\"),IF(ISNA(MATCH('Page 1 (Hydrology)'!$L$6,BO106:BO107,0)),IF(ISNA(MATCH('Page 1 (Hydrology)'!$L$6,BO109:BO111,0)),0,\"WGC\"),\"AGCP\"),0)","v":0},""]
[null,"",{"$nulls":66},{"$f":"IFERROR('Vegetation Continued, 5 Strata'!Z4,0)","v":0},{"$f":"IFERROR(IF(AND('Vegetation Continued, 5 Strata'!AF4=\"Yes\",OR('Vegetation Continued, 5 Strata'!AL4=\"OBL\",'Vegetation Continued, 5 Strata'!AL4=\"FACW\",'Vegetation Continued, 5 Strata'!AL4=\"FAC\")),1,0),0)","v":0},{"$f":"IFERROR(IF('Vegetation Continued, 5 Strata'!AF4=\"Yes\",1,0),0)","v":0},{"$f":"IFERROR(IF(AND('Vegetation Continued, 5 Strata'!AF4=\"Yes\",OR('Vegetation Continued, 5 Strata'!AL4=\"OBL\",'Vegetation Continued, 5 Strata'!AL4=\"FACW\")),1,0),0)","v":0},{"$f":"IFERROR(IF(AND('Vegetation Continued, 5 Strata'!AF4=\"Yes\",OR('Vegetation Continued, 5 Strata'!AL4=\"UPL\",'Vegetation Continued, 5 Strata'!AL4=\"FACU\")),1,0),\"\")","v":0},{"$f":"IFERROR(IF(OR('Vegetation Continued, 5 Strata'!AL4=\"OBL\",'Vegetation Continued, 5 Strata'!AL4=\"FACW\"),1,0),0)","v":0},{"$f":"IFERROR(IF(OR('Vegetation Continued, 5 Strata'!AL4=\"UPL\",'Vegetation Continued, 5 Strata'!AL4=\"FACU\"),1,0),0)","v":0},{"$f":"IFERROR(IF(AND('Vegetation Continued, 5 Strata'!AF4=\"YES\",OR('Vegetation Continued, 5 Strata'!AL4=\"UPL\",'Vegetation Continued, 5 Strata'!AL4=\"FACU\",'Vegetation Continued, 5 Strata'!AL4=\"FAC\")),FALSE,TRUE),TRUE)","v":true},{"$f":"IFERROR(IF('Vegetation Continued, 5 Strata'!AL4=\"obl\",BQ10,0),0)","v":0},{"$f":"IFERROR(IF('Vegetation Continued, 5 Strata'!AL4=\"facw\",BQ10,0),0)","v":0},{"$f":"IFERROR(IF('Vegetation Continued, 5 Strata'!AL4=\"fac\",BQ10,0),0)","v":0},{"$f":"IFERROR(IF('Vegetation Continued, 5 Strata'!AL4=\"facu\",BQ10,0),0)","v":0},{"$f":"IFERROR(IF('Vegetation Continued, 5 Strata'!AL4=\"upl\",BQ10,0),0)","v":0},{"$f":"IFERROR(BQ10/Z$11,0)","v":0},{"$f":"IFERROR(LARGE((BQ$4:BQ$15),7),0)","v":0},{"$f":"IFERROR(CE10/Z$11,0)","v":0},{"$f":"IF(AND(CE10>0,SUM(CF$4:CF9)>0.5),\"\",CE10)","v":0},null,{"$f":"IFERROR(IF(ISNA(MATCH(\"AGCP\",$CH$4:$CH$9,0)),IF(ISNA(MATCH(\"WGC\",$CH$4:$CH$9,0)),\"\",VLOOKUP('Vegetation Continued, 5 Strata'!D4,Plant_List,3,FALSE)),VLOOKUP('Vegetation Continued, 5 Strata'!D4,Plant_List,2,FALSE)),\"\")","v":""}]
[{"$nulls":25},{"$f":"IF(SUM(BQ4:BQ15)>0,SUM(BQ4:BQ15),\"\")","v":""},{"$nulls":4},"=Total Cover",{"$nulls":13},"Prevalence Index worksheet:",{"$nulls":19},false,"This sampling point has passed the Rapid Test for Hydrophytic Vegetation","Page 1",null,{"$f":"IFERROR('Vegetation Continued, 5 Strata'!Z5,0)","v":0},{"$f":"IFERROR(IF(AND('Vegetation Continued, 5 Strata'!AF5=\"Yes\",OR('Vegetation Continued, 5 Strata'!AL5=\"OBL\",'Vegetation Continued, 5 Strata'!AL5=\"FACW\",'Vegetation Continued, 5 Strata'!AL5=\"FAC\")),1,0),0)","v":0},{"$f":"IFERROR(IF('Vegetation Continued, 5 Strata'!AF5=\"Yes\",1,0),0)","v":0},{"$f":"IFERROR(IF(AND('Vegetation Continued, 5 Strata'!AF5=\"Yes\",OR('Vegetation Continued, 5 Strata'!AL5=\"OBL\",'Vegetation Continued, 5 Strata'!AL5=\"FACW\")),1,0),0)","v":0},{"$f":"IFERROR(IF(AND('Vegetation Continued, 5 Strata'!AF5=\"Yes\",OR('Vegetation Continued, 5 Strata'!AL5=\"UPL\",'Vegetation Continued, 5 Strata'!AL5=\"FACU\")),1,0),0)","v":0},{"$f":"IFERROR(IF(OR('Vegetation Continued, 5 Strata'!AL5=\"OBL\",'Vegetation Continued, 5 Strata'!AL5=\"FACW\"),1,0),0)","v":0},{"$f":"IFERROR(IF(OR('Vegetation Continued, 5 Strata'!AL5=\"UPL\",'Vegetation Continued, 5 Strata'!AL5=\"FACU\"),1,0),0)","v":0},{"$f":"IFERROR(IF(AND('Vegetation Continued, 5 Strata'!AF5=\"YES\",OR('Vegetation Continued, 5 Strata'!AL5=\"UPL\",'Vegetation Continued, 5 Strata'!AL5=\"FACU\",'Vegetation Continued, 5 Strata'!AL5=\"FAC\")),FALSE,TRUE),TRUE)","v":true},{"$f":"IFERROR(IF('Vegetation Continued, 5 Strata'!AL5=\"obl\",BQ11,0),0)","v":0},{"$f":"IFERROR(IF('Vegetation Continued, 5 Strata'!AL5=\"facw\",BQ11,0),0)","v":0},{"$f":"IFERROR(IF('Vegetation Continued, 5 Strata'!AL5=\"fac\",BQ11,0),0)","v":0},{"$f":"IFERROR(IF('Vegetation Continued, 5 Strata'!AL5=\"facu\",BQ11,0),0)","v":0},{"$f":"IFERROR(IF('Vegetation Continued, 5 Strata'!AL5=\"upl\",BQ11,0),0)","v":0},{"$f":"IFERROR(BQ11/Z$11,0)","v":0},{"$f":"IFERROR(LARGE((BQ$4:BQ$15),8),0)","v":0},{"$f":"IFERROR(CE11/Z$11,0)","v":0},{"$f":"IF(AND(CE11>0,SUM(CF$4:CF10)>0.5),\"\",CE11)","v":0},null,{"$f":"IFERROR(IF(ISNA(MATCH(\"AGCP\",$CH$4:$CH$9,0)),IF(ISNA(MATCH(\"WGC\",$CH$4:$CH$9,0)),\"\",VLOOKUP('Vegetation Continued, 5 Strata'!D5,Plant_List,3,FALSE)),VLOOKUP('Vegetation Continued, 5 Strata'!D5,Plant_List,2,FALSE)),\"\")","v":""}]
[{"$nulls":13},"50% of total cover:",{"$nulls":8},{"$f":"IFERROR(ROUNDUP(Z11/2,0),\"\")","v":""},{"$nulls":5},"20% of total cover:",{"$nulls":8},{"$f":"IFERROR(ROUNDUP(Z11/5,0),\"\")","v":""},{"$nulls":6},"Total % Cover of:",{"$nulls":10},"Multiply by:",{"$nulls":9},"and/or the Dominance Test.  I do not wish to have the Prevalence Index",{"$f":"ISBLANK('Page 1 (Hydrology)'!AI3)","v":true},null,{"$f":"IFERROR('Vegetation Continued, 5 Strata'!Z6,0)","v":0},{"$f":"IFERROR(IF(AND('Vegetation Continued, 5 Strata'!AF6=\"Yes\",OR('Vegetation Continued, 5 Strata'!AL6=\"OBL\",'Vegetation Continued, 5 Strata'!AL6=\"FACW\",'Vegetation Continued, 5 Strata'!AL6=\"FAC\")),1,0),0)","v":0},{"$f":"IFERROR(IF('Vegetation Continued, 5 Strata'!AF6=\"Yes\",1,0),0)","v":0},{"$f":"IFERROR(IF(AND('Vegetation Continued, 5 Strata'!AF6=\"Yes\",OR('Vegetation Continued, 5 Strata'!AL6=\"OBL\",'Vegetation Continued, 5 Strata'!AL6=\"FACW\")),1,0),0)","v":0},{"$f":"IFERROR(IF(AND('Vegetation Continued, 5 Strata'!AF6=\"Yes\",OR('Vegetation Continued, 5 Strata'!AL6=\"UPL\",'Vegetation Continued, 5 Strata'!AL6=\"FACU\")),1,0),0)","v":0},{"$f":"IFERROR(IF(OR('Vegetation Continued, 5 Strata'!AL6=\"OBL\",'Vegetation Continued, 5 Strata'!AL6=\"FACW\"),1,0),0)","v":0},{"$f":"IFERROR(IF(OR('Vegetation Continued, 5 Strata'!AL6=\"UPL\",'Vegetation Continued, 5 Strata'!AL6=\"FACU\"),1,0),0)","v":0},{"$f":"IFERROR(IF(AND('Vegetation Continued, 5 Strata'!AF6=\"YES\",OR('Vegetation Continued, 5 Strata'!AL6=\"UPL\",'Vegetation Continued, 5 Strata'!AL6=\"FACU\",'Vegetation Continued, 5 Strata'!AL6=\"FAC\")),FALSE,TRUE),TRUE)","v":true},{"$f":"IFERROR(IF('Vegetation Continued, 5 Strata'!AL6=\"obl\",BQ12,0),0)","v":0},{"$f":"IFERROR(IF('Vegetation Continued, 5 Strata'!AL6=\"facw\",BQ12,0),0)","v":0},{"$f":"IFERROR(IF('Vegetation Continued, 5 Strata'!AL6=\"fac\",BQ12,0),0)","v":0},{"$f":"IFERROR(IF('Vegetation Continued, 5 Strata'!AL6=\"facu\",BQ12,0),0)","v":0},{"$f":"IFERROR(IF('Vegetation Continued, 5 Strata'!AL6=\"upl\",BQ12,0),0)","v":0},0,{"$f":"IFERROR(LARGE((BQ$4:BQ$15),9),0)","v":0},0,{"$f":"IF(AND(CE12>0,SUM(CF$4:CF11)>0.5),\"\",CE12)","v":0},null,{"$f":"IFERROR(IF(ISNA(MATCH(\"AGCP\",$CH$4:$CH$9,0)),IF(ISNA(MATCH(\"WGC\",$CH$4:$CH$9,0)),\"\",VLOOKUP('Vegetation Continued, 5 Strata'!D6,Plant_List,3,FALSE)),VLOOKUP('Vegetation Continued, 5 Strata'!D6,Plant_List,2,FALSE)),\"\")","v":""}]
[null,"Sapling Stratum",{"$nulls":7},"(Plot size:",{"$nulls":11},")",{"$nulls":22},"OBL species",{"$nulls":5},{"$f":"IF(AND($BM$11=FALSE,$BY$77=FALSE),SUM(BY$4:BY$75),\"\")","v":""},{"$nulls":4},"x 1 =",null,null,{"$f":"IF(ISNUMBER(AY13),AY13,\"\")","v":""},{"$nulls":6},"worksheet calculated.",{"$f":"IF('Page 1 (Hydrology)'!$AI$3=\"AR\",IF(ISNA(MATCH('Page 1 (Hydrology)'!$L$6,BO115:BO122,0)),TRUE,FALSE))","v":false},null,{"$f":"IFERROR('Vegetation Continued, 5 Strata'!Z7,0)","v":0},{"$f":"IFERROR(IF(AND('Vegetation Continued, 5 Strata'!AF7=\"Yes\",OR('Vegetation Continued, 5 Strata'!AL7=\"OBL\",'Vegetation Continued, 5 Strata'!AL7=\"FACW\",'Vegetation Continued, 5 Strata'!AL7=\"FAC\")),1,0),0)","v":0},{"$f":"IFERROR(IF('Vegetation Continued, 5 Strata'!AF7=\"Yes\",1,0),0)","v":0},{"$f":"IFERROR(IF(AND('Vegetation Continued, 5 Strata'!AF7=\"Yes\",OR('Vegetation Continued, 5 Strata'!AL7=\"OBL\",'Vegetation Continued, 5 Strata'!AL7=\"FACW\")),1,0),0)","v":0},{"$f":"IFERROR(IF(AND('Vegetation Continued, 5 Strata'!AF7=\"Yes\",OR('Vegetation Continued, 5 Strata'!AL7=\"UPL\",'Vegetation Continued, 5 Strata'!AL7=\"FACU\")),1,0),0)","v":0},{"$f":"IFERROR(IF(OR('Vegetation Continued, 5 Strata'!AL7=\"OBL\",'Vegetation Continued, 5 Strata'!AL7=\"FACW\"),1,0),0)","v":0},{"$f":"IFERROR(IF(OR('Vegetation Continued, 5 Strata'!AL7=\"UPL\",'Vegetation Continued, 5 Strata'!AL7=\"FACU\"),1,0),0)","v":0},{"$f":"IFERROR(IF(AND('Vegetation Continued, 5 Strata'!AF7=\"YES\",OR('Vegetation Continued, 5 Strata'!AL7=\"UPL\",'Vegetation Continued, 5 Strata'!AL7=\"FACU\",'Vegetation Continued, 5 Strata'!AL7=\"FAC\")),FALSE,TRUE),TRUE)","v":true},{"$f":"IFERROR(IF('Vegetation Continued, 5 Strata'!AL7=\"obl\",BQ13,0),0)","v":0},{"$f":"IFERROR(IF('Vegetation Continued, 5 Strata'!AL7=\"facw\",BQ13,0),0)","v":0},{"$f":"IFERROR(IF('Vegetation Continued, 5 Strata'!AL7=\"fac\",BQ13,0),0)","v":0},{"$f":"IFERROR(IF('Vegetation Continued, 5 Strata'!AL7=\"facu\",BQ13,0),0)","v":0},{"$f":"IFERROR(IF('Vegetation Continued, 5 Strata'!AL7=\"upl\",BQ13,0),0)","v":0},0,{"$f":"IFERROR(LARGE((BQ$4:BQ$15),10),0)","v":0},0,{"$f":"IF(AND(CE13>0,SUM(CF$4:CF12)>0.5),\"\",CE13)","v":0},null,{"$f":"IFERROR(IF(ISNA(MATCH(\"AGCP\",$CH$4:$CH$9,0)),IF(ISNA(MATCH(\"WGC\",$CH$4:$CH$9,0)),\"\",VLOOKUP('Vegetation Continued, 5 Strata'!D7,Plant_List,3,FALSE)),VLOOKUP('Vegetation Continued, 5 Strata'!D7,Plant_List,2,FALSE)),\"\")","v":""}]
[null,"1.",null,"",{"$nulls":27},{"$f":"IF(Z14>0,IF(OR(AND(Z$21<5,Z$11=\"\",Z$30=\"\",Z$44=\"\",Z$52=\"\"),Z$21>=5),IF(AND(ISNA(MATCH(Z14,CG$17:CG$28,0)),CD17<0.2),\"No\",\"Yes\"),\"No\"),\"\")","v":""},{"$nulls":5},{"$f":"IF(CI17=0,\"\",CI17)","v":""},{"$nulls":6},"FACW species",{"$nulls":5},{"$f":"IF(AND($BM$11=FALSE,$BY$77=FALSE),SUM(BZ$4:BZ$75),\"\")","v":""},{"$nulls":4},"x 2 =",null,null,{"$f":"IF(ISNUMBER(AY14),AY14*2,\"\")","v":""},{"$nulls":7},{"$f":"IF('Page 1 (Hydrology)'!$AI$3=\"LA\",IF(ISNA(MATCH('Page 1 (Hydrology)'!$L$6,BO125:BO136,0)),TRUE,FALSE))","v":false},null,{"$f":"IFERROR('Vegetation Continued, 5 Strata'!Z8,0)","v":0},{"$f":"IFERROR(IF(AND('Vegetation Continued, 5 Strata'!AF8=\"Yes\",OR('Vegetation Continued, 5 Strata'!AL8=\"OBL\",'Vegetation Continued, 5 Strata'!AL8=\"FACW\",'Vegetation Continued, 5 Strata'!AL8=\"FAC\")),1,0),0)","v":0},{"$f":"IFERROR(IF('Vegetation Continued, 5 Strata'!AF8=\"Yes\",1,0),0)","v":0},{"$f":"IFERROR(IF(AND('Vegetation Continued, 5 Strata'!AF8=\"Yes\",OR('Vegetation Continued, 5 Strata'!AL8=\"OBL\",'Vegetation Continued, 5 Strata'!AL8=\"FACW\")),1,0),0)","v":0},{"$f":"IFERROR(IF(AND('Vegetation Continued, 5 Strata'!AF8=\"Yes\",OR('Vegetation Continued, 5 Strata'!AL8=\"UPL\",'Vegetation Continued, 5 Strata'!AL8=\"FACU\")),1,0),0)","v":0},{"$f":"IFERROR(IF(OR('Vegetation Continued, 5 Strata'!AL8=\"OBL\",'Vegetation Continued, 5 Strata'!AL8=\"FACW\"),1,0),0)","v":0},{"$f":"IFERROR(IF(OR('Vegetation Continued, 5 Strata'!AL8=\"UPL\",'Vegetation Continued, 5 Strata'!AL8=\"FACU\"),1,0),0)","v":0},{"$f":"IFERROR(IF(AND('Vegetation Continued, 5 Strata'!AF8=\"YES\",OR('Vegetation Continued, 5 Strata'!AL8=\"UPL\",'Vegetation Continued, 5 Strata'!AL8=\"FACU\",'Vegetation Continued, 5 Strata'!AL8=\"FAC\")),FALSE,TRUE),TRUE)","v":true},{"$f":"IFERROR(IF('Vegetation Continued, 5 Strata'!AL8=\"obl\",BQ14,0),0)","v":0},{"$f":"IFERROR(IF('Vegetation Continued, 5 Strata'!AL8=\"facw\",BQ14,0),0)","v":0},{"$f":"IFERROR(IF('Vegetation Continued, 5 Strata'!AL8=\"fac\",BQ14,0),0)","v":0},{"$f":"IFERROR(IF('Vegetation Continued, 5 Strata'!AL8=\"facu\",BQ14,0),0)","v":0},{"$f":"IFERROR(IF('Vegetation Continued, 5 Strata'!AL8=\"upl\",BQ14,0),0)","v":0},0,{"$f":"IFERROR(LARGE((BQ$4:BQ$15),11),0)","v":0},0,{"$f":"IF(AND(CE14>0,SUM(CF$4:CF13)>0.5),\"\",CE14)","v":0},null,{"$f":"IFERROR(IF(ISNA(MATCH(\"AGCP\",$CH$4:$CH$9,0)),IF(ISNA(MATCH(\"WGC\",$CH$4:$CH$9,0)),\"\",VLOOKUP('Vegetation Continued, 5 Strata'!D8,Plant_List,3,FALSE)),VLOOKUP('Vegetation Continued, 5 Strata'!D8,Plant_List,2,FALSE)),\"\")","v":""}]
[null,"2.",null,"",{"$nulls":27},{"$f":"IF(Z15>0,IF(OR(AND(Z$21<5,Z$11=\"\",Z$30=\"\",Z$44=\"\",Z$52=\"\"),Z$21>=5),IF(AND(ISNA(MATCH(Z15,CG$17:CG$28,0)),CD18<0.2),\"No\",\"Yes\"),\"No\"),\"\")","v":""},{"$nulls":5},"",{"$nulls":6},"FAC species",{"$nulls":5},{"$f":"IF(AND($BM$11=FALSE,$BY$77=FALSE),SUM(CA$4:CA$75),\"\")","v":""},{"$nulls":4},"x 3 =",null,null,{"$f":"IF(ISNUMBER(AY15),AY15*3,\"\")","v":""},{"$nulls":7},{"$f":"IF('Page 1 (Hydrology)'!$AI$3=\"MS\",IF(ISNA(MATCH('Page 1 (Hydrology)'!$L$6,BO139:BO145,0)),TRUE,FALSE))","v":false},null,{"$f":"IFERROR('Vegetation Continued, 5 Strata'!Z9,0)","v":0},{"$f":"IFERROR(IF(AND('Vegetation Continued, 5 Strata'!AF9=\"Yes\",OR('Vegetation Continued, 5 Strata'!AL9=\"OBL\",'Vegetation Continued, 5 Strata'!AL9=\"FACW\",'Vegetation Continued, 5 Strata'!AL9=\"FAC\")),1,0),0)","v":0},{"$f":"IFERROR(IF('Vegetation Continued, 5 Strata'!AF9=\"Yes\",1,0),0)","v":0},{"$f":"IFERROR(IF(AND('Vegetation Continued, 5 Strata'!AF9=\"Yes\",OR('Vegetation Continued, 5 Strata'!AL9=\"OBL\",'Vegetation Continued, 5 Strata'!AL9=\"FACW\")),1,0),0)","v":0},{"$f":"IFERROR(IF(AND('Vegetation Continued, 5 Strata'!AF9=\"Yes\",OR('Vegetation Continued, 5 Strata'!AL9=\"UPL\",'Vegetation Continued, 5 Strata'!AL9=\"FACU\")),1,0),0)","v":0},{"$f":"IFERROR(IF(OR('Vegetation Continued, 5 Strata'!AL9=\"OBL\",'Vegetation Continued, 5 Strata'!AL9=\"FACW\"),1,0),0)","v":0},{"$f":"IFERROR(IF(OR('Vegetation Continued, 5 Strata'!AL9=\"UPL\",'Vegetation Continued, 5 Strata'!AL9=\"FACU\"),1,0),0)","v":0},{"$f":"IFERROR(IF(AND('Vegetation Continued, 5 Strata'!AF9=\"YES\",OR('Vegetation Continued, 5 Strata'!AL9=\"UPL\",'Vegetation Continued, 5 Strata'!AL9=\"FACU\",'Vegetation Continued, 5 Strata'!AL9=\"FAC\")),FALSE,TRUE),TRUE)","v":true},{"$f":"IFERROR(IF('Vegetation Continued, 5 Strata'!AL9=\"obl\",BQ15,0),0)","v":0},{"$f":"IFERROR(IF('Vegetation Continued, 5 Strata'!AL9=\"facw\",BQ15,0),0)","v":0},{"$f":"IFERROR(IF('Vegetation Continued, 5 Strata'!AL9=\"fac\",BQ15,0),0)","v":0},{"$f":"IFERROR(IF('Vegetation Continued, 5 Strata'!AL9=\"facu\",BQ15,0),0)","v":0},{"$f":"IFERROR(IF('Vegetation Continued, 5 Strata'!AL9=\"upl\",BQ15,0),0)","v":0},0,{"$f":"IFERROR(LARGE((BQ$4:BQ$15),12),0)","v":0},0,{"$f":"IF(AND(CE15>0,SUM(CF$4:CF14)>0.5),0,CE15)","v":0},null,{"$f":"IFERROR(IF(ISNA(MATCH(\"AGCP\",$CH$4:$CH$9,0)),IF(ISNA(MATCH(\"WGC\",$CH$4:$CH$9,0)),\"\",VLOOKUP('Vegetation Continued, 5 Strata'!D9,Plant_List,3,FALSE)),VLOOKUP('Vegetation Continued, 5 Strata'!D9,Plant_List,2,FALSE)),\"\")","v":""}]
[null,"3.",null,"",{"$nulls":27},"",{"$nulls":5},"",{"$nulls":6},"FACU species",{"$nulls":5},{"$f":"IF(AND($BM$11=FALSE,$BY$77=FALSE),SUM(CB$4:CB$75),\"\")","v":""},{"$nulls":4},"x 4 =",null,null,{"$f":"IF(ISNUMBER(AY16),AY16*4,\"\")","v":""},{"$nulls":7},{"$f":"IF('Page 1 (Hydrology)'!$AI$3=\"OK\",IF(ISNA(MATCH('Page 1 (Hydrology)'!$L$6,BO148:BO149,0)),TRUE,FALSE))","v":false}]
[null,"4.",null,"",{"$nulls":27},"",{"$nulls":5},"",{"$nulls":6},"UPL species",{"$nulls":5},{"$f":"IF(AND($BM$11=FALSE,$BY$77=FALSE),SUM(CC$4:CC$75),\"\")","v":""},{"$nulls":4},"x 5 =",null,null,{"$f":"IF(ISNUMBER(AY17),AY17*5,\"\")","v":""},{"$nulls":7},{"$f":"IF('Page 1 (Hydrology)'!$AI$3=\"TN\",IF(ISNA(MATCH('Page 1 (Hydrology)'!$L$6,BO152:BO156,0)),TRUE,FALSE))","v":false},null,{"$f":"IFERROR(Z14,0)","v":0},{"$f":"IF(AND(AF14=\"Yes\",OR(AL14=\"OBL\",AL14=\"FACW\",AL14=\"FAC\")),1,0)","v":0},{"$f":"IF(AF14=\"Yes\",1,0)","v":0},{"$f":"IF(AND(AF14=\"Yes\",OR(AL14=\"OBL\",AL14=\"FACW\")),1,0)","v":0},{"$f":"IF(AND(AF14=\"Yes\",OR(AL14=\"UPL\",AL14=\"FACU\")),1,0)","v":0},{"$f":"IF(OR(AL14=\"OBL\",AL14=\"FACW\"),1,0)","v":0},{"$f":"IF(OR(AL14=\"UPL\",AL14=\"FACU\"),1,0)","v":0},{"$f":"IF(AND(AF14=\"YES\",OR(AL14=\"UPL\",AL14=\"FACU\",AL14=\"FAC\")),FALSE,TRUE)","v":true},{"$f":"IF($AL14=\"obl\",$Z14,0)","v":0},{"$f":"IF($AL14=\"facw\",$Z14,0)","v":0},{"$f":"IF($AL14=\"fac\",$Z14,0)","v":0},{"$f":"IF($AL14=\"facu\",$Z14,0)","v":0},{"$f":"IF($AL14=\"upl\",$Z14,0)","v":0},{"$f":"IFERROR(Z14/Z$21,0)","v":0},{"$f":"IFERROR(LARGE((BQ$17:BQ$28),1),0)","v":0},{"$f":"IFERROR(CE17/Z$21,0)","v":0},{"$f":"IF(CE17>0,CE17,\"\")","v":""},null,{"$f":"IFERROR(IF(ISNA(MATCH(\"AGCP\",$CH$4:$CH$9,0)),IF(ISNA(MATCH(\"WGC\",$CH$4:$CH$9,0)),\"\",VLOOKUP(D14,Plant_List,3,FALSE)),VLOOKUP(D14,Plant_List,2,FALSE)),\"\")","v":""}]
[null,"5.",{"$nulls":29},"",{"$nulls":5},"",{"$nulls":6},"Column Totals:",{"$nulls":5},{"$f":"IF(AND(AY13=\"\",AY14=\"\",AY15=\"\",AY16=\"\",AY17=\"\"),\"\",SUM(AY13:BB17))","v":""},{"$nulls":3},"(A)",{"$nulls":3},{"$f":"IF(AND($BM$11=FALSE,$BY$77=FALSE),SUM(BG13:BJ17),\"\")","v":""},{"$nulls":3},"(B)",{"$nulls":3},{"$f":"IF(AND(OR($BO$12=TRUE,$BO$13=TRUE,$BO$14=TRUE,$BO$15=TRUE,$BO$16=TRUE,$BO$17=TRUE),D4<>\"\"),TRUE,FALSE)","v":false},null,{"$f":"IFERROR(Z15,0)","v":0},0,0,0,0,0,0,true,0,0,0,0,0,0,{"$f":"IFERROR(LARGE((BQ$17:BQ$28),2),0)","v":0},0,{"$f":"IF(AND(CE18>0,CF17>0.5),\"\",CE18)","v":0},null,""]
[null,"6.",null,"",{"$nulls":27},"",{"$nulls":5},"",{"$nulls":8},"Prevalence Index  = B/A =",{"$nulls":10},{"$f":"IFERROR(IF(ISNUMBER(BG18),ROUND(BG18/AY18,2),\"\"),\"\")","v":""},{"$nulls":10},0,0,0,0,0,0,0,true,0,0,0,0,0,0,{"$f":"IFERROR(LARGE((BQ$17:BQ$28),3),0)","v":0},0,{"$f":"IF(AND(CE19>0,SUM(CF$17:CF18)>0.5),\"\",CE19)","v":0},null,""]
[{"$nulls":68},0,0,0,0,0,0,0,true,0,0,0,0,0,0,{"$f":"IFERROR(LARGE((BQ$17:BQ$28),4),0)","v":0},0,{"$f":"IF(AND(CE20>0,SUM(CF$17:CF19)>0.5),\"\",CE20)","v":0},null,""]
[{"$nulls":25},{"$f":"IF(SUM(BQ17:BQ28)>0,SUM(BQ17:BQ28),\"\")","v":""},{"$nulls":4},"=Total Cover",{"$nulls":13},"Hydrophytic Vegetation Indicators:",{"$nulls":21},"Rapid Test",null,0,0,0,0,0,0,0,true,0,0,0,0,0,0,{"$f":"IFERROR(LARGE((BQ$17:BQ$28),5),0)","v":0},0,{"$f":"IF(AND(CE21>0,SUM(CF$17:CF20)>0.5),\"\",CE21)","v":0},null,""]
[{"$nulls":13},"50% of total cover:",{"$nulls":8},{"$f":"IFERROR(ROUNDUP(Z21/2,0),\"\")","v":""},{"$nulls":5},"20% of total cover:",{"$nulls":8},{"$f":"IFERROR(ROUNDUP(Z21/5,0),\"\")","v":""},{"$nulls":7},"1 - Rapid Test for Hydrophytic Vegetation",{"$nulls":20},{"$f":"IF(ISNA(MATCH(FALSE,BX4:BX75,0)),TRUE,FALSE)","v":true},null,{"$f":"IFERROR(Z19,0)","v":0},0,0,0,0,0,0,true,0,0,0,0,0,0,{"$f":"IFERROR(LARGE((BQ$17:BQ$28),6),0)","v":0},0,{"$f":"IF(AND(CE22>0,SUM(CF$17:CF21)>0.5),\"\",CE22)","v":0},null,""]
[null,"Shrub Stratum",{"$nulls":6},"(Plot size:",{"$nulls":11},")",{"$nulls":23},{"$f":"IF(AND(BE9>0.5,BE9<>\"\"),\"X\",\"\")","v":""},"2 - Dominance Test is >50%",{"$nulls":22},{"$f":"IFERROR('Vegetation Continued, 5 Strata'!Z14,0)","v":0},{"$f":"IFERROR(IF(AND('Vegetation Continued, 5 Strata'!AF14=\"Yes\",OR('Vegetation Continued, 5 Strata'!AL14=\"OBL\",'Vegetation Continued, 5 Strata'!AL14=\"FACW\",'Vegetation Continued, 5 Strata'!AL14=\"FAC\")),1,0),0)","v":0},{"$f":"IFERROR(IF('Vegetation Continued, 5 Strata'!AF14=\"Yes\",1,0),0)","v":0},{"$f":"IFERROR(IF(AND('Vegetation Continued, 5 Strata'!AF14=\"Yes\",OR('Vegetation Continued, 5 Strata'!AL14=\"OBL\",'Vegetation Continued, 5 Strata'!AL14=\"FACW\")),1,0),0)","v":0},{"$f":"IFERROR(IF(AND('Vegetation Continued, 5 Strata'!AF14=\"Yes\",OR('Vegetation Continued, 5 Strata'!AL14=\"UPL\",'Vegetation Continued, 5 Strata'!AL14=\"FACU\")),1,0),0)","v":0},{"$f":"IFERROR(IF(OR('Vegetation Continued, 5 Strata'!AL14=\"OBL\",'Vegetation Continued, 5 Strata'!AL14=\"FACW\"),1,0),0)","v":0},{"$f":"IFERROR(IF(OR('Vegetation Continued, 5 Strata'!AL14=\"UPL\",'Vegetation Continued, 5 Strata'!AL14=\"FACU\"),1,0),0)","v":0},{"$f":"IF(AND('Vegetation Continued, 5 Strata'!AF14=\"YES\",OR('Vegetation Continued, 5 Strata'!AL14=\"UPL\",'Vegetation Continued, 5 Strata'!AL14=\"FACU\",'Vegetation Continued, 5 Strata'!AL14=\"FAC\")),FALSE,TRUE)","v":true},{"$f":"IFERROR(IF('Vegetation Continued, 5 Strata'!AL14=\"obl\",BQ23,0),0)","v":0},{"$f":"IFERROR(IF('Vegetation Continued, 5 Strata'!AL14=\"facw\",BQ23,0),0)","v":0},{"$f":"IFERROR(IF('Vegetation Continued, 5 Strata'!AL14=\"fac\",BQ23,0),0)","v":0},{"$f":"IFERROR(IF('Vegetation Continued, 5 Strata'!AL14=\"facu\",BQ23,0),0)","v":0},{"$f":"IFERROR(IF('Vegetation Continued, 5 Strata'!AL14=\"upl\",BQ23,0),0)","v":0},{"$f":"IFERROR(BQ23/Z$21,0)","v":0},{"$f":"IFERROR(LARGE((BQ$17:BQ$28),7),0)","v":0},0,{"$f":"IF(AND(CE23>0,SUM(CF$17:CF22)>0.5),\"\",CE23)","v":0},null,{"$f":"IFERROR(IF(ISNA(MATCH(\"AGCP\",$CH$4:$CH$9,0)),IF(ISNA(MATCH(\"WGC\",$CH$4:$CH$9,0)),\"\",VLOOKUP('Vegetation Continued, 5 Strata'!D14,Plant_List,3,FALSE)),VLOOKUP('Vegetation Continued, 5 Strata'!D14,Plant_List,2,FALSE)),\"\")","v":""}]
[null,"1.",null,"",{"$nulls":27},{"$f":"IF(Z24>0,IF(OR(AND(Z$30<5,Z$11=\"\",Z$21=\"\",Z$44=\"\",Z$52=\"\"),Z$30>=5),IF(AND(ISNA(MATCH(Z24,CG$30:CG$41,0)),CD30<0.2),\"No\",\"Yes\"),\"No\"),\"\")","v":""},{"$nulls":5},{"$f":"IF(CI30=0,\"\",CI30)","v":""},{"$nulls":6},{"$f":"IF(AND(BF19<=3,BO29=TRUE),\"X\",\"\")","v":""},"3 - Prevalence Index is ≤3.01",{"$nulls":20},"Hydro/Soil",null,{"$f":"IFERROR('Vegetation Continued, 5 Strata'!Z15,0)","v":0},{"$f":"IFERROR(IF(AND('Vegetation Continued, 5 Strata'!AF15=\"Yes\",OR('Vegetation Continued, 5 Strata'!AL15=\"OBL\",'Vegetation Continued, 5 Strata'!AL15=\"FACW\",'Vegetation Continued, 5 Strata'!AL15=\"FAC\")),1,0),0)","v":0},{"$f":"IFERROR(IF('Vegetation Continued, 5 Strata'!AF15=\"Yes\",1,0),0)","v":0},{"$f":"IFERROR(IF(AND('Vegetation Continued, 5 Strata'!AF15=\"Yes\",OR('Vegetation Continued, 5 Strata'!AL15=\"OBL\",'Vegetation Continued, 5 Strata'!AL15=\"FACW\")),1,0),0)","v":0},{"$f":"IFERROR(IF(AND('Vegetation Continued, 5 Strata'!AF15=\"Yes\",OR('Vegetation Continued, 5 Strata'!AL15=\"UPL\",'Vegetation Continued, 5 Strata'!AL15=\"FACU\")),1,0),0)","v":0},{"$f":"IFERROR(IF(OR('Vegetation Continued, 5 Strata'!AL15=\"OBL\",'Vegetation Continued, 5 Strata'!AL15=\"FACW\"),1,0),0)","v":0},{"$f":"IFERROR(IF(OR('Vegetation Continued, 5 Strata'!AL15=\"UPL\",'Vegetation Continued, 5 Strata'!AL15=\"FACU\"),1,0),0)","v":0},{"$f":"IF(AND('Vegetation Continued, 5 Strata'!AF15=\"YES\",OR('Vegetation Continued, 5 Strata'!AL15=\"UPL\",'Vegetation Continued, 5 Strata'!AL15=\"FACU\",'Vegetation Continued, 5 Strata'!AL15=\"FAC\")),FALSE,TRUE)","v":true},{"$f":"IFERROR(IF('Vegetation Continued, 5 Strata'!AL15=\"obl\",BQ24,0),0)","v":0},{"$f":"IFERROR(IF('Vegetation Continued, 5 Strata'!AL15=\"facw\",BQ24,0),0)","v":0},{"$f":"IFERROR(IF('Vegetation Continued, 5 Strata'!AL15=\"fac\",BQ24,0),0)","v":0},{"$f":"IFERROR(IF('Vegetation Continued, 5 Strata'!AL15=\"facu\",BQ24,0),0)","v":0},{"$f":"IFERROR(IF('Vegetation Continued, 5 Strata'!AL15=\"upl\",BQ24,0),0)","v":0},{"$f":"IFERROR(BQ24/Z$21,0)","v":0},{"$f":"IFERROR(LARGE((BQ$17:BQ$28),8),0)","v":0},0,{"$f":"IF(AND(CE24>0,SUM(CF$17:CF23)>0.5),\"\",CE24)","v":0},null,{"$f":"IFERROR(IF(ISNA(MATCH(\"AGCP\",$CH$4:$CH$9,0)),IF(ISNA(MATCH(\"WGC\",$CH$4:$CH$9,0)),\"\",VLOOKUP('Vegetation Continued, 5 Strata'!D15,Plant_List,3,FALSE)),VLOOKUP('Vegetation Continued, 5 Strata'!D15,Plant_List,2,FALSE)),\"\")","v":""}]
[null,"2.",null,"",{"$nulls":27},{"$f":"IF(Z25>0,IF(OR(AND(Z$30<5,Z$11=\"\",Z$21=\"\",Z$44=\"\",Z$52=\"\"),Z$30>=5),IF(AND(ISNA(MATCH(Z25,CG$30:CG$41,0)),CD31<0.2),\"No\",\"Yes\"),\"No\"),\"\")","v":""},{"$nulls":5},{"$f":"IF(CI31=0,\"\",CI31)","v":""},{"$nulls":7},"Problematic Hydrophytic Vegetation1 (Explain)",{"$nulls":20},{"$f":"IF(OR('Page 1 (Hydrology)'!Q9=\"X\",'Page 1 (Hydrology)'!Q9=\"Yes\",'Page 1 (Hydrology)'!Q9=\"Y\",'Page 1 (Hydrology)'!Q10=\"X\",'Page 1 (Hydrology)'!Q10=\"Yes\",'Page 1 (Hydrology)'!Q10=\"Y\"),TRUE,FALSE)","v":false},null,{"$f":"IFERROR('Vegetation Continued, 5 Strata'!Z16,0)","v":0},{"$f":"IFERROR(IF(AND('Vegetation Continued, 5 Strata'!AF16=\"Yes\",OR('Vegetation Continued, 5 Strata'!AL16=\"OBL\",'Vegetation Continued, 5 Strata'!AL16=\"FACW\",'Vegetation Continued, 5 Strata'!AL16=\"FAC\")),1,0),0)","v":0},{"$f":"IFERROR(IF('Vegetation Continued, 5 Strata'!AF16=\"Yes\",1,0),0)","v":0},{"$f":"IFERROR(IF(AND('Vegetation Continued, 5 Strata'!AF16=\"Yes\",OR('Vegetation Continued, 5 Strata'!AL16=\"OBL\",'Vegetation Continued, 5 Strata'!AL16=\"FACW\")),1,0),0)","v":0},{"$f":"IFERROR(IF(AND('Vegetation Continued, 5 Strata'!AF16=\"Yes\",OR('Vegetation Continued, 5 Strata'!AL16=\"UPL\",'Vegetation Continued, 5 Strata'!AL16=\"FACU\")),1,0),0)","v":0},{"$f":"IFERROR(IF(OR('Vegetation Continued, 5 Strata'!AL16=\"OBL\",'Vegetation Continued, 5 Strata'!AL16=\"FACW\"),1,0),0)","v":0},{"$f":"IFERROR(IF(OR('Vegetation Continued, 5 Strata'!AL16=\"UPL\",'Vegetation Continued, 5 Strata'!AL16=\"FACU\"),1,0),0)","v":0},{"$f":"IF(AND('Vegetation Continued, 5 Strata'!AF16=\"YES\",OR('Vegetation Continued, 5 Strata'!AL16=\"UPL\",'Vegetation Continued, 5 Strata'!AL16=\"FACU\",'Vegetation Continued, 5 Strata'!AL16=\"FAC\")),FALSE,TRUE)","v":true},{"$f":"IFERROR(IF('Vegetation Continued, 5 Strata'!AL16=\"obl\",BQ25,0),0)","v":0},{"$f":"IFERROR(IF('Vegetation Continued, 5 Strata'!AL16=\"facw\",BQ25,0),0)","v":0},{"$f":"IFERROR(IF('Vegetation Continued, 5 Strata'!AL16=\"fac\",BQ25,0),0)","v":0},{"$f":"IFERROR(IF('Vegetation Continued, 5 Strata'!AL16=\"facu\",BQ25,0),0)","v":0},{"$f":"IFERROR(IF('Vegetation Continued, 5 Strata'!AL16=\"upl\",BQ25,0),0)","v":0},{"$f":"IFERROR(BQ25/Z$21,0)","v":0},{"$f":"IFERROR(LARGE((BQ$17:BQ$28),9),0)","v":0},0,{"$f":"IF(AND(CE25>0,SUM(CF$17:CF24)>0.5),\"\",CE25)","v":0},null,{"$f":"IFERROR(IF(ISNA(MATCH(\"AGCP\",$CH$4:$CH$9,0)),IF(ISNA(MATCH(\"WGC\",$CH$4:$CH$9,0)),\"\",VLOOKUP('Vegetation Continued, 5 Strata'!D16,Plant_List,3,FALSE)),VLOOKUP('Vegetation Continued, 5 Strata'!D16,Plant_List,2,FALSE)),\"\")","v":""}]
[null,"3.",null,"",{"$nulls":27},"",{"$nulls":5},"",{"$nulls":28},{"$f":"IF(OR('Page 1 (Hydrology)'!AO39=\"X\",'Page 1 (Hydrology)'!Q14=\"X\"),TRUE,FALSE)","v":false},null,{"$f":"IFERROR('Vegetation Continued, 5 Strata'!Z17,0)","v":0},{"$f":"IFERROR(IF(AND('Vegetation Continued, 5 Strata'!AF17=\"Yes\",OR('Vegetation Continued, 5 Strata'!AL17=\"OBL\",'Vegetation Continued, 5 Strata'!AL17=\"FACW\",'Vegetation Continued, 5 Strata'!AL17=\"FAC\")),1,0),0)","v":0},{"$f":"IFERROR(IF('Vegetation Continued, 5 Strata'!AF17=\"Yes\",1,0),0)","v":0},{"$f":"IFERROR(IF(AND('Vegetation Continued, 5 Strata'!AF17=\"Yes\",OR('Vegetation Continued, 5 Strata'!AL17=\"OBL\",'Vegetation Continued, 5 Strata'!AL17=\"FACW\")),1,0),0)","v":0},{"$f":"IFERROR(IF(AND('Vegetation Continued, 5 Strata'!AF17=\"Yes\",OR('Vegetation Continued, 5 Strata'!AL17=\"UPL\",'Vegetation Continued, 5 Strata'!AL17=\"FACU\")),1,0),0)","v":0},{"$f":"IFERROR(IF(OR('Vegetation Continued, 5 Strata'!AL17=\"OBL\",'Vegetation Continued, 5 Strata'!AL17=\"FACW\"),1,0),0)","v":0},{"$f":"IFERROR(IF(OR('Vegetation Continued, 5 Strata'!AL17=\"UPL\",'Vegetation Continued, 5 Strata'!AL17=\"FACU\"),1,0),0)","v":0},{"$f":"IF(AND('Vegetation Continued, 5 Strata'!AF17=\"YES\",OR('Vegetation Continued, 5 Strata'!AL17=\"UPL\",'Vegetation Continued, 5 Strata'!AL17=\"FACU\",'Vegetation Continued, 5 Strata'!AL17=\"FAC\")),FALSE,TRUE)","v":true},{"$f":"IFERROR(IF('Vegetation Continued, 5 Strata'!AL17=\"obl\",BQ26,0),0)","v":0},{"$f":"IFERROR(IF('Vegetation Continued, 5 Strata'!AL17=\"facw\",BQ26,0),0)","v":0},{"$f":"IFERROR(IF('Vegetation Continued, 5 Strata'!AL17=\"fac\",BQ26,0),0)","v":0},{"$f":"IFERROR(IF('Vegetation Continued, 5 Strata'!AL17=\"facu\",BQ26,0),0)","v":0},{"$f":"IFERROR(IF('Vegetation Continued, 5 Strata'!AL17=\"upl\",BQ26,0),0)","v":0},0,{"$f":"IFERROR(LARGE((BQ$17:BQ$28),10),0)","v":0},0,{"$f":"IF(AND(CE26>0,SUM(CF$17:CF25)>0.5),\"\",CE26)","v":0},null,{"$f":"IFERROR(IF(ISNA(MATCH(\"AGCP\",$CH$4:$CH$9,0)),IF(ISNA(MATCH(\"WGC\",$CH$4:$CH$9,0)),\"\",VLOOKUP('Vegetation Continued, 5 Strata'!D17,Plant_List,3,FALSE)),VLOOKUP('Vegetation Continued, 5 Strata'!D17,Plant_List,2,FALSE)),\"\")","v":""}]
[null,"4.",null,"",{"$nulls":27},"",{"$nulls":5},"",{"$nulls":28},{"$f":"IF(OR('Page 1 (Hydrology)'!L9=\"X\",'Page 1 (Hydrology)'!L9=\"Yes\",'Page 1 (Hydrology)'!L9=\"Y\",'Page 1 (Hydrology)'!L10=\"X\",'Page 1 (Hydrology)'!L10=\"Yes\",'Page 1 (Hydrology)'!L10=\"Y\"),TRUE,FALSE)","v":false},null,{"$f":"IFERROR('Vegetation Continued, 5 Strata'!Z18,0)","v":0},{"$f":"IFERROR(IF(AND('Vegetation Continued, 5 Strata'!AF18=\"Yes\",OR('Vegetation Continued, 5 Strata'!AL18=\"OBL\",'Vegetation Continued, 5 Strata'!AL18=\"FACW\",'Vegetation Continued, 5 Strata'!AL18=\"FAC\")),1,0),0)","v":0},{"$f":"IFERROR(IF('Vegetation Continued, 5 Strata'!AF18=\"Yes\",1,0),0)","v":0},{"$f":"IFERROR(IF(AND('Vegetation Continued, 5 Strata'!AF18=\"Yes\",OR('Vegetation Continued, 5 Strata'!AL18=\"OBL\",'Vegetation Continued, 5 Strata'!AL18=\"FACW\")),1,0),0)","v":0},{"$f":"IFERROR(IF(AND('Vegetation Continued, 5 Strata'!AF18=\"Yes\",OR('Vegetation Continued, 5 Strata'!AL18=\"UPL\",'Vegetation Continued, 5 Strata'!AL18=\"FACU\")),1,0),0)","v":0},{"$f":"IFERROR(IF(OR('Vegetation Continued, 5 Strata'!AL18=\"OBL\",'Vegetation Continued, 5 Strata'!AL18=\"FACW\"),1,0),0)","v":0},{"$f":"IFERROR(IF(OR('Vegetation Continued, 5 Strata'!AL18=\"UPL\",'Vegetation Continued, 5 Strata'!AL18=\"FACU\"),1,0),0)","v":0},{"$f":"IF(AND('Vegetation Continued, 5 Strata'!AF18=\"YES\",OR('Vegetation Continued, 5 Strata'!AL18=\"UPL\",'Vegetation Continued, 5 Strata'!AL18=\"FACU\",'Vegetation Continued, 5 Strata'!AL18=\"FAC\")),FALSE,TRUE)","v":true},{"$f":"IFERROR(IF('Vegetation Continued, 5 Strata'!AL18=\"obl\",BQ27,0),0)","v":0},{"$f":"IFERROR(IF('Vegetation Continued, 5 Strata'!AL18=\"facw\",BQ27,0),0)","v":0},{"$f":"IFERROR(IF('Vegetation Continued, 5 Strata'!AL18=\"fac\",BQ27,0),0)","v":0},{"$f":"IFERROR(IF('Vegetation Continued, 5 Strata'!AL18=\"facu\",BQ27,0),0)","v":0},{"$f":"IFERROR(IF('Vegetation Continued, 5 Strata'!AL18=\"upl\",BQ27,0),0)","v":0},0,{"$f":"IFERROR(LARGE((BQ$17:BQ$28),11),0)","v":0},0,{"$f":"IF(AND(CE27>0,SUM(CF$17:CF26)>0.5),\"\",CE27)","v":0},null,{"$f":"IFERROR(IF(ISNA(MATCH(\"AGCP\",$CH$4:$CH$9,0)),IF(ISNA(MATCH(\"WGC\",$CH$4:$CH$9,0)),\"\",VLOOKUP('Vegetation Continued, 5 Strata'!D18,Plant_List,3,FALSE)),VLOOKUP('Vegetation Continued, 5 Strata'!D18,Plant_List,2,FALSE)),\"\")","v":""}]
[null,"5.",{"$nulls":29},"",{"$nulls":5},"",{"$nulls":6},"1Indicators of hydric soil and wetland hydrology must be present, unless disturbed or problematic.",{"$nulls":21},{"$f":"IF(OR('Page 3 (Soil)'!BE38=\"X\",'Page 1 (Hydrology)'!Q13=\"X\"),TRUE,FALSE)","v":false},null,{"$f":"IFERROR('Vegetation Continued, 5 Strata'!Z19,0)","v":0},{"$f":"IFERROR(IF(AND('Vegetation Continued, 5 Strata'!AF19=\"Yes\",OR('Vegetation Continued, 5 Strata'!AL19=\"OBL\",'Vegetation Continued, 5 Strata'!AL19=\"FACW\",'Vegetation Continued, 5 Strata'!AL19=\"FAC\")),1,0),0)","v":0},{"$f":"IFERROR(IF('Vegetation Continued, 5 Strata'!AF19=\"Yes\",1,0),0)","v":0},{"$f":"IFERROR(IF(AND('Vegetation Continued, 5 Strata'!AF19=\"Yes\",OR('Vegetation Continued, 5 Strata'!AL19=\"OBL\",'Vegetation Continued, 5 Strata'!AL19=\"FACW\")),1,0),0)","v":0},{"$f":"IFERROR(IF(AND('Vegetation Continued, 5 Strata'!AF19=\"Yes\",OR('Vegetation Continued, 5 Strata'!AL19=\"UPL\",'Vegetation Continued, 5 Strata'!AL19=\"FACU\")),1,0),0)","v":0},{"$f":"IFERROR(IF(OR('Vegetation Continued, 5 Strata'!AL19=\"OBL\",'Vegetation Continued, 5 Strata'!AL19=\"FACW\"),1,0),0)","v":0},{"$f":"IFERROR(IF(OR('Vegetation Continued, 5 Strata'!AL19=\"UPL\",'Vegetation Continued, 5 Strata'!AL19=\"FACU\"),1,0),0)","v":0},{"$f":"IF(AND('Vegetation Continued, 5 Strata'!AF19=\"YES\",OR('Vegetation Continued, 5 Strata'!AL19=\"UPL\",'Vegetation Continued, 5 Strata'!AL19=\"FACU\",'Vegetation Continued, 5 Strata'!AL19=\"FAC\")),FALSE,TRUE)","v":true},{"$f":"IFERROR(IF('Vegetation Continued, 5 Strata'!AL19=\"obl\",BQ28,0),0)","v":0},{"$f":"IFERROR(IF('Vegetation Continued, 5 Strata'!AL19=\"facw\",BQ28,0),0)","v":0},{"$f":"IFERROR(IF('Vegetation Continued, 5 Strata'!AL19=\"fac\",BQ28,0),0)","v":0},{"$f":"IFERROR(IF('Vegetation Continued, 5 Strata'!AL19=\"facu\",BQ28,0),0)","v":0},{"$f":"IFERROR(IF('Vegetation Continued, 5 Strata'!AL19=\"upl\",BQ28,0),0)","v":0},0,{"$f":"IFERROR(LARGE((BQ$17:BQ$28),12),0)","v":0},0,{"$f":"IF(AND(CE28>0,SUM(CF$17:CF27)>0.5),\"\",CE28)","v":0},null,{"$f":"IFERROR(IF(ISNA(MATCH(\"AGCP\",$CH$4:$CH$9,0)),IF(ISNA(MATCH(\"WGC\",$CH$4:$CH$9,0)),\"\",VLOOKUP('Vegetation Continued, 5 Strata'!D19,Plant_List,3,FALSE)),VLOOKUP('Vegetation Continued, 5 Strata'!D19,Plant_List,2,FALSE)),\"\")","v":""}]
[null,"6.",null,"",{"$nulls":27},"",{"$nulls":5},"",{"$nulls":28},{"$f":"IF(AND(OR(BO25=TRUE,BO26=TRUE),OR(BO27=TRUE,BO28=TRUE)),TRUE,FALSE)","v":false}]
[{"$nulls":25},{"$f":"IF(SUM(BQ30:BQ41)>0,SUM(BQ30:BQ41),\"\")","v":""},{"$nulls":4},"=Total Cover",{"$nulls":13},"Definitions of Five Vegetation Strata:",{"$nulls":23},{"$f":"IFERROR(Z24,0)","v":0},{"$f":"IF(AND(AF24=\"Yes\",OR(AL24=\"OBL\",AL24=\"FACW\",AL24=\"FAC\")),1,0)","v":0},{"$f":"IF(AF24=\"Yes\",1,0)","v":0},{"$f":"IF(AND(AF24=\"Yes\",OR(AL24=\"OBL\",AL24=\"FACW\")),1,0)","v":0},{"$f":"IF(AND(AF24=\"Yes\",OR(AL24=\"UPL\",AL24=\"FACU\")),1,0)","v":0},{"$f":"IF(OR(AL24=\"OBL\",AL24=\"FACW\"),1,0)","v":0},{"$f":"IF(OR(AL24=\"UPL\",AL24=\"FACU\"),1,0)","v":0},{"$f":"IF(AND(AF24=\"YES\",OR(AL24=\"UPL\",AL24=\"FACU\",AL24=\"FAC\")),FALSE,TRUE)","v":true},{"$f":"IF($AL24=\"obl\",$Z24,0)","v":0},{"$f":"IF($AL24=\"facw\",$Z24,0)","v":0},{"$f":"IF($AL24=\"fac\",$Z24,0)","v":0},{"$f":"IF($AL24=\"facu\",$Z24,0)","v":0},{"$f":"IF($AL24=\"upl\",$Z24,0)","v":0},{"$f":"IFERROR(Z24/Z$30,0)","v":0},{"$f":"IFERROR(LARGE((BQ$30:BQ$41),1),0)","v":0},{"$f":"IFERROR(CE30/Z$30,0)","v":0},{"$f":"IF(CE30>0,CE30,\"\")","v":""},null,{"$f":"IFERROR(IF(ISNA(MATCH(\"AGCP\",$CH$4:$CH$9,0)),IF(ISNA(MATCH(\"WGC\",$CH$4:$CH$9,0)),\"\",VLOOKUP(D24,Plant_List,3,FALSE)),VLOOKUP(D24,Plant_List,2,FALSE)),\"\")","v":""}]
[{"$nulls":13},"50% of total cover:",{"$nulls":8},{"$f":"IFERROR(ROUNDUP(Z30/2,0),\"\")","v":""},{"$nulls":5},"20% of total cover:",{"$nulls":8},{"$f":"IFERROR(ROUNDUP(Z30/5,0),\"\")","v":""},{"$nulls":6},"Tree – Woody plants, excluding woody vines, approximately 20 ft (6 m) or more in height and 3 in.      (7.6 cm) or larger in diameter at breast height (DBH).",{"$nulls":21},"State Regions",null,{"$f":"IFERROR(Z25,0)","v":0},0,0,0,0,0,0,true,0,0,0,0,0,0,{"$f":"IFERROR(LARGE((BQ$30:BQ$41),2),0)","v":0},0,{"$f":"IF(AND(CE31>0,CF30>0.5),\"\",CE31)","v":0},null,""]
[null,"Herb Stratum",{"$nulls":6},"(Plot size:",{"$nulls":11},")",{"$nulls":45},"AGCP",null,0,0,0,0,0,0,0,true,0,0,0,0,0,0,{"$f":"IFERROR(LARGE((BQ$30:BQ$41),3),0)","v":0},0,{"$f":"IF(AND(CE32>0,SUM(CF$30:CF31)>0.5),\"\",CE32)","v":0},null,""]
[null,"1.",null,"",{"$nulls":27},{"$f":"IF(Z33>0,IF(OR(AND(Z$44<5,Z$11=\"\",Z$21=\"\",Z$30=\"\",Z$52=\"\"),Z$44>=5),IF(AND(ISNA(MATCH(Z33,CG$43:CG$64,0)),CD43<0.2),\"No\",\"Yes\"),\"No\"),\"\")","v":""},{"$nulls":5},{"$f":"IF(CI43=0,\"\",CI43)","v":""},{"$nulls":28},"AL",null,0,0,0,0,0,0,0,true,0,0,0,0,0,0,{"$f":"IFERROR(LARGE((BQ$30:BQ$41),4),0)","v":0},0,{"$f":"IF(AND(CE33>0,SUM(CF$30:CF32)>0.5),\"\",CE33)","v":0},null,""]
[null,"2.",null,"",{"$nulls":27},{"$f":"IF(Z34>0,IF(OR(AND(Z$44<5,Z$11=\"\",Z$21=\"\",Z$30=\"\",Z$52=\"\"),Z$44>=5),IF(AND(ISNA(MATCH(Z34,CG$43:CG$64,0)),CD44<0.2),\"No\",\"Yes\"),\"No\"),\"\")","v":""},{"$nulls":5},{"$f":"IF(CI44=0,\"\",CI44)","v":""},{"$nulls":6},"Sapling – Woody plants, excluding woody vines, approximately 20 ft (6 m) or more in height and less than 3 in. (7.6 cm) DBH.",{"$nulls":21},"DC",null,0,0,0,0,0,0,0,true,0,0,0,0,0,0,{"$f":"IFERROR(LARGE((BQ$30:BQ$41),5),0)","v":0},0,{"$f":"IF(AND(CE34>0,SUM(CF$30:CF33)>0.5),\"\",CE34)","v":0},null,""]
[null,"3.",{"$nulls":29},"",{"$nulls":5},"",{"$nulls":28},"DE",null,0,0,0,0,0,0,0,true,0,0,0,0,0,0,{"$f":"IFERROR(LARGE((BQ$30:BQ$41),6),0)","v":0},0,{"$f":"IF(AND(CE35>0,SUM(CF$30:CF34)>0.5),\"\",CE35)","v":0},null,""]
[null,"4.",null,"",{"$nulls":27},"",{"$nulls":5},"",{"$nulls":28},"FL",null,{"$f":"IFERROR('Vegetation Continued, 5 Strata'!Z24,0)","v":0},{"$f":"IFERROR(IF(AND('Vegetation Continued, 5 Strata'!AF24=\"Yes\",OR('Vegetation Continued, 5 Strata'!AL24=\"OBL\",'Vegetation Continued, 5 Strata'!AL24=\"FACW\",'Vegetation Continued, 5 Strata'!AL24=\"FAC\")),1,0),0)","v":0},{"$f":"IFERROR(IF('Vegetation Continued, 5 Strata'!AF24=\"Yes\",1,0),0)","v":0},{"$f":"IFERROR(IF(AND('Vegetation Continued, 5 Strata'!AF24=\"Yes\",OR('Vegetation Continued, 5 Strata'!AL24=\"OBL\",'Vegetation Continued, 5 Strata'!AL24=\"FACW\")),1,0),0)","v":0},{"$f":"IFERROR(IF(AND('Vegetation Continued, 5 Strata'!AF24=\"Yes\",OR('Vegetation Continued, 5 Strata'!AL24=\"UPL\",'Vegetation Continued, 5 Strata'!AL24=\"FACU\")),1,0),0)","v":0},{"$f":"IFERROR(IF(OR('Vegetation Continued, 5 Strata'!AL24=\"OBL\",'Vegetation Continued, 5 Strata'!AL24=\"FACW\"),1,0),0)","v":0},{"$f":"IFERROR(IF(OR('Vegetation Continued, 5 Strata'!AL24=\"UPL\",'Vegetation Continued, 5 Strata'!AL24=\"FACU\"),1,0),0)","v":0},{"$f":"IF(AND('Vegetation Continued, 5 Strata'!AF24=\"YES\",OR('Vegetation Continued, 5 Strata'!AL24=\"UPL\",'Vegetation Continued, 5 Strata'!AL24=\"FACU\",'Vegetation Continued, 5 Strata'!AL24=\"FAC\")),FALSE,TRUE)","v":true},{"$f":"IFERROR(IF('Vegetation Continued, 5 Strata'!AL24=\"obl\",BQ36,0),0)","v":0},{"$f":"IFERROR(IF('Vegetation Continued, 5 Strata'!AL24=\"facw\",BQ36,0),0)","v":0},{"$f":"IFERROR(IF('Vegetation Continued, 5 Strata'!AL24=\"fac\",BQ36,0),0)","v":0},{"$f":"IFERROR(IF('Vegetation Continued, 5 Strata'!AL24=\"facu\",BQ36,0),0)","v":0},{"$f":"IFERROR(IF('Vegetation Continued, 5 Strata'!AL24=\"upl\",BQ36,0),0)","v":0},{"$f":"IFERROR(BQ36/Z$30,0)","v":0},{"$f":"IFERROR(LARGE((BQ$30:BQ$41),7),0)","v":0},{"$f":"IFERROR(CE36/Z$30,0)","v":0},{"$f":"IF(AND(CE36>0,SUM(CF$30:CF35)>0.5),\"\",CE36)","v":0},null,{"$f":"IFERROR(IF(ISNA(MATCH(\"AGCP\",$CH$4:$CH$9,0)),IF(ISNA(MATCH(\"WGC\",$CH$4:$CH$9,0)),\"\",VLOOKUP('Vegetation Continued, 5 Strata'!D24,Plant_List,3,FALSE)),VLOOKUP('Vegetation Continued, 5 Strata'!D24,Plant_List,2,FALSE)),\"\")","v":""}]
[null,"5.",null,"",{"$nulls":27},"",{"$nulls":5},"",{"$nulls":6},"Shrub - Woody Plants, excluding woody vines, approximately 3 to 20 ft (1 to 6 m) in height.",{"$nulls":21},"GA",null,{"$f":"IFERROR('Vegetation Continued, 5 Strata'!Z25,0)","v":0},{"$f":"IFERROR(IF(AND('Vegetation Continued, 5 Strata'!AF25=\"Yes\",OR('Vegetation Continued, 5 Strata'!AL25=\"OBL\",'Vegetation Continued, 5 Strata'!AL25=\"FACW\",'Vegetation Continued, 5 Strata'!AL25=\"FAC\")),1,0),0)","v":0},{"$f":"IFERROR(IF('Vegetation Continued, 5 Strata'!AF25=\"Yes\",1,0),0)","v":0},{"$f":"IFERROR(IF(AND('Vegetation Continued, 5 Strata'!AF25=\"Yes\",OR('Vegetation Continued, 5 Strata'!AL25=\"OBL\",'Vegetation Continued, 5 Strata'!AL25=\"FACW\")),1,0),0)","v":0},{"$f":"IFERROR(IF(AND('Vegetation Continued, 5 Strata'!AF25=\"Yes\",OR('Vegetation Continued, 5 Strata'!AL25=\"UPL\",'Vegetation Continued, 5 Strata'!AL25=\"FACU\")),1,0),0)","v":0},{"$f":"IFERROR(IF(OR('Vegetation Continued, 5 Strata'!AL25=\"OBL\",'Vegetation Continued, 5 Strata'!AL25=\"FACW\"),1,0),0)","v":0},{"$f":"IFERROR(IF(OR('Vegetation Continued, 5 Strata'!AL25=\"UPL\",'Vegetation Continued, 5 Strata'!AL25=\"FACU\"),1,0),0)","v":0},{"$f":"IF(AND('Vegetation Continued, 5 Strata'!AF25=\"YES\",OR('Vegetation Continued, 5 Strata'!AL25=\"UPL\",'Vegetation Continued, 5 Strata'!AL25=\"FACU\",'Vegetation Continued, 5 Strata'!AL25=\"FAC\")),FALSE,TRUE)","v":true},{"$f":"IFERROR(IF('Vegetation Continued, 5 Strata'!AL25=\"obl\",BQ37,0),0)","v":0},{"$f":"IFERROR(IF('Vegetation Continued, 5 Strata'!AL25=\"facw\",BQ37,0),0)","v":0},{"$f":"IFERROR(IF('Vegetation Continued, 5 Strata'!AL25=\"fac\",BQ37,0),0)","v":0},{"$f":"IFERROR(IF('Vegetation Continued, 5 Strata'!AL25=\"facu\",BQ37,0),0)","v":0},{"$f":"IFERROR(IF('Vegetation Continued, 5 Strata'!AL25=\"upl\",BQ37,0),0)","v":0},{"$f":"IFERROR(BQ37/Z$30,0)","v":0},{"$f":"IFERROR(LARGE((BQ$30:BQ$41),8),0)","v":0},{"$f":"IFERROR(CE37/Z$30,0)","v":0},{"$f":"IF(AND(CE37>0,SUM(CF$30:CF36)>0.5),\"\",CE37)","v":0},null,{"$f":"IFERROR(IF(ISNA(MATCH(\"AGCP\",$CH$4:$CH$9,0)),IF(ISNA(MATCH(\"WGC\",$CH$4:$CH$9,0)),\"\",VLOOKUP('Vegetation Continued, 5 Strata'!D25,Plant_List,3,FALSE)),VLOOKUP('Vegetation Continued, 5 Strata'!D25,Plant_List,2,FALSE)),\"\")","v":""}]
[null,"6.",null,"",{"$nulls":27},"",{"$nulls":5},"",{"$nulls":28},"MD",null,{"$f":"IFERROR('Vegetation Continued, 5 Strata'!Z26,0)","v":0},{"$f":"IFERROR(IF(AND('Vegetation Continued, 5 Strata'!AF26=\"Yes\",OR('Vegetation Continued, 5 Strata'!AL26=\"OBL\",'Vegetation Continued, 5 Strata'!AL26=\"FACW\",'Vegetation Continued, 5 Strata'!AL26=\"FAC\")),1,0),0)","v":0},{"$f":"IFERROR(IF('Vegetation Continued, 5 Strata'!AF26=\"Yes\",1,0),0)","v":0},{"$f":"IFERROR(IF(AND('Vegetation Continued, 5 Strata'!AF26=\"Yes\",OR('Vegetation Continued, 5 Strata'!AL26=\"OBL\",'Vegetation Continued, 5 Strata'!AL26=\"FACW\")),1,0),0)","v":0},{"$f":"IFERROR(IF(AND('Vegetation Continued, 5 Strata'!AF26=\"Yes\",OR('Vegetation Continued, 5 Strata'!AL26=\"UPL\",'Vegetation Continued, 5 Strata'!AL26=\"FACU\")),1,0),0)","v":0},{"$f":"IFERROR(IF(OR('Vegetation Continued, 5 Strata'!AL26=\"OBL\",'Vegetation Continued, 5 Strata'!AL26=\"FACW\"),1,0),0)","v":0},{"$f":"IFERROR(IF(OR('Vegetation Continued, 5 Strata'!AL26=\"UPL\",'Vegetation Continued, 5 Strata'!AL26=\"FACU\"),1,0),0)","v":0},{"$f":"IF(AND('Vegetation Continued, 5 Strata'!AF26=\"YES\",OR('Vegetation Continued, 5 Strata'!AL26=\"UPL\",'Vegetation Continued, 5 Strata'!AL26=\"FACU\",'Vegetation Continued, 5 Strata'!AL26=\"FAC\")),FALSE,TRUE)","v":true},{"$f":"IFERROR(IF('Vegetation Continued, 5 Strata'!AL26=\"obl\",BQ38,0),0)","v":0},{"$f":"IFERROR(IF('Vegetation Continued, 5 Strata'!AL26=\"facw\",BQ38,0),0)","v":0},{"$f":"IFERROR(IF('Vegetation Continued, 5 Strata'!AL26=\"fac\",BQ38,0),0)","v":0},{"$f":"IFERROR(IF('Vegetation Continued, 5 Strata'!AL26=\"facu\",BQ38,0),0)","v":0},{"$f":"IFERROR(IF('Vegetation Continued, 5 Strata'!AL26=\"upl\",BQ38,0),0)","v":0},0,{"$f":"IFERROR(LARGE((BQ$30:BQ$41),9),0)","v":0},0,{"$f":"IF(AND(CE38>0,SUM(CF$30:CF37)>0.5),\"\",CE38)","v":0},null,{"$f":"IFERROR(IF(ISNA(MATCH(\"AGCP\",$CH$4:$CH$9,0)),IF(ISNA(MATCH(\"WGC\",$CH$4:$CH$9,0)),\"\",VLOOKUP('Vegetation Continued, 5 Strata'!D26,Plant_List,3,FALSE)),VLOOKUP('Vegetation Continued, 5 Strata'!D26,Plant_List,2,FALSE)),\"\")","v":""}]
[null,"7.",null,"",{"$nulls":27},"",{"$nulls":5},"",{"$nulls":6},"Herb – All herbaceous (non-woody) plants, including herbaceous vines, regardless of size, and woody plants, except woody vines, less than approximately 3 ft (1 m) in height.",{"$nulls":21},"NC",null,{"$f":"IFERROR('Vegetation Continued, 5 Strata'!Z27,0)","v":0},{"$f":"IFERROR(IF(AND('Vegetation Continued, 5 Strata'!AF27=\"Yes\",OR('Vegetation Continued, 5 Strata'!AL27=\"OBL\",'Vegetation Continued, 5 Strata'!AL27=\"FACW\",'Vegetation Continued, 5 Strata'!AL27=\"FAC\")),1,0),0)","v":0},{"$f":"IFERROR(IF('Vegetation Continued, 5 Strata'!AF27=\"Yes\",1,0),0)","v":0},{"$f":"IFERROR(IF(AND('Vegetation Continued, 5 Strata'!AF27=\"Yes\",OR('Vegetation Continued, 5 Strata'!AL27=\"OBL\",'Vegetation Continued, 5 Strata'!AL27=\"FACW\")),1,0),0)","v":0},{"$f":"IFERROR(IF(AND('Vegetation Continued, 5 Strata'!AF27=\"Yes\",OR('Vegetation Continued, 5 Strata'!AL27=\"UPL\",'Vegetation Continued, 5 Strata'!AL27=\"FACU\")),1,0),0)","v":0},{"$f":"IFERROR(IF(OR('Vegetation Continued, 5 Strata'!AL27=\"OBL\",'Vegetation Continued, 5 Strata'!AL27=\"FACW\"),1,0),0)","v":0},{"$f":"IFERROR(IF(OR('Vegetation Continued, 5 Strata'!AL27=\"UPL\",'Vegetation Continued, 5 Strata'!AL27=\"FACU\"),1,0),0)","v":0},{"$f":"IF(AND('Vegetation Continued, 5 Strata'!AF27=\"YES\",OR('Vegetation Continued, 5 Strata'!AL27=\"UPL\",'Vegetation Continued, 5 Strata'!AL27=\"FACU\",'Vegetation Continued, 5 Strata'!AL27=\"FAC\")),FALSE,TRUE)","v":true},{"$f":"IFERROR(IF('Vegetation Continued, 5 Strata'!AL27=\"obl\",BQ39,0),0)","v":0},{"$f":"IFERROR(IF('Vegetation Continued, 5 Strata'!AL27=\"facw\",BQ39,0),0)","v":0},{"$f":"IFERROR(IF('Vegetation Continued, 5 Strata'!AL27=\"fac\",BQ39,0),0)","v":0},{"$f":"IFERROR(IF('Vegetation Continued, 5 Strata'!AL27=\"facu\",BQ39,0),0)","v":0},{"$f":"IFERROR(IF('Vegetation Continued, 5 Strata'!AL27=\"upl\",BQ39,0),0)","v":0},0,{"$f":"IFERROR(LARGE((BQ$30:BQ$41),10),0)","v":0},0,{"$f":"IF(AND(CE39>0,SUM(CF$30:CF38)>0.5),\"\",CE39)","v":0},null,{"$f":"IFERROR(IF(ISNA(MATCH(\"AGCP\",$CH$4:$CH$9,0)),IF(ISNA(MATCH(\"WGC\",$CH$4:$CH$9,0)),\"\",VLOOKUP('Vegetation Continued, 5 Strata'!D27,Plant_List,3,FALSE)),VLOOKUP('Vegetation Continued, 5 Strata'!D27,Plant_List,2,FALSE)),\"\")","v":""}]
[null,"8.",null,"",{"$nulls":27},"",{"$nulls":5},"",{"$nulls":28},"NJ",null,{"$f":"IFERROR('Vegetation Continued, 5 Strata'!Z28,0)","v":0},{"$f":"IFERROR(IF(AND('Vegetation Continued, 5 Strata'!AF28=\"Yes\",OR('Vegetation Continued, 5 Strata'!AL28=\"OBL\",'Vegetation Continued, 5 Strata'!AL28=\"FACW\",'Vegetation Continued, 5 Strata'!AL28=\"FAC\")),1,0),0)","v":0},{"$f":"IFERROR(IF('Vegetation Continued, 5 Strata'!AF28=\"Yes\",1,0),0)","v":0},{"$f":"IFERROR(IF(AND('Vegetation Continued, 5 Strata'!AF28=\"Yes\",OR('Vegetation Continued, 5 Strata'!AL28=\"OBL\",'Vegetation Continued, 5 Strata'!AL28=\"FACW\")),1,0),0)","v":0},{"$f":"IFERROR(IF(AND('Vegetation Continued, 5 Strata'!AF28=\"Yes\",OR('Vegetation Continued, 5 Strata'!AL28=\"UPL\",'Vegetation Continued, 5 Strata'!AL28=\"FACU\")),1,0),0)","v":0},{"$f":"IFERROR(IF(OR('Vegetation Continued, 5 Strata'!AL28=\"OBL\",'Vegetation Continued, 5 Strata'!AL28=\"FACW\"),1,0),0)","v":0},{"$f":"IFERROR(IF(OR('Vegetation Continued, 5 Strata'!AL28=\"UPL\",'Vegetation Continued, 5 Strata'!AL28=\"FACU\"),1,0),0)","v":0},{"$f":"IF(AND('Vegetation Continued, 5 Strata'!AF28=\"YES\",OR('Vegetation Continued, 5 Strata'!AL28=\"UPL\",'Vegetation Continued, 5 Strata'!AL28=\"FACU\",'Vegetation Continued, 5 Strata'!AL28=\"FAC\")),FALSE,TRUE)","v":true},{"$f":"IFERROR(IF('Vegetation Continued, 5 Strata'!AL28=\"obl\",BQ40,0),0)","v":0},{"$f":"IFERROR(IF('Vegetation Continued, 5 Strata'!AL28=\"facw\",BQ40,0),0)","v":0},{"$f":"IFERROR(IF('Vegetation Continued, 5 Strata'!AL28=\"fac\",BQ40,0),0)","v":0},{"$f":"IFERROR(IF('Vegetation Continued, 5 Strata'!AL28=\"facu\",BQ40,0),0)","v":0},{"$f":"IFERROR(IF('Vegetation Continued, 5 Strata'!AL28=\"upl\",BQ40,0),0)","v":0},0,{"$f":"IFERROR(LARGE((BQ$30:BQ$41),11),0)","v":0},0,{"$f":"IF(AND(CE40>0,SUM(CF$30:CF39)>0.5),\"\",CE40)","v":0},null,{"$f":"IFERROR(IF(ISNA(MATCH(\"AGCP\",$CH$4:$CH$9,0)),IF(ISNA(MATCH(\"WGC\",$CH$4:$CH$9,0)),\"\",VLOOKUP('Vegetation Continued, 5 Strata'!D28,Plant_List,3,FALSE)),VLOOKUP('Vegetation Continued, 5 Strata'!D28,Plant_List,2,FALSE)),\"\")","v":""}]
[null,"9.",null,"",{"$nulls":27},"",{"$nulls":5},"",{"$nulls":28},"PA",null,{"$f":"IFERROR('Vegetation Continued, 5 Strata'!Z29,0)","v":0},{"$f":"IFERROR(IF(AND('Vegetation Continued, 5 Strata'!AF29=\"Yes\",OR('Vegetation Continued, 5 Strata'!AL29=\"OBL\",'Vegetation Continued, 5 Strata'!AL29=\"FACW\",'Vegetation Continued, 5 Strata'!AL29=\"FAC\")),1,0),0)","v":0},{"$f":"IFERROR(IF('Vegetation Continued, 5 Strata'!AF29=\"Yes\",1,0),0)","v":0},{"$f":"IFERROR(IF(AND('Vegetation Continued, 5 Strata'!AF29=\"Yes\",OR('Vegetation Continued, 5 Strata'!AL29=\"OBL\",'Vegetation Continued, 5 Strata'!AL29=\"FACW\")),1,0),0)","v":0},{"$f":"IFERROR(IF(AND('Vegetation Continued, 5 Strata'!AF29=\"Yes\",OR('Vegetation Continued, 5 Strata'!AL29=\"UPL\",'Vegetation Continued, 5 Strata'!AL29=\"FACU\")),1,0),0)","v":0},{"$f":"IFERROR(IF(OR('Vegetation Continued, 5 Strata'!AL29=\"OBL\",'Vegetation Continued, 5 Strata'!AL29=\"FACW\"),1,0),0)","v":0},{"$f":"IFERROR(IF(OR('Vegetation Continued, 5 Strata'!AL29=\"UPL\",'Vegetation Continued, 5 Strata'!AL29=\"FACU\"),1,0),0)","v":0},{"$f":"IF(AND('Vegetation Continued, 5 Strata'!AF29=\"YES\",OR('Vegetation Continued, 5 Strata'!AL29=\"UPL\",'Vegetation Continued, 5 Strata'!AL29=\"FACU\",'Vegetation Continued, 5 Strata'!AL29=\"FAC\")),FALSE,TRUE)","v":true},{"$f":"IFERROR(IF('Vegetation Continued, 5 Strata'!AL29=\"obl\",BQ41,0),0)","v":0},{"$f":"IFERROR(IF('Vegetation Continued, 5 Strata'!AL29=\"facw\",BQ41,0),0)","v":0},{"$f":"IFERROR(IF('Vegetation Continued, 5 Strata'!AL29=\"fac\",BQ41,0),0)","v":0},{"$f":"IFERROR(IF('Vegetation Continued, 5 Strata'!AL29=\"facu\",BQ41,0),0)","v":0},{"$f":"IFERROR(IF('Vegetation Continued, 5 Strata'!AL29=\"upl\",BQ41,0),0)","v":0},0,{"$f":"IFERROR(LARGE((BQ$30:BQ$41),12),0)","v":0},0,{"$f":"IF(AND(CE41>0,SUM(CF$30:CF40)>0.5),\"\",CE41)","v":0},null,{"$f":"IFERROR(IF(ISNA(MATCH(\"AGCP\",$CH$4:$CH$9,0)),IF(ISNA(MATCH(\"WGC\",$CH$4:$CH$9,0)),\"\",VLOOKUP('Vegetation Continued, 5 Strata'!D29,Plant_List,3,FALSE)),VLOOKUP('Vegetation Continued, 5 Strata'!D29,Plant_List,2,FALSE)),\"\")","v":""}]
[null,"10.",null,"",{"$nulls":27},"",{"$nulls":5},"",{"$nulls":28},"SC",{"$nulls":19},{"$f":"IFERROR(IF(ISNA(MATCH(\"AGCP\",$CH$4:$CH$9,0)),IF(ISNA(MATCH(\"WGC\",$CH$4:$CH$9,0)),\"\",VLOOKUP(D34,Plant_List,3,FALSE)),VLOOKUP(D34,Plant_List,2,FALSE)),\"\")","v":""}]
[null,"11.",null,"",{"$nulls":27},"",{"$nulls":5},{"$f":"IF(CI53=0,\"\",CI53)","v":""},{"$nulls":6},"Woody Vine – All woody vines, regardless of height.",{"$nulls":21},"VA",null,{"$f":"IFERROR(Z33,0)","v":0},{"$f":"IF(AND(AF33=\"Yes\",OR(AL33=\"OBL\",AL33=\"FACW\",AL33=\"FAC\")),1,0)","v":0},{"$f":"IF(AF33=\"Yes\",1,0)","v":0},{"$f":"IF(AND(AF33=\"Yes\",OR(AL33=\"OBL\",AL33=\"FACW\")),1,0)","v":0},{"$f":"IF(AND(AF33=\"Yes\",OR(AL33=\"UPL\",AL33=\"FACU\")),1,0)","v":0},{"$f":"IF(OR(AL33=\"OBL\",AL33=\"FACW\"),1,0)","v":0},{"$f":"IF(OR(AL33=\"UPL\",AL33=\"FACU\"),1,0)","v":0},{"$f":"IF(AND(AF33=\"YES\",OR(AL33=\"UPL\",AL33=\"FACU\",AL33=\"FAC\")),FALSE,TRUE)","v":true},{"$f":"IF($AL33=\"obl\",$Z33,0)","v":0},{"$f":"IF($AL33=\"facw\",$Z33,0)","v":0},{"$f":"IF($AL33=\"fac\",$Z33,0)","v":0},{"$f":"IF($AL33=\"facu\",$Z33,0)","v":0},{"$f":"IF($AL33=\"upl\",$Z33,0)","v":0},{"$f":"IFERROR(Z33/Z$44,0)","v":0},{"$f":"IFERROR(LARGE(BQ$43:BQ$64,1),0)","v":0},{"$f":"IFERROR(CE43/$Z$44,0)","v":0},{"$f":"IF(CE43>0,CE43,\"\")","v":""},null,{"$f":"IFERROR(IF(ISNA(MATCH(\"AGCP\",$CH$4:$CH$9,0)),IF(ISNA(MATCH(\"WGC\",$CH$4:$CH$9,0)),\"\",VLOOKUP(D33,Plant_List,3,FALSE)),VLOOKUP(D33,Plant_List,2,FALSE)),\"\")","v":""}]
[{"$nulls":25},{"$f":"IF(SUM(BQ43:BQ64)>0,SUM(BQ43:BQ64),\"\")","v":""},{"$nulls":4},"=Total Cover",{"$nulls":37},{"$f":"IFERROR(Z34,0)","v":0},0,0,0,0,0,0,true,0,0,0,0,0,0,{"$f":"IFERROR(LARGE(BQ$43:BQ$64,2),0)","v":0},0,{"$f":"IF(AND(CE44>0,CF43>0.5),\"\",CE44)","v":0},null,""]
[{"$nulls":13},"50% of total cover:",{"$nulls":8},{"$f":"IFERROR(ROUNDUP(Z44/2,0),\"\")","v":""},{"$nulls":5},"20% of total cover:",{"$nulls":8},{"$f":"IFERROR(ROUNDUP(Z44/5,0),\"\")","v":""},{"$nulls":28},"WGC",null,0,0,0,0,0,0,0,true,0,0,0,0,0,0,{"$f":"IFERROR(LARGE(BQ$43:BQ$64,3),0)","v":0},0,{"$f":"IF(AND(CE45>0,SUM(CF$43:CF44)>0.5),\"\",CE45)","v":0},null,""]
[null,"Woody Vine Stratum",{"$nulls":9},"(Plot size:",{"$nulls":11},")",{"$nulls":42},"IL",null,0,0,0,0,0,0,0,true,0,0,0,0,0,0,{"$f":"IFERROR(LARGE(BQ$43:BQ$64,4),0)","v":0},0,{"$f":"IF(AND(CE46>0,SUM(CF$43:CF45)>0.5),\"\",CE46)","v":0},null,""]
[null,"1.",null,"",{"$nulls":27},{"$f":"IF(Z47>0,IF(OR(AND(Z$52<5,Z$11=\"\",Z$21=\"\",Z$30=\"\",Z$44=\"\"),Z$52>=5),IF(AND(ISNA(MATCH(Z47,CG$66:CG$75,0)),CD66<0.2),\"No\",\"Yes\"),\"No\"),\"\")","v":""},{"$nulls":5},{"$f":"IF(CI66=0,\"\",CI66)","v":""},{"$nulls":28},"KY",null,0,0,0,0,0,0,0,true,0,0,0,0,0,0,{"$f":"IFERROR(LARGE(BQ$43:BQ$64,5),0)","v":0},0,{"$f":"IF(AND(CE47>0,SUM(CF$43:CF46)>0.5),\"\",CE47)","v":0},null,""]
[null,"2.",{"$nulls":29},{"$f":"IF(Z48>0,IF(OR(AND(Z$52<5,Z$11=\"\",Z$21=\"\",Z$30=\"\",Z$44=\"\"),Z$52>=5),IF(AND(ISNA(MATCH(Z48,CG$66:CG$75,0)),CD67<0.2),\"No\",\"Yes\"),\"No\"),\"\")","v":""},{"$nulls":5},{"$f":"IF(CI67=0,\"\",CI67)","v":""},{"$nulls":28},"MO",null,0,0,0,0,0,0,0,true,0,0,0,0,0,0,{"$f":"IFERROR(LARGE(BQ$43:BQ$64,6),0)","v":0},0,{"$f":"IF(AND(CE48>0,SUM(CF$43:CF47)>0.5),\"\",CE48)","v":0},null,""]
[null,"3.",null,"",{"$nulls":27},"",{"$nulls":5},"",{"$nulls":28},"TX",null,0,0,0,0,0,0,0,true,0,0,0,0,0,0,{"$f":"IFERROR(LARGE(BQ$43:BQ$64,7),0)","v":0},0,{"$f":"IF(AND(CE49>0,SUM(CF$43:CF48)>0.5),\"\",CE49)","v":0},null,""]
[null,"4.",{"$nulls":29},"",{"$nulls":5},"",{"$nulls":30},0,0,0,0,0,0,0,true,0,0,0,0,0,0,{"$f":"IFERROR(LARGE(BQ$43:BQ$64,8),0)","v":0},0,{"$f":"IF(AND(CE50>0,SUM(CF$43:CF49)>0.5),\"\",CE50)","v":0},null,""]
[null,"5.",null,"",{"$nulls":27},"",{"$nulls":5},"",{"$nulls":6},"Hydrophytic Vegetation Present?",{"$nulls":23},0,0,0,0,0,0,0,true,0,0,0,0,0,0,{"$f":"IFERROR(LARGE(BQ$43:BQ$64,9),0)","v":0},0,{"$f":"IF(AND(CE51>0,SUM(CF$43:CF50)>0.5),\"\",CE51)","v":0},null,""]
[{"$nulls":25},{"$f":"IF(SUM(BQ66:BQ75)>0,SUM(BQ66:BQ75),\"\")","v":""},{"$nulls":4},"=Total Cover",{"$nulls":37},0,0,0,0,0,0,0,true,0,0,0,0,0,0,{"$f":"IFERROR(LARGE(BQ$43:BQ$64,10),0)","v":0},0,{"$f":"IF(AND(CE52>0,SUM(CF$43:CF51)>0.5),\"\",CE52)","v":0},null,""]
[{"$nulls":13},"50% of total cover:",{"$nulls":8},{"$f":"IFERROR(ROUNDUP(Z52/2,0),\"\")","v":""},{"$nulls":5},"20% of total cover:",{"$nulls":8},{"$f":"IFERROR(ROUNDUP(Z52/5,0),\"\")","v":""},{"$nulls":12},"Yes",null,null,{"$f":"BO61","v":""},"No",{"$nulls":3},{"$f":"BP61","v":"X"},{"$nulls":7},"BOTH",null,0,0,0,0,0,0,0,true,0,0,0,0,0,0,{"$f":"IFERROR(LARGE(BQ$43:BQ$64,11),0)","v":0},0,{"$f":"IF(AND(CE53>0,SUM(CF$43:CF52)>0.5),\"\",CE53)","v":0},null,""]
[{"$nulls":66},"AR",null,{"$f":"IFERROR('Vegetation Continued, 5 Strata'!Z33,0)","v":0},{"$f":"IFERROR(IF(AND('Vegetation Continued, 5 Strata'!AF33=\"Yes\",OR('Vegetation Continued, 5 Strata'!AL33=\"OBL\",'Vegetation Continued, 5 Strata'!AL33=\"FACW\",'Vegetation Continued, 5 Strata'!AL33=\"FAC\")),1,0),0)","v":0},{"$f":"IFERROR(IF('Vegetation Continued, 5 Strata'!AF33=\"Yes\",1,0),0)","v":0},{"$f":"IFERROR(IF(AND('Vegetation Continued, 5 Strata'!AF33=\"Yes\",OR('Vegetation Continued, 5 Strata'!AL33=\"OBL\",'Vegetation Continued, 5 Strata'!AL33=\"FACW\")),1,0),0)","v":0},{"$f":"IFERROR(IF(AND('Vegetation Continued, 5 Strata'!AF33=\"Yes\",OR('Vegetation Continued, 5 Strata'!AL33=\"UPL\",'Vegetation Continued, 5 Strata'!AL33=\"FACU\")),1,0),0)","v":0},{"$f":"IFERROR(IF(OR('Vegetation Continued, 5 Strata'!AL33=\"OBL\",'Vegetation Continued, 5 Strata'!AL33=\"FACW\"),1,0),0)","v":0},{"$f":"IFERROR(IF(OR('Vegetation Continued, 5 Strata'!AL33=\"UPL\",'Vegetation Continued, 5 Strata'!AL33=\"FACU\"),1,0),0)","v":0},{"$f":"IF(AND('Vegetation Continued, 5 Strata'!AF33=\"YES\",OR('Vegetation Continued, 5 Strata'!AL33=\"UPL\",'Vegetation Continued, 5 Strata'!AL33=\"FACU\",'Vegetation Continued, 5 Strata'!AL33=\"FAC\")),FALSE,TRUE)","v":true},{"$f":"IFERROR(IF('Vegetation Continued, 5 Strata'!AL33=\"obl\",BQ54,0),0)","v":0},{"$f":"IFERROR(IF('Vegetation Continued, 5 Strata'!AL33=\"facw\",BQ54,0),0)","v":0},{"$f":"IFERROR(IF('Vegetation Continued, 5 Strata'!AL33=\"fac\",BQ54,0),0)","v":0},{"$f":"IFERROR(IF('Vegetation Continued, 5 Strata'!AL33=\"facu\",BQ54,0),0)","v":0},{"$f":"IFERROR(IF('Vegetation Continued, 5 Strata'!AL33=\"upl\",BQ54,0),0)","v":0},{"$f":"IFERROR(BQ54/Z$44,0)","v":0},{"$f":"IFERROR(LARGE(BQ$43:BQ$64,12),0)","v":0},{"$f":"IFERROR(CE54/Z$44,0)","v":0},{"$f":"IF(AND(CE54>0,SUM(CF$43:CF53)>0.5),\"\",CE54)","v":0},null,{"$f":"IFERROR(IF(ISNA(MATCH(\"AGCP\",$CH$4:$CH$9,0)),IF(ISNA(MATCH(\"WGC\",$CH$4:$CH$9,0)),\"\",VLOOKUP('Vegetation Continued, 5 Strata'!D33,Plant_List,3,FALSE)),VLOOKUP('Vegetation Continued, 5 Strata'!D33,Plant_List,2,FALSE)),\"\")","v":""}]
[null,"Remarks:  (If observed, list morphological adaptations below.)",{"$nulls":64},"LA",null,{"$f":"IFERROR('Vegetation Continued, 5 Strata'!Z34,0)","v":0},{"$f":"IFERROR(IF(AND('Vegetation Continued, 5 Strata'!AF34=\"Yes\",OR('Vegetation Continued, 5 Strata'!AL34=\"OBL\",'Vegetation Continued, 5 Strata'!AL34=\"FACW\",'Vegetation Continued, 5 Strata'!AL34=\"FAC\")),1,0),0)","v":0},{"$f":"IFERROR(IF('Vegetation Continued, 5 Strata'!AF34=\"Yes\",1,0),0)","v":0},{"$f":"IFERROR(IF(AND('Vegetation Continued, 5 Strata'!AF34=\"Yes\",OR('Vegetation Continued, 5 Strata'!AL34=\"OBL\",'Vegetation Continued, 5 Strata'!AL34=\"FACW\")),1,0),0)","v":0},{"$f":"IFERROR(IF(AND('Vegetation Continued, 5 Strata'!AF34=\"Yes\",OR('Vegetation Continued, 5 Strata'!AL34=\"UPL\",'Vegetation Continued, 5 Strata'!AL34=\"FACU\")),1,0),0)","v":0},{"$f":"IFERROR(IF(OR('Vegetation Continued, 5 Strata'!AL34=\"OBL\",'Vegetation Continued, 5 Strata'!AL34=\"FACW\"),1,0),0)","v":0},{"$f":"IFERROR(IF(OR('Vegetation Continued, 5 Strata'!AL34=\"UPL\",'Vegetation Continued, 5 Strata'!AL34=\"FACU\"),1,0),0)","v":0},{"$f":"IF(AND('Vegetation Continued, 5 Strata'!AF34=\"YES\",OR('Vegetation Continued, 5 Strata'!AL34=\"UPL\",'Vegetation Continued, 5 Strata'!AL34=\"FACU\",'Vegetation Continued, 5 Strata'!AL34=\"FAC\")),FALSE,TRUE)","v":true},{"$f":"IFERROR(IF('Vegetation Continued, 5 Strata'!AL34=\"obl\",BQ55,0),0)","v":0},{"$f":"IFERROR(IF('Vegetation Continued, 5 Strata'!AL34=\"facw\",BQ55,0),0)","v":0},{"$f":"IFERROR(IF('Vegetation Continued, 5 Strata'!AL34=\"fac\",BQ55,0),0)","v":0},{"$f":"IFERROR(IF('Vegetation Continued, 5 Strata'!AL34=\"facu\",BQ55,0),0)","v":0},{"$f":"IFERROR(IF('Vegetation Continued, 5 Strata'!AL34=\"upl\",BQ55,0),0)","v":0},{"$f":"IFERROR(BQ55/Z$44,0)","v":0},{"$f":"IFERROR(LARGE(BQ$43:BQ$64,13),0)","v":0},{"$f":"IFERROR(CE55/Z$44,0)","v":0},{"$f":"IF(AND(CE55>0,SUM(CF$43:CF54)>0.5),\"\",CE55)","v":0},null,{"$f":"IFERROR(IF(ISNA(MATCH(\"AGCP\",$CH$4:$CH$9,0)),IF(ISNA(MATCH(\"WGC\",$CH$4:$CH$9,0)),\"\",VLOOKUP('Vegetation Continued, 5 Strata'!D34,Plant_List,3,FALSE)),VLOOKUP('Vegetation Continued, 5 Strata'!D34,Plant_List,2,FALSE)),\"\")","v":""}]
[{"$nulls":66},"MS",null,{"$f":"IFERROR('Vegetation Continued, 5 Strata'!Z35,0)","v":0},{"$f":"IFERROR(IF(AND('Vegetation Continued, 5 Strata'!AF35=\"Yes\",OR('Vegetation Continued, 5 Strata'!AL35=\"OBL\",'Vegetation Continued, 5 Strata'!AL35=\"FACW\",'Vegetation Continued, 5 Strata'!AL35=\"FAC\")),1,0),0)","v":0},{"$f":"IFERROR(IF('Vegetation Continued, 5 Strata'!AF35=\"Yes\",1,0),0)","v":0},{"$f":"IFERROR(IF(AND('Vegetation Continued, 5 Strata'!AF35=\"Yes\",OR('Vegetation Continued, 5 Strata'!AL35=\"OBL\",'Vegetation Continued, 5 Strata'!AL35=\"FACW\")),1,0),0)","v":0},{"$f":"IFERROR(IF(AND('Vegetation Continued, 5 Strata'!AF35=\"Yes\",OR('Vegetation Continued, 5 Strata'!AL35=\"UPL\",'Vegetation Continued, 5 Strata'!AL35=\"FACU\")),1,0),0)","v":0},{"$f":"IFERROR(IF(OR('Vegetation Continued, 5 Strata'!AL35=\"OBL\",'Vegetation Continued, 5 Strata'!AL35=\"FACW\"),1,0),0)","v":0},{"$f":"IFERROR(IF(OR('Vegetation Continued, 5 Strata'!AL35=\"UPL\",'Vegetation Continued, 5 Strata'!AL35=\"FACU\"),1,0),0)","v":0},{"$f":"IF(AND('Vegetation Continued, 5 Strata'!AF35=\"YES\",OR('Vegetation Continued, 5 Strata'!AL35=\"UPL\",'Vegetation Continued, 5 Strata'!AL35=\"FACU\",'Vegetation Continued, 5 Strata'!AL35=\"FAC\")),FALSE,TRUE)","v":true},{"$f":"IFERROR(IF('Vegetation Continued, 5 Strata'!AL35=\"obl\",BQ56,0),0)","v":0},{"$f":"IFERROR(IF('Vegetation Continued, 5 Strata'!AL35=\"facw\",BQ56,0),0)","v":0},{"$f":"IFERROR(IF('Vegetation Continued, 5 Strata'!AL35=\"fac\",BQ56,0),0)","v":0},{"$f":"IFERROR(IF('Vegetation Continued, 5 Strata'!AL35=\"facu\",BQ56,0),0)","v":0},{"$f":"IFERROR(IF('Vegetation Continued, 5 Strata'!AL35=\"upl\",BQ56,0),0)","v":0},0,{"$f":"IFERROR(LARGE(BQ$43:BQ$64,14),0)","v":0},0,{"$f":"IF(AND(CE56>0,SUM(CF$43:CF55)>0.5),\"\",CE56)","v":0},null,{"$f":"IFERROR(IF(ISNA(MATCH(\"AGCP\",$CH$4:$CH$9,0)),IF(ISNA(MATCH(\"WGC\",$CH$4:$CH$9,0)),\"\",VLOOKUP('Vegetation Continued, 5 Strata'!D35,Plant_List,3,FALSE)),VLOOKUP('Vegetation Continued, 5 Strata'!D35,Plant_List,2,FALSE)),\"\")","v":""}]
["ENG FORM 6116-2, JUL 2018",{"$nulls":46},"Atlantic and Gulf Coastal Plain – Version 2.0",{"$nulls":18},"OK",null,{"$f":"IFERROR('Vegetation Continued, 5 Strata'!Z36,0)","v":0},{"$f":"IFERROR(IF(AND('Vegetation Continued, 5 Strata'!AF36=\"Yes\",OR('Vegetation Continued, 5 Strata'!AL36=\"OBL\",'Vegetation Continued, 5 Strata'!AL36=\"FACW\",'Vegetation Continued, 5 Strata'!AL36=\"FAC\")),1,0),0)","v":0},{"$f":"IFERROR(IF('Vegetation Continued, 5 Strata'!AF36=\"Yes\",1,0),0)","v":0},{"$f":"IFERROR(IF(AND('Vegetation Continued, 5 Strata'!AF36=\"Yes\",OR('Vegetation Continued, 5 Strata'!AL36=\"OBL\",'Vegetation Continued, 5 Strata'!AL36=\"FACW\")),1,0),0)","v":0},{"$f":"IFERROR(IF(AND('Vegetation Continued, 5 Strata'!AF36=\"Yes\",OR('Vegetation Continued, 5 Strata'!AL36=\"UPL\",'Vegetation Continued, 5 Strata'!AL36=\"FACU\")),1,0),0)","v":0},{"$f":"IFERROR(IF(OR('Vegetation Continued, 5 Strata'!AL36=\"OBL\",'Vegetation Continued, 5 Strata'!AL36=\"FACW\"),1,0),0)","v":0},{"$f":"IFERROR(IF(OR('Vegetation Continued, 5 Strata'!AL36=\"UPL\",'Vegetation Continued, 5 Strata'!AL36=\"FACU\"),1,0),0)","v":0},{"$f":"IF(AND('Vegetation Continued, 5 Strata'!AF36=\"YES\",OR('Vegetation Continued, 5 Strata'!AL36=\"UPL\",'Vegetation Continued, 5 Strata'!AL36=\"FACU\",'Vegetation Continued, 5 Strata'!AL36=\"FAC\")),FALSE,TRUE)","v":true},{"$f":"IFERROR(IF('Vegetation Continued, 5 Strata'!AL36=\"obl\",BQ57,0),0)","v":0},{"$f":"IFERROR(IF('Vegetation Continued, 5 Strata'!AL36=\"facw\",BQ57,0),0)","v":0},{"$f":"IFERROR(IF('Vegetation Continued, 5 Strata'!AL36=\"fac\",BQ57,0),0)","v":0},{"$f":"IFERROR(IF('Vegetation Continued, 5 Strata'!AL36=\"facu\",BQ57,0),0)","v":0},{"$f":"IFERROR(IF('Vegetation Continued, 5 Strata'!AL36=\"upl\",BQ57,0),0)","v":0},0,{"$f":"IFERROR(LARGE(BQ$43:BQ$64,15),0)","v":0},0,{"$f":"IF(AND(CE57>0,SUM(CF$43:CF56)>0.5),\"\",CE57)","v":0},null,{"$f":"IFERROR(IF(ISNA(MATCH(\"AGCP\",$CH$4:$CH$9,0)),IF(ISNA(MATCH(\"WGC\",$CH$4:$CH$9,0)),\"\",VLOOKUP('Vegetation Continued, 5 Strata'!D36,Plant_List,3,FALSE)),VLOOKUP('Vegetation Continued, 5 Strata'!D36,Plant_List,2,FALSE)),\"\")","v":""}]
[{"$nulls":66},"TN",null,{"$f":"IFERROR('Vegetation Continued, 5 Strata'!Z37,0)","v":0},{"$f":"IFERROR(IF(AND('Vegetation Continued, 5 Strata'!AF37=\"Yes\",OR('Vegetation Continued, 5 Strata'!AL37=\"OBL\",'Vegetation Continued, 5 Strata'!AL37=\"FACW\",'Vegetation Continued, 5 Strata'!AL37=\"FAC\")),1,0),0)","v":0},{"$f":"IFERROR(IF('Vegetation Continued, 5 Strata'!AF37=\"Yes\",1,0),0)","v":0},{"$f":"IFERROR(IF(AND('Vegetation Continued, 5 Strata'!AF37=\"Yes\",OR('Vegetation Continued, 5 Strata'!AL37=\"OBL\",'Vegetation Continued, 5 Strata'!AL37=\"FACW\")),1,0),0)","v":0},{"$f":"IFERROR(IF(AND('Vegetation Continued, 5 Strata'!AF37=\"Yes\",OR('Vegetation Continued, 5 Strata'!AL37=\"UPL\",'Vegetation Continued, 5 Strata'!AL37=\"FACU\")),1,0),0)","v":0},{"$f":"IFERROR(IF(OR('Vegetation Continued, 5 Strata'!AL37=\"OBL\",'Vegetation Continued, 5 Strata'!AL37=\"FACW\"),1,0),0)","v":0},{"$f":"IFERROR(IF(OR('Vegetation Continued, 5 Strata'!AL37=\"UPL\",'Vegetation Continued, 5 Strata'!AL37=\"FACU\"),1,0),0)","v":0},{"$f":"IF(AND('Vegetation Continued, 5 Strata'!AF37=\"YES\",OR('Vegetation Continued, 5 Strata'!AL37=\"UPL\",'Vegetation Continued, 5 Strata'!AL37=\"FACU\",'Vegetation Continued, 5 Strata'!AL37=\"FAC\")),FALSE,TRUE)","v":true},{"$f":"IFERROR(IF('Vegetation Continued, 5 Strata'!AL37=\"obl\",BQ58,0),0)","v":0},{"$f":"IFERROR(IF('Vegetation Continued, 5 Strata'!AL37=\"facw\",BQ58,0),0)","v":0},{"$f":"IFERROR(IF('Vegetation Continued, 5 Strata'!AL37=\"fac\",BQ58,0),0)","v":0},{"$f":"IFERROR(IF('Vegetation Continued, 5 Strata'!AL37=\"facu\",BQ58,0),0)","v":0},{"$f":"IFERROR(IF('Vegetation Continued, 5 Strata'!AL37=\"upl\",BQ58,0),0)","v":0},0,{"$f":"IFERROR(LARGE(BQ$43:BQ$64,16),0)","v":0},0,{"$f":"IF(AND(CE58>0,SUM(CF$43:CF57)>0.5),\"\",CE58)","v":0},null,{"$f":"IFERROR(IF(ISNA(MATCH(\"AGCP\",$CH$4:$CH$9,0)),IF(ISNA(MATCH(\"WGC\",$CH$4:$CH$9,0)),\"\",VLOOKUP('Vegetation Continued, 5 Strata'!D37,Plant_List,3,FALSE)),VLOOKUP('Vegetation Continued, 5 Strata'!D37,Plant_List,2,FALSE)),\"\")","v":""}]
[{"$nulls":68},{"$f":"IFERROR('Vegetation Continued, 5 Strata'!Z38,0)","v":0},{"$f":"IFERROR(IF(AND('Vegetation Continued, 5 Strata'!AF38=\"Yes\",OR('Vegetation Continued, 5 Strata'!AL38=\"OBL\",'Vegetation Continued, 5 Strata'!AL38=\"FACW\",'Vegetation Continued, 5 Strata'!AL38=\"FAC\")),1,0),0)","v":0},{"$f":"IFERROR(IF('Vegetation Continued, 5 Strata'!AF38=\"Yes\",1,0),0)","v":0},{"$f":"IFERROR(IF(AND('Vegetation Continued, 5 Strata'!AF38=\"Yes\",OR('Vegetation Continued, 5 Strata'!AL38=\"OBL\",'Vegetation Continued, 5 Strata'!AL38=\"FACW\")),1,0),0)","v":0},{"$f":"IFERROR(IF(AND('Vegetation Continued, 5 Strata'!AF38=\"Yes\",OR('Vegetation Continued, 5 Strata'!AL38=\"UPL\",'Vegetation Continued, 5 Strata'!AL38=\"FACU\")),1,0),0)","v":0},{"$f":"IFERROR(IF(OR('Vegetation Continued, 5 Strata'!AL38=\"OBL\",'Vegetation Continued, 5 Strata'!AL38=\"FACW\"),1,0),0)","v":0},{"$f":"IFERROR(IF(OR('Vegetation Continued, 5 Strata'!AL38=\"UPL\",'Vegetation Continued, 5 Strata'!AL38=\"FACU\"),1,0),0)","v":0},{"$f":"IF(AND('Vegetation Continued, 5 Strata'!AF38=\"YES\",OR('Vegetation Continued, 5 Strata'!AL38=\"UPL\",'Vegetation Continued, 5 Strata'!AL38=\"FACU\",'Vegetation Continued, 5 Strata'!AL38=\"FAC\")),FALSE,TRUE)","v":true},{"$f":"IFERROR(IF('Vegetation Continued, 5 Strata'!AL38=\"obl\",BQ59,0),0)","v":0},{"$f":"IFERROR(IF('Vegetation Continued, 5 Strata'!AL38=\"facw\",BQ59,0),0)","v":0},{"$f":"IFERROR(IF('Vegetation Continued, 5 Strata'!AL38=\"fac\",BQ59,0),0)","v":0},{"$f":"IFERROR(IF('Vegetation Continued, 5 Strata'!AL38=\"facu\",BQ59,0),0)","v":0},{"$f":"IFERROR(IF('Vegetation Continued, 5 Strata'!AL38=\"upl\",BQ59,0),0)","v":0},0,{"$f":"IFERROR(LARGE(BQ$43:BQ$64,17),0)","v":0},0,{"$f":"IF(AND(CE59>0,SUM(CF$43:CF58)>0.5),\"\",CE59)","v":0},null,{"$f":"IFERROR(IF(ISNA(MATCH(\"AGCP\",$CH$4:$CH$9,0)),IF(ISNA(MATCH(\"WGC\",$CH$4:$CH$9,0)),\"\",VLOOKUP('Vegetation Continued, 5 Strata'!D38,Plant_List,3,FALSE)),VLOOKUP('Vegetation Continued, 5 Strata'!D38,Plant_List,2,FALSE)),\"\")","v":""}]
[{"$nulls":66},"Hydrophytic Vegetation Present",null,{"$f":"IFERROR('Vegetation Continued, 5 Strata'!Z39,0)","v":0},{"$f":"IFERROR(IF(AND('Vegetation Continued, 5 Strata'!AF39=\"Yes\",OR('Vegetation Continued, 5 Strata'!AL39=\"OBL\",'Vegetation Continued, 5 Strata'!AL39=\"FACW\",'Vegetation Continued, 5 Strata'!AL39=\"FAC\")),1,0),0)","v":0},{"$f":"IFERROR(IF('Vegetation Continued, 5 Strata'!AF39=\"Yes\",1,0),0)","v":0},{"$f":"IFERROR(IF(AND('Vegetation Continued, 5 Strata'!AF39=\"Yes\",OR('Vegetation Continued, 5 Strata'!AL39=\"OBL\",'Vegetation Continued, 5 Strata'!AL39=\"FACW\")),1,0),0)","v":0},{"$f":"IFERROR(IF(AND('Vegetation Continued, 5 Strata'!AF39=\"Yes\",OR('Vegetation Continued, 5 Strata'!AL39=\"UPL\",'Vegetation Continued, 5 Strata'!AL39=\"FACU\")),1,0),0)","v":0},{"$f":"IFERROR(IF(OR('Vegetation Continued, 5 Strata'!AL39=\"OBL\",'Vegetation Continued, 5 Strata'!AL39=\"FACW\"),1,0),0)","v":0},{"$f":"IFERROR(IF(OR('Vegetation Continued, 5 Strata'!AL39=\"UPL\",'Vegetation Continued, 5 Strata'!AL39=\"FACU\"),1,0),0)","v":0},{"$f":"IF(AND('Vegetation Continued, 5 Strata'!AF39=\"YES\",OR('Vegetation Continued, 5 Strata'!AL39=\"UPL\",'Vegetation Continued, 5 Strata'!AL39=\"FACU\",'Vegetation Continued, 5 Strata'!AL39=\"FAC\")),FALSE,TRUE)","v":true},{"$f":"IFERROR(IF('Vegetation Continued, 5 Strata'!AL39=\"obl\",BQ60,0),0)","v":0},{"$f":"IFERROR(IF('Vegetation Continued, 5 Strata'!AL39=\"facw\",BQ60,0),0)","v":0},{"$f":"IFERROR(IF('Vegetation Continued, 5 Strata'!AL39=\"fac\",BQ60,0),0)","v":0},{"$f":"IFERROR(IF('Vegetation Continued, 5 Strata'!AL39=\"facu\",BQ60,0),0)","v":0},{"$f":"IFERROR(IF('Vegetation Continued, 5 Strata'!AL39=\"upl\",BQ60,0),0)","v":0},0,{"$f":"IFERROR(LARGE(BQ$43:BQ$64,18),0)","v":0},0,{"$f":"IF(AND(CE60>0,SUM(CF$43:CF59)>0.5),\"\",CE60)","v":0},null,{"$f":"IFERROR(IF(ISNA(MATCH(\"AGCP\",$CH$4:$CH$9,0)),IF(ISNA(MATCH(\"WGC\",$CH$4:$CH$9,0)),\"\",VLOOKUP('Vegetation Continued, 5 Strata'!D39,Plant_List,3,FALSE)),VLOOKUP('Vegetation Continued, 5 Strata'!D39,Plant_List,2,FALSE)),\"\")","v":""}]
[{"$nulls":66},{"$f":"IF(OR(AS22=\"X\",AS23=\"X\",AS24=\"X\"),\"X\",\"\")","v":""},{"$f":"IF(OR('Page 1 (Hydrology)'!H9=\"X\",'Page 1 (Hydrology)'!H9=\"Yes\",'Page 1 (Hydrology)'!H9=\"Y\",'Page 1 (Hydrology)'!H10=\"X\",'Page 1 (Hydrology)'!H10=\"Yes\",'Page 1 (Hydrology)'!H10=\"Y\",ISTEXT(AS25)),\"\",IF(AND(BB53=\"\",'Page 1 (Hydrology)'!Q12=\"\"),\"X\",\"\"))","v":"X"},{"$f":"IFERROR('Vegetation Continued, 5 Strata'!Z40,0)","v":0},{"$f":"IFERROR(IF(AND('Vegetation Continued, 5 Strata'!AF40=\"Yes\",OR('Vegetation Continued, 5 Strata'!AL40=\"OBL\",'Vegetation Continued, 5 Strata'!AL40=\"FACW\",'Vegetation Continued, 5 Strata'!AL40=\"FAC\")),1,0),0)","v":0},{"$f":"IFERROR(IF('Vegetation Continued, 5 Strata'!AF40=\"Yes\",1,0),0)","v":0},{"$f":"IFERROR(IF(AND('Vegetation Continued, 5 Strata'!AF40=\"Yes\",OR('Vegetation Continued, 5 Strata'!AL40=\"OBL\",'Vegetation Continued, 5 Strata'!AL40=\"FACW\")),1,0),0)","v":0},{"$f":"IFERROR(IF(AND('Vegetation Continued, 5 Strata'!AF40=\"Yes\",OR('Vegetation Continued, 5 Strata'!AL40=\"UPL\",'Vegetation Continued, 5 Strata'!AL40=\"FACU\")),1,0),0)","v":0},{"$f":"IFERROR(IF(OR('Vegetation Continued, 5 Strata'!AL40=\"OBL\",'Vegetation Continued, 5 Strata'!AL40=\"FACW\"),1,0),0)","v":0},{"$f":"IFERROR(IF(OR('Vegetation Continued, 5 Strata'!AL40=\"UPL\",'Vegetation Continued, 5 Strata'!AL40=\"FACU\"),1,0),0)","v":0},{"$f":"IF(AND('Vegetation Continued, 5 Strata'!AF40=\"YES\",OR('Vegetation Continued, 5 Strata'!AL40=\"UPL\",'Vegetation Continued, 5 Strata'!AL40=\"FACU\",'Vegetation Continued, 5 Strata'!AL40=\"FAC\")),FALSE,TRUE)","v":true},{"$f":"IFERROR(IF('Vegetation Continued, 5 Strata'!AL40=\"obl\",BQ61,0),0)","v":0},{"$f":"IFERROR(IF('Vegetation Continued, 5 Strata'!AL40=\"facw\",BQ61,0),0)","v":0},{"$f":"IFERROR(IF('Vegetation Continued, 5 Strata'!AL40=\"fac\",BQ61,0),0)","v":0},{"$f":"IFERROR(IF('Vegetation Continued, 5 Strata'!AL40=\"facu\",BQ61,0),0)","v":0},{"$f":"IFERROR(IF('Vegetation Continued, 5 Strata'!AL40=\"upl\",BQ61,0),0)","v":0},0,{"$f":"IFERROR(LARGE(BQ$43:BQ$64,19),0)","v":0},0,{"$f":"IF(AND(CE61>0,SUM(CF$43:CF60)>0.5),\"\",CE61)","v":0},null,{"$f":"IFERROR(IF(ISNA(MATCH(\"AGCP\",$CH$4:$CH$9,0)),IF(ISNA(MATCH(\"WGC\",$CH$4:$CH$9,0)),\"\",VLOOKUP('Vegetation Continued, 5 Strata'!D40,Plant_List,3,FALSE)),VLOOKUP('Vegetation Continued, 5 Strata'!D40,Plant_List,2,FALSE)),\"\")","v":""}]
[{"$nulls":68},{"$f":"IFERROR('Vegetation Continued, 5 Strata'!Z41,0)","v":0},{"$f":"IFERROR(IF(AND('Vegetation Continued, 5 Strata'!AF41=\"Yes\",OR('Vegetation Continued, 5 Strata'!AL41=\"OBL\",'Vegetation Continued, 5 Strata'!AL41=\"FACW\",'Vegetation Continued, 5 Strata'!AL41=\"FAC\")),1,0),0)","v":0},{"$f":"IFERROR(IF('Vegetation Continued, 5 Strata'!AF41=\"Yes\",1,0),0)","v":0},{"$f":"IFERROR(IF(AND('Vegetation Continued, 5 Strata'!AF41=\"Yes\",OR('Vegetation Continued, 5 Strata'!AL41=\"OBL\",'Vegetation Continued, 5 Strata'!AL41=\"FACW\")),1,0),0)","v":0},{"$f":"IFERROR(IF(AND('Vegetation Continued, 5 Strata'!AF41=\"Yes\",OR('Vegetation Continued, 5 Strata'!AL41=\"UPL\",'Vegetation Continued, 5 Strata'!AL41=\"FACU\")),1,0),0)","v":0},{"$f":"IFERROR(IF(OR('Vegetation Continued, 5 Strata'!AL41=\"OBL\",'Vegetation Continued, 5 Strata'!AL41=\"FACW\"),1,0),0)","v":0},{"$f":"IFERROR(IF(OR('Vegetation Continued, 5 Strata'!AL41=\"UPL\",'Vegetation Continued, 5 Strata'!AL41=\"FACU\"),1,0),0)","v":0},{"$f":"IF(AND('Vegetation Continued, 5 Strata'!AF41=\"YES\",OR('Vegetation Continued, 5 Strata'!AL41=\"UPL\",'Vegetation Continued, 5 Strata'!AL41=\"FACU\",'Vegetation Continued, 5 Strata'!AL41=\"FAC\")),FALSE,TRUE)","v":true},{"$f":"IFERROR(IF('Vegetation Continued, 5 Strata'!AL41=\"obl\",BQ62,0),0)","v":0},{"$f":"IFERROR(IF('Vegetation Continued, 5 Strata'!AL41=\"facw\",BQ62,0),0)","v":0},{"$f":"IFERROR(IF('Vegetation Continued, 5 Strata'!AL41=\"fac\",BQ62,0),0)","v":0},{"$f":"IFERROR(IF('Vegetation Continued, 5 Strata'!AL41=\"facu\",BQ62,0),0)","v":0},{"$f":"IFERROR(IF('Vegetation Continued, 5 Strata'!AL41=\"upl\",BQ62,0),0)","v":0},0,{"$f":"IFERROR(LARGE(BQ$43:BQ$64,20),0)","v":0},0,{"$f":"IF(AND(CE62>0,SUM(CF$43:CF61)>0.5),\"\",CE62)","v":0},null,{"$f":"IFERROR(IF(ISNA(MATCH(\"AGCP\",$CH$4:$CH$9,0)),IF(ISNA(MATCH(\"WGC\",$CH$4:$CH$9,0)),\"\",VLOOKUP('Vegetation Continued, 5 Strata'!D41,Plant_List,3,FALSE)),VLOOKUP('Vegetation Continued, 5 Strata'!D41,Plant_List,2,FALSE)),\"\")","v":""}]
[{"$nulls":66},"AR AGCP",null,{"$f":"IFERROR('Vegetation Continued, 5 Strata'!Z42,0)","v":0},{"$f":"IFERROR(IF(AND('Vegetation Continued, 5 Strata'!AF42=\"Yes\",OR('Vegetation Continued, 5 Strata'!AL42=\"OBL\",'Vegetation Continued, 5 Strata'!AL42=\"FACW\",'Vegetation Continued, 5 Strata'!AL42=\"FAC\")),1,0),0)","v":0},{"$f":"IFERROR(IF('Vegetation Continued, 5 Strata'!AF42=\"Yes\",1,0),0)","v":0},{"$f":"IFERROR(IF(AND('Vegetation Continued, 5 Strata'!AF42=\"Yes\",OR('Vegetation Continued, 5 Strata'!AL42=\"OBL\",'Vegetation Continued, 5 Strata'!AL42=\"FACW\")),1,0),0)","v":0},{"$f":"IFERROR(IF(AND('Vegetation Continued, 5 Strata'!AF42=\"Yes\",OR('Vegetation Continued, 5 Strata'!AL42=\"UPL\",'Vegetation Continued, 5 Strata'!AL42=\"FACU\")),1,0),0)","v":0},{"$f":"IFERROR(IF(OR('Vegetation Continued, 5 Strata'!AL42=\"OBL\",'Vegetation Continued, 5 Strata'!AL42=\"FACW\"),1,0),0)","v":0},{"$f":"IFERROR(IF(OR('Vegetation Continued, 5 Strata'!AL42=\"UPL\",'Vegetation Continued, 5 Strata'!AL42=\"FACU\"),1,0),0)","v":0},{"$f":"IF(AND('Vegetation Continued, 5 Strata'!AF42=\"YES\",OR('Vegetation Continued, 5 Strata'!AL42=\"UPL\",'Vegetation Continued, 5 Strata'!AL42=\"FACU\",'Vegetation Continued, 5 Strata'!AL42=\"FAC\")),FALSE,TRUE)","v":true},{"$f":"IFERROR(IF('Vegetation Continued, 5 Strata'!AL42=\"obl\",BQ63,0),0)","v":0},{"$f":"IFERROR(IF('Vegetation Continued, 5 Strata'!AL42=\"facw\",BQ63,0),0)","v":0},{"$f":"IFERROR(IF('Vegetation Continued, 5 Strata'!AL42=\"fac\",BQ63,0),0)","v":0},{"$f":"IFERROR(IF('Vegetation Continued, 5 Strata'!AL42=\"facu\",BQ63,0),0)","v":0},{"$f":"IFERROR(IF('Vegetation Continued, 5 Strata'!AL42=\"upl\",BQ63,0),0)","v":0},0,{"$f":"IFERROR(LARGE(BQ$43:BQ$64,21),0)","v":0},0,{"$f":"IF(AND(CE63>0,SUM(CF$43:CF62)>0.5),\"\",CE63)","v":0},null,{"$f":"IFERROR(IF(ISNA(MATCH(\"AGCP\",$CH$4:$CH$9,0)),IF(ISNA(MATCH(\"WGC\",$CH$4:$CH$9,0)),\"\",VLOOKUP('Vegetation Continued, 5 Strata'!D42,Plant_List,3,FALSE)),VLOOKUP('Vegetation Continued, 5 Strata'!D42,Plant_List,2,FALSE)),\"\")","v":""}]
[{"$nulls":66},"LRR P, MLRA 135B",null,{"$f":"IFERROR('Vegetation Continued, 5 Strata'!Z43,0)","v":0},{"$f":"IFERROR(IF(AND('Vegetation Continued, 5 Strata'!AF43=\"Yes\",OR('Vegetation Continued, 5 Strata'!AL43=\"OBL\",'Vegetation Continued, 5 Strata'!AL43=\"FACW\",'Vegetation Continued, 5 Strata'!AL43=\"FAC\")),1,0),0)","v":0},{"$f":"IFERROR(IF('Vegetation Continued, 5 Strata'!AF43=\"Yes\",1,0),0)","v":0},{"$f":"IFERROR(IF(AND('Vegetation Continued, 5 Strata'!AF43=\"Yes\",OR('Vegetation Continued, 5 Strata'!AL43=\"OBL\",'Vegetation Continued, 5 Strata'!AL43=\"FACW\")),1,0),0)","v":0},{"$f":"IFERROR(IF(AND('Vegetation Continued, 5 Strata'!AF43=\"Yes\",OR('Vegetation Continued, 5 Strata'!AL43=\"UPL\",'Vegetation Continued, 5 Strata'!AL43=\"FACU\")),1,0),0)","v":0},{"$f":"IFERROR(IF(OR('Vegetation Continued, 5 Strata'!AL43=\"OBL\",'Vegetation Continued, 5 Strata'!AL43=\"FACW\"),1,0),0)","v":0},{"$f":"IFERROR(IF(OR('Vegetation Continued, 5 Strata'!AL43=\"UPL\",'Vegetation Continued, 5 Strata'!AL43=\"FACU\"),1,0),0)","v":0},{"$f":"IF(AND('Vegetation Continued, 5 Strata'!AF43=\"YES\",OR('Vegetation Continued, 5 Strata'!AL43=\"UPL\",'Vegetation Continued, 5 Strata'!AL43=\"FACU\",'Vegetation Continued, 5 Strata'!AL43=\"FAC\")),FALSE,TRUE)","v":true},{"$f":"IFERROR(IF('Vegetation Continued, 5 Strata'!AL43=\"obl\",BQ64,0),0)","v":0},{"$f":"IFERROR(IF('Vegetation Continued, 5 Strata'!AL43=\"facw\",BQ64,0),0)","v":0},{"$f":"IFERROR(IF('Vegetation Continued, 5 Strata'!AL43=\"fac\",BQ64,0),0)","v":0},{"$f":"IFERROR(IF('Vegetation Continued, 5 Strata'!AL43=\"facu\",BQ64,0),0)","v":0},{"$f":"IFERROR(IF('Vegetation Continued, 5 Strata'!AL43=\"upl\",BQ64,0),0)","v":0},0,{"$f":"IFERROR(LARGE(BQ$43:BQ$64,22),0)","v":0},0,{"$f":"IF(AND(CE64>0,SUM(CF$43:CF63)>0.5),\"\",CE64)","v":0},null,{"$f":"IFERROR(IF(ISNA(MATCH(\"AGCP\",$CH$4:$CH$9,0)),IF(ISNA(MATCH(\"WGC\",$CH$4:$CH$9,0)),\"\",VLOOKUP('Vegetation Continued, 5 Strata'!D43,Plant_List,3,FALSE)),VLOOKUP('Vegetation Continued, 5 Strata'!D43,Plant_List,2,FALSE)),\"\")","v":""}]
[{"$nulls":66},"AR WGC"]
[{"$nulls":66},"LRR O",null,{"$f":"IFERROR(Z47,0)","v":0},{"$f":"IF(AND(AF47=\"Yes\",OR(AL47=\"OBL\",AL47=\"FACW\",AL47=\"FAC\")),1,0)","v":0},{"$f":"IF(AF47=\"Yes\",1,0)","v":0},{"$f":"IF(AND(AF47=\"Yes\",OR(AL47=\"OBL\",AL47=\"FACW\")),1,0)","v":0},{"$f":"IF(AND(AF47=\"Yes\",OR(AL47=\"UPL\",AL47=\"FACU\")),1,0)","v":0},{"$f":"IF(OR(AL47=\"OBL\",AL47=\"FACW\"),1,0)","v":0},{"$f":"IF(OR(AL47=\"UPL\",AL47=\"FACU\"),1,0)","v":0},{"$f":"IF(AND(AF47=\"YES\",OR(AL47=\"UPL\",AL47=\"FACU\",AL47=\"FAC\")),FALSE,TRUE)","v":true},{"$f":"IF($AL47=\"obl\",$Z47,0)","v":0},{"$f":"IF($AL47=\"facw\",$Z47,0)","v":0},{"$f":"IF($AL47=\"fac\",$Z47,0)","v":0},{"$f":"IF($AL47=\"facu\",$Z47,0)","v":0},{"$f":"IF($AL47=\"upl\",$Z47,0)","v":0},{"$f":"IFERROR(Z47/Z$52,0)","v":0},{"$f":"IFERROR(LARGE(BQ$66:BQ$75,1),0)","v":0},{"$f":"IFERROR(CE66/$Z$52,0)","v":0},{"$f":"IF(CE66>0,CE66,\"\")","v":""},null,{"$f":"IFERROR(IF(ISNA(MATCH(\"AGCP\",$CH$4:$CH$9,0)),IF(ISNA(MATCH(\"WGC\",$CH$4:$CH$9,0)),\"\",VLOOKUP(D47,Plant_List,3,FALSE)),VLOOKUP(D47,Plant_List,2,FALSE)),\"\")","v":""}]
[{"$nulls":66},"LRR O, MLRA 131A",null,{"$f":"IFERROR(Z48,0)","v":0},{"$f":"IF(AND(AF48=\"Yes\",OR(AL48=\"OBL\",AL48=\"FACW\",AL48=\"FAC\")),1,0)","v":0},{"$f":"IF(AF48=\"Yes\",1,0)","v":0},{"$f":"IF(AND(AF48=\"Yes\",OR(AL48=\"OBL\",AL48=\"FACW\")),1,0)","v":0},{"$f":"IF(AND(AF48=\"Yes\",OR(AL48=\"UPL\",AL48=\"FACU\")),1,0)","v":0},0,0,true,{"$f":"IF($AL48=\"obl\",$Z48,0)","v":0},{"$f":"IF($AL48=\"facw\",$Z48,0)","v":0},{"$f":"IF($AL48=\"fac\",$Z48,0)","v":0},{"$f":"IF($AL48=\"facu\",$Z48,0)","v":0},{"$f":"IF($AL48=\"upl\",$Z48,0)","v":0},{"$f":"IFERROR(Z48/Z$52,0)","v":0},{"$f":"IFERROR(LARGE(BQ$66:BQ$75,2),0)","v":0},{"$f":"IFERROR(CE67/$Z$52,0)","v":0},{"$f":"IF(AND(CE67>0,CF66>0.5),\"\",CE67)","v":0},null,{"$f":"IFERROR(IF(ISNA(MATCH(\"AGCP\",$CH$4:$CH$9,0)),IF(ISNA(MATCH(\"WGC\",$CH$4:$CH$9,0)),\"\",VLOOKUP(D48,Plant_List,3,FALSE)),VLOOKUP(D48,Plant_List,2,FALSE)),\"\")","v":""}]
[{"$nulls":66},"LRR O, MLRA 131B",null,0,{"$f":"IF(AND(AF49=\"Yes\",OR(AL49=\"OBL\",AL49=\"FACW\",AL49=\"FAC\")),1,0)","v":0},{"$f":"IF(AF49=\"Yes\",1,0)","v":0},{"$f":"IF(AND(AF49=\"Yes\",OR(AL49=\"OBL\",AL49=\"FACW\")),1,0)","v":0},{"$f":"IF(AND(AF49=\"Yes\",OR(AL49=\"UPL\",AL49=\"FACU\")),1,0)","v":0},0,0,true,{"$f":"IF($AL49=\"obl\",$Z49,0)","v":0},{"$f":"IF($AL49=\"facw\",$Z49,0)","v":0},{"$f":"IF($AL49=\"fac\",$Z49,0)","v":0},{"$f":"IF($AL49=\"facu\",$Z49,0)","v":0},{"$f":"IF($AL49=\"upl\",$Z49,0)","v":0},{"$f":"IFERROR(Z49/Z$52,0)","v":0},{"$f":"IFERROR(LARGE(BQ$66:BQ$75,3),0)","v":0},0,{"$f":"IF(AND(CE68>0,SUM(CF$66:CF67)>0.5),\"\",CE68)","v":0},null,{"$f":"IFERROR(IF(ISNA(MATCH(\"AGCP\",$CH$4:$CH$9,0)),IF(ISNA(MATCH(\"WGC\",$CH$4:$CH$9,0)),\"\",VLOOKUP(D49,Plant_List,3,FALSE)),VLOOKUP(D49,Plant_List,2,FALSE)),\"\")","v":""}]
[{"$nulls":66},"LRR O, MLRA 131C",null,0,{"$f":"IF(AND(AF50=\"Yes\",OR(AL50=\"OBL\",AL50=\"FACW\",AL50=\"FAC\")),1,0)","v":0},{"$f":"IF(AF50=\"Yes\",1,0)","v":0},{"$f":"IF(AND(AF50=\"Yes\",OR(AL50=\"OBL\",AL50=\"FACW\")),1,0)","v":0},{"$f":"IF(AND(AF50=\"Yes\",OR(AL50=\"UPL\",AL50=\"FACU\")),1,0)","v":0},0,0,true,{"$f":"IF($AL50=\"obl\",$Z50,0)","v":0},{"$f":"IF($AL50=\"facw\",$Z50,0)","v":0},{"$f":"IF($AL50=\"fac\",$Z50,0)","v":0},{"$f":"IF($AL50=\"facu\",$Z50,0)","v":0},{"$f":"IF($AL50=\"upl\",$Z50,0)","v":0},{"$f":"IFERROR(Z50/Z$52,0)","v":0},{"$f":"IFERROR(LARGE(BQ$66:BQ$75,4),0)","v":0},0,{"$f":"IF(AND(CE69>0,SUM(CF$66:CF68)>0.5),\"\",CE69)","v":0},null,{"$f":"IFERROR(IF(ISNA(MATCH(\"AGCP\",$CH$4:$CH$9,0)),IF(ISNA(MATCH(\"WGC\",$CH$4:$CH$9,0)),\"\",VLOOKUP(D50,Plant_List,3,FALSE)),VLOOKUP(D50,Plant_List,2,FALSE)),\"\")","v":""}]
[{"$nulls":66},"LRR O, MLRA 131D",null,0,{"$f":"IF(AND(AF51=\"Yes\",OR(AL51=\"OBL\",AL51=\"FACW\",AL51=\"FAC\")),1,0)","v":0},{"$f":"IF(AF51=\"Yes\",1,0)","v":0},{"$f":"IF(AND(AF51=\"Yes\",OR(AL51=\"OBL\",AL51=\"FACW\")),1,0)","v":0},{"$f":"IF(AND(AF51=\"Yes\",OR(AL51=\"UPL\",AL51=\"FACU\")),1,0)","v":0},0,0,true,{"$f":"IF($AL51=\"obl\",$Z51,0)","v":0},{"$f":"IF($AL51=\"facw\",$Z51,0)","v":0},{"$f":"IF($AL51=\"fac\",$Z51,0)","v":0},{"$f":"IF($AL51=\"facu\",$Z51,0)","v":0},{"$f":"IF($AL51=\"upl\",$Z51,0)","v":0},{"$f":"IFERROR(Z51/Z$52,0)","v":0},{"$f":"IFERROR(LARGE(BQ$66:BQ$75,5),0)","v":0},{"$f":"IFERROR(CE70/$Z$52,0)","v":0},{"$f":"IF(AND(CE70>0,SUM(CF$66:CF69)>0.5),\"\",CE70)","v":0},null,{"$f":"IFERROR(IF(ISNA(MATCH(\"AGCP\",$CH$4:$CH$9,0)),IF(ISNA(MATCH(\"WGC\",$CH$4:$CH$9,0)),\"\",VLOOKUP(D51,Plant_List,3,FALSE)),VLOOKUP(D51,Plant_List,2,FALSE)),\"\")","v":""}]
[{"$nulls":66},"LRR P, MLRA 133B",null,{"$f":"IFERROR('Vegetation Continued, 5 Strata'!Z47,0)","v":0},{"$f":"IFERROR(IF(AND('Vegetation Continued, 5 Strata'!AF47=\"Yes\",OR('Vegetation Continued, 5 Strata'!AL47=\"OBL\",'Vegetation Continued, 5 Strata'!AL47=\"FACW\",'Vegetation Continued, 5 Strata'!AL47=\"FAC\")),1,0),0)","v":0},{"$f":"IFERROR(IF('Vegetation Continued, 5 Strata'!AF47=\"Yes\",1,0),0)","v":0},{"$f":"IFERROR(IF(AND('Vegetation Continued, 5 Strata'!AF47=\"Yes\",OR('Vegetation Continued, 5 Strata'!AL47=\"OBL\",'Vegetation Continued, 5 Strata'!AL47=\"FACW\")),1,0),0)","v":0},{"$f":"IFERROR(IF(AND('Vegetation Continued, 5 Strata'!AF47=\"Yes\",OR('Vegetation Continued, 5 Strata'!AL47=\"UPL\",'Vegetation Continued, 5 Strata'!AL47=\"FACU\")),1,0),0)","v":0},{"$f":"IFERROR(IF(OR('Vegetation Continued, 5 Strata'!AL47=\"OBL\",'Vegetation Continued, 5 Strata'!AL47=\"FACW\"),1,0),0)","v":0},{"$f":"IFERROR(IF(OR('Vegetation Continued, 5 Strata'!AL47=\"UPL\",'Vegetation Continued, 5 Strata'!AL47=\"FACU\"),1,0),0)","v":0},{"$f":"IF(AND('Vegetation Continued, 5 Strata'!AF47=\"YES\",OR('Vegetation Continued, 5 Strata'!AL47=\"UPL\",'Vegetation Continued, 5 Strata'!AL47=\"FACU\",'Vegetation Continued, 5 Strata'!AL47=\"FAC\")),FALSE,TRUE)","v":true},{"$f":"IFERROR(IF('Vegetation Continued, 5 Strata'!AL47=\"obl\",BQ71,0),0)","v":0},{"$f":"IFERROR(IF('Vegetation Continued, 5 Strata'!AL47=\"facw\",BQ71,0),0)","v":0},{"$f":"IFERROR(IF('Vegetation Continued, 5 Strata'!AL47=\"fac\",BQ71,0),0)","v":0},{"$f":"IFERROR(IF('Vegetation Continued, 5 Strata'!AL47=\"facu\",BQ71,0),0)","v":0},{"$f":"IFERROR(IF('Vegetation Continued, 5 Strata'!AL47=\"upl\",BQ71,0),0)","v":0},{"$f":"IFERROR(BQ71/Z$52,0)","v":0},{"$f":"IFERROR(LARGE(BQ$66:BQ$75,6),0)","v":0},{"$f":"IFERROR(CE71/Z$52,0)","v":0},{"$f":"IF(AND(CE71>0,SUM(CF$66:CF70)>0.5),\"\",CE71)","v":0},null,{"$f":"IFERROR(IF(ISNA(MATCH(\"AGCP\",$CH$4:$CH$9,0)),IF(ISNA(MATCH(\"WGC\",$CH$4:$CH$9,0)),\"\",VLOOKUP('Vegetation Continued, 5 Strata'!D47,Plant_List,3,FALSE)),VLOOKUP('Vegetation Continued, 5 Strata'!D47,Plant_List,2,FALSE)),\"\")","v":""}]
[{"$nulls":66},"LRR P, MLRA 134",null,{"$f":"IFERROR('Vegetation Continued, 5 Strata'!Z48,0)","v":0},{"$f":"IFERROR(IF(AND('Vegetation Continued, 5 Strata'!AF48=\"Yes\",OR('Vegetation Continued, 5 Strata'!AL48=\"OBL\",'Vegetation Continued, 5 Strata'!AL48=\"FACW\",'Vegetation Continued, 5 Strata'!AL48=\"FAC\")),1,0),0)","v":0},{"$f":"IFERROR(IF('Vegetation Continued, 5 Strata'!AF48=\"Yes\",1,0),0)","v":0},{"$f":"IFERROR(IF(AND('Vegetation Continued, 5 Strata'!AF48=\"Yes\",OR('Vegetation Continued, 5 Strata'!AL48=\"OBL\",'Vegetation Continued, 5 Strata'!AL48=\"FACW\")),1,0),0)","v":0},{"$f":"IFERROR(IF(AND('Vegetation Continued, 5 Strata'!AF48=\"Yes\",OR('Vegetation Continued, 5 Strata'!AL48=\"UPL\",'Vegetation Continued, 5 Strata'!AL48=\"FACU\")),1,0),0)","v":0},{"$f":"IFERROR(IF(OR('Vegetation Continued, 5 Strata'!AL48=\"OBL\",'Vegetation Continued, 5 Strata'!AL48=\"FACW\"),1,0),0)","v":0},{"$f":"IFERROR(IF(OR('Vegetation Continued, 5 Strata'!AL48=\"UPL\",'Vegetation Continued, 5 Strata'!AL48=\"FACU\"),1,0),0)","v":0},{"$f":"IF(AND('Vegetation Continued, 5 Strata'!AF48=\"YES\",OR('Vegetation Continued, 5 Strata'!AL48=\"UPL\",'Vegetation Continued, 5 Strata'!AL48=\"FACU\",'Vegetation Continued, 5 Strata'!AL48=\"FAC\")),FALSE,TRUE)","v":true},{"$f":"IFERROR(IF('Vegetation Continued, 5 Strata'!AL48=\"obl\",BQ72,0),0)","v":0},{"$f":"IFERROR(IF('Vegetation Continued, 5 Strata'!AL48=\"facw\",BQ72,0),0)","v":0},{"$f":"IFERROR(IF('Vegetation Continued, 5 Strata'!AL48=\"fac\",BQ72,0),0)","v":0},{"$f":"IFERROR(IF('Vegetation Continued, 5 Strata'!AL48=\"facu\",BQ72,0),0)","v":0},{"$f":"IFERROR(IF('Vegetation Continued, 5 Strata'!AL48=\"upl\",BQ72,0),0)","v":0},{"$f":"IFERROR(BQ72/Z$52,0)","v":0},{"$f":"IFERROR(LARGE(BQ$66:BQ$75,7),0)","v":0},{"$f":"IFERROR(CE72/Z$52,0)","v":0},{"$f":"IF(AND(CE72>0,SUM(CF$66:CF71)>0.5),\"\",CE72)","v":0},null,{"$f":"IFERROR(IF(ISNA(MATCH(\"AGCP\",$CH$4:$CH$9,0)),IF(ISNA(MATCH(\"WGC\",$CH$4:$CH$9,0)),\"\",VLOOKUP('Vegetation Continued, 5 Strata'!D48,Plant_List,3,FALSE)),VLOOKUP('Vegetation Continued, 5 Strata'!D48,Plant_List,2,FALSE)),\"\")","v":""}]
[{"$nulls":68},{"$f":"IFERROR('Vegetation Continued, 5 Strata'!Z49,0)","v":0},{"$f":"IFERROR(IF(AND('Vegetation Continued, 5 Strata'!AF49=\"Yes\",OR('Vegetation Continued, 5 Strata'!AL49=\"OBL\",'Vegetation Continued, 5 Strata'!AL49=\"FACW\",'Vegetation Continued, 5 Strata'!AL49=\"FAC\")),1,0),0)","v":0},{"$f":"IFERROR(IF('Vegetation Continued, 5 Strata'!AF49=\"Yes\",1,0),0)","v":0},{"$f":"IFERROR(IF(AND('Vegetation Continued, 5 Strata'!AF49=\"Yes\",OR('Vegetation Continued, 5 Strata'!AL49=\"OBL\",'Vegetation Continued, 5 Strata'!AL49=\"FACW\")),1,0),0)","v":0},{"$f":"IFERROR(IF(AND('Vegetation Continued, 5 Strata'!AF49=\"Yes\",OR('Vegetation Continued, 5 Strata'!AL49=\"UPL\",'Vegetation Continued, 5 Strata'!AL49=\"FACU\")),1,0),0)","v":0},{"$f":"IFERROR(IF(OR('Vegetation Continued, 5 Strata'!AL49=\"OBL\",'Vegetation Continued, 5 Strata'!AL49=\"FACW\"),1,0),0)","v":0},{"$f":"IFERROR(IF(OR('Vegetation Continued, 5 Strata'!AL49=\"UPL\",'Vegetation Continued, 5 Strata'!AL49=\"FACU\"),1,0),0)","v":0},{"$f":"IF(AND('Vegetation Continued, 5 Strata'!AF49=\"YES\",OR('Vegetation Continued, 5 Strata'!AL49=\"UPL\",'Vegetation Continued, 5 Strata'!AL49=\"FACU\",'Vegetation Continued, 5 Strata'!AL49=\"FAC\")),FALSE,TRUE)","v":true},{"$f":"IFERROR(IF('Vegetation Continued, 5 Strata'!AL49=\"obl\",BQ73,0),0)","v":0},{"$f":"IFERROR(IF('Vegetation Continued, 5 Strata'!AL49=\"facw\",BQ73,0),0)","v":0},{"$f":"IFERROR(IF('Vegetation Continued, 5 Strata'!AL49=\"fac\",BQ73,0),0)","v":0},{"$f":"IFERROR(IF('Vegetation Continued, 5 Strata'!AL49=\"facu\",BQ73,0),0)","v":0},{"$f":"IFERROR(IF('Vegetation Continued, 5 Strata'!AL49=\"upl\",BQ73,0),0)","v":0},0,{"$f":"IFERROR(LARGE(BQ$66:BQ$75,8),0)","v":0},0,{"$f":"IF(AND(CE73>0,SUM(CF$66:CF72)>0.5),\"\",CE73)","v":0},null,{"$f":"IFERROR(IF(ISNA(MATCH(\"AGCP\",$CH$4:$CH$9,0)),IF(ISNA(MATCH(\"WGC\",$CH$4:$CH$9,0)),\"\",VLOOKUP('Vegetation Continued, 5 Strata'!D49,Plant_List,3,FALSE)),VLOOKUP('Vegetation Continued, 5 Strata'!D49,Plant_List,2,FALSE)),\"\")","v":""}]
[{"$nulls":66},"LA AGCP",null,{"$f":"IFERROR('Vegetation Continued, 5 Strata'!Z50,0)","v":0},{"$f":"IFERROR(IF(AND('Vegetation Continued, 5 Strata'!AF50=\"Yes\",OR('Vegetation Continued, 5 Strata'!AL50=\"OBL\",'Vegetation Continued, 5 Strata'!AL50=\"FACW\",'Vegetation Continued, 5 Strata'!AL50=\"FAC\")),1,0),0)","v":0},{"$f":"IFERROR(IF('Vegetation Continued, 5 Strata'!AF50=\"Yes\",1,0),0)","v":0},{"$f":"IFERROR(IF(AND('Vegetation Continued, 5 Strata'!AF50=\"Yes\",OR('Vegetation Continued, 5 Strata'!AL50=\"OBL\",'Vegetation Continued, 5 Strata'!AL50=\"FACW\")),1,0),0)","v":0},{"$f":"IFERROR(IF(AND('Vegetation Continued, 5 Strata'!AF50=\"Yes\",OR('Vegetation Continued, 5 Strata'!AL50=\"UPL\",'Vegetation Continued, 5 Strata'!AL50=\"FACU\")),1,0),0)","v":0},{"$f":"IFERROR(IF(OR('Vegetation Continued, 5 Strata'!AL50=\"OBL\",'Vegetation Continued, 5 Strata'!AL50=\"FACW\"),1,0),0)","v":0},{"$f":"IFERROR(IF(OR('Vegetation Continued, 5 Strata'!AL50=\"UPL\",'Vegetation Continued, 5 Strata'!AL50=\"FACU\"),1,0),0)","v":0},{"$f":"IF(AND('Vegetation Continued, 5 Strata'!AF50=\"YES\",OR('Vegetation Continued, 5 Strata'!AL50=\"UPL\",'Vegetation Continued, 5 Strata'!AL50=\"FACU\",'Vegetation Continued, 5 Strata'!AL50=\"FAC\")),FALSE,TRUE)","v":true},{"$f":"IFERROR(IF('Vegetation Continued, 5 Strata'!AL50=\"obl\",BQ74,0),0)","v":0},{"$f":"IFERROR(IF('Vegetation Continued, 5 Strata'!AL50=\"facw\",BQ74,0),0)","v":0},{"$f":"IFERROR(IF('Vegetation Continued, 5 Strata'!AL50=\"fac\",BQ74,0),0)","v":0},{"$f":"IFERROR(IF('Vegetation Continued, 5 Strata'!AL50=\"facu\",BQ74,0),0)","v":0},{"$f":"IFERROR(IF('Vegetation Continued, 5 Strata'!AL50=\"upl\",BQ74,0),0)","v":0},0,{"$f":"IFERROR(LARGE(BQ$66:BQ$75,9),0)","v":0},0,{"$f":"IF(AND(CE74>0,SUM(CF$66:CF73)>0.5),\"\",CE74)","v":0},null,{"$f":"IFERROR(IF(ISNA(MATCH(\"AGCP\",$CH$4:$CH$9,0)),IF(ISNA(MATCH(\"WGC\",$CH$4:$CH$9,0)),\"\",VLOOKUP('Vegetation Continued, 5 Strata'!D50,Plant_List,3,FALSE)),VLOOKUP('Vegetation Continued, 5 Strata'!D50,Plant_List,2,FALSE)),\"\")","v":""}]
[{"$nulls":66},"LRR P, MLRA 133C",null,{"$f":"IFERROR('Vegetation Continued, 5 Strata'!Z51,0)","v":0},{"$f":"IFERROR(IF(AND('Vegetation Continued, 5 Strata'!AF51=\"Yes\",OR('Vegetation Continued, 5 Strata'!AL51=\"OBL\",'Vegetation Continued, 5 Strata'!AL51=\"FACW\",'Vegetation Continued, 5 Strata'!AL51=\"FAC\")),1,0),0)","v":0},{"$f":"IFERROR(IF('Vegetation Continued, 5 Strata'!AF51=\"Yes\",1,0),0)","v":0},{"$f":"IFERROR(IF(AND('Vegetation Continued, 5 Strata'!AF51=\"Yes\",OR('Vegetation Continued, 5 Strata'!AL51=\"OBL\",'Vegetation Continued, 5 Strata'!AL51=\"FACW\")),1,0),0)","v":0},{"$f":"IFERROR(IF(AND('Vegetation Continued, 5 Strata'!AF51=\"Yes\",OR('Vegetation Continued, 5 Strata'!AL51=\"UPL\",'Vegetation Continued, 5 Strata'!AL51=\"FACU\")),1,0),0)","v":0},{"$f":"IFERROR(IF(OR('Vegetation Continued, 5 Strata'!AL51=\"OBL\",'Vegetation Continued, 5 Strata'!AL51=\"FACW\"),1,0),0)","v":0},{"$f":"IFERROR(IF(OR('Vegetation Continued, 5 Strata'!AL51=\"UPL\",'Vegetation Continued, 5 Strata'!AL51=\"FACU\"),1,0),0)","v":0},{"$f":"IF(AND('Vegetation Continued, 5 Strata'!AF51=\"YES\",OR('Vegetation Continued, 5 Strata'!AL51=\"UPL\",'Vegetation Continued, 5 Strata'!AL51=\"FACU\",'Vegetation Continued, 5 Strata'!AL51=\"FAC\")),FALSE,TRUE)","v":true},{"$f":"IFERROR(IF('Vegetation Continued, 5 Strata'!AL51=\"obl\",BQ75,0),0)","v":0},{"$f":"IFERROR(IF('Vegetation Continued, 5 Strata'!AL51=\"facw\",BQ75,0),0)","v":0},{"$f":"IFERROR(IF('Vegetation Continued, 5 Strata'!AL51=\"fac\",BQ75,0),0)","v":0},{"$f":"IFERROR(IF('Vegetation Continued, 5 Strata'!AL51=\"facu\",BQ75,0),0)","v":0},{"$f":"IFERROR(IF('Vegetation Continued, 5 Strata'!AL51=\"upl\",BQ75,0),0)","v":0},0,{"$f":"IFERROR(LARGE(BQ$66:BQ$75,10),0)","v":0},0,{"$f":"IF(AND(CE75>0,SUM(CF$66:CF74)>0.5),\"\",CE75)","v":0},null,{"$f":"IFERROR(IF(ISNA(MATCH(\"AGCP\",$CH$4:$CH$9,0)),IF(ISNA(MATCH(\"WGC\",$CH$4:$CH$9,0)),\"\",VLOOKUP('Vegetation Continued, 5 Strata'!D51,Plant_List,3,FALSE)),VLOOKUP('Vegetation Continued, 5 Strata'!D51,Plant_List,2,FALSE)),\"\")","v":""}]
[{"$nulls":66},"LRR T, MLRA 152A",null,{"$f":"SUM(BQ4:BQ75)","v":0},{"$nulls":7},{"$f":"SUM(BY4:CC75)","v":0}]
[{"$nulls":66},"LA WGC",{"$nulls":9},{"$f":"IFERROR(IF((BY76/BQ76)<0.8,TRUE,FALSE),TRUE)","v":true}]
[{"$nulls":66},"LRR O"]
[{"$nulls":66},"LRR O, MLRA 131A"]
[{"$nulls":66},"LRR O, MLRA 131B"]
[{"$nulls":66},"LRR O, MLRA 131C"]
[{"$nulls":66},"LRR O, MLRA 131D"]
[{"$nulls":66},"LRR P, MLRA 133B"]
[{"$nulls":66},"LRR P, MLRA 134"]
[{"$nulls":66},"LRR T, MLRA 150A"]
[{"$nulls":66},"LRR T, MLRA 151"]
[{"$nulls":66},"LRR T, MLRA 152B"]
[]
[{"$nulls":66},"MS AGCP"]
[{"$nulls":66},"LRR P, MLRA 133C"]
[{"$nulls":66},"LRR P, MLRA 135A"]
[{"$nulls":66},"LRR T, MLRA 152A"]
[]
[{"$nulls":66},"MS WGC"]
[{"$nulls":66},"LRR O"]
[{"$nulls":66},"LRR O, MLRA 131A"]
[{"$nulls":66},"LRR P, MLRA 134"]
[{"$nulls":66},"LRR T, MLRA 151"]
[]
[{"$nulls":66},"OK AGCP"]
[{"$nulls":66},"LRR P, MLRA 135B"]
[{"$nulls":66},"OK WGC"]
[{"$nulls":66},"LRR P, MLRA 133B"]
[]
[{"$nulls":66},"TN AGCP"]
[{"$nulls":66},"LRR P, MLRA 133C"]
[{"$nulls":66},"LRR P, MLRA 135A"]
[{"$nulls":66},"TN WGC"]
[{"$nulls":66},"LRR O"]
[{"$nulls":66},"LRR O, MLRA 131A"]
[{"$nulls":66},"LRR P, MLRA 134"]
[]
[{"$nulls":66},"Conditional Formatting Indicator Status"]
[{"$nulls":66},"AR"]
[{"$nulls":66},"LRR O"]
[{"$nulls":66},"LRR O, MLRA 131A"]
[{"$nulls":66},"LRR O, MLRA 131B"]
[{"$nulls":66},"LRR O, MLRA 131C"]
[{"$nulls":66},"LRR O, MLRA 131D"]
[{"$nulls":66},"LRR P, MLRA 133B"]
[{"$nulls":66},"LRR P, MLRA 134"]
[{"$nulls":66},"LRR P, MLRA 135B"]
[]
[{"$nulls":66},"LA"]
[{"$nulls":66},"LRR O"]
[{"$nulls":66},"LRR O, MLRA 131A"]
[{"$nulls":66},"LRR O, MLRA 131B"]
[{"$nulls":66},"LRR O, MLRA 131C"]
[{"$nulls":66},"LRR O, MLRA 131D"]
[{"$nulls":66},"LRR P, MLRA 133A"]
[{"$nulls":66},"LRR P, MLRA 133B"]
[{"$nulls":66},"LRR P, MLRA 134"]
[{"$nulls":66},"LRR T, MLRA 150A"]
[{"$nulls":66},"LRR T, MLRA 151"]
[{"$nulls":66},"LRR T, MLRA 152A"]
[{"$nulls":66},"LRR T, MLRA 152B"]
[]
[{"$nulls":66},"MS"]
[{"$nulls":66},"LRR O"]
[{"$nulls":66},"LRR O, MLRA 131A"]
[{"$nulls":66},"LRR P, MLRA 133A"]
[{"$nulls":66},"LRR P, MLRA 134"]
[{"$nulls":66},"LRR P, MLRA 135A"]
[{"$nulls":66},"LRR T, MLRA 151"]
[{"$nulls":66},"LRR T, MLRA 152A"]
[]
[{"$nulls":66},"OK"]
[{"$nulls":66},"LRR P, MLRA 133B"]
[{"$nulls":66},"LRR P, MLRA 135B"]
[]
[{"$nulls":66},"TN"]
[{"$nulls":66},"LRR O"]
[{"$nulls":66},"LRR O, MLRA 131A"]
[{"$nulls":66},"LRR P, MLRA 133A"]
[{"$nulls":66},"LRR P, MLRA 134"]
[{"$nulls":66},"LRR P, MLRA 135A"]

{"sheet":"Page 2 (Vegetation, 4 Strata)","index":2,"n_rows":154,"n_cols":87,"rows_kept":154,"merged":[[0,0,0,16],[0,17,0,51],[0,58,0,62],[1,0,1,63],[2,0,49,0],[2,1,2,7],[2,13,2,19],[2,20,2,24],[2,25,2,29],[2,30,8,30],[2,31,2,35],[2,37,2,41],[2,42,8,42],[2,43,8,43],[2,44,2,63],[3,3,3,23],[3,24,8,24],[3,25,3,29],[3,31,3,35],[3,37,3,41],[3,44,4,55],[3,56,3,63],[4,3,4,23],[4,25,4,29],[4,31,4,35],[4,37,4,41],[4,56,4,60],[4,61,4,63],[5,3,5,23],[5,25,5,29],[5,31,5,35],[5,37,5,41],[5,44,6,55],[5,56,5,63],[6,3,6,23],[6,25,6,29],[6,31,6,35],[6,37,6,41],[6,56,6,60],[6,61,6,63],[7,3,7,23],[7,25,7,29],[7,31,7,35],[7,37,7,41],[7,44,8,55],[7,56,7,63],[8,3,8,23],[8,25,8,29],[8,31,8,35],[8,37,8,41],[8,56,8,60],[9,1,10,1],[9,3,10,23],[9,25,10,29],[9,31,10,35],[9,37,10,41],[9,43,9,63],[10,42,11,42],[10,43,17,43],[10,44,10,63],[11,3,11,23],[11,25,11,29],[11,31,11,35],[11,37,11,41],[11,44,11,53],[11,54,16,54],[11,55,11,61],[11,62,16,63],[12,1,12,24],[12,25,12,29],[12,30,12,42],[12,44,12,49],[12,50,12,53],[12,58,12,61],[13,1,13,12],[13,22,13,26],[13,37,13,41],[13,44,13,49],[13,50,13,53],[13,58,13,61],[14,17,14,23],[14,24,14,42],[14,44,14,49],[14,50,14,53],[14,58,14,61],[15,3,15,23],[15,24,18,24],[15,25,15,29],[15,30,18,30],[15,31,15,35],[15,36,18,36],[15,37,15,41],[15,42,18,42],[15,44,15,49],[15,50,15,53],[15,58,15,61],[16,3,16,23],[16,25,16,29],[16,31,16,35],[16,37,16,41],[16,44,16,49],[16,50,16,53],[16,58,16,61],[17,3,17,23],[17,25,17,29],[17,31,17,35],[17,37,17,41],[17,50,17,53],[17,54,17,57],[17,58,17,61],[18,3,18,23],[18,25,18,29],[18,31,18,35],[18,37,18,41],[18,43,18,45],[18,46,18,56],[18,57,18,61],[18,62,18,63],[19,1,20,1],[19,3,20,23],[19,25,20,29],[19,31,20,35],[19,37,20,41],[19,43,19,63],[20,42,23,42],[20,43,28,43],[20,44,20,63],[21,3,21,23],[21,25,21,29],[21,31,21,35],[21,37,21,41],[21,45,21,63],[22,3,22,23],[22,25,22,29],[22,31,22,35],[22,37,22,41],[22,45,22,63],[23,3,23,23],[23,25,23,29],[23,31,23,35],[23,37,23,41],[23,45,23,63],[24,1,24,24],[24,25,24,29],[24,30,24,42],[24,45,24,63],[25,1,25,12],[25,22,25,26],[25,37,25,41],[25,44,26,63],[26,13,26,19],[26,20,26,42],[27,3,27,23],[27,24,38,24],[27,25,27,29],[27,30,38,30],[27,31,27,35],[27,36,38,36],[27,37,27,41],[27,42,38,42],[27,44,28,63],[28,3,28,23],[28,25,28,29],[28,31,28,35],[28,37,28,41],[29,3,29,23],[29,25,29,29],[29,31,29,35],[29,37,29,41],[29,43,40,43],[29,44,29,63],[30,3,30,23],[30,25,30,29],[30,31,30,35],[30,37,30,41],[30,44,32,63],[31,3,31,23],[31,25,31,29],[31,31,31,35],[31,37,31,41],[32,3,32,23],[32,25,32,29],[32,31,32,35],[32,37,32,41],[33,3,33,23],[33,25,33,29],[33,31,33,35],[33,37,33,41],[33,44,35,63],[34,3,34,23],[34,25,34,29],[34,31,34,35],[34,37,34,41],[35,3,35,23],[35,25,35,29],[35,31,35,35],[35,37,35,41],[36,3,36,23],[36,25,36,29],[36,31,36,35],[36,37,36,41],[36,44,38,63],[37,3,37,23],[37,25,37,29],[37,31,37,35],[37,37,37,41],[38,3,38,23],[38,25,38,29],[38,31,38,35],[38,37,38,41],[39,1,39,24],[39,25,39,29],[39,30,39,42],[39,44,40,63],[40,1,40,12],[40,22,40,26],[40,37,40,41],[41,16,41,22],[41,23,41,42],[41,43,45,63],[42,3,42,23],[42,24,46,24],[42,25,42,29],[42,30,46,30],[42,31,42,35],[42,36,46,36],[42,37,42,41],[42,42,46,42],[43,3,43,23],[43,25,43,29],[43,31,43,35],[43,37,43,41],[44,3,44,23],[44,25,44,29],[44,31,44,35],[44,37,44,41],[45,3,45,23],[45,25,45,29],[45,31,45,35],[45,37,45,41],[46,3,46,23],[46,25,46,29],[46,31,46,35],[46,37,46,41],[46,43,48,43],[46,44,48,49],[46,50,47,63],[47,1,47,24],[47,25,47,29],[47,30,47,42],[48,1,48,12],[48,22,48,26],[48,37,48,41],[48,50,48,52],[48,54,48,57],[48,59,48,63],[49,1,49,42],[49,43,49,63],[50,0,55,0],[50,1,50,63],[51,1,55,63]]}
["VEGETATION (Four Strata)",{"$nulls":16},"– Use scientific names of plants.",{"$nulls":34},"Sampling Point:",{"$nulls":5},{"$f":"IF('Page 1 (Hydrology)'!AP3=0,\"\",'Page 1 (Hydrology)'!AP3)","v":""},{"$nulls":7},{"$f":"IF(AND(D12=\"\",D24=\"\",D39=\"\",D47=\"\"),FALSE,TRUE)","v":false},{"$f":"ISERROR('Vegetation Continued, 4 Strata'!Z4)","v":false}]
[]
[null,"Tree Stratum",{"$nulls":6},"(Plot size:",{"$nulls":11},")",{"$nulls":4},"Absolute % Cover",{"$nulls":5},"Dominant Species?",{"$nulls":5},"Indicator Status",{"$nulls":6},"Dominance Test worksheet:",{"$nulls":21},"Indicators",null,"Absolute Cover","Dominance",null,"FAC-Neutral",{"$nulls":3},"Rapid","Prevalence Index Plant Totals For Worksheet",{"$nulls":4},"50/20 rule",{"$nulls":3},"Indicator Status"]
[null,"1.",null,"",{"$nulls":27},{"$f":"IF(Z4>0,IF(OR(AND(Z$13<5,Z$25=\"\",Z$40=\"\",Z$48=\"\"),Z$13>=5),IF(AND(ISNA(MATCH(Z4,CG$4:CG$19,0)),CD4<0.2),\"No\",\"Yes\"),\"No\"),\"\")","v":""},{"$nulls":5},{"$f":"IF(CI4=0,\"\",CI4)","v":""},{"$nulls":6},"Number of Dominant Species That Are OBL, FACW, or FAC:",{"$nulls":21},"OBL",null,{"$f":"Z4","v":0},{"$f":"IF(AND(AF4=\"Yes\",OR(AL4=\"OBL\",AL4=\"FACW\",AL4=\"FAC\")),1,0)","v":0},{"$f":"IF(AF4=\"Yes\",1,0)","v":0},{"$f":"IF(AND(AF4=\"Yes\",OR(AL4=\"OBL\",AL4=\"FACW\")),1,0)","v":0},{"$f":"IF(AND(AF4=\"Yes\",OR(AL4=\"UPL\",AL4=\"FACU\")),1,0)","v":0},{"$f":"IF(OR(AL4=\"OBL\",AL4=\"FACW\"),1,0)","v":0},{"$f":"IF(OR(AL4=\"UPL\",AL4=\"FACU\"),1,0)","v":0},{"$f":"IF(AND(AF4=\"YES\",OR(AL4=\"UPL\",AL4=\"FACU\",AL4=\"FAC\")),FALSE,TRUE)","v":true},{"$f":"IF($AL4=\"obl\",$Z4,0)","v":0},{"$f":"IF($AL4=\"facw\",$Z4,0)","v":0},{"$f":"IF($AL4=\"fac\",$Z4,0)","v":0},{"$f":"IF($AL4=\"facu\",$Z4,0)","v":0},{"$f":"IF($AL4=\"upl\",$Z4,0)","v":0},{"$f":"IFERROR(Z4/Z$13,0)","v":0},{"$f":"IFERROR(LARGE((BQ$4:BQ$19),1),0)","v":0},{"$f":"IFERROR(CE4/Z$13,0)","v":0},{"$f":"IF(CE4>0,CE4,\"\")","v":""},{"$f":"IF(ISNA(MATCH('Page 1 (Hydrology)'!$AI$3,$BO$33:$BO$43,0)),IF(ISNA(MATCH('Page 1 (Hydrology)'!$AI$3,$BO$46:$BO$49,0)),0,\"WGC\"),\"AGCP\")","v":0},{"$f":"IFERROR(IF(ISNA(MATCH(\"AGCP\",$CH$4:$CH$9,0)),IF(ISNA(MATCH(\"WGC\",$CH$4:$CH$9,0)),\"\",VLOOKUP(D4,Plant_List,3,FALSE)),VLOOKUP(D4,Plant_List,2,FALSE)),\"\")","v":""}]
[null,"2.",null,"",{"$nulls":27},{"$f":"IF(Z5>0,IF(OR(AND(Z$13<5,Z$25=\"\",Z$40=\"\",Z$48=\"\"),Z$13>=5),IF(AND(ISNA(MATCH(Z5,CG$4:CG$19,0)),CD5<0.2),\"No\",\"Yes\"),\"No\"),\"\")","v":""},{"$nulls":5},{"$f":"IF(CI5=0,\"\",CI5)","v":""},{"$nulls":18},{"$f":"IF($BM$5=FALSE,IF(BE7=\"\",\"\",SUM(BR4:BR72)),\"\")","v":""},{"$nulls":4},"(A)",null,null,false,"This sampling point has passed the Rapid Test for Hydrophytic Vegetation.","FACW",null,{"$f":"Z5","v":0},0,0,0,0,{"$f":"IF(OR(AL5=\"OBL\",AL5=\"FACW\"),1,0)","v":0},{"$f":"IF(OR(AL5=\"UPL\",AL5=\"FACU\"),1,0)","v":0},{"$f":"IF(AND(AF5=\"YES\",OR(AL5=\"UPL\",AL5=\"FACU\",AL5=\"FAC\")),FALSE,TRUE)","v":true},0,0,0,0,0,0,{"$f":"IFERROR(LARGE((BQ$4:BQ$19),2),0)","v":0},0,{"$f":"IF(AND(CE5>0,CF4>0.5),\"\",CE5)","v":0},{"$f":"IF(AND(CH$4=0,'Page 1 (Hydrology)'!$AI$3=\"AR\"),IF(ISNA(MATCH('Page 1 (Hydrology)'!$L$6,BO62,0)),IF(ISNA(MATCH('Page 1 (Hydrology)'!$L$6,BO64:BO70,0)),0,\"WGC\"),\"AGCP\"),0)","v":0},""]
[null,"3.",null,"",{"$nulls":27},"",{"$nulls":5},{"$f":"IF(CI6=0,\"\",CI6)","v":""},{"$nulls":6},"Total Number of Dominant Species Across All Strata:",{"$nulls":20},"I do not wish to have the Dominance Test worksheet calculated.","FAC",null,0,0,0,0,0,0,0,true,0,0,0,0,0,0,{"$f":"IFERROR(LARGE((BQ$4:BQ$19),3),0)","v":0},0,{"$f":"IF(AND(CE6>0,SUM(CF$4:CF5)>0.5),\"\",CE6)","v":0},{"$f":"IF(AND(CH$4=0,'Page 1 (Hydrology)'!$AI$3=\"LA\"),IF(ISNA(MATCH('Page 1 (Hydrology)'!$L$6,BO73:BO74,0)),IF(ISNA(MATCH('Page 1 (Hydrology)'!$L$6,BO76:BO85,0)),0,\"WGC\"),\"AGCP\"),0)","v":0},""]
[null,"4.",null,"",{"$nulls":27},"",{"$nulls":5},"",{"$nulls":18},{"$f":"IF($BM$5=FALSE,IF(SUM(BS4:BS72)>0,SUM(BS4:BS72),\"\"),\"\")","v":""},{"$nulls":4},"(B)",{"$nulls":4},"FACU",null,0,0,0,0,0,0,0,true,0,0,0,0,0,0,{"$f":"IFERROR(LARGE((BQ$4:BQ$19),4),0)","v":0},0,{"$f":"IF(AND(CE7>0,SUM(CF$4:CF6)>0.5),\"\",CE7)","v":0},{"$f":"IF(AND(CH$4=0,'Page 1 (Hydrology)'!$AI$3=\"MS\"),IF(ISNA(MATCH('Page 1 (Hydrology)'!$L$6,BO88:BO90,0)),IF(ISNA(MATCH('Page 1 (Hydrology)'!$L$6,BO93:BO96,0)),0,\"WGC\"),\"AGCP\"),0)","v":0},""]
[null,"5.",null,"",{"$nulls":27},"",{"$nulls":5},"",{"$nulls":6},"Percent of Dominant Species That Are OBL, FACW, or FAC:",{"$nulls":21},"UPL",null,0,0,0,0,0,0,0,true,0,0,0,0,0,0,{"$f":"IFERROR(LARGE((BQ$4:BQ$19),5),0)","v":0},0,{"$f":"IF(AND(CE8>0,SUM(CF$4:CF7)>0.5),\"\",CE8)","v":0},{"$f":"IF(AND(CH$4=0,'Page 1 (Hydrology)'!$AI$3=\"OK\"),IF(ISNA(MATCH('Page 1 (Hydrology)'!$L$6,BO99,0)),IF(ISNA(MATCH('Page 1 (Hydrology)'!$L$6,BO101,0)),0,\"WGC\"),\"AGCP\"),0)","v":0},""]
[null,"6.",null,"",{"$nulls":27},"",{"$nulls":5},"",{"$nulls":18},{"$f":"IF(BE7=\"\",\"\",ROUND(BE5/BE7,3))","v":""},{"$nulls":4},"(A/B)",{"$nulls":6},0,0,0,0,0,0,0,true,0,0,0,0,0,0,{"$f":"IFERROR(LARGE((BQ$4:BQ$19),6),0)","v":0},0,{"$f":"IF(AND(CE9>0,SUM(CF$4:CF8)>0.5),\"\",CE9)","v":0},{"$f":"IF(AND(CH$4=0,'Page 1 (Hydrology)'!$AI$3=\"TN\"),IF(ISNA(MATCH('Page 1 (Hydrology)'!$L$6,BO104:BO105,0)),IF(ISNA(MATCH('Page 1 (Hydrology)'!$L$6,BO107:BO109,0)),0,\"WGC\"),\"AGCP\"),0)","v":0},""]
[null,"7.",null,"",{"$nulls":27},{"$f":"IF(Z10>0,IF(OR(AND(Z$13<5,Z$25=\"\",Z$40=\"\",Z$48=\"\"),Z$13>=5),IF(AND(ISNA(MATCH(Z10,CG$4:CG$19,0)),CD10<0.2),\"No\",\"Yes\"),\"No\"),\"\")","v":""},{"$nulls":5},{"$f":"IF(CI10=0,\"\",CI10)","v":""},{"$nulls":30},{"$f":"Z10","v":0},{"$f":"IF(AND(AF10=\"Yes\",OR(AL10=\"OBL\",AL10=\"FACW\",AL10=\"FAC\")),1,0)","v":0},{"$f":"IF(AF10=\"Yes\",1,0)","v":0},{"$f":"IF(AND(AF10=\"Yes\",OR(AL10=\"OBL\",AL10=\"FACW\")),1,0)","v":0},{"$f":"IF(AND(AF10=\"Yes\",OR(AL10=\"UPL\",AL10=\"FACU\")),1,0)","v":0},{"$f":"IF(OR(AL10=\"OBL\",AL10=\"FACW\"),1,0)","v":0},{"$f":"IF(OR(AL10=\"UPL\",AL10=\"FACU\"),1,0)","v":0},{"$f":"IF(AND(AF10=\"YES\",OR(AL10=\"UPL\",AL10=\"FACU\",AL10=\"FAC\")),FALSE,TRUE)","v":true},{"$f":"IF($AL10=\"obl\",$Z10,0)","v":0},{"$f":"IF($AL10=\"facw\",$Z10,0)","v":0},{"$f":"IF($AL10=\"fac\",$Z10,0)","v":0},{"$f":"IF($AL10=\"facu\",$Z10,0)","v":0},{"$f":"IF($AL10=\"upl\",$Z10,0)","v":0},{"$f":"IFERROR(Z10/Z$13,0)","v":0},{"$f":"IFERROR(LARGE((BQ$4:BQ$19),7),0)","v":0},{"$f":"IFERROR(CE10/Z$13,0)","v":0},{"$f":"IF(AND(CE10>0,SUM(CF$4:CF9)>0.5),\"\",CE10)","v":0},null,{"$f":"IFERROR(IF(ISNA(MATCH(\"AGCP\",$CH$4:$CH$9,0)),IF(ISNA(MATCH(\"WGC\",$CH$4:$CH$9,0)),\"\",VLOOKUP(D10,Plant_List,3,FALSE)),VLOOKUP(D10,Plant_List,2,FALSE)),\"\")","v":""}]
[{"$nulls":44},"Prevalence Index worksheet:",{"$nulls":19},false,"This sampling point has passed the Rapid Test for Hydrophytic Vegetation","Page 1",null,{"$f":"Z12","v":0},{"$f":"IF(AND(AF12=\"Yes\",OR(AL12=\"OBL\",AL12=\"FACW\",AL12=\"FAC\")),1,0)","v":0},{"$f":"IF(AF12=\"Yes\",1,0)","v":0},{"$f":"IF(AND(AF12=\"Yes\",OR(AL12=\"OBL\",AL12=\"FACW\")),1,0)","v":0},{"$f":"IF(AND(AF12=\"Yes\",OR(AL12=\"UPL\",AL12=\"FACU\")),1,0)","v":0},{"$f":"IF(OR(AL12=\"OBL\",AL12=\"FACW\"),1,0)","v":0},{"$f":"IF(OR(AL12=\"UPL\",AL12=\"FACU\"),1,0)","v":0},{"$f":"IF(AND(AF12=\"YES\",OR(AL12=\"UPL\",AL12=\"FACU\",AL12=\"FAC\")),FALSE,TRUE)","v":true},{"$f":"IF($AL12=\"obl\",$Z12,0)","v":0},{"$f":"IF($AL12=\"facw\",$Z12,0)","v":0},{"$f":"IF($AL12=\"fac\",$Z12,0)","v":0},{"$f":"IF($AL12=\"facu\",$Z12,0)","v":0},{"$f":"IF($AL12=\"upl\",$Z12,0)","v":0},{"$f":"IFERROR(Z12/Z$13,0)","v":0},{"$f":"IFERROR(LARGE((BQ$4:BQ$19),8),0)","v":0},{"$f":"IFERROR(CE11/Z$13,0)","v":0},{"$f":"IF(AND(CE11>0,SUM(CF$4:CF10)>0.5),\"\",CE11)","v":0},null,{"$f":"IFERROR(IF(ISNA(MATCH(\"AGCP\",$CH$4:$CH$9,0)),IF(ISNA(MATCH(\"WGC\",$CH$4:$CH$9,0)),\"\",VLOOKUP(D12,Plant_List,3,FALSE)),VLOOKUP(D12,Plant_List,2,FALSE)),\"\")","v":""}]
[null,"8.",null,"",{"$nulls":27},{"$f":"IF(Z12>0,IF(OR(AND(Z$13<5,Z$25=\"\",Z$40=\"\",Z$48=\"\"),Z$13>=5),IF(AND(ISNA(MATCH(Z12,CG$4:CG$19,0)),CD11<0.2),\"No\",\"Yes\"),\"No\"),\"\")","v":""},{"$nulls":5},{"$f":"IF(CI11=0,\"\",CI11)","v":""},{"$nulls":6},"Total % Cover of:",{"$nulls":10},"Multiply by:",{"$nulls":9},"and/or the Dominance Test.  I do not wish to have the Prevalence Index",{"$f":"ISBLANK('Page 1 (Hydrology)'!AI3)","v":true},null,{"$f":"IFERROR('Vegetation Continued, 4 Strata'!Z4,0)","v":0},{"$f":"IFERROR(IF(AND('Vegetation Continued, 4 Strata'!AF4=\"Yes\",OR('Vegetation Continued, 4 Strata'!AL4=\"OBL\",'Vegetation Continued, 4 Strata'!AL4=\"FACW\",'Vegetation Continued, 4 Strata'!AL4=\"FAC\")),1,0),0)","v":0},{"$f":"IFERROR(IF('Vegetation Continued, 4 Strata'!AF4=\"Yes\",1,0),0)","v":0},{"$f":"IFERROR(IF(AND('Vegetation Continued, 4 Strata'!AF4=\"Yes\",OR('Vegetation Continued, 4 Strata'!AL4=\"OBL\",'Vegetation Continued, 4 Strata'!AL4=\"FACW\")),1,0),0)","v":0},{"$f":"IFERROR(IF(AND('Vegetation Continued, 4 Strata'!AF4=\"Yes\",OR('Vegetation Continued, 4 Strata'!AL4=\"UPL\",'Vegetation Continued, 4 Strata'!AL4=\"FACU\")),1,0),0)","v":0},{"$f":"IFERROR(IF(OR('Vegetation Continued, 4 Strata'!AL4=\"OBL\",'Vegetation Continued, 4 Strata'!AL4=\"FACW\"),1,0),0)","v":0},{"$f":"IFERROR(IF(OR('Vegetation Continued, 4 Strata'!AL4=\"UPL\",'Vegetation Continued, 4 Strata'!AL4=\"FACU\"),1,0),0)","v":0},{"$f":"IFERROR(IF(AND('Vegetation Continued, 4 Strata'!AF4=\"YES\",OR('Vegetation Continued, 4 Strata'!AL4=\"UPL\",'Vegetation Continued, 4 Strata'!AL4=\"FACU\",'Vegetation Continued, 4 Strata'!AL4=\"FAC\")),FALSE,TRUE),TRUE)","v":true},{"$f":"IFERROR(IF('Vegetation Continued, 4 Strata'!AL4=\"obl\",BQ12,0),0)","v":0},{"$f":"IFERROR(IF('Vegetation Continued, 4 Strata'!AL4=\"facw\",BQ12,0),0)","v":0},{"$f":"IFERROR(IF('Vegetation Continued, 4 Strata'!AL4=\"fac\",BQ12,0),0)","v":0},{"$f":"IFERROR(IF('Vegetation Continued, 4 Strata'!AL4=\"facu\",BQ12,0),0)","v":0},{"$f":"IFERROR(IF('Vegetation Continued, 4 Strata'!AL4=\"upl\",BQ12,0),0)","v":0},{"$f":"IFERROR(BQ12/Z$13,0)","v":0},{"$f":"IFERROR(LARGE((BQ$4:BQ$19),9),0)","v":0},{"$f":"IFERROR(CE12/Z$13,0)","v":0},{"$f":"IF(AND(CE12>0,SUM(CF$4:CF11)>0.5),\"\",CE12)","v":0},null,{"$f":"IFERROR(IF(ISNA(MATCH(\"AGCP\",$CH$4:$CH$9,0)),IF(ISNA(MATCH(\"WGC\",$CH$4:$CH$9,0)),\"\",VLOOKUP('Vegetation Continued, 4 Strata'!D4,Plant_List,3,FALSE)),VLOOKUP('Vegetation Continued, 4 Strata'!D4,Plant_List,2,FALSE)),\"\")","v":""}]
[{"$nulls":25},{"$f":"IF(SUM(BQ4:BQ19)>0,SUM(BQ4:BQ19),\"\")","v":""},{"$nulls":4},"=Total Cover",{"$nulls":13},"OBL species",{"$nulls":5},{"$f":"IF(AND($BM$11=FALSE,$BY$74=FALSE),SUM(BY$4:BY$72),\"\")","v":""},{"$nulls":4},"x 1 =",null,null,{"$f":"IF(ISNUMBER(AY13),AY13,\"\")","v":""},{"$nulls":6},"worksheet calculated.",{"$f":"IF('Page 1 (Hydrology)'!$AI$3=\"AR\",IF(ISNA(MATCH('Page 1 (Hydrology)'!$L$6,BO113:BO120,0)),TRUE,FALSE))","v":false},null,{"$f":"IFERROR('Vegetation Continued, 4 Strata'!Z5,0)","v":0},{"$f":"IFERROR(IF(AND('Vegetation Continued, 4 Strata'!AF5=\"Yes\",OR('Vegetation Continued, 4 Strata'!AL5=\"OBL\",'Vegetation Continued, 4 Strata'!AL5=\"FACW\",'Vegetation Continued, 4 Strata'!AL5=\"FAC\")),1,0),0)","v":0},{"$f":"IFERROR(IF('Vegetation Continued, 4 Strata'!AF5=\"Yes\",1,0),0)","v":0},{"$f":"IFERROR(IF(AND('Vegetation Continued, 4 Strata'!AF5=\"Yes\",OR('Vegetation Continued, 4 Strata'!AL5=\"OBL\",'Vegetation Continued, 4 Strata'!AL5=\"FACW\")),1,0),0)","v":0},{"$f":"IFERROR(IF(AND('Vegetation Continued, 4 Strata'!AF5=\"Yes\",OR('Vegetation Continued, 4 Strata'!AL5=\"UPL\",'Vegetation Continued, 4 Strata'!AL5=\"FACU\")),1,0),0)","v":0},{"$f":"IFERROR(IF(OR('Vegetation Continued, 4 Strata'!AL5=\"OBL\",'Vegetation Continued, 4 Strata'!AL5=\"FACW\"),1,0),0)","v":0},{"$f":"IFERROR(IF(OR('Vegetation Continued, 4 Strata'!AL5=\"UPL\",'Vegetation Continued, 4 Strata'!AL5=\"FACU\"),1,0),0)","v":0},{"$f":"IFERROR(IF(AND('Vegetation Continued, 4 Strata'!AF5=\"YES\",OR('Vegetation Continued, 4 Strata'!AL5=\"UPL\",'Vegetation Continued, 4 Strata'!AL5=\"FACU\",'Vegetation Continued, 4 Strata'!AL5=\"FAC\")),FALSE,TRUE),TRUE)","v":true},{"$f":"IFERROR(IF('Vegetation Continued, 4 Strata'!AL5=\"obl\",BQ13,0),0)","v":0},{"$f":"IFERROR(IF('Vegetation Continued, 4 Strata'!AL5=\"facw\",BQ13,0),0)","v":0},{"$f":"IFERROR(IF('Vegetation Continued, 4 Strata'!AL5=\"fac\",BQ13,0),0)","v":0},{"$f":"IFERROR(IF('Vegetation Continued, 4 Strata'!AL5=\"facu\",BQ13,0),0)","v":0},{"$f":"IFERROR(IF('Vegetation Continued, 4 Strata'!AL5=\"upl\",BQ13,0),0)","v":0},{"$f":"IFERROR(BQ13/Z$13,0)","v":0},{"$f":"IFERROR(LARGE((BQ$4:BQ$19),10),0)","v":0},{"$f":"IFERROR(CE13/Z$13,0)","v":0},{"$f":"IF(AND(CE13>0,SUM(CF$4:CF12)>0.5),\"\",CE13)","v":0},null,{"$f":"IFERROR(IF(ISNA(MATCH(\"AGCP\",$CH$4:$CH$9,0)),IF(ISNA(MATCH(\"WGC\",$CH$4:$CH$9,0)),\"\",VLOOKUP('Vegetation Continued, 4 Strata'!D5,Plant_List,3,FALSE)),VLOOKUP('Vegetation Continued, 4 Strata'!D5,Plant_List,2,FALSE)),\"\")","v":""}]
[{"$nulls":13},"50% of total cover:",{"$nulls":8},{"$f":"IFERROR(ROUNDUP(Z13/2,0),\"\")","v":""},{"$nulls":5},"20% of total cover:",{"$nulls":8},{"$f":"IFERROR(ROUNDUP(Z13/5,0),\"\")","v":""},{"$nulls":6},"FACW species",{"$nulls":5},{"$f":"IF(AND($BM$11=FALSE,$BY$74=FALSE),SUM(BZ$4:BZ$72),\"\")","v":""},{"$nulls":4},"x 2 =",null,null,{"$f":"IF(ISNUMBER(AY14),AY14*2,\"\")","v":""},{"$nulls":7},{"$f":"IF('Page 1 (Hydrology)'!$AI$3=\"LA\",IF(ISNA(MATCH('Page 1 (Hydrology)'!$L$6,BO123:BO134,0)),TRUE,FALSE))","v":false},null,{"$f":"IFERROR('Vegetation Continued, 4 Strata'!Z6,0)","v":0},{"$f":"IFERROR(IF(AND('Vegetation Continued, 4 Strata'!AF6=\"Yes\",OR('Vegetation Continued, 4 Strata'!AL6=\"OBL\",'Vegetation Continued, 4 Strata'!AL6=\"FACW\",'Vegetation Continued, 4 Strata'!AL6=\"FAC\")),1,0),0)","v":0},{"$f":"IFERROR(IF('Vegetation Continued, 4 Strata'!AF6=\"Yes\",1,0),0)","v":0},{"$f":"IFERROR(IF(AND('Vegetation Continued, 4 Strata'!AF6=\"Yes\",OR('Vegetation Continued, 4 Strata'!AL6=\"OBL\",'Vegetation Continued, 4 Strata'!AL6=\"FACW\")),1,0),0)","v":0},{"$f":"IFERROR(IF(AND('Vegetation Continued, 4 Strata'!AF6=\"Yes\",OR('Vegetation Continued, 4 Strata'!AL6=\"UPL\",'Vegetation Continued, 4 Strata'!AL6=\"FACU\")),1,0),0)","v":0},{"$f":"IFERROR(IF(OR('Vegetation Continued, 4 Strata'!AL6=\"OBL\",'Vegetation Continued, 4 Strata'!AL6=\"FACW\"),1,0),0)","v":0},{"$f":"IFERROR(IF(OR('Vegetation Continued, 4 Strata'!AL6=\"UPL\",'Vegetation Continued, 4 Strata'!AL6=\"FACU\"),1,0),0)","v":0},{"$f":"IFERROR(IF(AND('Vegetation Continued, 4 Strata'!AF6=\"YES\",OR('Vegetation Continued, 4 Strata'!AL6=\"UPL\",'Vegetation Continued, 4 Strata'!AL6=\"FACU\",'Vegetation Continued, 4 Strata'!AL6=\"FAC\")),FALSE,TRUE),TRUE)","v":true},{"$f":"IFERROR(IF('Vegetation Continued, 4 Strata'!AL6=\"obl\",BQ14,0),0)","v":0},{"$f":"IFERROR(IF('Vegetation Continued, 4 Strata'!AL6=\"facw\",BQ14,0),0)","v":0},{"$f":"IFERROR(IF('Vegetation Continued, 4 Strata'!AL6=\"fac\",BQ14,0),0)","v":0},{"$f":"IFERROR(IF('Vegetation Continued, 4 Strata'!AL6=\"facu\",BQ14,0),0)","v":0},{"$f":"IFERROR(IF('Vegetation Continued, 4 Strata'!AL6=\"upl\",BQ14,0),0)","v":0},0,{"$f":"IFERROR(LARGE((BQ$4:BQ$19),11),0)","v":0},0,{"$f":"IF(AND(CE14>0,SUM(CF$4:CF13)>0.5),\"\",CE14)","v":0},null,{"$f":"IFERROR(IF(ISNA(MATCH(\"AGCP\",$CH$4:$CH$9,0)),IF(ISNA(MATCH(\"WGC\",$CH$4:$CH$9,0)),\"\",VLOOKUP('Vegetation Continued, 4 Strata'!D6,Plant_List,3,FALSE)),VLOOKUP('Vegetation Continued, 4 Strata'!D6,Plant_List,2,FALSE)),\"\")","v":""}]
[null,"Sapling/Shrub Stratum",{"$nulls":10},"(Plot size:",{"$nulls":11},")",{"$nulls":19},"FAC species",{"$nulls":5},{"$f":"IF(AND($BM$11=FALSE,$BY$74=FALSE),SUM(CA$4:CA$72),\"\")","v":""},{"$nulls":4},"x 3 =",null,null,{"$f":"IF(ISNUMBER(AY15),AY15*3,\"\")","v":""},{"$nulls":7},{"$f":"IF('Page 1 (Hydrology)'!$AI$3=\"MS\",IF(ISNA(MATCH('Page 1 (Hydrology)'!$L$6,BO137:BO143,0)),TRUE,FALSE))","v":false},null,{"$f":"IFERROR('Vegetation Continued, 4 Strata'!Z7,0)","v":0},{"$f":"IFERROR(IF(AND('Vegetation Continued, 4 Strata'!AF7=\"Yes\",OR('Vegetation Continued, 4 Strata'!AL7=\"OBL\",'Vegetation Continued, 4 Strata'!AL7=\"FACW\",'Vegetation Continued, 4 Strata'!AL7=\"FAC\")),1,0),0)","v":0},{"$f":"IFERROR(IF('Vegetation Continued, 4 Strata'!AF7=\"Yes\",1,0),0)","v":0},{"$f":"IFERROR(IF(AND('Vegetation Continued, 4 Strata'!AF7=\"Yes\",OR('Vegetation Continued, 4 Strata'!AL7=\"OBL\",'Vegetation Continued, 4 Strata'!AL7=\"FACW\")),1,0),0)","v":0},{"$f":"IFERROR(IF(AND('Vegetation Continued, 4 Strata'!AF7=\"Yes\",OR('Vegetation Continued, 4 Strata'!AL7=\"UPL\",'Vegetation Continued, 4 Strata'!AL7=\"FACU\")),1,0),0)","v":0},{"$f":"IFERROR(IF(OR('Vegetation Continued, 4 Strata'!AL7=\"OBL\",'Vegetation Continued, 4 Strata'!AL7=\"FACW\"),1,0),0)","v":0},{"$f":"IFERROR(IF(OR('Vegetation Continued, 4 Strata'!AL7=\"UPL\",'Vegetation Continued, 4 Strata'!AL7=\"FACU\"),1,0),0)","v":0},{"$f":"IFERROR(IF(AND('Vegetation Continued, 4 Strata'!AF7=\"YES\",OR('Vegetation Continued, 4 Strata'!AL7=\"UPL\",'Vegetation Continued, 4 Strata'!AL7=\"FACU\",'Vegetation Continued, 4 Strata'!AL7=\"FAC\")),FALSE,TRUE),TRUE)","v":true},{"$f":"IFERROR(IF('Vegetation Continued, 4 Strata'!AL7=\"obl\",BQ15,0),0)","v":0},{"$f":"IFERROR(IF('Vegetation Continued, 4 Strata'!AL7=\"facw\",BQ15,0),0)","v":0},{"$f":"IFERROR(IF('Vegetation Continued, 4 Strata'!AL7=\"fac\",BQ15,0),0)","v":0},{"$f":"IFERROR(IF('Vegetation Continued, 4 Strata'!AL7=\"facu\",BQ15,0),0)","v":0},{"$f":"IFERROR(IF('Vegetation Continued, 4 Strata'!AL7=\"upl\",BQ15,0),0)","v":0},0,{"$f":"IFERROR(LARGE((BQ$4:BQ$19),12),0)","v":0},0,{"$f":"IF(AND(CE15>0,SUM(CF$4:CF14)>0.5),\"\",CE15)","v":0},null,{"$f":"IFERROR(IF(ISNA(MATCH(\"AGCP\",$CH$4:$CH$9,0)),IF(ISNA(MATCH(\"WGC\",$CH$4:$CH$9,0)),\"\",VLOOKUP('Vegetation Continued, 4 Strata'!D7,Plant_List,3,FALSE)),VLOOKUP('Vegetation Continued, 4 Strata'!D7,Plant_List,2,FALSE)),\"\")","v":""}]
[null,"1.",{"$nulls":29},{"$f":"IF(Z16>0,IF(OR(AND(Z$25<5,Z$13=\"\",Z$40=\"\",Z$48=\"\"),Z$25>=5),IF(AND(ISNA(MATCH(Z16,CG$21:CG$36,0)),CD21<0.2),\"No\",\"Yes\"),\"No\"),\"\")","v":""},{"$nulls":5},{"$f":"IF(CI21=0,\"\",CI21)","v":""},{"$nulls":6},"FACU species",{"$nulls":5},{"$f":"IF(AND($BM$11=FALSE,$BY$74=FALSE),SUM(CB$4:CB$72),\"\")","v":""},{"$nulls":4},"x 4 =",null,null,{"$f":"IF(ISNUMBER(AY16),AY16*4,\"\")","v":""},{"$nulls":7},{"$f":"IF('Page 1 (Hydrology)'!$AI$3=\"OK\",IF(ISNA(MATCH('Page 1 (Hydrology)'!$L$6,BO146:BO147,0)),TRUE,FALSE))","v":false},null,{"$f":"IFERROR('Vegetation Continued, 4 Strata'!Z8,0)","v":0},{"$f":"IFERROR(IF(AND('Vegetation Continued, 4 Strata'!AF8=\"Yes\",OR('Vegetation Continued, 4 Strata'!AL8=\"OBL\",'Vegetation Continued, 4 Strata'!AL8=\"FACW\",'Vegetation Continued, 4 Strata'!AL8=\"FAC\")),1,0),0)","v":0},{"$f":"IFERROR(IF('Vegetation Continued, 4 Strata'!AF8=\"Yes\",1,0),0)","v":0},{"$f":"IFERROR(IF(AND('Vegetation Continued, 4 Strata'!AF8=\"Yes\",OR('Vegetation Continued, 4 Strata'!AL8=\"OBL\",'Vegetation Continued, 4 Strata'!AL8=\"FACW\")),1,0),0)","v":0},{"$f":"IFERROR(IF(AND('Vegetation Continued, 4 Strata'!AF8=\"Yes\",OR('Vegetation Continued, 4 Strata'!AL8=\"UPL\",'Vegetation Continued, 4 Strata'!AL8=\"FACU\")),1,0),0)","v":0},{"$f":"IFERROR(IF(OR('Vegetation Continued, 4 Strata'!AL8=\"OBL\",'Vegetation Continued, 4 Strata'!AL8=\"FACW\"),1,0),0)","v":0},{"$f":"IFERROR(IF(OR('Vegetation Continued, 4 Strata'!AL8=\"UPL\",'Vegetation Continued, 4 Strata'!AL8=\"FACU\"),1,0),0)","v":0},{"$f":"IFERROR(IF(AND('Vegetation Continued, 4 Strata'!AF8=\"YES\",OR('Vegetation Continued, 4 Strata'!AL8=\"UPL\",'Vegetation Continued, 4 Strata'!AL8=\"FACU\",'Vegetation Continued, 4 Strata'!AL8=\"FAC\")),FALSE,TRUE),TRUE)","v":true},{"$f":"IFERROR(IF('Vegetation Continued, 4 Strata'!AL8=\"obl\",BQ16,0),0)","v":0},{"$f":"IFERROR(IF('Vegetation Continued, 4 Strata'!AL8=\"facw\",BQ16,0),0)","v":0},{"$f":"IFERROR(IF('Vegetation Continued, 4 Strata'!AL8=\"fac\",BQ16,0),0)","v":0},{"$f":"IFERROR(IF('Vegetation Continued, 4 Strata'!AL8=\"facu\",BQ16,0),0)","v":0},{"$f":"IFERROR(IF('Vegetation Continued, 4 Strata'!AL8=\"upl\",BQ16,0),0)","v":0},0,{"$f":"IFERROR(LARGE((BQ$4:BQ$19),13),0)","v":0},0,{"$f":"IF(AND(CE16>0,SUM(CF$4:CF15)>0.5),\"\",CE16)","v":0},null,{"$f":"IFERROR(IF(ISNA(MATCH(\"AGCP\",$CH$4:$CH$9,0)),IF(ISNA(MATCH(\"WGC\",$CH$4:$CH$9,0)),\"\",VLOOKUP('Vegetation Continued, 4 Strata'!D8,Plant_List,3,FALSE)),VLOOKUP('Vegetation Continued, 4 Strata'!D8,Plant_List,2,FALSE)),\"\")","v":""}]
[null,"2.",null,"",{"$nulls":27},{"$f":"IF(Z17>0,IF(OR(AND(Z$25<5,Z$13=\"\",Z$40=\"\",Z$48=\"\"),Z$25>=5),IF(AND(ISNA(MATCH(Z17,CG$21:CG$36,0)),CD22<0.2),\"No\",\"Yes\"),\"No\"),\"\")","v":""},{"$nulls":5},{"$f":"IF(CI22=0,\"\",CI22)","v":""},{"$nulls":6},"UPL species",{"$nulls":5},{"$f":"IF(AND($BM$11=FALSE,$BY$74=FALSE),SUM(CC$4:CC$72),\"\")","v":""},{"$nulls":4},"x 5 =",null,null,{"$f":"IF(ISNUMBER(AY17),AY17*5,\"\")","v":""},{"$nulls":7},{"$f":"IF('Page 1 (Hydrology)'!$AI$3=\"TN\",IF(ISNA(MATCH('Page 1 (Hydrology)'!$L$6,BO150:BO154,0)),TRUE,FALSE))","v":false},null,{"$f":"IFERROR('Vegetation Continued, 4 Strata'!Z9,0)","v":0},{"$f":"IFERROR(IF(AND('Vegetation Continued, 4 Strata'!AF9=\"Yes\",OR('Vegetation Continued, 4 Strata'!AL9=\"OBL\",'Vegetation Continued, 4 Strata'!AL9=\"FACW\",'Vegetation Continued, 4 Strata'!AL9=\"FAC\")),1,0),0)","v":0},{"$f":"IFERROR(IF('Vegetation Continued, 4 Strata'!AF9=\"Yes\",1,0),0)","v":0},{"$f":"IFERROR(IF(AND('Vegetation Continued, 4 Strata'!AF9=\"Yes\",OR('Vegetation Continued, 4 Strata'!AL9=\"OBL\",'Vegetation Continued, 4 Strata'!AL9=\"FACW\")),1,0),0)","v":0},{"$f":"IFERROR(IF(AND('Vegetation Continued, 4 Strata'!AF9=\"Yes\",OR('Vegetation Continued, 4 Strata'!AL9=\"UPL\",'Vegetation Continued, 4 Strata'!AL9=\"FACU\")),1,0),0)","v":0},{"$f":"IFERROR(IF(OR('Vegetation Continued, 4 Strata'!AL9=\"OBL\",'Vegetation Continued, 4 Strata'!AL9=\"FACW\"),1,0),0)","v":0},{"$f":"IFERROR(IF(OR('Vegetation Continued, 4 Strata'!AL9=\"UPL\",'Vegetation Continued, 4 Strata'!AL9=\"FACU\"),1,0),0)","v":0},{"$f":"IFERROR(IF(AND('Vegetation Continued, 4 Strata'!AF9=\"YES\",OR('Vegetation Continued, 4 Strata'!AL9=\"UPL\",'Vegetation Continued, 4 Strata'!AL9=\"FACU\",'Vegetation Continued, 4 Strata'!AL9=\"FAC\")),FALSE,TRUE),TRUE)","v":true},{"$f":"IFERROR(IF('Vegetation Continued, 4 Strata'!AL9=\"obl\",BQ17,0),0)","v":0},{"$f":"IFERROR(IF('Vegetation Continued, 4 Strata'!AL9=\"facw\",BQ17,0),0)","v":0},{"$f":"IFERROR(IF('Vegetation Continued, 4 Strata'!AL9=\"fac\",BQ17,0),0)","v":0},{"$f":"IFERROR(IF('Vegetation Continued, 4 Strata'!AL9=\"facu\",BQ17,0),0)","v":0},{"$f":"IFERROR(IF('Vegetation Continued, 4 Strata'!AL9=\"upl\",BQ17,0),0)","v":0},0,{"$f":"IFERROR(LARGE((BQ$4:BQ$19),14),0)","v":0},0,{"$f":"IF(AND(CE17>0,SUM(CF$4:CF16)>0.5),\"\",CE17)","v":0},null,{"$f":"IFERROR(IF(ISNA(MATCH(\"AGCP\",$CH$4:$CH$9,0)),IF(ISNA(MATCH(\"WGC\",$CH$4:$CH$9,0)),\"\",VLOOKUP('Vegetation Continued, 4 Strata'!D9,Plant_List,3,FALSE)),VLOOKUP('Vegetation Continued, 4 Strata'!D9,Plant_List,2,FALSE)),\"\")","v":""}]
[null,"3.",null,"",{"$nulls":27},"",{"$nulls":5},{"$f":"IF(CI23=0,\"\",CI23)","v":""},{"$nulls":6},"Column Totals:",{"$nulls":5},{"$f":"IF(AND(AY13=\"\",AY14=\"\",AY15=\"\",AY16=\"\",AY17=\"\"),\"\",SUM(AY13:BB17))","v":""},{"$nulls":3},"(A)",{"$nulls":3},{"$f":"IF(AND($BM$11=FALSE,$BY$74=FALSE),SUM(BG13:BJ17),\"\")","v":""},{"$nulls":3},"(B)",{"$nulls":3},{"$f":"IF(AND(OR($BO$12=TRUE,$BO$13=TRUE,$BO$14=TRUE,$BO$15=TRUE,$BO$16=TRUE,$BO$17=TRUE),D4<>\"\"),TRUE,FALSE)","v":false},null,{"$f":"IFERROR('Vegetation Continued, 4 Strata'!Z10,0)","v":0},{"$f":"IFERROR(IF(AND('Vegetation Continued, 4 Strata'!AF10=\"Yes\",OR('Vegetation Continued, 4 Strata'!AL10=\"OBL\",'Vegetation Continued, 4 Strata'!AL10=\"FACW\",'Vegetation Continued, 4 Strata'!AL10=\"FAC\")),1,0),0)","v":0},{"$f":"IFERROR(IF('Vegetation Continued, 4 Strata'!AF10=\"Yes\",1,0),0)","v":0},{"$f":"IFERROR(IF(AND('Vegetation Continued, 4 Strata'!AF10=\"Yes\",OR('Vegetation Continued, 4 Strata'!AL10=\"OBL\",'Vegetation Continued, 4 Strata'!AL10=\"FACW\")),1,0),0)","v":0},{"$f":"IFERROR(IF(AND('Vegetation Continued, 4 Strata'!AF10=\"Yes\",OR('Vegetation Continued, 4 Strata'!AL10=\"UPL\",'Vegetation Continued, 4 Strata'!AL10=\"FACU\")),1,0),0)","v":0},{"$f":"IFERROR(IF(OR('Vegetation Continued, 4 Strata'!AL10=\"OBL\",'Vegetation Continued, 4 Strata'!AL10=\"FACW\"),1,0),0)","v":0},{"$f":"IFERROR(IF(OR('Vegetation Continued, 4 Strata'!AL10=\"UPL\",'Vegetation Continued, 4 Strata'!AL10=\"FACU\"),1,0),0)","v":0},{"$f":"IFERROR(IF(AND('Vegetation Continued, 4 Strata'!AF10=\"YES\",OR('Vegetation Continued, 4 Strata'!AL10=\"UPL\",'Vegetation Continued, 4 Strata'!AL10=\"FACU\",'Vegetation Continued, 4 Strata'!AL10=\"FAC\")),FALSE,TRUE),TRUE)","v":true},{"$f":"IFERROR(IF('Vegetation Continued, 4 Strata'!AL10=\"obl\",BQ18,0),0)","v":0},{"$f":"IFERROR(IF('Vegetation Continued, 4 Strata'!AL10=\"facw\",BQ18,0),0)","v":0},{"$f":"IFERROR(IF('Vegetation Continued, 4 Strata'!AL10=\"fac\",BQ18,0),0)","v":0},{"$f":"IFERROR(IF('Vegetation Continued, 4 Strata'!AL10=\"facu\",BQ18,0),0)","v":0},{"$f":"IFERROR(IF('Vegetation Continued, 4 Strata'!AL10=\"upl\",BQ18,0),0)","v":0},{"$f":"IFERROR(BQ18/Z$13,0)","v":0},{"$f":"IFERROR(LARGE((BQ$4:BQ$19),15),0)","v":0},{"$f":"IFERROR(CE18/Z$13,0)","v":0},{"$f":"IF(AND(CE18>0,SUM(CF$4:CF17)>0.5),\"\",CE18)","v":0},null,{"$f":"IFERROR(IF(ISNA(MATCH(\"AGCP\",$CH$4:$CH$9,0)),IF(ISNA(MATCH(\"WGC\",$CH$4:$CH$9,0)),\"\",VLOOKUP('Vegetation Continued, 4 Strata'!D10,Plant_List,3,FALSE)),VLOOKUP('Vegetation Continued, 4 Strata'!D10,Plant_List,2,FALSE)),\"\")","v":""}]
[null,"4.",null,"",{"$nulls":27},"",{"$nulls":5},{"$f":"IF(CI24=0,\"\",CI24)","v":""},{"$nulls":8},"Prevalence Index  = B/A =",{"$nulls":10},{"$f":"IFERROR(IF(ISNUMBER(BG18),ROUND(BG18/AY18,2),\"\"),\"\")","v":""},{"$nulls":10},{"$f":"IFERROR('Vegetation Continued, 4 Strata'!Z12,0)","v":0},{"$f":"IFERROR(IF(AND('Vegetation Continued, 4 Strata'!AF12=\"Yes\",OR('Vegetation Continued, 4 Strata'!AL12=\"OBL\",'Vegetation Continued, 4 Strata'!AL12=\"FACW\",'Vegetation Continued, 4 Strata'!AL12=\"FAC\")),1,0),0)","v":0},{"$f":"IFERROR(IF('Vegetation Continued, 4 Strata'!AF12=\"Yes\",1,0),0)","v":0},{"$f":"IFERROR(IF(AND('Vegetation Continued, 4 Strata'!AF12=\"Yes\",OR('Vegetation Continued, 4 Strata'!AL12=\"OBL\",'Vegetation Continued, 4 Strata'!AL12=\"FACW\")),1,0),0)","v":0},{"$f":"IFERROR(IF(AND('Vegetation Continued, 4 Strata'!AF12=\"Yes\",OR('Vegetation Continued, 4 Strata'!AL12=\"UPL\",'Vegetation Continued, 4 Strata'!AL12=\"FACU\")),1,0),0)","v":0},{"$f":"IFERROR(IF(OR('Vegetation Continued, 4 Strata'!AL12=\"OBL\",'Vegetation Continued, 4 Strata'!AL12=\"FACW\"),1,0),0)","v":0},{"$f":"IFERROR(IF(OR('Vegetation Continued, 4 Strata'!AL12=\"UPL\",'Vegetation Continued, 4 Strata'!AL12=\"FACU\"),1,0),0)","v":0},{"$f":"IFERROR(IF(AND('Vegetation Continued, 4 Strata'!AF12=\"YES\",OR('Vegetation Continued, 4 Strata'!AL12=\"UPL\",'Vegetation Continued, 4 Strata'!AL12=\"FACU\",'Vegetation Continued, 4 Strata'!AL12=\"FAC\")),FALSE,TRUE),TRUE)","v":true},{"$f":"IFERROR(IF('Vegetation Continued, 4 Strata'!AL12=\"obl\",BQ19,0),0)","v":0},{"$f":"IFERROR(IF('Vegetation Continued, 4 Strata'!AL12=\"facw\",BQ19,0),0)","v":0},{"$f":"IFERROR(IF('Vegetation Continued, 4 Strata'!AL12=\"fac\",BQ19,0),0)","v":0},{"$f":"IFERROR(IF('Vegetation Continued, 4 Strata'!AL12=\"facu\",BQ19,0),0)","v":0},{"$f":"IFERROR(IF('Vegetation Continued, 4 Strata'!AL12=\"upl\",BQ19,0),0)","v":0},{"$f":"IFERROR(BQ19/Z$13,0)","v":0},{"$f":"IFERROR(LARGE((BQ$4:BQ$19),16),0)","v":0},{"$f":"IFERROR(CE19/Z$13,0)","v":0},{"$f":"IF(AND(CE19>0,SUM(CF$4:CF18)>0.5),\"\",CE19)","v":0},null,{"$f":"IFERROR(IF(ISNA(MATCH(\"AGCP\",$CH$4:$CH$9,0)),IF(ISNA(MATCH(\"WGC\",$CH$4:$CH$9,0)),\"\",VLOOKUP('Vegetation Continued, 4 Strata'!D12,Plant_List,3,FALSE)),VLOOKUP('Vegetation Continued, 4 Strata'!D12,Plant_List,2,FALSE)),\"\")","v":""}]
[null,"5.",null,"",{"$nulls":27},{"$f":"IF(Z20>0,IF(OR(AND(Z$25<5,Z$13=\"\",Z$40=\"\",Z$48=\"\"),Z$25>=5),IF(AND(ISNA(MATCH(Z20,CG$21:CG$36,0)),CD25<0.2),\"No\",\"Yes\"),\"No\"),\"\")","v":""},{"$nulls":5},{"$f":"IF(CI25=0,\"\",CI25)","v":""}]
[{"$nulls":44},"Hydrophytic Vegetation Indicators:",{"$nulls":21},"Rapid Test",null,{"$f":"Z16","v":0},{"$f":"IF(AND(AF16=\"Yes\",OR(AL16=\"OBL\",AL16=\"FACW\",AL16=\"FAC\")),1,0)","v":0},{"$f":"IF(AF16=\"Yes\",1,0)","v":0},{"$f":"IF(AND(AF16=\"Yes\",OR(AL16=\"OBL\",AL16=\"FACW\")),1,0)","v":0},{"$f":"IF(AND(AF16=\"Yes\",OR(AL16=\"UPL\",AL16=\"FACU\")),1,0)","v":0},{"$f":"IF(OR(AL16=\"OBL\",AL16=\"FACW\"),1,0)","v":0},{"$f":"IF(OR(AL16=\"UPL\",AL16=\"FACU\"),1,0)","v":0},{"$f":"IF(AND(AF16=\"YES\",OR(AL16=\"UPL\",AL16=\"FACU\",AL16=\"FAC\")),FALSE,TRUE)","v":true},{"$f":"IF($AL16=\"obl\",$Z16,0)","v":0},{"$f":"IF($AL16=\"facw\",$Z16,0)","v":0},{"$f":"IF($AL16=\"fac\",$Z16,0)","v":0},{"$f":"IF($AL16=\"facu\",$Z16,0)","v":0},{"$f":"IF($AL16=\"upl\",$Z16,0)","v":0},{"$f":"IFERROR(Z16/Z$25,0)","v":0},{"$f":"IFERROR(LARGE((BQ$21:BQ$36),1),0)","v":0},{"$f":"IFERROR(CE21/Z$25,0)","v":0},{"$f":"IF(CE21>0,CE21,\"\")","v":""},null,{"$f":"IFERROR(IF(ISNA(MATCH(\"AGCP\",$CH$4:$CH$9,0)),IF(ISNA(MATCH(\"WGC\",$CH$4:$CH$9,0)),\"\",VLOOKUP(D16,Plant_List,3,FALSE)),VLOOKUP(D16,Plant_List,2,FALSE)),\"\")","v":""}]
[null,"6.",null,"",{"$nulls":27},{"$f":"IF(Z22>0,IF(OR(AND(Z$25<5,Z$13=\"\",Z$40=\"\",Z$48=\"\"),Z$25>=5),IF(AND(ISNA(MATCH(Z22,CG$21:CG$36,0)),CD26<0.2),\"No\",\"Yes\"),\"No\"),\"\")","v":""},{"$nulls":5},{"$f":"IF(CI26=0,\"\",CI26)","v":""},{"$nulls":7},"1 - Rapid Test for Hydrophytic Vegetation",{"$nulls":20},{"$f":"IF(ISNA(MATCH(FALSE,BX4:BX71,0)),TRUE,FALSE)","v":true},null,{"$f":"Z17","v":0},0,0,0,0,0,0,true,0,0,0,0,0,{"$f":"IFERROR(Z17/Z$25,0)","v":0},{"$f":"IFERROR(LARGE((BQ$21:BQ$36),2),0)","v":0},0,{"$f":"IF(AND(CE22>0,CF21>0.5),\"\",CE22)","v":0},null,{"$f":"IFERROR(IF(ISNA(MATCH(\"AGCP\",$CH$4:$CH$9,0)),IF(ISNA(MATCH(\"WGC\",$CH$4:$CH$9,0)),\"\",VLOOKUP(D17,Plant_List,3,FALSE)),VLOOKUP(D17,Plant_List,2,FALSE)),\"\")","v":""}]
[null,"7.",null,"",{"$nulls":27},"",{"$nulls":5},{"$f":"IF(CI27=0,\"\",CI27)","v":""},{"$nulls":6},{"$f":"IF(AND(BE9>0.5,BE9<>\"\"),\"X\",\"\")","v":""},"2 - Dominance Test is >50%",{"$nulls":22},0,0,0,0,0,0,0,true,0,0,0,0,0,{"$f":"IFERROR(Z18/Z$25,0)","v":0},{"$f":"IFERROR(LARGE((BQ$21:BQ$36),3),0)","v":0},0,{"$f":"IF(AND(CE23>0,SUM(CF$21:CF22)>0.5),\"\",CE23)","v":0},null,{"$f":"IFERROR(IF(ISNA(MATCH(\"AGCP\",$CH$4:$CH$9,0)),IF(ISNA(MATCH(\"WGC\",$CH$4:$CH$9,0)),\"\",VLOOKUP(D18,Plant_List,3,FALSE)),VLOOKUP(D18,Plant_List,2,FALSE)),\"\")","v":""}]
[null,"8.",null,"",{"$nulls":27},{"$f":"IF(Z24>0,IF(OR(AND(Z$25<5,Z$13=\"\",Z$40=\"\",Z$48=\"\"),Z$25>=5),IF(AND(ISNA(MATCH(Z24,CG$21:CG$36,0)),CD28<0.2),\"No\",\"Yes\"),\"No\"),\"\")","v":""},{"$nulls":5},{"$f":"IF(CI28=0,\"\",CI28)","v":""},{"$nulls":6},{"$f":"IF(AND(BF19<=3,BO29=TRUE),\"X\",\"\")","v":""},"3 - Prevalence Index is ≤3.01",{"$nulls":20},"Hydro/Soil",null,0,0,0,0,0,0,0,true,0,0,0,0,0,{"$f":"IFERROR(Z19/Z$25,0)","v":0},{"$f":"IFERROR(LARGE((BQ$21:BQ$36),4),0)","v":0},0,{"$f":"IF(AND(CE24>0,SUM(CF$21:CF23)>0.5),\"\",CE24)","v":0},null,{"$f":"IFERROR(IF(ISNA(MATCH(\"AGCP\",$CH$4:$CH$9,0)),IF(ISNA(MATCH(\"WGC\",$CH$4:$CH$9,0)),\"\",VLOOKUP(D19,Plant_List,3,FALSE)),VLOOKUP(D19,Plant_List,2,FALSE)),\"\")","v":""}]
[{"$nulls":25},{"$f":"IF(SUM(BQ21:BQ36)>0,SUM(BQ21:BQ36),\"\")","v":""},{"$nulls":4},"=Total Cover",{"$nulls":14},"Problematic Hydrophytic Vegetation1 (Explain)",{"$nulls":20},{"$f":"IF(OR('Page 1 (Hydrology)'!Q9=\"X\",'Page 1 (Hydrology)'!Q9=\"Yes\",'Page 1 (Hydrology)'!Q9=\"Y\",'Page 1 (Hydrology)'!Q10=\"X\",'Page 1 (Hydrology)'!Q10=\"Yes\",'Page 1 (Hydrology)'!Q10=\"Y\"),TRUE,FALSE)","v":false},null,{"$f":"Z20","v":0},{"$f":"IF(AND(AF20=\"Yes\",OR(AL20=\"OBL\",AL20=\"FACW\",AL20=\"FAC\")),1,0)","v":0},{"$f":"IF(AF20=\"Yes\",1,0)","v":0},{"$f":"IF(AND(AF20=\"Yes\",OR(AL20=\"OBL\",AL20=\"FACW\")),1,0)","v":0},{"$f":"IF(AND(AF20=\"Yes\",OR(AL20=\"UPL\",AL20=\"FACU\")),1,0)","v":0},{"$f":"IF(OR(AL20=\"OBL\",AL20=\"FACW\"),1,0)","v":0},{"$f":"IF(OR(AL20=\"UPL\",AL20=\"FACU\"),1,0)","v":0},{"$f":"IF(AND(AF20=\"YES\",OR(AL20=\"UPL\",AL20=\"FACU\",AL20=\"FAC\")),FALSE,TRUE)","v":true},{"$f":"IF($AL20=\"obl\",$Z20,0)","v":0},{"$f":"IF($AL20=\"facw\",$Z20,0)","v":0},{"$f":"IF($AL20=\"fac\",$Z20,0)","v":0},{"$f":"IF($AL20=\"facu\",$Z20,0)","v":0},{"$f":"IF($AL20=\"upl\",$Z20,0)","v":0},{"$f":"IFERROR(Z20/Z$25,0)","v":0},{"$f":"IFERROR(LARGE((BQ$21:BQ$36),5),0)","v":0},0,{"$f":"IF(AND(CE25>0,SUM(CF$21:CF24)>0.5),\"\",CE25)","v":0},null,{"$f":"IFERROR(IF(ISNA(MATCH(\"AGCP\",$CH$4:$CH$9,0)),IF(ISNA(MATCH(\"WGC\",$CH$4:$CH$9,0)),\"\",VLOOKUP(D20,Plant_List,3,FALSE)),VLOOKUP(D20,Plant_List,2,FALSE)),\"\")","v":""}]
[{"$nulls":13},"50% of total cover:",{"$nulls":8},{"$f":"IFERROR(ROUNDUP(Z25/2,0),\"\")","v":""},{"$nulls":5},"20% of total cover:",{"$nulls":8},{"$f":"IFERROR(ROUNDUP(Z25/5,0),\"\")","v":""},{"$nulls":28},{"$f":"IF(OR('Page 1 (Hydrology)'!AO39=\"X\",'Page 1 (Hydrology)'!Q14=\"X\"),TRUE,FALSE)","v":false},null,{"$f":"Z22","v":0},{"$f":"IF(AND(AF22=\"Yes\",OR(AL22=\"OBL\",AL22=\"FACW\",AL22=\"FAC\")),1,0)","v":0},{"$f":"IF(AF22=\"Yes\",1,0)","v":0},{"$f":"IF(AND(AF22=\"Yes\",OR(AL22=\"OBL\",AL22=\"FACW\")),1,0)","v":0},{"$f":"IF(AND(AF22=\"Yes\",OR(AL22=\"UPL\",AL22=\"FACU\")),1,0)","v":0},{"$f":"IF(OR(AL22=\"OBL\",AL22=\"FACW\"),1,0)","v":0},{"$f":"IF(OR(AL22=\"UPL\",AL22=\"FACU\"),1,0)","v":0},{"$f":"IF(AND(AF22=\"YES\",OR(AL22=\"UPL\",AL22=\"FACU\",AL22=\"FAC\")),FALSE,TRUE)","v":true},{"$f":"IF($AL22=\"obl\",$Z22,0)","v":0},{"$f":"IF($AL22=\"facw\",$Z22,0)","v":0},{"$f":"IF($AL22=\"fac\",$Z22,0)","v":0},{"$f":"IF($AL22=\"facu\",$Z22,0)","v":0},{"$f":"IF($AL22=\"upl\",$Z22,0)","v":0},{"$f":"IFERROR(Z22/Z$25,0)","v":0},{"$f":"IFERROR(LARGE((BQ$21:BQ$36),6),0)","v":0},0,{"$f":"IF(AND(CE26>0,SUM(CF$21:CF25)>0.5),\"\",CE26)","v":0},null,{"$f":"IFERROR(IF(ISNA(MATCH(\"AGCP\",$CH$4:$CH$9,0)),IF(ISNA(MATCH(\"WGC\",$CH$4:$CH$9,0)),\"\",VLOOKUP(D22,Plant_List,3,FALSE)),VLOOKUP(D22,Plant_List,2,FALSE)),\"\")","v":""}]
[null,"Herb Stratum",{"$nulls":6},"(Plot size:",{"$nulls":11},")",{"$nulls":45},{"$f":"IF(OR('Page 1 (Hydrology)'!L9=\"X\",'Page 1 (Hydrology)'!L9=\"Yes\",'Page 1 (Hydrology)'!L9=\"Y\",'Page 1 (Hydrology)'!L10=\"X\",'Page 1 (Hydrology)'!L10=\"Yes\",'Page 1 (Hydrology)'!L10=\"Y\"),TRUE,FALSE)","v":false},null,0,{"$f":"IF(AND(AF23=\"Yes\",OR(AL23=\"OBL\",AL23=\"FACW\",AL23=\"FAC\")),1,0)","v":0},{"$f":"IF(AF23=\"Yes\",1,0)","v":0},{"$f":"IF(AND(AF23=\"Yes\",OR(AL23=\"OBL\",AL23=\"FACW\")),1,0)","v":0},{"$f":"IF(AND(AF23=\"Yes\",OR(AL23=\"UPL\",AL23=\"FACU\")),1,0)","v":0},0,0,true,{"$f":"IF($AL23=\"obl\",$Z23,0)","v":0},{"$f":"IF($AL23=\"facw\",$Z23,0)","v":0},{"$f":"IF($AL23=\"fac\",$Z23,0)","v":0},{"$f":"IF($AL23=\"facu\",$Z23,0)","v":0},{"$f":"IF($AL23=\"upl\",$Z23,0)","v":0},{"$f":"IFERROR(Z23/Z$25,0)","v":0},{"$f":"IFERROR(LARGE((BQ$21:BQ$36),7),0)","v":0},0,{"$f":"IF(AND(CE27>0,SUM(CF$21:CF26)>0.5),\"\",CE27)","v":0},null,{"$f":"IFERROR(IF(ISNA(MATCH(\"AGCP\",$CH$4:$CH$9,0)),IF(ISNA(MATCH(\"WGC\",$CH$4:$CH$9,0)),\"\",VLOOKUP(D23,Plant_List,3,FALSE)),VLOOKUP(D23,Plant_List,2,FALSE)),\"\")","v":""}]
[null,"1.",null,"",{"$nulls":27},{"$f":"IF(Z28>0,IF(OR(AND(Z$40<5,Z$13=\"\",Z$25=\"\",Z$48=\"\"),Z$40>=5),IF(AND(ISNA(MATCH(Z28,CG$38:CG$61,0)),CD38<0.2),\"No\",\"Yes\"),\"No\"),\"\")","v":""},{"$nulls":5},{"$f":"IF(CI38=0,\"\",CI38)","v":""},{"$nulls":6},"1Indicators of hydric soil and wetland hydrology must be present, unless disturbed or problematic.",{"$nulls":21},{"$f":"IF(OR('Page 3 (Soil)'!BE38=\"X\",'Page 1 (Hydrology)'!Q13=\"X\"),TRUE,FALSE)","v":false},null,{"$f":"Z24","v":0},{"$f":"IF(AND(AF24=\"Yes\",OR(AL24=\"OBL\",AL24=\"FACW\",AL24=\"FAC\")),1,0)","v":0},{"$f":"IF(AF24=\"Yes\",1,0)","v":0},{"$f":"IF(AND(AF24=\"Yes\",OR(AL24=\"OBL\",AL24=\"FACW\")),1,0)","v":0},{"$f":"IF(AND(AF24=\"Yes\",OR(AL24=\"UPL\",AL24=\"FACU\")),1,0)","v":0},0,0,true,{"$f":"IF($AL24=\"obl\",$Z24,0)","v":0},{"$f":"IF($AL24=\"facw\",$Z24,0)","v":0},{"$f":"IF($AL24=\"fac\",$Z24,0)","v":0},{"$f":"IF($AL24=\"facu\",$Z24,0)","v":0},{"$f":"IF($AL24=\"upl\",$Z24,0)","v":0},{"$f":"IFERROR(Z24/Z$25,0)","v":0},{"$f":"IFERROR(LARGE((BQ$21:BQ$36),8),0)","v":0},0,{"$f":"IF(AND(CE28>0,SUM(CF$21:CF27)>0.5),\"\",CE28)","v":0},null,{"$f":"IFERROR(IF(ISNA(MATCH(\"AGCP\",$CH$4:$CH$9,0)),IF(ISNA(MATCH(\"WGC\",$CH$4:$CH$9,0)),\"\",VLOOKUP(D24,Plant_List,3,FALSE)),VLOOKUP(D24,Plant_List,2,FALSE)),\"\")","v":""}]
[null,"2.",null,"",{"$nulls":27},{"$f":"IF(Z29>0,IF(OR(AND(Z$40<5,Z$13=\"\",Z$25=\"\",Z$48=\"\"),Z$40>=5),IF(AND(ISNA(MATCH(Z29,CG$38:CG$61,0)),CD39<0.2),\"No\",\"Yes\"),\"No\"),\"\")","v":""},{"$nulls":5},{"$f":"IF(CI39=0,\"\",CI39)","v":""},{"$nulls":28},{"$f":"IF(AND(OR(BO25=TRUE,BO26=TRUE),OR(BO27=TRUE,BO28=TRUE)),TRUE,FALSE)","v":false},null,{"$f":"IFERROR('Vegetation Continued, 4 Strata'!Z16,0)","v":0},{"$f":"IFERROR(IF(AND('Vegetation Continued, 4 Strata'!AF16=\"Yes\",OR('Vegetation Continued, 4 Strata'!AL16=\"OBL\",'Vegetation Continued, 4 Strata'!AL16=\"FACW\",'Vegetation Continued, 4 Strata'!AL16=\"FAC\")),1,0),0)","v":0},{"$f":"IFERROR(IF('Vegetation Continued, 4 Strata'!AF16=\"Yes\",1,0),0)","v":0},{"$f":"IFERROR(IF(AND('Vegetation Continued, 4 Strata'!AF16=\"Yes\",OR('Vegetation Continued, 4 Strata'!AL16=\"OBL\",'Vegetation Continued, 4 Strata'!AL16=\"FACW\")),1,0),0)","v":0},{"$f":"IFERROR(IF(AND('Vegetation Continued, 4 Strata'!AF16=\"Yes\",OR('Vegetation Continued, 4 Strata'!AL16=\"UPL\",'Vegetation Continued, 4 Strata'!AL16=\"FACU\")),1,0),0)","v":0},{"$f":"IFERROR(IF(OR('Vegetation Continued, 4 Strata'!AL16=\"OBL\",'Vegetation Continued, 4 Strata'!AL16=\"FACW\"),1,0),0)","v":0},{"$f":"IFERROR(IF(OR('Vegetation Continued, 4 Strata'!AL16=\"UPL\",'Vegetation Continued, 4 Strata'!AL16=\"FACU\"),1,0),0)","v":0},{"$f":"IFERROR(IF(AND('Vegetation Continued, 4 Strata'!AF16=\"YES\",OR('Vegetation Continued, 4 Strata'!AL16=\"UPL\",'Vegetation Continued, 4 Strata'!AL16=\"FACU\",'Vegetation Continued, 4 Strata'!AL16=\"FAC\")),FALSE,TRUE),TRUE)","v":true},{"$f":"IFERROR(IF('Vegetation Continued, 4 Strata'!AL16=\"obl\",BQ29,0),0)","v":0},{"$f":"IFERROR(IF('Vegetation Continued, 4 Strata'!AL16=\"facw\",BQ29,0),0)","v":0},{"$f":"IFERROR(IF('Vegetation Continued, 4 Strata'!AL16=\"fac\",BQ29,0),0)","v":0},{"$f":"IFERROR(IF('Vegetation Continued, 4 Strata'!AL16=\"facu\",BQ29,0),0)","v":0},{"$f":"IFERROR(IF('Vegetation Continued, 4 Strata'!AL16=\"upl\",BQ29,0),0)","v":0},{"$f":"IFERROR(BQ29/Z$25,0)","v":0},{"$f":"IFERROR(LARGE((BQ$21:BQ$36),9),0)","v":0},0,{"$f":"IF(AND(CE29>0,SUM(CF$21:CF28)>0.5),\"\",CE29)","v":0},null,{"$f":"IFERROR(IF(ISNA(MATCH(\"AGCP\",$CH$4:$CH$9,0)),IF(ISNA(MATCH(\"WGC\",$CH$4:$CH$9,0)),\"\",VLOOKUP('Vegetation Continued, 4 Strata'!D16,Plant_List,3,FALSE)),VLOOKUP('Vegetation Continued, 4 Strata'!D16,Plant_List,2,FALSE)),\"\")","v":""}]
[null,"3.",{"$nulls":29},"",{"$nulls":5},"",{"$nulls":6},"Definitions of Four Vegetation Strata:",{"$nulls":23},{"$f":"IFERROR('Vegetation Continued, 4 Strata'!Z17,0)","v":0},{"$f":"IFERROR(IF(AND('Vegetation Continued, 4 Strata'!AF17=\"Yes\",OR('Vegetation Continued, 4 Strata'!AL17=\"OBL\",'Vegetation Continued, 4 Strata'!AL17=\"FACW\",'Vegetation Continued, 4 Strata'!AL17=\"FAC\")),1,0),0)","v":0},{"$f":"IFERROR(IF('Vegetation Continued, 4 Strata'!AF17=\"Yes\",1,0),0)","v":0},{"$f":"IFERROR(IF(AND('Vegetation Continued, 4 Strata'!AF17=\"Yes\",OR('Vegetation Continued, 4 Strata'!AL17=\"OBL\",'Vegetation Continued, 4 Strata'!AL17=\"FACW\")),1,0),0)","v":0},{"$f":"IFERROR(IF(AND('Vegetation Continued, 4 Strata'!AF17=\"Yes\",OR('Vegetation Continued, 4 Strata'!AL17=\"UPL\",'Vegetation Continued, 4 Strata'!AL17=\"FACU\")),1,0),0)","v":0},{"$f":"IFERROR(IF(OR('Vegetation Continued, 4 Strata'!AL17=\"OBL\",'Vegetation Continued, 4 Strata'!AL17=\"FACW\"),1,0),0)","v":0},{"$f":"IFERROR(IF(OR('Vegetation Continued, 4 Strata'!AL17=\"UPL\",'Vegetation Continued, 4 Strata'!AL17=\"FACU\"),1,0),0)","v":0},{"$f":"IFERROR(IF(AND('Vegetation Continued, 4 Strata'!AF17=\"YES\",OR('Vegetation Continued, 4 Strata'!AL17=\"UPL\",'Vegetation Continued, 4 Strata'!AL17=\"FACU\",'Vegetation Continued, 4 Strata'!AL17=\"FAC\")),FALSE,TRUE),TRUE)","v":true},{"$f":"IFERROR(IF('Vegetation Continued, 4 Strata'!AL17=\"obl\",BQ30,0),0)","v":0},{"$f":"IFERROR(IF('Vegetation Continued, 4 Strata'!AL17=\"facw\",BQ30,0),0)","v":0},{"$f":"IFERROR(IF('Vegetation Continued, 4 Strata'!AL17=\"fac\",BQ30,0),0)","v":0},{"$f":"IFERROR(IF('Vegetation Continued, 4 Strata'!AL17=\"facu\",BQ30,0),0)","v":0},{"$f":"IFERROR(IF('Vegetation Continued, 4 Strata'!AL17=\"upl\",BQ30,0),0)","v":0},{"$f":"IFERROR(BQ30/Z$25,0)","v":0},{"$f":"IFERROR(LARGE((BQ$21:BQ$36),10),0)","v":0},{"$f":"IFERROR(CE30/Z$25,0)","v":0},{"$f":"IF(AND(CE30>0,SUM(CF$21:CF29)>0.5),\"\",CE30)","v":0},null,{"$f":"IFERROR(IF(ISNA(MATCH(\"AGCP\",$CH$4:$CH$9,0)),IF(ISNA(MATCH(\"WGC\",$CH$4:$CH$9,0)),\"\",VLOOKUP('Vegetation Continued, 4 Strata'!D17,Plant_List,3,FALSE)),VLOOKUP('Vegetation Continued, 4 Strata'!D17,Plant_List,2,FALSE)),\"\")","v":""}]
[null,"4.",{"$nulls":29},"",{"$nulls":5},"",{"$nulls":6},"Tree – Woody plants, excluding vines, 3 in. (7.6 cm) or more in diameter at breast height (DBH), regardless of height.",{"$nulls":21},"State Regions",null,{"$f":"IFERROR('Vegetation Continued, 4 Strata'!Z18,0)","v":0},{"$f":"IFERROR(IF(AND('Vegetation Continued, 4 Strata'!AF18=\"Yes\",OR('Vegetation Continued, 4 Strata'!AL18=\"OBL\",'Vegetation Continued, 4 Strata'!AL18=\"FACW\",'Vegetation Continued, 4 Strata'!AL18=\"FAC\")),1,0),0)","v":0},{"$f":"IFERROR(IF('Vegetation Continued, 4 Strata'!AF18=\"Yes\",1,0),0)","v":0},{"$f":"IFERROR(IF(AND('Vegetation Continued, 4 Strata'!AF18=\"Yes\",OR('Vegetation Continued, 4 Strata'!AL18=\"OBL\",'Vegetation Continued, 4 Strata'!AL18=\"FACW\")),1,0),0)","v":0},{"$f":"IFERROR(IF(AND('Vegetation Continued, 4 Strata'!AF18=\"Yes\",OR('Vegetation Continued, 4 Strata'!AL18=\"UPL\",'Vegetation Continued, 4 Strata'!AL18=\"FACU\")),1,0),0)","v":0},{"$f":"IFERROR(IF(OR('Vegetation Continued, 4 Strata'!AL18=\"OBL\",'Vegetation Continued, 4 Strata'!AL18=\"FACW\"),1,0),0)","v":0},{"$f":"IFERROR(IF(OR('Vegetation Continued, 4 Strata'!AL18=\"UPL\",'Vegetation Continued, 4 Strata'!AL18=\"FACU\"),1,0),0)","v":0},{"$f":"IFERROR(IF(AND('Vegetation Continued, 4 Strata'!AF18=\"YES\",OR('Vegetation Continued, 4 Strata'!AL18=\"UPL\",'Vegetation Continued, 4 Strata'!AL18=\"FACU\",'Vegetation Continued, 4 Strata'!AL18=\"FAC\")),FALSE,TRUE),TRUE)","v":true},{"$f":"IFERROR(IF('Vegetation Continued, 4 Strata'!AL18=\"obl\",BQ31,0),0)","v":0},{"$f":"IFERROR(IF('Vegetation Continued, 4 Strata'!AL18=\"facw\",BQ31,0),0)","v":0},{"$f":"IFERROR(IF('Vegetation Continued, 4 Strata'!AL18=\"fac\",BQ31,0),0)","v":0},{"$f":"IFERROR(IF('Vegetation Continued, 4 Strata'!AL18=\"facu\",BQ31,0),0)","v":0},{"$f":"IFERROR(IF('Vegetation Continued, 4 Strata'!AL18=\"upl\",BQ31,0),0)","v":0},0,{"$f":"IFERROR(LARGE((BQ$21:BQ$36),11),0)","v":0},0,{"$f":"IF(AND(CE31>0,SUM(CF$21:CF30)>0.5),\"\",CE31)","v":0},null,{"$f":"IFERROR(IF(ISNA(MATCH(\"AGCP\",$CH$4:$CH$9,0)),IF(ISNA(MATCH(\"WGC\",$CH$4:$CH$9,0)),\"\",VLOOKUP('Vegetation Continued, 4 Strata'!D18,Plant_List,3,FALSE)),VLOOKUP('Vegetation Continued, 4 Strata'!D18,Plant_List,2,FALSE)),\"\")","v":""}]
[null,"5.",null,"",{"$nulls":27},"",{"$nulls":5},"",{"$nulls":28},"AGCP",null,{"$f":"IFERROR('Vegetation Continued, 4 Strata'!Z19,0)","v":0},{"$f":"IFERROR(IF(AND('Vegetation Continued, 4 Strata'!AF19=\"Yes\",OR('Vegetation Continued, 4 Strata'!AL19=\"OBL\",'Vegetation Continued, 4 Strata'!AL19=\"FACW\",'Vegetation Continued, 4 Strata'!AL19=\"FAC\")),1,0),0)","v":0},{"$f":"IFERROR(IF('Vegetation Continued, 4 Strata'!AF19=\"Yes\",1,0),0)","v":0},{"$f":"IFERROR(IF(AND('Vegetation Continued, 4 Strata'!AF19=\"Yes\",OR('Vegetation Continued, 4 Strata'!AL19=\"OBL\",'Vegetation Continued, 4 Strata'!AL19=\"FACW\")),1,0),0)","v":0},{"$f":"IFERROR(IF(AND('Vegetation Continued, 4 Strata'!AF19=\"Yes\",OR('Vegetation Continued, 4 Strata'!AL19=\"UPL\",'Vegetation Continued, 4 Strata'!AL19=\"FACU\")),1,0),0)","v":0},{"$f":"IFERROR(IF(OR('Vegetation Continued, 4 Strata'!AL19=\"OBL\",'Vegetation Continued, 4 Strata'!AL19=\"FACW\"),1,0),0)","v":0},{"$f":"IFERROR(IF(OR('Vegetation Continued, 4 Strata'!AL19=\"UPL\",'Vegetation Continued, 4 Strata'!AL19=\"FACU\"),1,0),0)","v":0},{"$f":"IFERROR(IF(AND('Vegetation Continued, 4 Strata'!AF19=\"YES\",OR('Vegetation Continued, 4 Strata'!AL19=\"UPL\",'Vegetation Continued, 4 Strata'!AL19=\"FACU\",'Vegetation Continued, 4 Strata'!AL19=\"FAC\")),FALSE,TRUE),TRUE)","v":true},{"$f":"IFERROR(IF('Vegetation Continued, 4 Strata'!AL19=\"obl\",BQ32,0),0)","v":0},{"$f":"IFERROR(IF('Vegetation Continued, 4 Strata'!AL19=\"facw\",BQ32,0),0)","v":0},{"$f":"IFERROR(IF('Vegetation Continued, 4 Strata'!AL19=\"fac\",BQ32,0),0)","v":0},{"$f":"IFERROR(IF('Vegetation Continued, 4 Strata'!AL19=\"facu\",BQ32,0),0)","v":0},{"$f":"IFERROR(IF('Vegetation Continued, 4 Strata'!AL19=\"upl\",BQ32,0),0)","v":0},0,{"$f":"IFERROR(LARGE((BQ$21:BQ$36),12),0)","v":0},0,{"$f":"IF(AND(CE32>0,SUM(CF$21:CF31)>0.5),\"\",CE32)","v":0},null,{"$f":"IFERROR(IF(ISNA(MATCH(\"AGCP\",$CH$4:$CH$9,0)),IF(ISNA(MATCH(\"WGC\",$CH$4:$CH$9,0)),\"\",VLOOKUP('Vegetation Continued, 4 Strata'!D19,Plant_List,3,FALSE)),VLOOKUP('Vegetation Continued, 4 Strata'!D19,Plant_List,2,FALSE)),\"\")","v":""}]
[null,"6.",null,"",{"$nulls":27},"",{"$nulls":5},"",{"$nulls":28},"AL",null,{"$f":"IFERROR('Vegetation Continued, 4 Strata'!Z20,0)","v":0},{"$f":"IFERROR(IF(AND('Vegetation Continued, 4 Strata'!AF20=\"Yes\",OR('Vegetation Continued, 4 Strata'!AL20=\"OBL\",'Vegetation Continued, 4 Strata'!AL20=\"FACW\",'Vegetation Continued, 4 Strata'!AL20=\"FAC\")),1,0),0)","v":0},{"$f":"IFERROR(IF('Vegetation Continued, 4 Strata'!AF20=\"Yes\",1,0),0)","v":0},{"$f":"IFERROR(IF(AND('Vegetation Continued, 4 Strata'!AF20=\"Yes\",OR('Vegetation Continued, 4 Strata'!AL20=\"OBL\",'Vegetation Continued, 4 Strata'!AL20=\"FACW\")),1,0),0)","v":0},{"$f":"IFERROR(IF(AND('Vegetation Continued, 4 Strata'!AF20=\"Yes\",OR('Vegetation Continued, 4 Strata'!AL20=\"UPL\",'Vegetation Continued, 4 Strata'!AL20=\"FACU\")),1,0),0)","v":0},{"$f":"IFERROR(IF(OR('Vegetation Continued, 4 Strata'!AL20=\"OBL\",'Vegetation Continued, 4 Strata'!AL20=\"FACW\"),1,0),0)","v":0},{"$f":"IFERROR(IF(OR('Vegetation Continued, 4 Strata'!AL20=\"UPL\",'Vegetation Continued, 4 Strata'!AL20=\"FACU\"),1,0),0)","v":0},{"$f":"IFERROR(IF(AND('Vegetation Continued, 4 Strata'!AF20=\"YES\",OR('Vegetation Continued, 4 Strata'!AL20=\"UPL\",'Vegetation Continued, 4 Strata'!AL20=\"FACU\",'Vegetation Continued, 4 Strata'!AL20=\"FAC\")),FALSE,TRUE),TRUE)","v":true},{"$f":"IFERROR(IF('Vegetation Continued, 4 Strata'!AL20=\"obl\",BQ33,0),0)","v":0},{"$f":"IFERROR(IF('Vegetation Continued, 4 Strata'!AL20=\"facw\",BQ33,0),0)","v":0},{"$f":"IFERROR(IF('Vegetation Continued, 4 Strata'!AL20=\"fac\",BQ33,0),0)","v":0},{"$f":"IFERROR(IF('Vegetation Continued, 4 Strata'!AL20=\"facu\",BQ33,0),0)","v":0},{"$f":"IFERROR(IF('Vegetation Continued, 4 Strata'!AL20=\"upl\",BQ33,0),0)","v":0},{"$f":"IFERROR(BQ33/Z$25,0)","v":0},{"$f":"IFERROR(LARGE((BQ$21:BQ$36),13),0)","v":0},{"$f":"IFERROR(CE33/Z$25,0)","v":0},{"$f":"IF(AND(CE33>0,SUM(CF$21:CF32)>0.5),\"\",CE33)","v":0},null,{"$f":"IFERROR(IF(ISNA(MATCH(\"AGCP\",$CH$4:$CH$9,0)),IF(ISNA(MATCH(\"WGC\",$CH$4:$CH$9,0)),\"\",VLOOKUP('Vegetation Continued, 4 Strata'!D20,Plant_List,3,FALSE)),VLOOKUP('Vegetation Continued, 4 Strata'!D20,Plant_List,2,FALSE)),\"\")","v":""}]
[null,"7.",null,"",{"$nulls":27},"",{"$nulls":5},"",{"$nulls":6},"Sapling/Shrub – Woody plants, excluding vines, less than 3 in. DBH and greater than 3.28 ft (1 m) tall.",{"$nulls":21},"DC",null,{"$f":"IFERROR('Vegetation Continued, 4 Strata'!Z22,0)","v":0},{"$f":"IFERROR(IF(AND('Vegetation Continued, 4 Strata'!AF22=\"Yes\",OR('Vegetation Continued, 4 Strata'!AL22=\"OBL\",'Vegetation Continued, 4 Strata'!AL22=\"FACW\",'Vegetation Continued, 4 Strata'!AL22=\"FAC\")),1,0),0)","v":0},{"$f":"IFERROR(IF('Vegetation Continued, 4 Strata'!AF22=\"Yes\",1,0),0)","v":0},{"$f":"IFERROR(IF(AND('Vegetation Continued, 4 Strata'!AF22=\"Yes\",OR('Vegetation Continued, 4 Strata'!AL22=\"OBL\",'Vegetation Continued, 4 Strata'!AL22=\"FACW\")),1,0),0)","v":0},{"$f":"IFERROR(IF(AND('Vegetation Continued, 4 Strata'!AF22=\"Yes\",OR('Vegetation Continued, 4 Strata'!AL22=\"UPL\",'Vegetation Continued, 4 Strata'!AL22=\"FACU\")),1,0),0)","v":0},{"$f":"IFERROR(IF(OR('Vegetation Continued, 4 Strata'!AL22=\"OBL\",'Vegetation Continued, 4 Strata'!AL22=\"FACW\"),1,0),0)","v":0},{"$f":"IFERROR(IF(OR('Vegetation Continued, 4 Strata'!AL22=\"UPL\",'Vegetation Continued, 4 Strata'!AL22=\"FACU\"),1,0),0)","v":0},{"$f":"IFERROR(IF(AND('Vegetation Continued, 4 Strata'!AF22=\"YES\",OR('Vegetation Continued, 4 Strata'!AL22=\"UPL\",'Vegetation Continued, 4 Strata'!AL22=\"FACU\",'Vegetation Continued, 4 Strata'!AL22=\"FAC\")),FALSE,TRUE),TRUE)","v":true},{"$f":"IFERROR(IF('Vegetation Continued, 4 Strata'!AL22=\"obl\",BQ34,0),0)","v":0},{"$f":"IFERROR(IF('Vegetation Continued, 4 Strata'!AL22=\"facw\",BQ34,0),0)","v":0},{"$f":"IFERROR(IF('Vegetation Continued, 4 Strata'!AL22=\"fac\",BQ34,0),0)","v":0},{"$f":"IFERROR(IF('Vegetation Continued, 4 Strata'!AL22=\"facu\",BQ34,0),0)","v":0},{"$f":"IFERROR(IF('Vegetation Continued, 4 Strata'!AL22=\"upl\",BQ34,0),0)","v":0},{"$f":"IFERROR(BQ34/Z$25,0)","v":0},{"$f":"IFERROR(LARGE((BQ$21:BQ$36),14),0)","v":0},{"$f":"IFERROR(CE34/Z$25,0)","v":0},{"$f":"IF(AND(CE34>0,SUM(CF$21:CF33)>0.5),\"\",CE34)","v":0},null,{"$f":"IFERROR(IF(ISNA(MATCH(\"AGCP\",$CH$4:$CH$9,0)),IF(ISNA(MATCH(\"WGC\",$CH$4:$CH$9,0)),\"\",VLOOKUP('Vegetation Continued, 4 Strata'!D22,Plant_List,3,FALSE)),VLOOKUP('Vegetation Continued, 4 Strata'!D22,Plant_List,2,FALSE)),\"\")","v":""}]
[null,"8.",null,"",{"$nulls":27},"",{"$nulls":5},"",{"$nulls":28},"DE",null,{"$f":"IFERROR('Vegetation Continued, 4 Strata'!Z23,0)","v":0},{"$f":"IFERROR(IF(AND('Vegetation Continued, 4 Strata'!AF23=\"Yes\",OR('Vegetation Continued, 4 Strata'!AL23=\"OBL\",'Vegetation Continued, 4 Strata'!AL23=\"FACW\",'Vegetation Continued, 4 Strata'!AL23=\"FAC\")),1,0),0)","v":0},{"$f":"IFERROR(IF('Vegetation Continued, 4 Strata'!AF23=\"Yes\",1,0),0)","v":0},{"$f":"IFERROR(IF(AND('Vegetation Continued, 4 Strata'!AF23=\"Yes\",OR('Vegetation Continued, 4 Strata'!AL23=\"OBL\",'Vegetation Continued, 4 Strata'!AL23=\"FACW\")),1,0),0)","v":0},{"$f":"IFERROR(IF(AND('Vegetation Continued, 4 Strata'!AF23=\"Yes\",OR('Vegetation Continued, 4 Strata'!AL23=\"UPL\",'Vegetation Continued, 4 Strata'!AL23=\"FACU\")),1,0),0)","v":0},{"$f":"IFERROR(IF(OR('Vegetation Continued, 4 Strata'!AL23=\"OBL\",'Vegetation Continued, 4 Strata'!AL23=\"FACW\"),1,0),0)","v":0},{"$f":"IFERROR(IF(OR('Vegetation Continued, 4 Strata'!AL23=\"UPL\",'Vegetation Continued, 4 Strata'!AL23=\"FACU\"),1,0),0)","v":0},{"$f":"IFERROR(IF(AND('Vegetation Continued, 4 Strata'!AF23=\"YES\",OR('Vegetation Continued, 4 Strata'!AL23=\"UPL\",'Vegetation Continued, 4 Strata'!AL23=\"FACU\",'Vegetation Continued, 4 Strata'!AL23=\"FAC\")),FALSE,TRUE),TRUE)","v":true},{"$f":"IFERROR(IF('Vegetation Continued, 4 Strata'!AL23=\"obl\",BQ35,0),0)","v":0},{"$f":"IFERROR(IF('Vegetation Continued, 4 Strata'!AL23=\"facw\",BQ35,0),0)","v":0},{"$f":"IFERROR(IF('Vegetation Continued, 4 Strata'!AL23=\"fac\",BQ35,0),0)","v":0},{"$f":"IFERROR(IF('Vegetation Continued, 4 Strata'!AL23=\"facu\",BQ35,0),0)","v":0},{"$f":"IFERROR(IF('Vegetation Continued, 4 Strata'!AL23=\"upl\",BQ35,0),0)","v":0},0,{"$f":"IFERROR(LARGE((BQ$21:BQ$36),15),0)","v":0},0,{"$f":"IF(AND(CE35>0,SUM(CF$21:CF34)>0.5),\"\",CE35)","v":0},null,{"$f":"IFERROR(IF(ISNA(MATCH(\"AGCP\",$CH$4:$CH$9,0)),IF(ISNA(MATCH(\"WGC\",$CH$4:$CH$9,0)),\"\",VLOOKUP('Vegetation Continued, 4 Strata'!D23,Plant_List,3,FALSE)),VLOOKUP('Vegetation Continued, 4 Strata'!D23,Plant_List,2,FALSE)),\"\")","v":""}]
[null,"9.",null,"",{"$nulls":27},"",{"$nulls":5},"",{"$nulls":28},"FL",null,{"$f":"IFERROR('Vegetation Continued, 4 Strata'!Z24,0)","v":0},{"$f":"IFERROR(IF(AND('Vegetation Continued, 4 Strata'!AF24=\"Yes\",OR('Vegetation Continued, 4 Strata'!AL24=\"OBL\",'Vegetation Continued, 4 Strata'!AL24=\"FACW\",'Vegetation Continued, 4 Strata'!AL24=\"FAC\")),1,0),0)","v":0},{"$f":"IFERROR(IF('Vegetation Continued, 4 Strata'!AF24=\"Yes\",1,0),0)","v":0},{"$f":"IFERROR(IF(AND('Vegetation Continued, 4 Strata'!AF24=\"Yes\",OR('Vegetation Continued, 4 Strata'!AL24=\"OBL\",'Vegetation Continued, 4 Strata'!AL24=\"FACW\")),1,0),0)","v":0},{"$f":"IFERROR(IF(AND('Vegetation Continued, 4 Strata'!AF24=\"Yes\",OR('Vegetation Continued, 4 Strata'!AL24=\"UPL\",'Vegetation Continued, 4 Strata'!AL24=\"FACU\")),1,0),0)","v":0},{"$f":"IFERROR(IF(OR('Vegetation Continued, 4 Strata'!AL24=\"OBL\",'Vegetation Continued, 4 Strata'!AL24=\"FACW\"),1,0),0)","v":0},{"$f":"IFERROR(IF(OR('Vegetation Continued, 4 Strata'!AL24=\"UPL\",'Vegetation Continued, 4 Strata'!AL24=\"FACU\"),1,0),0)","v":0},{"$f":"IFERROR(IF(AND('Vegetation Continued, 4 Strata'!AF24=\"YES\",OR('Vegetation Continued, 4 Strata'!AL24=\"UPL\",'Vegetation Continued, 4 Strata'!AL24=\"FACU\",'Vegetation Continued, 4 Strata'!AL24=\"FAC\")),FALSE,TRUE),TRUE)","v":true},{"$f":"IFERROR(IF('Vegetation Continued, 4 Strata'!AL24=\"obl\",BQ36,0),0)","v":0},{"$f":"IFERROR(IF('Vegetation Continued, 4 Strata'!AL24=\"facw\",BQ36,0),0)","v":0},{"$f":"IFERROR(IF('Vegetation Continued, 4 Strata'!AL24=\"fac\",BQ36,0),0)","v":0},{"$f":"IFERROR(IF('Vegetation Continued, 4 Strata'!AL24=\"facu\",BQ36,0),0)","v":0},{"$f":"IFERROR(IF('Vegetation Continued, 4 Strata'!AL24=\"upl\",BQ36,0),0)","v":0},0,{"$f":"IFERROR(LARGE((BQ$21:BQ$36),16),0)","v":0},0,{"$f":"IF(AND(CE36>0,SUM(CF$21:CF35)>0.5),\"\",CE36)","v":0},null,{"$f":"IFERROR(IF(ISNA(MATCH(\"AGCP\",$CH$4:$CH$9,0)),IF(ISNA(MATCH(\"WGC\",$CH$4:$CH$9,0)),\"\",VLOOKUP('Vegetation Continued, 4 Strata'!D24,Plant_List,3,FALSE)),VLOOKUP('Vegetation Continued, 4 Strata'!D24,Plant_List,2,FALSE)),\"\")","v":""}]
[null,"10.",{"$nulls":29},"",{"$nulls":5},"",{"$nulls":6},"Herb – All herbaceous (non-woody) plants, regardless of size, and woody plants less than 3.28 ft tall.",{"$nulls":21},"GA"]
[null,"11.",null,"",{"$nulls":27},"",{"$nulls":5},"",{"$nulls":28},"MD",null,{"$f":"Z28","v":0},{"$f":"IF(AND(AF28=\"Yes\",OR(AL28=\"OBL\",AL28=\"FACW\",AL28=\"FAC\")),1,0)","v":0},{"$f":"IF(AF28=\"Yes\",1,0)","v":0},{"$f":"IF(AND(AF28=\"Yes\",OR(AL28=\"OBL\",AL28=\"FACW\")),1,0)","v":0},{"$f":"IF(AND(AF28=\"Yes\",OR(AL28=\"UPL\",AL28=\"FACU\")),1,0)","v":0},{"$f":"IF(OR(AL28=\"OBL\",AL28=\"FACW\"),1,0)","v":0},{"$f":"IF(OR(AL28=\"UPL\",AL28=\"FACU\"),1,0)","v":0},{"$f":"IF(AND(AF28=\"YES\",OR(AL28=\"UPL\",AL28=\"FACU\",AL28=\"FAC\")),FALSE,TRUE)","v":true},{"$f":"IF($AL28=\"obl\",$Z28,0)","v":0},{"$f":"IF($AL28=\"facw\",$Z28,0)","v":0},{"$f":"IF($AL28=\"fac\",$Z28,0)","v":0},{"$f":"IF($AL28=\"facu\",$Z28,0)","v":0},{"$f":"IF($AL28=\"upl\",$Z28,0)","v":0},{"$f":"IFERROR(Z28/Z$40,0)","v":0},{"$f":"IFERROR(LARGE(BQ$38:BQ$61,1),0)","v":0},{"$f":"IFERROR(CE38/$Z$40,0)","v":0},{"$f":"IF(CE38>0,CE38,\"\")","v":""},null,{"$f":"IFERROR(IF(ISNA(MATCH(\"AGCP\",$CH$4:$CH$9,0)),IF(ISNA(MATCH(\"WGC\",$CH$4:$CH$9,0)),\"\",VLOOKUP(D28,Plant_List,3,FALSE)),VLOOKUP(D28,Plant_List,2,FALSE)),\"\")","v":""}]
[null,"12.",null,"",{"$nulls":27},"",{"$nulls":5},"",{"$nulls":28},"NC",null,{"$f":"Z29","v":0},0,0,0,0,0,0,true,0,0,0,0,0,0,{"$f":"IFERROR(LARGE(BQ$38:BQ$61,2),0)","v":0},0,{"$f":"IF(AND(CE39>0,CF38>0.5),\"\",CE39)","v":0},null,""]
[{"$nulls":25},{"$f":"IF(SUM(BQ38:BQ61)>0,SUM(BQ38:BQ61),\"\")","v":""},{"$nulls":4},"=Total Cover",{"$nulls":13},"Woody Vine – All woody vines greater than 3.28 ft in height.",{"$nulls":21},"NJ",null,0,0,0,0,0,0,0,true,0,0,0,0,0,0,{"$f":"IFERROR(LARGE(BQ$38:BQ$61,3),0)","v":0},0,{"$f":"IF(AND(CE40>0,SUM(CF$38:CF39)>0.5),\"\",CE40)","v":0},null,""]
[{"$nulls":13},"50% of total cover:",{"$nulls":8},{"$f":"IFERROR(ROUNDUP(Z40/2,0),\"\")","v":""},{"$nulls":5},"20% of total cover:",{"$nulls":8},{"$f":"IFERROR(ROUNDUP(Z40/5,0),\"\")","v":""},{"$nulls":28},"PA",null,0,0,0,0,0,0,0,true,0,0,0,0,0,0,{"$f":"IFERROR(LARGE(BQ$38:BQ$61,4),0)","v":0},0,{"$f":"IF(AND(CE41>0,SUM(CF$38:CF40)>0.5),\"\",CE41)","v":0},null,""]
[null,"Woody Vine Stratum",{"$nulls":9},"(Plot size:",{"$nulls":11},")",{"$nulls":42},"SC",null,0,0,0,0,0,0,0,true,0,0,0,0,0,0,{"$f":"IFERROR(LARGE(BQ$38:BQ$61,5),0)","v":0},0,{"$f":"IF(AND(CE42>0,SUM(CF$38:CF41)>0.5),\"\",CE42)","v":0},null,""]
[null,"1.",null,"",{"$nulls":27},{"$f":"IF(Z43>0,IF(OR(AND(Z$48<5,Z$13=\"\",Z$25=\"\",Z$40=\"\"),Z$48>=5),IF(AND(ISNA(MATCH(Z43,CG$63:CG$72,0)),CD63<0.2),\"No\",\"Yes\"),\"No\"),\"\")","v":""},{"$nulls":5},{"$f":"IF(CI63=0,\"\",CI63)","v":""},{"$nulls":28},"VA",null,0,0,0,0,0,0,0,true,0,0,0,0,0,0,{"$f":"IFERROR(LARGE(BQ$38:BQ$61,6),0)","v":0},0,{"$f":"IF(AND(CE43>0,SUM(CF$38:CF42)>0.5),\"\",CE43)","v":0},null,""]
[null,"2.",{"$nulls":29},{"$f":"IF(Z44>0,IF(OR(AND(Z$48<5,Z$13=\"\",Z$25=\"\",Z$40=\"\"),Z$48>=5),IF(AND(ISNA(MATCH(Z44,CG$63:CG$72,0)),CD64<0.2),\"No\",\"Yes\"),\"No\"),\"\")","v":""},{"$nulls":5},{"$f":"IF(CI64=0,\"\",CI64)","v":""},{"$nulls":30},0,0,0,0,0,0,0,true,0,0,0,0,0,0,{"$f":"IFERROR(LARGE(BQ$38:BQ$61,7),0)","v":0},0,{"$f":"IF(AND(CE44>0,SUM(CF$38:CF43)>0.5),\"\",CE44)","v":0},null,""]
[null,"3.",{"$nulls":29},"",{"$nulls":5},{"$f":"IF(CI65=0,\"\",CI65)","v":""},{"$nulls":28},"WGC",null,0,0,0,0,0,0,0,true,0,0,0,0,0,0,{"$f":"IFERROR(LARGE(BQ$38:BQ$61,8),0)","v":0},0,{"$f":"IF(AND(CE45>0,SUM(CF$38:CF44)>0.5),\"\",CE45)","v":0},null,""]
[null,"4.",null,"",{"$nulls":27},"",{"$nulls":5},{"$f":"IF(CI66=0,\"\",CI66)","v":""},{"$nulls":28},"IL",null,0,0,0,0,0,0,0,true,0,0,0,0,0,0,{"$f":"IFERROR(LARGE(BQ$38:BQ$61,9),0)","v":0},0,{"$f":"IF(AND(CE46>0,SUM(CF$38:CF45)>0.5),\"\",CE46)","v":0},null,""]
[null,"5.",null,"",{"$nulls":27},"",{"$nulls":5},{"$f":"IF(CI67=0,\"\",CI67)","v":""},{"$nulls":6},"Hydrophytic Vegetation Present?",{"$nulls":21},"KY",null,0,0,0,0,0,0,0,true,0,0,0,0,0,0,{"$f":"IFERROR(LARGE(BQ$38:BQ$61,10),0)","v":0},0,{"$f":"IF(AND(CE47>0,SUM(CF$38:CF46)>0.5),\"\",CE47)","v":0},null,""]
[{"$nulls":25},{"$f":"IF(SUM(BQ63:BQ72)>0,SUM(BQ63:BQ72),\"\")","v":""},{"$nulls":4},"=Total Cover",{"$nulls":35},"MO",null,0,0,0,0,0,0,0,true,0,0,0,0,0,0,{"$f":"IFERROR(LARGE(BQ$38:BQ$61,11),0)","v":0},0,{"$f":"IF(AND(CE48>0,SUM(CF$38:CF47)>0.5),\"\",CE48)","v":0},null,""]
[{"$nulls":13},"50% of total cover:",{"$nulls":8},{"$f":"IFERROR(ROUNDUP(Z48/2,0),\"\")","v":""},{"$nulls":5},"20% of total cover:",{"$nulls":8},{"$f":"IFERROR(ROUNDUP(Z48/5,0),\"\")","v":""},{"$nulls":12},"Yes",null,null,{"$f":"BO59","v":""},"No",{"$nulls":3},{"$f":"BP59","v":"X"},{"$nulls":7},"TX",null,0,0,0,0,0,0,0,true,0,0,0,0,0,0,{"$f":"IFERROR(LARGE(BQ$38:BQ$61,12),0)","v":0},0,{"$f":"IF(AND(CE49>0,SUM(CF$38:CF48)>0.5),\"\",CE49)","v":0},null,""]
[{"$nulls":68},{"$f":"IFERROR('Vegetation Continued, 4 Strata'!Z28,0)","v":0},{"$f":"IFERROR(IF(AND('Vegetation Continued, 4 Strata'!AF28=\"Yes\",OR('Vegetation Continued, 4 Strata'!AL28=\"OBL\",'Vegetation Continued, 4 Strata'!AL28=\"FACW\",'Vegetation Continued, 4 Strata'!AL28=\"FAC\")),1,0),0)","v":0},{"$f":"IFERROR(IF('Vegetation Continued, 4 Strata'!AF28=\"Yes\",1,0),0)","v":0},{"$f":"IFERROR(IF(AND('Vegetation Continued, 4 Strata'!AF28=\"Yes\",OR('Vegetation Continued, 4 Strata'!AL28=\"OBL\",'Vegetation Continued, 4 Strata'!AL28=\"FACW\")),1,0),0)","v":0},{"$f":"IFERROR(IF(AND('Vegetation Continued, 4 Strata'!AF28=\"Yes\",OR('Vegetation Continued, 4 Strata'!AL28=\"UPL\",'Vegetation Continued, 4 Strata'!AL28=\"FACU\")),1,0),0)","v":0},{"$f":"IFERROR(IF(OR('Vegetation Continued, 4 Strata'!AL28=\"OBL\",'Vegetation Continued, 4 Strata'!AL28=\"FACW\"),1,0),0)","v":0},{"$f":"IFERROR(IF(OR('Vegetation Continued, 4 Strata'!AL28=\"UPL\",'Vegetation Continued, 4 Strata'!AL28=\"FACU\"),1,0),0)","v":0},{"$f":"IFERROR(IF(AND('Vegetation Continued, 4 Strata'!AF28=\"YES\",OR('Vegetation Continued, 4 Strata'!AL28=\"UPL\",'Vegetation Continued, 4 Strata'!AL28=\"FACU\",'Vegetation Continued, 4 Strata'!AL28=\"FAC\")),FALSE,TRUE),TRUE)","v":true},{"$f":"IFERROR(IF('Vegetation Continued, 4 Strata'!AL28=\"obl\",BQ50,0),0)","v":0},{"$f":"IFERROR(IF('Vegetation Continued, 4 Strata'!AL28=\"facw\",BQ50,0),0)","v":0},{"$f":"IFERROR(IF('Vegetation Continued, 4 Strata'!AL28=\"fac\",BQ50,0),0)","v":0},{"$f":"IFERROR(IF('Vegetation Continued, 4 Strata'!AL28=\"facu\",BQ50,0),0)","v":0},{"$f":"IFERROR(IF('Vegetation Continued, 4 Strata'!AL28=\"upl\",BQ50,0),0)","v":0},{"$f":"IFERROR(BQ50/Z$40,0)","v":0},{"$f":"IFERROR(LARGE(BQ$38:BQ$61,13),0)","v":0},{"$f":"IFERROR(CE50/Z$40,0)","v":0},{"$f":"IF(AND(CE50>0,SUM(CF$38:CF49)>0.5),\"\",CE50)","v":0},null,{"$f":"IFERROR(IF(ISNA(MATCH(\"AGCP\",$CH$4:$CH$9,0)),IF(ISNA(MATCH(\"WGC\",$CH$4:$CH$9,0)),\"\",VLOOKUP('Vegetation Continued, 4 Strata'!D28,Plant_List,3,FALSE)),VLOOKUP('Vegetation Continued, 4 Strata'!D28,Plant_List,2,FALSE)),\"\")","v":""}]
[null,"Remarks:  (If observed, list morphological adaptations below.)",{"$nulls":64},"BOTH",null,{"$f":"IFERROR('Vegetation Continued, 4 Strata'!Z29,0)","v":0},{"$f":"IFERROR(IF(AND('Vegetation Continued, 4 Strata'!AF29=\"Yes\",OR('Vegetation Continued, 4 Strata'!AL29=\"OBL\",'Vegetation Continued, 4 Strata'!AL29=\"FACW\",'Vegetation Continued, 4 Strata'!AL29=\"FAC\")),1,0),0)","v":0},{"$f":"IFERROR(IF('Vegetation Continued, 4 Strata'!AF29=\"Yes\",1,0),0)","v":0},{"$f":"IFERROR(IF(AND('Vegetation Continued, 4 Strata'!AF29=\"Yes\",OR('Vegetation Continued, 4 Strata'!AL29=\"OBL\",'Vegetation Continued, 4 Strata'!AL29=\"FACW\")),1,0),0)","v":0},{"$f":"IFERROR(IF(AND('Vegetation Continued, 4 Strata'!AF29=\"Yes\",OR('Vegetation Continued, 4 Strata'!AL29=\"UPL\",'Vegetation Continued, 4 Strata'!AL29=\"FACU\")),1,0),0)","v":0},{"$f":"IFERROR(IF(OR('Vegetation Continued, 4 Strata'!AL29=\"OBL\",'Vegetation Continued, 4 Strata'!AL29=\"FACW\"),1,0),0)","v":0},{"$f":"IFERROR(IF(OR('Vegetation Continued, 4 Strata'!AL29=\"UPL\",'Vegetation Continued, 4 Strata'!AL29=\"FACU\"),1,0),0)","v":0},{"$f":"IFERROR(IF(AND('Vegetation Continued, 4 Strata'!AF29=\"YES\",OR('Vegetation Continued, 4 Strata'!AL29=\"UPL\",'Vegetation Continued, 4 Strata'!AL29=\"FACU\",'Vegetation Continued, 4 Strata'!AL29=\"FAC\")),FALSE,TRUE),TRUE)","v":true},{"$f":"IFERROR(IF('Vegetation Continued, 4 Strata'!AL29=\"obl\",BQ51,0),0)","v":0},{"$f":"IFERROR(IF('Vegetation Continued, 4 Strata'!AL29=\"facw\",BQ51,0),0)","v":0},{"$f":"IFERROR(IF('Vegetation Continued, 4 Strata'!AL29=\"fac\",BQ51,0),0)","v":0},{"$f":"IFERROR(IF('Vegetation Continued, 4 Strata'!AL29=\"facu\",BQ51,0),0)","v":0},{"$f":"IFERROR(IF('Vegetation Continued, 4 Strata'!AL29=\"upl\",BQ51,0),0)","v":0},{"$f":"IFERROR(BQ51/Z$40,0)","v":0},{"$f":"IFERROR(LARGE(BQ$38:BQ$61,14),0)","v":0},{"$f":"IFERROR(CE51/Z$40,0)","v":0},{"$f":"IF(AND(CE51>0,SUM(CF$38:CF50)>0.5),\"\",CE51)","v":0},null,{"$f":"IFERROR(IF(ISNA(MATCH(\"AGCP\",$CH$4:$CH$9,0)),IF(ISNA(MATCH(\"WGC\",$CH$4:$CH$9,0)),\"\",VLOOKUP('Vegetation Continued, 4 Strata'!D29,Plant_List,3,FALSE)),VLOOKUP('Vegetation Continued, 4 Strata'!D29,Plant_List,2,FALSE)),\"\")","v":""}]
[{"$nulls":66},"AR",null,{"$f":"IFERROR('Vegetation Continued, 4 Strata'!Z30,0)","v":0},{"$f":"IFERROR(IF(AND('Vegetation Continued, 4 Strata'!AF30=\"Yes\",OR('Vegetation Continued, 4 Strata'!AL30=\"OBL\",'Vegetation Continued, 4 Strata'!AL30=\"FACW\",'Vegetation Continued, 4 Strata'!AL30=\"FAC\")),1,0),0)","v":0},{"$f":"IFERROR(IF('Vegetation Continued, 4 Strata'!AF30=\"Yes\",1,0),0)","v":0},{"$f":"IFERROR(IF(AND('Vegetation Continued, 4 Strata'!AF30=\"Yes\",OR('Vegetation Continued, 4 Strata'!AL30=\"OBL\",'Vegetation Continued, 4 Strata'!AL30=\"FACW\")),1,0),0)","v":0},{"$f":"IFERROR(IF(AND('Vegetation Continued, 4 Strata'!AF30=\"Yes\",OR('Vegetation Continued, 4 Strata'!AL30=\"UPL\",'Vegetation Continued, 4 Strata'!AL30=\"FACU\")),1,0),0)","v":0},{"$f":"IFERROR(IF(OR('Vegetation Continued, 4 Strata'!AL30=\"OBL\",'Vegetation Continued, 4 Strata'!AL30=\"FACW\"),1,0),0)","v":0},{"$f":"IFERROR(IF(OR('Vegetation Continued, 4 Strata'!AL30=\"UPL\",'Vegetation Continued, 4 Strata'!AL30=\"FACU\"),1,0),0)","v":0},{"$f":"IFERROR(IF(AND('Vegetation Continued, 4 Strata'!AF30=\"YES\",OR('Vegetation Continued, 4 Strata'!AL30=\"UPL\",'Vegetation Continued, 4 Strata'!AL30=\"FACU\",'Vegetation Continued, 4 Strata'!AL30=\"FAC\")),FALSE,TRUE),TRUE)","v":true},{"$f":"IFERROR(IF('Vegetation Continued, 4 Strata'!AL30=\"obl\",BQ52,0),0)","v":0},{"$f":"IFERROR(IF('Vegetation Continued, 4 Strata'!AL30=\"facw\",BQ52,0),0)","v":0},{"$f":"IFERROR(IF('Vegetation Continued, 4 Strata'!AL30=\"fac\",BQ52,0),0)","v":0},{"$f":"IFERROR(IF('Vegetation Continued, 4 Strata'!AL30=\"facu\",BQ52,0),0)","v":0},{"$f":"IFERROR(IF('Vegetation Continued, 4 Strata'!AL30=\"upl\",BQ52,0),0)","v":0},0,{"$f":"IFERROR(LARGE(BQ$38:BQ$61,15),0)","v":0},0,{"$f":"IF(AND(CE52>0,SUM(CF$38:CF51)>0.5),\"\",CE52)","v":0},null,{"$f":"IFERROR(IF(ISNA(MATCH(\"AGCP\",$CH$4:$CH$9,0)),IF(ISNA(MATCH(\"WGC\",$CH$4:$CH$9,0)),\"\",VLOOKUP('Vegetation Continued, 4 Strata'!D30,Plant_List,3,FALSE)),VLOOKUP('Vegetation Continued, 4 Strata'!D30,Plant_List,2,FALSE)),\"\")","v":""}]
[{"$nulls":66},"LA",null,{"$f":"IFERROR('Vegetation Continued, 4 Strata'!Z31,0)","v":0},{"$f":"IFERROR(IF(AND('Vegetation Continued, 4 Strata'!AF31=\"Yes\",OR('Vegetation Continued, 4 Strata'!AL31=\"OBL\",'Vegetation Continued, 4 Strata'!AL31=\"FACW\",'Vegetation Continued, 4 Strata'!AL31=\"FAC\")),1,0),0)","v":0},{"$f":"IFERROR(IF('Vegetation Continued, 4 Strata'!AF31=\"Yes\",1,0),0)","v":0},{"$f":"IFERROR(IF(AND('Vegetation Continued, 4 Strata'!AF31=\"Yes\",OR('Vegetation Continued, 4 Strata'!AL31=\"OBL\",'Vegetation Continued, 4 Strata'!AL31=\"FACW\")),1,0),0)","v":0},{"$f":"IFERROR(IF(AND('Vegetation Continued, 4 Strata'!AF31=\"Yes\",OR('Vegetation Continued, 4 Strata'!AL31=\"UPL\",'Vegetation Continued, 4 Strata'!AL31=\"FACU\")),1,0),0)","v":0},{"$f":"IFERROR(IF(OR('Vegetation Continued, 4 Strata'!AL31=\"OBL\",'Vegetation Continued, 4 Strata'!AL31=\"FACW\"),1,0),0)","v":0},{"$f":"IFERROR(IF(OR('Vegetation Continued, 4 Strata'!AL31=\"UPL\",'Vegetation Continued, 4 Strata'!AL31=\"FACU\"),1,0),0)","v":0},{"$f":"IFERROR(IF(AND('Vegetation Continued, 4 Strata'!AF31=\"YES\",OR('Vegetation Continued, 4 Strata'!AL31=\"UPL\",'Vegetation Continued, 4 Strata'!AL31=\"FACU\",'Vegetation Continued, 4 Strata'!AL31=\"FAC\")),FALSE,TRUE),TRUE)","v":true},{"$f":"IFERROR(IF('Vegetation Continued, 4 Strata'!AL31=\"obl\",BQ53,0),0)","v":0},{"$f":"IFERROR(IF('Vegetation Continued, 4 Strata'!AL31=\"facw\",BQ53,0),0)","v":0},{"$f":"IFERROR(IF('Vegetation Continued, 4 Strata'!AL31=\"fac\",BQ53,0),0)","v":0},{"$f":"IFERROR(IF('Vegetation Continued, 4 Strata'!AL31=\"facu\",BQ53,0),0)","v":0},{"$f":"IFERROR(IF('Vegetation Continued, 4 Strata'!AL31=\"upl\",BQ53,0),0)","v":0},0,{"$f":"IFERROR(LARGE(BQ$38:BQ$61,16),0)","v":0},0,{"$f":"IF(AND(CE53>0,SUM(CF$38:CF52)>0.5),\"\",CE53)","v":0},null,{"$f":"IFERROR(IF(ISNA(MATCH(\"AGCP\",$CH$4:$CH$9,0)),IF(ISNA(MATCH(\"WGC\",$CH$4:$CH$9,0)),\"\",VLOOKUP('Vegetation Continued, 4 Strata'!D31,Plant_List,3,FALSE)),VLOOKUP('Vegetation Continued, 4 Strata'!D31,Plant_List,2,FALSE)),\"\")","v":""}]
[{"$nulls":66},"MS",null,{"$f":"IFERROR('Vegetation Continued, 4 Strata'!Z32,0)","v":0},{"$f":"IFERROR(IF(AND('Vegetation Continued, 4 Strata'!AF32=\"Yes\",OR('Vegetation Continued, 4 Strata'!AL32=\"OBL\",'Vegetation Continued, 4 Strata'!AL32=\"FACW\",'Vegetation Continued, 4 Strata'!AL32=\"FAC\")),1,0),0)","v":0},{"$f":"IFERROR(IF('Vegetation Continued, 4 Strata'!AF32=\"Yes\",1,0),0)","v":0},{"$f":"IFERROR(IF(AND('Vegetation Continued, 4 Strata'!AF32=\"Yes\",OR('Vegetation Continued, 4 Strata'!AL32=\"OBL\",'Vegetation Continued, 4 Strata'!AL32=\"FACW\")),1,0),0)","v":0},{"$f":"IFERROR(IF(AND('Vegetation Continued, 4 Strata'!AF32=\"Yes\",OR('Vegetation Continued, 4 Strata'!AL32=\"UPL\",'Vegetation Continued, 4 Strata'!AL32=\"FACU\")),1,0),0)","v":0},{"$f":"IFERROR(IF(OR('Vegetation Continued, 4 Strata'!AL32=\"OBL\",'Vegetation Continued, 4 Strata'!AL32=\"FACW\"),1,0),0)","v":0},{"$f":"IFERROR(IF(OR('Vegetation Continued, 4 Strata'!AL32=\"UPL\",'Vegetation Continued, 4 Strata'!AL32=\"FACU\"),1,0),0)","v":0},{"$f":"IFERROR(IF(AND('Vegetation Continued, 4 Strata'!AF32=\"YES\",OR('Vegetation Continued, 4 Strata'!AL32=\"UPL\",'Vegetation Continued, 4 Strata'!AL32=\"FACU\",'Vegetation Continued, 4 Strata'!AL32=\"FAC\")),FALSE,TRUE),TRUE)","v":true},{"$f":"IFERROR(IF('Vegetation Continued, 4 Strata'!AL32=\"obl\",BQ54,0),0)","v":0},{"$f":"IFERROR(IF('Vegetation Continued, 4 Strata'!AL32=\"facw\",BQ54,0),0)","v":0},{"$f":"IFERROR(IF('Vegetation Continued, 4 Strata'!AL32=\"fac\",BQ54,0),0)","v":0},{"$f":"IFERROR(IF('Vegetation Continued, 4 Strata'!AL32=\"facu\",BQ54,0),0)","v":0},{"$f":"IFERROR(IF('Vegetation Continued, 4 Strata'!AL32=\"upl\",BQ54,0),0)","v":0},0,{"$f":"IFERROR(LARGE(BQ$38:BQ$61,17),0)","v":0},0,{"$f":"IF(AND(CE54>0,SUM(CF$38:CF53)>0.5),\"\",CE54)","v":0},null,{"$f":"IFERROR(IF(ISNA(MATCH(\"AGCP\",$CH$4:$CH$9,0)),IF(ISNA(MATCH(\"WGC\",$CH$4:$CH$9,0)),\"\",VLOOKUP('Vegetation Continued, 4 Strata'!D32,Plant_List,3,FALSE)),VLOOKUP('Vegetation Continued, 4 Strata'!D32,Plant_List,2,FALSE)),\"\")","v":""}]
[{"$nulls":66},"OK",null,{"$f":"IFERROR('Vegetation Continued, 4 Strata'!Z33,0)","v":0},{"$f":"IFERROR(IF(AND('Vegetation Continued, 4 Strata'!AF33=\"Yes\",OR('Vegetation Continued, 4 Strata'!AL33=\"OBL\",'Vegetation Continued, 4 Strata'!AL33=\"FACW\",'Vegetation Continued, 4 Strata'!AL33=\"FAC\")),1,0),0)","v":0},{"$f":"IFERROR(IF('Vegetation Continued, 4 Strata'!AF33=\"Yes\",1,0),0)","v":0},{"$f":"IFERROR(IF(AND('Vegetation Continued, 4 Strata'!AF33=\"Yes\",OR('Vegetation Continued, 4 Strata'!AL33=\"OBL\",'Vegetation Continued, 4 Strata'!AL33=\"FACW\")),1,0),0)","v":0},{"$f":"IFERROR(IF(AND('Vegetation Continued, 4 Strata'!AF33=\"Yes\",OR('Vegetation Continued, 4 Strata'!AL33=\"UPL\",'Vegetation Continued, 4 Strata'!AL33=\"FACU\")),1,0),0)","v":0},{"$f":"IFERROR(IF(OR('Vegetation Continued, 4 Strata'!AL33=\"OBL\",'Vegetation Continued, 4 Strata'!AL33=\"FACW\"),1,0),0)","v":0},{"$f":"IFERROR(IF(OR('Vegetation Continued, 4 Strata'!AL33=\"UPL\",'Vegetation Continued, 4 Strata'!AL33=\"FACU\"),1,0),0)","v":0},{"$f":"IFERROR(IF(AND('Vegetation Continued, 4 Strata'!AF33=\"YES\",OR('Vegetation Continued, 4 Strata'!AL33=\"UPL\",'Vegetation Continued, 4 Strata'!AL33=\"FACU\",'Vegetation Continued, 4 Strata'!AL33=\"FAC\")),FALSE,TRUE),TRUE)","v":true},{"$f":"IFERROR(IF('Vegetation Continued, 4 Strata'!AL33=\"obl\",BQ55,0),0)","v":0},{"$f":"IFERROR(IF('Vegetation Continued, 4 Strata'!AL33=\"facw\",BQ55,0),0)","v":0},{"$f":"IFERROR(IF('Vegetation Continued, 4 Strata'!AL33=\"fac\",BQ55,0),0)","v":0},{"$f":"IFERROR(IF('Vegetation Continued, 4 Strata'!AL33=\"facu\",BQ55,0),0)","v":0},{"$f":"IFERROR(IF('Vegetation Continued, 4 Strata'!AL33=\"upl\",BQ55,0),0)","v":0},0,{"$f":"IFERROR(LARGE(BQ$38:BQ$61,18),0)","v":0},0,{"$f":"IF(AND(CE55>0,SUM(CF$38:CF54)>0.5),\"\",CE55)","v":0},null,{"$f":"IFERROR(IF(ISNA(MATCH(\"AGCP\",$CH$4:$CH$9,0)),IF(ISNA(MATCH(\"WGC\",$CH$4:$CH$9,0)),\"\",VLOOKUP('Vegetation Continued, 4 Strata'!D33,Plant_List,3,FALSE)),VLOOKUP('Vegetation Continued, 4 Strata'!D33,Plant_List,2,FALSE)),\"\")","v":""}]
[{"$nulls":66},"TN",null,{"$f":"IFERROR('Vegetation Continued, 4 Strata'!Z34,0)","v":0},{"$f":"IFERROR(IF(AND('Vegetation Continued, 4 Strata'!AF34=\"Yes\",OR('Vegetation Continued, 4 Strata'!AL34=\"OBL\",'Vegetation Continued, 4 Strata'!AL34=\"FACW\",'Vegetation Continued, 4 Strata'!AL34=\"FAC\")),1,0),0)","v":0},{"$f":"IFERROR(IF('Vegetation Continued, 4 Strata'!AF34=\"Yes\",1,0),0)","v":0},{"$f":"IFERROR(IF(AND('Vegetation Continued, 4 Strata'!AF34=\"Yes\",OR('Vegetation Continued, 4 Strata'!AL34=\"OBL\",'Vegetation Continued, 4 Strata'!AL34=\"FACW\")),1,0),0)","v":0},{"$f":"IFERROR(IF(AND('Vegetation Continued, 4 Strata'!AF34=\"Yes\",OR('Vegetation Continued, 4 Strata'!AL34=\"UPL\",'Vegetation Continued, 4 Strata'!AL34=\"FACU\")),1,0),0)","v":0},{"$f":"IFERROR(IF(OR('Vegetation Continued, 4 Strata'!AL34=\"OBL\",'Vegetation Continued, 4 Strata'!AL34=\"FACW\"),1,0),0)","v":0},{"$f":"IFERROR(IF(OR('Vegetation Continued, 4 Strata'!AL34=\"UPL\",'Vegetation Continued, 4 Strata'!AL34=\"FACU\"),1,0),0)","v":0},{"$f":"IFERROR(IF(AND('Vegetation Continued, 4 Strata'!AF34=\"YES\",OR('Vegetation Continued, 4 Strata'!AL34=\"UPL\",'Vegetation Continued, 4 Strata'!AL34=\"FACU\",'Vegetation Continued, 4 Strata'!AL34=\"FAC\")),FALSE,TRUE),TRUE)","v":true},{"$f":"IFERROR(IF('Vegetation Continued, 4 Strata'!AL34=\"obl\",BQ56,0),0)","v":0},{"$f":"IFERROR(IF('Vegetation Continued, 4 Strata'!AL34=\"facw\",BQ56,0),0)","v":0},{"$f":"IFERROR(IF('Vegetation Continued, 4 Strata'!AL34=\"fac\",BQ56,0),0)","v":0},{"$f":"IFERROR(IF('Vegetation Continued, 4 Strata'!AL34=\"facu\",BQ56,0),0)","v":0},{"$f":"IFERROR(IF('Vegetation Continued, 4 Strata'!AL34=\"upl\",BQ56,0),0)","v":0},0,{"$f":"IFERROR(LARGE(BQ$38:BQ$61,19),0)","v":0},0,{"$f":"IF(AND(CE56>0,SUM(CF$38:CF55)>0.5),\"\",CE56)","v":0},null,{"$f":"IFERROR(IF(ISNA(MATCH(\"AGCP\",$CH$4:$CH$9,0)),IF(ISNA(MATCH(\"WGC\",$CH$4:$CH$9,0)),\"\",VLOOKUP('Vegetation Continued, 4 Strata'!D34,Plant_List,3,FALSE)),VLOOKUP('Vegetation Continued, 4 Strata'!D34,Plant_List,2,FALSE)),\"\")","v":""}]
["ENG FORM 6116-2, JUL 2018",{"$nulls":46},"Atlantic and Gulf Coastal Plain – Version 2.0",{"$nulls":20},{"$f":"IFERROR('Vegetation Continued, 4 Strata'!Z35,0)","v":0},{"$f":"IFERROR(IF(AND('Vegetation Continued, 4 Strata'!AF35=\"Yes\",OR('Vegetation Continued, 4 Strata'!AL35=\"OBL\",'Vegetation Continued, 4 Strata'!AL35=\"FACW\",'Vegetation Continued, 4 Strata'!AL35=\"FAC\")),1,0),0)","v":0},{"$f":"IFERROR(IF('Vegetation Continued, 4 Strata'!AF35=\"Yes\",1,0),0)","v":0},{"$f":"IFERROR(IF(AND('Vegetation Continued, 4 Strata'!AF35=\"Yes\",OR('Vegetation Continued, 4 Strata'!AL35=\"OBL\",'Vegetation Continued, 4 Strata'!AL35=\"FACW\")),1,0),0)","v":0},{"$f":"IFERROR(IF(AND('Vegetation Continued, 4 Strata'!AF35=\"Yes\",OR('Vegetation Continued, 4 Strata'!AL35=\"UPL\",'Vegetation Continued, 4 Strata'!AL35=\"FACU\")),1,0),0)","v":0},{"$f":"IFERROR(IF(OR('Vegetation Continued, 4 Strata'!AL35=\"OBL\",'Vegetation Continued, 4 Strata'!AL35=\"FACW\"),1,0),0)","v":0},{"$f":"IFERROR(IF(OR('Vegetation Continued, 4 Strata'!AL35=\"UPL\",'Vegetation Continued, 4 Strata'!AL35=\"FACU\"),1,0),0)","v":0},{"$f":"IFERROR(IF(AND('Vegetation Continued, 4 Strata'!AF35=\"YES\",OR('Vegetation Continued, 4 Strata'!AL35=\"UPL\",'Vegetation Continued, 4 Strata'!AL35=\"FACU\",'Vegetation Continued, 4 Strata'!AL35=\"FAC\")),FALSE,TRUE),TRUE)","v":true},{"$f":"IFERROR(IF('Vegetation Continued, 4 Strata'!AL35=\"obl\",BQ57,0),0)","v":0},{"$f":"IFERROR(IF('Vegetation Continued, 4 Strata'!AL35=\"facw\",BQ57,0),0)","v":0},{"$f":"IFERROR(IF('Vegetation Continued, 4 Strata'!AL35=\"fac\",BQ57,0),0)","v":0},{"$f":"IFERROR(IF('Vegetation Continued, 4 Strata'!AL35=\"facu\",BQ57,0),0)","v":0},{"$f":"IFERROR(IF('Vegetation Continued, 4 Strata'!AL35=\"upl\",BQ57,0),0)","v":0},0,{"$f":"IFERROR(LARGE(BQ$38:BQ$61,20),0)","v":0},0,{"$f":"IF(AND(CE57>0,SUM(CF$38:CF56)>0.5),\"\",CE57)","v":0},null,{"$f":"IFERROR(IF(ISNA(MATCH(\"AGCP\",$CH$4:$CH$9,0)),IF(ISNA(MATCH(\"WGC\",$CH$4:$CH$9,0)),\"\",VLOOKUP('Vegetation Continued, 4 Strata'!D35,Plant_List,3,FALSE)),VLOOKUP('Vegetation Continued, 4 Strata'!D35,Plant_List,2,FALSE)),\"\")","v":""}]
[{"$nulls":66},"Hydrophytic Vegetation Present",null,{"$f":"IFERROR('Vegetation Continued, 4 Strata'!Z36,0)","v":0},{"$f":"IFERROR(IF(AND('Vegetation Continued, 4 Strata'!AF36=\"Yes\",OR('Vegetation Continued, 4 Strata'!AL36=\"OBL\",'Vegetation Continued, 4 Strata'!AL36=\"FACW\",'Vegetation Continued, 4 Strata'!AL36=\"FAC\")),1,0),0)","v":0},{"$f":"IFERROR(IF('Vegetation Continued, 4 Strata'!AF36=\"Yes\",1,0),0)","v":0},{"$f":"IFERROR(IF(AND('Vegetation Continued, 4 Strata'!AF36=\"Yes\",OR('Vegetation Continued, 4 Strata'!AL36=\"OBL\",'Vegetation Continued, 4 Strata'!AL36=\"FACW\")),1,0),0)","v":0},{"$f":"IFERROR(IF(AND('Vegetation Continued, 4 Strata'!AF36=\"Yes\",OR('Vegetation Continued, 4 Strata'!AL36=\"UPL\",'Vegetation Continued, 4 Strata'!AL36=\"FACU\")),1,0),0)","v":0},{"$f":"IFERROR(IF(OR('Vegetation Continued, 4 Strata'!AL36=\"OBL\",'Vegetation Continued, 4 Strata'!AL36=\"FACW\"),1,0),0)","v":0},{"$f":"IFERROR(IF(OR('Vegetation Continued, 4 Strata'!AL36=\"UPL\",'Vegetation Continued, 4 Strata'!AL36=\"FACU\"),1,0),0)","v":0},{"$f":"IFERROR(IF(AND('Vegetation Continued, 4 Strata'!AF36=\"YES\",OR('Vegetation Continued, 4 Strata'!AL36=\"UPL\",'Vegetation Continued, 4 Strata'!AL36=\"FACU\",'Vegetation Continued, 4 Strata'!AL36=\"FAC\")),FALSE,TRUE),TRUE)","v":true},{"$f":"IFERROR(IF('Vegetation Continued, 4 Strata'!AL36=\"obl\",BQ58,0),0)","v":0},{"$f":"IFERROR(IF('Vegetation Continued, 4 Strata'!AL36=\"facw\",BQ58,0),0)","v":0},{"$f":"IFERROR(IF('Vegetation Continued, 4 Strata'!AL36=\"fac\",BQ58,0),0)","v":0},{"$f":"IFERROR(IF('Vegetation Continued, 4 Strata'!AL36=\"facu\",BQ58,0),0)","v":0},{"$f":"IFERROR(IF('Vegetation Continued, 4 Strata'!AL36=\"upl\",BQ58,0),0)","v":0},0,{"$f":"IFERROR(LARGE(BQ$38:BQ$61,21),0)","v":0},0,{"$f":"IF(AND(CE58>0,SUM(CF$38:CF57)>0.5),\"\",CE58)","v":0},null,{"$f":"IFERROR(IF(ISNA(MATCH(\"AGCP\",$CH$4:$CH$9,0)),IF(ISNA(MATCH(\"WGC\",$CH$4:$CH$9,0)),\"\",VLOOKUP('Vegetation Continued, 4 Strata'!D36,Plant_List,3,FALSE)),VLOOKUP('Vegetation Continued, 4 Strata'!D36,Plant_List,2,FALSE)),\"\")","v":""}]
[{"$nulls":66},{"$f":"IF(OR(AS22=\"X\",AS23=\"X\",AS24=\"X\"),\"X\",\"\")","v":""},{"$f":"IF(OR('Page 1 (Hydrology)'!H9=\"X\",'Page 1 (Hydrology)'!H9=\"Yes\",'Page 1 (Hydrology)'!H9=\"Y\",'Page 1 (Hydrology)'!H10=\"X\",'Page 1 (Hydrology)'!H10=\"Yes\",'Page 1 (Hydrology)'!H10=\"Y\",ISTEXT(AS25)),\"\",IF(AND(BB49=\"\",'Page 1 (Hydrology)'!Q12=\"\"),\"X\",\"\"))","v":"X"},{"$f":"IFERROR('Vegetation Continued, 4 Strata'!Z37,0)","v":0},{"$f":"IFERROR(IF(AND('Vegetation Continued, 4 Strata'!AF37=\"Yes\",OR('Vegetation Continued, 4 Strata'!AL37=\"OBL\",'Vegetation Continued, 4 Strata'!AL37=\"FACW\",'Vegetation Continued, 4 Strata'!AL37=\"FAC\")),1,0),0)","v":0},{"$f":"IFERROR(IF('Vegetation Continued, 4 Strata'!AF37=\"Yes\",1,0),0)","v":0},{"$f":"IFERROR(IF(AND('Vegetation Continued, 4 Strata'!AF37=\"Yes\",OR('Vegetation Continued, 4 Strata'!AL37=\"OBL\",'Vegetation Continued, 4 Strata'!AL37=\"FACW\")),1,0),0)","v":0},{"$f":"IFERROR(IF(AND('Vegetation Continued, 4 Strata'!AF37=\"Yes\",OR('Vegetation Continued, 4 Strata'!AL37=\"UPL\",'Vegetation Continued, 4 Strata'!AL37=\"FACU\")),1,0),0)","v":0},{"$f":"IFERROR(IF(OR('Vegetation Continued, 4 Strata'!AL37=\"OBL\",'Vegetation Continued, 4 Strata'!AL37=\"FACW\"),1,0),0)","v":0},{"$f":"IFERROR(IF(OR('Vegetation Continued, 4 Strata'!AL37=\"UPL\",'Vegetation Continued, 4 Strata'!AL37=\"FACU\"),1,0),0)","v":0},{"$f":"IFERROR(IF(AND('Vegetation Continued, 4 Strata'!AF37=\"YES\",OR('Vegetation Continued, 4 Strata'!AL37=\"UPL\",'Vegetation Continued, 4 Strata'!AL37=\"FACU\",'Vegetation Continued, 4 Strata'!AL37=\"FAC\")),FALSE,TRUE),TRUE)","v":true},{"$f":"IFERROR(IF('Vegetation Continued, 4 Strata'!AL37=\"obl\",BQ59,0),0)","v":0},{"$f":"IFERROR(IF('Vegetation Continued, 4 Strata'!AL37=\"facw\",BQ59,0),0)","v":0},{"$f":"IFERROR(IF('Vegetation Continued, 4 Strata'!AL37=\"fac\",BQ59,0),0)","v":0},{"$f":"IFERROR(IF('Vegetation Continued, 4 Strata'!AL37=\"facu\",BQ59,0),0)","v":0},{"$f":"IFERROR(IF('Vegetation Continued, 4 Strata'!AL37=\"upl\",BQ59,0),0)","v":0},0,{"$f":"IFERROR(LARGE(BQ$38:BQ$61,22),0)","v":0},0,{"$f":"IF(AND(CE59>0,SUM(CF$38:CF58)>0.5),\"\",CE59)","v":0},null,{"$f":"IFERROR(IF(ISNA(MATCH(\"AGCP\",$CH$4:$CH$9,0)),IF(ISNA(MATCH(\"WGC\",$CH$4:$CH$9,0)),\"\",VLOOKUP('Vegetation Continued, 4 Strata'!D37,Plant_List,3,FALSE)),VLOOKUP('Vegetation Continued, 4 Strata'!D37,Plant_List,2,FALSE)),\"\")","v":""}]
[{"$nulls":68},{"$f":"IFERROR('Vegetation Continued, 4 Strata'!Z38,0)","v":0},{"$f":"IFERROR(IF(AND('Vegetation Continued, 4 Strata'!AF38=\"Yes\",OR('Vegetation Continued, 4 Strata'!AL38=\"OBL\",'Vegetation Continued, 4 Strata'!AL38=\"FACW\",'Vegetation Continued, 4 Strata'!AL38=\"FAC\")),1,0),0)","v":0},{"$f":"IFERROR(IF('Vegetation Continued, 4 Strata'!AF38=\"Yes\",1,0),0)","v":0},{"$f":"IFERROR(IF(AND('Vegetation Continued, 4 Strata'!AF38=\"Yes\",OR('Vegetation Continued, 4 Strata'!AL38=\"OBL\",'Vegetation Continued, 4 Strata'!AL38=\"FACW\")),1,0),0)","v":0},{"$f":"IFERROR(IF(AND('Vegetation Continued, 4 Strata'!AF38=\"Yes\",OR('Vegetation Continued, 4 Strata'!AL38=\"UPL\",'Vegetation Continued, 4 Strata'!AL38=\"FACU\")),1,0),0)","v":0},{"$f":"IFERROR(IF(OR('Vegetation Continued, 4 Strata'!AL38=\"OBL\",'Vegetation Continued, 4 Strata'!AL38=\"FACW\"),1,0),0)","v":0},{"$f":"IFERROR(IF(OR('Vegetation Continued, 4 Strata'!AL38=\"UPL\",'Vegetation Continued, 4 Strata'!AL38=\"FACU\"),1,0),0)","v":0},{"$f":"IFERROR(IF(AND('Vegetation Continued, 4 Strata'!AF38=\"YES\",OR('Vegetation Continued, 4 Strata'!AL38=\"UPL\",'Vegetation Continued, 4 Strata'!AL38=\"FACU\",'Vegetation Continued, 4 Strata'!AL38=\"FAC\")),FALSE,TRUE),TRUE)","v":true},{"$f":"IFERROR(IF('Vegetation Continued, 4 Strata'!AL38=\"obl\",BQ60,0),0)","v":0},{"$f":"IFERROR(IF('Vegetation Continued, 4 Strata'!AL38=\"facw\",BQ60,0),0)","v":0},{"$f":"IFERROR(IF('Vegetation Continued, 4 Strata'!AL38=\"fac\",BQ60,0),0)","v":0},{"$f":"IFERROR(IF('Vegetation Continued, 4 Strata'!AL38=\"facu\",BQ60,0),0)","v":0},{"$f":"IFERROR(IF('Vegetation Continued, 4 Strata'!AL38=\"upl\",BQ60,0),0)","v":0},0,{"$f":"IFERROR(LARGE(BQ$38:BQ$61,23),0)","v":0},0,{"$f":"IF(AND(CE60>0,SUM(CF$38:CF59)>0.5),\"\",CE60)","v":0},null,{"$f":"IFERROR(IF(ISNA(MATCH(\"AGCP\",$CH$4:$CH$9,0)),IF(ISNA(MATCH(\"WGC\",$CH$4:$CH$9,0)),\"\",VLOOKUP('Vegetation Continued, 4 Strata'!D38,Plant_List,3,FALSE)),VLOOKUP('Vegetation Continued, 4 Strata'!D38,Plant_List,2,FALSE)),\"\")","v":""}]
[{"$nulls":66},"AR AGCP",null,{"$f":"IFERROR('Vegetation Continued, 4 Strata'!Z39,0)","v":0},{"$f":"IFERROR(IF(AND('Vegetation Continued, 4 Strata'!AF39=\"Yes\",OR('Vegetation Continued, 4 Strata'!AL39=\"OBL\",'Vegetation Continued, 4 Strata'!AL39=\"FACW\",'Vegetation Continued, 4 Strata'!AL39=\"FAC\")),1,0),0)","v":0},{"$f":"IFERROR(IF('Vegetation Continued, 4 Strata'!AF39=\"Yes\",1,0),0)","v":0},{"$f":"IFERROR(IF(AND('Vegetation Continued, 4 Strata'!AF39=\"Yes\",OR('Vegetation Continued, 4 Strata'!AL39=\"OBL\",'Vegetation Continued, 4 Strata'!AL39=\"FACW\")),1,0),0)","v":0},{"$f":"IFERROR(IF(AND('Vegetation Continued, 4 Strata'!AF39=\"Yes\",OR('Vegetation Continued, 4 Strata'!AL39=\"UPL\",'Vegetation Continued, 4 Strata'!AL39=\"FACU\")),1,0),0)","v":0},{"$f":"IFERROR(IF(OR('Vegetation Continued, 4 Strata'!AL39=\"OBL\",'Vegetation Continued, 4 Strata'!AL39=\"FACW\"),1,0),0)","v":0},{"$f":"IFERROR(IF(OR('Vegetation Continued, 4 Strata'!AL39=\"UPL\",'Vegetation Continued, 4 Strata'!AL39=\"FACU\"),1,0),0)","v":0},{"$f":"IFERROR(IF(AND('Vegetation Continued, 4 Strata'!AF39=\"YES\",OR('Vegetation Continued, 4 Strata'!AL39=\"UPL\",'Vegetation Continued, 4 Strata'!AL39=\"FACU\",'Vegetation Continued, 4 Strata'!AL39=\"FAC\")),FALSE,TRUE),TRUE)","v":true},{"$f":"IFERROR(IF('Vegetation Continued, 4 Strata'!AL39=\"obl\",BQ61,0),0)","v":0},{"$f":"IFERROR(IF('Vegetation Continued, 4 Strata'!AL39=\"facw\",BQ61,0),0)","v":0},{"$f":"IFERROR(IF('Vegetation Continued, 4 Strata'!AL39=\"fac\",BQ61,0),0)","v":0},{"$f":"IFERROR(IF('Vegetation Continued, 4 Strata'!AL39=\"facu\",BQ61,0),0)","v":0},{"$f":"IFERROR(IF('Vegetation Continued, 4 Strata'!AL39=\"upl\",BQ61,0),0)","v":0},0,{"$f":"IFERROR(LARGE(BQ$38:BQ$61,24),0)","v":0},0,{"$f":"IF(AND(CE61>0,SUM(CF$38:CF60)>0.5),\"\",CE61)","v":0},null,{"$f":"IFERROR(IF(ISNA(MATCH(\"AGCP\",$CH$4:$CH$9,0)),IF(ISNA(MATCH(\"WGC\",$CH$4:$CH$9,0)),\"\",VLOOKUP('Vegetation Continued, 4 Strata'!D39,Plant_List,3,FALSE)),VLOOKUP('Vegetation Continued, 4 Strata'!D39,Plant_List,2,FALSE)),\"\")","v":""}]
[{"$nulls":66},"LRR P, MLRA 135B"]
[{"$nulls":66},"AR WGC",null,{"$f":"Z43","v":0},{"$f":"IF(AND(AF43=\"Yes\",OR(AL43=\"OBL\",AL43=\"FACW\",AL43=\"FAC\")),1,0)","v":0},{"$f":"IF(AF43=\"Yes\",1,0)","v":0},{"$f":"IF(AND(AF43=\"Yes\",OR(AL43=\"OBL\",AL43=\"FACW\")),1,0)","v":0},{"$f":"IF(AND(AF43=\"Yes\",OR(AL43=\"UPL\",AL43=\"FACU\")),1,0)","v":0},{"$f":"IF(OR(AL43=\"OBL\",AL43=\"FACW\"),1,0)","v":0},{"$f":"IF(OR(AL43=\"UPL\",AL43=\"FACU\"),1,0)","v":0},{"$f":"IF(AND(AF43=\"YES\",OR(AL43=\"UPL\",AL43=\"FACU\",AL43=\"FAC\")),FALSE,TRUE)","v":true},{"$f":"IF($AL43=\"obl\",$Z43,0)","v":0},{"$f":"IF($AL43=\"facw\",$Z43,0)","v":0},{"$f":"IF($AL43=\"fac\",$Z43,0)","v":0},{"$f":"IF($AL43=\"facu\",$Z43,0)","v":0},{"$f":"IF($AL43=\"upl\",$Z43,0)","v":0},{"$f":"IFERROR(Z43/Z$48,0)","v":0},{"$f":"IFERROR(LARGE(BQ$63:BQ$72,1),0)","v":0},{"$f":"IFERROR(CE63/$Z$48,0)","v":0},{"$f":"IF(CE63>0,CE63,\"\")","v":""},null,{"$f":"IFERROR(IF(ISNA(MATCH(\"AGCP\",$CH$4:$CH$9,0)),IF(ISNA(MATCH(\"WGC\",$CH$4:$CH$9,0)),\"\",VLOOKUP(D43,Plant_List,3,FALSE)),VLOOKUP(D43,Plant_List,2,FALSE)),\"\")","v":""}]
[{"$nulls":66},"LRR O",null,{"$f":"Z44","v":0},{"$f":"IF(AND(AF44=\"Yes\",OR(AL44=\"OBL\",AL44=\"FACW\",AL44=\"FAC\")),1,0)","v":0},{"$f":"IF(AF44=\"Yes\",1,0)","v":0},{"$f":"IF(AND(AF44=\"Yes\",OR(AL44=\"OBL\",AL44=\"FACW\")),1,0)","v":0},{"$f":"IF(AND(AF44=\"Yes\",OR(AL44=\"UPL\",AL44=\"FACU\")),1,0)","v":0},0,0,true,{"$f":"IF($AL44=\"obl\",$Z44,0)","v":0},{"$f":"IF($AL44=\"facw\",$Z44,0)","v":0},{"$f":"IF($AL44=\"fac\",$Z44,0)","v":0},{"$f":"IF($AL44=\"facu\",$Z44,0)","v":0},{"$f":"IF($AL44=\"upl\",$Z44,0)","v":0},{"$f":"IFERROR(Z44/Z$48,0)","v":0},{"$f":"IFERROR(LARGE(BQ$63:BQ$72,2),0)","v":0},{"$f":"IFERROR(CE64/$Z$48,0)","v":0},{"$f":"IF(AND(CE64>0,CF63>0.5),\"\",CE64)","v":0},null,{"$f":"IFERROR(IF(ISNA(MATCH(\"AGCP\",$CH$4:$CH$9,0)),IF(ISNA(MATCH(\"WGC\",$CH$4:$CH$9,0)),\"\",VLOOKUP(D44,Plant_List,3,FALSE)),VLOOKUP(D44,Plant_List,2,FALSE)),\"\")","v":""}]
[{"$nulls":66},"LRR O, MLRA 131A",null,0,{"$f":"IF(AND(AF45=\"Yes\",OR(AL45=\"OBL\",AL45=\"FACW\",AL45=\"FAC\")),1,0)","v":0},{"$f":"IF(AF45=\"Yes\",1,0)","v":0},{"$f":"IF(AND(AF45=\"Yes\",OR(AL45=\"OBL\",AL45=\"FACW\")),1,0)","v":0},{"$f":"IF(AND(AF45=\"Yes\",OR(AL45=\"UPL\",AL45=\"FACU\")),1,0)","v":0},0,0,true,{"$f":"IF($AL45=\"obl\",$Z45,0)","v":0},{"$f":"IF($AL45=\"facw\",$Z45,0)","v":0},{"$f":"IF($AL45=\"fac\",$Z45,0)","v":0},{"$f":"IF($AL45=\"facu\",$Z45,0)","v":0},{"$f":"IF($AL45=\"upl\",$Z45,0)","v":0},{"$f":"IFERROR(Z45/Z$48,0)","v":0},{"$f":"IFERROR(LARGE(BQ$63:BQ$72,3),0)","v":0},0,{"$f":"IF(AND(CE65>0,SUM(CF$63:CF64)>0.5),\"\",CE65)","v":0},null,{"$f":"IFERROR(IF(ISNA(MATCH(\"AGCP\",$CH$4:$CH$9,0)),IF(ISNA(MATCH(\"WGC\",$CH$4:$CH$9,0)),\"\",VLOOKUP(D45,Plant_List,3,FALSE)),VLOOKUP(D45,Plant_List,2,FALSE)),\"\")","v":""}]
[{"$nulls":66},"LRR O, MLRA 131B",null,0,{"$f":"IF(AND(AF46=\"Yes\",OR(AL46=\"OBL\",AL46=\"FACW\",AL46=\"FAC\")),1,0)","v":0},{"$f":"IF(AF46=\"Yes\",1,0)","v":0},{"$f":"IF(AND(AF46=\"Yes\",OR(AL46=\"OBL\",AL46=\"FACW\")),1,0)","v":0},{"$f":"IF(AND(AF46=\"Yes\",OR(AL46=\"UPL\",AL46=\"FACU\")),1,0)","v":0},0,0,true,{"$f":"IF($AL46=\"obl\",$Z46,0)","v":0},{"$f":"IF($AL46=\"facw\",$Z46,0)","v":0},{"$f":"IF($AL46=\"fac\",$Z46,0)","v":0},{"$f":"IF($AL46=\"facu\",$Z46,0)","v":0},{"$f":"IF($AL46=\"upl\",$Z46,0)","v":0},{"$f":"IFERROR(Z46/Z$48,0)","v":0},{"$f":"IFERROR(LARGE(BQ$63:BQ$72,4),0)","v":0},0,{"$f":"IF(AND(CE66>0,SUM(CF$63:CF65)>0.5),\"\",CE66)","v":0},null,{"$f":"IFERROR(IF(ISNA(MATCH(\"AGCP\",$CH$4:$CH$9,0)),IF(ISNA(MATCH(\"WGC\",$CH$4:$CH$9,0)),\"\",VLOOKUP(D46,Plant_List,3,FALSE)),VLOOKUP(D46,Plant_List,2,FALSE)),\"\")","v":""}]
[{"$nulls":66},"LRR O, MLRA 131C",null,0,{"$f":"IF(AND(AF47=\"Yes\",OR(AL47=\"OBL\",AL47=\"FACW\",AL47=\"FAC\")),1,0)","v":0},{"$f":"IF(AF47=\"Yes\",1,0)","v":0},{"$f":"IF(AND(AF47=\"Yes\",OR(AL47=\"OBL\",AL47=\"FACW\")),1,0)","v":0},{"$f":"IF(AND(AF47=\"Yes\",OR(AL47=\"UPL\",AL47=\"FACU\")),1,0)","v":0},0,0,true,{"$f":"IF($AL47=\"obl\",$Z47,0)","v":0},{"$f":"IF($AL47=\"facw\",$Z47,0)","v":0},{"$f":"IF($AL47=\"fac\",$Z47,0)","v":0},{"$f":"IF($AL47=\"facu\",$Z47,0)","v":0},{"$f":"IF($AL47=\"upl\",$Z47,0)","v":0},{"$f":"IFERROR(Z47/Z$48,0)","v":0},{"$f":"IFERROR(LARGE(BQ$63:BQ$72,5),0)","v":0},{"$f":"IFERROR(CE67/$Z$48,0)","v":0},{"$f":"IF(AND(CE67>0,SUM(CF$63:CF66)>0.5),\"\",CE67)","v":0},null,{"$f":"IFERROR(IF(ISNA(MATCH(\"AGCP\",$CH$4:$CH$9,0)),IF(ISNA(MATCH(\"WGC\",$CH$4:$CH$9,0)),\"\",VLOOKUP(D47,Plant_List,3,FALSE)),VLOOKUP(D47,Plant_List,2,FALSE)),\"\")","v":""}]
[{"$nulls":66},"LRR O, MLRA 131D",null,{"$f":"IFERROR('Vegetation Continued, 4 Strata'!Z43,0)","v":0},{"$f":"IFERROR(IF(AND('Vegetation Continued, 4 Strata'!AF43=\"Yes\",OR('Vegetation Continued, 4 Strata'!AL43=\"OBL\",'Vegetation Continued, 4 Strata'!AL43=\"FACW\",'Vegetation Continued, 4 Strata'!AL43=\"FAC\")),1,0),0)","v":0},{"$f":"IFERROR(IF('Vegetation Continued, 4 Strata'!AF43=\"Yes\",1,0),0)","v":0},{"$f":"IFERROR(IF(AND('Vegetation Continued, 4 Strata'!AF43=\"Yes\",OR('Vegetation Continued, 4 Strata'!AL43=\"OBL\",'Vegetation Continued, 4 Strata'!AL43=\"FACW\")),1,0),0)","v":0},{"$f":"IFERROR(IF(AND('Vegetation Continued, 4 Strata'!AF43=\"Yes\",OR('Vegetation Continued, 4 Strata'!AL43=\"UPL\",'Vegetation Continued, 4 Strata'!AL43=\"FACU\")),1,0),0)","v":0},{"$f":"IFERROR(IF(OR('Vegetation Continued, 4 Strata'!AL43=\"OBL\",'Vegetation Continued, 4 Strata'!AL43=\"FACW\"),1,0),0)","v":0},{"$f":"IFERROR(IF(OR('Vegetation Continued, 4 Strata'!AL43=\"UPL\",'Vegetation Continued, 4 Strata'!AL43=\"FACU\"),1,0),0)","v":0},{"$f":"IFERROR(IF(AND('Vegetation Continued, 4 Strata'!AF43=\"YES\",OR('Vegetation Continued, 4 Strata'!AL43=\"UPL\",'Vegetation Continued, 4 Strata'!AL43=\"FACU\",'Vegetation Continued, 4 Strata'!AL43=\"FAC\")),FALSE,TRUE),TRUE)","v":true},{"$f":"IFERROR(IF('Vegetation Continued, 4 Strata'!AL43=\"obl\",BQ68,0),0)","v":0},{"$f":"IFERROR(IF('Vegetation Continued, 4 Strata'!AL43=\"facw\",BQ68,0),0)","v":0},{"$f":"IFERROR(IF('Vegetation Continued, 4 Strata'!AL43=\"fac\",BQ68,0),0)","v":0},{"$f":"IFERROR(IF('Vegetation Continued, 4 Strata'!AL43=\"facu\",BQ68,0),0)","v":0},{"$f":"IFERROR(IF('Vegetation Continued, 4 Strata'!AL43=\"upl\",BQ68,0),0)","v":0},{"$f":"IFERROR(BQ68/Z$48,0)","v":0},{"$f":"IFERROR(LARGE(BQ$63:BQ$72,6),0)","v":0},{"$f":"IFERROR(CE68/Z$48,0)","v":0},{"$f":"IF(AND(CE68>0,SUM(CF$63:CF67)>0.5),\"\",CE68)","v":0},null,{"$f":"IFERROR(IF(ISNA(MATCH(\"AGCP\",$CH$4:$CH$9,0)),IF(ISNA(MATCH(\"WGC\",$CH$4:$CH$9,0)),\"\",VLOOKUP('Vegetation Continued, 4 Strata'!D43,Plant_List,3,FALSE)),VLOOKUP('Vegetation Continued, 4 Strata'!D43,Plant_List,2,FALSE)),\"\")","v":""}]
[{"$nulls":66},"LRR P, MLRA 133B",null,{"$f":"IFERROR('Vegetation Continued, 4 Strata'!Z44,0)","v":0},{"$f":"IFERROR(IF(AND('Vegetation Continued, 4 Strata'!AF44=\"Yes\",OR('Vegetation Continued, 4 Strata'!AL44=\"OBL\",'Vegetation Continued, 4 Strata'!AL44=\"FACW\",'Vegetation Continued, 4 Strata'!AL44=\"FAC\")),1,0),0)","v":0},{"$f":"IFERROR(IF('Vegetation Continued, 4 Strata'!AF44=\"Yes\",1,0),0)","v":0},{"$f":"IFERROR(IF(AND('Vegetation Continued, 4 Strata'!AF44=\"Yes\",OR('Vegetation Continued, 4 Strata'!AL44=\"OBL\",'Vegetation Continued, 4 Strata'!AL44=\"FACW\")),1,0),0)","v":0},{"$f":"IFERROR(IF(AND('Vegetation Continued, 4 Strata'!AF44=\"Yes\",OR('Vegetation Continued, 4 Strata'!AL44=\"UPL\",'Vegetation Continued, 4 Strata'!AL44=\"FACU\")),1,0),0)","v":0},{"$f":"IFERROR(IF(OR('Vegetation Continued, 4 Strata'!AL44=\"OBL\",'Vegetation Continued, 4 Strata'!AL44=\"FACW\"),1,0),0)","v":0},{"$f":"IFERROR(IF(OR('Vegetation Continued, 4 Strata'!AL44=\"UPL\",'Vegetation Continued, 4 Strata'!AL44=\"FACU\"),1,0),0)","v":0},{"$f":"IFERROR(IF(AND('Vegetation Continued, 4 Strata'!AF44=\"YES\",OR('Vegetation Continued, 4 Strata'!AL44=\"UPL\",'Vegetation Continued, 4 Strata'!AL44=\"FACU\",'Vegetation Continued, 4 Strata'!AL44=\"FAC\")),FALSE,TRUE),TRUE)","v":true},{"$f":"IFERROR(IF('Vegetation Continued, 4 Strata'!AL44=\"obl\",BQ69,0),0)","v":0},{"$f":"IFERROR(IF('Vegetation Continued, 4 Strata'!AL44=\"facw\",BQ69,0),0)","v":0},{"$f":"IFERROR(IF('Vegetation Continued, 4 Strata'!AL44=\"fac\",BQ69,0),0)","v":0},{"$f":"IFERROR(IF('Vegetation Continued, 4 Strata'!AL44=\"facu\",BQ69,0),0)","v":0},{"$f":"IFERROR(IF('Vegetation Continued, 4 Strata'!AL44=\"upl\",BQ69,0),0)","v":0},{"$f":"IFERROR(BQ69/Z$48,0)","v":0},{"$f":"IFERROR(LARGE(BQ$63:BQ$72,7),0)","v":0},{"$f":"IFERROR(CE69/Z$48,0)","v":0},{"$f":"IF(AND(CE69>0,SUM(CF$63:CF68)>0.5),\"\",CE69)","v":0},null,{"$f":"IFERROR(IF(ISNA(MATCH(\"AGCP\",$CH$4:$CH$9,0)),IF(ISNA(MATCH(\"WGC\",$CH$4:$CH$9,0)),\"\",VLOOKUP('Vegetation Continued, 4 Strata'!D44,Plant_List,3,FALSE)),VLOOKUP('Vegetation Continued, 4 Strata'!D44,Plant_List,2,FALSE)),\"\")","v":""}]
[{"$nulls":66},"LRR P, MLRA 134",null,{"$f":"IFERROR('Vegetation Continued, 4 Strata'!Z45,0)","v":0},{"$f":"IFERROR(IF(AND('Vegetation Continued, 4 Strata'!AF45=\"Yes\",OR('Vegetation Continued, 4 Strata'!AL45=\"OBL\",'Vegetation Continued, 4 Strata'!AL45=\"FACW\",'Vegetation Continued, 4 Strata'!AL45=\"FAC\")),1,0),0)","v":0},{"$f":"IFERROR(IF('Vegetation Continued, 4 Strata'!AF45=\"Yes\",1,0),0)","v":0},{"$f":"IFERROR(IF(AND('Vegetation Continued, 4 Strata'!AF45=\"Yes\",OR('Vegetation Continued, 4 Strata'!AL45=\"OBL\",'Vegetation Continued, 4 Strata'!AL45=\"FACW\")),1,0),0)","v":0},{"$f":"IFERROR(IF(AND('Vegetation Continued, 4 Strata'!AF45=\"Yes\",OR('Vegetation Continued, 4 Strata'!AL45=\"UPL\",'Vegetation Continued, 4 Strata'!AL45=\"FACU\")),1,0),0)","v":0},{"$f":"IFERROR(IF(OR('Vegetation Continued, 4 Strata'!AL45=\"OBL\",'Vegetation Continued, 4 Strata'!AL45=\"FACW\"),1,0),0)","v":0},{"$f":"IFERROR(IF(OR('Vegetation Continued, 4 Strata'!AL45=\"UPL\",'Vegetation Continued, 4 Strata'!AL45=\"FACU\"),1,0),0)","v":0},{"$f":"IFERROR(IF(AND('Vegetation Continued, 4 Strata'!AF45=\"YES\",OR('Vegetation Continued, 4 Strata'!AL45=\"UPL\",'Vegetation Continued, 4 Strata'!AL45=\"FACU\",'Vegetation Continued, 4 Strata'!AL45=\"FAC\")),FALSE,TRUE),TRUE)","v":true},{"$f":"IFERROR(IF('Vegetation Continued, 4 Strata'!AL45=\"obl\",BQ70,0),0)","v":0},{"$f":"IFERROR(IF('Vegetation Continued, 4 Strata'!AL45=\"facw\",BQ70,0),0)","v":0},{"$f":"IFERROR(IF('Vegetation Continued, 4 Strata'!AL45=\"fac\",BQ70,0),0)","v":0},{"$f":"IFERROR(IF('Vegetation Continued, 4 Strata'!AL45=\"facu\",BQ70,0),0)","v":0},{"$f":"IFERROR(IF('Vegetation Continued, 4 Strata'!AL45=\"upl\",BQ70,0),0)","v":0},0,{"$f":"IFERROR(LARGE(BQ$63:BQ$72,8),0)","v":0},0,{"$f":"IF(AND(CE70>0,SUM(CF$63:CF69)>0.5),\"\",CE70)","v":0},null,{"$f":"IFERROR(IF(ISNA(MATCH(\"AGCP\",$CH$4:$CH$9,0)),IF(ISNA(MATCH(\"WGC\",$CH$4:$CH$9,0)),\"\",VLOOKUP('Vegetation Continued, 4 Strata'!D45,Plant_List,3,FALSE)),VLOOKUP('Vegetation Continued, 4 Strata'!D45,Plant_List,2,FALSE)),\"\")","v":""}]
[{"$nulls":68},{"$f":"IFERROR('Vegetation Continued, 4 Strata'!Z46,0)","v":0},{"$f":"IFERROR(IF(AND('Vegetation Continued, 4 Strata'!AF46=\"Yes\",OR('Vegetation Continued, 4 Strata'!AL46=\"OBL\",'Vegetation Continued, 4 Strata'!AL46=\"FACW\",'Vegetation Continued, 4 Strata'!AL46=\"FAC\")),1,0),0)","v":0},{"$f":"IFERROR(IF('Vegetation Continued, 4 Strata'!AF46=\"Yes\",1,0),0)","v":0},{"$f":"IFERROR(IF(AND('Vegetation Continued, 4 Strata'!AF46=\"Yes\",OR('Vegetation Continued, 4 Strata'!AL46=\"OBL\",'Vegetation Continued, 4 Strata'!AL46=\"FACW\")),1,0),0)","v":0},{"$f":"IFERROR(IF(AND('Vegetation Continued, 4 Strata'!AF46=\"Yes\",OR('Vegetation Continued, 4 Strata'!AL46=\"UPL\",'Vegetation Continued, 4 Strata'!AL46=\"FACU\")),1,0),0)","v":0},{"$f":"IFERROR(IF(OR('Vegetation Continued, 4 Strata'!AL46=\"OBL\",'Vegetation Continued, 4 Strata'!AL46=\"FACW\"),1,0),0)","v":0},{"$f":"IFERROR(IF(OR('Vegetation Continued, 4 Strata'!AL46=\"UPL\",'Vegetation Continued, 4 Strata'!AL46=\"FACU\"),1,0),0)","v":0},{"$f":"IFERROR(IF(AND('Vegetation Continued, 4 Strata'!AF46=\"YES\",OR('Vegetation Continued, 4 Strata'!AL46=\"UPL\",'Vegetation Continued, 4 Strata'!AL46=\"FACU\",'Vegetation Continued, 4 Strata'!AL46=\"FAC\")),FALSE,TRUE),TRUE)","v":true},{"$f":"IFERROR(IF('Vegetation Continued, 4 Strata'!AL46=\"obl\",BQ71,0),0)","v":0},{"$f":"IFERROR(IF('Vegetation Continued, 4 Strata'!AL46=\"facw\",BQ71,0),0)","v":0},{"$f":"IFERROR(IF('Vegetation Continued, 4 Strata'!AL46=\"fac\",BQ71,0),0)","v":0},{"$f":"IFERROR(IF('Vegetation Continued, 4 Strata'!AL46=\"facu\",BQ71,0),0)","v":0},{"$f":"IFERROR(IF('Vegetation Continued, 4 Strata'!AL46=\"upl\",BQ71,0),0)","v":0},0,{"$f":"IFERROR(LARGE(BQ$63:BQ$72,9),0)","v":0},0,{"$f":"IF(AND(CE71>0,SUM(CF$63:CF70)>0.5),\"\",CE71)","v":0},null,{"$f":"IFERROR(IF(ISNA(MATCH(\"AGCP\",$CH$4:$CH$9,0)),IF(ISNA(MATCH(\"WGC\",$CH$4:$CH$9,0)),\"\",VLOOKUP('Vegetation Continued, 4 Strata'!D46,Plant_List,3,FALSE)),VLOOKUP('Vegetation Continued, 4 Strata'!D46,Plant_List,2,FALSE)),\"\")","v":""}]
[{"$nulls":66},"LA AGCP",null,{"$f":"IFERROR('Vegetation Continued, 4 Strata'!Z47,0)","v":0},{"$f":"IFERROR(IF(AND('Vegetation Continued, 4 Strata'!AF47=\"Yes\",OR('Vegetation Continued, 4 Strata'!AL47=\"OBL\",'Vegetation Continued, 4 Strata'!AL47=\"FACW\",'Vegetation Continued, 4 Strata'!AL47=\"FAC\")),1,0),0)","v":0},{"$f":"IFERROR(IF('Vegetation Continued, 4 Strata'!AF47=\"Yes\",1,0),0)","v":0},{"$f":"IFERROR(IF(AND('Vegetation Continued, 4 Strata'!AF47=\"Yes\",OR('Vegetation Continued, 4 Strata'!AL47=\"OBL\",'Vegetation Continued, 4 Strata'!AL47=\"FACW\")),1,0),0)","v":0},{"$f":"IFERROR(IF(AND('Vegetation Continued, 4 Strata'!AF47=\"Yes\",OR('Vegetation Continued, 4 Strata'!AL47=\"UPL\",'Vegetation Continued, 4 Strata'!AL47=\"FACU\")),1,0),0)","v":0},{"$f":"IFERROR(IF(OR('Vegetation Continued, 4 Strata'!AL47=\"OBL\",'Vegetation Continued, 4 Strata'!AL47=\"FACW\"),1,0),0)","v":0},{"$f":"IFERROR(IF(OR('Vegetation Continued, 4 Strata'!AL47=\"UPL\",'Vegetation Continued, 4 Strata'!AL47=\"FACU\"),1,0),0)","v":0},{"$f":"IFERROR(IF(AND('Vegetation Continued, 4 Strata'!AF47=\"YES\",OR('Vegetation Continued, 4 Strata'!AL47=\"UPL\",'Vegetation Continued, 4 Strata'!AL47=\"FACU\",'Vegetation Continued, 4 Strata'!AL47=\"FAC\")),FALSE,TRUE),TRUE)","v":true},{"$f":"IFERROR(IF('Vegetation Continued, 4 Strata'!AL47=\"obl\",BQ72,0),0)","v":0},{"$f":"IFERROR(IF('Vegetation Continued, 4 Strata'!AL47=\"facw\",BQ72,0),0)","v":0},{"$f":"IFERROR(IF('Vegetation Continued, 4 Strata'!AL47=\"fac\",BQ72,0),0)","v":0},{"$f":"IFERROR(IF('Vegetation Continued, 4 Strata'!AL47=\"facu\",BQ72,0),0)","v":0},{"$f":"IFERROR(IF('Vegetation Continued, 4 Strata'!AL47=\"upl\",BQ72,0),0)","v":0},0,{"$f":"IFERROR(LARGE(BQ$63:BQ$72,10),0)","v":0},0,{"$f":"IF(AND(CE72>0,SUM(CF$63:CF71)>0.5),\"\",CE72)","v":0},null,{"$f":"IFERROR(IF(ISNA(MATCH(\"AGCP\",$CH$4:$CH$9,0)),IF(ISNA(MATCH(\"WGC\",$CH$4:$CH$9,0)),\"\",VLOOKUP('Vegetation Continued, 4 Strata'!D47,Plant_List,3,FALSE)),VLOOKUP('Vegetation Continued, 4 Strata'!D47,Plant_List,2,FALSE)),\"\")","v":""}]
[{"$nulls":66},"LRR P, MLRA 133C",null,{"$f":"SUM(BQ4:BQ72)","v":0},{"$nulls":7},{"$f":"SUM(BY4:CC72)","v":0}]
[{"$nulls":66},"LRR T, MLRA 152A",{"$nulls":9},{"$f":"IFERROR(IF((BY73/BQ73)<0.8,TRUE,FALSE),TRUE)","v":true}]
[{"$nulls":66},"LA WGC"]
[{"$nulls":66},"LRR O"]
[{"$nulls":66},"LRR O, MLRA 131A"]
[{"$nulls":66},"LRR O, MLRA 131B"]
[{"$nulls":66},"LRR O, MLRA 131C"]
[{"$nulls":66},"LRR O, MLRA 131D"]
[{"$nulls":66},"LRR P, MLRA 133B"]
[{"$nulls":66},"LRR P, MLRA 134"]
[{"$nulls":66},"LRR T, MLRA 150A"]
[{"$nulls":66},"LRR T, MLRA 151"]
[{"$nulls":66},"LRR T, MLRA 152B"]
[]
[{"$nulls":66},"MS AGCP"]
[{"$nulls":66},"LRR P, MLRA 133C"]
[{"$nulls":66},"LRR P, MLRA 135A"]
[{"$nulls":66},"LRR T, MLRA 152A"]
[]
[{"$nulls":66},"MS WGC"]
[{"$nulls":66},"LRR O"]
[{"$nulls":66},"LRR O, MLRA 131A"]
[{"$nulls":66},"LRR P, MLRA 134"]
[{"$nulls":66},"LRR T, MLRA 151"]
[]
[{"$nulls":66},"OK AGCP"]
[{"$nulls":66},"LRR P, MLRA 135B"]
[{"$nulls":66},"OK WGC"]
[{"$nulls":66},"LRR P, MLRA 133B"]
[]
[{"$nulls":66},"TN AGCP"]
[{"$nulls":66},"LRR P, MLRA 133C"]
[{"$nulls":66},"LRR P, MLRA 135A"]
[{"$nulls":66},"TN WGC"]
[{"$nulls":66},"LRR O"]
[{"$nulls":66},"LRR O, MLRA 131A"]
[{"$nulls":66},"LRR P, MLRA 134"]
[]
[{"$nulls":66},"Conditional Formatting Indicator Status"]
[{"$nulls":66},"AR"]
[{"$nulls":66},"LRR O"]
[{"$nulls":66},"LRR O, MLRA 131A"]
[{"$nulls":66},"LRR O, MLRA 131B"]
[{"$nulls":66},"LRR O, MLRA 131C"]
[{"$nulls":66},"LRR O, MLRA 131D"]
[{"$nulls":66},"LRR P, MLRA 133B"]
[{"$nulls":66},"LRR P, MLRA 134"]
[{"$nulls":66},"LRR P, MLRA 135B"]
[]
[{"$nulls":66},"LA"]
[{"$nulls":66},"LRR O"]
[{"$nulls":66},"LRR O, MLRA 131A"]
[{"$nulls":66},"LRR O, MLRA 131B"]
[{"$nulls":66},"LRR O, MLRA 131C"]
[{"$nulls":66},"LRR O, MLRA 131D"]
[{"$nulls":66},"LRR P, MLRA 133A"]
[{"$nulls":66},"LRR P, MLRA 133B"]
[{"$nulls":66},"LRR P, MLRA 134"]
[{"$nulls":66},"LRR T, MLRA 150A"]
[{"$nulls":66},"LRR T, MLRA 151"]
[{"$nulls":66},"LRR T, MLRA 152A"]
[{"$nulls":66},"LRR T, MLRA 152B"]
[]
[{"$nulls":66},"MS"]
[{"$nulls":66},"LRR O"]
[{"$nulls":66},"LRR O, MLRA 131A"]
[{"$nulls":66},"LRR P, MLRA 133A"]
[{"$nulls":66},"LRR P, MLRA 134"]
[{"$nulls":66},"LRR P, MLRA 135A"]
[{"$nulls":66},"LRR T, MLRA 151"]
[{"$nulls":66},"LRR T, MLRA 152A"]
[]
[{"$nulls":66},"OK"]
[{"$nulls":66},"LRR P, MLRA 133B"]
[{"$nulls":66},"LRR P, MLRA 135B"]
[]
[{"$nulls":66},"TN"]
[{"$nulls":66},"LRR O"]
[{"$nulls":66},"LRR O, MLRA 131A"]
[{"$nulls":66},"LRR P, MLRA 133A"]
[{"$nulls":66},"LRR P, MLRA 134"]
[{"$nulls":66},"LRR P, MLRA 135A"]

{"sheet":"Page 3 (Soil)","index":3,"n_rows":497,"n_cols":299,"rows_kept":497,"merged":[[0,0,0,49],[0,50,0,56],[0,57,0,64],[1,0,1,65],[2,0,12,0],[2,1,2,65],[3,1,3,5],[3,6,11,6],[3,7,3,19],[3,20,11,20],[3,21,3,40],[3,41,3,65],[3,112,3,113],[3,116,3,120],[3,257,3,263],[4,1,4,5],[4,7,4,15],[4,16,11,16],[4,17,4,19],[4,21,4,28],[4,29,11,29],[4,30,4,32],[4,33,11,33],[4,34,4,36],[4,37,11,37],[4,38,4,40],[4,41,11,41],[4,42,4,48],[4,50,4,64],[4,65,11,65],[5,1,5,5],[5,7,5,15],[5,17,5,19],[5,21,5,28],[5,30,5,32],[5,34,5,36],[5,38,5,40],[5,42,5,48],[5,50,5,64],[6,1,6,5],[6,7,6,15],[6,17,6,19],[6,21,6,28],[6,30,6,32],[6,34,6,36],[6,38,6,40],[6,42,6,48],[6,50,6,64],[7,1,7,5],[7,7,7,15],[7,17,7,19],[7,21,7,28],[7,30,7,32],[7,34,7,36],[7,38,7,40],[7,42,7,48],[7,50,7,64],[8,1,8,5],[8,7,8,15],[8,17,8,19],[8,21,8,28],[8,30,8,32],[8,34,8,36],[8,38,8,40],[8,42,8,48],[8,50,8,64],[9,1,9,5],[9,7,9,15],[9,17,9,19],[9,21,9,28],[9,30,9,32],[9,34,9,36],[9,38,9,40],[9,42,9,48],[9,50,9,64],[10,1,10,5],[10,7,10,15],[10,17,10,19],[10,21,10,28],[10,30,10,32],[10,34,10,36],[10,38,10,40],[10,42,10,48],[10,50,10,64],[11,1,11,5],[11,7,11,15],[11,17,11,19],[11,21,11,28],[11,30,11,32],[11,34,11,36],[11,38,11,40],[11,42,11,48],[11,50,11,64],[12,1,12,45],[12,46,12,65],[13,0,33,0],[13,1,13,45],[13,46,13,65],[14,2,14,21],[14,23,14,45],[14,47,14,65],[15,2,15,21],[15,23,15,45],[15,47,15,65],[16,2,16,23],[16,24,16,45],[16,47,16,65],[17,2,17,21],[17,23,17,45],[17,47,17,65],[18,2,18,21],[18,23,18,46],[18,47,18,65],[19,2,19,21],[19,23,19,45],[19,47,19,65],[20,2,20,21],[20,23,20,45],[20,47,20,65],[21,2,21,21],[21,23,21,46],[21,47,21,65],[22,2,22,21],[22,23,22,45],[22,47,22,65],[23,2,23,21],[23,23,23,45],[23,47,23,65],[24,2,24,21],[24,23,24,46],[24,47,24,65],[25,2,25,21],[25,23,25,45],[25,47,25,65],[26,23,26,46],[26,47,26,65],[27,2,27,21],[27,23,27,45],[27,47,27,65],[28,2,28,21],[28,23,28,65],[29,2,29,21],[29,23,29,65],[30,2,30,21],[30,23,30,65],[31,2,31,23],[31,24,31,46],[31,47,31,65],[32,1,32,2],[32,3,32,21],[32,23,32,46],[32,47,32,65],[33,1,33,23],[33,24,33,46],[33,47,33,65],[34,0,34,65],[35,0,38,0],[35,1,35,23],[35,24,37,41],[35,42,36,65],[36,1,37,1],[36,2,36,5],[36,6,36,23],[37,10,37,23],[37,43,37,51],[37,52,37,55],[37,57,37,59],[37,61,37,65],[38,1,38,41],[38,42,38,65],[39,1,39,65],[40,1,57,65]]}
["SOIL",{"$nulls":49},"Sampling Point:",{"$nulls":6},{"$f":"IF('Page 1 (Hydrology)'!AP3=0,\"\",'Page 1 (Hydrology)'!AP3)","v":""},{"$nulls":182}," "]
[]
[null,"Profile Description:  (Describe to the depth needed to document the indicator or confirm the absence of indicators.)",{"$nulls":294},"Hydrology Indicator and Hydric Soil Definition"]
[null,"Depth",{"$nulls":5},"Matrix",{"$nulls":13},"Redox Features",{"$nulls":57},"Redox 2% Prominent/Distinct",{"$nulls":3},"Redox 5% Prominent/Distinct",{"$nulls":3},"Histosol (A1)",{"$nulls":5},"Histic Epipedon (A2)",{"$nulls":3},"Black Histic (A3)",{"$nulls":5},"Hydrogen Sulfide (A4)","Stratified Layers (A5)",{"$nulls":7},"Organic Bodies (A6)",{"$nulls":3},"5 cm Mucky Mineral (A7)",{"$nulls":4},"Muck Presence (A8)",{"$nulls":3},"1 cm Muck (A9)",{"$nulls":4},"2 cm Muck (A10)",{"$nulls":4},"Depleted Below Dark Surface (A11)",{"$nulls":7},"Thick Dark Surface (A12)",{"$nulls":7},"Coast Prairie Redox (A16)",null,null,"Sandy Mucky Mineral (S1)",{"$nulls":4},"Sandy Gleyed Matrix (S4)",{"$nulls":3},"Sandy Redox (S5)",{"$nulls":4},"Stripped Matrix (S6)",null,"Dark Surface (S7)",{"$nulls":6},"Polyvalue Below Surface (S8)",{"$nulls":7},"Thin Dark Surface (S9)",{"$nulls":3},"Barrier Islands 1 cm Muck (S12)",{"$nulls":4},"Loamy Mucky Mineral (F1)",{"$nulls":4},"Loamy Gleyed Matrix (F2)",{"$nulls":3},"Depleted Matrix (F3)",{"$nulls":6},"Redox Dark Surface (F6)",{"$nulls":4},"Depleted Dark Surface (F7)",{"$nulls":11},"Redox Depressions (F8)",null,null,"Marl (F10)",null,"Depleted Ochric (F11)",{"$nulls":4},"Iron-Manganese Masses (F12)",{"$nulls":7},"Umbric Surface (F13)",{"$nulls":6},"Delta Ochric (F17)",{"$nulls":4},"Reduced Vertic (F18)",{"$nulls":6},"Piedmont Floodplain Soils (F19)",{"$nulls":6},"Anomalous Bright Loamy Soils (F20)",{"$nulls":6},"Red Parent Material (F21)",{"$nulls":6},"Very Shallow Dark Surface (F22)",{"$nulls":5},"Barrier Islands Low Chroma Matrix (TS7)",{"$nulls":4},"Presence of Reduced Iron (C4)"]
[null,"(inches)",{"$nulls":5},"Color (moist)",{"$nulls":9},"%",{"$nulls":3},"Color (moist)",{"$nulls":8},"%",{"$nulls":3},"Type1",{"$nulls":3},"Loc2",{"$nulls":3},"Texture",{"$nulls":7},"Remarks",{"$nulls":15},"Start Depth","End Depth","Matrix Color","Hue","Value","Chroma","%","Hue","Value","Chroma","Contrast hue-chroma-value","Redox","Texture","Checks if there is a qualifying prominent or distinct redox in the same row and then checks if the redox is high enough %.  Else, it looks down the same soil layer (same start depth) and determines if there is a TRUE in the same layer.","Adds percentages of lines that qualify as Prominent or Distinct but are insufficient %.","Checks if there is Prominent or Distinct redox in that line.","Checks below this line in the same layer to see if there is Prominent or Distinct redox in that soil layer.","Checks if there is a qualifying prominent or distinct redox in the same row and then checks if the redox is high enough %.  Else, it looks down the same soil layer (same start depth) and determines if there is a TRUE in the same layer.","Adds percentages of lines that qualify as Prominent or Distinct but are insufficient %.","Checks if there is Prominent or Distinct redox in that line.","Checks below this line in the same layer to see if there is Prominent or Distinct redox in that soil layer.","Conditions","Calculates depth if organic soil","Running total of previous column that matches conditions","Checks if current soil layer is organic for histosols <16\" over a restrictive layer.","Checks for mineral soils with chroma > 2 and calculates depth","Totals the previous column and checks if >= 6 above indicator","Conditions","Calculates depth if organic soil","Running total of previous column that matches conditions","Checks for organic soil in layer above at the proper thickness, then checks if mineral soil exists at the current layer at chroma <= 2","Conditions","Checks for organic soils, then checks for 10YR or yellower, then checks for chroma 1 or less and calculates depth","Running total of previous column that matches conditions","Checks for organic soil in layer above at the proper thickness, then checks if mineral soil exists at the current layer at chroma <= 2","Checks for mineral soils with chroma > 2 and calculates depth","Totals the previous column and checks if >= 6 above indicator","CZ6 checks if Hydrogen Sulfide Odor (C1) on Page 1 is checked","Conditions","Checks for a layer with value <=3 chroma <=1, then checks for organic or mucky modified mineral.  TRUE for layer with color qualify or organic/mucky modified, False for colors that don't qualify, 0 for layers that are repeats (for redox) so they are not counted twice.","Checks for a layer with  chroma <=2, if not already qualified in DB.  TRUE for layer with color qualify, False for colors that don't qualify, 0 for layers that are repeats (for redox) so they are not counted twice.  ","Checks DC for >=2 qualifying layers <=6\" in depth.","Checks DB if any qualifying layers are above the current layer,else checks for 2 qualifying DC layers above, and finally checks if a qualifying layer in DB or DC has begun.","Checks DB if any qualifying layers are below the current layer, then if that layer <=6\" in depth, and finally checks if a qualifying layer in DC has begun.","Checks DB and DC to see if the indicator has started above.","Returns TRUE if a layer does not qualify in either DB or DC if the indicator has started.","Conditions","Checks for starting depth meeting conditions, then checks if there are organic bodies by checking if non-automated remarks have been entered in that line.","Checks for mineral soils with chroma > 2 and calculates depth","Totals the previous column and checks if >= 6 above indicator","Conditions","Calculates layers with mucky mineral","Running total of previous column that matches conditions","Checks for mineral soils with chroma > 2 and calculates depth","Totals the previous column and checks if >= 6 above indicator","Conditions","Checks for starting depth meeting conditions, then checks if there is muck and if it is value <=3 and chroma <=1.","Checks for mineral soils with chroma > 2 and calculates depth","Totals the previous column and checks if >= 6 above indicator","Conditions","Calculates layer depth for muck value <= 3, chroma <=1","Running total of previous column that matches conditions","Checks for mineral soils with chroma > 2 and calculates depth","Totals the previous column and checks if >= 6 above indicator","Conditions","Calculates layer depth for muck value <= 3, chroma <=1","Running total of previous column that matches conditions","Checks for mineral soils with chroma > 2 and calculates depth","Totals the previous column and checks if >= 6 above indicator","Conditions","Conditions","Checks for dark layers, organic and loamy/clayey with value <=3 chroma <=2 and sands value <=3, chroma <=1.  Returns TRUE for qualifying organic or loamy/clayey, SAND for sands, and FALSE if layer does not meet requirements.","Checks in columns 2 and 4 in Master Soil List to see if depleted matrix or gleyed matrix at 60% matrix, if not it checks column 3 with 2% prominent or distinct redox.  It calculates layer depth if TRUE in either case.","Running total of previous column that matches conditions in EF","Running total of previous column that matches conditions in EG","Checks for mineral soils with chroma > 2 and calculates depth","Totals the previous column and checks if >= 6 above indicator","Conditions","Calculates depth of layers above depleted matrix with value <=2.5 chroma <=1.","Running total of previous column that matches conditions","Checks in columns 2 and 4 in Master Soil List to see if depleted matrix or gleyed matrix at 60% matrix, if not it checks column 3 with 2% prominent or distinct redox.  It calculates layer depth if TRUE in either case.","Running total of previous column that matches conditions","Checks for layers above depleted matrix for value <=3, chroma <=1 if upper and lower totals are met.  Returns TRUE for qualifying, SAND for sands, FALSE if any layer does not meet requirements, and 0 for layers that qualify in EQ.","Checks for mineral soils with chroma > 2 and calculates depth","Totals the previous column and checks if >= 6 above indicator","Conditions","Calculates layers with 2% redox","Running total of previous column that matches conditions","Conditions","Calculates layers with mucky sand","Running total of previous column that matches conditions","Checks for mineral soils with chroma > 2 and calculates depth","Totals the previous column and checks if >= 6 above indicator","Conditions","Checks for sandy soil, then gleyed matrix in Master Soil List, then checks if start depth meets conditions","Checks for mineral soils with chroma > 2 and calculates depth","Totals the previous column and checks if >= 6 above indicator","Conditions","Calculates layers that are sandy, have matrix >=60, and have 2% prominent/distinct redox","Running total of previous column that matches conditions","Checks for mineral soils with chroma > 2 and calculates depth","Totals the previous column and checks if >= 6 above indicator","Conditions","Checks for sandy soil and starting depth meeting conditions, then checks if there is >=10% stripped material by checking if matrix <=90%","Conditions","Calculates sandy layers with value<=3 chroma <=1","Running total of previous column that matches conditions","Checks for sand in one layer greater than 4 inches, else checks for qualifying sand in layer above at the proper thickness, then checks if current layer has chroma <=2.","Checks for qualifying sand in layer above without thickness (for combination indicators), then checks if current layer has chroma <=2","Checks for mineral soils with chroma > 2 and calculates depth","Totals the previous column and checks if >= 6 above indicator","Conditions","Checks for sandy soil value <=3, chroma <=1, and starting depth meeting conditions","Checks for qualifying sand in layer above, then checks if current layer has at least 5% value <=3 chroma<=1 and >=4 and chroma <=1.","Adds percentages of lines that qualify as dark soil but are insufficient %.","Checks if there is dark soil in that line.","Checks below this line in the same layer to see if there is dark soil in that soil layer.","Checks for mineral soils with chroma > 2 and calculates depth","Totals the previous column and checks if >= 6 above indicator","Conditions","Calculates sandy layers  with value <=3 and chroma <=1","Running total of previous column that matches conditions","Checks for qualifying sand in layer above at the proper thickness, then checks if current layer has chroma <=1","Conditions","Calculates layer depth for muck value <= 3, chroma <=2","Running total of previous column that matches conditions","Checks for mineral soils with chroma > 2 and calculates depth","Totals the previous column and checks if >= 6 above indicator","Conditions","Calculates layers with mucky loam/clay","Running total of previous column that matches conditions","Checks for mineral soils with chroma > 2 and calculates depth","Totals the previous column and checks if >= 6 above indicator","Conditions","Checks for loamy/clayey soil, then gleyed matrix in Master Soil List, then if it meets conditions","Checks for mineral soils with chroma > 2 and calculates depth","Totals the previous column and checks if >= 6 above indicator","Conditions","Conditions","Checks in column 2 in Master Soil List to see if depleted matrix at 60% matrix, if not it checks column 3 with 2% prominent or distinct redox.  It calculates layer depth if TRUE in either case.","Running total of previous column that matches conditions in GV","Running total of column GX that matches conditions in GW","Checks for mineral soils with chroma > 2 and calculates depth","Totals the previous column and checks if >= 6 above indicator","Conditions","Calculates for prominent/distinct redox of >=2% with value <=3, chroma <=1 or for prominent/distinct redox >=5% with value <=3, chroma <=2.","Running total of previous column that matches conditions","Checks for mineral soils with chroma > 2 and calculates depth","Totals the previous column and checks if >= 6 above indicator","Conditions","Checks if there is a qualifying redox depletions in the same row and then checks if the redox >=10%.  Else, it looks down the same layer (same start depth) and determines if there is a TRUE in the same layer.","Adds percentages of lines that qualify as depletions but are insufficient %.","Checks if there are qualifying depletions in that line.","Checks below this line in the same layer to see if there are qualifying depletions in that soil layer.","Checks if there is a qualifying redox depletions in the same row and then checks if the redox >=20%.  Else, it looks down the same layer (same start depth) and determines if there is a TRUE in the same layer.","Checks if there are qualifying depletions in that line.","Checks below this line in the same layer to see if there are qualifying depletions in that soil layer.","Calculates depleted redox of >=10% with value <=3, chroma <=1 or for depleted redox >=20% with value <=3, chroma <=2.","Running total of previous column that matches conditions","Checks for mineral soils with chroma > 2 and calculates depth","Totals the previous column and checks if >= 6 above indicator","Conditions","Calculates loamy/clayey with prominent/distinct redox of >=5%.","Running total of previous column that matches conditions","Conditions","Checks for loamy/clayey soil, then if it meets conditions","Conditions","Calculates loamy/clayey layers with 60% value >=4, chroma <=1.","Running total of previous column that matches conditions","Checks for mineral soils with chroma > 2 and calculates depth","Totals the previous column and checks if >= 6 above indicator","Conditions","Checks if there is a qualifying prominent or distinct redox in the same row and then checks if the redox is high enough %.  Else, it looks down the same soil layer (same start depth) and determines if there is a TRUE in the same layer.","Adds percentages of lines that qualify as Prominent or Distinct but are insufficient %.","Checks if there is Prominent or Distinct redox in that line.","Checks below this line in the same layer to see if there is Prominent or Distinct redox in that soil layer.","Calculates layers with >=40% matrix chroma <=2 with qualifying redox","Running total of previous column that matches conditions","Checks if the qualifying surface layer is mineral.","Conditions","Calculates loamy/clayey layers with value <=3, chroma <=1.","Running total of previous column that matches conditions","Calculates loamy/clayey layers with chroma <=2 once IN begins.","Running total of previous column that matches conditions","Checks for mineral soils with chroma > 2 and calculates depth","Totals the previous column and checks if >= 6 above indicator","Conditions","Calculates loamy/clayey layers with 60% value >=4, chroma <=2.","Running total of previous column that matches conditions","Checks for mineral soils with chroma > 2 and calculates depth","Totals the previous column and checks if >= 6 above indicator","Conditions","Conditions","Calculates loamy/clayey layers.","Running total of previous column that matches conditions in IX","Running total of IZ that matches conditions in IY","Checks for mineral soils with chroma > 2 and calculates depth","Totals the previous column and checks if >= 6 above indicator","Conditions","Checks if there is a qualifying prominent or distinct redox in the same row and then checks if the redox is high enough %.  Else, it looks down the same soil layer (same start depth) and determines if there is a TRUE in the same layer.","Adds percentages of lines that qualify as Prominent or Distinct but are insufficient %.","Checks if there is Prominent or Distinct redox in that line.","Checks below this line in the same layer to see if there is Prominent or Distinct redox in that soil layer.","Calculates layers with >=60% matrix chroma <=3 with qualifying redox","Running total of previous column that matches conditions","Conditions","Checks if there is a qualifying prominent or distinct redox in the same row and then checks if the redox or depletions is high enough %.  Else, it looks down the same soil layer (same start depth) and determines if there is a TRUE in the same layer.","Adds percentages of lines that qualify as Prominent or Distinct or depletions but are insufficient %.","Checks if there is Prominent or Distinct redox or depletions in that line.","Checks below this line in the same layer to see if there is Prominent or Distinct redox or depletions in that soil layer.","Calculates layers that are loamy/clayey, >=60% matrix chroma <=4 with 10% redox concentrations or depletions","Running total of previous column that matches conditions","Conditions","Checks if there is a qualifying prominent or distinct redox in the same row and then checks if the redox or qualifying depletions are high enough %.  Else, it looks down the same soil layer (same start depth) and determines if there is a TRUE in the same layer.","Adds percentages of lines that qualify as Prominent or Distinct redox or qualifying depletions but are insufficient %.","Checks if there is Prominent or Distinct redox or qualifying depletions in that line.","Checks below this line in the same layer to see if there is Prominent or Distinct redox or qualifying in that soil layer.","Calculates layers that are loamy/clayey, 7.5YR or redder hue, value and chroma <=4 with 10% redox concentrations or depletions","Running total of previous column that matches conditions","Conditions","Conditions","Calculates layers with loam/clay, bedrock<=10 inches, value<=2.5, and chroma<=1","Running total of previous column that matches conditions in JZ","Running total of KB that matches conditions in KA","Checks for layers that don't qualify for KB for chroma <=2","Conditions","Calculates sandy layers with value <=4, chroma <=2.","Running total of previous column that matches conditions","Calculates sandy layers with hue 2.5Y or yellower, value >=4, and chroma <2.","Running total of previous column that matches conditions","Conditions","Checks if there is a reduced matrix in the layer."," "]
[{"$nulls":66},{"$f":"IFERROR(IF(B6=\"\",\"\",VALUE(LEFT(B6,SEARCH(\"-\",B6)-1))),\"\")","v":""},{"$f":"IFERROR(IF(B6=\"\",\"\",VALUE(RIGHT(B6,LEN(B6)-SEARCH(\"-\",B6)))),\"\")","v":""},{"$f":"IF(H6=\"\",\"\",H6)","v":""},{"$f":"IFERROR(IF(H6=\"\",\"\",LEFT(TRIM(H6),SEARCH(\" \",(TRIM(H6)))-1)),\"\")","v":""},{"$f":"IFERROR(IF(H6=\"\",\"\",VALUE(MID(TRIM(H6),SEARCH(\" \",(TRIM(H6)))+1,(SEARCH(\"/\",(TRIM(H6)))-SEARCH(\" \",(TRIM(H6)))-1)))),\"\")","v":""},{"$f":"IFERROR(IF(AND(H6<>\"\",ISNUMBER(VALUE(RIGHT(TRIM(H6),1)))),VALUE(RIGHT(TRIM(H6),LEN(TRIM(H6))-SEARCH(\"/\",(TRIM(H6))))),\"\"),\"\")","v":""},{"$f":"VALUE(R6)","v":0},{"$f":"IFERROR(IF(V6=\"\",\"\",LEFT(TRIM(V6),SEARCH(\" \",(TRIM(V6)))-1)),\"\")","v":""},{"$f":"IFERROR(IF(V6=\"\",\"\",VALUE(MID(TRIM(V6),SEARCH(\" \",(TRIM(V6)))+1,(SEARCH(\"/\",(TRIM(V6)))-SEARCH(\" \",(TRIM(V6)))-1)))),\"\")","v":""},{"$f":"IFERROR(IF(AND(V6<>\"\",ISNUMBER(VALUE(RIGHT(TRIM(V6),1)))),VALUE(RIGHT(TRIM(V6),LEN(TRIM(V6))-SEARCH(\"/\",(TRIM(V6))))),\"\"),\"\")","v":""},{"$f":"IFERROR(IF($BV6=\"\",\"\",IF(AND($BR6=\"N\",$BV6=\"N\"),TEXT(0,\"0\")&\"-\"&TEXT(ABS($BW6-$BS6),\"0.0\")&\"-\"&TEXT(ABS(IF($BX6=\"\",0,$BX6)-IF($BT6=\"\",0,$BT6)),\"0\"),IF(OR($BR6=\"N\",$BV6=\"N\"),TEXT(1,\"0\")&\"-\"&TEXT(ABS($BW6-$BS6),\"0.0\")&\"-\"&TEXT(ABS(IF($BX6=\"\",0,$BX6)-IF($BT6=\"\",0,$BT6)),\"0\"),TEXT(ABS(VLOOKUP($BV6,$CC$62:$CD$81,2,FALSE)-VLOOKUP($BR6,$CC$62:$CD$81,2,FALSE)),\"0\")&\"-\"&TEXT(ABS($BW6-$BS6),\"0.0\")&\"-\"&TEXT(ABS(IF($BX6=\"\",0,$BX6)-IF($BT6=\"\",0,$BT6)),\"0\")))),\"\")","v":""},{"$f":"IFERROR(IF(SEARCH(\"C\",AI6,1)>=1,IF(AND($BW6<>\"\",$BW6<=3,OR($BX6=2,$BX6=1,$BX6=\"\"),$BS6<>\"\",$BS6<=3,OR($BX6=2,$BX6=1,$BX6=\"\")),$BZ$61,IF(OR($BR6=\"N\",$BV6=\"N\"),VLOOKUP($BY6,$CI$62:$CJ$445,2,FALSE),IF(ABS(VLOOKUP($BV6,$CC$62:$CD$81,2,FALSE)-VLOOKUP($BR6,$CC$62:$CD$81,2,FALSE))>=3,$BZ$63,VLOOKUP($BY6,$CI$62:$CJ$445,2,FALSE)))),0),0)","v":0},{"$f":"IF(AQ6=\"\",\"\",AQ6)","v":""},{"$f":"IF(AND(OR($BZ6=$BZ$62,$BZ6=$BZ$63),$AE6>=CB$13),TRUE,IF(AND($BO6=$BO7,CB7=TRUE),TRUE,FALSE))","v":false},{"$f":"IF(AND(($AE6>0),OR($BZ6=$BZ$62,$BZ6=$BZ$63)),$AE6,0)","v":0},{"$f":"IF(OR(CB6=TRUE,CC6>=CB$13),TRUE,FALSE)","v":false},{"$f":"IF($BO6=$BO7,IF(OR(CD6=TRUE,CD7=TRUE,CE7=TRUE),TRUE,FALSE),IF(CD6=TRUE,TRUE,FALSE))","v":false},{"$f":"IF(AND(OR($BZ6=$BZ$62,$BZ6=$BZ$63),$AE6>=CF$13),TRUE,IF(AND($BO6=$BO7,CF7=TRUE),TRUE,FALSE))","v":false},{"$f":"IF(AND(($AE6>0),OR($BZ6=$BZ$62,$BZ6=$BZ$63)),$AE6,0)","v":0},{"$f":"IF(OR(CF6=TRUE,CG6>=CF$13),TRUE,FALSE)","v":false},{"$f":"IF($BO6=$BO7,IF(OR(CH6=TRUE,CH7=TRUE,CI7=TRUE),TRUE,FALSE),IF(CH6=TRUE,TRUE,FALSE))","v":false},"Min Cum. Thickness",{"$f":"IF(ISNA(MATCH($AQ6,$BX$65:$BX$67,0)),0,$BP6-$BO6)","v":0},{"$f":"IF($BP6<=CJ$9,CK6,IF(AND($BO6<CJ$9,CK6>0),CK6-($BP6-CJ$9),0))","v":0},{"$f":"IF(ISNA(MATCH(CA6,$BX$65:$BX$67,0)),FALSE,TRUE)","v":false},{"$f":"IF(ISNA(MATCH($CA6,$BX$61:$BX$64,0)),0,IF(AND(SUM(CL$6:CL6)=0,$BT6>2,$BT6<>\"\"),$BP6-$BO6,0))","v":0},{"$f":"IF(AND($B6<>\"\",$AQ6<>\"\",SUM(CN$6:CN6)>=6),TRUE,FALSE)","v":false},"Min Cum. Thickness",{"$f":"IF(ISNA(MATCH($CA6,$BX$65:$BX$67,0)),0,$BP6-$BO6)","v":0},{"$f":"CQ6","v":0},null,"Min Cum. Thickness",{"$f":"IF(ISNA(MATCH($AQ6,$BX$65:$BX$67,0)),0,IF(ISNA(MATCH($BR6,$CC$68:$CC$70,0)),0,IF(AND($BS6<>\"\",$BS6<=3,OR($BT6=1,$BT6=\"\")),$BP6-$BO6,0)))","v":0},{"$f":"IF($BO6>CT$9,0,CU6)","v":0},null,{"$f":"IF(ISNA(MATCH($CA6,$BX$61:$BX$64,0)),0,IF(AND(SUM(CV$6:CV6)=0,$BT6>2,$BT6<>\"\"),$BP6-$BO6,0))","v":0},{"$f":"IF(AND($B6<>\"\",$AQ6<>\"\",SUM(CX$6:CX6)>=6),TRUE,FALSE)","v":false},{"$f":"IF('Page 1 (Hydrology)'!P27=\"X\",\"X\",\"\")","v":""},"Max Start Depth",{"$f":"IF($B6=\"\",0,IF(AND($BS6<>\"\",$BS6<=3,OR($BT6=1,$BT6=\"\")),IF($AQ6<>\"\",TRUE,FALSE),IF(ISNA(MATCH($CA6,$BX$63:$BX$67,0)),FALSE,IF($AQ6<>\"\",TRUE,FALSE))))","v":0},{"$f":"IF(OR($B6=\"\",DB6=TRUE),0,IF(OR($BT6=2,$BT6=1,$BT6=\"\"),IF($AQ6<>\"\",TRUE,FALSE),FALSE))","v":0},{"$f":"IF($BO6<=$DA$7,COUNTIF(DC6,TRUE),0)","v":0},null,{"$f":"IF(ISNA(MATCH(TRUE,$DB7:$DB$12,0)),FALSE,IF(AND($BO6<=$DA$7,INDIRECT(ADDRESS(MATCH(TRUE,$DB7:$DB$12,0)+6,67))<=$DA$7,DC6=TRUE),TRUE,FALSE))","v":false},null,null,"Max Start Depth",{"$f":"IF(ISNA(MATCH($AY6,$BZ$61:$BZ$63,0)),IF(AND($BO6<=DI$7,$B6<>\"\",$AQ6<>\"\",$AY6<>\"\"),TRUE,FALSE),FALSE)","v":false},{"$f":"IF(ISNA(MATCH($CA6,$BX$61:$BX$64,0)),0,IF(ISNA(MATCH(TRUE,DJ$6:DJ6,0)),IF(AND($BT6>2,$BT6<>\"\"),$BP6-$BO6,0),0))","v":0},{"$f":"IF(AND($B6<>\"\",$AQ6<>\"\",SUM(DK$6:DK6)>=6),TRUE,FALSE)","v":false},"Min Cum. Thickness",{"$f":"IF(OR($CA6=$BX$63,$CA6=$BX$64),$BP6-$BO6,0)","v":0},{"$f":"IF($BO6>DM$9,0,DN6)","v":0},{"$f":"IF(ISNA(MATCH($CA6,$BX$61:$BX$64,0)),0,IF(AND(SUM(DO$6:DO6)=0,$BT6>2,$BT6<>\"\"),$BP6-$BO6,0))","v":0},{"$f":"IF(AND($B6<>\"\",$AQ6<>\"\",SUM(DP$6:DP6)>=6),TRUE,FALSE)","v":false},"Max Start Depth",{"$f":"IF(AND($B6<>\"\",$AQ6<>\"\",$CA6=$BX$65,$BS6<>\"\",$BS6<=3,OR($BT6=1,$BT6=\"\"),$BO6<=DR$7),TRUE,FALSE)","v":false},{"$f":"IF(ISNA(MATCH($CA6,$BX$61:$BX$64,0)),0,IF(ISNA(MATCH(TRUE,DS$6:DS6,0)),IF(AND($BT6>2,$BT6<>\"\"),$BP6-$BO6,0),0))","v":0},{"$f":"IF(AND($B6<>\"\",$AQ6<>\"\",SUM(DT$6:DT6)>=6),TRUE,FALSE)","v":false},"Min Cum. Thickness",{"$f":"IF(AND($CA6=$BX$65,$BS6<>\"\",$BS6<=3,OR($BT6=1,$BT6=\"\")),$BP6-$BO6,0)","v":0},{"$f":"IF($BO6>DV$9,0,DW6)","v":0},{"$f":"IF(ISNA(MATCH($CA6,$BX$61:$BX$64,0)),0,IF(AND(SUM(DX$6:DX6)=0,$BT6>2,$BT6<>\"\"),$BP6-$BO6,0))","v":0},{"$f":"IF(AND($B6<>\"\",$AQ6<>\"\",SUM(DY$6:DY6)>=6),TRUE,FALSE)","v":false},"Min Cum. Thickness",{"$f":"IF(AND($CA6=$BX$65,$BS6<>\"\",$BS6<=3,OR($BT6=1,$BT6=\"\")),$BP6-$BO6,0)","v":0},{"$f":"IF($BO6>EA$9,0,EB6)","v":0},{"$f":"IF(ISNA(MATCH($CA6,$BX$61:$BX$64,0)),0,IF(AND(SUM(EC$6:EC6)=0,$BT6>2,$BT6<>\"\"),$BP6-$BO6,0))","v":0},{"$f":"IF(AND($B6<>\"\",$AQ6<>\"\",SUM(ED$6:ED6)>=6),TRUE,FALSE)","v":false},"Min Cum. Thickness","Min Cum. Thickness Fragmental",{"$f":"IF(BO6<=6,IF(AND(OR($CA6=$BX$62,$CA6=$BX$64),$BS6<>\"\",$BS6<=3,OR($BT6=1,$BT6=\"\")),\"SAND\",IF(AND(OR($CA6=$BX$61,$CA6=$BX$63,$CA6=$BX$65,$CA6=$BX$66,$CA6=$BX$67),$BS6<>\"\",$BS6<=3,OR($BT6=2,$BT6=1,$BT6=\"\")),TRUE,FALSE)),FALSE)","v":false},{"$nulls":3},{"$f":"IF(ISNA(MATCH($CA6,$BX$61:$BX$64,0)),0,IF(ISNA(MATCH(TRUE,EH$6:EH6,0)),IF(AND($BT6>2,$BT6<>\"\"),$BP6-$BO6,0),0))","v":0},{"$f":"IF(AND($B6<>\"\",$AQ6<>\"\",SUM(EL$6:EL6)>=6),TRUE,FALSE)","v":false},"Upper Min Cum. Thickness",{"$f":"IF(AND($BS6<>\"\",$BS6<=2.5,OR($BT6=1,$BT6=\"\")),$BP6-$BO6,0)","v":0},{"$f":"IF($BO6>=EN$9,0,EO6)","v":0},{"$f":"IFERROR(IF($BQ6=\"\",0,IF(AND(OR(VLOOKUP($BQ6,$BO$62:$BR$497,2,FALSE),VLOOKUP($BQ6,$BO$62:$BR$497,4,FALSE)),$BU6>=60),$BP6-$BO6,IF(AND(VLOOKUP($BQ6,$BO$62:$BR$497,3,FALSE),CE6=TRUE,$BU6>=60),$BP6-$BO6,0))),0)","v":0},{"$f":"IF($BO6>=EN$13,EQ6,0)","v":0},{"$f":"IF(AND(ER$12>=EN$11,EP$11>=EN$7,EP6>0,ER6=0),IF(AND($BS6<>\"\",$BS6<=3,OR($BT6=1,$BT6=\"\")),IF(OR($CA6=$BX$62,$CA6=$BX$64),\"SAND\",TRUE),FALSE),\"0\")","v":"0"},{"$f":"IF(ISNA(MATCH($CA6,$BX$61:$BX$64,0)),0,IF(AND(SUM(EP$6:EP6)=0,$BT6>2,$BT6<>\"\"),$BP6-$BO6,0))","v":0},{"$f":"IF(AND($B6<>\"\",$AQ6<>\"\",SUM(ET$6:ET6)>=6),TRUE,FALSE)","v":false},"Min Cum. Thickness",{"$f":"IF(AND(OR($BT6=3,$BT6=2,$BT6=1,$BT6=\"\"),CE6=TRUE),$BP6-$BO6,0)","v":0},{"$f":"IF($BO6>EV$9,0,EW6)","v":0},"Min Cum. Thickness",{"$f":"IF($CA6=$BX$64,$BP6-$BO6,0)","v":0},{"$f":"IF($BO6>EY$9,0,EZ6)","v":0},{"$f":"IF(ISNA(MATCH($CA6,$BX$61:$BX$64,0)),0,IF(AND(SUM(FA$6:FA6)=0,$BT6>2,$BT6<>\"\"),$BP6-$BO6,0))","v":0},{"$f":"IF(AND($B6<>\"\",$AQ6<>\"\",SUM(FB$6:FB6)>=6),TRUE,FALSE)","v":false},"Max Start Depth",{"$f":"IFERROR(IF($BQ6=\"\",FALSE,IF(AND($B6<>\"\",$AQ6<>\"\",OR($CA6=$BX$62,$CA6=$BX$64),VLOOKUP($BQ6,$BO$62:$BR$497,4,FALSE),$BU6>=60,$BO6<=FD$7),TRUE,FALSE)),FALSE)","v":false},{"$f":"IF(ISNA(MATCH($CA6,$BX$61:$BX$64,0)),0,IF(ISNA(MATCH(TRUE,FE$6:FE6,0)),IF(AND($BT6>2,$BT6<>\"\"),$BP6-$BO6,0),0))","v":0},{"$f":"IF(AND($B6<>\"\",$AQ6<>\"\",SUM(FF$6:FF6)>=6),TRUE,FALSE)","v":false},"Min Cum. Thickness",{"$f":"IF(AND(OR($CA6=$BX$62,$CA6=$BX$64),$BU6>=60,OR($BT6=2,$BT6=1,$BT6=\"\"),$CE6=TRUE),$BP6-$BO6,0)","v":0},{"$f":"IF($BO6>FH$9,0,FI6)","v":0},{"$f":"IF(ISNA(MATCH($CA6,$BX$61:$BX$64,0)),0,IF(AND(SUM(FJ$6:FJ6)=0,$BT6>2,$BT6<>\"\"),$BP6-$BO6,0))","v":0},{"$f":"IF(AND($B6<>\"\",$AQ6<>\"\",SUM(FK$6:FK6)>=6),TRUE,FALSE)","v":false},"Max Start Depth",{"$f":"IF(AND($B6<>\"\",$AQ6<>\"\",OR($CA6=$BX$62,$CA6=$BX$64),$BO6<=FM$7,$BU6>0,$BU6<=90),TRUE,FALSE)","v":false},"Min Cum. Thickness",{"$f":"IF(AND(OR($CA6=$BX$62,$CA6=$BX$64),$BS6<>\"\",$BS6<=3,OR($BT6=1,$BT6=\"\")),$BP6-$BO6,0)","v":0},{"$f":"IF($BO6>FO$9,0,FP6)","v":0},{"$f":"IF(AND(FP6>FO$7,BO6<=FO$9,$B6<>\"\",$AQ6<>\"\"),TRUE,FALSE)","v":false},null,{"$f":"IF(ISNA(MATCH($CA6,$BX$61:$BX$64,0)),0,IF(AND(SUM(FQ$6:FQ6)=0,$BT6>2,$BT6<>\"\"),$BP6-$BO6,0))","v":0},{"$f":"IF(AND($B6<>\"\",$AQ6<>\"\",SUM(FT$6:FT6)>=6),TRUE,FALSE)","v":false},"Dark Soil",{"$f":"IF(AND(OR($CA6=$BX$62,$CA6=$BX$64),$BO6<=FV$9,$BS6<>\"\",$BS6<=3,OR($BT6=1,$BT6=\"\")),TRUE,FALSE)","v":false},{"$nulls":4},{"$f":"IF(ISNA(MATCH($CA6,$BX$61:$BX$64,0)),0,IF(ISNA(MATCH(TRUE,FW$6:FW6,0)),IF(AND($BT6>2,$BT6<>\"\"),$BP6-$BO6,0),0))","v":0},{"$f":"IF(AND($B6<>\"\",$AQ6<>\"\",SUM(GB$6:GB6)>=6),TRUE,FALSE)","v":false},"Min Cum. Thickness",{"$f":"IF(AND(OR($CA6=$BX$62,$CA6=$BX$64),$BS6<>\"\",$BS6<=3,OR($BT6=1,$BT6=\"\")),$BP6-$BO6,0)","v":0},{"$f":"IF($BO6>GD$9,0,GE6)","v":0},null,"Min Cum. Thickness",{"$f":"IF(AND($CA6=$BX$65,$BS6<>\"\",$BS6<=3,OR($BT6=2,$BT6=1,$BT6=\"\")),$BP6-$BO6,0)","v":0},{"$f":"IF($BO6>GH$9,0,GI6)","v":0},{"$f":"IF(ISNA(MATCH($CA6,$BX$61:$BX$64,0)),0,IF(AND(SUM(GJ$6:GJ6)=0,$BT6>2,$BT6<>\"\"),$BP6-$BO6,0))","v":0},{"$f":"IF(AND($B6<>\"\",$AQ6<>\"\",SUM(GK$6:GK6)>=6),TRUE,FALSE)","v":false},"Min Cum. Thickness",{"$f":"IF($CA6=$BX$63,$BP6-$BO6,0)","v":0},{"$f":"IF($BO6>GM$9,0,GN6)","v":0},{"$f":"IF(ISNA(MATCH($CA6,$BX$61:$BX$64,0)),0,IF(AND(SUM(GO$6:GO6)=0,$BT6>2,$BT6<>\"\"),$BP6-$BO6,0))","v":0},{"$f":"IF(AND($B6<>\"\",$AQ6<>\"\",SUM(GP$6:GP6)>=6),TRUE,FALSE)","v":false},"Max Start Depth",{"$f":"IFERROR(IF($BQ6=\"\",FALSE,IF(AND($B6<>\"\",$AQ6<>\"\",OR($CA6=$BX$61,$CA6=$BX$63),VLOOKUP($BQ6,$BO$62:$BR$497,4,FALSE),$BU6>=60,$BO6<=GR$7),TRUE,FALSE)),FALSE)","v":false},{"$f":"IF(ISNA(MATCH($CA6,$BX$61:$BX$64,0)),0,IF(ISNA(MATCH(TRUE,GS$6:GS6,0)),IF(AND($BT6>2,$BT6<>\"\"),$BP6-$BO6,0),0))","v":0},{"$f":"IF(AND($B6<>\"\",$AQ6<>\"\",SUM(GT$6:GT6)>=6),TRUE,FALSE)","v":false},"Min Cum. Thickness","Min Cum. Thickness",{"$f":"IFERROR(IF($BQ6=\"\",0,IF(AND(OR($CA6=$BX$61,$CA6=$BX$63),VLOOKUP($BQ6,$BO$62:$BR$497,2,FALSE),$BU6>=60),$BP6-$BO6,IF(AND(OR($CA6=$BX$61,$CA6=$BX$63),VLOOKUP($BQ6,$BO$62:$BR$497,3,FALSE),$CE6=TRUE,$BU6>=60),$BP6-$BO6,0))),0)","v":0},{"$f":"IF($BP6<=GV$9,GX6,IF(AND($BO6<GV$9,GX6>0),GX6-($BP6-GV$9),0))","v":0},{"$f":"IF($BO6>GW$9,0,GX6)","v":0},{"$f":"IF(ISNA(MATCH($CA6,$BX$61:$BX$64,0)),0,IF(AND(SUM(GZ$6:GZ6)=0,$BT6>2,$BT6<>\"\"),$BP6-$BO6,0))","v":0},{"$f":"IF(AND($B6<>\"\",$AQ6<>\"\",SUM(HA$6:HA6)>=6),TRUE,FALSE)","v":false},"Min Cum. Thickness",{"$f":"IF(OR($CA6=$BX$61,$CA6=$BX$63),IF(AND($BS6<>\"\",$BS6<=3,OR($BT6=1,$BT6=\"\"),$CE6=TRUE),$BP6-$BO6,IF(AND($BS6<>\"\",$BS6<=3,OR($BT6=2,BT6=1,$BT6=\"\"),$CI6=TRUE),$BP6-$BO6,0)),0)","v":0},{"$f":"IF($BP6<=HC$9,HD6,IF(AND($BO6<HC$9,HD6>0),HD6-($BP6-HC$9),0))","v":0},{"$f":"IF(ISNA(MATCH($CA6,$BX$61:$BX$64,0)),0,IF(AND(SUM(HE$6:HE6)=0,$BT6>2,$BT6<>\"\"),$BP6-$BO6,0))","v":0},{"$f":"IF(AND($B6<>\"\",$AQ6<>\"\",SUM(HF$6:HF6)>=6),TRUE,FALSE)","v":false},"Redox Depletions",{"$f":"IF(AND(IFERROR(IF(SEARCH(\"D\",AI6,1)>=1,TRUE,FALSE),FALSE),$AE6>=$HH$7,$BW6<>\"\",$BW6>=5,OR($BX6=2,$BX6=1,$BX6=\"\")),TRUE,IF(AND($BO6=$BO7,HI7=TRUE),TRUE,FALSE))","v":false},{"$f":"IFERROR(IF(AND($AE6>0,IFERROR(IF(SEARCH(\"D\",AI6,1)>=1,TRUE,FALSE),FALSE),$BW6<>\"\",$BW6>=5,OR($BX6=2,$BX6=1,$BX6=\"\")),$AE6,0),0)","v":0},{"$f":"IF(OR(HI6=TRUE,HJ6>=HH$7),TRUE,FALSE)","v":false},{"$f":"IF($BO6=$BO7,IF(OR(HK6=TRUE,HK7=TRUE,HL7=TRUE),TRUE,FALSE),IF(HK6=TRUE,TRUE,FALSE))","v":false},{"$f":"IF(AND(IFERROR(IF(SEARCH(\"D\",AI6,1)>=1,TRUE,FALSE),FALSE),$AE6>=$HH$8,$BW6<>\"\",$BW6>=5,OR($BX6=2,$BX6=1,$BX6=\"\")),TRUE,IF(AND($BO6=$BO7,HM7=TRUE),TRUE,FALSE))","v":false},{"$f":"IF(OR(HM6=TRUE,HJ6=HH$8),TRUE,FALSE)","v":false},{"$f":"IF($BO6=$BO7,IF(OR(HN6=TRUE,HN7=TRUE,HO7=TRUE),TRUE,FALSE),IF(HN6=TRUE,TRUE,FALSE))","v":false},{"$f":"IF(OR($CA6=$BX$61,$CA6=$BX$63),IF(OR(AND($BS6<>\"\",$BS6<=3,OR($BT6=1,$BT6=\"\"),$HL6=TRUE),AND($BS6<>\"\",$BS6<=3,OR($BT6=2,$BT6=1,$BT6=\"\"),$HO6=TRUE)),$BP6-$BO6,0),0)","v":0},{"$f":"IF($BP6<=HH$12,HP6,IF(AND($BO6<HH$12,HP6>0),HP6-($BP6-HH$12),0))","v":0},{"$f":"IF(ISNA(MATCH($CA6,$BX$61:$BX$64,0)),0,IF(AND(SUM(HQ$6:HQ6)=0,$BT6>2,$BT6<>\"\"),$BP6-$BO6,0))","v":0},{"$f":"IF(AND($B6<>\"\",$AQ6<>\"\",SUM(HR$6:HR6)>=6),TRUE,FALSE)","v":false},"Min Cum. Thickness",{"$f":"IF(OR($CA6=$BX$61,$CA6=$BX$63),IF($CI6=TRUE,$BP6-$BO6,0),0)","v":0},{"$f":"IF($BP6<=HT$9,HU6,IF(AND($BO6<HT$9,HU6>0),HU6-($BP6-HT$9),0))","v":0},"Max Start Depth",{"$f":"IF(AND($B6<>\"\",$AQ6<>\"\",OR($CA6=$BX$61,$CA6=$BX$63),$BS6<>\"\",$BS6>=5,OR($BT6=2,$BT6=1,$BT6=\"\"),$BO6<=HW$7),TRUE,FALSE)","v":false},"Min Cum. Thickness",{"$f":"IF(AND(OR($CA6=$BX$61,$CA6=$BX$63),$BU6>=60,$BS6<>\"\",$BS6>=4,OR($BT6=1,$BT6=\"\")),$BP6-$BO6,0)","v":0},{"$f":"IF($BP6<=HY$9,HZ6,IF(AND($BO6<HY$9,HZ6>0),HZ6-($BP6-HY$9),0))","v":0},{"$f":"IF(ISNA(MATCH($CA6,$BX$61:$BX$64,0)),0,IF(AND(SUM(IA$6:IA6)=0,$BT6>2,$BT6<>\"\"),$BP6-$BO6,0))","v":0},{"$f":"IF(AND($B6<>\"\",$AQ6<>\"\",SUM(IB$6:IB6)>=6),TRUE,FALSE)","v":false},"Redox",{"$f":"IF(AND(OR($BZ6=$BZ$62,$BZ6=$BZ$63),$AE6>=$ID$7,$BW6<>\"\",$BW6<=3,OR($BX6=3,$BX6=2,$BX6=1,$BX6=\"\")),TRUE,IF(AND($BO6=$BO7,IE7=TRUE),TRUE,FALSE))","v":false},{"$f":"IF(AND(($AE6>0),OR($BZ6=$BZ$62,$BZ6=$BZ$63),$BW6<>\"\",$BW6<=3,OR($BX6=3,$BX6=2,$BX6=1,$BX6=\"\")),$AE6,0)","v":0},{"$f":"IF(OR(IE6=TRUE,IF6>=ID$7),TRUE,FALSE)","v":false},{"$f":"IF($BO6=$BO7,IF(OR(IG6=TRUE,IG7=TRUE,IH7=TRUE),TRUE,FALSE),IF(IG6=TRUE,TRUE,FALSE))","v":false},{"$f":"IF(AND(OR($CA6=$BX$61,$CA6=$BX$63),OR($BT6=2,$BT6=1,$BT6=\"\"),$BU6>=40,IH6=TRUE),$BP6-$BO6,0)","v":0},{"$f":"IF($BP6<=ID$11,II6,IF(AND($BO6<ID$11,II6>0),II6-($BP6-ID$11),0))","v":0},{"$f":"IF(AND(OR($CA6=$BX$61,$CA6=$BX$63),OR($BT6=2,$BT6=1,$BT6=\"\"),$BU6>=40,IH6=TRUE),TRUE,FALSE)","v":false},"Upper Min Cum. Thickness",{"$f":"IF(AND(OR($CA6=$BX$61,$CA6=$BX$63),$BS6<>\"\",$BS6<=3,OR($BT6=1,$BT6=\"\")),$BP6-$BO6,0)","v":0},{"$f":"IF($BO6>IL$11,0,IM6)","v":0},{"$f":"IF(AND(OR($CA6=$BX$61,$CA6=$BX$63),IN6>0,OR($BT6=2,$BT6=1,$BT6=\"\")),$BP6-$BO6,0)","v":0},{"$f":"IO6","v":0},{"$f":"IF(ISNA(MATCH($CA6,$BX$61:$BX$64,0)),0,IF(AND(SUM(IN$6:IN6)=0,$BT6>2,$BT6<>\"\"),$BP6-$BO6,0))","v":0},{"$f":"IF(AND($B6<>\"\",$AQ6<>\"\",SUM(IQ$6:IQ6)>=6),TRUE,FALSE)","v":false},"Min Cum. Thickness",{"$f":"IF(AND(OR($CA6=$BX$61,$CA6=$BX$63),$BU6>=60,IFERROR(IF(SEARCH(\"C\",$AI6,1)>=1,FALSE,TRUE),TRUE),$BS6<>\"\",$BS6>=4,OR($BT6=2,$BT6=1,$BT6=\"\")),$BP6-$BO6,0)","v":0},{"$f":"IF($BP6<=IS$9,IT6,IF(AND($BO6<IS$9,IT6>0),IT6-($BP6-IS$9),0))","v":0},{"$f":"IF(ISNA(MATCH($CA6,$BX$61:$BX$64,0)),0,IF(AND(SUM(IU$6:IU6)=0,$BT6>2,$BT6<>\"\"),$BP6-$BO6,0))","v":0},{"$f":"IF(AND($B6<>\"\",$AQ6<>\"\",SUM(IV$6:IV6)>=6),TRUE,FALSE)","v":false},"Min Cum. Thickness","Min Cum. Thickness",{"$f":"IF(OR($CA6=$BX$61,$CA6=$BX$63),$BP6-$BO6,0)","v":0},{"$f":"IF($BP6<=IX$9,IZ6,IF(AND($BO6<IX$9,IZ6>0),IZ6-($BP6-IX$9),0))","v":0},{"$f":"IF($BP6<=IY$9,IZ6,IF(AND($BO6<IY$9,IZ6>0),IZ6-($BP6-IY$9),0))","v":0},{"$f":"IF(ISNA(MATCH($CA6,$BX$61:$BX$64,0)),0,IF(AND(SUM(JA$6:JA6)=0,$BT6>2,$BT6<>\"\"),$BP6-$BO6,0))","v":0},{"$f":"IF(AND($B6<>\"\",$AQ6<>\"\",SUM(JC$6:JC6)>=6),TRUE,FALSE)","v":false},"Redox",{"$f":"IF(AND(OR($BZ6=$BZ$62,$BZ6=$BZ$63),$AE6>=JE$7),TRUE,IF(AND($BO6=$BO7,JF7=TRUE),TRUE,FALSE))","v":false},{"$f":"IF(AND(($AE6>0),OR($BZ6=$BZ$62,$BZ6=$BZ$63)),$AE6,0)","v":0},{"$f":"IF(OR(JF6=TRUE,JG6>=JE$7),TRUE,FALSE)","v":false},{"$f":"IF($BO6=$BO7,IF(OR(JH6=TRUE,JH7=TRUE,JI7=TRUE),TRUE,FALSE),IF(JH6=TRUE,TRUE,FALSE))","v":false},{"$f":"IF(AND(OR($CA6=$BX$61,$CA6=$BX$63),OR($BT6=3,$BT6=2,$BT6=1,$BT6=\"\"),$BU6>=60,JI6=TRUE),$BP6-$BO6,0)","v":0},{"$f":"IF($BO6>JE$11,0,JJ6)","v":0},"Redox/Depletions",{"$f":"IF(OR(AND(OR($BZ6=$BZ$62,$BZ6=$BZ$63,IFERROR(IF(SEARCH(\"D\",$AI6,1)>=1,TRUE,FALSE),FALSE)),$AE6>=JL$7)),TRUE,IF(AND($BO6=$BO7,JM7=TRUE),TRUE,FALSE))","v":false},{"$f":"IF(AND(($AE6>0),OR($BZ6=$BZ$62,$BZ6=$BZ$63,IFERROR(IF(SEARCH(\"D\",$AI6,1)>=1,TRUE,FALSE),FALSE))),$AE6,0)","v":0},{"$f":"IF(OR(JM6=TRUE,JN6>=JL$7),TRUE,FALSE)","v":false},{"$f":"IF($BO6=$BO7,IF(OR(JO6=TRUE,JO7=TRUE,JP7=TRUE),TRUE,FALSE),IF(JO6=TRUE,TRUE,FALSE))","v":false},{"$f":"IF(AND(OR($CA6=$BX$61,$CA6=$BX$63),$BU6>=60,OR($BT6<=4,$BT6=\"\"),$JP6=TRUE),$BP6-$BO6,0)","v":0},{"$f":"IF($BO6>JL$11,0,JQ6)","v":0},"Redox/Depletions",{"$f":"IFERROR(IF(AND(OR($BZ6=$BZ$62,$BZ6=$BZ$63,AND(IFERROR(IF(SEARCH(\"D\",AI6,1)>=1,TRUE,FALSE),FALSE),OR(AND($BW6-$BS6>=1,IFERROR($BT6-$BX6>=1,IF(AND($BW6<>\"\",$BX6=\"\"),TRUE,FALSE))),AND($BW6>=4,OR($BX6=2,$BX6=1,$BX6=\"\"))))),$AE6>=JS$7),TRUE,IF(AND($BO6=$BO7,JT7=TRUE),TRUE,FALSE)),FALSE)","v":false},{"$f":"IFERROR(IF(AND($AE6>0,OR($BZ6=$BZ$62,$BZ6=$BZ$63,AND(IFERROR(IF(SEARCH(\"D\",AI6,1)>=1,TRUE,FALSE),FALSE),OR(AND($BW6-$BS6>=1,IFERROR($BT6-$BX6>=1,IF(AND($BW6<>\"\",$BX6=\"\"),TRUE,FALSE))),AND($BW6>=4,OR($BX6=2,$BX6=1,$BX6=\"\")))))),$AE6,0),0)","v":0},{"$f":"IF(OR(JT6=TRUE,JU6>=JS$7),TRUE,FALSE)","v":false},{"$f":"IF($BO6=$BO7,IF(OR(JV6=TRUE,JV7=TRUE,JW7=TRUE),TRUE,FALSE),IF(JV6=TRUE,TRUE,FALSE))","v":false},{"$f":"IF(ISNA(MATCH($BR6,$CC$62:$CC$67,0)),0,IF(AND(OR($CA6=$BX$61,$CA6=$BX$63),$BS6<>\"\",$BS6<=4,$BS6>2,$BT6<>\"\",$BT6<=4,$BT6>2,$JW6=TRUE),$BP6-$BO6,0))","v":0},{"$f":"IF($BO6>JS$11,0,JX6)","v":0},"Min Cum. Thickness if bedrock is between 6-10 inches down","Min Cum. Thickness if bedrock is <=6 inches down",{"$f":"IF(AND(OR($CA6=$BX$61,$CA6=$BX$63),IFERROR(IF(SEARCH(\"bedrock\",$G$37,1)>=1,TRUE,FALSE),FALSE),$K$38<=10,$BS6<>\"\",$BS6<=2.5,OR($BT6=1,$BT6=\"\")),$BP6-$BO6,0)","v":0},{"$f":"IF($BO6>JZ$9,0,KB6)","v":0},{"$f":"KB6","v":0},{"$f":"IF(KB6>0,TRUE,IF(AND(OR($CA6=$BX$61,$CA6=$BX$63),OR($BT6=2,$BT6=1,$BT6=\"\")),TRUE,FALSE))","v":false},"Min Cum. Thickness Upper",{"$f":"IF(AND(OR($CA6=$BX$62,$CA6=$BX$64),$BS6<>\"\",$BS6<=4,OR($BT6=2,$BT6=1,$BT6=\"\")),$BP6-$BO6,0)","v":0},{"$f":"IF($BO6>0,0,KG6)","v":0},null,null,"Max Start Depth",{"$f":"IF(AND(BO6<=KK$7,AI6=\"RM\"),TRUE,FALSE)","v":false}]
[{"$nulls":66},{"$f":"IFERROR(IF(B7=\"\",BO6,IF(B7=\"\",\"\",VALUE(LEFT(B7,SEARCH(\"-\",B7)-1)))),\"\")","v":""},{"$f":"IFERROR(IF(B7=\"\",BP6,IF(B7=\"\",\"\",VALUE(RIGHT(B7,LEN(B7)-SEARCH(\"-\",B7))))),\"\")","v":""},{"$f":"IF(H7=\"\",BQ6,H7)","v":""},{"$f":"IFERROR(IF(H7=\"\",BR6,IF(H7=\"\",\"\",LEFT(TRIM(H7),SEARCH(\" \",(TRIM(H7)))-1))),\"\")","v":""},{"$f":"IFERROR(IF(H7=\"\",BS6,IF(H7=\"\",\"\",VALUE(MID(TRIM(H7),SEARCH(\" \",(TRIM(H7)))+1,(SEARCH(\"/\",(TRIM(H7)))-SEARCH(\" \",(TRIM(H7)))-1))))),\"\")","v":""},{"$f":"IFERROR(IF(H7=\"\",BT6,IF(AND(H7<>\"\",ISNUMBER(VALUE(RIGHT(TRIM(H7),1)))),VALUE(RIGHT(TRIM(H7),LEN(TRIM(H7))-SEARCH(\"/\",(TRIM(H7))))),\"\")),\"\")","v":""},{"$f":"IF(H7=\"\",BU6,VALUE(R7))","v":0},{"$f":"IFERROR(IF(V7=\"\",\"\",LEFT(TRIM(V7),SEARCH(\" \",(TRIM(V7)))-1)),\"\")","v":""},{"$f":"IFERROR(IF(V7=\"\",\"\",VALUE(MID(TRIM(V7),SEARCH(\" \",(TRIM(V7)))+1,(SEARCH(\"/\",(TRIM(V7)))-SEARCH(\" \",(TRIM(V7)))-1)))),\"\")","v":""},{"$f":"IFERROR(IF(AND(V7<>\"\",ISNUMBER(VALUE(RIGHT(TRIM(V7),1)))),VALUE(RIGHT(TRIM(V7),LEN(TRIM(V7))-SEARCH(\"/\",(TRIM(V7))))),\"\"),\"\")","v":""},{"$f":"IFERROR(IF($BV7=\"\",\"\",IF(AND($BR7=\"N\",$BV7=\"N\"),TEXT(0,\"0\")&\"-\"&TEXT(ABS($BW7-$BS7),\"0.0\")&\"-\"&TEXT(ABS(IF($BX7=\"\",0,$BX7)-IF($BT7=\"\",0,$BT7)),\"0\"),IF(OR($BR7=\"N\",$BV7=\"N\"),TEXT(1,\"0\")&\"-\"&TEXT(ABS($BW7-$BS7),\"0.0\")&\"-\"&TEXT(ABS(IF($BX7=\"\",0,$BX7)-IF($BT7=\"\",0,$BT7)),\"0\"),TEXT(ABS(VLOOKUP($BV7,$CC$62:$CD$81,2,FALSE)-VLOOKUP($BR7,$CC$62:$CD$81,2,FALSE)),\"0\")&\"-\"&TEXT(ABS($BW7-$BS7),\"0.0\")&\"-\"&TEXT(ABS(IF($BX7=\"\",0,$BX7)-IF($BT7=\"\",0,$BT7)),\"0\")))),\"\")","v":""},{"$f":"IFERROR(IF(SEARCH(\"C\",AI7,1)>=1,IF(AND($BW7<>\"\",$BW7<=3,OR($BX7=2,$BX7=1,$BX7=\"\"),$BS7<>\"\",$BS7<=3,OR($BX7=2,$BX7=1,$BX7=\"\")),$BZ$61,IF(OR($BR7=\"N\",$BV7=\"N\"),VLOOKUP($BY7,$CI$62:$CJ$445,2,FALSE),IF(ABS(VLOOKUP($BV7,$CC$62:$CD$81,2,FALSE)-VLOOKUP($BR7,$CC$62:$CD$81,2,FALSE))>=3,$BZ$63,VLOOKUP($BY7,$CI$62:$CJ$445,2,FALSE)))),0),0)","v":0},{"$f":"IF(AQ7=\"\",CA6,AQ7)","v":""},false,{"$f":"IF($BO7=$BO6,IF(OR($BZ7=$BZ$62,$BZ7=$BZ$63),$AE7+CC6,CC6),IF(OR($BZ7=$BZ$62,$BZ7=$BZ$63),$AE7,0))","v":0},false,false,false,{"$f":"IF($BO7=$BO6,IF(OR($BZ7=$BZ$62,$BZ7=$BZ$63),$AE7+CG6,CG6),IF(OR($BZ7=$BZ$62,$BZ7=$BZ$63),$AE7,0))","v":0},false,false,16,0,{"$f":"IF(OR($B7=\"\",$AQ7=\"\"),CL6,IF($BP7<=CJ$9,CL6+CK7,IF(AND($BO7<CJ$9,CK7>0),(CL6+CK7)-($BP7-CJ$9),CL6)))","v":0},{"$f":"IF(ISNA(MATCH(CA7,$BX$65:$BX$67,0)),FALSE,TRUE)","v":false},{"$f":"IF(ISNA(MATCH($CA7,$BX$61:$BX$64,0)),0,IF(AND(SUM(CL$6:CL7)=0,$BT7>2,$BT7<>\"\"),$BP7-$BO7,0))","v":0},{"$f":"IF(AND($B7<>\"\",$AQ7<>\"\",SUM(CN$6:CN7)>=6),TRUE,FALSE)","v":false},8,0,{"$f":"IF(OR($B7=\"\",$AQ7=\"\"),CR6,IF(ISNA(MATCH(0,CQ$6:CQ7,0)),CR6+CQ7,0))","v":0},{"$f":"IF(CR6>=CP$7,IF(ISNA(MATCH($CA7,$BX$61:$BX$64,0)),FALSE,IF(OR($BT7=2,$BT7=1,$BT7=\"\"),TRUE,FALSE)),FALSE)","v":false},8,0,{"$f":"IF(AND($BO7>CT$9,CV6=0),0,IF(OR($B7=\"\",$AQ7=\"\",$BO7>(CT$7+CT$9)),CV6,IF(AND(CU7=0,CV6<CT$7),0,CV6+CU7)))","v":0},{"$f":"IF(AND(CV6>=CT$7,CU6>0),IF(ISNA(MATCH($AQ7,$BX$61:$BX$64,0)),FALSE,IF(OR($BT7=2,$BT7=1,$BT7=\"\"),TRUE,FALSE)),FALSE)","v":false},{"$f":"IF(ISNA(MATCH($CA7,$BX$61:$BX$64,0)),0,IF(AND(SUM(CV$6:CV7)=0,$BT7>2,$BT7<>\"\"),$BP7-$BO7,0))","v":0},{"$f":"IF(AND($B7<>\"\",$AQ7<>\"\",SUM(CX$6:CX7)>=6),TRUE,FALSE)","v":false},"CZ8 will be checked X if B18 is checked X by Visual Basic subroutine",6,{"$f":"IF($B7=\"\",0,IF(AND($BS7<>\"\",$BS7<=3,OR($BT7=1,$BT7=\"\")),IF($AQ7<>\"\",TRUE,FALSE),IF(ISNA(MATCH($CA7,$BX$63:$BX$67,0)),FALSE,IF($AQ7<>\"\",TRUE,FALSE))))","v":0},{"$f":"IF(OR($B7=\"\",DB7=TRUE),0,IF(OR($BT7=2,$BT7=1,$BT7=\"\"),IF($AQ7<>\"\",TRUE,FALSE),FALSE))","v":0},{"$f":"IF($BO7<=$DA$7,COUNTIF(DC7,TRUE)+DD6,DD6)","v":0},{"$f":"IF(ISNA(MATCH(TRUE,$DB$6:$DB6,0)),IF(AND(DD6>=2,DB7=TRUE),TRUE,FALSE),IF(AND($BO7<=$DA$7,DC7=TRUE),TRUE,IF(AND($BO7<=$DA$7,DB7=TRUE),TRUE,FALSE)))","v":false},{"$f":"IF(ISNA(MATCH(TRUE,$DB8:$DB$12,0)),FALSE,IF(AND($BO7<=$DA$7,INDIRECT(ADDRESS(MATCH(TRUE,$DB8:$DB$12,0)+7,67))<=$DA$7,DC7=TRUE),TRUE,FALSE))","v":false},{"$f":"IF(ISNA(MATCH(TRUE,$DB$6:$DB6,0)),IF(ISNA(MATCH(TRUE,$DC$6:$DC6,0)),FALSE,TRUE),TRUE)","v":false},{"$f":"IF(AND($DB7=FALSE,$DC7=FALSE,$DG7=TRUE),TRUE,FALSE)","v":false},6,{"$f":"IF(ISNA(MATCH($AY7,$BZ$61:$BZ$63,0)),IF(AND($BO7<=DI$7,$B7<>\"\",$AQ7<>\"\",$AY7<>\"\"),TRUE,FALSE),FALSE)","v":false},{"$f":"IF(ISNA(MATCH($CA7,$BX$61:$BX$64,0)),0,IF(ISNA(MATCH(TRUE,DJ$6:DJ7,0)),IF(AND($BT7>2,$BT7<>\"\"),$BP7-$BO7,0),0))","v":0},{"$f":"IF(AND($B7<>\"\",$AQ7<>\"\",SUM(DK$6:DK7)>=6),TRUE,FALSE)","v":false},2,{"$f":"IF(OR($CA7=$BX$63,$CA7=$BX$64),$BP7-$BO7,0)","v":0},{"$f":"IF(AND($BO7>DM$9,DO6=0),0,IF(OR($B7=\"\",$AQ7=\"\",$BO7>(DM$7+DM$9)),DO6,IF(AND(DN7=0,DO6<DM$7),0,DO6+DN7)))","v":0},{"$f":"IF(ISNA(MATCH($CA7,$BX$61:$BX$64,0)),0,IF(AND(SUM(DO$6:DO7)=0,$BT7>2,$BT7<>\"\"),$BP7-$BO7,0))","v":0},{"$f":"IF(AND($B7<>\"\",$AQ7<>\"\",SUM(DP$6:DP7)>=6),TRUE,FALSE)","v":false},6,false,{"$f":"IF(ISNA(MATCH($CA7,$BX$61:$BX$64,0)),0,IF(ISNA(MATCH(TRUE,DS$6:DS7,0)),IF(AND($BT7>2,$BT7<>\"\"),$BP7-$BO7,0),0))","v":0},{"$f":"IF(AND($B7<>\"\",$AQ7<>\"\",SUM(DT$6:DT7)>=6),TRUE,FALSE)","v":false},0.5,0,{"$f":"IF(AND($BO7>DV$9,DX6=0),0,IF(OR($B7=\"\",$AQ7=\"\",$BO7>(DV$7+DV$9)),DX6,IF(AND(DW7=0,DX6<DV$7),0,DX6+DW7)))","v":0},{"$f":"IF(ISNA(MATCH($CA7,$BX$61:$BX$64,0)),0,IF(AND(SUM(DX$6:DX7)=0,$BT7>2,$BT7<>\"\"),$BP7-$BO7,0))","v":0},{"$f":"IF(AND($B7<>\"\",$AQ7<>\"\",SUM(DY$6:DY7)>=6),TRUE,FALSE)","v":false},0.75,0,{"$f":"IF(AND($BO7>EA$9,EC6=0),0,IF(OR($B7=\"\",$AQ7=\"\",$BO7>(EA$7+EA$9)),EC6,IF(AND(EB7=0,EC6<EA$7),0,EC6+EB7)))","v":0},{"$f":"IF(ISNA(MATCH($CA7,$BX$61:$BX$64,0)),0,IF(AND(SUM(EC$6:EC7)=0,$BT7>2,$BT7<>\"\"),$BP7-$BO7,0))","v":0},{"$f":"IF(AND($B7<>\"\",$AQ7<>\"\",SUM(ED$6:ED7)>=6),TRUE,FALSE)","v":false},6,2,{"$f":"IF(OR(BO7<=6,EH6=TRUE,EH6=\"SAND\"),IF(AND(OR($CA7=$BX$62,$CA7=$BX$64),$BS7<>\"\",$BS7<=3,OR($BT7=1,$BT7=\"\")),\"SAND\",IF(AND(OR($CA7=$BX$61,$CA7=$BX$63,$CA7=$BX$65,$CA7=$BX$66,$CA7=$BX$67),$BS7<>\"\",$BS7<=3,OR($BT7=2,$BT7=1,$BT7=\"\")),TRUE,FALSE)),FALSE)","v":false},{"$f":"IFERROR(IF(OR($EH6=TRUE,$EH6=\"SAND\"),IF(AND(OR(VLOOKUP($BQ7,$BO$62:$BR$497,2,FALSE),VLOOKUP($BQ7,$BO$62:$BR$497,4,FALSE)),$BU7>=60),$BP7-$BO7,IF(AND(VLOOKUP($BQ7,$BO$62:$BR$497,3,FALSE),$CE7=TRUE,$BU7>=60),$BP7-$BO7,0)),0),0)","v":0},{"$f":"IF($BO7>EF9,0,$EI7)","v":0},{"$f":"IF($BO7>EG9,0,$EI7)","v":0},{"$f":"IF(ISNA(MATCH($CA7,$BX$61:$BX$64,0)),0,IF(ISNA(MATCH(TRUE,EH$6:EH7,0)),IF(AND($BT7>2,$BT7<>\"\"),$BP7-$BO7,0),0))","v":0},{"$f":"IF(AND($B7<>\"\",$AQ7<>\"\",SUM(EL$6:EL7)>=6),TRUE,FALSE)","v":false},12,0,{"$f":"IF(AND($BO7>=EN$9,EP6=0),0,IF(OR($B7=\"\",$AQ7=\"\",$BO7>(EN$7+EN$9)),EP6,IF(AND(EO7=0,EP6<EN$7),0,EP6+EO7)))","v":0},{"$f":"IFERROR(IF($BQ7=\"\",0,IF(AND(OR(VLOOKUP($BQ7,$BO$62:$BR$497,2,FALSE),VLOOKUP($BQ7,$BO$62:$BR$497,4,FALSE)),$BU7>=60),$BP7-$BO7,IF(AND(VLOOKUP($BQ7,$BO$62:$BR$497,3,FALSE),CE7=TRUE,$BU7>=60),$BP7-$BO7,0))),0)","v":0},{"$f":"IF(OR($BO7<EN$13,AND($BO7>=EN$13,EQ7=0,ER6<EN$11)),0,IF(OR($B7=\"\",$AQ7=\"\"),ER6,ER6+EQ7))","v":0},"0",{"$f":"IF(ISNA(MATCH($CA7,$BX$61:$BX$64,0)),0,IF(AND(SUM(EP$6:EP7)=0,$BT7>2,$BT7<>\"\"),$BP7-$BO7,0))","v":0},{"$f":"IF(AND($B7<>\"\",$AQ7<>\"\",SUM(ET$6:ET7)>=6),TRUE,FALSE)","v":false},4,{"$f":"IF(AND(OR($BT7=3,$BT7=2,$BT7=1,$BT7=\"\"),CE7=TRUE),$BP7-$BO7,0)","v":0},{"$f":"IF(AND($BO7>EV$9,EX6=0),0,IF(OR($B7=\"\",$AQ7=\"\",$BO7>(EV$7+EV$9)),EX6,IF(AND(EW7=0,EX6<EV$7),0,EX6+EW7)))","v":0},2,0,{"$f":"IF(AND($BO7>EY$9,FA6=0),0,IF(OR($B7=\"\",$AQ7=\"\",$BO7>(EY$7+EY$9)),FA6,IF(AND(EZ7=0,FA6<EY$7),0,FA6+EZ7)))","v":0},{"$f":"IF(ISNA(MATCH($CA7,$BX$61:$BX$64,0)),0,IF(AND(SUM(FA$6:FA7)=0,$BT7>2,$BT7<>\"\"),$BP7-$BO7,0))","v":0},{"$f":"IF(AND($B7<>\"\",$AQ7<>\"\",SUM(FB$6:FB7)>=6),TRUE,FALSE)","v":false},6,{"$f":"IFERROR(IF($BQ7=\"\",FALSE,IF(AND($B7<>\"\",$AQ7<>\"\",OR($CA7=$BX$62,$CA7=$BX$64),VLOOKUP($BQ7,$BO$62:$BR$497,4,FALSE),$BU7>=60,$BO7<=FD$7),TRUE,FALSE)),FALSE)","v":false},{"$f":"IF(ISNA(MATCH($CA7,$BX$61:$BX$64,0)),0,IF(ISNA(MATCH(TRUE,FE$6:FE7,0)),IF(AND($BT7>2,$BT7<>\"\"),$BP7-$BO7,0),0))","v":0},{"$f":"IF(AND($B7<>\"\",$AQ7<>\"\",SUM(FF$6:FF7)>=6),TRUE,FALSE)","v":false},4,0,{"$f":"IF(AND($BO7>FH$9,FJ6=0),0,IF(OR($B7=\"\",$AQ7=\"\",$BO7>(FH$7+FH$9)),FJ6,IF(AND(FI7=0,FJ6<FH$7),0,FJ6+FI7)))","v":0},{"$f":"IF(ISNA(MATCH($CA7,$BX$61:$BX$64,0)),0,IF(AND(SUM(FJ$6:FJ7)=0,$BT7>2,$BT7<>\"\"),$BP7-$BO7,0))","v":0},{"$f":"IF(AND($B7<>\"\",$AQ7<>\"\",SUM(FK$6:FK7)>=6),TRUE,FALSE)","v":false},6,{"$f":"IF(AND($B7<>\"\",$AQ7<>\"\",OR($CA7=$BX$62,$CA7=$BX$64),$BO7<=FM$7,$BU7>0,$BU7<=90),TRUE,FALSE)","v":false},4,0,{"$f":"IF(AND($BO7>FO$9,FQ6=0),0,IF(OR($B7=\"\",$AQ7=\"\",$BO7>(FO$7+FO$9)),FQ6,IF(AND(FP7=0,FQ6<FO$7),0,FQ6+FP7)))","v":0},{"$f":"IF(AND(OR(AND(FP7>FO$7,BO7<=FO$9),AND(FQ7>FO$7,FP6>0),AND(FQ6>=FO$7,FP6>0)),$B7<>\"\",$AQ7<>\"\",OR($BT7=2,$BT7=1,$BT7=\"\")),TRUE,FALSE)","v":false},{"$f":"IF(AND(FP6>0,$B7<>\"\",$AQ7<>\"\",OR($BT7=2,$BT7=1,$BT7=\"\")),TRUE,FALSE)","v":false},{"$f":"IF(ISNA(MATCH($CA7,$BX$61:$BX$64,0)),0,IF(AND(SUM(FQ$6:FQ7)=0,$BT7>2,$BT7<>\"\"),$BP7-$BO7,0))","v":0},{"$f":"IF(AND($B7<>\"\",$AQ7<>\"\",SUM(FT$6:FT7)>=6),TRUE,FALSE)","v":false},5,false,{"$f":"IF(AND(FW6=TRUE,$B7<>\"\",$AQ7<>\"\",OR(AND($BU7>=5,$BS7<>\"\",$BS7<=3,OR($BT7=1,$BT7=\"\")),AND($AE7>=5,$BW7<=3,$BW7<>\"\",OR($BX7=1,$BX7=\"\"))),OR(AND($BS7<>\"\",$BS7>=4,OR($BT7=1,$BT7=\"\")),AND($BW7>=4,$BW7<>\"\",OR($BX7=1,$BX7=\"\")))),TRUE,FALSE)","v":false},{"$f":"IF(AND(FW6=TRUE,OR(AND($BW7<=3,$BW7<>\"\",OR($BX7=1,$BX7=\"\"))),OR(AND($BS7<>\"\",$BS7>=4,OR($BT7=1,$BT7=\"\")))),$AE7,0)","v":0},{"$f":"IF(OR(FX7=TRUE,FY7>=FV$7),TRUE,FALSE)","v":false},{"$f":"IF($BO7=$BO8,IF(OR(FZ7=TRUE,FZ8=TRUE,GA8=TRUE),TRUE,FALSE),IF(FZ7=TRUE,TRUE,FALSE))","v":false},{"$f":"IF(ISNA(MATCH($CA7,$BX$61:$BX$64,0)),0,IF(ISNA(MATCH(TRUE,FW$6:FW7,0)),IF(AND($BT7>2,$BT7<>\"\"),$BP7-$BO7,0),0))","v":0},{"$f":"IF(AND($B7<>\"\",$AQ7<>\"\",SUM(GB$6:GB7)>=6),TRUE,FALSE)","v":false},2,0,{"$f":"IF(AND($BO7>GD$9,GF6=0),0,IF(OR($B7=\"\",$AQ7=\"\",$BO7>(GD$7+GD$9)),GF6,IF(AND(GE7=0,GF6<GD$7),0,GF6+GE7)))","v":0},{"$f":"IF(AND(GF6>=GD$7,GE6>0,$B7<>\"\",$AQ7<>\"\",$BS7<>\"\",$BS7<=4,OR($BT7=1,$BT7=\"\")),TRUE,FALSE)","v":false},0.5,0,{"$f":"IF(AND($BO7>GH$9,GJ6=0),0,IF(OR($B7=\"\",$AQ7=\"\",$BO7>(GH$7+GH$9)),GJ6,IF(AND(GI7=0,GJ6<GH$7),0,GJ6+GI7)))","v":0},{"$f":"IF(ISNA(MATCH($CA7,$BX$61:$BX$64,0)),0,IF(AND(SUM(GJ$6:GJ7)=0,$BT7>2,$BT7<>\"\"),$BP7-$BO7,0))","v":0},{"$f":"IF(AND($B7<>\"\",$AQ7<>\"\",SUM(GK$6:GK7)>=6),TRUE,FALSE)","v":false},4,0,{"$f":"IF(AND($BO7>GM$9,GO6=0),0,IF(OR($B7=\"\",$AQ7=\"\",$BO7>(GM$7+GM$9)),GO6,IF(AND(GN7=0,GO6<GM$7),0,GO6+GN7)))","v":0},{"$f":"IF(ISNA(MATCH($CA7,$BX$61:$BX$64,0)),0,IF(AND(SUM(GO$6:GO7)=0,$BT7>2,$BT7<>\"\"),$BP7-$BO7,0))","v":0},{"$f":"IF(AND($B7<>\"\",$AQ7<>\"\",SUM(GP$6:GP7)>=6),TRUE,FALSE)","v":false},12,{"$f":"IFERROR(IF($BQ7=\"\",FALSE,IF(AND($B7<>\"\",$AQ7<>\"\",OR($CA7=$BX$61,$CA7=$BX$63),VLOOKUP($BQ7,$BO$62:$BR$497,4,FALSE),$BU7>=60,$BO7<=GR$7),TRUE,FALSE)),FALSE)","v":false},{"$f":"IF(ISNA(MATCH($CA7,$BX$61:$BX$64,0)),0,IF(ISNA(MATCH(TRUE,GS$6:GS7,0)),IF(AND($BT7>2,$BT7<>\"\"),$BP7-$BO7,0),0))","v":0},{"$f":"IF(AND($B7<>\"\",$AQ7<>\"\",SUM(GT$6:GT7)>=6),TRUE,FALSE)","v":false},2,6,{"$f":"IFERROR(IF($BQ7=\"\",0,IF(AND(OR($CA7=$BX$61,$CA7=$BX$63),VLOOKUP($BQ7,$BO$62:$BR$497,2,FALSE),$BU7>=60),$BP7-$BO7,IF(AND(OR($CA7=$BX$61,$CA7=$BX$63),VLOOKUP($BQ7,$BO$62:$BR$497,3,FALSE),$CE7=TRUE,$BU7>=60),$BP7-$BO7,0))),0)","v":0},{"$f":"IF(OR($B7=\"\",$AQ7=\"\"),GY6,IF(AND(GX7=0,GY6<GV$7),0,IF($BP7<=GV$9,GY6+GX7,IF(AND($BO7<GV$9,GX7>0),(GY6+GX7)-($BP7-GV$9),GY6))))","v":0},{"$f":"IF(AND($BO7>GW$9,GZ6=0),0,IF(OR($B7=\"\",$AQ7=\"\",$BO7>(GW$7+GW$9)),GZ6,IF(AND(GX7=0,GZ6<GW$7),0,GZ6+GX7)))","v":0},{"$f":"IF(ISNA(MATCH($CA7,$BX$61:$BX$64,0)),0,IF(AND(SUM(GZ$6:GZ7)=0,$BT7>2,$BT7<>\"\"),$BP7-$BO7,0))","v":0},{"$f":"IF(AND($B7<>\"\",$AQ7<>\"\",SUM(HA$6:HA7)>=6),TRUE,FALSE)","v":false},4,0,{"$f":"IF(OR($B7=\"\",$AQ7=\"\"),HE6,IF(AND(HD7=0,HE6<HC$7),0,IF($BP7<=HC$9,HE6+HD7,IF(AND($BO7<HC$9,HD7>0),(HE6+HD7)-($BP7-HC$9),HE6))))","v":0},{"$f":"IF(ISNA(MATCH($CA7,$BX$61:$BX$64,0)),0,IF(AND(SUM(HE$6:HE7)=0,$BT7>2,$BT7<>\"\"),$BP7-$BO7,0))","v":0},{"$f":"IF(AND($B7<>\"\",$AQ7<>\"\",SUM(HF$6:HF7)>=6),TRUE,FALSE)","v":false},10,false,{"$f":"IFERROR(IF($BO7=$BO6,IF(AND(IFERROR(IF(SEARCH(\"D\",AI7,1)>=1,TRUE,FALSE),FALSE),$BW7<>\"\",$BW7>=5,OR($BX7=2,$BX7=1,$BX7=\"\")),$AE7+HJ6,HJ6),IF(AND($AI7=\"D\",$BW7<>\"\",$BW7>=5,OR($BX7=2,$BX7=1,$BX7=\"\")),$AE7,0)),0)","v":0},{"$f":"IF(OR(HI7=TRUE,HJ7>=HH$7),TRUE,FALSE)","v":false},false,false,{"$f":"IF(OR(HM7=TRUE,HJ7=HH$8),TRUE,FALSE)","v":false},false,0,{"$f":"IF(OR($B7=\"\",$AQ7=\"\"),HQ6,IF(AND(HP7=0,HQ6<HH$10),0,IF($BP7<=HH$12,HQ6+HP7,IF(AND($BO7<HH$12,HP7>0),(HQ6+HP7)-($BP7-HH$12),HQ6))))","v":0},{"$f":"IF(ISNA(MATCH($CA7,$BX$61:$BX$64,0)),0,IF(AND(SUM(HQ$6:HQ7)=0,$BT7>2,$BT7<>\"\"),$BP7-$BO7,0))","v":0},{"$f":"IF(AND($B7<>\"\",$AQ7<>\"\",SUM(HR$6:HR7)>=6),TRUE,FALSE)","v":false},2,0,{"$f":"IF(OR($B7=\"\",$AQ7=\"\"),HV6,IF(AND(HU7=0,HV6<HT$7),0,IF($BP7<=HT$9,HV6+HU7,IF(AND($BO7<HT$9,HU7>0),(HV6+HU7)-($BP7-HT$9),HV6))))","v":0},4,false,4,0,{"$f":"IF(OR($B7=\"\",$AQ7=\"\"),IA6,IF(AND(HZ7=0,IA6<HY$7),0,IF($BP7<=HY$9,IA6+HZ7,IF(AND($BO7<HY$9,HZ7>0),(IA6+HZ7)-($BP7-HY$9),IA6))))","v":0},{"$f":"IF(ISNA(MATCH($CA7,$BX$61:$BX$64,0)),0,IF(AND(SUM(IA$6:IA7)=0,$BT7>2,$BT7<>\"\"),$BP7-$BO7,0))","v":0},{"$f":"IF(AND($B7<>\"\",$AQ7<>\"\",SUM(IB$6:IB7)>=6),TRUE,FALSE)","v":false},2,false,{"$f":"IF($BO7=$BO6,IF(AND(OR($BZ7=$BZ$62,$BZ7=$BZ$63),$BW7<>\"\",$BW7<=3,OR($BX7=3,$BX7=2,$BX7=1,$BX7=\"\")),$AE7+IF6,IF6),IF(AND(OR($BZ7=$BZ$62,$BZ7=$BZ$63),$BW7<>\"\",$BW7<=3,OR($BX7=3,$BX7=2,$BX7=1,$BX7=\"\")),$AE7,0))","v":0},{"$f":"IF(OR(IE7=TRUE,IF7>=ID$7),TRUE,FALSE)","v":false},{"$f":"IF($BO7=$BO8,IF(OR(IG7=TRUE,IG8=TRUE,IH8=TRUE),TRUE,FALSE),IF(IG7=TRUE,TRUE,FALSE))","v":false},0,{"$f":"IF(OR($B7=\"\",$AQ7=\"\"),IJ6,IF(AND(II7=0,IJ6<ID$9),0,IF($BP7<=ID$11,IJ6+II7,IF(AND($BO7<ID$11,II7>0),(IJ6+II7)-($BP7-ID$11),IJ6))))","v":0},null,6,0,{"$f":"IF(AND($BO7>IL$11,IN6=0),0,IF(OR($B7=\"\",$AQ7=\"\",$BO7>(IL$7+IL$11)),IN6,IF(AND(IM7=0,IN6<IL$7),0,IN6+IM7)))","v":0},0,{"$f":"IF(AND($BO7>IL$11,IP6=0),0,IF(OR($B7=\"\",$AQ7=\"\",$BO7>(IL$9+IL$11)),IP6,IF(AND(IO7=0,IP6<IL$9),0,IP6+IO7)))","v":0},{"$f":"IF(ISNA(MATCH($CA7,$BX$61:$BX$64,0)),0,IF(AND(SUM(IN$6:IN7)=0,$BT7>2,$BT7<>\"\"),$BP7-$BO7,0))","v":0},{"$f":"IF(AND($B7<>\"\",$AQ7<>\"\",SUM(IQ$6:IQ7)>=6),TRUE,FALSE)","v":false},4,0,{"$f":"IF(OR($B7=\"\",$AQ7=\"\"),IU6,IF(AND(IT7=0,IU6<IS$7),0,IF($BP7<=IS$9,IU6+IT7,IF(AND($BO7<IS$9,IT7>0),(IU6+IT7)-($BP7-IS$9),IU6))))","v":0},{"$f":"IF(ISNA(MATCH($CA7,$BX$61:$BX$64,0)),0,IF(AND(SUM(IU$6:IU7)=0,$BT7>2,$BT7<>\"\"),$BP7-$BO7,0))","v":0},{"$f":"IF(AND($B7<>\"\",$AQ7<>\"\",SUM(IV$6:IV7)>=6),TRUE,FALSE)","v":false},4,2,{"$f":"IF(OR($CA7=$BX$61,$CA7=$BX$63),$BP7-$BO7,0)","v":0},{"$f":"IF(OR($B7=\"\",$AQ7=\"\"),JA6,IF(AND(IZ7=0,JA6<IX$7),0,IF($BP7<=IX$9,JA6+IZ7,IF(AND($BO7<IX$9,IZ7>0),(JA6+IZ7)-($BP7-IX$9),JA6))))","v":0},{"$f":"IF(OR($B7=\"\",$AQ7=\"\"),JB6,IF(AND(IZ7=0,JB6<IY$7),0,IF($BP7<=IY$9,JB6+IZ7,IF(AND($BO7<IY$9,IZ7>0),(JB6+IZ7)-($BP7-IY$9),JB6))))","v":0},{"$f":"IF(ISNA(MATCH($CA7,$BX$61:$BX$64,0)),0,IF(AND(SUM(JA$6:JA7)=0,$BT7>2,$BT7<>\"\"),$BP7-$BO7,0))","v":0},{"$f":"IF(AND($B7<>\"\",$AQ7<>\"\",SUM(JC$6:JC7)>=6),TRUE,FALSE)","v":false},20,false,{"$f":"IF($BO7=$BO6,IF(OR($BZ7=$BZ$62,$BZ7=$BZ$63),$AE7+JG6,JG6),IF(OR($BZ7=$BZ$62,$BZ7=$BZ$63),$AE7,0))","v":0},{"$f":"IF(OR(JF7=TRUE,JG7>=JE$7),TRUE,FALSE)","v":false},false,0,{"$f":"IF(AND($BO7>JE$11,JK6=0),0,IF(OR($B7=\"\",$AQ7=\"\",$BO7>(JE$9+JE$11)),JK6,IF(AND(JJ7=0,JK6<JE$9),0,JK6+JJ7)))","v":0},10,false,{"$f":"IF($BO7=$BO6,IF(OR($BZ7=$BZ$62,$BZ7=$BZ$63,IFERROR(IF(SEARCH(\"D\",$AI7,1)>=1,TRUE,FALSE),FALSE)),$AE7+JN6,JN6),IF(OR($BZ7=$BZ$62,$BZ7=$BZ$63,IFERROR(IF(SEARCH(\"D\",$AI7,1)>=1,TRUE,FALSE),FALSE)),$AE7,0))","v":0},{"$f":"IF(OR(JM7=TRUE,JN7>=JL$7),TRUE,FALSE)","v":false},{"$f":"IF($BO7=$BO8,IF(OR(JO7=TRUE,JO8=TRUE,JP8=TRUE),TRUE,FALSE),IF(JO7=TRUE,TRUE,FALSE))","v":false},0,{"$f":"IF(AND($BO7>JL$11,JR6=0),0,IF(OR($B7=\"\",$AQ7=\"\",$BO7>(JL$9+JL$11)),JR6,IF(AND(JQ7=0,JR6<JL$9),0,JR6+JQ7)))","v":0},10,false,{"$f":"IFERROR(IF($BO7=$BO6,IF(OR($BZ7=$BZ$62,$BZ7=$BZ$63,AND(IFERROR(IF(SEARCH(\"D\",AI7,1)>=1,TRUE,FALSE),FALSE),OR(AND($BW7-$BS7>=1,IFERROR($BT7-$BX7>=1,IF(AND($BW7<>\"\",$BX7=\"\"),TRUE,FALSE))),AND($BW7>=4,OR($BX7=2,$BX7=1,$BX7=\"\"))))),$AE7+JU6,JU6),IF(OR($BZ7=$BZ$62,$BZ7=$BZ$63,AND(IFERROR(IF(SEARCH(\"D\",AI7,1)>=1,TRUE,FALSE),FALSE),OR(AND($BW7-$BS7>=1,IFERROR($BT7-$BX7>=1,IF(AND($BW7<>\"\",$BX7=\"\"),TRUE,FALSE))),AND($BW7>=4,OR($BX7=2,$BX7=1,$BX7=\"\"))))),$AE7,0)),0)","v":0},{"$f":"IF(OR(JT7=TRUE,JU7>=JS$7),TRUE,FALSE)","v":false},{"$f":"IF($BO7=$BO8,IF(OR(JV7=TRUE,JV8=TRUE,JW8=TRUE),TRUE,FALSE),IF(JV7=TRUE,TRUE,FALSE))","v":false},0,{"$f":"IF(AND($BO7>JS$11,JY6=0),0,IF(OR($B7=\"\",$AQ7=\"\",$BO7>(JS$9+JS$11)),JY6,IF(AND(JX7=0,JY6<JS$9),0,JY6+JX7)))","v":0},6,{"$f":"IF(K38<>\"\",K38/2,FALSE)","v":false},0,{"$f":"IF(AND($BO7>JZ$9,KC6=0),0,IF(OR($B7=\"\",$AQ7=\"\",$BO7>(JZ$7+JZ$9)),KC6,IF(AND(KB7=0,KC6<JZ$7),0,KC6+KB7)))","v":0},{"$f":"IF(OR($B7=\"\",$AQ7=\"\"),KD6,IF(AND(KB7=0,KD6<KA$7),0,KD6+KB7))","v":0},false,0.5,0,{"$f":"IF(AND($BO7>0,KH6=0),0,IF(OR($B7=\"\",$AQ7=\"\",$BO7>KF$7),KH6,IF(AND(KG7=0,KH6<KF$7),0,KH6+KG7)))","v":0},{"$f":"IF(ISNA(MATCH($BR7,$CC$69:$CC$70,0)),0,IF(AND(OR($CA7=$BX$62,$CA7=$BX$64),$BS7<>\"\",$BS7>=4,OR($BT7=1,$BT7=\"\")),$BP7-$BO7,0))","v":0},{"$f":"IF($BO7>KF$11,0,KI7)","v":0},12,false]
[{"$nulls":66},{"$f":"IFERROR(IF(B8=\"\",BO7,IF(B8=\"\",\"\",VALUE(LEFT(B8,SEARCH(\"-\",B8)-1)))),\"\")","v":""},{"$f":"IFERROR(IF(B8=\"\",BP7,IF(B8=\"\",\"\",VALUE(RIGHT(B8,LEN(B8)-SEARCH(\"-\",B8))))),\"\")","v":""},{"$f":"IF(H8=\"\",BQ7,H8)","v":""},{"$f":"IFERROR(IF(H8=\"\",BR7,IF(H8=\"\",\"\",LEFT(TRIM(H8),SEARCH(\" \",(TRIM(H8)))-1))),\"\")","v":""},{"$f":"IFERROR(IF(H8=\"\",BS7,IF(H8=\"\",\"\",VALUE(MID(TRIM(H8),SEARCH(\" \",(TRIM(H8)))+1,(SEARCH(\"/\",(TRIM(H8)))-SEARCH(\" \",(TRIM(H8)))-1))))),\"\")","v":""},{"$f":"IFERROR(IF(H8=\"\",BT7,IF(AND(H8<>\"\",ISNUMBER(VALUE(RIGHT(TRIM(H8),1)))),VALUE(RIGHT(TRIM(H8),LEN(TRIM(H8))-SEARCH(\"/\",(TRIM(H8))))),\"\")),\"\")","v":""},{"$f":"IF(H8=\"\",BU7,VALUE(R8))","v":0},"","","","",0,"",false,0,false,false,false,0,false,false,"Max Comp Depth",0,{"$f":"IF(OR($B8=\"\",$AQ8=\"\"),CL7,IF($BP8<=CJ$9,CL7+CK8,IF(AND($BO8<CJ$9,CK8>0),(CL7+CK8)-($BP8-CJ$9),CL7)))","v":0},false,{"$f":"IF(ISNA(MATCH($CA8,$BX$61:$BX$64,0)),0,IF(AND(SUM(CL$6:CL8)=0,$BT8>2,$BT8<>\"\"),$BP8-$BO8,0))","v":0},{"$f":"IF(AND($B8<>\"\",$AQ8<>\"\",SUM(CN$6:CN8)>=6),TRUE,FALSE)","v":false},null,0,{"$f":"IF(OR($B8=\"\",$AQ8=\"\"),CR7,IF(ISNA(MATCH(0,CQ$6:CQ8,0)),CR7+CQ8,0))","v":0},false,"Max Start Depth",0,{"$f":"IF(AND($BO8>CT$9,CV7=0),0,IF(OR($B8=\"\",$AQ8=\"\",$BO8>(CT$7+CT$9)),CV7,IF(AND(CU8=0,CV7<CT$7),0,CV7+CU8)))","v":0},false,{"$f":"IF(ISNA(MATCH($CA8,$BX$61:$BX$64,0)),0,IF(AND(SUM(CV$6:CV8)=0,$BT8>2,$BT8<>\"\"),$BP8-$BO8,0))","v":0},{"$f":"IF(AND($B8<>\"\",$AQ8<>\"\",SUM(CX$6:CX8)>=6),TRUE,FALSE)","v":false},null,null,0,0,{"$f":"IF($BO8<=$DA$7,COUNTIF(DC8,TRUE)+DD7,DD7)","v":0},{"$f":"IF(ISNA(MATCH(TRUE,$DB$6:$DB7,0)),IF(AND(DD7>=2,DB8=TRUE),TRUE,FALSE),IF(AND($BO8<=$DA$7,DC8=TRUE),TRUE,IF(AND($BO8<=$DA$7,DB8=TRUE),TRUE,FALSE)))","v":false},{"$f":"IF(ISNA(MATCH(TRUE,$DB9:$DB$12,0)),FALSE,IF(AND($BO8<=$DA$7,INDIRECT(ADDRESS(MATCH(TRUE,$DB9:$DB$12,0)+8,67))<=$DA$7,DC8=TRUE),TRUE,FALSE))","v":false},{"$f":"IF(ISNA(MATCH(TRUE,$DB$6:$DB7,0)),IF(ISNA(MATCH(TRUE,$DC$6:$DC7,0)),FALSE,TRUE),TRUE)","v":false},{"$f":"IF(AND($DB8=FALSE,$DC8=FALSE,$DG8=TRUE),TRUE,FALSE)","v":false},null,{"$f":"IF(ISNA(MATCH($AY8,$BZ$61:$BZ$63,0)),IF(AND($BO8<=DI$7,$B8<>\"\",$AQ8<>\"\",$AY8<>\"\"),TRUE,FALSE),FALSE)","v":false},{"$f":"IF(ISNA(MATCH($CA8,$BX$61:$BX$64,0)),0,IF(ISNA(MATCH(TRUE,DJ$6:DJ8,0)),IF(AND($BT8>2,$BT8<>\"\"),$BP8-$BO8,0),0))","v":0},{"$f":"IF(AND($B8<>\"\",$AQ8<>\"\",SUM(DK$6:DK8)>=6),TRUE,FALSE)","v":false},"Max Start Depth",0,{"$f":"IF(AND($BO8>DM$9,DO7=0),0,IF(OR($B8=\"\",$AQ8=\"\",$BO8>(DM$7+DM$9)),DO7,IF(AND(DN8=0,DO7<DM$7),0,DO7+DN8)))","v":0},{"$f":"IF(ISNA(MATCH($CA8,$BX$61:$BX$64,0)),0,IF(AND(SUM(DO$6:DO8)=0,$BT8>2,$BT8<>\"\"),$BP8-$BO8,0))","v":0},{"$f":"IF(AND($B8<>\"\",$AQ8<>\"\",SUM(DP$6:DP8)>=6),TRUE,FALSE)","v":false},null,false,{"$f":"IF(ISNA(MATCH($CA8,$BX$61:$BX$64,0)),0,IF(ISNA(MATCH(TRUE,DS$6:DS8,0)),IF(AND($BT8>2,$BT8<>\"\"),$BP8-$BO8,0),0))","v":0},{"$f":"IF(AND($B8<>\"\",$AQ8<>\"\",SUM(DT$6:DT8)>=6),TRUE,FALSE)","v":false},"Max Start Depth",0,{"$f":"IF(AND($BO8>DV$9,DX7=0),0,IF(OR($B8=\"\",$AQ8=\"\",$BO8>(DV$7+DV$9)),DX7,IF(AND(DW8=0,DX7<DV$7),0,DX7+DW8)))","v":0},{"$f":"IF(ISNA(MATCH($CA8,$BX$61:$BX$64,0)),0,IF(AND(SUM(DX$6:DX8)=0,$BT8>2,$BT8<>\"\"),$BP8-$BO8,0))","v":0},{"$f":"IF(AND($B8<>\"\",$AQ8<>\"\",SUM(DY$6:DY8)>=6),TRUE,FALSE)","v":false},"Max Start Depth",0,{"$f":"IF(AND($BO8>EA$9,EC7=0),0,IF(OR($B8=\"\",$AQ8=\"\",$BO8>(EA$7+EA$9)),EC7,IF(AND(EB8=0,EC7<EA$7),0,EC7+EB8)))","v":0},{"$f":"IF(ISNA(MATCH($CA8,$BX$61:$BX$64,0)),0,IF(AND(SUM(EC$6:EC8)=0,$BT8>2,$BT8<>\"\"),$BP8-$BO8,0))","v":0},{"$f":"IF(AND($B8<>\"\",$AQ8<>\"\",SUM(ED$6:ED8)>=6),TRUE,FALSE)","v":false},"Max Start Depth","Max Start Depth",{"$f":"IF(OR(BO8<=6,EH7=TRUE,EH7=\"SAND\"),IF(AND(OR($CA8=$BX$62,$CA8=$BX$64),$BS8<>\"\",$BS8<=3,OR($BT8=1,$BT8=\"\")),\"SAND\",IF(AND(OR($CA8=$BX$61,$CA8=$BX$63,$CA8=$BX$65,$CA8=$BX$66,$CA8=$BX$67),$BS8<>\"\",$BS8<=3,OR($BT8=2,$BT8=1,$BT8=\"\")),TRUE,FALSE)),FALSE)","v":false},{"$f":"IFERROR(IF(OR($EH7=TRUE,$EH7=\"SAND\",EI7>0),IF(AND(OR(VLOOKUP($BQ8,$BO$62:$BR$497,2,FALSE),VLOOKUP($BQ8,$BO$62:$BR$497,4,FALSE)),$BU8>=60),$BP8-$BO8,IF(AND(VLOOKUP($BQ8,$BO$62:$BR$497,3,FALSE),$CE8=TRUE,$BU8>=60),$BP8-$BO8,0)),0),0)","v":0},{"$f":"IF(AND($BO8>EF$9,EJ7=0),0,IF(OR($B8=\"\",$AQ8=\"\",$BO8>(EF$7+EF$9)),EJ7,IF(AND(EI8=0,EJ7<EF$7),0,EJ7+EI8)))","v":0},{"$f":"IF(AND($BO8>EG$9,EK7=0),0,IF(OR($B8=\"\",$AQ8=\"\",$BO8>(EG$7+EG$9)),EK7,IF(AND(EI8=0,EK7<EG$7),0,EK7+EI8)))","v":0},{"$f":"IF(ISNA(MATCH($CA8,$BX$61:$BX$64,0)),0,IF(ISNA(MATCH(TRUE,EH$6:EH8,0)),IF(AND($BT8>2,$BT8<>\"\"),$BP8-$BO8,0),0))","v":0},{"$f":"IF(AND($B8<>\"\",$AQ8<>\"\",SUM(EL$6:EL8)>=6),TRUE,FALSE)","v":false},"Upper Max Start Depth",0,{"$f":"IF(AND($BO8>=EN$9,EP7=0),0,IF(OR($B8=\"\",$AQ8=\"\",$BO8>(EN$7+EN$9)),EP7,IF(AND(EO8=0,EP7<EN$7),0,EP7+EO8)))","v":0},0,{"$f":"IF(OR($BO8<EN$13,AND($BO8>=EN$13,EQ8=0,ER7<EN$11)),0,IF(OR($B8=\"\",$AQ8=\"\"),ER7,ER7+EQ8))","v":0},"0",{"$f":"IF(ISNA(MATCH($CA8,$BX$61:$BX$64,0)),0,IF(AND(SUM(EP$6:EP8)=0,$BT8>2,$BT8<>\"\"),$BP8-$BO8,0))","v":0},{"$f":"IF(AND($B8<>\"\",$AQ8<>\"\",SUM(ET$6:ET8)>=6),TRUE,FALSE)","v":false},"Max Start Depth",0,{"$f":"IF(AND($BO8>EV$9,EX7=0),0,IF(OR($B8=\"\",$AQ8=\"\",$BO8>(EV$7+EV$9)),EX7,IF(AND(EW8=0,EX7<EV$7),0,EX7+EW8)))","v":0},"Max Start Depth",0,{"$f":"IF(AND($BO8>EY$9,FA7=0),0,IF(OR($B8=\"\",$AQ8=\"\",$BO8>(EY$7+EY$9)),FA7,IF(AND(EZ8=0,FA7<EY$7),0,FA7+EZ8)))","v":0},{"$f":"IF(ISNA(MATCH($CA8,$BX$61:$BX$64,0)),0,IF(AND(SUM(FA$6:FA8)=0,$BT8>2,$BT8<>\"\"),$BP8-$BO8,0))","v":0},{"$f":"IF(AND($B8<>\"\",$AQ8<>\"\",SUM(FB$6:FB8)>=6),TRUE,FALSE)","v":false},null,false,{"$f":"IF(ISNA(MATCH($CA8,$BX$61:$BX$64,0)),0,IF(ISNA(MATCH(TRUE,FE$6:FE8,0)),IF(AND($BT8>2,$BT8<>\"\"),$BP8-$BO8,0),0))","v":0},{"$f":"IF(AND($B8<>\"\",$AQ8<>\"\",SUM(FF$6:FF8)>=6),TRUE,FALSE)","v":false},"Max Start Depth",0,{"$f":"IF(AND($BO8>FH$9,FJ7=0),0,IF(OR($B8=\"\",$AQ8=\"\",$BO8>(FH$7+FH$9)),FJ7,IF(AND(FI8=0,FJ7<FH$7),0,FJ7+FI8)))","v":0},{"$f":"IF(ISNA(MATCH($CA8,$BX$61:$BX$64,0)),0,IF(AND(SUM(FJ$6:FJ8)=0,$BT8>2,$BT8<>\"\"),$BP8-$BO8,0))","v":0},{"$f":"IF(AND($B8<>\"\",$AQ8<>\"\",SUM(FK$6:FK8)>=6),TRUE,FALSE)","v":false},null,false,"Max Start Depth",0,{"$f":"IF(AND($BO8>FO$9,FQ7=0),0,IF(OR($B8=\"\",$AQ8=\"\",$BO8>(FO$7+FO$9)),FQ7,IF(AND(FP8=0,FQ7<FO$7),0,FQ7+FP8)))","v":0},false,{"$f":"IF(AND(FP7>0,$B8<>\"\",$AQ8<>\"\",OR($BT8=2,$BT8=1,$BT8=\"\")),TRUE,FALSE)","v":false},{"$f":"IF(ISNA(MATCH($CA8,$BX$61:$BX$64,0)),0,IF(AND(SUM(FQ$6:FQ8)=0,$BT8>2,$BT8<>\"\"),$BP8-$BO8,0))","v":0},{"$f":"IF(AND($B8<>\"\",$AQ8<>\"\",SUM(FT$6:FT8)>=6),TRUE,FALSE)","v":false},"Max Start Depth Upper",false,{"$f":"IF(AND(OR(AND(FW7=TRUE,$B8<>\"\",$AQ8<>\"\"),$BO7=$BO8),OR(AND($BU8>=5,$BS8<>\"\",$BS8<=3,OR($BT8=1,$BT8=\"\")),AND($AE8>=5,$BW8<=3,$BW8<>\"\",OR($BX8=1,$BX8=\"\"))),OR(AND($BS8<>\"\",$BS8>=4,OR($BT8=1,$BT8=\"\")),AND($BW8>=4,$BW8<>\"\",OR($BX8=1,$BX8=\"\")))),TRUE,FALSE)","v":false},{"$f":"IF($BO8=$BO7,IF(AND(FY7<>0,OR(AND($BW8<=3,$BW8<>\"\",OR($BX8=1,$BX8=\"\"))),OR(AND($BS8<>\"\",$BS8>=4,OR($BT8=1,$BT8=\"\")))),$AE8+FY7,FY7),IF(AND(FY7<>0,OR(AND($BW8<=3,$BW8<>\"\",OR($BX8=1,$BX8=\"\"))),OR(AND($BS8<>\"\",$BS8>=4,OR($BT8=1,$BT8=\"\")))),$AE8,0))","v":0},{"$f":"IF(OR(FX8=TRUE,FY8>=FV$7),TRUE,FALSE)","v":false},{"$f":"IF($BO8=$BO9,IF(OR(FZ8=TRUE,FZ9=TRUE,GA9=TRUE),TRUE,FALSE),IF(FZ8=TRUE,TRUE,FALSE))","v":false},{"$f":"IF(ISNA(MATCH($CA8,$BX$61:$BX$64,0)),0,IF(ISNA(MATCH(TRUE,FW$6:FW8,0)),IF(AND($BT8>2,$BT8<>\"\"),$BP8-$BO8,0),0))","v":0},{"$f":"IF(AND($B8<>\"\",$AQ8<>\"\",SUM(GB$6:GB8)>=6),TRUE,FALSE)","v":false},"Max Start Depth",0,{"$f":"IF(AND($BO8>GD$9,GF7=0),0,IF(OR($B8=\"\",$AQ8=\"\",$BO8>(GD$7+GD$9)),GF7,IF(AND(GE8=0,GF7<GD$7),0,GF7+GE8)))","v":0},false,"Max Start Depth",0,{"$f":"IF(AND($BO8>GH$9,GJ7=0),0,IF(OR($B8=\"\",$AQ8=\"\",$BO8>(GH$7+GH$9)),GJ7,IF(AND(GI8=0,GJ7<GH$7),0,GJ7+GI8)))","v":0},{"$f":"IF(ISNA(MATCH($CA8,$BX$61:$BX$64,0)),0,IF(AND(SUM(GJ$6:GJ8)=0,$BT8>2,$BT8<>\"\"),$BP8-$BO8,0))","v":0},{"$f":"IF(AND($B8<>\"\",$AQ8<>\"\",SUM(GK$6:GK8)>=6),TRUE,FALSE)","v":false},"Max Start Depth",0,{"$f":"IF(AND($BO8>GM$9,GO7=0),0,IF(OR($B8=\"\",$AQ8=\"\",$BO8>(GM$7+GM$9)),GO7,IF(AND(GN8=0,GO7<GM$7),0,GO7+GN8)))","v":0},{"$f":"IF(ISNA(MATCH($CA8,$BX$61:$BX$64,0)),0,IF(AND(SUM(GO$6:GO8)=0,$BT8>2,$BT8<>\"\"),$BP8-$BO8,0))","v":0},{"$f":"IF(AND($B8<>\"\",$AQ8<>\"\",SUM(GP$6:GP8)>=6),TRUE,FALSE)","v":false},null,false,{"$f":"IF(ISNA(MATCH($CA8,$BX$61:$BX$64,0)),0,IF(ISNA(MATCH(TRUE,GS$6:GS8,0)),IF(AND($BT8>2,$BT8<>\"\"),$BP8-$BO8,0),0))","v":0},{"$f":"IF(AND($B8<>\"\",$AQ8<>\"\",SUM(GT$6:GT8)>=6),TRUE,FALSE)","v":false},"Max Comp. Depth","Max Start Depth",{"$f":"IFERROR(IF($BQ8=\"\",0,IF(AND(OR($CA8=$BX$61,$CA8=$BX$63),VLOOKUP($BQ8,$BO$62:$BR$497,2,FALSE),$BU8>=60),$BP8-$BO8,IF(AND(OR($CA8=$BX$61,$CA8=$BX$63),VLOOKUP($BQ8,$BO$62:$BR$497,3,FALSE),$CE8=TRUE,$BU8>=60),$BP8-$BO8,0))),0)","v":0},{"$f":"IF(OR($B8=\"\",$AQ8=\"\"),GY7,IF(AND(GX8=0,GY7<GV$7),0,IF($BP8<=GV$9,GY7+GX8,IF(AND($BO8<GV$9,GX8>0),(GY7+GX8)-($BP8-GV$9),GY7))))","v":0},{"$f":"IF(AND($BO8>GW$9,GZ7=0),0,IF(OR($B8=\"\",$AQ8=\"\",$BO8>(GW$7+GW$9)),GZ7,IF(AND(GX8=0,GZ7<GW$7),0,GZ7+GX8)))","v":0},{"$f":"IF(ISNA(MATCH($CA8,$BX$61:$BX$64,0)),0,IF(AND(SUM(GZ$6:GZ8)=0,$BT8>2,$BT8<>\"\"),$BP8-$BO8,0))","v":0},{"$f":"IF(AND($B8<>\"\",$AQ8<>\"\",SUM(HA$6:HA8)>=6),TRUE,FALSE)","v":false},"Max Comp. Depth",0,{"$f":"IF(OR($B8=\"\",$AQ8=\"\"),HE7,IF(AND(HD8=0,HE7<HC$7),0,IF($BP8<=HC$9,HE7+HD8,IF(AND($BO8<HC$9,HD8>0),(HE7+HD8)-($BP8-HC$9),HE7))))","v":0},{"$f":"IF(ISNA(MATCH($CA8,$BX$61:$BX$64,0)),0,IF(AND(SUM(HE$6:HE8)=0,$BT8>2,$BT8<>\"\"),$BP8-$BO8,0))","v":0},{"$f":"IF(AND($B8<>\"\",$AQ8<>\"\",SUM(HF$6:HF8)>=6),TRUE,FALSE)","v":false},20,false,0,false,false,false,false,false,0,{"$f":"IF(OR($B8=\"\",$AQ8=\"\"),HQ7,IF(AND(HP8=0,HQ7<HH$10),0,IF($BP8<=HH$12,HQ7+HP8,IF(AND($BO8<HH$12,HP8>0),(HQ7+HP8)-($BP8-HH$12),HQ7))))","v":0},{"$f":"IF(ISNA(MATCH($CA8,$BX$61:$BX$64,0)),0,IF(AND(SUM(HQ$6:HQ8)=0,$BT8>2,$BT8<>\"\"),$BP8-$BO8,0))","v":0},{"$f":"IF(AND($B8<>\"\",$AQ8<>\"\",SUM(HR$6:HR8)>=6),TRUE,FALSE)","v":false},"Max Comp. Depth",0,{"$f":"IF(OR($B8=\"\",$AQ8=\"\"),HV7,IF(AND(HU8=0,HV7<HT$7),0,IF($BP8<=HT$9,HV7+HU8,IF(AND($BO8<HT$9,HU8>0),(HV7+HU8)-($BP8-HT$9),HV7))))","v":0},null,false,"Max Comp. Depth",0,{"$f":"IF(OR($B8=\"\",$AQ8=\"\"),IA7,IF(AND(HZ8=0,IA7<HY$7),0,IF($BP8<=HY$9,IA7+HZ8,IF(AND($BO8<HY$9,HZ8>0),(IA7+HZ8)-($BP8-HY$9),IA7))))","v":0},{"$f":"IF(ISNA(MATCH($CA8,$BX$61:$BX$64,0)),0,IF(AND(SUM(IA$6:IA8)=0,$BT8>2,$BT8<>\"\"),$BP8-$BO8,0))","v":0},{"$f":"IF(AND($B8<>\"\",$AQ8<>\"\",SUM(IB$6:IB8)>=6),TRUE,FALSE)","v":false},"Min Cum. Thickness",false,0,false,{"$f":"IF($BO8=$BO9,IF(OR(IG8=TRUE,IG9=TRUE,IH9=TRUE),TRUE,FALSE),IF(IG8=TRUE,TRUE,FALSE))","v":false},0,0,null,"Total",0,{"$f":"IF(AND($BO8>IL$11,IN7=0),0,IF(OR($B8=\"\",$AQ8=\"\",$BO8>(IL$7+IL$11)),IN7,IF(AND(IM8=0,IN7<IL$7),0,IN7+IM8)))","v":0},0,{"$f":"IF(AND($BO8>IL$11,IP7=0),0,IF(OR($B8=\"\",$AQ8=\"\",$BO8>(IL$9+IL$11)),IP7,IF(AND(IO8=0,IP7<IL$9),0,IP7+IO8)))","v":0},{"$f":"IF(ISNA(MATCH($CA8,$BX$61:$BX$64,0)),0,IF(AND(SUM(IN$6:IN8)=0,$BT8>2,$BT8<>\"\"),$BP8-$BO8,0))","v":0},{"$f":"IF(AND($B8<>\"\",$AQ8<>\"\",SUM(IQ$6:IQ8)>=6),TRUE,FALSE)","v":false},"Max Comp. Depth",0,{"$f":"IF(OR($B8=\"\",$AQ8=\"\"),IU7,IF(AND(IT8=0,IU7<IS$7),0,IF($BP8<=IS$9,IU7+IT8,IF(AND($BO8<IS$9,IT8>0),(IU7+IT8)-($BP8-IS$9),IU7))))","v":0},{"$f":"IF(ISNA(MATCH($CA8,$BX$61:$BX$64,0)),0,IF(AND(SUM(IU$6:IU8)=0,$BT8>2,$BT8<>\"\"),$BP8-$BO8,0))","v":0},{"$f":"IF(AND($B8<>\"\",$AQ8<>\"\",SUM(IV$6:IV8)>=6),TRUE,FALSE)","v":false},"Max Comp. Depth","Max Comp. Depth",0,{"$f":"IF(OR($B8=\"\",$AQ8=\"\"),JA7,IF(AND(IZ8=0,JA7<IX$7),0,IF($BP8<=IX$9,JA7+IZ8,IF(AND($BO8<IX$9,IZ8>0),(JA7+IZ8)-($BP8-IX$9),JA7))))","v":0},0,{"$f":"IF(ISNA(MATCH($CA8,$BX$61:$BX$64,0)),0,IF(AND(SUM(JA$6:JA8)=0,$BT8>2,$BT8<>\"\"),$BP8-$BO8,0))","v":0},{"$f":"IF(AND($B8<>\"\",$AQ8<>\"\",SUM(JC$6:JC8)>=6),TRUE,FALSE)","v":false},"Min Cum. Thickness",false,0,{"$f":"IF(OR(JF8=TRUE,JG8>=JE$7),TRUE,FALSE)","v":false},false,0,{"$f":"IF(AND($BO8>JE$11,JK7=0),0,IF(OR($B8=\"\",$AQ8=\"\",$BO8>(JE$9+JE$11)),JK7,IF(AND(JJ8=0,JK7<JE$9),0,JK7+JJ8)))","v":0},"Min Cum. Thickness",false,0,{"$f":"IF(OR(JM8=TRUE,JN8>=JL$7),TRUE,FALSE)","v":false},false,0,{"$f":"IF(AND($BO8>JL$11,JR7=0),0,IF(OR($B8=\"\",$AQ8=\"\",$BO8>(JL$9+JL$11)),JR7,IF(AND(JQ8=0,JR7<JL$9),0,JR7+JQ8)))","v":0},"Min Cum. Thickness",false,0,{"$f":"IF(OR(JT8=TRUE,JU8>=JS$7),TRUE,FALSE)","v":false},false,0,{"$f":"IF(AND($BO8>JS$11,JY7=0),0,IF(OR($B8=\"\",$AQ8=\"\",$BO8>(JS$9+JS$11)),JY7,IF(AND(JX8=0,JY7<JS$9),0,JY7+JX8)))","v":0},"Max Start Depth if bedrock is 6-10 inches down"," ",0,{"$f":"IF(AND($BO8>JZ$9,KC7=0),0,IF(OR($B8=\"\",$AQ8=\"\",$BO8>(JZ$7+JZ$9)),KC7,IF(AND(KB8=0,KC7<JZ$7),0,KC7+KB8)))","v":0},{"$f":"IF(OR($B8=\"\",$AQ8=\"\"),KD7,IF(AND(KB8=0,KD7<KA$7),0,KD7+KB8))","v":0},false,"Min Cum. Thickness Lower",0,{"$f":"IF(AND($BO8>0,KH7=0),0,IF(OR($B8=\"\",$AQ8=\"\",$BO8>KF$7),KH7,IF(AND(KG8=0,KH7<KF$7),0,KH7+KG8)))","v":0},0,{"$f":"IF(AND($BO8>KF$11,KJ7=0),0,IF(OR($B8=\"\",$AQ8=\"\",$BO8>(KF$9+KF$11)),KJ7,IF(AND(KI8=0,KJ7<KF$9),0,KJ7+KI8)))","v":0},null,false]
[{"$nulls":66},{"$f":"IFERROR(IF(B9=\"\",BO8,IF(B9=\"\",\"\",VALUE(LEFT(B9,SEARCH(\"-\",B9)-1)))),\"\")","v":""},{"$f":"IFERROR(IF(B9=\"\",BP8,IF(B9=\"\",\"\",VALUE(RIGHT(B9,LEN(B9)-SEARCH(\"-\",B9))))),\"\")","v":""},{"$f":"IF(H9=\"\",BQ8,H9)","v":""},"","","",{"$f":"IF(H9=\"\",BU8,VALUE(R9))","v":0},"","","","",0,"",false,0,false,false,false,0,false,false,32,0,0,false,{"$f":"IF(ISNA(MATCH($CA9,$BX$61:$BX$64,0)),0,IF(AND(SUM(CL$6:CL9)=0,$BT9>2,$BT9<>\"\"),$BP9-$BO9,0))","v":0},{"$f":"IF(AND($B9<>\"\",$AQ9<>\"\",SUM(CN$6:CN9)>=6),TRUE,FALSE)","v":false},null,0,{"$f":"IF(OR($B9=\"\",$AQ9=\"\"),CR8,IF(ISNA(MATCH(0,CQ$6:CQ9,0)),CR8+CQ9,0))","v":0},false,6,0,{"$f":"IF(AND($BO9>CT$9,CV8=0),0,IF(OR($B9=\"\",$AQ9=\"\",$BO9>(CT$7+CT$9)),CV8,IF(AND(CU9=0,CV8<CT$7),0,CV8+CU9)))","v":0},false,{"$f":"IF(ISNA(MATCH($CA9,$BX$61:$BX$64,0)),0,IF(AND(SUM(CV$6:CV9)=0,$BT9>2,$BT9<>\"\"),$BP9-$BO9,0))","v":0},{"$f":"IF(AND($B9<>\"\",$AQ9<>\"\",SUM(CX$6:CX9)>=6),TRUE,FALSE)","v":false},null,null,0,0,0,{"$f":"IF(ISNA(MATCH(TRUE,$DB$6:$DB8,0)),IF(AND(DD8>=2,DB9=TRUE),TRUE,FALSE),IF(AND($BO9<=$DA$7,DC9=TRUE),TRUE,IF(AND($BO9<=$DA$7,DB9=TRUE),TRUE,FALSE)))","v":false},{"$f":"IF(ISNA(MATCH(TRUE,$DB10:$DB$12,0)),FALSE,IF(AND($BO9<=$DA$7,INDIRECT(ADDRESS(MATCH(TRUE,$DB10:$DB$12,0)+9,67))<=$DA$7,DC9=TRUE),TRUE,FALSE))","v":false},{"$f":"IF(ISNA(MATCH(TRUE,$DB$6:$DB8,0)),IF(ISNA(MATCH(TRUE,$DC$6:$DC8,0)),FALSE,TRUE),TRUE)","v":false},false,null,{"$f":"IF(ISNA(MATCH($AY9,$BZ$61:$BZ$63,0)),IF(AND($BO9<=DI$7,$B9<>\"\",$AQ9<>\"\",$AY9<>\"\"),TRUE,FALSE),FALSE)","v":false},{"$f":"IF(ISNA(MATCH($CA9,$BX$61:$BX$64,0)),0,IF(ISNA(MATCH(TRUE,DJ$6:DJ9,0)),IF(AND($BT9>2,$BT9<>\"\"),$BP9-$BO9,0),0))","v":0},{"$f":"IF(AND($B9<>\"\",$AQ9<>\"\",SUM(DK$6:DK9)>=6),TRUE,FALSE)","v":false},6,0,{"$f":"IF(AND($BO9>DM$9,DO8=0),0,IF(OR($B9=\"\",$AQ9=\"\",$BO9>(DM$7+DM$9)),DO8,IF(AND(DN9=0,DO8<DM$7),0,DO8+DN9)))","v":0},{"$f":"IF(ISNA(MATCH($CA9,$BX$61:$BX$64,0)),0,IF(AND(SUM(DO$6:DO9)=0,$BT9>2,$BT9<>\"\"),$BP9-$BO9,0))","v":0},{"$f":"IF(AND($B9<>\"\",$AQ9<>\"\",SUM(DP$6:DP9)>=6),TRUE,FALSE)","v":false},null,false,{"$f":"IF(ISNA(MATCH($CA9,$BX$61:$BX$64,0)),0,IF(ISNA(MATCH(TRUE,DS$6:DS9,0)),IF(AND($BT9>2,$BT9<>\"\"),$BP9-$BO9,0),0))","v":0},{"$f":"IF(AND($B9<>\"\",$AQ9<>\"\",SUM(DT$6:DT9)>=6),TRUE,FALSE)","v":false},6,0,{"$f":"IF(AND($BO9>DV$9,DX8=0),0,IF(OR($B9=\"\",$AQ9=\"\",$BO9>(DV$7+DV$9)),DX8,IF(AND(DW9=0,DX8<DV$7),0,DX8+DW9)))","v":0},{"$f":"IF(ISNA(MATCH($CA9,$BX$61:$BX$64,0)),0,IF(AND(SUM(DX$6:DX9)=0,$BT9>2,$BT9<>\"\"),$BP9-$BO9,0))","v":0},{"$f":"IF(AND($B9<>\"\",$AQ9<>\"\",SUM(DY$6:DY9)>=6),TRUE,FALSE)","v":false},6,0,{"$f":"IF(AND($BO9>EA$9,EC8=0),0,IF(OR($B9=\"\",$AQ9=\"\",$BO9>(EA$7+EA$9)),EC8,IF(AND(EB9=0,EC8<EA$7),0,EC8+EB9)))","v":0},{"$f":"IF(ISNA(MATCH($CA9,$BX$61:$BX$64,0)),0,IF(AND(SUM(EC$6:EC9)=0,$BT9>2,$BT9<>\"\"),$BP9-$BO9,0))","v":0},{"$f":"IF(AND($B9<>\"\",$AQ9<>\"\",SUM(ED$6:ED9)>=6),TRUE,FALSE)","v":false},12,12,{"$f":"IF(OR(BO9<=6,EH8=TRUE,EH8=\"SAND\"),IF(AND(OR($CA9=$BX$62,$CA9=$BX$64),$BS9<>\"\",$BS9<=3,OR($BT9=1,$BT9=\"\")),\"SAND\",IF(AND(OR($CA9=$BX$61,$CA9=$BX$63,$CA9=$BX$65,$CA9=$BX$66,$CA9=$BX$67),$BS9<>\"\",$BS9<=3,OR($BT9=2,$BT9=1,$BT9=\"\")),TRUE,FALSE)),FALSE)","v":false},{"$f":"IFERROR(IF(OR($EH8=TRUE,$EH8=\"SAND\",EI8>0),IF(AND(OR(VLOOKUP($BQ9,$BO$62:$BR$497,2,FALSE),VLOOKUP($BQ9,$BO$62:$BR$497,4,FALSE)),$BU9>=60),$BP9-$BO9,IF(AND(VLOOKUP($BQ9,$BO$62:$BR$497,3,FALSE),$CE9=TRUE,$BU9>=60),$BP9-$BO9,0)),0),0)","v":0},{"$f":"IF(AND($BO9>EF$9,EJ8=0),0,IF(OR($B9=\"\",$AQ9=\"\",$BO9>(EF$7+EF$9)),EJ8,IF(AND(EI9=0,EJ8<EF$7),0,EJ8+EI9)))","v":0},{"$f":"IF(AND($BO9>EG$9,EK8=0),0,IF(OR($B9=\"\",$AQ9=\"\",$BO9>(EG$7+EG$9)),EK8,IF(AND(EI9=0,EK8<EG$7),0,EK8+EI9)))","v":0},{"$f":"IF(ISNA(MATCH($CA9,$BX$61:$BX$64,0)),0,IF(ISNA(MATCH(TRUE,EH$6:EH9,0)),IF(AND($BT9>2,$BT9<>\"\"),$BP9-$BO9,0),0))","v":0},{"$f":"IF(AND($B9<>\"\",$AQ9<>\"\",SUM(EL$6:EL9)>=6),TRUE,FALSE)","v":false},6,0,0,0,0,"0",{"$f":"IF(ISNA(MATCH($CA9,$BX$61:$BX$64,0)),0,IF(AND(SUM(EP$6:EP9)=0,$BT9>2,$BT9<>\"\"),$BP9-$BO9,0))","v":0},{"$f":"IF(AND($B9<>\"\",$AQ9<>\"\",SUM(ET$6:ET9)>=6),TRUE,FALSE)","v":false},6,0,{"$f":"IF(AND($BO9>EV$9,EX8=0),0,IF(OR($B9=\"\",$AQ9=\"\",$BO9>(EV$7+EV$9)),EX8,IF(AND(EW9=0,EX8<EV$7),0,EX8+EW9)))","v":0},6,0,{"$f":"IF(AND($BO9>EY$9,FA8=0),0,IF(OR($B9=\"\",$AQ9=\"\",$BO9>(EY$7+EY$9)),FA8,IF(AND(EZ9=0,FA8<EY$7),0,FA8+EZ9)))","v":0},{"$f":"IF(ISNA(MATCH($CA9,$BX$61:$BX$64,0)),0,IF(AND(SUM(FA$6:FA9)=0,$BT9>2,$BT9<>\"\"),$BP9-$BO9,0))","v":0},{"$f":"IF(AND($B9<>\"\",$AQ9<>\"\",SUM(FB$6:FB9)>=6),TRUE,FALSE)","v":false},null,false,{"$f":"IF(ISNA(MATCH($CA9,$BX$61:$BX$64,0)),0,IF(ISNA(MATCH(TRUE,FE$6:FE9,0)),IF(AND($BT9>2,$BT9<>\"\"),$BP9-$BO9,0),0))","v":0},{"$f":"IF(AND($B9<>\"\",$AQ9<>\"\",SUM(FF$6:FF9)>=6),TRUE,FALSE)","v":false},6,0,{"$f":"IF(AND($BO9>FH$9,FJ8=0),0,IF(OR($B9=\"\",$AQ9=\"\",$BO9>(FH$7+FH$9)),FJ8,IF(AND(FI9=0,FJ8<FH$7),0,FJ8+FI9)))","v":0},{"$f":"IF(ISNA(MATCH($CA9,$BX$61:$BX$64,0)),0,IF(AND(SUM(FJ$6:FJ9)=0,$BT9>2,$BT9<>\"\"),$BP9-$BO9,0))","v":0},{"$f":"IF(AND($B9<>\"\",$AQ9<>\"\",SUM(FK$6:FK9)>=6),TRUE,FALSE)","v":false},null,false,6,0,{"$f":"IF(AND($BO9>FO$9,FQ8=0),0,IF(OR($B9=\"\",$AQ9=\"\",$BO9>(FO$7+FO$9)),FQ8,IF(AND(FP9=0,FQ8<FO$7),0,FQ8+FP9)))","v":0},false,false,{"$f":"IF(ISNA(MATCH($CA9,$BX$61:$BX$64,0)),0,IF(AND(SUM(FQ$6:FQ9)=0,$BT9>2,$BT9<>\"\"),$BP9-$BO9,0))","v":0},{"$f":"IF(AND($B9<>\"\",$AQ9<>\"\",SUM(FT$6:FT9)>=6),TRUE,FALSE)","v":false},6,false,{"$f":"IF(AND(OR(AND(FW8=TRUE,$B9<>\"\",$AQ9<>\"\"),$BO8=$BO9),OR(AND($BU9>=5,$BS9<>\"\",$BS9<=3,OR($BT9=1,$BT9=\"\")),AND($AE9>=5,$BW9<=3,$BW9<>\"\",OR($BX9=1,$BX9=\"\"))),OR(AND($BS9<>\"\",$BS9>=4,OR($BT9=1,$BT9=\"\")),AND($BW9>=4,$BW9<>\"\",OR($BX9=1,$BX9=\"\")))),TRUE,FALSE)","v":false},{"$f":"IF($BO9=$BO8,IF(AND(FY8<>0,OR(AND($BW9<=3,$BW9<>\"\",OR($BX9=1,$BX9=\"\"))),OR(AND($BS9<>\"\",$BS9>=4,OR($BT9=1,$BT9=\"\")))),$AE9+FY8,FY8),IF(AND(FY8<>0,OR(AND($BW9<=3,$BW9<>\"\",OR($BX9=1,$BX9=\"\"))),OR(AND($BS9<>\"\",$BS9>=4,OR($BT9=1,$BT9=\"\")))),$AE9,0))","v":0},false,false,{"$f":"IF(ISNA(MATCH($CA9,$BX$61:$BX$64,0)),0,IF(ISNA(MATCH(TRUE,FW$6:FW9,0)),IF(AND($BT9>2,$BT9<>\"\"),$BP9-$BO9,0),0))","v":0},{"$f":"IF(AND($B9<>\"\",$AQ9<>\"\",SUM(GB$6:GB9)>=6),TRUE,FALSE)","v":false},6,0,{"$f":"IF(AND($BO9>GD$9,GF8=0),0,IF(OR($B9=\"\",$AQ9=\"\",$BO9>(GD$7+GD$9)),GF8,IF(AND(GE9=0,GF8<GD$7),0,GF8+GE9)))","v":0},false,6,0,{"$f":"IF(AND($BO9>GH$9,GJ8=0),0,IF(OR($B9=\"\",$AQ9=\"\",$BO9>(GH$7+GH$9)),GJ8,IF(AND(GI9=0,GJ8<GH$7),0,GJ8+GI9)))","v":0},{"$f":"IF(ISNA(MATCH($CA9,$BX$61:$BX$64,0)),0,IF(AND(SUM(GJ$6:GJ9)=0,$BT9>2,$BT9<>\"\"),$BP9-$BO9,0))","v":0},{"$f":"IF(AND($B9<>\"\",$AQ9<>\"\",SUM(GK$6:GK9)>=6),TRUE,FALSE)","v":false},6,0,{"$f":"IF(AND($BO9>GM$9,GO8=0),0,IF(OR($B9=\"\",$AQ9=\"\",$BO9>(GM$7+GM$9)),GO8,IF(AND(GN9=0,GO8<GM$7),0,GO8+GN9)))","v":0},{"$f":"IF(ISNA(MATCH($CA9,$BX$61:$BX$64,0)),0,IF(AND(SUM(GO$6:GO9)=0,$BT9>2,$BT9<>\"\"),$BP9-$BO9,0))","v":0},{"$f":"IF(AND($B9<>\"\",$AQ9<>\"\",SUM(GP$6:GP9)>=6),TRUE,FALSE)","v":false},null,false,{"$f":"IF(ISNA(MATCH($CA9,$BX$61:$BX$64,0)),0,IF(ISNA(MATCH(TRUE,GS$6:GS9,0)),IF(AND($BT9>2,$BT9<>\"\"),$BP9-$BO9,0),0))","v":0},{"$f":"IF(AND($B9<>\"\",$AQ9<>\"\",SUM(GT$6:GT9)>=6),TRUE,FALSE)","v":false},6,10,0,0,{"$f":"IF(AND($BO9>GW$9,GZ8=0),0,IF(OR($B9=\"\",$AQ9=\"\",$BO9>(GW$7+GW$9)),GZ8,IF(AND(GX9=0,GZ8<GW$7),0,GZ8+GX9)))","v":0},{"$f":"IF(ISNA(MATCH($CA9,$BX$61:$BX$64,0)),0,IF(AND(SUM(GZ$6:GZ9)=0,$BT9>2,$BT9<>\"\"),$BP9-$BO9,0))","v":0},{"$f":"IF(AND($B9<>\"\",$AQ9<>\"\",SUM(HA$6:HA9)>=6),TRUE,FALSE)","v":false},12,0,0,{"$f":"IF(ISNA(MATCH($CA9,$BX$61:$BX$64,0)),0,IF(AND(SUM(HE$6:HE9)=0,$BT9>2,$BT9<>\"\"),$BP9-$BO9,0))","v":0},{"$f":"IF(AND($B9<>\"\",$AQ9<>\"\",SUM(HF$6:HF9)>=6),TRUE,FALSE)","v":false},"Min Cum. Thickness",false,0,false,false,false,false,false,0,0,{"$f":"IF(ISNA(MATCH($CA9,$BX$61:$BX$64,0)),0,IF(AND(SUM(HQ$6:HQ9)=0,$BT9>2,$BT9<>\"\"),$BP9-$BO9,0))","v":0},{"$f":"IF(AND($B9<>\"\",$AQ9<>\"\",SUM(HR$6:HR9)>=6),TRUE,FALSE)","v":false},6,0,{"$f":"IF(OR($B9=\"\",$AQ9=\"\"),HV8,IF(AND(HU9=0,HV8<HT$7),0,IF($BP9<=HT$9,HV8+HU9,IF(AND($BO9<HT$9,HU9>0),(HV8+HU9)-($BP9-HT$9),HV8))))","v":0},null,false,10,0,{"$f":"IF(OR($B9=\"\",$AQ9=\"\"),IA8,IF(AND(HZ9=0,IA8<HY$7),0,IF($BP9<=HY$9,IA8+HZ9,IF(AND($BO9<HY$9,HZ9>0),(IA8+HZ9)-($BP9-HY$9),IA8))))","v":0},{"$f":"IF(ISNA(MATCH($CA9,$BX$61:$BX$64,0)),0,IF(AND(SUM(IA$6:IA9)=0,$BT9>2,$BT9<>\"\"),$BP9-$BO9,0))","v":0},{"$f":"IF(AND($B9<>\"\",$AQ9<>\"\",SUM(IB$6:IB9)>=6),TRUE,FALSE)","v":false},4,false,0,false,false,0,0,null,10,0,{"$f":"IF(AND($BO9>IL$11,IN8=0),0,IF(OR($B9=\"\",$AQ9=\"\",$BO9>(IL$7+IL$11)),IN8,IF(AND(IM9=0,IN8<IL$7),0,IN8+IM9)))","v":0},0,{"$f":"IF(AND($BO9>IL$11,IP8=0),0,IF(OR($B9=\"\",$AQ9=\"\",$BO9>(IL$9+IL$11)),IP8,IF(AND(IO9=0,IP8<IL$9),0,IP8+IO9)))","v":0},{"$f":"IF(ISNA(MATCH($CA9,$BX$61:$BX$64,0)),0,IF(AND(SUM(IN$6:IN9)=0,$BT9>2,$BT9<>\"\"),$BP9-$BO9,0))","v":0},{"$f":"IF(AND($B9<>\"\",$AQ9<>\"\",SUM(IQ$6:IQ9)>=6),TRUE,FALSE)","v":false},12,0,{"$f":"IF(OR($B9=\"\",$AQ9=\"\"),IU8,IF(AND(IT9=0,IU8<IS$7),0,IF($BP9<=IS$9,IU8+IT9,IF(AND($BO9<IS$9,IT9>0),(IU8+IT9)-($BP9-IS$9),IU8))))","v":0},{"$f":"IF(ISNA(MATCH($CA9,$BX$61:$BX$64,0)),0,IF(AND(SUM(IU$6:IU9)=0,$BT9>2,$BT9<>\"\"),$BP9-$BO9,0))","v":0},{"$f":"IF(AND($B9<>\"\",$AQ9<>\"\",SUM(IV$6:IV9)>=6),TRUE,FALSE)","v":false},16,8,0,0,0,{"$f":"IF(ISNA(MATCH($CA9,$BX$61:$BX$64,0)),0,IF(AND(SUM(JA$6:JA9)=0,$BT9>2,$BT9<>\"\"),$BP9-$BO9,0))","v":0},{"$f":"IF(AND($B9<>\"\",$AQ9<>\"\",SUM(JC$6:JC9)>=6),TRUE,FALSE)","v":false},6,false,0,false,false,0,{"$f":"IF(AND($BO9>JE$11,JK8=0),0,IF(OR($B9=\"\",$AQ9=\"\",$BO9>(JE$9+JE$11)),JK8,IF(AND(JJ9=0,JK8<JE$9),0,JK8+JJ9)))","v":0},4,false,0,false,false,0,{"$f":"IF(AND($BO9>JL$11,JR8=0),0,IF(OR($B9=\"\",$AQ9=\"\",$BO9>(JL$9+JL$11)),JR8,IF(AND(JQ9=0,JR8<JL$9),0,JR8+JQ9)))","v":0},4,false,0,false,false,0,{"$f":"IF(AND($BO9>JS$11,JY8=0),0,IF(OR($B9=\"\",$AQ9=\"\",$BO9>(JS$9+JS$11)),JY8,IF(AND(JX9=0,JY8<JS$9),0,JY8+JX9)))","v":0},4,null,0,{"$f":"IF(AND($BO9>JZ$9,KC8=0),0,IF(OR($B9=\"\",$AQ9=\"\",$BO9>(JZ$7+JZ$9)),KC8,IF(AND(KB9=0,KC8<JZ$7),0,KC8+KB9)))","v":0},{"$f":"IF(OR($B9=\"\",$AQ9=\"\"),KD8,IF(AND(KB9=0,KD8<KA$7),0,KD8+KB9))","v":0},false,4,0,{"$f":"IF(AND($BO9>0,KH8=0),0,IF(OR($B9=\"\",$AQ9=\"\",$BO9>KF$7),KH8,IF(AND(KG9=0,KH8<KF$7),0,KH8+KG9)))","v":0},0,{"$f":"IF(AND($BO9>KF$11,KJ8=0),0,IF(OR($B9=\"\",$AQ9=\"\",$BO9>(KF$9+KF$11)),KJ8,IF(AND(KI9=0,KJ8<KF$9),0,KJ8+KI9)))","v":0},null,false]
[{"$nulls":66},"","","","","","",0,"","","","",0,"",false,0,false,{"$f":"IF($BO10=$BO11,IF(OR(CD10=TRUE,CD11=TRUE,CE11=TRUE),TRUE,FALSE),IF(CD10=TRUE,TRUE,FALSE))","v":false},false,0,false,false,null,0,0,false,{"$f":"IF(ISNA(MATCH($CA10,$BX$61:$BX$64,0)),0,IF(AND(SUM(CL$6:CL10)=0,$BT10>2,$BT10<>\"\"),$BP10-$BO10,0))","v":0},{"$f":"IF(AND($B10<>\"\",$AQ10<>\"\",SUM(CN$6:CN10)>=6),TRUE,FALSE)","v":false},null,0,{"$f":"IF(OR($B10=\"\",$AQ10=\"\"),CR9,IF(ISNA(MATCH(0,CQ$6:CQ10,0)),CR9+CQ10,0))","v":0},false,null,0,0,false,{"$f":"IF(ISNA(MATCH($CA10,$BX$61:$BX$64,0)),0,IF(AND(SUM(CV$6:CV10)=0,$BT10>2,$BT10<>\"\"),$BP10-$BO10,0))","v":0},{"$f":"IF(AND($B10<>\"\",$AQ10<>\"\",SUM(CX$6:CX10)>=6),TRUE,FALSE)","v":false},null,null,0,0,0,{"$f":"IF(ISNA(MATCH(TRUE,$DB$6:$DB9,0)),IF(AND(DD9>=2,DB10=TRUE),TRUE,FALSE),IF(AND($BO10<=$DA$7,DC10=TRUE),TRUE,IF(AND($BO10<=$DA$7,DB10=TRUE),TRUE,FALSE)))","v":false},{"$f":"IF(ISNA(MATCH(TRUE,$DB11:$DB$12,0)),FALSE,IF(AND($BO10<=$DA$7,INDIRECT(ADDRESS(MATCH(TRUE,$DB11:$DB$12,0)+10,67))<=$DA$7,DC10=TRUE),TRUE,FALSE))","v":false},{"$f":"IF(ISNA(MATCH(TRUE,$DB$6:$DB9,0)),IF(ISNA(MATCH(TRUE,$DC$6:$DC9,0)),FALSE,TRUE),TRUE)","v":false},false,null,false,{"$f":"IF(ISNA(MATCH($CA10,$BX$61:$BX$64,0)),0,IF(ISNA(MATCH(TRUE,DJ$6:DJ10,0)),IF(AND($BT10>2,$BT10<>\"\"),$BP10-$BO10,0),0))","v":0},{"$f":"IF(AND($B10<>\"\",$AQ10<>\"\",SUM(DK$6:DK10)>=6),TRUE,FALSE)","v":false},null,0,0,{"$f":"IF(ISNA(MATCH($CA10,$BX$61:$BX$64,0)),0,IF(AND(SUM(DO$6:DO10)=0,$BT10>2,$BT10<>\"\"),$BP10-$BO10,0))","v":0},{"$f":"IF(AND($B10<>\"\",$AQ10<>\"\",SUM(DP$6:DP10)>=6),TRUE,FALSE)","v":false},null,false,{"$f":"IF(ISNA(MATCH($CA10,$BX$61:$BX$64,0)),0,IF(ISNA(MATCH(TRUE,DS$6:DS10,0)),IF(AND($BT10>2,$BT10<>\"\"),$BP10-$BO10,0),0))","v":0},{"$f":"IF(AND($B10<>\"\",$AQ10<>\"\",SUM(DT$6:DT10)>=6),TRUE,FALSE)","v":false},null,0,0,{"$f":"IF(ISNA(MATCH($CA10,$BX$61:$BX$64,0)),0,IF(AND(SUM(DX$6:DX10)=0,$BT10>2,$BT10<>\"\"),$BP10-$BO10,0))","v":0},{"$f":"IF(AND($B10<>\"\",$AQ10<>\"\",SUM(DY$6:DY10)>=6),TRUE,FALSE)","v":false},null,0,0,{"$f":"IF(ISNA(MATCH($CA10,$BX$61:$BX$64,0)),0,IF(AND(SUM(EC$6:EC10)=0,$BT10>2,$BT10<>\"\"),$BP10-$BO10,0))","v":0},{"$f":"IF(AND($B10<>\"\",$AQ10<>\"\",SUM(ED$6:ED10)>=6),TRUE,FALSE)","v":false},null,null,{"$f":"IF(OR(BO10<=6,EH9=TRUE,EH9=\"SAND\"),IF(AND(OR($CA10=$BX$62,$CA10=$BX$64),$BS10<>\"\",$BS10<=3,OR($BT10=1,$BT10=\"\")),\"SAND\",IF(AND(OR($CA10=$BX$61,$CA10=$BX$63,$CA10=$BX$65,$CA10=$BX$66,$CA10=$BX$67),$BS10<>\"\",$BS10<=3,OR($BT10=2,$BT10=1,$BT10=\"\")),TRUE,FALSE)),FALSE)","v":false},{"$f":"IFERROR(IF(OR($EH9=TRUE,$EH9=\"SAND\",EI9>0),IF(AND(OR(VLOOKUP($BQ10,$BO$62:$BR$497,2,FALSE),VLOOKUP($BQ10,$BO$62:$BR$497,4,FALSE)),$BU10>=60),$BP10-$BO10,IF(AND(VLOOKUP($BQ10,$BO$62:$BR$497,3,FALSE),$CE10=TRUE,$BU10>=60),$BP10-$BO10,0)),0),0)","v":0},0,0,{"$f":"IF(ISNA(MATCH($CA10,$BX$61:$BX$64,0)),0,IF(ISNA(MATCH(TRUE,EH$6:EH10,0)),IF(AND($BT10>2,$BT10<>\"\"),$BP10-$BO10,0),0))","v":0},{"$f":"IF(AND($B10<>\"\",$AQ10<>\"\",SUM(EL$6:EL10)>=6),TRUE,FALSE)","v":false},"Lower Min Cum. Thickness",0,0,0,0,"0",{"$f":"IF(ISNA(MATCH($CA10,$BX$61:$BX$64,0)),0,IF(AND(SUM(EP$6:EP10)=0,$BT10>2,$BT10<>\"\"),$BP10-$BO10,0))","v":0},{"$f":"IF(AND($B10<>\"\",$AQ10<>\"\",SUM(ET$6:ET10)>=6),TRUE,FALSE)","v":false},null,0,0,null,0,0,{"$f":"IF(ISNA(MATCH($CA10,$BX$61:$BX$64,0)),0,IF(AND(SUM(FA$6:FA10)=0,$BT10>2,$BT10<>\"\"),$BP10-$BO10,0))","v":0},{"$f":"IF(AND($B10<>\"\",$AQ10<>\"\",SUM(FB$6:FB10)>=6),TRUE,FALSE)","v":false},null,false,{"$f":"IF(ISNA(MATCH($CA10,$BX$61:$BX$64,0)),0,IF(ISNA(MATCH(TRUE,FE$6:FE10,0)),IF(AND($BT10>2,$BT10<>\"\"),$BP10-$BO10,0),0))","v":0},{"$f":"IF(AND($B10<>\"\",$AQ10<>\"\",SUM(FF$6:FF10)>=6),TRUE,FALSE)","v":false},null,0,0,{"$f":"IF(ISNA(MATCH($CA10,$BX$61:$BX$64,0)),0,IF(AND(SUM(FJ$6:FJ10)=0,$BT10>2,$BT10<>\"\"),$BP10-$BO10,0))","v":0},{"$f":"IF(AND($B10<>\"\",$AQ10<>\"\",SUM(FK$6:FK10)>=6),TRUE,FALSE)","v":false},null,false,null,0,0,false,false,{"$f":"IF(ISNA(MATCH($CA10,$BX$61:$BX$64,0)),0,IF(AND(SUM(FQ$6:FQ10)=0,$BT10>2,$BT10<>\"\"),$BP10-$BO10,0))","v":0},{"$f":"IF(AND($B10<>\"\",$AQ10<>\"\",SUM(FT$6:FT10)>=6),TRUE,FALSE)","v":false},null,false,{"$f":"IF(AND(OR(AND(FW9=TRUE,$B10<>\"\",$AQ10<>\"\"),$BO9=$BO10),OR(AND($BU10>=5,$BS10<>\"\",$BS10<=3,OR($BT10=1,$BT10=\"\")),AND($AE10>=5,$BW10<=3,$BW10<>\"\",OR($BX10=1,$BX10=\"\"))),OR(AND($BS10<>\"\",$BS10>=4,OR($BT10=1,$BT10=\"\")),AND($BW10>=4,$BW10<>\"\",OR($BX10=1,$BX10=\"\")))),TRUE,FALSE)","v":false},{"$f":"IF($BO10=$BO9,IF(AND(FY9<>0,OR(AND($BW10<=3,$BW10<>\"\",OR($BX10=1,$BX10=\"\"))),OR(AND($BS10<>\"\",$BS10>=4,OR($BT10=1,$BT10=\"\")))),$AE10+FY9,FY9),IF(AND(FY9<>0,OR(AND($BW10<=3,$BW10<>\"\",OR($BX10=1,$BX10=\"\"))),OR(AND($BS10<>\"\",$BS10>=4,OR($BT10=1,$BT10=\"\")))),$AE10,0))","v":0},false,false,{"$f":"IF(ISNA(MATCH($CA10,$BX$61:$BX$64,0)),0,IF(ISNA(MATCH(TRUE,FW$6:FW10,0)),IF(AND($BT10>2,$BT10<>\"\"),$BP10-$BO10,0),0))","v":0},{"$f":"IF(AND($B10<>\"\",$AQ10<>\"\",SUM(GB$6:GB10)>=6),TRUE,FALSE)","v":false},null,0,0,false,null,0,0,{"$f":"IF(ISNA(MATCH($CA10,$BX$61:$BX$64,0)),0,IF(AND(SUM(GJ$6:GJ10)=0,$BT10>2,$BT10<>\"\"),$BP10-$BO10,0))","v":0},{"$f":"IF(AND($B10<>\"\",$AQ10<>\"\",SUM(GK$6:GK10)>=6),TRUE,FALSE)","v":false},null,0,0,{"$f":"IF(ISNA(MATCH($CA10,$BX$61:$BX$64,0)),0,IF(AND(SUM(GO$6:GO10)=0,$BT10>2,$BT10<>\"\"),$BP10-$BO10,0))","v":0},{"$f":"IF(AND($B10<>\"\",$AQ10<>\"\",SUM(GP$6:GP10)>=6),TRUE,FALSE)","v":false},null,false,{"$f":"IF(ISNA(MATCH($CA10,$BX$61:$BX$64,0)),0,IF(ISNA(MATCH(TRUE,GS$6:GS10,0)),IF(AND($BT10>2,$BT10<>\"\"),$BP10-$BO10,0),0))","v":0},{"$f":"IF(AND($B10<>\"\",$AQ10<>\"\",SUM(GT$6:GT10)>=6),TRUE,FALSE)","v":false},null,null,0,0,{"$f":"IF(AND($BO10>GW$9,GZ9=0),0,IF(OR($B10=\"\",$AQ10=\"\",$BO10>(GW$7+GW$9)),GZ9,IF(AND(GX10=0,GZ9<GW$7),0,GZ9+GX10)))","v":0},{"$f":"IF(ISNA(MATCH($CA10,$BX$61:$BX$64,0)),0,IF(AND(SUM(GZ$6:GZ10)=0,$BT10>2,$BT10<>\"\"),$BP10-$BO10,0))","v":0},{"$f":"IF(AND($B10<>\"\",$AQ10<>\"\",SUM(HA$6:HA10)>=6),TRUE,FALSE)","v":false},null,0,0,{"$f":"IF(ISNA(MATCH($CA10,$BX$61:$BX$64,0)),0,IF(AND(SUM(HE$6:HE10)=0,$BT10>2,$BT10<>\"\"),$BP10-$BO10,0))","v":0},{"$f":"IF(AND($B10<>\"\",$AQ10<>\"\",SUM(HF$6:HF10)>=6),TRUE,FALSE)","v":false},4,false,0,false,false,false,false,false,0,0,{"$f":"IF(ISNA(MATCH($CA10,$BX$61:$BX$64,0)),0,IF(AND(SUM(HQ$6:HQ10)=0,$BT10>2,$BT10<>\"\"),$BP10-$BO10,0))","v":0},{"$f":"IF(AND($B10<>\"\",$AQ10<>\"\",SUM(HR$6:HR10)>=6),TRUE,FALSE)","v":false},null,0,0,null,false,null,0,0,{"$f":"IF(ISNA(MATCH($CA10,$BX$61:$BX$64,0)),0,IF(AND(SUM(IA$6:IA10)=0,$BT10>2,$BT10<>\"\"),$BP10-$BO10,0))","v":0},{"$f":"IF(AND($B10<>\"\",$AQ10<>\"\",SUM(IB$6:IB10)>=6),TRUE,FALSE)","v":false},"Max Comp. Depth",false,0,false,false,0,0,null,"Max Start Depth",0,0,0,0,{"$f":"IF(ISNA(MATCH($CA10,$BX$61:$BX$64,0)),0,IF(AND(SUM(IN$6:IN10)=0,$BT10>2,$BT10<>\"\"),$BP10-$BO10,0))","v":0},{"$f":"IF(AND($B10<>\"\",$AQ10<>\"\",SUM(IQ$6:IQ10)>=6),TRUE,FALSE)","v":false},null,0,0,{"$f":"IF(ISNA(MATCH($CA10,$BX$61:$BX$64,0)),0,IF(AND(SUM(IU$6:IU10)=0,$BT10>2,$BT10<>\"\"),$BP10-$BO10,0))","v":0},{"$f":"IF(AND($B10<>\"\",$AQ10<>\"\",SUM(IV$6:IV10)>=6),TRUE,FALSE)","v":false},null,null,0,0,0,{"$f":"IF(ISNA(MATCH($CA10,$BX$61:$BX$64,0)),0,IF(AND(SUM(JA$6:JA10)=0,$BT10>2,$BT10<>\"\"),$BP10-$BO10,0))","v":0},{"$f":"IF(AND($B10<>\"\",$AQ10<>\"\",SUM(JC$6:JC10)>=6),TRUE,FALSE)","v":false},"Max Start Depth",false,0,false,false,0,0,"Max Start Depth",false,0,false,false,0,0,"Max Start Depth",false,0,false,false,0,0,null,null,0,0,0,false,"Max Start Depth",0,0,0,0,null,false]
[{"$nulls":66},"","","","","","",0,"","","","",0,"",false,0,false,false,false,0,false,false,null,0,0,false,{"$f":"IF(ISNA(MATCH($CA11,$BX$61:$BX$64,0)),0,IF(AND(SUM(CL$6:CL11)=0,$BT11>2,$BT11<>\"\"),$BP11-$BO11,0))","v":0},{"$f":"IF(AND($B11<>\"\",$AQ11<>\"\",SUM(CN$6:CN11)>=6),TRUE,FALSE)","v":false},null,0,{"$f":"IF(OR($B11=\"\",$AQ11=\"\"),CR10,IF(ISNA(MATCH(0,CQ$6:CQ11,0)),CR10+CQ11,0))","v":0},false,null,0,0,false,{"$f":"IF(ISNA(MATCH($CA11,$BX$61:$BX$64,0)),0,IF(AND(SUM(CV$6:CV11)=0,$BT11>2,$BT11<>\"\"),$BP11-$BO11,0))","v":0},{"$f":"IF(AND($B11<>\"\",$AQ11<>\"\",SUM(CX$6:CX11)>=6),TRUE,FALSE)","v":false},null,null,0,0,0,{"$f":"IF(ISNA(MATCH(TRUE,$DB$6:$DB10,0)),IF(AND(DD10>=2,DB11=TRUE),TRUE,FALSE),IF(AND($BO11<=$DA$7,DC11=TRUE),TRUE,IF(AND($BO11<=$DA$7,DB11=TRUE),TRUE,FALSE)))","v":false},{"$f":"IF(ISNA(MATCH(TRUE,$DB12:$DB$12,0)),FALSE,IF(AND($BO11<=$DA$7,INDIRECT(ADDRESS(MATCH(TRUE,$DB12:$DB$12,0)+11,67))<=$DA$7,DC11=TRUE),TRUE,FALSE))","v":false},{"$f":"IF(ISNA(MATCH(TRUE,$DB$6:$DB10,0)),IF(ISNA(MATCH(TRUE,$DC$6:$DC10,0)),FALSE,TRUE),TRUE)","v":false},false,null,false,{"$f":"IF(ISNA(MATCH($CA11,$BX$61:$BX$64,0)),0,IF(ISNA(MATCH(TRUE,DJ$6:DJ11,0)),IF(AND($BT11>2,$BT11<>\"\"),$BP11-$BO11,0),0))","v":0},{"$f":"IF(AND($B11<>\"\",$AQ11<>\"\",SUM(DK$6:DK11)>=6),TRUE,FALSE)","v":false},null,0,0,{"$f":"IF(ISNA(MATCH($CA11,$BX$61:$BX$64,0)),0,IF(AND(SUM(DO$6:DO11)=0,$BT11>2,$BT11<>\"\"),$BP11-$BO11,0))","v":0},{"$f":"IF(AND($B11<>\"\",$AQ11<>\"\",SUM(DP$6:DP11)>=6),TRUE,FALSE)","v":false},null,false,{"$f":"IF(ISNA(MATCH($CA11,$BX$61:$BX$64,0)),0,IF(ISNA(MATCH(TRUE,DS$6:DS11,0)),IF(AND($BT11>2,$BT11<>\"\"),$BP11-$BO11,0),0))","v":0},{"$f":"IF(AND($B11<>\"\",$AQ11<>\"\",SUM(DT$6:DT11)>=6),TRUE,FALSE)","v":false},null,0,0,{"$f":"IF(ISNA(MATCH($CA11,$BX$61:$BX$64,0)),0,IF(AND(SUM(DX$6:DX11)=0,$BT11>2,$BT11<>\"\"),$BP11-$BO11,0))","v":0},{"$f":"IF(AND($B11<>\"\",$AQ11<>\"\",SUM(DY$6:DY11)>=6),TRUE,FALSE)","v":false},null,0,0,{"$f":"IF(ISNA(MATCH($CA11,$BX$61:$BX$64,0)),0,IF(AND(SUM(EC$6:EC11)=0,$BT11>2,$BT11<>\"\"),$BP11-$BO11,0))","v":0},{"$f":"IF(AND($B11<>\"\",$AQ11<>\"\",SUM(ED$6:ED11)>=6),TRUE,FALSE)","v":false},null,null,{"$f":"IF(OR(BO11<=6,EH10=TRUE,EH10=\"SAND\"),IF(AND(OR($CA11=$BX$62,$CA11=$BX$64),$BS11<>\"\",$BS11<=3,OR($BT11=1,$BT11=\"\")),\"SAND\",IF(AND(OR($CA11=$BX$61,$CA11=$BX$63,$CA11=$BX$65,$CA11=$BX$66,$CA11=$BX$67),$BS11<>\"\",$BS11<=3,OR($BT11=2,$BT11=1,$BT11=\"\")),TRUE,FALSE)),FALSE)","v":false},0,0,0,{"$f":"IF(ISNA(MATCH($CA11,$BX$61:$BX$64,0)),0,IF(ISNA(MATCH(TRUE,EH$6:EH11,0)),IF(AND($BT11>2,$BT11<>\"\"),$BP11-$BO11,0),0))","v":0},{"$f":"IF(AND($B11<>\"\",$AQ11<>\"\",SUM(EL$6:EL11)>=6),TRUE,FALSE)","v":false},6,0,0,0,0,"0",{"$f":"IF(ISNA(MATCH($CA11,$BX$61:$BX$64,0)),0,IF(AND(SUM(EP$6:EP11)=0,$BT11>2,$BT11<>\"\"),$BP11-$BO11,0))","v":0},{"$f":"IF(AND($B11<>\"\",$AQ11<>\"\",SUM(ET$6:ET11)>=6),TRUE,FALSE)","v":false},null,{"$f":"IF(AND(OR($BT11=3,$BT11=2,$BT11=1,$BT11=\"\"),CE11=TRUE),$BP11-$BO11,0)","v":0},0,null,0,0,{"$f":"IF(ISNA(MATCH($CA11,$BX$61:$BX$64,0)),0,IF(AND(SUM(FA$6:FA11)=0,$BT11>2,$BT11<>\"\"),$BP11-$BO11,0))","v":0},{"$f":"IF(AND($B11<>\"\",$AQ11<>\"\",SUM(FB$6:FB11)>=6),TRUE,FALSE)","v":false},null,false,{"$f":"IF(ISNA(MATCH($CA11,$BX$61:$BX$64,0)),0,IF(ISNA(MATCH(TRUE,FE$6:FE11,0)),IF(AND($BT11>2,$BT11<>\"\"),$BP11-$BO11,0),0))","v":0},{"$f":"IF(AND($B11<>\"\",$AQ11<>\"\",SUM(FF$6:FF11)>=6),TRUE,FALSE)","v":false},null,0,0,{"$f":"IF(ISNA(MATCH($CA11,$BX$61:$BX$64,0)),0,IF(AND(SUM(FJ$6:FJ11)=0,$BT11>2,$BT11<>\"\"),$BP11-$BO11,0))","v":0},{"$f":"IF(AND($B11<>\"\",$AQ11<>\"\",SUM(FK$6:FK11)>=6),TRUE,FALSE)","v":false},null,false,null,0,0,false,false,{"$f":"IF(ISNA(MATCH($CA11,$BX$61:$BX$64,0)),0,IF(AND(SUM(FQ$6:FQ11)=0,$BT11>2,$BT11<>\"\"),$BP11-$BO11,0))","v":0},{"$f":"IF(AND($B11<>\"\",$AQ11<>\"\",SUM(FT$6:FT11)>=6),TRUE,FALSE)","v":false},null,false,{"$f":"IF(AND(OR(AND(FW10=TRUE,$B11<>\"\",$AQ11<>\"\"),$BO10=$BO11),OR(AND($BU11>=5,$BS11<>\"\",$BS11<=3,OR($BT11=1,$BT11=\"\")),AND($AE11>=5,$BW11<=3,$BW11<>\"\",OR($BX11=1,$BX11=\"\"))),OR(AND($BS11<>\"\",$BS11>=4,OR($BT11=1,$BT11=\"\")),AND($BW11>=4,$BW11<>\"\",OR($BX11=1,$BX11=\"\")))),TRUE,FALSE)","v":false},{"$f":"IF($BO11=$BO10,IF(AND(FY10<>0,OR(AND($BW11<=3,$BW11<>\"\",OR($BX11=1,$BX11=\"\"))),OR(AND($BS11<>\"\",$BS11>=4,OR($BT11=1,$BT11=\"\")))),$AE11+FY10,FY10),IF(AND(FY10<>0,OR(AND($BW11<=3,$BW11<>\"\",OR($BX11=1,$BX11=\"\"))),OR(AND($BS11<>\"\",$BS11>=4,OR($BT11=1,$BT11=\"\")))),$AE11,0))","v":0},false,false,{"$f":"IF(ISNA(MATCH($CA11,$BX$61:$BX$64,0)),0,IF(ISNA(MATCH(TRUE,FW$6:FW11,0)),IF(AND($BT11>2,$BT11<>\"\"),$BP11-$BO11,0),0))","v":0},{"$f":"IF(AND($B11<>\"\",$AQ11<>\"\",SUM(GB$6:GB11)>=6),TRUE,FALSE)","v":false},null,0,0,false,null,0,0,{"$f":"IF(ISNA(MATCH($CA11,$BX$61:$BX$64,0)),0,IF(AND(SUM(GJ$6:GJ11)=0,$BT11>2,$BT11<>\"\"),$BP11-$BO11,0))","v":0},{"$f":"IF(AND($B11<>\"\",$AQ11<>\"\",SUM(GK$6:GK11)>=6),TRUE,FALSE)","v":false},null,0,0,{"$f":"IF(ISNA(MATCH($CA11,$BX$61:$BX$64,0)),0,IF(AND(SUM(GO$6:GO11)=0,$BT11>2,$BT11<>\"\"),$BP11-$BO11,0))","v":0},{"$f":"IF(AND($B11<>\"\",$AQ11<>\"\",SUM(GP$6:GP11)>=6),TRUE,FALSE)","v":false},null,false,{"$f":"IF(ISNA(MATCH($CA11,$BX$61:$BX$64,0)),0,IF(ISNA(MATCH(TRUE,GS$6:GS11,0)),IF(AND($BT11>2,$BT11<>\"\"),$BP11-$BO11,0),0))","v":0},{"$f":"IF(AND($B11<>\"\",$AQ11<>\"\",SUM(GT$6:GT11)>=6),TRUE,FALSE)","v":false},null,null,0,0,0,{"$f":"IF(ISNA(MATCH($CA11,$BX$61:$BX$64,0)),0,IF(AND(SUM(GZ$6:GZ11)=0,$BT11>2,$BT11<>\"\"),$BP11-$BO11,0))","v":0},{"$f":"IF(AND($B11<>\"\",$AQ11<>\"\",SUM(HA$6:HA11)>=6),TRUE,FALSE)","v":false},null,0,0,{"$f":"IF(ISNA(MATCH($CA11,$BX$61:$BX$64,0)),0,IF(AND(SUM(HE$6:HE11)=0,$BT11>2,$BT11<>\"\"),$BP11-$BO11,0))","v":0},{"$f":"IF(AND($B11<>\"\",$AQ11<>\"\",SUM(HF$6:HF11)>=6),TRUE,FALSE)","v":false},"Max Comp. Depth",false,0,false,false,false,false,false,0,0,{"$f":"IF(ISNA(MATCH($CA11,$BX$61:$BX$64,0)),0,IF(AND(SUM(HQ$6:HQ11)=0,$BT11>2,$BT11<>\"\"),$BP11-$BO11,0))","v":0},{"$f":"IF(AND($B11<>\"\",$AQ11<>\"\",SUM(HR$6:HR11)>=6),TRUE,FALSE)","v":false},null,0,0,null,false,null,0,0,{"$f":"IF(ISNA(MATCH($CA11,$BX$61:$BX$64,0)),0,IF(AND(SUM(IA$6:IA11)=0,$BT11>2,$BT11<>\"\"),$BP11-$BO11,0))","v":0},{"$f":"IF(AND($B11<>\"\",$AQ11<>\"\",SUM(IB$6:IB11)>=6),TRUE,FALSE)","v":false},12,false,0,false,false,0,0,null,6,0,0,0,0,{"$f":"IF(ISNA(MATCH($CA11,$BX$61:$BX$64,0)),0,IF(AND(SUM(IN$6:IN11)=0,$BT11>2,$BT11<>\"\"),$BP11-$BO11,0))","v":0},{"$f":"IF(AND($B11<>\"\",$AQ11<>\"\",SUM(IQ$6:IQ11)>=6),TRUE,FALSE)","v":false},null,0,0,{"$f":"IF(ISNA(MATCH($CA11,$BX$61:$BX$64,0)),0,IF(AND(SUM(IU$6:IU11)=0,$BT11>2,$BT11<>\"\"),$BP11-$BO11,0))","v":0},{"$f":"IF(AND($B11<>\"\",$AQ11<>\"\",SUM(IV$6:IV11)>=6),TRUE,FALSE)","v":false},null,null,0,0,0,{"$f":"IF(ISNA(MATCH($CA11,$BX$61:$BX$64,0)),0,IF(AND(SUM(JA$6:JA11)=0,$BT11>2,$BT11<>\"\"),$BP11-$BO11,0))","v":0},{"$f":"IF(AND($B11<>\"\",$AQ11<>\"\",SUM(JC$6:JC11)>=6),TRUE,FALSE)","v":false},10,false,0,false,false,0,0,8,false,0,false,false,0,0,10,false,0,false,false,0,0,null,null,0,0,0,false,6,0,0,0,0,null,false]
[{"$nulls":66},"","","","","","",0,"","","","",0,"",{"$f":"IF(AND(OR($BZ12=$BZ$62,$BZ12=$BZ$63),$AE12>=CB$13),TRUE,FALSE)","v":false},0,false,{"$f":"IF(CD12=TRUE,TRUE,FALSE)","v":false},{"$f":"IF(AND(OR($BZ12=$BZ$62,$BZ12=$BZ$63),$AE12>=CF$13),TRUE,FALSE)","v":false},0,false,{"$f":"IF(CH12=TRUE,TRUE,FALSE)","v":false},null,0,0,false,{"$nulls":3},0,{"$f":"IF(OR($B12=\"\",$AQ12=\"\"),CR11,IF(ISNA(MATCH(0,CQ$6:CQ12,0)),CR11+CQ12,0))","v":0},false,null,0,0,false,{"$nulls":4},0,{"$f":"IF(OR($B12=\"\",DB12=TRUE),0,IF(OR($BT12=2,$BT12=1,$BT12=\"\"),IF($AQ12<>\"\",TRUE,FALSE),FALSE))","v":0},0,{"$f":"IF(ISNA(MATCH(TRUE,$DB$6:$DB11,0)),IF(AND(DD11>=2,DB12=TRUE),TRUE,FALSE),IF(AND($BO12<=$DA$7,DC12=TRUE),TRUE,IF(AND($BO12<=$DA$7,DB12=TRUE),TRUE,FALSE)))","v":false},null,{"$f":"IF(ISNA(MATCH(TRUE,$DB$6:$DB11,0)),IF(ISNA(MATCH(TRUE,$DC$6:$DC11,0)),FALSE,TRUE),TRUE)","v":false},{"$f":"IF(AND($DB12=FALSE,$DC12=FALSE,$DG12=TRUE),TRUE,FALSE)","v":false},null,false,{"$nulls":3},0,0,{"$nulls":3},false,{"$nulls":3},0,0,{"$nulls":3},0,0,{"$nulls":5},{"$f":"IFERROR(IF(OR($EH11=TRUE,$EH11=\"SAND\",EI11>0),IF(AND(OR(VLOOKUP($BQ12,$BO$62:$BR$497,2,FALSE),VLOOKUP($BQ12,$BO$62:$BR$497,4,FALSE)),$BU12>=60),$BP12-$BO12,IF(AND(VLOOKUP($BQ12,$BO$62:$BR$497,3,FALSE),$CE12=TRUE,$BU12>=60),$BP12-$BO12,0)),0),0)","v":0},{"$f":"IF(AND($BO12>EF$9,EJ11=0),0,IF(OR($B12=\"\",$AQ12=\"\",$BO12>(EF$7+EF$9)),EJ11,IF(AND(EI12=0,EJ11<EF$7),0,EJ11+EI12)))","v":0},0,null,null,"Lower Min Start Depth"," ",null,0,{"$f":"IF(OR($BO12<EN$13,AND($BO12>=EN$13,EQ12=0,ER11<EN$11)),0,IF(OR($B12=\"\",$AQ12=\"\"),ER11,ER11+EQ12))","v":0},{"$nulls":4},{"$f":"IF(AND(OR($BT12=3,$BT12=2,$BT12=1,$BT12=\"\"),CE12=TRUE),$BP12-$BO12,0)","v":0},0,null,0,0,{"$nulls":3},false,{"$nulls":3},0,0,{"$nulls":3},false,null,0,{"$f":"IF(AND($BO12>FO$9,FQ11=0),0,IF(OR($B12=\"\",$AQ12=\"\",$BO12>(FO$7+FO$9)),FQ11,IF(AND(FP12=0,FQ11<FO$7),0,FQ11+FP12)))","v":0},false,false,{"$nulls":3},false,{"$f":"IF(AND(OR(AND(FW11=TRUE,$B12<>\"\",$AQ12<>\"\"),$BO11=$BO12),OR(AND($BU12>=5,$BS12<>\"\",$BS12<=3,OR($BT12=1,$BT12=\"\")),AND($AE12>=5,$BW12<=3,$BW12<>\"\",OR($BX12=1,$BX12=\"\"))),OR(AND($BS12<>\"\",$BS12>=4,OR($BT12=1,$BT12=\"\")),AND($BW12>=4,$BW12<>\"\",OR($BX12=1,$BX12=\"\")))),TRUE,FALSE)","v":false},{"$f":"IF($BO12=$BO11,IF(AND(FY11<>0,OR(AND($BW12<=3,$BW12<>\"\",OR($BX12=1,$BX12=\"\"))),OR(AND($BS12<>\"\",$BS12>=4,OR($BT12=1,$BT12=\"\")))),$AE12+FY11,FY11),IF(AND(FY11<>0,OR(AND($BW12<=3,$BW12<>\"\",OR($BX12=1,$BX12=\"\"))),OR(AND($BS12<>\"\",$BS12>=4,OR($BT12=1,$BT12=\"\")))),$AE12,0))","v":0},false,{"$f":"IF(FZ12=TRUE,TRUE,FALSE)","v":false},{"$nulls":3},0,0,false,null,0,0,{"$nulls":3},0,0,{"$nulls":3},false,{"$nulls":4},0,0,0,{"$nulls":3},0,0,null,null,12,{"$f":"IF(AND(IFERROR(IF(SEARCH(\"D\",AI12,1)>=1,TRUE,FALSE),FALSE),$AE12>=$HH$7,$BW12<>\"\",$BW12>=5,OR($BX12=2,$BX12=1,$BX12=\"\")),TRUE,FALSE)","v":false},0,false,{"$f":"IF(HK12=TRUE,TRUE,FALSE)","v":false},{"$f":"IF(AND(IFERROR(IF(SEARCH(\"D\",AI12,1)>=1,TRUE,FALSE),FALSE),$AE12>=$HH$8,$BW12<>\"\",$BW12>=5,OR($BX12=2,$BX12=1,$BX12=\"\")),TRUE,FALSE)","v":false},false,{"$f":"IF(HN12=TRUE,TRUE,FALSE)","v":false},0,0,{"$nulls":3},0,0,null,false,null,0,0,{"$nulls":3},{"$f":"IF(AND(OR($BZ12=$BZ$62,$BZ12=$BZ$63),$AE12>=$ID$7,$BW12<>\"\",$BW12<=3,OR($BX12=3,$BX12=2,$BX12=1,$BX12=\"\")),TRUE,FALSE)","v":false},0,false,{"$f":"IF(IG12=TRUE,TRUE,FALSE)","v":false},0,0,null,null,0,0,0,0,{"$nulls":3},0,0,{"$nulls":4},0,0,0,{"$nulls":3},{"$f":"IF(AND(OR($BZ12=$BZ$62,$BZ12=$BZ$63),$AE12>=JE$7),TRUE,FALSE)","v":false},0,false,{"$f":"IF(JH12=TRUE,TRUE,FALSE)","v":false},0,0,null,{"$f":"IF(OR(AND(OR($BZ12=$BZ$62,$BZ12=$BZ$63,IFERROR(IF(SEARCH(\"D\",$AI12,1)>=1,TRUE,FALSE),FALSE)),$AE12>=JL$7)),TRUE,IF(AND($BO12=$BO13,JM13=TRUE),TRUE,FALSE))","v":false},0,false,{"$f":"IF(JO12=TRUE,TRUE,FALSE)","v":false},0,0,null,{"$f":"IFERROR(IF(AND(OR($BZ12=$BZ$62,$BZ12=$BZ$63,AND(IFERROR(IF(SEARCH(\"D\",AI12,1)>=1,TRUE,FALSE),FALSE),OR(AND($BW12-$BS12>=1,IFERROR($BT12-$BX12>=1,IF(AND($BW12<>\"\",$BX12=\"\"),TRUE,FALSE))),AND($BW12>=4,OR($BX12=2,$BX12=1,$BX12=\"\"))))),$AE12>=JS$7),TRUE,FALSE),FALSE)","v":false},0,false,{"$f":"IF(JV12=TRUE,TRUE,FALSE)","v":false},0,0,null,null,0,0,0,false,{"$nulls":3},0,0,null,false]
[null,"1Type:  C=Concentration, D=Depletion, RM=Reduced Matrix, MS=Masked Sand Grains.",{"$nulls":44},"2Location:  PL=Pore Lining, M=Matrix.",{"$nulls":32},2,{"$nulls":3},5,{"$nulls":3},{"$f":"IF(ISNA(MATCH(TRUE,CO6:CO11,0)),IF(OR(AND(ISNA(MATCH(FALSE,CM6:CM12,0)),K38=BP12),CL12>=CJ7),\"?\",\"\"),\"\")","v":""},{"$nulls":5},{"$f":"IF(ISNA(MATCH(TRUE,CS7:CS12,0)),\"\",\"X\")","v":""},{"$nulls":3},{"$f":"IF(ISNA(MATCH(TRUE,CY6:CY11,0)),IF(ISNA(MATCH(TRUE,CW7:CW12,0)),\"\",\"X\"),\"\")","v":""},{"$nulls":6},{"$f":"IF(ISNA(MATCH(TRUE,$DH$7:$DH$12,0)),IF(DF14=TRUE,\"?\",\"\"),\"\")","v":""},{"$nulls":3}," ","DF14 checks for TRUE in either DE or DF."," ",null,{"$f":"IF(ISNA(MATCH(TRUE,DL6:DL11,0)),IF(ISNA(MATCH(TRUE,DJ6:DJ12,0)),\"\",\"?\"),\"\")","v":""},{"$nulls":3},{"$f":"IF(ISNA(MATCH(TRUE,DQ6:DQ11,0)),IF(DO12>=DM7,\"X\",\"\"),\"\")","v":""},{"$nulls":4},{"$f":"IF(ISNA(MATCH(TRUE,DU6:DU11,0)),IF(ISNA(MATCH(TRUE,DS6:DS12,0)),\"\",\"X\"),\"\")","v":""},{"$nulls":3},{"$f":"IF(ISNA(MATCH(TRUE,EE6:EE11,0)),IF(DX12>=DV7,\"X\",\"\"),\"\")","v":""},{"$nulls":4},{"$f":"IF(ISNA(MATCH(TRUE,EE6:EE11,0)),IF(EC12>=EA7,\"X\",\"\"),\"\")","v":""},{"$nulls":4},{"$f":"IF(ISNA(MATCH(TRUE,EM6:EM11,0)),IF(ISNA(MATCH(\"SAND\",EH6:EH11,0)),IF(ISNA(MATCH(TRUE,EH6:EH11,0)),\"\",IF(EJ12>=EF7,\"X\",IF(EK12>=EG7,\"?\",\"\"))),IF(OR(EJ12>=EF7,EK12>=EG7),\"?\",\"\")),\"\")","v":""},{"$nulls":7},12,{"$f":"IF(ISNA(MATCH(TRUE,EU6:EU11,0)),IF(ISNA(MATCH(FALSE,ES6:ES11,0)),IF(ISNA(MATCH(\"SAND\",ES6:ES11,0)),IF(ISNA(MATCH(TRUE,ES6:ES11,0)),\"\",\"X\"),\"?\"),\"\"),\"\")","v":""},{"$nulls":6},{"$f":"IF(EX12>=EV7,\"?\",\"\")","v":""},null,null,{"$f":"IF(ISNA(MATCH(TRUE,FC6:FC11,0)),IF(FA12>=$EY$7,\"X\",\"\"),\"\")","v":""},{"$nulls":4},{"$f":"IF(ISNA(MATCH(TRUE,FG6:FG11,0)),IF(ISNA(MATCH(TRUE,FE6:FE12,0)),\"\",\"X\"),\"\")","v":""},{"$nulls":3},{"$f":"IF(ISNA(MATCH(TRUE,FL6:FL11,0)),IF(FJ12>=FH7,\"X\",\"\"),\"\")","v":""},{"$f":"IF(ISNA(MATCH(TRUE,FL6:FL11,0)),IF(FH13=\"X\",\"X\",IF(OR(AND(FH13=\"\",FO13=\"\",BX25=\"?C\"),AND(FH13=\"\",GM13=\"\",CE25=\"?C\"),AND(FH13=\"\",GV13=\"\",OR(CL25=\"?C\",CS25=\"?C\")),AND(FH13=\"\",HC13=\"\",CZ25=\"?C\"),AND(FH13=\"\",HH13=\"\",DG25=\"?C\")),\"?C\",\"\")),IF(ISNA(MATCH(TRUE,$GQ6:$GQ11,0)),IF(AND(FH13=\"\",GM13=\"\",CE25=\"?C\"),\"?C\",\"\"),\"\"))","v":""},{"$nulls":3},{"$f":"IF(ISNA(MATCH(TRUE,FN6:FN12,0)),\"\",\"?\")","v":""},null,{"$f":"IF(ISNA(MATCH(TRUE,FU6:FU11,0)),IF(ISNA(MATCH(TRUE,$FR$6:$FR$12,0)),\"\",\"?\"),\"\")","v":""},{"$f":"IF(ISNA(MATCH(TRUE,FU6:FU11,0)),IF(FO13=\"?\",\"?\",IF(OR(AND(FO13=\"\",FH13=\"\",BX25=\"?C\"),AND(FO13=\"\",GV13=\"\",OR(DN25=\"?C\",DU25=\"?C\")),AND(FO13=\"\",HC13=\"\",EB25=\"?C\"),AND(FO13=\"\",HH13=\"\",EI25=\"?C\")),\"?C\",\"\")),\"\")","v":""},{"$nulls":5},{"$f":"IF(ISNA(MATCH(TRUE,GC6:GC11,0)),IF(ISNA(MATCH(TRUE,GA7:GA12,0)),\"\",\"?\"),\"\")","v":""},{"$nulls":7},{"$f":"IF(ISNA(MATCH(TRUE,GG7:GG12,0)),\"\",\"?\")","v":""},{"$nulls":3},{"$f":"IF(ISNA(MATCH(TRUE,GQ6:GQ11,0)),IF(GJ12>=GH7,\"?\",\"\"),\"\")","v":""},{"$nulls":4},{"$f":"IF(ISNA(MATCH(TRUE,GQ6:GQ11,0)),IF(GO12>=GM$7,\"X\",\"\"),\"\")","v":""},{"$f":"IF(ISNA(MATCH(TRUE,GQ6:GQ11,0)),IF(GM13=\"X\",\"X\",IF(OR(AND(GM13=\"\",FH13=\"\",CE25=\"?C\"),AND(GM13=\"\",GV13=\"\",OR(EP25=\"?C\",EW25=\"?C\")),AND(GM13=\"\",HC13=\"\",FD25=\"?C\"),AND(GM13=\"\",HH13=\"\",FK25=\"?C\")),\"?C\",\"\")),\"\")","v":""},{"$nulls":3},{"$f":"IF(ISNA(MATCH(TRUE,GU6:GU11,0)),IF(ISNA(MATCH(TRUE,GS6:GS12,0)),\"\",\"X\"),\"\")","v":""},{"$nulls":3},{"$f":"IF(ISNA(MATCH(TRUE,HB6:HB11,0)),IF(OR(GY12>=GV7,GZ12>=GW7),\"X\",\"\"),\"\")","v":""},{"$f":"IF(ISNA(MATCH(TRUE,HB6:HB11,0)),IF(GV13=\"X\",\"X\",IF(OR(AND(GV13=\"\",FH13=\"\",OR(CL25=\"?C\",CS25=\"?C\")),AND(GV13=\"\",FO13=\"\",OR(DN25=\"?C\",DU25=\"?C\")),AND(GV13=\"\",GM13=\"\",OR(EP25=\"?C\",EW25=\"?C\")),AND(GV13=\"\",HC13=\"\",OR(FR25=\"?C\",FY25=\"?C\")),AND(GV13=\"\",HH13=\"\",OR(GF25=\"?C\",GM25=\"?C\"))),\"?C\",\"\")),IF(ISNA(MATCH(TRUE,$GQ6:$GQ11,0)),IF(AND(GV13=\"\",GM13=\"\",OR(EP25=\"?C\",EW25=\"?C\")),\"?C\",\"\"),\"\"))","v":""},{"$nulls":5},{"$f":"IF(ISNA(MATCH(TRUE,HG6:HG11,0)),IF(HE12>=HC7,\"X\",\"\"),\"\")","v":""},{"$f":"IF(ISNA(MATCH(TRUE,HG6:HG11,0)),IF(HC13=\"X\",\"X\",IF(OR(AND(HC13=\"\",FH13=\"\",CZ25=\"?C\"),AND(HC13=\"\",FO13=\"\",EB25=\"?C\"),AND(HC13=\"\",GM13=\"\",FD25=\"?C\"),AND(HC13=\"\",GV13=\"\",OR(FR25=\"?C\",FY25=\"?C\")),AND(HC13=\"\",HH13=\"\",GT25=\"?C\")),\"?C\",\"\")),IF(ISNA(MATCH(TRUE,$GQ6:$GQ11,0)),IF(AND(HC13=\"\",GM13=\"\",FD25=\"?C\"),\"?C\",\"\"),\"\"))","v":""},{"$nulls":3},{"$f":"IF(ISNA(MATCH(TRUE,HS6:HS11,0)),IF(HQ12>=HH10,\"X\",\"\"),\"\")","v":""},{"$f":"IF(ISNA(MATCH(TRUE,HS6:HS12,0)),IF(HH13=\"X\",\"X\",IF(OR(AND(HH13=\"\",FH13=\"\",DG25=\"?C\"),AND(HH13=\"\",FO13=\"\",EI25=\"?C\"),AND(HH13=\"\",GM13=\"\",FK25=\"?C\"),AND(HH13=\"\",GV13=\"\",OR(GF25=\"?C\",GM25=\"?C\")),AND(HH13=\"\",HC13=\"\",GT25=\"?C\")),\"?C\",\"\")),IF(ISNA(MATCH(TRUE,$GQ6:$GQ11,0)),IF(AND(HH13=\"\",GM13=\"\",FK25=\"?C\"),\"?C\",\"\"),\"\"))","v":""},{"$nulls":10},{"$f":"IF(HV12>=HT7,\"?\",\"\")","v":""},null,null,{"$f":"IF(ISNA(MATCH(TRUE,HX6:HX12,0)),\"\",IF(AND('Page 1 (Hydrology)'!P26=\"X\",HX6=TRUE),\"X\",\"?\"))","v":""},null,{"$f":"IF(ISNA(MATCH(TRUE,IC6:IC11,0)),IF(IA12>=HY7,\"X\",\"\"),\"\")","v":""},{"$nulls":4},{"$f":"IF(IK$6=TRUE,\"?\",IF(IJ12>=ID9,\"?\",\"\"))","v":""},{"$nulls":8},{"$f":"IF(ISNA(MATCH(TRUE,IR6:IR11,0)),IF(AND(IN12>=IL7,IP12>=IL9),\"X\",\"\"),\"\")","v":""},{"$nulls":5},{"$f":"IF(ISNA(MATCH(TRUE,IW6:IW11,0)),IF(IU12>=IS7,\"X\",\"\"),\"\")","v":""},{"$nulls":4},{"$f":"IF(ISNA(MATCH(TRUE,JD6:JD11,0)),IF(OR(JA12>=IX7,JB12>=IY7),\"?\",\"\"),\"\")","v":""},{"$nulls":6},{"$f":"IF(JK12>=JE9,\"?\",\"\")","v":""},{"$nulls":6},{"$f":"IF(JR12>=JL9,\"?\",\"\")","v":""},{"$nulls":6},{"$f":"IF(JY12>=JS9,\"X\",\"\")","v":""},{"$nulls":6},{"$f":"IF(ISNA(MATCH(FALSE,KE6:KE12,0)),IF(AND(K38>6,KC12>=JZ7),\"?\",IF(AND(K38<=6,KD12>KA7),\"?\",\"\")),\"\")","v":""},{"$nulls":5},{"$f":"IF(AND(KH11>=KF7,KJ12>=KF9),\"?\",\"\")","v":""},{"$nulls":4},{"$f":"IF(ISNA(MATCH(TRUE,KL6:KL12,0)),\"\",\"X\")","v":""}]
[null,"Hydric Soil Indicators: (Applicable to all LRRs, unless otherwise noted.)",{"$nulls":44},"Indicators for Problematic Hydric Soils3:",{"$nulls":19},"Hydric Soil Indicators",{"$nulls":3},"Hydro/Veg",null,"Warning Depths","Warning Textures","Warning Matrix",{"$nulls":12},"CJ13 checks for TRUE in CO, then checks if the organic soil end depth = the restrictive layer depth or for total of CL to meet conditions."," ",{"$nulls":4},"CP13 checks if any CS (mineral soil below qualifying organic thickness) is TRUE"," ",null,null,"CT13 checks for TRUE in CY, then checks if any CW (mineral soil below qualifying organic thickness) is TRUE."," ",{"$nulls":5},"DA13 checks for TRUE in DH, then checks if there is a qualifying layer in DB and total layers >=2 at <=6\" depth."," ",null,null," ",{"$f":"IF(ISNA(MATCH(TRUE,$DE$7:$DE$12,0)),IF(ISNA(MATCH(TRUE,$DF$6:$DF$11,0)),FALSE,TRUE),TRUE)","v":false},null,null,"DI13 checks if there is a TRUE in DL, else a TRUE in DJ."," ",null,null,"DM13 checks for TRUE in DQ, then checks for qualifying thickness."," ",{"$nulls":3},"DR13 checks if there is a TRUE in DU, else a TRUE in DS."," ",null,null,"DV13 checks for TRUE in DZ, then checks for total of DX to meet conditions"," ",{"$nulls":3},"EA13 checks for TRUE in EE, then checks for total of EC to meet conditions"," ",{"$nulls":3},"EF13 checks for FALSE in EM, then SAND in EH, and then TRUE in EH, if TRUE or SAND it checks if the minimum cumulative thickness is 6 inches for option a (\"X\"), then 2 inches for option b (\"?\")."," ",null," ",{"$nulls":5},"EO13 checks for TRUE in EU, then checks for FALSE in ES, else \"SAND\" in ES, else TRUE in ES.  \"?\" for SAND in ES, \"X\" for TRUE in ES."," "," ",{"$nulls":4},"EV13 checks for qualifying thickness."," ",null,"EY13 checks for TRUE in FC, then checks for qualifying thickness."," ",{"$nulls":3},"FD13 checks for TRUE in FG, then checks for TRUE in FE."," ",null,null,"FH13 checks for TRUE in FL, then checks for minimum total thickness.","FI13 checks for TRUE in FL, if TRUE then checks if TRUE in Loamy Mucky Mineral's mineral surface if combination is with Loamy Mucky Mineral, else checks if there is a possible combinations of indicators if FH13 is blank."," ",null,null,"FM13 checks if there is a TRUE in FN."," ","FO13 checks if there is a TRUE in FU, then checks for a TRUE in FR.","FP13 checks for TRUE in FU, then checks if there is a possible combinations of indicators if FO13 is blank."," ",{"$nulls":4},"FV13 checks if there is a TRUE in GC, then checks for a TRUE in GA."," ",{"$nulls":6},"GD13 checks if TRUE in GG."," ",null,null,"GH13 checks for TRUE in GL, then checks for total of GJ to meet conditions."," ",{"$nulls":3},"GM13 checks for TRUE in GQ, then checks for qualifying thickness.","GN13 checks for TRUE in GQ, then checks if there is a possible combinations of indicators if GM13 is blank."," ",null,null,"GR13 checks for TRUE in GU then checks for TRUE in GS."," ",null,null,"GV13 checks for TRUE in HB, then checks for qualifying thicknesses of either set of conditions.","GW13 checks for TRUE in HB, if TRUE then checks if TRUE in Loamy Mucky Mineral's mineral surface if combination is with Loamy Mucky Mineral, else checks if there is a possible combinations of indicators if GV13 is blank."," ",{"$nulls":4},"HC13 checks for TRUE in HG, then checks for qualifying thickness.","HD13 checks if there is a TRUE in HG, if TRUE then checks if TRUE in Loamy Mucky Mineral's mineral surface if combination is with Loamy Mucky Mineral, else checks if there is a possible combinations of indicators if HC13 is blank. "," ",null,null,"HH13 checks for TRUE in HS, then checks for qualifying thickness.","HI13 checks for TRUE in HS, if TRUE then checks if TRUE in Loamy Mucky Mineral's mineral surface if combination is with Loamy Mucky Mineral, else checks if there is a possible combinations of indicators if HH13 is blank. "," ",null,null," ",{"$nulls":6},"HT13 checks if thickness meets conditions"," ",null,"HW13 checks for Marl color in HX for \"?\", then checks for Marl Deposits (B15) hydrology indicator from page 1 and Marl color at the surface layer for \"X\"."," ","HY13 checks for TRUE in IC, then checks for qualifying thickness."," ",{"$nulls":3},"ID13 checks IK6 if the surface mineral layer (waives thickness requirement), then checks if the thickness qualifies for the conditions."," ",{"$nulls":7},"IM13 checks for TRUE in IR, then checks for qualifying thickness for total and upper thicknesses."," "," "," ",null,null,"IS13 checks for TRUE in IW, then checks for qualifying thickness."," ",{"$nulls":3},"IX13 checks for TRUE in JD, then checks for qualifying thickness"," "," ",{"$nulls":4},"JE13 checks for qualifying thickness."," ",{"$nulls":5},"JL13 checks if the thickness qualifies for the conditions."," ",{"$nulls":5},"JS13 checks if the thickness qualifies for the conditions."," ",{"$nulls":5},"JZ13 checks for FALSE in KE, then checks for thickness >=6 for bedrock >6 inches, then for thickness >=1/2 the bedrock depth for bedrock<=6 inches."," "," ",{"$nulls":3},"KF13 checks for thickness requirements of the surface dark layer and of the low chroma yellow layer."," ",{"$nulls":3},"KK13 checks for TRUE in KL"," "]
[null,{"$f":"BO15","v":""},"Histosol (A1)",{"$nulls":19},{"$f":"BP15","v":""},"Thin Dark Surface (S9) (LRR S, T, U)",{"$nulls":22},{"$f":"BQ15","v":""},"1 cm Muck (A9) (LRR O)",{"$nulls":18},{"$f":"IFERROR(CJ13,\"\")","v":""},{"$f":"IFERROR(IF(ISNA(MATCH('Page 1 (Hydrology)'!$L$6,$CO$75:$CO$90,0)),\"\",GD13),\"\")","v":""},{"$f":"IFERROR(IF(DV13=\"X\",IF(ISNA(MATCH('Page 1 (Hydrology)'!$L$6,$CO$61:$CO$65,0)),\"\",IF($BS$19=TRUE,\"?\",\"\")),\"\"),\"\")","v":""},null,{"$f":"IF(OR('Page 1 (Hydrology)'!Q9=\"X\",'Page 1 (Hydrology)'!Q9=\"Yes\",'Page 1 (Hydrology)'!Q9=\"Y\",'Page 1 (Hydrology)'!Q10=\"X\",'Page 1 (Hydrology)'!Q10=\"Yes\",'Page 1 (Hydrology)'!Q10=\"Y\"),TRUE,FALSE)","v":false},null,{"$f":"IF(ISBLANK(B6),FALSE,IF(OR(AND(B6<>\"\",OR(BO6=\"\",BP6=\"\")),ISERR(BO6),ISERR(BP6),BO6>=BP6),TRUE,FALSE))","v":false},{"$f":"IF(AND($B6=\"\",$AQ6<>\"\"),TRUE,FALSE)","v":false},{"$f":"IF(AND($B6=\"\",$H6<>\"\"),TRUE,FALSE)","v":false},"Indicator Combinations",{"$nulls":117}," "]
[null,{"$f":"BO16","v":""},"Histic Epipedon (A2)",{"$nulls":19},{"$f":"BP16","v":""},"Barrier Islands 1 cm Muck (S12)",{"$nulls":22},{"$f":"BQ16","v":""},"2 cm Muck (A10) (LRR S)",{"$nulls":18},{"$f":"IFERROR(IF(CP13=\"X\",IF($BS$19=TRUE,\"X\",\"\"),\"\"),\"\")","v":""},{"$f":"IFERROR(IF(ISNA(MATCH('Page 1 (Hydrology)'!$L$6,$CO$124:$CO$125,0)),\"\",GH13),\"\")","v":""},{"$f":"IFERROR(IF(EA13=\"X\",IF(ISNA(MATCH('Page 1 (Hydrology)'!$L$6,$CO$75,0)),\"\",IF($BS$19=TRUE,\"?\",\"\")),\"\"),\"\")","v":""},null,{"$f":"IF(OR('Page 1 (Hydrology)'!AO39=\"X\",'Page 1 (Hydrology)'!Q14=\"X\"),TRUE,FALSE)","v":false},null,{"$f":"IF(ISBLANK(B7),FALSE,IF(OR(AND(B7<>\"\",OR(BO7=\"\",BP7=\"\")),ISERR(BO7),ISERR(BP7),BO7<>BP6,BO7>=BP7),TRUE,FALSE))","v":false},{"$f":"IF(AND($B7=\"\",$AQ7<>\"\"),TRUE,FALSE)","v":false},{"$f":"IF(AND($B7=\"\",$H7<>\"\"),TRUE,FALSE)","v":false},"Sandy Redox (S5) & Dark Surface (S7)",{"$nulls":6},"Sandy Redox (S5) & Loamy Mucky Mineral (F1)",{"$nulls":6},"Sandy Redox (S5) & Depleted Matrix (F3) (a)",{"$nulls":6},"Sandy Redox (S5) & Depleted Matrix (F3) (b)",{"$nulls":6},"Sandy Redox (S5) & Redox Dark Surface (F6)",{"$nulls":6},"Sandy Redox (S5) & Depleted Dark Surface (F7)",{"$nulls":6},"Dark Surface (S7) & Depleted Matrix (F3) (a)",{"$nulls":6},"Dark Surface (S7) & Depleted Matrix (F3) (b)",{"$nulls":5},"Dark Surface (S7) & Redox Dark Surface (F6)",{"$nulls":7},"Dark Surface (S7) & Depleted Dark Surface (F7)",{"$nulls":6},"Loamy Mucky Mineral (F1) & Depleted Matrix (F3) (a)",{"$nulls":6},"Loamy Mucky Mineral (F1) & Depleted Matrix (F3) (b)",{"$nulls":6},"Loamy Mucky Mineral (F1) & Redox Dark Surface (F6)",{"$nulls":6},"Loamy Mucky Mineral (F1) & Depleted Dark Surface (F7)",{"$nulls":6},"Depleted Matrix (F3) (a) & Redox Dark Surface (F6)",{"$nulls":6},"Depleted Matrix (F3) (b) & Redox Dark Surface (F6)",{"$nulls":6},"Depleted Matrix (F3) (a) & Depleted Dark Surface (F7)",{"$nulls":6},"Depleted Matrix (F3) (b) & Depleted Dark Surface (F7)",{"$nulls":6},"Redox Dark Surface (F6) & Depleted Dark Surface (F7)",{"$nulls":56}," ",{"$nulls":4}," ",{"$nulls":19}," "]
[null,{"$f":"BO17","v":""},"Black Histic (A3)",{"$nulls":21},"(MLRA 153B, 153D)",{"$nulls":21},{"$f":"BQ17","v":""},"Coast Prairie Redox (A16) (MLRA 149A)",{"$nulls":18},{"$f":"IFERROR(CT13,\"\")","v":""},null,{"$f":"IFERROR(IF(EV13=\"?\",IF(ISNA(MATCH('Page 1 (Hydrology)'!$L$6,$CO$75,0)),\"\",IF($BS$19=TRUE,\"?\",\"\")),\"\"),\"\")","v":""},null,{"$f":"IF(OR('Page 1 (Hydrology)'!H9=\"X\",'Page 1 (Hydrology)'!H9=\"Yes\",'Page 1 (Hydrology)'!H9=\"Y\",'Page 1 (Hydrology)'!H10=\"X\",'Page 1 (Hydrology)'!H10=\"Yes\",'Page 1 (Hydrology)'!H10=\"Y\",IFERROR(AND('Page 2 (Vegetation, 5 Strata)'!BM1=1,ISTEXT('Page 2 (Vegetation, 5 Strata)'!AS25)),FALSE),IFERROR(AND('Page 2 (Vegetation, 5 Strata)'!BM1=2,ISTEXT('Page 2 (Vegetation, 4 Strata)'!AS25)),ISTEXT('Page 2 (Vegetation, 4 Strata)'!AS25))),TRUE,FALSE)","v":false},null,{"$f":"IF(ISBLANK(B8),FALSE,IF(OR(AND(B8<>\"\",OR(BO8=\"\",BP8=\"\")),ISERR(BO8),ISERR(BP8),BO8<>BP7,BO8>=BP8),TRUE,FALSE))","v":false},{"$f":"IF(AND($B8=\"\",$AQ8<>\"\"),TRUE,FALSE)","v":false},false,"Conditions","Calculation of layers from Sandy Redox","Running total from Sandy Redox","Calculation of layers from Dark Surface","Running total from Dark Surface","Largest value from previous running total columns (can only count a layer once for an indicator)","Running total of previous column that matches conditions","Conditions","Calculation of layers from Sandy Redox","Running total from Sandy Redox","Calculation of layers from Loamy Mucky Mineral","Running total from Loamy Mucky Mineral","Largest value from previous running total columns (can only count a layer once for an indicator)","Running total of previous column that matches conditions","Conditions","Calculation of layers from Sandy Redox","Running total from Sandy Redox","Calculation of layers from Depleted Matrix","Running total from Depleted Matrix","Largest value from previous running total columns (can only count a layer once for an indicator)","Running total of previous column that matches conditions","Conditions","Calculation of layers from Sandy Redox","Running total from Sandy Redox","Calculation of layers from Depleted Matrix","Running total from Depleted Matrix","Largest value from previous running total columns (can only count a layer once for an indicator)","Running total of previous column that matches conditions","Conditions","Calculation of layers from Sandy Redox","Running total from Sandy Redox","Calculation of layers from Redox Dark Surface","Running total from Redox Dark Surface","Largest value from previous running total columns (can only count a layer once for an indicator)","Running total of previous column that matches conditions","Conditions","Calculation of layers from Sandy Redox","Running total from Sandy Redox","Calculation of layers from Depleted Dark Surface","Running total from Depleted Dark Surface","Largest value from previous running total columns (can only count a layer once for an indicator)","Running total of previous column that matches conditions","Conditions","Calculation of layers from Dark Surface","Running total from Dark Surface","Calculation of layers from Depleted Matrix","Running total from Depleted Matrix","Largest value from previous running total columns (can only count a layer once for an indicator)","Running total of previous column that matches conditions","Conditions","Calculation of layers from Dark Surface","Running total from Dark Surface","Calculation of layers from Depleted Matrix","Running total from Depleted Matrix","Largest value from previous running total columns (can only count a layer once for an indicator)","Running total of previous column that matches conditions","Conditions","Calculation of layers from Dark Surface","Running total from Dark Surface","Calculation of layers from Redox Dark Surface","Running total from Redox Dark Surface","Largest value from previous running total columns (can only count a layer once for an indicator)","Running total of previous column that matches conditions","Conditions","Calculation of layers from Dark Surface","Running total from Dark Surface","Calculation of layers from Depleted Dark Surface","Running total from Depleted Dark Surface","Largest value from previous running total columns (can only count a layer once for an indicator)","Running total of previous column that matches conditions","Conditions","Calculation of layers from Loamy Mucky Mineral","Running total from Loamy Mucky Mineral","Calculation of layers from Depleted Matrix","Running total from Depleted Matrix","Largest value from previous running total columns (can only count a layer once for an indicator)","Running total of previous column that matches conditions","Conditions","Calculation of layers from Loamy Mucky Mineral","Running total from Loamy Mucky Mineral","Calculation of layers from Depleted Matrix","Running total from Depleted Matrix","Largest value from previous running total columns (can only count a layer once for an indicator)","Running total of previous column that matches conditions","Conditions","Calculation of layers from Loamy Mucky Mineral","Running total from Loamy Mucky Mineral","Calculation of layers from Redox Dark Surface","Running total from Redox Dark Surface","Largest value from previous running total columns (can only count a layer once for an indicator)","Running total of previous column that matches conditions","Conditions","Calculation of layers from Loamy Mucky Mineral","Running total from Loamy Mucky Mineral","Calculation of layers from Depleted Dark Surface","Running total from Depleted Dark Surface","Largest value from previous running total columns (can only count a layer once for an indicator)","Running total of previous column that matches conditions","Conditions","Calculation of layers from Depleted Matrix","Running total from Depleted Matrix","Calculation of layers from Redox Dark Surface","Running total from Redox Dark Surface","Largest value from previous running total columns (can only count a layer once for an indicator)","Running total of previous column that matches conditions","Conditions","Calculation of layers from Depleted Matrix","Running total from Depleted Matrix","Calculation of layers from Redox Dark Surface","Running total from Redox Dark Surface","Largest value from previous running total columns (can only count a layer once for an indicator)","Running total of previous column that matches conditions","Conditions","Calculation of layers from Depleted Matrix","Running total from Depleted Matrix","Calculation of layers from Depleted Dark Surface","Running total from Depleted Dark Surface","Largest value from previous running total columns (can only count a layer once for an indicator)","Running total of previous column that matches conditions","Conditions","Calculation of layers from Depleted Matrix","Running total from Depleted Matrix","Calculation of layers from Depleted Dark Surface","Running total from Depleted Dark Surface","Largest value from previous running total columns (can only count a layer once for an indicator)","Running total of previous column that matches conditions","Conditions","Calculation of layers from GS","Running total from GT","Calculation of layers from HE","Running total from HF","Largest value from previous running total columns (can only count a layer once for an indicator)","Running total of previous column that matches conditions"," "]
[null,{"$f":"BO18","v":""},"Hydrogen Sulfide (A4)",{"$nulls":19},{"$f":"BP18","v":""},"Loamy Mucky Mineral (F1) (LRR O)",{"$nulls":22},{"$f":"BQ18","v":""},"Reduced Vertic (F18)",{"$nulls":18},{"$f":"IFERROR(CZ6,\"\")","v":""},{"$f":"IFERROR(IF(ISNA(MATCH('Page 1 (Hydrology)'!$L$6,$CO$61:$CO$65,0)),\"\",GN13),\"\")","v":""},{"$f":"IFERROR(IF(IX13=\"?\",IF(ISNA(MATCH('Page 1 (Hydrology)'!$L$6,$CO$77:$CO$78,0)),IF($BS$19=TRUE,\"?\",\"\"),\"\"),\"\"),\"\")","v":""},null,{"$f":"IF('Page 1 (Hydrology)'!Q12=\"X\",TRUE,IFERROR(IF(OR(IFERROR(AND('Page 2 (Vegetation, 5 Strata)'!BM1=1,'Page 2 (Vegetation, 5 Strata)'!BB53=\"X\"),FALSE),IFERROR(AND('Page 2 (Vegetation, 5 Strata)'!BM1=2,'Page 2 (Vegetation, 4 Strata)'!BB49=\"X\"),'Page 2 (Vegetation, 4 Strata)'!BB49=\"X\")),TRUE,FALSE),IF('Page 2 (Vegetation, 5 Strata)'!BB53=\"X\",TRUE,FALSE)))","v":false},null,{"$f":"IF(ISBLANK(B9),FALSE,IF(OR(AND(B9<>\"\",OR(BO9=\"\",BP9=\"\")),ISERR(BO9),ISERR(BP9),BO9<>BP8,BO9>=BP9),TRUE,FALSE))","v":false},{"$f":"IF(AND($B9=\"\",$AQ9<>\"\"),TRUE,FALSE)","v":false},false,"Min Cum. Thickness",{"$f":"$FI6","v":0},{"$f":"$FJ6","v":0},{"$f":"$FP6","v":0},{"$f":"$FQ6","v":0},{"$f":"LARGE((BZ18,CB18),1)","v":0},{"$f":"IF($BO6>BX$21,0,CC18)","v":0},"Min Cum. Thickness",{"$f":"$FI6","v":0},{"$f":"$FJ6","v":0},{"$f":"$GN6","v":0},{"$f":"$GO6","v":0},{"$f":"LARGE((CG18,CI18),1)","v":0},{"$f":"IF($BO6>CE$21,0,CJ18)","v":0},"Min Cum. Thickness",{"$f":"$FI6","v":0},{"$f":"$FJ6","v":0},{"$f":"$GX6","v":0},{"$f":"$GY6","v":0},{"$f":"LARGE((CN18,CP18),1)","v":0},{"$f":"IF($BO6>CL$21,0,CQ18)","v":0},"Min Cum. Thickness",{"$f":"$FI6","v":0},{"$f":"$FJ6","v":0},{"$f":"$GX6","v":0},{"$f":"$GZ6","v":0},{"$f":"LARGE((CU18,CW18),1)","v":0},{"$f":"IF($BO6>CS$21,0,CX18)","v":0},"Min Cum. Thickness",{"$f":"$FI6","v":0},{"$f":"$FJ6","v":0},{"$f":"$HD6","v":0},{"$f":"$HE6","v":0},{"$f":"LARGE((DB18,DD18),1)","v":0},{"$f":"IF($BO6>CZ$21,0,DE18)","v":0},"Min Cum. Thickness",{"$f":"$FI6","v":0},{"$f":"$FJ6","v":0},{"$f":"$HP6","v":0},{"$f":"$HQ6","v":0},{"$f":"LARGE((DI18,DK18),1)","v":0},{"$f":"IF($BO6>DG$21,0,DL18)","v":0},"Min Cum. Thickness",{"$f":"$FP6","v":0},{"$f":"$FQ6","v":0},{"$f":"$GX6","v":0},{"$f":"$GY6","v":0},{"$f":"LARGE((DP18,DR18),1)","v":0},{"$f":"IF($BO6>DN$21,0,DS18)","v":0},"Min Cum. Thickness",{"$f":"$FP6","v":0},{"$f":"$FQ6","v":0},{"$f":"$GX6","v":0},{"$f":"$GZ6","v":0},{"$f":"LARGE((DW18,DY18),1)","v":0},{"$f":"IF($BO6>DU$21,0,DZ18)","v":0},"Min Cum. Thickness",{"$f":"$FP6","v":0},{"$f":"$FQ6","v":0},{"$f":"$HD6","v":0},{"$f":"$HE6","v":0},{"$f":"LARGE((ED18,EF18),1)","v":0},{"$f":"IF($BO6>EB$21,0,EG18)","v":0},"Min Cum. Thickness",{"$f":"$FP6","v":0},{"$f":"$FQ6","v":0},{"$f":"$HP6","v":0},{"$f":"$HQ6","v":0},{"$f":"LARGE((EK18,EM18),1)","v":0},{"$f":"IF($BO6>EI$21,0,EN18)","v":0},"Min Cum. Thickness",{"$f":"$GN6","v":0},{"$f":"$GO6","v":0},{"$f":"$GX6","v":0},{"$f":"$GY6","v":0},{"$f":"LARGE((ER18,ET18),1)","v":0},{"$f":"IF($BO6>EP$21,0,EU18)","v":0},"Min Cum. Thickness",{"$f":"$GN6","v":0},{"$f":"$GO6","v":0},{"$f":"$GX6","v":0},{"$f":"$GZ6","v":0},{"$f":"LARGE((EY18,FA18),1)","v":0},{"$f":"IF($BO6>EW$21,0,FB18)","v":0},"Min Cum. Thickness",{"$f":"$GN6","v":0},{"$f":"$GO6","v":0},{"$f":"$HD6","v":0},{"$f":"$HE6","v":0},{"$f":"LARGE((FF18,FH18),1)","v":0},{"$f":"IF($BO6>FD$21,0,FI18)","v":0},"Min Cum. Thickness",{"$f":"$GN6","v":0},{"$f":"$GO6","v":0},{"$f":"$HP6","v":0},{"$f":"$HQ6","v":0},{"$f":"LARGE((FM18,FO18),1)","v":0},{"$f":"IF($BO6>FK$21,0,FP18)","v":0},"Min Cum. Thickness",{"$f":"$GX6","v":0},{"$f":"$GY6","v":0},{"$f":"$HD6","v":0},{"$f":"$HE6","v":0},{"$f":"LARGE((FT18,FV18),1)","v":0},{"$f":"IF($BP6<=FR$21,FW18,IF(AND($BO6<FR$21,FW18>0),FW18-($BP6-FR$21),0))","v":0},"Min Cum. Thickness",{"$f":"$GX6","v":0},{"$f":"$GZ6","v":0},{"$f":"$HD6","v":0},{"$f":"$HE6","v":0},{"$f":"LARGE((GA18,GC18),1)","v":0},{"$f":"IF($BO6>FY$21,0,GD18)","v":0},"Min Cum. Thickness",{"$f":"$GX6","v":0},{"$f":"$GY6","v":0},{"$f":"$HP6","v":0},{"$f":"$HQ6","v":0},{"$f":"LARGE((GH18,GJ18),1)","v":0},{"$f":"IF($BP6<=GF$21,GK18,IF(AND($BO6<GF$21,GK18>0),GK18-($BP6-GF$21),0))","v":0},"Min Cum. Thickness",{"$f":"$GX6","v":0},{"$f":"$GZ6","v":0},{"$f":"$HP6","v":0},{"$f":"$HQ6","v":0},{"$f":"LARGE((GO18,GQ18),1)","v":0},{"$f":"IF($BO6>GM$21,0,GR18)","v":0},"Min Cum. Thickness",{"$f":"$HD6","v":0},{"$f":"$HE6","v":0},{"$f":"$HP6","v":0},{"$f":"$HQ6","v":0},{"$f":"LARGE((GV18,GX18),1)","v":0},{"$f":"IF($BP6<=GT$21,GY18,IF(AND($BO6<GT$21,GY18>0),GY18-($BP6-GT$21),0))","v":0}]
[null,"","Stratified Layers (A5)",{"$nulls":19},"","Loamy Gleyed Matrix (F2)",{"$nulls":23},"   (outside MLRA 150A, 150B)",{"$nulls":18},{"$f":"IFERROR(DA13,\"\")","v":""},{"$f":"IFERROR(GR13,\"\")","v":""},null,null,{"$f":"IF(AND(OR(BS15=TRUE,BS16=TRUE),OR(BS17=TRUE,BS18=TRUE)),TRUE,FALSE)","v":false},null,false,false,false,4,0,0,0,0,{"$f":"LARGE((BZ19,CB19),1)","v":0},{"$f":"IF(AND($BO7>BX$21,CD18=0),0,IF(OR($B7=\"\",$AQ7=\"\",$BO7>(BX$19+BX$21)),CD18,IF(AND(CC19=0,CD18<BX$19),0,CD18+CC19)))","v":0},4,{"$f":"$FI7","v":0},0,0,0,{"$f":"LARGE((CG19,CI19),1)","v":0},{"$f":"IF(AND($BO7>CE$21,CK18=0),0,IF(OR($B7=\"\",$AQ7=\"\",$BO7>(CE$19+CE$21)),CK18,IF(AND(CJ19=0,CK18<CE$19),0,CK18+CJ19)))","v":0},4,0,0,0,0,{"$f":"LARGE((CN19,CP19),1)","v":0},{"$f":"IF(AND($BO7>CL$21,CR18=0),0,IF(OR($B7=\"\",$AQ7=\"\",$BO7>(CL$19+CL$21)),CR18,IF(AND(CQ19=0,CR18<CL$19),0,CR18+CQ19)))","v":0},6,0,0,0,0,{"$f":"LARGE((CU19,CW19),1)","v":0},{"$f":"IF(AND($BO7>CS$21,CY18=0),0,IF(OR($B7=\"\",$AQ7=\"\",$BO7>(CS$19+CS$21)),CY18,IF(AND(CX19=0,CY18<CS$19),0,CY18+CX19)))","v":0},4,0,0,0,0,{"$f":"LARGE((DB19,DD19),1)","v":0},{"$f":"IF(AND($BO7>CZ$21,DF18=0),0,IF(OR($B7=\"\",$AQ7=\"\",$BO7>(CZ$19+CZ$21)),DF18,IF(AND(DE19=0,DF18<CZ$19),0,DF18+DE19)))","v":0},4,0,0,0,0,{"$f":"LARGE((DI19,DK19),1)","v":0},{"$f":"IF(AND($BO7>DG$21,DM18=0),0,IF(OR($B7=\"\",$AQ7=\"\",$BO7>(DG$19+DG$21)),DM18,IF(AND(DL19=0,DM18<DG$19),0,DM18+DL19)))","v":0},4,0,0,0,0,{"$f":"LARGE((DP19,DR19),1)","v":0},{"$f":"IF(AND($BO7>DN$21,DT18=0),0,IF(OR($B7=\"\",$AQ7=\"\",$BO7>(DN$19+DN$21)),DT18,IF(AND(DS19=0,DT18<DN$19),0,DT18+DS19)))","v":0},6,0,0,0,0,{"$f":"LARGE((DW19,DY19),1)","v":0},{"$f":"IF(AND($BO7>DU$21,EA18=0),0,IF(OR($B7=\"\",$AQ7=\"\",$BO7>(DU$19+DU$21)),EA18,IF(AND(DZ19=0,EA18<DU$19),0,EA18+DZ19)))","v":0},4,0,0,0,0,{"$f":"LARGE((ED19,EF19),1)","v":0},{"$f":"IF(AND($BO7>EB$21,EH18=0),0,IF(OR($B7=\"\",$AQ7=\"\",$BO7>(EB$19+EB$21)),EH18,IF(AND(EG19=0,EH18<EB$19),0,EH18+EG19)))","v":0},4,0,0,0,0,{"$f":"LARGE((EK19,EM19),1)","v":0},{"$f":"IF(AND($BO7>EI$21,EO18=0),0,IF(OR($B7=\"\",$AQ7=\"\",$BO7>(EI$19+EI$21)),EO18,IF(AND(EN19=0,EO18<EI$19),0,EO18+EN19)))","v":0},4,0,0,0,0,{"$f":"LARGE((ER19,ET19),1)","v":0},{"$f":"IF(AND($BO7>EP$21,EV18=0),0,IF(OR($B7=\"\",$AQ7=\"\",$BO7>(EP$19+EP$21)),EV18,IF(AND(EU19=0,EV18<EP$19),0,EV18+EU19)))","v":0},6,0,0,0,0,{"$f":"LARGE((EY19,FA19),1)","v":0},{"$f":"IF(AND($BO7>EW$21,FC18=0),0,IF(OR($B7=\"\",$AQ7=\"\",$BO7>(EW$19+EW$21)),FC18,IF(AND(FB19=0,FC18<EW$19),0,FC18+FB19)))","v":0},4,0,0,0,0,{"$f":"LARGE((FF19,FH19),1)","v":0},{"$f":"IF(AND($BO7>FD$21,FJ18=0),0,IF(OR($B7=\"\",$AQ7=\"\",$BO7>(FD$19+FD$21)),FJ18,IF(AND(FI19=0,FJ18<FD$19),0,FJ18+FI19)))","v":0},4,0,0,0,0,{"$f":"LARGE((FM19,FO19),1)","v":0},{"$f":"IF(AND($BO7>FK$21,FQ18=0),0,IF(OR($B7=\"\",$AQ7=\"\",$BO7>(FK$19+FK$21)),FQ18,IF(AND(FP19=0,FQ18<FK$19),0,FQ18+FP19)))","v":0},4,0,0,0,0,{"$f":"LARGE((FT19,FV19),1)","v":0},{"$f":"IF(OR($B7=\"\",$AQ7=\"\"),FX18,IF(AND(FW19=0,FX18<FR$19),0,IF($BP7<=FR$21,FX18+FW19,IF(AND($BO7<FR$21,FW19>0),(FX18+FW19)-($BP7-FR$21),FX18))))","v":0},6,0,0,0,0,{"$f":"LARGE((GA19,GC19),1)","v":0},{"$f":"IF(AND($BO7>FY$21,GE18=0),0,IF(OR($B7=\"\",$AQ7=\"\",$BO7>(FY$19+FY$21)),GE18,IF(AND(GD19=0,GE18<FY$19),0,GE18+GD19)))","v":0},4,0,0,0,0,{"$f":"LARGE((GH19,GJ19),1)","v":0},{"$f":"IF(OR($B7=\"\",$AQ7=\"\"),GL18,IF(AND(GK19=0,GL18<GF$19),0,IF($BP7<=GF$21,GL18+GK19,IF(AND($BO7<GF$21,GK19>0),(GL18+GK19)-($BP7-GF$21),GL18))))","v":0},6,0,0,0,0,{"$f":"LARGE((GO19,GQ19),1)","v":0},{"$f":"IF(AND($BO7>GM$21,GS18=0),0,IF(OR($B7=\"\",$AQ7=\"\",$BO7>(GM$19+GM$21)),GS18,IF(AND(GR19=0,GS18<GM$19),0,GS18+GR19)))","v":0},4,0,0,0,0,{"$f":"LARGE((GV19,GX19),1)","v":0},{"$f":"IF(OR($B7=\"\",$AQ7=\"\"),GZ18,IF(AND(GY19=0,GZ18<GT$19),0,IF($BP7<=GT$21,GZ18+GY19,IF(AND($BO7<GT$21,GY19>0),(GZ18+GY19)-($BP7-GT$21),GZ18))))","v":0}]
[null,"","Organic Bodies (A6) (LRR P, T, U)",{"$nulls":19},"","Depleted Matrix (F3)",{"$nulls":22},{"$f":"BQ20","v":""},"Piedmont Floodplain Soils (F19) (LRR P, T)",{"$nulls":18},{"$f":"IFERROR(IF(ISNA(MATCH('Page 1 (Hydrology)'!$L$6,$CO$92:$CO$115,0)),\"\",DI13),\"\")","v":""},{"$f":"IFERROR(GW13,\"\")","v":""},{"$f":"IFERROR(IF(JE13=\"?\",IF(ISNA(MATCH('Page 1 (Hydrology)'!$L$6,$CO$156:$CO$174,0)),\"\",IF($BS$19=TRUE,\"?\",\"\")),\"\"),\"\")","v":""},{"$nulls":3},false,false,false,"Max Start Depth",0,0,0,0,{"$f":"LARGE((BZ20,CB20),1)","v":0},0,"Max Start Depth",0,0,0,0,{"$f":"LARGE((CG20,CI20),1)","v":0},{"$f":"IF(AND($BO8>CE$21,CK19=0),0,IF(OR($B8=\"\",$AQ8=\"\",$BO8>(CE$19+CE$21)),CK19,IF(AND(CJ20=0,CK19<CE$19),0,CK19+CJ20)))","v":0},"Max Start Depth",0,0,0,0,{"$f":"LARGE((CN20,CP20),1)","v":0},{"$f":"IF(AND($BO8>CL$21,CR19=0),0,IF(OR($B8=\"\",$AQ8=\"\",$BO8>(CL$19+CL$21)),CR19,IF(AND(CQ20=0,CR19<CL$19),0,CR19+CQ20)))","v":0},"Max Start Depth",0,0,0,0,{"$f":"LARGE((CU20,CW20),1)","v":0},{"$f":"IF(AND($BO8>CS$21,CY19=0),0,IF(OR($B8=\"\",$AQ8=\"\",$BO8>(CS$19+CS$21)),CY19,IF(AND(CX20=0,CY19<CS$19),0,CY19+CX20)))","v":0},"Max Start Depth",0,0,0,0,{"$f":"LARGE((DB20,DD20),1)","v":0},{"$f":"IF(AND($BO8>CZ$21,DF19=0),0,IF(OR($B8=\"\",$AQ8=\"\",$BO8>(CZ$19+CZ$21)),DF19,IF(AND(DE20=0,DF19<CZ$19),0,DF19+DE20)))","v":0},"Max Start Depth",0,0,0,0,{"$f":"LARGE((DI20,DK20),1)","v":0},{"$f":"IF(AND($BO8>DG$21,DM19=0),0,IF(OR($B8=\"\",$AQ8=\"\",$BO8>(DG$19+DG$21)),DM19,IF(AND(DL20=0,DM19<DG$19),0,DM19+DL20)))","v":0},"Max Start Depth",0,0,0,0,{"$f":"LARGE((DP20,DR20),1)","v":0},0,"Max Start Depth",0,0,0,0,{"$f":"LARGE((DW20,DY20),1)","v":0},0,"Max Start Depth",0,0,0,0,{"$f":"LARGE((ED20,EF20),1)","v":0},0,"Max Start Depth",0,0,0,0,{"$f":"LARGE((EK20,EM20),1)","v":0},0,"Max Start Depth",0,0,0,0,{"$f":"LARGE((ER20,ET20),1)","v":0},{"$f":"IF(AND($BO8>EP$21,EV19=0),0,IF(OR($B8=\"\",$AQ8=\"\",$BO8>(EP$19+EP$21)),EV19,IF(AND(EU20=0,EV19<EP$19),0,EV19+EU20)))","v":0},"Max Start Depth",0,0,0,0,{"$f":"LARGE((EY20,FA20),1)","v":0},{"$f":"IF(AND($BO8>EW$21,FC19=0),0,IF(OR($B8=\"\",$AQ8=\"\",$BO8>(EW$19+EW$21)),FC19,IF(AND(FB20=0,FC19<EW$19),0,FC19+FB20)))","v":0},"Max Start Depth",0,0,0,0,{"$f":"LARGE((FF20,FH20),1)","v":0},{"$f":"IF(AND($BO8>FD$21,FJ19=0),0,IF(OR($B8=\"\",$AQ8=\"\",$BO8>(FD$19+FD$21)),FJ19,IF(AND(FI20=0,FJ19<FD$19),0,FJ19+FI20)))","v":0},"Max Start Depth",0,0,0,0,{"$f":"LARGE((FM20,FO20),1)","v":0},{"$f":"IF(AND($BO8>FK$21,FQ19=0),0,IF(OR($B8=\"\",$AQ8=\"\",$BO8>(FK$19+FK$21)),FQ19,IF(AND(FP20=0,FQ19<FK$19),0,FQ19+FP20)))","v":0},"Max Comp. Depth",0,0,0,0,{"$f":"LARGE((FT20,FV20),1)","v":0},{"$f":"IF(OR($B8=\"\",$AQ8=\"\"),FX19,IF(AND(FW20=0,FX19<FR$19),0,IF($BP8<=FR$21,FX19+FW20,IF(AND($BO8<FR$21,FW20>0),(FX19+FW20)-($BP8-FR$21),FX19))))","v":0},"Max Start Depth",0,0,0,0,{"$f":"LARGE((GA20,GC20),1)","v":0},{"$f":"IF(AND($BO8>FY$21,GE19=0),0,IF(OR($B8=\"\",$AQ8=\"\",$BO8>(FY$19+FY$21)),GE19,IF(AND(GD20=0,GE19<FY$19),0,GE19+GD20)))","v":0},"Max Comp. Depth",0,0,0,0,{"$f":"LARGE((GH20,GJ20),1)","v":0},{"$f":"IF(OR($B8=\"\",$AQ8=\"\"),GL19,IF(AND(GK20=0,GL19<GF$19),0,IF($BP8<=GF$21,GL19+GK20,IF(AND($BO8<GF$21,GK20>0),(GL19+GK20)-($BP8-GF$21),GL19))))","v":0},"Max Start Depth",0,0,0,0,{"$f":"LARGE((GO20,GQ20),1)","v":0},{"$f":"IF(AND($BO8>GM$21,GS19=0),0,IF(OR($B8=\"\",$AQ8=\"\",$BO8>(GM$19+GM$21)),GS19,IF(AND(GR20=0,GS19<GM$19),0,GS19+GR20)))","v":0},"Max Comp. Depth",0,0,0,0,{"$f":"LARGE((GV20,GX20),1)","v":0},{"$f":"IF(OR($B8=\"\",$AQ8=\"\"),GZ19,IF(AND(GY20=0,GZ19<GT$19),0,IF($BP8<=GT$21,GZ19+GY20,IF(AND($BO8<GT$21,GY20>0),(GZ19+GY20)-($BP8-GT$21),GZ19))))","v":0}]
[null,"","5 cm Mucky Mineral (A7) (LRR P, T, U)",{"$nulls":19},"","Redox Dark Surface (F6)",{"$nulls":22},{"$f":"BQ21","v":""},"Anomalous Bright Floodplain Soils (F20)",{"$nulls":18},{"$f":"IFERROR(IF(ISNA(MATCH('Page 1 (Hydrology)'!$L$6,$CO$92:$CO$115,0)),\"\",DM13),\"\")","v":""},{"$f":"IFERROR(HD13,\"\")","v":""},{"$f":"IFERROR(IF(JL13=\"?\",IF(ISNA(MATCH('Page 1 (Hydrology)'!$L$6,$CO$83,0)),\"\",IF($BS$19=TRUE,\"?\",\"\")),\"\"),\"\")","v":""},{"$nulls":3},false,false,false,6,0,0,0,0,{"$f":"LARGE((BZ21,CB21),1)","v":0},0,6,0,0,0,0,{"$f":"LARGE((CG21,CI21),1)","v":0},{"$f":"IF(AND($BO9>CE$21,CK20=0),0,IF(OR($B9=\"\",$AQ9=\"\",$BO9>(CE$19+CE$21)),CK20,IF(AND(CJ21=0,CK20<CE$19),0,CK20+CJ21)))","v":0},6,0,0,0,0,{"$f":"LARGE((CN21,CP21),1)","v":0},{"$f":"IF(AND($BO9>CL$21,CR20=0),0,IF(OR($B9=\"\",$AQ9=\"\",$BO9>(CL$19+CL$21)),CR20,IF(AND(CQ21=0,CR20<CL$19),0,CR20+CQ21)))","v":0},10,0,0,0,0,{"$f":"LARGE((CU21,CW21),1)","v":0},{"$f":"IF(AND($BO9>CS$21,CY20=0),0,IF(OR($B9=\"\",$AQ9=\"\",$BO9>(CS$19+CS$21)),CY20,IF(AND(CX21=0,CY20<CS$19),0,CY20+CX21)))","v":0},6,0,0,0,0,{"$f":"LARGE((DB21,DD21),1)","v":0},{"$f":"IF(AND($BO9>CZ$21,DF20=0),0,IF(OR($B9=\"\",$AQ9=\"\",$BO9>(CZ$19+CZ$21)),DF20,IF(AND(DE21=0,DF20<CZ$19),0,DF20+DE21)))","v":0},6,0,0,0,0,{"$f":"LARGE((DI21,DK21),1)","v":0},{"$f":"IF(AND($BO9>DG$21,DM20=0),0,IF(OR($B9=\"\",$AQ9=\"\",$BO9>(DG$19+DG$21)),DM20,IF(AND(DL21=0,DM20<DG$19),0,DM20+DL21)))","v":0},6,0,0,0,0,{"$f":"LARGE((DP21,DR21),1)","v":0},0,10,0,0,0,0,{"$f":"LARGE((DW21,DY21),1)","v":0},0,6,0,0,0,0,{"$f":"LARGE((ED21,EF21),1)","v":0},0,6,0,0,0,0,{"$f":"LARGE((EK21,EM21),1)","v":0},0,6,0,0,0,0,{"$f":"LARGE((ER21,ET21),1)","v":0},{"$f":"IF(AND($BO9>EP$21,EV20=0),0,IF(OR($B9=\"\",$AQ9=\"\",$BO9>(EP$19+EP$21)),EV20,IF(AND(EU21=0,EV20<EP$19),0,EV20+EU21)))","v":0},10,0,0,0,0,{"$f":"LARGE((EY21,FA21),1)","v":0},{"$f":"IF(AND($BO9>EW$21,FC20=0),0,IF(OR($B9=\"\",$AQ9=\"\",$BO9>(EW$19+EW$21)),FC20,IF(AND(FB21=0,FC20<EW$19),0,FC20+FB21)))","v":0},6,0,0,0,0,{"$f":"LARGE((FF21,FH21),1)","v":0},{"$f":"IF(AND($BO9>FD$21,FJ20=0),0,IF(OR($B9=\"\",$AQ9=\"\",$BO9>(FD$19+FD$21)),FJ20,IF(AND(FI21=0,FJ20<FD$19),0,FJ20+FI21)))","v":0},6,0,0,0,0,{"$f":"LARGE((FM21,FO21),1)","v":0},{"$f":"IF(AND($BO9>FK$21,FQ20=0),0,IF(OR($B9=\"\",$AQ9=\"\",$BO9>(FK$19+FK$21)),FQ20,IF(AND(FP21=0,FQ20<FK$19),0,FQ20+FP21)))","v":0},12,0,0,0,0,{"$f":"LARGE((FT21,FV21),1)","v":0},0,10,0,0,0,0,{"$f":"LARGE((GA21,GC21),1)","v":0},{"$f":"IF(AND($BO9>FY$21,GE20=0),0,IF(OR($B9=\"\",$AQ9=\"\",$BO9>(FY$19+FY$21)),GE20,IF(AND(GD21=0,GE20<FY$19),0,GE20+GD21)))","v":0},12,0,0,0,0,{"$f":"LARGE((GH21,GJ21),1)","v":0},0,10,0,0,0,0,{"$f":"LARGE((GO21,GQ21),1)","v":0},{"$f":"IF(AND($BO9>GM$21,GS20=0),0,IF(OR($B9=\"\",$AQ9=\"\",$BO9>(GM$19+GM$21)),GS20,IF(AND(GR21=0,GS20<GM$19),0,GS20+GR21)))","v":0},12,0,0,0,0,{"$f":"LARGE((GV21,GX21),1)","v":0},{"$f":"IF(OR($B9=\"\",$AQ9=\"\"),GZ20,IF(AND(GY21=0,GZ20<GT$19),0,IF($BP9<=GT$21,GZ20+GY21,IF(AND($BO9<GT$21,GY21>0),(GZ20+GY21)-($BP9-GT$21),GZ20))))","v":0}]
[null,"","Muck Presence (A8) (LRR U)",{"$nulls":19},"","Depleted Dark Surface (F7)",{"$nulls":23},"   (MLRA 153B)",{"$nulls":18},{"$f":"IFERROR(IF(ISNA(MATCH('Page 1 (Hydrology)'!$L$6,$CO$86:$CO$90,0)),\"\",DR13),\"\")","v":""},{"$f":"IFERROR(HI13,\"\")","v":""},{"$nulls":4},{"$f":"IF(ISNA(MATCH(TRUE,BU15:BU21,0)),FALSE,TRUE)","v":false},{"$f":"IF(ISNA(MATCH(TRUE,BV15:BV21,0)),FALSE,TRUE)","v":false},{"$f":"IF(ISNA(MATCH(TRUE,BW15:BW21,0)),FALSE,TRUE)","v":false},null,0,0,0,0,{"$f":"LARGE((BZ22,CB22),1)","v":0},0,null,0,0,0,0,{"$f":"LARGE((CG22,CI22),1)","v":0},0,null,0,0,0,0,{"$f":"LARGE((CN22,CP22),1)","v":0},0,null,0,0,0,0,{"$f":"LARGE((CU22,CW22),1)","v":0},0,null,0,0,0,0,{"$f":"LARGE((DB22,DD22),1)","v":0},0,null,0,0,0,0,{"$f":"LARGE((DI22,DK22),1)","v":0},0,null,0,0,0,0,{"$f":"LARGE((DP22,DR22),1)","v":0},0,null,0,0,0,0,{"$f":"LARGE((DW22,DY22),1)","v":0},0,null,0,0,0,0,{"$f":"LARGE((ED22,EF22),1)","v":0},0,null,0,0,0,0,{"$f":"LARGE((EK22,EM22),1)","v":0},0,null,0,0,0,0,{"$f":"LARGE((ER22,ET22),1)","v":0},0,null,0,0,0,0,{"$f":"LARGE((EY22,FA22),1)","v":0},0,null,0,0,0,0,{"$f":"LARGE((FF22,FH22),1)","v":0},0,null,0,0,0,0,{"$f":"LARGE((FM22,FO22),1)","v":0},0,null,0,0,0,0,{"$f":"LARGE((FT22,FV22),1)","v":0},0,null,0,0,0,0,{"$f":"LARGE((GA22,GC22),1)","v":0},0,null,0,0,0,0,{"$f":"LARGE((GH22,GJ22),1)","v":0},0,null,0,0,0,0,{"$f":"LARGE((GO22,GQ22),1)","v":0},0,null,0,0,0,0,{"$f":"LARGE((GV22,GX22),1)","v":0},0]
[null,"","1 cm Muck (A9) (LRR P, T)",{"$nulls":19},"","Redox Depressions (F8)",{"$nulls":22},{"$f":"BQ23","v":""},"Red Parent Material (F21)",{"$nulls":18},{"$f":"IFERROR(IF(ISNA(MATCH('Page 1 (Hydrology)'!$L$6,$CO$92:$CO$110,0)),\"\",DV13),\"\")","v":""},{"$f":"IFERROR(HT13,\"\")","v":""},{"$f":"IFERROR(IF(JS13=\"X\",IF($BS$19=TRUE,\"?\",\"\"),\"\"),\"\")","v":""},{"$nulls":7},0,0,0,0,{"$f":"LARGE((BZ23,CB23),1)","v":0},0,null,0,0,0,0,{"$f":"LARGE((CG23,CI23),1)","v":0},0,null,0,0,0,0,{"$f":"LARGE((CN23,CP23),1)","v":0},0,null,0,0,0,0,{"$f":"LARGE((CU23,CW23),1)","v":0},0,null,0,0,0,0,{"$f":"LARGE((DB23,DD23),1)","v":0},0,null,0,0,0,0,{"$f":"LARGE((DI23,DK23),1)","v":0},0,null,0,0,0,0,{"$f":"LARGE((DP23,DR23),1)","v":0},0,null,0,0,0,0,{"$f":"LARGE((DW23,DY23),1)","v":0},0,null,0,0,0,0,{"$f":"LARGE((ED23,EF23),1)","v":0},0,null,0,0,0,0,{"$f":"LARGE((EK23,EM23),1)","v":0},0,null,0,0,0,0,{"$f":"LARGE((ER23,ET23),1)","v":0},0,null,0,0,0,0,{"$f":"LARGE((EY23,FA23),1)","v":0},0,null,0,0,0,0,{"$f":"LARGE((FF23,FH23),1)","v":0},0,null,0,0,0,0,{"$f":"LARGE((FM23,FO23),1)","v":0},0,null,0,0,0,0,{"$f":"LARGE((FT23,FV23),1)","v":0},0,null,0,0,0,0,{"$f":"LARGE((GA23,GC23),1)","v":0},0,null,0,0,0,0,{"$f":"LARGE((GH23,GJ23),1)","v":0},0,null,0,0,0,0,{"$f":"LARGE((GO23,GQ23),1)","v":0},0,null,0,0,0,0,{"$f":"LARGE((GV23,GX23),1)","v":0},0]
[null,"","Depleted Below Dark Surface (A11)",{"$nulls":19},{"$f":"BP24","v":""},"Marl (F10) (LRR U)",{"$nulls":22},{"$f":"BQ24","v":""},"Very Shallow Dark Surface (F22)",{"$nulls":18},{"$f":"IFERROR(EF13,\"\")","v":""},{"$f":"IFERROR(IF(ISNA(MATCH('Page 1 (Hydrology)'!$L$6,$CO$86:$CO$90,0)),\"\",HW13),\"\")","v":""},{"$f":"IFERROR(IF(JZ13=\"?\",IF(ISNA(MATCH('Page 1 (Hydrology)'!$L$6,$CO$176:$CO$177,0)),IF(AND('Page 1 (Hydrology)'!$L$6=$CO$80,'Page 1 (Hydrology)'!$AI$3='Page 1 (Hydrology)'!$AV$41),\"\",IF($BS$19=TRUE,\"?\",\"\")),\"\"),\"\"),\"\")","v":""},{"$nulls":7},0,0,0,0,{"$f":"LARGE((BZ24,CB24),1)","v":0},0,null,0,0,0,0,{"$f":"LARGE((CG24,CI24),1)","v":0},0,null,0,0,0,0,{"$f":"LARGE((CN24,CP24),1)","v":0},0,null,0,0,0,0,{"$f":"LARGE((CU24,CW24),1)","v":0},0,null,0,0,0,0,{"$f":"LARGE((DB24,DD24),1)","v":0},0,null,0,0,0,0,{"$f":"LARGE((DI24,DK24),1)","v":0},0,null,0,0,0,0,{"$f":"LARGE((DP24,DR24),1)","v":0},0,null,0,0,0,0,{"$f":"LARGE((DW24,DY24),1)","v":0},0,null,0,0,0,0,{"$f":"LARGE((ED24,EF24),1)","v":0},0,null,0,0,0,0,{"$f":"LARGE((EK24,EM24),1)","v":0},0,null,0,0,0,0,{"$f":"LARGE((ER24,ET24),1)","v":0},0,null,0,0,0,0,{"$f":"LARGE((EY24,FA24),1)","v":0},0,null,0,0,0,0,{"$f":"LARGE((FF24,FH24),1)","v":0},0,null,0,0,0,0,{"$f":"LARGE((FM24,FO24),1)","v":0},0,null,0,0,0,0,{"$f":"LARGE((FT24,FV24),1)","v":0},0,null,0,0,0,0,{"$f":"LARGE((GA24,GC24),1)","v":0},0,null,0,0,0,0,{"$f":"LARGE((GH24,GJ24),1)","v":0},0,null,0,0,0,0,{"$f":"LARGE((GO24,GQ24),1)","v":0},0,null,0,0,0,0,{"$f":"LARGE((GV24,GX24),1)","v":0},0]
[null,"","Thick Dark Surface (A12)",{"$nulls":19},"","Depleted Ochric (F11) (MLRA 151)",{"$nulls":23},"   (outside MLRA 138, 152A in FL, 154)",{"$nulls":18},{"$f":"IFERROR(EO13,\"\")","v":""},{"$f":"IFERROR(IF(ISNA(MATCH('Page 1 (Hydrology)'!$L$6,$CO$79,0)),\"\",HY13),\"\")","v":""},{"$nulls":7},{"$f":"IF(ISNA(MATCH('Page 1 (Hydrology)'!$L$6,$CO$66:$CO$90,0)),\"\",IF(ISNA(MATCH(TRUE,$FS7:$FS12,0)),IF(AND(CD24>BX19,SUM(BY18:BY24)>0,SUM(CA18:CA24)>0),\"?C\",\"\"),IF(AND(CD24>=BX19,SUM(BY18:BY24)>0,SUM(CA18:CA24)>0),\"?C\",\"\")))","v":""},{"$nulls":6},{"$f":"IF(AND(CK24>=CE19,SUM(CF18:CF24)>0,SUM(CH18:CH24)>0),IF(ISNA(MATCH('Page 1 (Hydrology)'!$L$6,$CO$61:$CO$65,0)),\"\",\"?C\"),\"\")","v":""},{"$nulls":6},{"$f":"IF(AND(CR24>=CL19,SUM(CM18:CM24)>0,SUM(CO18:CO24)>0),\"?C\",\"\")","v":""},{"$nulls":6},{"$f":"IF(AND(CY24>=CS19,SUM(CT18:CT24)>0,SUM(CV18:CV24)>0),\"?C\",\"\")","v":""},{"$nulls":6},{"$f":"IF(AND(DF24>=CZ19,SUM(DA18:DA24)>0,SUM(DC18:DC24)>0),\"?C\",\"\")","v":""},{"$nulls":6},{"$f":"IF(AND(DM24>=DG19,SUM(DH18:DH24)>0,SUM(DJ18:DJ24)>0),\"?C\",\"\")","v":""},{"$nulls":6},{"$f":"IF(ISNA(MATCH('Page 1 (Hydrology)'!$L$6,$CO$66:$CO$90,0)),\"\",IF(ISNA(MATCH(TRUE,$FS7:$FS12,0)),IF(AND(DT24>DN19,SUM(DO18:DO24)>0,SUM(DQ18:DQ24)>0),\"?C\",\"\"),IF(AND(DT24>=DN19,SUM(DO18:DO24)>0,SUM(DQ18:DQ24)>0),\"?C\",\"\")))","v":""},{"$nulls":6},{"$f":"IF(ISNA(MATCH('Page 1 (Hydrology)'!$L$6,$CO$66:$CO$90,0)),\"\",IF(ISNA(MATCH(TRUE,$FS7:$FS12,0)),IF(AND(EA24>DU19,SUM(DV18:DV24)>0,SUM(DX18:DX24)>0),\"?C\",\"\"),IF(AND(EA24>=DU19,SUM(DV18:DV24)>0,SUM(DX18:DX24)>0),\"?C\",\"\")))","v":""},{"$nulls":6},{"$f":"IF(ISNA(MATCH('Page 1 (Hydrology)'!$L$6,$CO$66:$CO$90,0)),\"\",IF(ISNA(MATCH(TRUE,$FS7:$FS12,0)),IF(AND(EH24>EB19,SUM(EC18:EC24)>0,SUM(EE18:EE24)>0),\"?C\",\"\"),IF(AND(EH24>=EB19,SUM(EC18:EC24)>0,SUM(EE18:EE24)>0),\"?C\",\"\")))","v":""},{"$nulls":6},{"$f":"IF(ISNA(MATCH('Page 1 (Hydrology)'!$L$6,$CO$66:$CO$90,0)),\"\",IF(ISNA(MATCH(TRUE,$FS7:$FS12,0)),IF(AND(EO24>EI19,SUM(EJ18:EJ24)>0,SUM(EL18:EL24)>0),\"?C\",\"\"),IF(AND(EO24>=EI19,SUM(EJ18:EJ24)>0,SUM(EL18:EL24)>0),\"?C\",\"\")))","v":""},{"$nulls":6},{"$f":"IF(AND(EV24>=EP19,SUM(EQ18:EQ24)>0,SUM(ES18:ES24)>0),IF(ISNA(MATCH('Page 1 (Hydrology)'!$L$6,$CO$61:$CO$65,0)),\"\",\"?C\"),\"\")","v":""},{"$nulls":6},{"$f":"IF(AND(FC24>=EW19,SUM(EX18:EX24)>0,SUM(EZ18:EZ24)>0),IF(ISNA(MATCH('Page 1 (Hydrology)'!$L$6,$CO$61:$CO$65,0)),\"\",\"?C\"),\"\")","v":""},{"$nulls":6},{"$f":"IF(AND(FJ24>=FD19,SUM(FE18:FE24)>0,SUM(FG18:FG24)>0),IF(ISNA(MATCH('Page 1 (Hydrology)'!$L$6,$CO$61:$CO$65,0)),\"\",\"?C\"),\"\")","v":""},{"$nulls":6},{"$f":"IF(AND(FQ24>=FK19,SUM(FL18:FL24)>0,SUM(FN18:FN24)>0),IF(ISNA(MATCH('Page 1 (Hydrology)'!$L$6,$CO$61:$CO$65,0)),\"\",\"?C\"),\"\")","v":""},{"$nulls":6},{"$f":"IF(AND(FX24>=FR19,SUM(FS18:FS24)>0,SUM(FU18:FU24)>0),\"?C\",\"\")","v":""},{"$nulls":6},{"$f":"IF(AND(GE24>=FY19,SUM(FZ18:FZ24)>0,SUM(GB18:GB24)>0),\"?C\",\"\")","v":""},{"$nulls":6},{"$f":"IF(AND(GL24>=GF19,SUM(GG18:GG24)>0,SUM(GI18:GI24)>0),\"?C\",\"\")","v":""},{"$nulls":6},{"$f":"IF(AND(GS24>=GM19,SUM(GN18:GN24)>0,SUM(GP18:GP24)>0),\"?C\",\"\")","v":""},{"$nulls":6},{"$f":"IF(AND(GZ24>=GT19,SUM(GU18:GU24)>0,SUM(GW18:GW24)>0),\"?C\",\"\")","v":""}]
[null,"","Coast Prairie Redox (A16) (MLRA 150A)",{"$nulls":19},"","Iron-Manganese Masses (F12) (LRR O, P, T)",{"$nulls":22},{"$f":"BQ26","v":""},"Barrier Islands Low Chroma Matrix (TS7)",{"$nulls":18},{"$f":"IFERROR(IF(ISNA(MATCH('Page 1 (Hydrology)'!$L$6,$CO$77,0)),\"\",EV13),\"\")","v":""},{"$f":"IFERROR(IF(ISNA(MATCH('Page 1 (Hydrology)'!$L$6,$CO$127:$CO$150,0)),\"\",ID13),\"\")","v":""},{"$f":"IFERROR(IF(KF13=\"?\",IF(ISNA(MATCH('Page 1 (Hydrology)'!$L$6,$CO$124:$CO$125,0)),\"\",IF($BS$19=TRUE,\"?\",\"\")),\"\"),\"\")","v":""},{"$nulls":6},"BX25 checks if Dark Surface conditions exist without thickness, then checks if Dark Surface in combination exceeds the minimum cumulative thickness without underlying chroma <=2, then checks if both indicators have started, but checks if the combination thickness meets the conditions."," ",{"$nulls":5},"CE25 checks if both indicators have started and then checks if the combination thickness meets the conditions."," ",{"$nulls":5},"CL25 checks if both indicators have started and then checks if the combination thickness meets the conditions."," ",{"$nulls":5},"CS25 checks if both indicators have started and then checks if the combination thickness meets the conditions."," ",{"$nulls":5},"CZ25 checks if both indicators have started and then checks if the combination thickness meets the conditions."," ",{"$nulls":5},"DG25 checks if both indicators have started and then checks if the combination thickness meets the conditions."," ",{"$nulls":5},"DN25 checks if Dark Surface conditions exist without thickness, then checks if Dark Surface in combination exceeds the minimum cumulative thickness without underlying chroma <=2, then checks if both indicators have started, but checks if the combination thickness meets the conditions."," ",{"$nulls":5},"DU25 checks if Dark Surface conditions exist without thickness, then checks if Dark Surface in combination exceeds the minimum cumulative thickness without underlying chroma <=2, then checks if both indicators have started, but checks if the combination thickness meets the conditions."," ",{"$nulls":5},"EB25 checks if Dark Surface conditions exist without thickness, then checks if Dark Surface in combination exceeds the minimum cumulative thickness without underlying chroma <=2, then checks if both indicators have started, but checks if the combination thickness meets the conditions."," ",{"$nulls":5},"EI25 checks if Dark Surface conditions exist without thickness, then checks if Dark Surface in combination exceeds the minimum cumulative thickness without underlying chroma <=2, then checks if both indicators have started, but checks if the combination thickness meets the conditions."," ",{"$nulls":5},"EP25 checks if both indicators have started and then checks if the combination thickness meets the conditions."," ",{"$nulls":5},"EW25 checks if both indicators have started and then checks if the combination thickness meets the conditions."," ",{"$nulls":5},"FD25 checks if both indicators have started and then checks if the combination thickness meets the conditions."," ",{"$nulls":5},"FK25 checks if both indicators have started and then checks if the combination thickness meets the conditions."," ",{"$nulls":5},"FR25 checks if both indicators have started and then checks if the combination thickness meets the conditions."," ",{"$nulls":5},"FY25 checks if both indicators have started and then checks if the combination thickness meets the conditions."," ",{"$nulls":5},"GF25 checks if both indicators have started and then checks if the combination thickness meets the conditions."," ",{"$nulls":5},"GM25 checks if both indicators have started and then checks if the combination thickness meets the conditions."," ",{"$nulls":5},"GT25 checks if both indicators have started and then checks if the combination thickness meets the conditions."," "]
[null,"","Sandy Mucky Mineral (S1) (LRR O, S)",{"$nulls":19},"","Umbric Surface (F13) (LRR P, T, U)",{"$nulls":23},"   (MLRA 153B, 153D)",{"$nulls":18},{"$f":"IFERROR(IF(ISNA(MATCH('Page 1 (Hydrology)'!$L$6,$CO$117:$CO$122,0)),\"\",EY13),\"\")","v":""},{"$f":"IFERROR(IF(ISNA(MATCH('Page 1 (Hydrology)'!$L$6,$CO$92:$CO$115,0)),\"\",IM13),\"\")","v":""}]
[null,"","Sandy Gleyed Matrix (S4)",{"$nulls":19},"","Delta Ochric (F17) (MLRA 151)",{"$nulls":23},"Other (Explain in Remarks)",{"$nulls":18},{"$f":"IFERROR(FD13,\"\")","v":""},{"$f":"IFERROR(IF(ISNA(MATCH('Page 1 (Hydrology)'!$L$6,$CO$79,0)),\"\",IS13),\"\")","v":""}]
[null,"","Sandy Redox (S5)",{"$nulls":19},"","Reduced Vertic (F18) (MLRA 150A, 150B)",{"$nulls":42},{"$f":"IFERROR(FI13,\"\")","v":""},{"$f":"IFERROR(IF(ISNA(MATCH('Page 1 (Hydrology)'!$L$6,$CO$77:$CO$78,0)),\"\",IX13),\"\")","v":""}]
[null,"","Stripped Matrix (S6)",{"$nulls":19},"","Piedmont Floodplain Soils (F19) (MLRA 149A)",{"$nulls":42},{"$f":"IFERROR(FM13,\"\")","v":""},{"$f":"IFERROR(IF(ISNA(MATCH('Page 1 (Hydrology)'!$L$6,$CO$75,0)),\"\",JE13),\"\")","v":""}]
[null,"","Dark Surface (S7) (LRR P, S, T, U)",{"$nulls":19},"","Anomalous Bright Floodplain Soils (F20)",{"$nulls":42},{"$f":"IFERROR(IF(ISNA(MATCH('Page 1 (Hydrology)'!$L$6,$CO$66:$CO$90,0)),\"\",FP13),\"\")","v":""},{"$f":"IFERROR(IF(ISNA(MATCH('Page 1 (Hydrology)'!$L$6,$CO$152:$CO$154,0)),\"\",JL13),\"\")","v":""}]
[null,"","Polyvalue Below Surface (S8)",{"$nulls":21},"(MLRA 149A, 153C, 153D)",{"$nulls":22},"3Indicators of hydrophytic vegetation and",{"$nulls":18},{"$f":"IFERROR(IF(ISNA(MATCH('Page 1 (Hydrology)'!$L$6,$CO$75:$CO$90,0)),\"\",FV13),\"\")","v":""}]
[{"$nulls":3},"(LRR S, T, U)",{"$nulls":18},{"$f":"BP33","v":""},"Very Shallow Dark Surface (F22)",{"$nulls":23},"    wetland hydrology must be present,",{"$nulls":19},{"$f":"IFERROR(IF(JZ13=\"?\",IF(ISNA(MATCH('Page 1 (Hydrology)'!$L$6,$CO$176:$CO$177,0)),IF(AND('Page 1 (Hydrology)'!$L$6=$CO$80,'Page 1 (Hydrology)'!$AI$3='Page 1 (Hydrology)'!$AV$41),\"X\",\"\"),\"X\"),\"\"),\"\")","v":""}]
[{"$nulls":24},"(MLRA 138, 152A in FL, 154)",{"$nulls":22},"    unless disturbed or problematic."]
[]
[null,"Restrictive Layer (if observed):"]
[null,null,"Type:",{"$nulls":63},"Hydric Soil Present"]
[null,null,"Depth (inches):",{"$nulls":40},"Hydric Soil Present?",{"$nulls":8},"Yes",{"$nulls":3},{"$f":"BO38","v":""},"No",null,null,{"$f":"BP38","v":"X"},{"$nulls":5},{"$f":"IF(SUM(BO41,BO43:BO59,BP41:BP59)>0,\"X\",\"\")","v":""},{"$f":"IF(OR('Page 1 (Hydrology)'!L9=\"X\",'Page 1 (Hydrology)'!L9=\"Yes\",'Page 1 (Hydrology)'!L9=\"Y\",'Page 1 (Hydrology)'!L10=\"X\",'Page 1 (Hydrology)'!L10=\"Yes\",'Page 1 (Hydrology)'!L10=\"Y\"),\"\",IF(AND(BE38=\"\",'Page 1 (Hydrology)'!Q13=\"\"),\"X\",\"\"))","v":"X"}]
[]
[null,"Remarks:",{"$nulls":64},"Boxes checked X"]
[{"$nulls":66},{"$f":"IF(B15=\"X\",1,0)","v":0},{"$f":"IF(W15=\"X\",1,0)","v":0},{"$f":"IF(AU15=\"X\",1,0)","v":0}]
[{"$nulls":66},0,{"$f":"IF(W16=\"X\",1,0)","v":0},{"$f":"IF(AU16=\"X\",1,0)","v":0}]
[{"$nulls":66},0,null,{"$f":"IF(AU17=\"X\",1,0)","v":0}]
[{"$nulls":66},0,{"$f":"IF(W18=\"X\",1,0)","v":0},{"$f":"IF(AU18=\"X\",1,0)","v":0}]
[{"$nulls":66},0,0,{"$nulls":229},"To Robert Schulz - In loving memory."]
[{"$nulls":66},0,0,{"$f":"IF(AU20=\"X\",1,0)","v":0}]
[{"$nulls":66},0,0,{"$f":"IF(AU21=\"X\",1,0)","v":0}]
[{"$nulls":66},0,0]
[{"$nulls":66},0,0,{"$f":"IF(AU23=\"X\",1,0)","v":0}]
[{"$nulls":66},0,0,{"$f":"IF(AU24=\"X\",1,0)","v":0}]
[{"$nulls":66},0,0]
[{"$nulls":66},0,0,{"$f":"IF(AU26=\"X\",1,0)","v":0}]
[{"$nulls":66},0,0]
[{"$nulls":66},0,0,{"$f":"IF(AU28=\"X\",1,0)","v":0}]
[{"$nulls":66},0,0]
[{"$nulls":66},0,0]
[{"$nulls":66},0,0]
[{"$nulls":66},0,null,{"$f":"SUM(BO42,BQ41:BQ54)","v":0}]
["ENG FORM 6116-2, JUL 2018",{"$nulls":46},"Atlantic and Gulf Coastal Plain – Version 2.0",{"$nulls":18},{"$f":"IF(OR(KK13=\"X\",'Page 1 (Hydrology)'!P29=\"X\"),1,0)","v":0},{"$f":"IF(W33=\"X\",1,0)","v":0},"The presence of a reduced matrix within 12 inches of the soil surface indicates that this soil is hydric based on the hydric soil definition: ”a soil that formed under conditions of saturation, flooding or ponding long enough during the growing season to develop anaerobic conditions in the upper part”."," "]
[{"$nulls":66},"Master Soil List",{"$nulls":4},"Redox Type"," ","Redox Location",null,"Texture List",null,"Redox",null,null,"Hue Differential",null,null,"Contrast Determination Table",{"$nulls":3},"If both values <=3 and chromas <=2, contrast = Faint",{"$nulls":4},"LRR/MLRA"]
[{"$nulls":66},"Soil Color List","Depleted Matrix","Redox Concentrations","Gleyed Matrix",null,"C",null,"PL",null,"Loamy/Clayey",null,"Faint redox concentrations",null,null,"Color #",null,null,"Hue","Value","Chroma","Combo","Contrast",{"$nulls":4},"LRR O"]
[{"$nulls":66},"10YR 2/1",false,false,false,null,"D",null,"M",null,"Sandy",null,"Distinct redox concentrations",null,null,"5R",1,null,0,0,0,{"$f":"TEXT(CF62,\"0\")&\"-\"&TEXT(CG62,\"0.0\")&\"-\"&TEXT(CH62,\"0\")","v":"0-0.0-0"},{"$f":"$BZ$61","v":"Faint redox concentrations"},{"$nulls":4},"LRR O, MLRA 131A"]
[{"$nulls":66},"10YR 2/2",false,false,false,null,"RM",null,"PL/M",null,"Mucky Loam/Clay",null,"Prominent redox concentrations",null,null,"7.5R",2,null,0,0,1,"0-0.0-1",{"$f":"$BZ$61","v":"Faint redox concentrations"},{"$nulls":4},"LRR O, MLRA 131B"]
[{"$nulls":66},"10YR 3/1",false,false,false,null,"MS",{"$nulls":3},"Mucky Sand",{"$nulls":4},"10R",3,null,0,0,2,"0-0.0-2",{"$f":"$BZ$62","v":"Distinct redox concentrations"},{"$nulls":4},"LRR O, MLRA 131C"]
[{"$nulls":66},"10YR 3/2",false,false,false,{"$nulls":5},"Muck",{"$nulls":4},"2.5YR",4,null,0,0,3,"0-0.0-3",{"$f":"$BZ$62","v":"Distinct redox concentrations"},{"$nulls":4},"LRR O, MLRA 131D"]
[{"$nulls":66},"10YR 3/3",false,false,false,{"$nulls":5},"Mucky Peat",{"$nulls":4},"5YR",5,null,0,0,4,"0-0.0-4",{"$f":"$BZ$63","v":"Prominent redox concentrations"},{"$nulls":4},"LRR P"]
[{"$nulls":66},"10YR 3/4",false,false,false,{"$nulls":5},"Peat",{"$nulls":4},"7.5YR",6,null,0,0,5,"0-0.0-5",{"$f":"$BZ$63","v":"Prominent redox concentrations"},{"$nulls":4},"LRR P, MLRA 133A"]
[{"$nulls":66},"10YR 3/6",false,false,false,{"$nulls":10},"10YR",7,null,0,0,6,"0-0.0-6",{"$f":"$BZ$63","v":"Prominent redox concentrations"},{"$nulls":4},"LRR P, MLRA 133B"]
[{"$nulls":66},"10YR 4/1",false,true,false,{"$nulls":10},"2.5Y",8,null,0,0,7,"0-0.0-7",{"$f":"$BZ$63","v":"Prominent redox concentrations"},{"$nulls":4},"LRR P, MLRA 133C"]
[{"$nulls":66},"10YR 4/2",false,true,false,{"$nulls":10},"5Y",9,null,0,0.5,0,"0-0.5-0",{"$f":"$BZ$61","v":"Faint redox concentrations"},{"$nulls":4},"LRR P, MLRA 134"]
[{"$nulls":66},"10YR 4/3",false,false,false,{"$nulls":10},"N",null,null,0,0.5,1,"0-0.5-1",{"$f":"$BZ$61","v":"Faint redox concentrations"},{"$nulls":4},"LRR P, MLRA 135A"]
[{"$nulls":66},"10YR 4/4",false,false,false,{"$nulls":10},"10Y",11,null,0,0.5,2,"0-0.5-2",{"$f":"$BZ$62","v":"Distinct redox concentrations"},{"$nulls":4},"LRR P, MLRA 135B"]
[{"$nulls":66},"10YR 4/6",false,false,false,{"$nulls":10},"5GY",13,null,0,0.5,3,"0-0.5-3",{"$f":"$BZ$62","v":"Distinct redox concentrations"},{"$nulls":4},"LRR P, MLRA 137"]
[{"$nulls":66},"10YR 5/1",true,true,false,{"$nulls":10},"10GY",15,null,0,0.5,4,"0-0.5-4",{"$f":"$BZ$63","v":"Prominent redox concentrations"},{"$nulls":4},"LRR P, MLRA 138"]
[{"$nulls":66},"10YR 5/2",false,true,false,{"$nulls":10},"5G",17,null,0,0.5,5,"0-0.5-5",{"$f":"$BZ$63","v":"Prominent redox concentrations"},{"$nulls":4},"LRR S, MLRA 149A"]
[{"$nulls":66},"10YR 5/3",false,false,false,{"$nulls":10},"10G",19,null,0,0.5,6,"0-0.5-6",{"$f":"$BZ$63","v":"Prominent redox concentrations"},{"$nulls":4},"LRR T"]
[{"$nulls":66},"10YR 5/4",false,false,false,{"$nulls":10},"5BG",21,null,0,0.5,7,"0-0.5-7",{"$f":"$BZ$63","v":"Prominent redox concentrations"},{"$nulls":4},"LRR T, MLRA 150A"]
[{"$nulls":66},"10YR 5/6",false,false,false,{"$nulls":10},"10BG",23,null,0,1,0,"0-1.0-0",{"$f":"$BZ$61","v":"Faint redox concentrations"},{"$nulls":4},"LRR T, MLRA 150B"]
[{"$nulls":66},"10YR 5/8",false,false,false,{"$nulls":10},"5B",25,null,0,1,1,"0-1.0-1",{"$f":"$BZ$61","v":"Faint redox concentrations"},{"$nulls":4},"LRR T, MLRA 151"]
[{"$nulls":66},"10YR 6/1",true,true,false,{"$nulls":10},"10B",27,null,0,1,2,"0-1.0-2",{"$f":"$BZ$62","v":"Distinct redox concentrations"},{"$nulls":4},"LRR T, MLRA 152A"]
[{"$nulls":66},"10YR 6/2",true,true,false,{"$nulls":10},"5PB",29,null,0,1,3,"0-1.0-3",{"$f":"$BZ$62","v":"Distinct redox concentrations"},{"$nulls":4},"LRR T, MLRA 152B"]
[{"$nulls":66},"10YR 6/3",false,false,false,{"$nulls":13},0,1,4,"0-1.0-4",{"$f":"$BZ$63","v":"Prominent redox concentrations"},{"$nulls":4},"LRR T, MLRA 153A"]
[{"$nulls":66},"10YR 6/4",false,false,false,{"$nulls":13},0,1,5,"0-1.0-5",{"$f":"$BZ$63","v":"Prominent redox concentrations"},{"$nulls":4},"LRR T, MLRA 153B"]
[{"$nulls":66},"10YR 6/6",false,false,false,{"$nulls":13},0,1,6,"0-1.0-6",{"$f":"$BZ$63","v":"Prominent redox concentrations"},{"$nulls":4},"LRR T, MLRA 153C"]
[{"$nulls":66},"10YR 6/8",false,false,false,{"$nulls":13},0,1,7,"0-1.0-7",{"$f":"$BZ$63","v":"Prominent redox concentrations"},{"$nulls":4},"LRR T, MLRA 153D"]
[{"$nulls":66},"10YR 7/1",true,true,false,{"$nulls":13},0,1.5,0,"0-1.5-0",{"$f":"$BZ$61","v":"Faint redox concentrations"},{"$nulls":4},"LRR U"]
[{"$nulls":66},"10YR 7/2",true,true,false,{"$nulls":13},0,1.5,1,"0-1.5-1",{"$f":"$BZ$61","v":"Faint redox concentrations"},{"$nulls":4},"LRR U, MLRA 154"]
[{"$nulls":66},"10YR 7/3",false,false,false,{"$nulls":13},0,1.5,2,"0-1.5-2",{"$f":"$BZ$62","v":"Distinct redox concentrations"},{"$nulls":4},"LRR U, MLRA 155"]
[{"$nulls":66},"10YR 7/4",false,false,false,{"$nulls":13},0,1.5,3,"0-1.5-3",{"$f":"$BZ$62","v":"Distinct redox concentrations"},{"$nulls":4},"LRR U, MLRA 156A"]
[{"$nulls":66},"10YR 7/6",false,false,false,{"$nulls":13},0,1.5,4,"0-1.5-4",{"$f":"$BZ$63","v":"Prominent redox concentrations"},{"$nulls":4},"LRR U, MLRA 156B"]
[{"$nulls":66},"10YR 7/8",false,false,false,{"$nulls":13},0,1.5,5,"0-1.5-5",{"$f":"$BZ$63","v":"Prominent redox concentrations"}]
[{"$nulls":66},"10YR 8/1",true,true,false,{"$nulls":13},0,1.5,6,"0-1.5-6",{"$f":"$BZ$63","v":"Prominent redox concentrations"},{"$nulls":4},"LRR P"]
[{"$nulls":66},"10YR 8/2",true,true,false,{"$nulls":13},0,1.5,7,"0-1.5-7",{"$f":"$BZ$63","v":"Prominent redox concentrations"},{"$nulls":4},"LRR P, MLRA 133A"]
[{"$nulls":66},"10YR 8/3",false,false,false,{"$nulls":13},0,2,0,"0-2.0-0",{"$f":"$BZ$61","v":"Faint redox concentrations"},{"$nulls":4},"LRR P, MLRA 133B"]
[{"$nulls":66},"10YR 8/4",false,false,false,{"$nulls":13},0,2,1,"0-2.0-1",{"$f":"$BZ$61","v":"Faint redox concentrations"},{"$nulls":4},"LRR P, MLRA 134"]
[{"$nulls":66},"10YR 8/6",false,false,false,{"$nulls":13},0,2,2,"0-2.0-2",{"$f":"$BZ$62","v":"Distinct redox concentrations"},{"$nulls":4},"LRR P, MLRA 135A"]
[{"$nulls":66},"10YR 8/8",false,false,false,{"$nulls":13},0,2,3,"0-2.0-3",{"$f":"$BZ$62","v":"Distinct redox concentrations"},{"$nulls":4},"LRR P, MLRA 135B"]
[{"$nulls":66},"10YR 8.5/1",true,true,false,{"$nulls":13},0,2,4,"0-2.0-4",{"$f":"$BZ$63","v":"Prominent redox concentrations"},{"$nulls":4},"LRR P, MLRA 133C"]
[{"$nulls":66},"10YR 8.5/2",true,true,false,{"$nulls":13},0,2,5,"0-2.0-5",{"$f":"$BZ$63","v":"Prominent redox concentrations"},{"$nulls":4},"LRR P, MLRA 137"]
[{"$nulls":66},"10YR 9/1",true,true,false,{"$nulls":13},0,2,6,"0-2.0-6",{"$f":"$BZ$63","v":"Prominent redox concentrations"},{"$nulls":4},"LRR P, MLRA 138"]
[{"$nulls":66},"10YR 9/2",true,true,false,{"$nulls":13},0,2,7,"0-2.0-7",{"$f":"$BZ$63","v":"Prominent redox concentrations"},{"$nulls":4},"LRR T"]
[{"$nulls":66},"10YR 9.5/1",true,true,false,{"$nulls":13},0,2.5,0,"0-2.5-0",{"$f":"$BZ$62","v":"Distinct redox concentrations"},{"$nulls":4},"LRR T, MLRA 150A"]
[{"$nulls":66},"10YR 9.5/2",true,true,false,{"$nulls":13},0,2.5,1,"0-2.5-1",{"$f":"$BZ$62","v":"Distinct redox concentrations"},{"$nulls":4},"LRR T, MLRA 150B"]
[{"$nulls":66},"5R 2.5/1",false,false,false,{"$nulls":13},0,2.5,2,"0-2.5-2",{"$f":"$BZ$62","v":"Distinct redox concentrations"},{"$nulls":4},"LRR T, MLRA 151"]
[{"$nulls":66},"5R 2.5/2",false,false,false,{"$nulls":13},0,2.5,3,"0-2.5-3",{"$f":"$BZ$62","v":"Distinct redox concentrations"},{"$nulls":4},"LRR T, MLRA 152A"]
[{"$nulls":66},"5R 2.5/3",false,false,false,{"$nulls":13},0,2.5,4,"0-2.5-4",{"$f":"$BZ$63","v":"Prominent redox concentrations"},{"$nulls":4},"LRR T, MLRA 152B"]
[{"$nulls":66},"5R 2.5/4",false,false,false,{"$nulls":13},0,2.5,5,"0-2.5-5",{"$f":"$BZ$63","v":"Prominent redox concentrations"},{"$nulls":4},"LRR T, MLRA 153A"]
[{"$nulls":66},"5R 2.5/6",false,false,false,{"$nulls":13},0,2.5,6,"0-2.5-6",{"$f":"$BZ$63","v":"Prominent redox concentrations"},{"$nulls":4},"LRR T, MLRA 153B"]
[{"$nulls":66},"5R 3/1",false,false,false,{"$nulls":13},0,2.5,7,"0-2.5-7",{"$f":"$BZ$63","v":"Prominent redox concentrations"},{"$nulls":4},"LRR T, MLRA 153C"]
[{"$nulls":66},"5R 3/2",false,false,false,{"$nulls":13},0,3,0,"0-3.0-0",{"$f":"$BZ$62","v":"Distinct redox concentrations"},{"$nulls":4},"LRR T, MLRA 153D"]
[{"$nulls":66},"5R 3/3",false,false,false,{"$nulls":13},0,3,1,"0-3.0-1",{"$f":"$BZ$62","v":"Distinct redox concentrations"},{"$nulls":4},"LRR U"]
[{"$nulls":66},"5R 3/4",false,false,false,{"$nulls":13},0,3,2,"0-3.0-2",{"$f":"$BZ$62","v":"Distinct redox concentrations"},{"$nulls":4},"LRR U, MLRA 154"]
[{"$nulls":66},"5R 3/6",false,false,false,{"$nulls":13},0,3,3,"0-3.0-3",{"$f":"$BZ$62","v":"Distinct redox concentrations"},{"$nulls":4},"LRR U, MLRA 155"]
[{"$nulls":66},"5R 3/8",false,false,false,{"$nulls":13},0,3,4,"0-3.0-4",{"$f":"$BZ$63","v":"Prominent redox concentrations"},{"$nulls":4},"LRR U, MLRA 156A"]
[{"$nulls":66},"5R 4/1",false,true,false,{"$nulls":13},0,3,5,"0-3.0-5",{"$f":"$BZ$63","v":"Prominent redox concentrations"},{"$nulls":4},"LRR U, MLRA 156B"]
[{"$nulls":66},"5R 4/2",false,true,false,{"$nulls":13},0,3,6,"0-3.0-6",{"$f":"$BZ$63","v":"Prominent redox concentrations"}]
[{"$nulls":66},"5R 4/3",false,false,false,{"$nulls":13},0,3,7,"0-3.0-7",{"$f":"$BZ$63","v":"Prominent redox concentrations"},{"$nulls":4},"LRR O"]
[{"$nulls":66},"5R 4/4",false,false,false,{"$nulls":13},0,3.5,0,"0-3.5-0",{"$f":"$BZ$62","v":"Distinct redox concentrations"},{"$nulls":4},"LRR O, MLRA 131A"]
[{"$nulls":66},"5R 4/6",false,false,false,{"$nulls":13},0,3.5,1,"0-3.5-1",{"$f":"$BZ$62","v":"Distinct redox concentrations"},{"$nulls":4},"LRR O, MLRA 131B"]
[{"$nulls":66},"5R 4/8",false,false,false,{"$nulls":13},0,3.5,2,"0-3.5-2",{"$f":"$BZ$62","v":"Distinct redox concentrations"},{"$nulls":4},"LRR O, MLRA 131C"]
[{"$nulls":66},"5R 5/1",true,true,false,{"$nulls":13},0,3.5,3,"0-3.5-3",{"$f":"$BZ$62","v":"Distinct redox concentrations"},{"$nulls":4},"LRR O, MLRA 131D"]
[{"$nulls":66},"5R 5/2",false,true,false,{"$nulls":13},0,3.5,4,"0-3.5-4",{"$f":"$BZ$63","v":"Prominent redox concentrations"},{"$nulls":4},"LRR S, MLRA 149A"]
[{"$nulls":66},"5R 5/3",false,false,false,{"$nulls":13},0,3.5,5,"0-3.5-5","Prominent redox concentrations"]
[{"$nulls":66},"5R 5/4",false,false,false,{"$nulls":13},0,3.5,6,"0-3.5-6","Prominent redox concentrations",{"$nulls":4},"LRR T, MLRA 153B"]
[{"$nulls":66},"5R 5/6",false,false,false,{"$nulls":13},0,3.5,7,"0-3.5-7","Prominent redox concentrations",{"$nulls":4},"LRR T, MLRA 153D"]
[{"$nulls":66},"5R 5/8",false,false,false,{"$nulls":13},0,4,0,{"$f":"TEXT(CF126,\"0\")&\"-\"&TEXT(CG126,\"0.0\")&\"-\"&TEXT(CH126,\"0\")","v":"0-4.0-0"},"Prominent redox concentrations"]
[{"$nulls":66},"5R 6/1",true,true,false,{"$nulls":13},0,4,1,"0-4.0-1","Prominent redox concentrations",{"$nulls":4},"LRR O"]
[{"$nulls":66},"5R 6/2",true,true,false,{"$nulls":13},0,4,2,"0-4.0-2","Prominent redox concentrations",{"$nulls":4},"LRR O, MLRA 131A"]
[{"$nulls":66},"5R 6/3",false,false,false,{"$nulls":13},0,4,3,"0-4.0-3","Prominent redox concentrations",{"$nulls":4},"LRR O, MLRA 131B"]
[{"$nulls":66},"5R 6/4",false,false,false,{"$nulls":13},0,4,4,"0-4.0-4","Prominent redox concentrations",{"$nulls":4},"LRR O, MLRA 131C"]
[{"$nulls":66},"5R 6/6",false,false,false,{"$nulls":13},0,4,5,"0-4.0-5","Prominent redox concentrations",{"$nulls":4},"LRR O, MLRA 131D"]
[{"$nulls":66},"5R 6/8",false,false,false,{"$nulls":13},0,4,6,"0-4.0-6","Prominent redox concentrations",{"$nulls":4},"LRR P"]
[{"$nulls":66},"5R 7/1",true,true,false,{"$nulls":13},0,4,7,"0-4.0-7","Prominent redox concentrations",{"$nulls":4},"LRR P, MLRA 133A"]
[{"$nulls":66},"5R 7/2",true,true,false,{"$nulls":13},0,4.5,0,"0-4.5-0","Prominent redox concentrations",{"$nulls":4},"LRR P, MLRA 133B"]
[{"$nulls":66},"5R 7/3",false,false,false,{"$nulls":13},0,4.5,1,"0-4.5-1","Prominent redox concentrations",{"$nulls":4},"LRR P, MLRA 133C"]
[{"$nulls":66},"5R 7/4",false,false,false,{"$nulls":13},0,4.5,2,"0-4.5-2","Prominent redox concentrations",{"$nulls":4},"LRR P, MLRA 134"]
[{"$nulls":66},"5R 7/6",false,false,false,{"$nulls":13},0,4.5,3,"0-4.5-3","Prominent redox concentrations",{"$nulls":4},"LRR P, MLRA 135A"]
[{"$nulls":66},"5R 7/8",false,false,false,{"$nulls":13},0,4.5,4,"0-4.5-4","Prominent redox concentrations",{"$nulls":4},"LRR P, MLRA 135B"]
[{"$nulls":66},"5R 8/1",true,true,false,{"$nulls":13},0,4.5,5,"0-4.5-5","Prominent redox concentrations",{"$nulls":4},"LRR P, MLRA 137"]
[{"$nulls":66},"5R 8/2",true,true,false,{"$nulls":13},0,4.5,6,"0-4.5-6","Prominent redox concentrations",{"$nulls":4},"LRR P, MLRA 138"]
[{"$nulls":66},"5R 8/3",false,false,false,{"$nulls":13},0,4.5,7,"0-4.5-7","Prominent redox concentrations",{"$nulls":4},"LRR T"]
[{"$nulls":66},"5R 8/4",false,false,false,{"$nulls":13},0,5,0,"0-5.0-0","Prominent redox concentrations",{"$nulls":4},"LRR T, MLRA 150A"]
[{"$nulls":66},"7.5R 2.5/1",false,false,false,{"$nulls":13},0,5,1,"0-5.0-1","Prominent redox concentrations",{"$nulls":4},"LRR T, MLRA 150B"]
[{"$nulls":66},"7.5R 2.5/2",false,false,false,{"$nulls":13},0,5,2,"0-5.0-2","Prominent redox concentrations",{"$nulls":4},"LRR T, MLRA 151"]
[{"$nulls":66},"7.5R 2.5/3",false,false,false,{"$nulls":13},0,5,3,"0-5.0-3","Prominent redox concentrations",{"$nulls":4},"LRR T, MLRA 152A"]
[{"$nulls":66},"7.5R 2.5/4",false,false,false,{"$nulls":13},0,5,4,"0-5.0-4","Prominent redox concentrations",{"$nulls":4},"LRR T, MLRA 152B"]
[{"$nulls":66},"7.5R 3/1",false,false,false,{"$nulls":13},0,5,5,"0-5.0-5","Prominent redox concentrations",{"$nulls":4},"LRR T, MLRA 153A"]
[{"$nulls":66},"7.5R 3/2",false,false,false,{"$nulls":13},0,5,6,"0-5.0-6","Prominent redox concentrations",{"$nulls":4},"LRR T, MLRA 153B"]
[{"$nulls":66},"7.5R 3/3",false,false,false,{"$nulls":13},0,5,7,"0-5.0-7","Prominent redox concentrations",{"$nulls":4},"LRR T, MLRA 153C"]
[{"$nulls":66},"7.5R 3/4",false,false,false,{"$nulls":13},0,5.5,0,"0-5.5-0","Prominent redox concentrations",{"$nulls":4},"LRR T, MLRA 153D"]
[{"$nulls":66},"7.5R 3/6",false,false,false,{"$nulls":13},0,5.5,1,"0-5.5-1","Prominent redox concentrations"]
[{"$nulls":66},"7.5R 3/8",false,false,false,{"$nulls":13},0,5.5,2,"0-5.5-2","Prominent redox concentrations",{"$nulls":4},"LRR S, MLRA 149A"]
[{"$nulls":66},"7.5R 4/1",false,true,false,{"$nulls":13},0,5.5,3,"0-5.5-3","Prominent redox concentrations",{"$nulls":4},"LRR T, MLRA 153C"]
[{"$nulls":66},"7.5R 4/2",false,true,false,{"$nulls":13},0,5.5,4,"0-5.5-4","Prominent redox concentrations",{"$nulls":4},"LRR T, MLRA 153D"]
[{"$nulls":66},"7.5R 4/3",false,false,false,{"$nulls":13},0,5.5,5,"0-5.5-5","Prominent redox concentrations"]
[{"$nulls":66},"7.5R 4/4",false,false,false,{"$nulls":13},0,5.5,6,"0-5.5-6","Prominent redox concentrations",{"$nulls":4},"LRR P"]
[{"$nulls":66},"7.5R 4/6",false,false,false,{"$nulls":13},0,5.5,7,"0-5.5-7","Prominent redox concentrations",{"$nulls":4},"LRR P, MLRA 133A"]
[{"$nulls":66},"7.5R 4/8",false,false,false,{"$nulls":13},0,6,0,"0-6.0-0","Prominent redox concentrations",{"$nulls":4},"LRR P, MLRA 133B"]
[{"$nulls":66},"7.5R 5/1",true,true,false,{"$nulls":13},0,6,1,"0-6.0-1","Prominent redox concentrations",{"$nulls":4},"LRR P, MLRA 133C"]
[{"$nulls":66},"7.5R 5/2",false,true,false,{"$nulls":13},0,6,2,"0-6.0-2","Prominent redox concentrations",{"$nulls":4},"LRR P, MLRA 134"]
[{"$nulls":66},"7.5R 5/3",false,false,false,{"$nulls":13},0,6,3,"0-6.0-3","Prominent redox concentrations",{"$nulls":4},"LRR P, MLRA 135A"]
[{"$nulls":66},"7.5R 5/4",false,false,false,{"$nulls":13},0,6,4,"0-6.0-4","Prominent redox concentrations",{"$nulls":4},"LRR P, MLRA 135B"]
[{"$nulls":66},"7.5R 5/6",false,false,false,{"$nulls":13},0,6,5,"0-6.0-5","Prominent redox concentrations",{"$nulls":4},"LRR P, MLRA 137"]
[{"$nulls":66},"7.5R 5/8",false,false,false,{"$nulls":13},0,6,6,"0-6.0-6","Prominent redox concentrations",{"$nulls":4},"LRR P, MLRA 138"]
[{"$nulls":66},"7.5R 6/1",true,true,false,{"$nulls":13},0,6,7,"0-6.0-7","Prominent redox concentrations",{"$nulls":4},"LRR T"]
[{"$nulls":66},"7.5R 6/2",true,true,false,{"$nulls":13},0,6.5,0,{"$f":"TEXT(CF166,\"0\")&\"-\"&TEXT(CG166,\"0.0\")&\"-\"&TEXT(CH166,\"0\")","v":"0-6.5-0"},"Prominent redox concentrations",{"$nulls":4},"LRR T, MLRA 150A"]
[{"$nulls":66},"7.5R 6/3",false,false,false,{"$nulls":13},0,6.5,1,"0-6.5-1","Prominent redox concentrations",{"$nulls":4},"LRR T, MLRA 150B"]
[{"$nulls":66},"7.5R 6/4",false,false,false,{"$nulls":13},0,6.5,2,"0-6.5-2","Prominent redox concentrations",{"$nulls":4},"LRR T, MLRA 151"]
[{"$nulls":66},"7.5R 6/6",false,false,false,{"$nulls":13},0,6.5,3,"0-6.5-3","Prominent redox concentrations",{"$nulls":4},"LRR T, MLRA 152A"]
[{"$nulls":66},"7.5R 6/8",false,false,false,{"$nulls":13},0,6.5,4,"0-6.5-4","Prominent redox concentrations",{"$nulls":4},"LRR T, MLRA 152B"]
[{"$nulls":66},"7.5R 7/1",true,true,false,{"$nulls":13},0,6.5,5,"0-6.5-5","Prominent redox concentrations",{"$nulls":4},"LRR T, MLRA 153A"]
[{"$nulls":66},"7.5R 7/2",true,true,false,{"$nulls":13},0,6.5,6,"0-6.5-6","Prominent redox concentrations",{"$nulls":4},"LRR T, MLRA 153B"]
[{"$nulls":66},"7.5R 7/3",false,false,false,{"$nulls":13},0,6.5,7,"0-6.5-7","Prominent redox concentrations",{"$nulls":4},"LRR T, MLRA 153C"]
[{"$nulls":66},"7.5R 7/4",false,false,false,{"$nulls":13},0,7,0,"0-7.0-0","Prominent redox concentrations",{"$nulls":4},"LRR T, MLRA 153D"]
[{"$nulls":66},"7.5R 7/6",false,false,false,{"$nulls":13},0,7,1,"0-7.0-1","Prominent redox concentrations"]
[{"$nulls":66},"7.5R 7/8",false,false,false,{"$nulls":13},0,7,2,"0-7.0-2","Prominent redox concentrations",{"$nulls":4},"LRR P, MLRA 138"]
[{"$nulls":66},"7.5R 8/1",true,true,false,{"$nulls":13},0,7,3,"0-7.0-3","Prominent redox concentrations",{"$nulls":4},"LRR U, MLRA 154"]
[{"$nulls":66},"7.5R 8/2",true,true,false,{"$nulls":13},0,7,4,"0-7.0-4","Prominent redox concentrations"]
[{"$nulls":66},"7.5R 8/3",false,false,false,{"$nulls":13},0,7,5,"0-7.0-5","Prominent redox concentrations"]
[{"$nulls":66},"7.5R 8/4",false,false,false,{"$nulls":13},0,7,6,"0-7.0-6","Prominent redox concentrations"]
[{"$nulls":66},"10R 2.5/1",false,false,false,{"$nulls":13},0,7,7,"0-7.0-7","Prominent redox concentrations"]
[{"$nulls":66},"10R 2.5/2",false,false,false,{"$nulls":13},0,7.5,0,{"$f":"TEXT(CF182,\"0\")&\"-\"&TEXT(CG182,\"0.0\")&\"-\"&TEXT(CH182,\"0\")","v":"0-7.5-0"},"Prominent redox concentrations"]
[{"$nulls":66},"10R 3/1",false,false,false,{"$nulls":13},0,7.5,1,"0-7.5-1","Prominent redox concentrations"]
[{"$nulls":66},"10R 3/2",false,false,false,{"$nulls":13},0,7.5,2,"0-7.5-2","Prominent redox concentrations"]
[{"$nulls":66},"10R 3/3",false,false,false,{"$nulls":13},0,7.5,3,"0-7.5-3","Prominent redox concentrations"]
[{"$nulls":66},"10R 3/4",false,false,false,{"$nulls":13},0,7.5,4,"0-7.5-4",{"$f":"$BZ$63","v":"Prominent redox concentrations"}]
[{"$nulls":66},"10R 3/6",false,false,false,{"$nulls":13},0,7.5,5,"0-7.5-5","Prominent redox concentrations"]
[{"$nulls":66},"10R 4/1",false,true,false,{"$nulls":13},0,7.5,6,"0-7.5-6","Prominent redox concentrations"]
[{"$nulls":66},"10R 4/2",false,true,false,{"$nulls":13},0,7.5,7,"0-7.5-7","Prominent redox concentrations"]
[{"$nulls":66},"10R 4/3",false,false,false,{"$nulls":13},1,0,0,"1-0.0-0",{"$f":"$BZ$61","v":"Faint redox concentrations"}]
[{"$nulls":66},"10R 4/4",false,false,false,{"$nulls":13},1,0,1,"1-0.0-1",{"$f":"$BZ$61","v":"Faint redox concentrations"}]
[{"$nulls":66},"10R 4/6",false,false,false,{"$nulls":13},1,0,2,"1-0.0-2",{"$f":"$BZ$62","v":"Distinct redox concentrations"}]
[{"$nulls":66},"10R 4/8",false,false,false,{"$nulls":13},1,0,3,"1-0.0-3",{"$f":"$BZ$63","v":"Prominent redox concentrations"}]
[{"$nulls":66},"10R 5/1",true,true,false,{"$nulls":13},1,0,4,"1-0.0-4",{"$f":"$BZ$63","v":"Prominent redox concentrations"}]
[{"$nulls":66},"10R 5/2",false,true,false,{"$nulls":13},1,0,5,"1-0.0-5",{"$f":"$BZ$63","v":"Prominent redox concentrations"}]
[{"$nulls":66},"10R 5/3",false,false,false,{"$nulls":13},1,0,6,"1-0.0-6",{"$f":"$BZ$63","v":"Prominent redox concentrations"}]
[{"$nulls":66},"10R 5/4",false,false,false,{"$nulls":13},1,0,7,"1-0.0-7",{"$f":"$BZ$63","v":"Prominent redox concentrations"}]
[{"$nulls":66},"10R 5/6",false,false,false,{"$nulls":13},1,0.5,0,"1-0.5-0",{"$f":"$BZ$61","v":"Faint redox concentrations"}]
[{"$nulls":66},"10R 5/8",false,false,false,{"$nulls":13},1,0.5,1,"1-0.5-1",{"$f":"$BZ$61","v":"Faint redox concentrations"}]
[{"$nulls":66},"10R 6/1",true,true,false,{"$nulls":13},1,0.5,2,"1-0.5-2",{"$f":"$BZ$62","v":"Distinct redox concentrations"}]
[{"$nulls":66},"10R 6/2",true,true,false,{"$nulls":13},1,0.5,3,"1-0.5-3",{"$f":"$BZ$63","v":"Prominent redox concentrations"}]
[{"$nulls":66},"10R 6/3",false,false,false,{"$nulls":13},1,0.5,4,"1-0.5-4",{"$f":"$BZ$63","v":"Prominent redox concentrations"}]
[{"$nulls":66},"10R 6/4",false,false,false,{"$nulls":13},1,0.5,5,"1-0.5-5",{"$f":"$BZ$63","v":"Prominent redox concentrations"}]
[{"$nulls":66},"10R 6/6",false,false,false,{"$nulls":13},1,0.5,6,"1-0.5-6",{"$f":"$BZ$63","v":"Prominent redox concentrations"}]
[{"$nulls":66},"10R 6/8",false,false,false,{"$nulls":13},1,0.5,7,"1-0.5-7",{"$f":"$BZ$63","v":"Prominent redox concentrations"}]
[{"$nulls":66},"10R 7/1",true,true,false,{"$nulls":13},1,1,0,"1-1.0-0",{"$f":"$BZ$61","v":"Faint redox concentrations"}]
[{"$nulls":66},"10R 7/2",true,true,false,{"$nulls":13},1,1,1,"1-1.0-1",{"$f":"$BZ$61","v":"Faint redox concentrations"}]
[{"$nulls":66},"10R 7/3",false,false,false,{"$nulls":13},1,1,2,"1-1.0-2",{"$f":"$BZ$62","v":"Distinct redox concentrations"}]
[{"$nulls":66},"10R 7/4",false,false,false,{"$nulls":13},1,1,3,"1-1.0-3",{"$f":"$BZ$63","v":"Prominent redox concentrations"}]
[{"$nulls":66},"10R 7/6",false,false,false,{"$nulls":13},1,1,4,"1-1.0-4",{"$f":"$BZ$63","v":"Prominent redox concentrations"}]
[{"$nulls":66},"10R 7/8",false,false,false,{"$nulls":13},1,1,5,"1-1.0-5",{"$f":"$BZ$63","v":"Prominent redox concentrations"}]
[{"$nulls":66},"10R 8/1",true,true,false,{"$nulls":13},1,1,6,"1-1.0-6",{"$f":"$BZ$63","v":"Prominent redox concentrations"}]
[{"$nulls":66},"10R 8/2",true,true,false,{"$nulls":13},1,1,7,"1-1.0-7",{"$f":"$BZ$63","v":"Prominent redox concentrations"}]
[{"$nulls":66},"10R 8/3",false,false,false,{"$nulls":13},1,1.5,0,{"$f":"TEXT(CF214,\"0\")&\"-\"&TEXT(CG214,\"0.0\")&\"-\"&TEXT(CH214,\"0\")","v":"1-1.5-0"},{"$f":"$BZ$62","v":"Distinct redox concentrations"}]
[{"$nulls":66},"10R 8/4",false,false,false,{"$nulls":13},1,1.5,1,"1-1.5-1",{"$f":"$BZ$62","v":"Distinct redox concentrations"}]
[{"$nulls":66},"2.5YR 2.5/1",false,false,false,{"$nulls":13},1,1.5,2,"1-1.5-2",{"$f":"$BZ$62","v":"Distinct redox concentrations"}]
[{"$nulls":66},"2.5YR 2.5/2",false,false,false,{"$nulls":13},1,1.5,3,"1-1.5-3",{"$f":"$BZ$63","v":"Prominent redox concentrations"}]
[{"$nulls":66},"2.5YR 2.5/3",false,false,false,{"$nulls":13},1,1.5,4,"1-1.5-4",{"$f":"$BZ$63","v":"Prominent redox concentrations"}]
[{"$nulls":66},"2.5YR 2.5/4",false,false,false,{"$nulls":13},1,1.5,5,"1-1.5-5",{"$f":"$BZ$63","v":"Prominent redox concentrations"}]
[{"$nulls":66},"2.5YR 3/1",false,false,false,{"$nulls":13},1,1.5,6,"1-1.5-6",{"$f":"$BZ$63","v":"Prominent redox concentrations"}]
[{"$nulls":66},"2.5YR 3/2",false,false,false,{"$nulls":13},1,1.5,7,"1-1.5-7",{"$f":"$BZ$63","v":"Prominent redox concentrations"}]
[{"$nulls":66},"2.5YR 3/3",false,false,false,{"$nulls":13},1,2,0,"1-2.0-0",{"$f":"$BZ$62","v":"Distinct redox concentrations"}]
[{"$nulls":66},"2.5YR 3/4",false,false,false,{"$nulls":13},1,2,1,"1-2.0-1",{"$f":"$BZ$62","v":"Distinct redox concentrations"}]
[{"$nulls":66},"2.5YR 3/6",false,false,false,{"$nulls":13},1,2,2,"1-2.0-2",{"$f":"$BZ$62","v":"Distinct redox concentrations"}]
[{"$nulls":66},"2.5YR 4/1",false,true,false,{"$nulls":13},1,2,3,"1-2.0-3",{"$f":"$BZ$63","v":"Prominent redox concentrations"}]
[{"$nulls":66},"2.5YR 4/2",false,true,false,{"$nulls":13},1,2,4,"1-2.0-4",{"$f":"$BZ$63","v":"Prominent redox concentrations"}]
[{"$nulls":66},"2.5YR 4/3",false,false,false,{"$nulls":13},1,2,5,"1-2.0-5",{"$f":"$BZ$63","v":"Prominent redox concentrations"}]
[{"$nulls":66},"2.5YR 4/4",false,false,false,{"$nulls":13},1,2,6,"1-2.0-6",{"$f":"$BZ$63","v":"Prominent redox concentrations"}]
[{"$nulls":66},"2.5YR 4/6",false,false,false,{"$nulls":13},1,2,7,"1-2.0-7",{"$f":"$BZ$63","v":"Prominent redox concentrations"}]
[{"$nulls":66},"2.5YR 4/8",false,false,false,{"$nulls":13},1,2.5,0,"1-2.5-0",{"$f":"$BZ$62","v":"Distinct redox concentrations"}]
[{"$nulls":66},"2.5YR 5/1",true,true,false,{"$nulls":13},1,2.5,1,"1-2.5-1",{"$f":"$BZ$62","v":"Distinct redox concentrations"}]
[{"$nulls":66},"2.5YR 5/2",false,true,false,{"$nulls":13},1,2.5,2,"1-2.5-2",{"$f":"$BZ$62","v":"Distinct redox concentrations"}]
[{"$nulls":66},"2.5YR 5/3",false,false,false,{"$nulls":13},1,2.5,3,"1-2.5-3",{"$f":"$BZ$63","v":"Prominent redox concentrations"}]
[{"$nulls":66},"2.5YR 5/4",false,false,false,{"$nulls":13},1,2.5,4,"1-2.5-4","Prominent redox concentrations"]
[{"$nulls":66},"2.5YR 5/6",false,false,false,{"$nulls":13},1,2.5,5,"1-2.5-5","Prominent redox concentrations"]
[{"$nulls":66},"2.5YR 5/8",false,false,false,{"$nulls":13},1,2.5,6,"1-2.5-6","Prominent redox concentrations"]
[{"$nulls":66},"2.5YR 6/1",true,true,false,{"$nulls":13},1,2.5,7,"1-2.5-7","Prominent redox concentrations"]
[{"$nulls":66},"2.5YR 6/2",true,true,false,{"$nulls":13},1,3,0,"1-3.0-0","Prominent redox concentrations"]
[{"$nulls":66},"2.5YR 6/3",false,false,false,{"$nulls":13},1,3,1,"1-3.0-1","Prominent redox concentrations"]
[{"$nulls":66},"2.5YR 6/4",false,false,false,{"$nulls":13},1,3,2,"1-3.0-2","Prominent redox concentrations"]
[{"$nulls":66},"2.5YR 6/6",false,false,false,{"$nulls":13},1,3,3,"1-3.0-3","Prominent redox concentrations"]
[{"$nulls":66},"2.5YR 6/8",false,false,false,{"$nulls":13},1,3,4,"1-3.0-4","Prominent redox concentrations"]
[{"$nulls":66},"2.5YR 7/1",true,true,false,{"$nulls":13},1,3,5,"1-3.0-5","Prominent redox concentrations"]
[{"$nulls":66},"2.5YR 7/2",true,true,false,{"$nulls":13},1,3,6,"1-3.0-6","Prominent redox concentrations"]
[{"$nulls":66},"2.5YR 7/3",false,false,false,{"$nulls":13},1,3,7,"1-3.0-7","Prominent redox concentrations"]
[{"$nulls":66},"2.5YR 7/4",false,false,false,{"$nulls":13},1,3.5,0,"1-3.5-0","Prominent redox concentrations"]
[{"$nulls":66},"2.5YR 7/6",false,false,false,{"$nulls":13},1,3.5,1,"1-3.5-1","Prominent redox concentrations"]
[{"$nulls":66},"2.5YR 7/8",false,false,false,{"$nulls":13},1,3.5,2,"1-3.5-2","Prominent redox concentrations"]
[{"$nulls":66},"2.5YR 8/1",true,true,false,{"$nulls":13},1,3.5,3,"1-3.5-3","Prominent redox concentrations"]
[{"$nulls":66},"2.5YR 8/2",true,true,false,{"$nulls":13},1,3.5,4,"1-3.5-4","Prominent redox concentrations"]
[{"$nulls":66},"2.5YR 8/3",false,false,false,{"$nulls":13},1,3.5,5,"1-3.5-5","Prominent redox concentrations"]
[{"$nulls":66},"2.5YR 8/4",false,false,false,{"$nulls":13},1,3.5,6,"1-3.5-6","Prominent redox concentrations"]
[{"$nulls":66},"5YR 2.5/1",false,false,false,{"$nulls":13},1,3.5,7,"1-3.5-7","Prominent redox concentrations"]
[{"$nulls":66},"5YR 2.5/2",false,false,false,{"$nulls":13},1,4,0,"1-4.0-0","Prominent redox concentrations"]
[{"$nulls":66},"5YR 3/1",false,false,false,{"$nulls":13},1,4,1,"1-4.0-1","Prominent redox concentrations"]
[{"$nulls":66},"5YR 3/2",false,false,false,{"$nulls":13},1,4,2,"1-4.0-2","Prominent redox concentrations"]
[{"$nulls":66},"5YR 3/3",false,false,false,{"$nulls":13},1,4,3,"1-4.0-3","Prominent redox concentrations"]
[{"$nulls":66},"5YR 3/4",false,false,false,{"$nulls":13},1,4,4,"1-4.0-4","Prominent redox concentrations"]
[{"$nulls":66},"5YR 4/1",false,true,false,{"$nulls":13},1,4,5,"1-4.0-5","Prominent redox concentrations"]
[{"$nulls":66},"5YR 4/2",false,true,false,{"$nulls":13},1,4,6,"1-4.0-6","Prominent redox concentrations"]
[{"$nulls":66},"5YR 4/3",false,false,false,{"$nulls":13},1,4,7,"1-4.0-7","Prominent redox concentrations"]
[{"$nulls":66},"5YR 4/4",false,false,false,{"$nulls":13},1,4.5,0,"1-4.5-0","Prominent redox concentrations"]
[{"$nulls":66},"5YR 4/6",false,false,false,{"$nulls":13},1,4.5,1,"1-4.5-1","Prominent redox concentrations"]
[{"$nulls":66},"5YR 5/1",true,true,false,{"$nulls":13},1,4.5,2,"1-4.5-2","Prominent redox concentrations"]
[{"$nulls":66},"5YR 5/2",false,true,false,{"$nulls":13},1,4.5,3,"1-4.5-3",{"$f":"$BZ$63","v":"Prominent redox concentrations"}]
[{"$nulls":66},"5YR 5/3",false,false,false,{"$nulls":13},1,4.5,4,"1-4.5-4","Prominent redox concentrations"]
[{"$nulls":66},"5YR 5/4",false,false,false,{"$nulls":13},1,4.5,5,"1-4.5-5","Prominent redox concentrations"]
[{"$nulls":66},"5YR 5/6",false,false,false,{"$nulls":13},1,4.5,6,"1-4.5-6","Prominent redox concentrations"]
[{"$nulls":66},"5YR 5/8",false,false,false,{"$nulls":13},1,4.5,7,"1-4.5-7","Prominent redox concentrations"]
[{"$nulls":66},"5YR 6/1",true,true,false,{"$nulls":13},1,5,0,"1-5.0-0","Prominent redox concentrations"]
[{"$nulls":66},"5YR 6/2",true,true,false,{"$nulls":13},1,5,1,"1-5.0-1","Prominent redox concentrations"]
[{"$nulls":66},"5YR 6/3",false,false,false,{"$nulls":13},1,5,2,"1-5.0-2","Prominent redox concentrations"]
[{"$nulls":66},"5YR 6/4",false,false,false,{"$nulls":13},1,5,3,"1-5.0-3","Prominent redox concentrations"]
[{"$nulls":66},"5YR 6/6",false,false,false,{"$nulls":13},1,5,4,"1-5.0-4","Prominent redox concentrations"]
[{"$nulls":66},"5YR 6/8",false,false,false,{"$nulls":13},1,5,5,"1-5.0-5","Prominent redox concentrations"]
[{"$nulls":66},"5YR 7/1",true,true,false,{"$nulls":13},1,5,6,"1-5.0-6","Prominent redox concentrations"]
[{"$nulls":66},"5YR 7/2",true,true,false,{"$nulls":13},1,5,7,"1-5.0-7","Prominent redox concentrations"]
[{"$nulls":66},"5YR 7/3",false,false,false,{"$nulls":13},1,5.5,0,{"$f":"TEXT(CF278,\"0\")&\"-\"&TEXT(CG278,\"0.0\")&\"-\"&TEXT(CH278,\"0\")","v":"1-5.5-0"},"Prominent redox concentrations"]
[{"$nulls":66},"5YR 7/4",false,false,false,{"$nulls":13},1,5.5,1,"1-5.5-1","Prominent redox concentrations"]
[{"$nulls":66},"5YR 7/6",false,false,false,{"$nulls":13},1,5.5,2,"1-5.5-2","Prominent redox concentrations"]
[{"$nulls":66},"5YR 7/8",false,false,false,{"$nulls":13},1,5.5,3,"1-5.5-3","Prominent redox concentrations"]
[{"$nulls":66},"5YR 8/1",true,true,false,{"$nulls":13},1,5.5,4,"1-5.5-4","Prominent redox concentrations"]
[{"$nulls":66},"5YR 8/2",true,true,false,{"$nulls":13},1,5.5,5,"1-5.5-5","Prominent redox concentrations"]
[{"$nulls":66},"5YR 8/3",false,false,false,{"$nulls":13},1,5.5,6,"1-5.5-6","Prominent redox concentrations"]
[{"$nulls":66},"5YR 8/4",false,false,false,{"$nulls":13},1,5.5,7,"1-5.5-7","Prominent redox concentrations"]
[{"$nulls":66},"7.5YR 2.5/1",false,false,false,{"$nulls":13},1,6,0,"1-6.0-0","Prominent redox concentrations"]
[{"$nulls":66},"7.5YR 2.5/2",false,false,false,{"$nulls":13},1,6,1,"1-6.0-1","Prominent redox concentrations"]
[{"$nulls":66},"7.5YR 2.5/3",false,false,false,{"$nulls":13},1,6,2,"1-6.0-2","Prominent redox concentrations"]
[{"$nulls":66},"7.5YR 3/1",false,false,false,{"$nulls":13},1,6,3,"1-6.0-3","Prominent redox concentrations"]
[{"$nulls":66},"7.5YR 3/2",false,false,false,{"$nulls":13},1,6,4,"1-6.0-4","Prominent redox concentrations"]
[{"$nulls":66},"7.5YR 3/3",false,false,false,{"$nulls":13},1,6,5,"1-6.0-5","Prominent redox concentrations"]
[{"$nulls":66},"7.5YR 3/4",false,false,false,{"$nulls":13},1,6,6,"1-6.0-6","Prominent redox concentrations"]
[{"$nulls":66},"7.5YR 4/1",false,true,false,{"$nulls":13},1,6,7,"1-6.0-7","Prominent redox concentrations"]
[{"$nulls":66},"7.5YR 4/2",false,true,false,{"$nulls":13},1,6.5,0,"1-6.5-0","Prominent redox concentrations"]
[{"$nulls":66},"7.5YR 4/3",false,false,false,{"$nulls":13},1,6.5,1,"1-6.5-1","Prominent redox concentrations"]
[{"$nulls":66},"7.5YR 4/4",false,false,false,{"$nulls":13},1,6.5,2,"1-6.5-2","Prominent redox concentrations"]
[{"$nulls":66},"7.5YR 4/6",false,false,false,{"$nulls":13},1,6.5,3,"1-6.5-3","Prominent redox concentrations"]
[{"$nulls":66},"7.5YR 5/1",true,true,false,{"$nulls":13},1,6.5,4,"1-6.5-4","Prominent redox concentrations"]
[{"$nulls":66},"7.5YR 5/2",false,true,false,{"$nulls":13},1,6.5,5,"1-6.5-5","Prominent redox concentrations"]
[{"$nulls":66},"7.5YR 5/3",false,false,false,{"$nulls":13},1,6.5,6,"1-6.5-6","Prominent redox concentrations"]
[{"$nulls":66},"7.5YR 5/4",false,false,false,{"$nulls":13},1,6.5,7,"1-6.5-7","Prominent redox concentrations"]
[{"$nulls":66},"7.5YR 5/6",false,false,false,{"$nulls":13},1,7,0,"1-7.0-0","Prominent redox concentrations"]
[{"$nulls":66},"7.5YR 5/8",false,false,false,{"$nulls":13},1,7,1,"1-7.0-1","Prominent redox concentrations"]
[{"$nulls":66},"7.5YR 6/1",true,true,false,{"$nulls":13},1,7,2,"1-7.0-2","Prominent redox concentrations"]
[{"$nulls":66},"7.5YR 6/2",true,true,false,{"$nulls":13},1,7,3,"1-7.0-3","Prominent redox concentrations"]
[{"$nulls":66},"7.5YR 6/3",false,false,false,{"$nulls":13},1,7,4,"1-7.0-4","Prominent redox concentrations"]
[{"$nulls":66},"7.5YR 6/4",false,false,false,{"$nulls":13},1,7,5,"1-7.0-5","Prominent redox concentrations"]
[{"$nulls":66},"7.5YR 6/6",false,false,false,{"$nulls":13},1,7,6,"1-7.0-6","Prominent redox concentrations"]
[{"$nulls":66},"7.5YR 6/8",false,false,false,{"$nulls":13},1,7,7,"1-7.0-7","Prominent redox concentrations"]
[{"$nulls":66},"7.5YR 7/1",true,true,false,{"$nulls":13},1,7.5,0,"1-7.5-0","Prominent redox concentrations"]
[{"$nulls":66},"7.5YR 7/2",true,true,false,{"$nulls":13},1,7.5,1,"1-7.5-1","Prominent redox concentrations"]
[{"$nulls":66},"7.5YR 7/3",false,false,false,{"$nulls":13},1,7.5,2,"1-7.5-2","Prominent redox concentrations"]
[{"$nulls":66},"7.5YR 7/4",false,false,false,{"$nulls":13},1,7.5,3,"1-7.5-3","Prominent redox concentrations"]
[{"$nulls":66},"7.5YR 7/6",false,false,false,{"$nulls":13},1,7.5,4,"1-7.5-4","Prominent redox concentrations"]
[{"$nulls":66},"7.5YR 7/8",false,false,false,{"$nulls":13},1,7.5,5,"1-7.5-5","Prominent redox concentrations"]
[{"$nulls":66},"7.5YR 8/1",true,true,false,{"$nulls":13},1,7.5,6,"1-7.5-6","Prominent redox concentrations"]
[{"$nulls":66},"7.5YR 8/2",true,true,false,{"$nulls":13},1,7.5,7,"1-7.5-7","Prominent redox concentrations"]
[{"$nulls":66},"7.5YR 8/3",false,false,false,{"$nulls":13},2,0,0,"2-0.0-0",{"$f":"$BZ$61","v":"Faint redox concentrations"}]
[{"$nulls":66},"7.5YR 8/4",false,false,false,{"$nulls":13},2,0,1,"2-0.0-1",{"$f":"$BZ$62","v":"Distinct redox concentrations"}]
[{"$nulls":66},"7.5YR 8/6",false,false,false,{"$nulls":13},2,0,2,"2-0.0-2",{"$f":"$BZ$63","v":"Prominent redox concentrations"}]
[{"$nulls":66},"7.5YR 8.5/1",true,true,false,{"$nulls":13},2,0,3,"2-0.0-3","Prominent redox concentrations"]
[{"$nulls":66},"7.5YR 8.5/2",true,true,false,{"$nulls":13},2,0,4,"2-0.0-4","Prominent redox concentrations"]
[{"$nulls":66},"7.5YR 9/1",true,true,false,{"$nulls":13},2,0,5,"2-0.0-5","Prominent redox concentrations"]
[{"$nulls":66},"7.5YR 9/2",true,true,false,{"$nulls":13},2,0,6,"2-0.0-6","Prominent redox concentrations"]
[{"$nulls":66},"7.5YR 9.5/1",true,true,false,{"$nulls":13},2,0,7,"2-0.0-7","Prominent redox concentrations"]
[{"$nulls":66},"7.5YR 9.5/2",true,true,false,{"$nulls":13},2,0.5,0,"2-0.5-0",{"$f":"$BZ$62","v":"Distinct redox concentrations"}]
[{"$nulls":66},"2.5Y 2.5/1",false,false,false,{"$nulls":13},2,0.5,1,"2-0.5-1",{"$f":"$BZ$62","v":"Distinct redox concentrations"}]
[{"$nulls":66},"2.5Y 3/1",false,false,false,{"$nulls":13},2,0.5,2,"2-0.5-2",{"$f":"$BZ$63","v":"Prominent redox concentrations"}]
[{"$nulls":66},"2.5Y 3/2",false,false,false,{"$nulls":13},2,0.5,3,"2-0.5-3","Prominent redox concentrations"]
[{"$nulls":66},"2.5Y 3/3",false,false,false,{"$nulls":13},2,0.5,4,"2-0.5-4","Prominent redox concentrations"]
[{"$nulls":66},"2.5Y 4/1",false,true,false,{"$nulls":13},2,0.5,5,"2-0.5-5","Prominent redox concentrations"]
[{"$nulls":66},"2.5Y 4/2",false,true,false,{"$nulls":13},2,0.5,6,"2-0.5-6","Prominent redox concentrations"]
[{"$nulls":66},"2.5Y 4/3",false,false,false,{"$nulls":13},2,0.5,7,"2-0.5-7","Prominent redox concentrations"]
[{"$nulls":66},"2.5Y 4/4",false,false,false,{"$nulls":13},2,1,0,"2-1.0-0",{"$f":"$BZ$62","v":"Distinct redox concentrations"}]
[{"$nulls":66},"2.5Y 5/1",true,true,false,{"$nulls":13},2,1,1,"2-1.0-1",{"$f":"$BZ$62","v":"Distinct redox concentrations"}]
[{"$nulls":66},"2.5Y 5/2",false,true,false,{"$nulls":13},2,1,2,"2-1.0-2",{"$f":"$BZ$63","v":"Prominent redox concentrations"}]
[{"$nulls":66},"2.5Y 5/3",false,false,false,{"$nulls":13},2,1,3,"2-1.0-3","Prominent redox concentrations"]
[{"$nulls":66},"2.5Y 5/4",false,false,false,{"$nulls":13},2,1,4,"2-1.0-4","Prominent redox concentrations"]
[{"$nulls":66},"2.5Y 5/6",false,false,false,{"$nulls":13},2,1,5,"2-1.0-5","Prominent redox concentrations"]
[{"$nulls":66},"2.5Y 6/1",true,true,false,{"$nulls":13},2,1,6,"2-1.0-6","Prominent redox concentrations"]
[{"$nulls":66},"2.5Y 6/2",true,true,false,{"$nulls":13},2,1,7,"2-1.0-7","Prominent redox concentrations"]
[{"$nulls":66},"2.5Y 6/3",false,false,false,{"$nulls":13},2,1.5,0,"2-1.5-0",{"$f":"$BZ$62","v":"Distinct redox concentrations"}]
[{"$nulls":66},"2.5Y 6/4",false,false,false,{"$nulls":13},2,1.5,1,"2-1.5-1",{"$f":"$BZ$62","v":"Distinct redox concentrations"}]
[{"$nulls":66},"2.5Y 6/6",false,false,false,{"$nulls":13},2,1.5,2,"2-1.5-2",{"$f":"$BZ$63","v":"Prominent redox concentrations"}]
[{"$nulls":66},"2.5Y 6/8",false,false,false,{"$nulls":13},2,1.5,3,"2-1.5-3","Prominent redox concentrations"]
[{"$nulls":66},"2.5Y 7/1",true,true,false,{"$nulls":13},2,1.5,4,"2-1.5-4","Prominent redox concentrations"]
[{"$nulls":66},"2.5Y 7/2",true,true,false,{"$nulls":13},2,1.5,5,"2-1.5-5","Prominent redox concentrations"]
[{"$nulls":66},"2.5Y 7/3",false,false,false,{"$nulls":13},2,1.5,6,"2-1.5-6","Prominent redox concentrations"]
[{"$nulls":66},"2.5Y 7/4",false,false,false,{"$nulls":13},2,1.5,7,"2-1.5-7","Prominent redox concentrations"]
[{"$nulls":66},"2.5Y 7/6",false,false,false,{"$nulls":13},2,2,0,"2-2.0-0","Prominent redox concentrations"]
[{"$nulls":66},"2.5Y 7/8",false,false,false,{"$nulls":13},2,2,1,"2-2.0-1","Prominent redox concentrations"]
[{"$nulls":66},"2.5Y 8/1",true,true,false,{"$nulls":13},2,2,2,"2-2.0-2","Prominent redox concentrations"]
[{"$nulls":66},"2.5Y 8/2",true,true,false,{"$nulls":13},2,2,3,"2-2.0-3","Prominent redox concentrations"]
[{"$nulls":66},"2.5Y 8/3",false,false,false,{"$nulls":13},2,2,4,"2-2.0-4","Prominent redox concentrations"]
[{"$nulls":66},"2.5Y 8/4",false,false,false,{"$nulls":13},2,2,5,"2-2.0-5","Prominent redox concentrations"]
[{"$nulls":66},"2.5Y 8/6",false,false,false,{"$nulls":13},2,2,6,"2-2.0-6","Prominent redox concentrations"]
[{"$nulls":66},"2.5Y 8/8",false,false,false,{"$nulls":13},2,2,7,"2-2.0-7","Prominent redox concentrations"]
[{"$nulls":66},"2.5Y 8.5/1",true,true,false,{"$nulls":13},2,2.5,0,"2-2.5-0","Prominent redox concentrations"]
[{"$nulls":66},"2.5Y 8.5/2",true,true,false,{"$nulls":13},2,2.5,1,"2-2.5-1","Prominent redox concentrations"]
[{"$nulls":66},"2.5Y 9/1",true,true,false,{"$nulls":13},2,2.5,2,"2-2.5-2","Prominent redox concentrations"]
[{"$nulls":66},"2.5Y 9/2",true,true,false,{"$nulls":13},2,2.5,3,"2-2.5-3","Prominent redox concentrations"]
[{"$nulls":66},"2.5Y 9.5/1",true,true,false,{"$nulls":13},2,2.5,4,"2-2.5-4","Prominent redox concentrations"]
[{"$nulls":66},"2.5Y 9.5/2",true,true,false,{"$nulls":13},2,2.5,5,"2-2.5-5","Prominent redox concentrations"]
[{"$nulls":66},"5Y 2.5/1",false,false,false,{"$nulls":13},2,2.5,6,"2-2.5-6","Prominent redox concentrations"]
[{"$nulls":66},"5Y 2.5/2",false,false,false,{"$nulls":13},2,2.5,7,"2-2.5-7","Prominent redox concentrations"]
[{"$nulls":66},"5Y 3/1",false,false,false,{"$nulls":13},2,3,0,{"$f":"TEXT(CF366,\"0\")&\"-\"&TEXT(CG366,\"0.0\")&\"-\"&TEXT(CH366,\"0\")","v":"2-3.0-0"},"Prominent redox concentrations"]
[{"$nulls":66},"5Y 3/2",false,false,false,{"$nulls":13},2,3,1,"2-3.0-1","Prominent redox concentrations"]
[{"$nulls":66},"5Y 4/1",false,true,false,{"$nulls":13},2,3,2,"2-3.0-2","Prominent redox concentrations"]
[{"$nulls":66},"5Y 4/2",false,true,false,{"$nulls":13},2,3,3,"2-3.0-3","Prominent redox concentrations"]
[{"$nulls":66},"5Y 4/3",false,false,false,{"$nulls":13},2,3,4,"2-3.0-4","Prominent redox concentrations"]
[{"$nulls":66},"5Y 4/4",false,false,false,{"$nulls":13},2,3,5,"2-3.0-5","Prominent redox concentrations"]
[{"$nulls":66},"5Y 5/1",true,true,false,{"$nulls":13},2,3,6,"2-3.0-6","Prominent redox concentrations"]
[{"$nulls":66},"5Y 5/2",false,true,false,{"$nulls":13},2,3,7,"2-3.0-7","Prominent redox concentrations"]
[{"$nulls":66},"5Y 5/3",false,false,false,{"$nulls":13},2,3.5,0,"2-3.5-0","Prominent redox concentrations"]
[{"$nulls":66},"5Y 5/4",false,false,false,{"$nulls":13},2,3.5,1,"2-3.5-1","Prominent redox concentrations"]
[{"$nulls":66},"5Y 5/6",false,false,false,{"$nulls":13},2,3.5,2,"2-3.5-2",{"$f":"$BZ$63","v":"Prominent redox concentrations"}]
[{"$nulls":66},"5Y 6/1",true,true,false,{"$nulls":13},2,3.5,3,"2-3.5-3","Prominent redox concentrations"]
[{"$nulls":66},"5Y 6/2",true,true,false,{"$nulls":13},2,3.5,4,"2-3.5-4","Prominent redox concentrations"]
[{"$nulls":66},"5Y 6/3",false,false,false,{"$nulls":13},2,3.5,5,"2-3.5-5","Prominent redox concentrations"]
[{"$nulls":66},"5Y 6/4",false,false,false,{"$nulls":13},2,3.5,6,"2-3.5-6","Prominent redox concentrations"]
[{"$nulls":66},"5Y 6/6",false,false,false,{"$nulls":13},2,3.5,7,"2-3.5-7","Prominent redox concentrations"]
[{"$nulls":66},"5Y 6/8",false,false,false,{"$nulls":13},2,4,0,"2-4.0-0","Prominent redox concentrations"]
[{"$nulls":66},"5Y 7/1",true,true,false,{"$nulls":13},2,4,1,"2-4.0-1","Prominent redox concentrations"]
[{"$nulls":66},"5Y 7/2",true,true,false,{"$nulls":13},2,4,2,"2-4.0-2","Prominent redox concentrations"]
[{"$nulls":66},"5Y 7/3",false,false,false,{"$nulls":13},2,4,3,"2-4.0-3","Prominent redox concentrations"]
[{"$nulls":66},"5Y 7/4",false,false,false,{"$nulls":13},2,4,4,"2-4.0-4","Prominent redox concentrations"]
[{"$nulls":66},"5Y 7/6",false,false,false,{"$nulls":13},2,4,5,"2-4.0-5","Prominent redox concentrations"]
[{"$nulls":66},"5Y 7/8",false,false,false,{"$nulls":13},2,4,6,"2-4.0-6","Prominent redox concentrations"]
[{"$nulls":66},"5Y 8/1",true,true,false,{"$nulls":13},2,4,7,"2-4.0-7","Prominent redox concentrations"]
[{"$nulls":66},"5Y 8/2",true,true,false,{"$nulls":13},2,4.5,0,"2-4.5-0","Prominent redox concentrations"]
[{"$nulls":66},"5Y 8/3",false,false,false,{"$nulls":13},2,4.5,1,"2-4.5-1","Prominent redox concentrations"]
[{"$nulls":66},"5Y 8/4",false,false,false,{"$nulls":13},2,4.5,2,"2-4.5-2","Prominent redox concentrations"]
[{"$nulls":66},"5Y 8/6",false,false,false,{"$nulls":13},2,4.5,3,"2-4.5-3","Prominent redox concentrations"]
[{"$nulls":66},"5Y 8/8",false,false,false,{"$nulls":13},2,4.5,4,"2-4.5-4","Prominent redox concentrations"]
[{"$nulls":66},"N 2.5/",false,false,false,{"$nulls":13},2,4.5,5,"2-4.5-5","Prominent redox concentrations"]
[{"$nulls":66},"N 3/",false,false,false,{"$nulls":13},2,4.5,6,"2-4.5-6","Prominent redox concentrations"]
[{"$nulls":66},"N 4/",false,false,true,{"$nulls":13},2,4.5,7,"2-4.5-7","Prominent redox concentrations"]
[{"$nulls":66},"N 5/",false,false,true,{"$nulls":13},2,5,0,"2-5.0-0","Prominent redox concentrations"]
[{"$nulls":66},"N 6/",false,false,true,{"$nulls":13},2,5,1,"2-5.0-1","Prominent redox concentrations"]
[{"$nulls":66},"N 7/",false,false,true,{"$nulls":13},2,5,2,"2-5.0-2","Prominent redox concentrations"]
[{"$nulls":66},"N 8/",false,false,true,{"$nulls":13},2,5,3,"2-5.0-3","Prominent redox concentrations"]
[{"$nulls":66},"N 8.5/",false,false,true,{"$nulls":13},2,5,4,"2-5.0-4","Prominent redox concentrations"]
[{"$nulls":66},"N 9/",false,false,true,{"$nulls":13},2,5,5,"2-5.0-5","Prominent redox concentrations"]
[{"$nulls":66},"N 9.5/",false,false,true,{"$nulls":13},2,5,6,"2-5.0-6","Prominent redox concentrations"]
[{"$nulls":66},"10Y 2.5/1",false,false,false,{"$nulls":13},2,5,7,"2-5.0-7","Prominent redox concentrations"]
[{"$nulls":66},"10Y 3/1",false,false,false,{"$nulls":13},2,5.5,0,"2-5.5-0","Prominent redox concentrations"]
[{"$nulls":66},"10Y 3/2",false,false,false,{"$nulls":13},2,5.5,1,"2-5.5-1","Prominent redox concentrations"]
[{"$nulls":66},"10Y 3/4",false,false,false,{"$nulls":13},2,5.5,2,"2-5.5-2",{"$f":"$BZ$63","v":"Prominent redox concentrations"}]
[{"$nulls":66},"10Y 4/1",false,false,true,{"$nulls":13},2,5.5,3,"2-5.5-3","Prominent redox concentrations"]
[{"$nulls":66},"10Y 4/2",false,false,false,{"$nulls":13},2,5.5,4,"2-5.5-4","Prominent redox concentrations"]
[{"$nulls":66},"10Y 4/4",false,false,false,{"$nulls":13},2,5.5,5,"2-5.5-5","Prominent redox concentrations"]
[{"$nulls":66},"10Y 5/1",false,false,true,{"$nulls":13},2,5.5,6,"2-5.5-6","Prominent redox concentrations"]
[{"$nulls":66},"10Y 5/2",false,false,false,{"$nulls":13},2,5.5,7,"2-5.5-7","Prominent redox concentrations"]
[{"$nulls":66},"10Y 5/4",false,false,false,{"$nulls":13},2,6,0,"2-6.0-0","Prominent redox concentrations"]
[{"$nulls":66},"10Y 6/1",false,false,true,{"$nulls":13},2,6,1,"2-6.0-1","Prominent redox concentrations"]
[{"$nulls":66},"10Y 6/2",false,false,false,{"$nulls":13},2,6,2,"2-6.0-2","Prominent redox concentrations"]
[{"$nulls":66},"10Y 6/4",false,false,false,{"$nulls":13},2,6,3,"2-6.0-3","Prominent redox concentrations"]
[{"$nulls":66},"10Y 7/1",false,false,true,{"$nulls":13},2,6,4,"2-6.0-4","Prominent redox concentrations"]
[{"$nulls":66},"10Y 8/1",false,false,true,{"$nulls":13},2,6,5,"2-6.0-5","Prominent redox concentrations"]
[{"$nulls":66},"5GY 2.5/1",false,false,false,{"$nulls":13},2,6,6,"2-6.0-6","Prominent redox concentrations"]
[{"$nulls":66},"5GY 3/1",false,false,false,{"$nulls":13},2,7,6,{"$f":"TEXT(CF421,\"0\")&\"-\"&TEXT(CG421,\"0.0\")&\"-\"&TEXT(CH421,\"0\")","v":"2-7.0-6"},"Prominent redox concentrations"]
[{"$nulls":66},"5GY 3/2",false,false,false,{"$nulls":13},2,6.5,0,"2-6.5-0","Prominent redox concentrations"]
[{"$nulls":66},"5GY 3/4",false,false,false,{"$nulls":13},2,6.5,1,"2-6.5-1","Prominent redox concentrations"]
[{"$nulls":66},"5GY 4/1",false,false,true,{"$nulls":13},2,6.5,2,"2-6.5-2","Prominent redox concentrations"]
[{"$nulls":66},"5GY 4/2",false,false,false,{"$nulls":13},2,6.5,3,"2-6.5-3","Prominent redox concentrations"]
[{"$nulls":66},"5GY 4/4",false,false,false,{"$nulls":13},2,6.5,4,"2-6.5-4","Prominent redox concentrations"]
[{"$nulls":66},"5GY 5/1",false,false,true,{"$nulls":13},2,6.5,5,"2-6.5-5","Prominent redox concentrations"]
[{"$nulls":66},"5GY 5/2",false,false,false,{"$nulls":13},2,6.5,6,"2-6.5-6","Prominent redox concentrations"]
[{"$nulls":66},"5GY 5/4",false,false,false,{"$nulls":13},2,6.5,7,"2-6.5-7","Prominent redox concentrations"]
[{"$nulls":66},"5GY 6/1",false,false,true,{"$nulls":13},2,7,0,"2-7.0-0","Prominent redox concentrations"]
[{"$nulls":66},"5GY 6/2",false,false,false,{"$nulls":13},2,7,1,"2-7.0-1","Prominent redox concentrations"]
[{"$nulls":66},"5GY 6/4",false,false,false,{"$nulls":13},2,7,2,"2-7.0-2","Prominent redox concentrations"]
[{"$nulls":66},"5GY 7/1",false,false,true,{"$nulls":13},2,7,3,"2-7.0-3","Prominent redox concentrations"]
[{"$nulls":66},"5GY 8/1",false,false,true,{"$nulls":13},2,7,4,"2-7.0-4","Prominent redox concentrations"]
[{"$nulls":66},"10GY 2.5/1",false,false,false,{"$nulls":13},2,7,5,"2-7.0-5","Prominent redox concentrations"]
[{"$nulls":66},"10GY 3/1",false,false,false,{"$nulls":13},2,7,6,"2-7.0-6","Prominent redox concentrations"]
[{"$nulls":66},"10GY 4/1",false,false,true,{"$nulls":13},2,7,7,"2-7.0-7","Prominent redox concentrations"]
[{"$nulls":66},"10GY 5/1",false,false,true,{"$nulls":13},2,7.5,0,"2-7.5-0","Prominent redox concentrations"]
[{"$nulls":66},"10GY 6/1",false,false,true,{"$nulls":13},2,7.5,1,"2-7.5-1","Prominent redox concentrations"]
[{"$nulls":66},"10GY 7/1",false,false,true,{"$nulls":13},2,7.5,2,"2-7.5-2","Prominent redox concentrations"]
[{"$nulls":66},"10GY 8/1",false,false,true,{"$nulls":13},2,7.5,3,"2-7.5-3","Prominent redox concentrations"]
[{"$nulls":66},"5G 2.5/1",false,false,false,{"$nulls":13},2,7.5,4,"2-7.5-4","Prominent redox concentrations"]
[{"$nulls":66},"5G 2.5/2",false,false,false,{"$nulls":13},2,7.5,5,"2-7.5-5","Prominent redox concentrations"]
[{"$nulls":66},"5G 3/1",false,false,false,{"$nulls":13},2,7.5,6,"2-7.5-6","Prominent redox concentrations"]
[{"$nulls":66},"5G 3/2",false,false,false,{"$nulls":13},2,7.5,7,"2-7.5-7","Prominent redox concentrations"]
[{"$nulls":66},"5G 4/1",false,false,true]
[{"$nulls":66},"5G 4/2",false,false,true]
[{"$nulls":66},"5G 5/1",false,false,true]
[{"$nulls":66},"5G 5/2",false,false,true]
[{"$nulls":66},"5G 6/1",false,false,true]
[{"$nulls":66},"5G 6/2",false,false,true]
[{"$nulls":66},"5G 7/1",false,false,true]
[{"$nulls":66},"5G 7/2",false,false,true]
[{"$nulls":66},"5G 8/1",false,false,true]
[{"$nulls":66},"5G 8/2",false,false,true]
[{"$nulls":66},"10G 2.5/1",false,false,false]
[{"$nulls":66},"10G 3/1",false,false,false]
[{"$nulls":66},"10G 4/1",false,false,true]
[{"$nulls":66},"10G 5/1",false,false,true]
[{"$nulls":66},"10G 6/1",false,false,true]
[{"$nulls":66},"10G 7/1",false,false,true]
[{"$nulls":66},"10G 8/1",false,false,true]
[{"$nulls":66},"5BG 2.5/1",false,false,false]
[{"$nulls":66},"5BG 3/1",false,false,false]
[{"$nulls":66},"5BG 4/1",false,false,true]
[{"$nulls":66},"5BG 5/1",false,false,true]
[{"$nulls":66},"5BG 6/1",false,false,true]
[{"$nulls":66},"5BG 7/1",false,false,true]
[{"$nulls":66},"5BG 8/1",false,false,true]
[{"$nulls":66},"10BG 2.5/1",false,false,false]
[{"$nulls":66},"10BG 3/1",false,false,false]
[{"$nulls":66},"10BG 4/1",false,false,true]
[{"$nulls":66},"10BG 5/1",false,false,true]
[{"$nulls":66},"10BG 6/1",false,false,true]
[{"$nulls":66},"10BG 7/1",false,false,true]
[{"$nulls":66},"10BG 8/1",false,false,true]
[{"$nulls":66},"5B 2.5/1",false,false,false]
[{"$nulls":66},"5B 3/1",false,false,false]
[{"$nulls":66},"5B 4/1",false,false,true]
[{"$nulls":66},"5B 5/1",false,false,true]
[{"$nulls":66},"5B 6/1",false,false,true]
[{"$nulls":66},"5B 7/1",false,false,true]
[{"$nulls":66},"5B 8/1",false,false,true]
[{"$nulls":66},"10B 2.5/1",false,false,false]
[{"$nulls":66},"10B 3/1",false,false,false]
[{"$nulls":66},"10B 4/1",false,false,true]
[{"$nulls":66},"10B 5/1",false,false,true]
[{"$nulls":66},"10B 6/1",false,false,true]
[{"$nulls":66},"10B 7/1",false,false,true]
[{"$nulls":66},"10B 8/1",false,false,true]
[{"$nulls":66},"5PB 2.5/1",false,false,false]
[{"$nulls":66},"5PB 3/1",false,false,false]
[{"$nulls":66},"5PB 4/1",false,false,true]
[{"$nulls":66},"5PB 5/1",false,false,true]
[{"$nulls":66},"5PB 6/1",false,false,true]
[{"$nulls":66},"5PB 7/1",false,false,true]
[{"$nulls":66},"5PB 8/1",false,false,true]

{"sheet":"Vegetation Continued, 5 Strata","index":4,"n_rows":64,"n_cols":65,"rows_kept":64,"merged":[[0,24,0,51],[0,58,0,62],[1,0,1,63],[2,0,53,0],[2,1,2,24],[2,25,2,29],[2,31,2,35],[2,37,2,41],[2,43,17,43],[2,44,2,63],[3,3,3,23],[3,25,3,29],[3,31,3,35],[3,37,3,41],[3,44,5,63],[4,3,4,23],[4,25,4,29],[4,31,4,35],[4,37,4,41],[5,3,5,23],[5,25,5,29],[5,31,5,35],[5,37,5,41],[6,3,6,23],[6,25,6,29],[6,31,6,35],[6,37,6,41],[6,44,8,63],[7,3,7,23],[7,25,7,29],[7,31,7,35],[7,37,7,41],[8,3,8,23],[8,25,8,29],[8,31,8,35],[8,37,8,41],[9,1,9,42],[9,44,11,63],[10,1,10,24],[10,25,10,29],[10,30,10,42],[11,1,11,12],[11,22,11,26],[11,37,11,41],[12,1,12,42],[12,44,15,63],[13,3,13,23],[13,25,13,29],[13,31,13,35],[13,37,13,41],[13,42,18,42],[14,3,14,23],[14,25,14,29],[14,31,14,35],[14,37,14,41],[15,3,15,23],[15,25,15,29],[15,31,15,35],[15,37,15,41],[16,3,16,23],[16,25,16,29],[16,31,16,35],[16,37,16,41],[16,44,17,63],[17,3,17,23],[17,25,17,29],[17,31,17,35],[17,37,17,41],[18,3,18,23],[18,25,18,29],[18,31,18,35],[18,37,18,41],[18,43,53,63],[19,1,19,42],[20,1,20,24],[20,25,20,29],[20,30,20,42],[21,1,21,12],[21,22,21,26],[21,37,21,41],[22,1,22,42],[23,3,23,23],[23,25,23,29],[23,31,23,35],[23,37,23,41],[23,42,28,42],[24,3,24,23],[24,25,24,29],[24,31,24,35],[24,37,24,41],[25,3,25,23],[25,25,25,29],[25,31,25,35],[25,37,25,41],[26,3,26,23],[26,25,26,29],[26,31,26,35],[26,37,26,41],[27,3,27,23],[27,25,27,29],[27,31,27,35],[27,37,27,41],[28,3,28,23],[28,25,28,29],[28,31,28,35],[28,37,28,41],[29,1,29,24],[29,25,29,29],[29,30,29,42],[30,1,30,12],[30,22,30,26],[30,37,30,41],[31,1,31,42],[32,3,32,23],[32,25,32,29],[32,31,32,35],[32,37,32,41],[32,42,42,42],[33,3,33,23],[33,25,33,29],[33,31,33,35],[33,37,33,41],[34,3,34,23],[34,25,34,29],[34,31,34,35],[34,37,34,41],[35,3,35,23],[35,25,35,29],[35,31,35,35],[35,37,35,41],[36,3,36,23],[36,25,36,29],[36,31,36,35],[36,37,36,41],[37,3,37,23],[37,25,37,29],[37,31,37,35],[37,37,37,41],[38,3,38,23],[38,25,38,29],[38,31,38,35],[38,37,38,41],[39,3,39,23],[39,25,39,29],[39,31,39,35],[39,37,39,41],[40,3,40,23],[40,25,40,29],[40,31,40,35],[40,37,40,41],[41,3,41,23],[41,25,41,29],[41,31,41,35],[41,37,41,41],[42,3,42,23],[42,25,42,29],[42,31,42,35],[42,37,42,41],[43,1,43,24],[43,25,43,29],[43,30,43,42],[44,1,44,12],[44,22,44,26],[44,37,44,41],[45,1,45,42],[46,3,46,23],[46,25,46,29],[46,31,46,35],[46,37,46,41],[46,42,50,42],[47,3,47,23],[47,25,47,29],[47,31,47,35],[47,37,47,41],[48,3,48,23],[48,25,48,29],[48,31,48,35],[48,37,48,41],[49,3,49,23],[49,25,49,29],[49,31,49,35],[49,37,49,41],[50,3,50,23],[50,25,50,29],[50,31,50,35],[50,37,50,41],[51,1,51,24],[51,25,51,29],[51,30,51,42],[52,1,52,12],[52,22,52,26],[52,37,52,41],[53,1,53,42],[54,0,55,0],[54,1,54,63],[55,1,55,63]]}
["VEGETATION Continued (Five Strata)",{"$nulls":23},"– Use scientific names of plants.",{"$nulls":27},"Sampling Point:",{"$nulls":5},{"$f":"IF('Page 1 (Hydrology)'!AP3=0,\"\",'Page 1 (Hydrology)'!AP3)","v":""}]
[]
[null,"Tree Stratum",{"$nulls":23},"Absolute % Cover",{"$nulls":5},"Dominant Species?",{"$nulls":5},"Indicator Status",{"$nulls":6},"Definitions of Five Vegetation Strata:",{"$nulls":19},"Indicators"]
[null,"7.",null,"",{"$nulls":27},{"$f":"IF(Z4>0,IF(OR(AND(Z$11<5,Z$21=\"\",Z$30=\"\",Z$44=\"\",Z$52=\"\"),Z$11>=5),IF(AND(ISNA(MATCH(Z4,'Page 2 (Vegetation, 5 Strata)'!CG$4:CG$15,0)),'Page 2 (Vegetation, 5 Strata)'!CD10<0.2),\"No\",\"Yes\"),\"No\"),\"\")","v":""},{"$nulls":5},{"$f":"IF('Page 2 (Vegetation, 5 Strata)'!CI10=0,\"\",'Page 2 (Vegetation, 5 Strata)'!CI10)","v":""},{"$nulls":6},"Tree – Woody plants, excluding woody vines, approximately 20 ft (6 m) or more in height and 3 in.      (7.6 cm) or larger in diameter at breast height (DBH).",{"$nulls":19},"OBL"]
[null,"8.",null,"",{"$nulls":27},{"$f":"IF(Z5>0,IF(OR(AND(Z$11<5,Z$21=\"\",Z$30=\"\",Z$44=\"\",Z$52=\"\"),Z$11>=5),IF(AND(ISNA(MATCH(Z5,'Page 2 (Vegetation, 5 Strata)'!CG$4:CG$15,0)),'Page 2 (Vegetation, 5 Strata)'!CD11<0.2),\"No\",\"Yes\"),\"No\"),\"\")","v":""},{"$nulls":5},{"$f":"IF('Page 2 (Vegetation, 5 Strata)'!CI11=0,\"\",'Page 2 (Vegetation, 5 Strata)'!CI11)","v":""},{"$nulls":26},"FACW"]
[null,"9.",{"$nulls":29},{"$f":"IF(Z6>0,IF(OR(AND(Z$11<5,Z$21=\"\",Z$30=\"\",Z$44=\"\",Z$52=\"\"),Z$11>=5),IF(AND(ISNA(MATCH(Z6,'Page 2 (Vegetation, 5 Strata)'!CG$4:CG$15,0)),'Page 2 (Vegetation, 5 Strata)'!CD12<0.2),\"No\",\"Yes\"),\"No\"),\"\")","v":""},{"$nulls":5},{"$f":"IF('Page 2 (Vegetation, 5 Strata)'!CI12=0,\"\",'Page 2 (Vegetation, 5 Strata)'!CI12)","v":""},{"$nulls":26},"FAC"]
[null,"10.",null,"",{"$nulls":27},{"$f":"IF(Z7>0,IF(OR(AND(Z$11<5,Z$21=\"\",Z$30=\"\",Z$44=\"\",Z$52=\"\"),Z$11>=5),IF(AND(ISNA(MATCH(Z7,'Page 2 (Vegetation, 5 Strata)'!CG$4:CG$15,0)),'Page 2 (Vegetation, 5 Strata)'!CD13<0.2),\"No\",\"Yes\"),\"No\"),\"\")","v":""},{"$nulls":5},{"$f":"IF('Page 2 (Vegetation, 5 Strata)'!CI13=0,\"\",'Page 2 (Vegetation, 5 Strata)'!CI13)","v":""},{"$nulls":6},"Sapling – Woody plants, excluding woody vines, approximately 20 ft (6 m) or more in height and less than 3 in. (7.6 cm) DBH.",{"$nulls":19},"FACU"]
[null,"11.",null,"",{"$nulls":27},{"$f":"IF(Z8>0,IF(OR(AND(Z$11<5,Z$21=\"\",Z$30=\"\",Z$44=\"\",Z$52=\"\"),Z$11>=5),IF(AND(ISNA(MATCH(Z8,'Page 2 (Vegetation, 5 Strata)'!CG$4:CG$15,0)),'Page 2 (Vegetation, 5 Strata)'!CD14<0.2),\"No\",\"Yes\"),\"No\"),\"\")","v":""},{"$nulls":5},{"$f":"IF('Page 2 (Vegetation, 5 Strata)'!CI14=0,\"\",'Page 2 (Vegetation, 5 Strata)'!CI14)","v":""},{"$nulls":26},"UPL"]
[null,"12.",null,"",{"$nulls":27},{"$f":"IF(Z9>0,IF(OR(AND(Z$11<5,Z$21=\"\",Z$30=\"\",Z$44=\"\",Z$52=\"\"),Z$11>=5),IF(AND(ISNA(MATCH(Z9,'Page 2 (Vegetation, 5 Strata)'!CG$4:CG$15,0)),'Page 2 (Vegetation, 5 Strata)'!CD15<0.2),\"No\",\"Yes\"),\"No\"),\"\")","v":""},{"$nulls":5},{"$f":"IF('Page 2 (Vegetation, 5 Strata)'!CI15=0,\"\",'Page 2 (Vegetation, 5 Strata)'!CI15)","v":""}]
[null,"",{"$nulls":42},"Shrub - Woody Plants, excluding woody vines, approximately 3 to 20 ft (1 to 6 m) in height."]
[{"$nulls":25},{"$f":"IFERROR('Page 2 (Vegetation, 5 Strata)'!Z11,\"\")","v":""},{"$nulls":4},"=Total Cover",{"$nulls":33},"Page 1"]
[{"$nulls":13},"50% of total cover:",{"$nulls":8},{"$f":"IFERROR('Page 2 (Vegetation, 5 Strata)'!W12,\"\")","v":""},{"$nulls":5},"20% of total cover:",{"$nulls":8},{"$f":"IFERROR('Page 2 (Vegetation, 5 Strata)'!AL12,\"\")","v":""},{"$nulls":26},{"$f":"ISBLANK('Page 1 (Hydrology)'!$AI$3)","v":true}]
[null,"Sapling Stratum",{"$nulls":42},"Herb – All herbaceous (non-woody) plants, including herbaceous vines, regardless of size, and woody plants, except woody vines, less than approximately 3 ft (1 m) in height.",{"$nulls":19},{"$f":"IF('Page 1 (Hydrology)'!$AI$3=\"AR\",IF(ISNA(MATCH('Page 1 (Hydrology)'!$L$6,BM23:BM30,0)),TRUE,FALSE))","v":false}]
[null,"7.",null,"",{"$nulls":27},{"$f":"IF(Z14>0,IF(OR(AND(Z$21<5,Z$11=\"\",Z$30=\"\",Z$44=\"\",Z$52=\"\"),Z$21>=5),IF(AND(ISNA(MATCH(Z14,'Page 2 (Vegetation, 5 Strata)'!CG$17:CG$28,0)),'Page 2 (Vegetation, 5 Strata)'!CD23<0.2),\"No\",\"Yes\"),\"No\"),\"\")","v":""},{"$nulls":5},{"$f":"IF('Page 2 (Vegetation, 5 Strata)'!CI23=0,\"\",'Page 2 (Vegetation, 5 Strata)'!CI23)","v":""},{"$nulls":26},{"$f":"IF('Page 1 (Hydrology)'!$AI$3=\"LA\",IF(ISNA(MATCH('Page 1 (Hydrology)'!$L$6,BM33:BM44,0)),TRUE,FALSE))","v":false}]
[null,"8.",null,"",{"$nulls":27},{"$f":"IF(Z15>0,IF(OR(AND(Z$21<5,Z$11=\"\",Z$30=\"\",Z$44=\"\",Z$52=\"\"),Z$21>=5),IF(AND(ISNA(MATCH(Z15,'Page 2 (Vegetation, 5 Strata)'!CG$17:CG$28,0)),'Page 2 (Vegetation, 5 Strata)'!CD24<0.2),\"No\",\"Yes\"),\"No\"),\"\")","v":""},{"$nulls":5},{"$f":"IF('Page 2 (Vegetation, 5 Strata)'!CI24=0,\"\",'Page 2 (Vegetation, 5 Strata)'!CI24)","v":""},{"$nulls":26},{"$f":"IF('Page 1 (Hydrology)'!$AI$3=\"MS\",IF(ISNA(MATCH('Page 1 (Hydrology)'!$L$6,BM47:BM53,0)),TRUE,FALSE))","v":false}]
[null,"9.",null,"",{"$nulls":27},{"$f":"IF(Z16>0,IF(OR(AND(Z$21<5,Z$11=\"\",Z$30=\"\",Z$44=\"\",Z$52=\"\"),Z$21>=5),IF(AND(ISNA(MATCH(Z16,'Page 2 (Vegetation, 5 Strata)'!CG$17:CG$28,0)),'Page 2 (Vegetation, 5 Strata)'!CD25<0.2),\"No\",\"Yes\"),\"No\"),\"\")","v":""},{"$nulls":5},{"$f":"IF('Page 2 (Vegetation, 5 Strata)'!CI25=0,\"\",'Page 2 (Vegetation, 5 Strata)'!CI25)","v":""},{"$nulls":26},{"$f":"IF('Page 1 (Hydrology)'!$AI$3=\"OK\",IF(ISNA(MATCH('Page 1 (Hydrology)'!$L$6,BM56:BM57,0)),TRUE,FALSE))","v":false}]
[null,"10.",null,"",{"$nulls":27},{"$f":"IF(Z17>0,IF(OR(AND(Z$21<5,Z$11=\"\",Z$30=\"\",Z$44=\"\",Z$52=\"\"),Z$21>=5),IF(AND(ISNA(MATCH(Z17,'Page 2 (Vegetation, 5 Strata)'!CG$17:CG$28,0)),'Page 2 (Vegetation, 5 Strata)'!CD26<0.2),\"No\",\"Yes\"),\"No\"),\"\")","v":""},{"$nulls":5},{"$f":"IF('Page 2 (Vegetation, 5 Strata)'!CI26=0,\"\",'Page 2 (Vegetation, 5 Strata)'!CI26)","v":""},{"$nulls":6},"Woody Vine – All woody vines, regardless of height.",{"$nulls":19},{"$f":"IF('Page 1 (Hydrology)'!$AI$3=\"TN\",IF(ISNA(MATCH('Page 1 (Hydrology)'!$L$6,BM60:BM64,0)),TRUE,FALSE))","v":false}]
[null,"11.",{"$nulls":29},{"$f":"IF(Z18>0,IF(OR(AND(Z$21<5,Z$11=\"\",Z$30=\"\",Z$44=\"\",Z$52=\"\"),Z$21>=5),IF(AND(ISNA(MATCH(Z18,'Page 2 (Vegetation, 5 Strata)'!CG$17:CG$28,0)),'Page 2 (Vegetation, 5 Strata)'!CD27<0.2),\"No\",\"Yes\"),\"No\"),\"\")","v":""},{"$nulls":5},{"$f":"IF('Page 2 (Vegetation, 5 Strata)'!CI27=0,\"\",'Page 2 (Vegetation, 5 Strata)'!CI27)","v":""},{"$nulls":26},{"$f":"IF(AND(OR($BM$12=TRUE,$BM$13=TRUE,$BM$14=TRUE,$BM$15=TRUE,$BM$16=TRUE,$BM$17=TRUE),D4<>\"\"),TRUE,FALSE)","v":false}]
[null,"12.",null,"",{"$nulls":27},{"$f":"IF(Z19>0,IF(OR(AND(Z$21<5,Z$11=\"\",Z$30=\"\",Z$44=\"\",Z$52=\"\"),Z$21>=5),IF(AND(ISNA(MATCH(Z19,'Page 2 (Vegetation, 5 Strata)'!CG$17:CG$28,0)),'Page 2 (Vegetation, 5 Strata)'!CD28<0.2),\"No\",\"Yes\"),\"No\"),\"\")","v":""},{"$nulls":5},{"$f":"IF('Page 2 (Vegetation, 5 Strata)'!CI28=0,\"\",'Page 2 (Vegetation, 5 Strata)'!CI28)","v":""}]
[]
[{"$nulls":25},{"$f":"IFERROR('Page 2 (Vegetation, 5 Strata)'!Z21,\"\")","v":""},{"$nulls":4},"=Total Cover",{"$nulls":33},"Conditional Formatting Indicator Status"]
[{"$nulls":13},"50% of total cover:",{"$nulls":8},{"$f":"IFERROR('Page 2 (Vegetation, 5 Strata)'!W22,\"\")","v":""},{"$nulls":5},"20% of total cover:",{"$nulls":8},{"$f":"IFERROR('Page 2 (Vegetation, 5 Strata)'!AL22,\"\")","v":""},{"$nulls":26},"AR"]
[null,"Shrub Stratum",{"$nulls":62},"LRR O"]
[null,"7.",null,"",{"$nulls":27},{"$f":"IF(Z24>0,IF(OR(AND(Z$30<5,Z$11=\"\",Z$21=\"\",Z$44=\"\",Z$52=\"\"),Z$30>=5),IF(AND(ISNA(MATCH(Z24,'Page 2 (Vegetation, 5 Strata)'!CG$31:CG$41,0)),'Page 2 (Vegetation, 5 Strata)'!CD36<0.2),\"No\",\"Yes\"),\"No\"),\"\")","v":""},{"$nulls":5},{"$f":"IF('Page 2 (Vegetation, 5 Strata)'!CI36=0,\"\",'Page 2 (Vegetation, 5 Strata)'!CI36)","v":""},{"$nulls":26},"LRR O, MLRA 131A"]
[null,"8.",null,"",{"$nulls":27},{"$f":"IF(Z25>0,IF(OR(AND(Z$30<5,Z$11=\"\",Z$21=\"\",Z$44=\"\",Z$52=\"\"),Z$30>=5),IF(AND(ISNA(MATCH(Z25,'Page 2 (Vegetation, 5 Strata)'!CG$31:CG$41,0)),'Page 2 (Vegetation, 5 Strata)'!CD37<0.2),\"No\",\"Yes\"),\"No\"),\"\")","v":""},{"$nulls":5},{"$f":"IF('Page 2 (Vegetation, 5 Strata)'!CI37=0,\"\",'Page 2 (Vegetation, 5 Strata)'!CI37)","v":""},{"$nulls":26},"LRR O, MLRA 131B"]
[null,"9.",null,"",{"$nulls":27},{"$f":"IF(Z26>0,IF(OR(AND(Z$30<5,Z$11=\"\",Z$21=\"\",Z$44=\"\",Z$52=\"\"),Z$30>=5),IF(AND(ISNA(MATCH(Z26,'Page 2 (Vegetation, 5 Strata)'!CG$31:CG$41,0)),'Page 2 (Vegetation, 5 Strata)'!CD38<0.2),\"No\",\"Yes\"),\"No\"),\"\")","v":""},{"$nulls":5},{"$f":"IF('Page 2 (Vegetation, 5 Strata)'!CI38=0,\"\",'Page 2 (Vegetation, 5 Strata)'!CI38)","v":""},{"$nulls":26},"LRR O, MLRA 131C"]
[null,"10.",null,"",{"$nulls":27},{"$f":"IF(Z27>0,IF(OR(AND(Z$30<5,Z$11=\"\",Z$21=\"\",Z$44=\"\",Z$52=\"\"),Z$30>=5),IF(AND(ISNA(MATCH(Z27,'Page 2 (Vegetation, 5 Strata)'!CG$31:CG$41,0)),'Page 2 (Vegetation, 5 Strata)'!CD39<0.2),\"No\",\"Yes\"),\"No\"),\"\")","v":""},{"$nulls":5},{"$f":"IF('Page 2 (Vegetation, 5 Strata)'!CI39=0,\"\",'Page 2 (Vegetation, 5 Strata)'!CI39)","v":""},{"$nulls":26},"LRR O, MLRA 131D"]
[null,"11.",{"$nulls":29},{"$f":"IF(Z28>0,IF(OR(AND(Z$30<5,Z$11=\"\",Z$21=\"\",Z$44=\"\",Z$52=\"\"),Z$30>=5),IF(AND(ISNA(MATCH(Z28,'Page 2 (Vegetation, 5 Strata)'!CG$31:CG$41,0)),'Page 2 (Vegetation, 5 Strata)'!CD40<0.2),\"No\",\"Yes\"),\"No\"),\"\")","v":""},{"$nulls":5},{"$f":"IF('Page 2 (Vegetation, 5 Strata)'!CI40=0,\"\",'Page 2 (Vegetation, 5 Strata)'!CI40)","v":""},{"$nulls":26},"LRR P, MLRA 133B"]
[null,"12.",null,"",{"$nulls":27},{"$f":"IF(Z29>0,IF(OR(AND(Z$30<5,Z$11=\"\",Z$21=\"\",Z$44=\"\",Z$52=\"\"),Z$30>=5),IF(AND(ISNA(MATCH(Z29,'Page 2 (Vegetation, 5 Strata)'!CG$31:CG$41,0)),'Page 2 (Vegetation, 5 Strata)'!CD41<0.2),\"No\",\"Yes\"),\"No\"),\"\")","v":""},{"$nulls":5},{"$f":"IF('Page 2 (Vegetation, 5 Strata)'!CI41=0,\"\",'Page 2 (Vegetation, 5 Strata)'!CI41)","v":""},{"$nulls":26},"LRR P, MLRA 134"]
[{"$nulls":25},{"$f":"IFERROR('Page 2 (Vegetation, 5 Strata)'!Z30,\"\")","v":""},{"$nulls":4},"=Total Cover",{"$nulls":33},"LRR P, MLRA 135B"]
[{"$nulls":13},"50% of total cover:",{"$nulls":8},{"$f":"IFERROR('Page 2 (Vegetation, 5 Strata)'!W31,\"\")","v":""},{"$nulls":5},"20% of total cover:",{"$nulls":8},{"$f":"IFERROR('Page 2 (Vegetation, 5 Strata)'!AL31,\"\")","v":""}]
[null,"Herb Stratum",{"$nulls":62},"LA"]
[null,"12.",null,"",{"$nulls":27},{"$f":"IF(Z33>0,IF(OR(AND(Z$44<5,Z$11=\"\",Z$21=\"\",Z$30=\"\",Z$52=\"\"),Z$44>=5),IF(AND(ISNA(MATCH(Z33,'Page 2 (Vegetation, 5 Strata)'!CG$43:CG$64,0)),'Page 2 (Vegetation, 5 Strata)'!CD54<0.2),\"No\",\"Yes\"),\"No\"),\"\")","v":""},{"$nulls":5},{"$f":"IF('Page 2 (Vegetation, 5 Strata)'!CI54=0,\"\",'Page 2 (Vegetation, 5 Strata)'!CI54)","v":""},{"$nulls":26},"LRR O"]
[null,"13.",null,"",{"$nulls":27},{"$f":"IF(Z34>0,IF(OR(AND(Z$44<5,Z$11=\"\",Z$21=\"\",Z$30=\"\",Z$52=\"\"),Z$44>=5),IF(AND(ISNA(MATCH(Z34,'Page 2 (Vegetation, 5 Strata)'!CG$43:CG$64,0)),'Page 2 (Vegetation, 5 Strata)'!CD55<0.2),\"No\",\"Yes\"),\"No\"),\"\")","v":""},{"$nulls":5},{"$f":"IF('Page 2 (Vegetation, 5 Strata)'!CI55=0,\"\",'Page 2 (Vegetation, 5 Strata)'!CI55)","v":""},{"$nulls":26},"LRR O, MLRA 131A"]
[null,"14.",{"$nulls":29},{"$f":"IF(Z35>0,IF(OR(AND(Z$44<5,Z$11=\"\",Z$21=\"\",Z$30=\"\",Z$52=\"\"),Z$44>=5),IF(AND(ISNA(MATCH(Z35,'Page 2 (Vegetation, 5 Strata)'!CG$43:CG$64,0)),'Page 2 (Vegetation, 5 Strata)'!CD56<0.2),\"No\",\"Yes\"),\"No\"),\"\")","v":""},{"$nulls":5},{"$f":"IF('Page 2 (Vegetation, 5 Strata)'!CI56=0,\"\",'Page 2 (Vegetation, 5 Strata)'!CI56)","v":""},{"$nulls":26},"LRR O, MLRA 131B"]
[null,"15.",null,"",{"$nulls":27},{"$f":"IF(Z36>0,IF(OR(AND(Z$44<5,Z$11=\"\",Z$21=\"\",Z$30=\"\",Z$52=\"\"),Z$44>=5),IF(AND(ISNA(MATCH(Z36,'Page 2 (Vegetation, 5 Strata)'!CG$43:CG$64,0)),'Page 2 (Vegetation, 5 Strata)'!CD57<0.2),\"No\",\"Yes\"),\"No\"),\"\")","v":""},{"$nulls":5},{"$f":"IF('Page 2 (Vegetation, 5 Strata)'!CI57=0,\"\",'Page 2 (Vegetation, 5 Strata)'!CI57)","v":""},{"$nulls":26},"LRR O, MLRA 131C"]
[null,"16.",null,"",{"$nulls":27},{"$f":"IF(Z37>0,IF(OR(AND(Z$44<5,Z$11=\"\",Z$21=\"\",Z$30=\"\",Z$52=\"\"),Z$44>=5),IF(AND(ISNA(MATCH(Z37,'Page 2 (Vegetation, 5 Strata)'!CG$43:CG$64,0)),'Page 2 (Vegetation, 5 Strata)'!CD58<0.2),\"No\",\"Yes\"),\"No\"),\"\")","v":""},{"$nulls":5},{"$f":"IF('Page 2 (Vegetation, 5 Strata)'!CI58=0,\"\",'Page 2 (Vegetation, 5 Strata)'!CI58)","v":""},{"$nulls":26},"LRR O, MLRA 131D"]
[null,"17.",null,"",{"$nulls":27},{"$f":"IF(Z38>0,IF(OR(AND(Z$44<5,Z$11=\"\",Z$21=\"\",Z$30=\"\",Z$52=\"\"),Z$44>=5),IF(AND(ISNA(MATCH(Z38,'Page 2 (Vegetation, 5 Strata)'!CG$43:CG$64,0)),'Page 2 (Vegetation, 5 Strata)'!CD59<0.2),\"No\",\"Yes\"),\"No\"),\"\")","v":""},{"$nulls":5},{"$f":"IF('Page 2 (Vegetation, 5 Strata)'!CI59=0,\"\",'Page 2 (Vegetation, 5 Strata)'!CI59)","v":""},{"$nulls":26},"LRR P, MLRA 133A"]
[null,"18.",null,"",{"$nulls":27},{"$f":"IF(Z39>0,IF(OR(AND(Z$44<5,Z$11=\"\",Z$21=\"\",Z$30=\"\",Z$52=\"\"),Z$44>=5),IF(AND(ISNA(MATCH(Z39,'Page 2 (Vegetation, 5 Strata)'!CG$43:CG$64,0)),'Page 2 (Vegetation, 5 Strata)'!CD60<0.2),\"No\",\"Yes\"),\"No\"),\"\")","v":""},{"$nulls":5},{"$f":"IF('Page 2 (Vegetation, 5 Strata)'!CI60=0,\"\",'Page 2 (Vegetation, 5 Strata)'!CI60)","v":""},{"$nulls":26},"LRR P, MLRA 133B"]
[null,"19.",null,"",{"$nulls":27},{"$f":"IF(Z40>0,IF(OR(AND(Z$44<5,Z$11=\"\",Z$21=\"\",Z$30=\"\",Z$52=\"\"),Z$44>=5),IF(AND(ISNA(MATCH(Z40,'Page 2 (Vegetation, 5 Strata)'!CG$43:CG$64,0)),'Page 2 (Vegetation, 5 Strata)'!CD61<0.2),\"No\",\"Yes\"),\"No\"),\"\")","v":""},{"$nulls":5},{"$f":"IF('Page 2 (Vegetation, 5 Strata)'!CI61=0,\"\",'Page 2 (Vegetation, 5 Strata)'!CI61)","v":""},{"$nulls":26},"LRR P, MLRA 134"]
[null,"20.",null,"",{"$nulls":27},{"$f":"IF(Z41>0,IF(OR(AND(Z$44<5,Z$11=\"\",Z$21=\"\",Z$30=\"\",Z$52=\"\"),Z$44>=5),IF(AND(ISNA(MATCH(Z41,'Page 2 (Vegetation, 5 Strata)'!CG$43:CG$64,0)),'Page 2 (Vegetation, 5 Strata)'!CD62<0.2),\"No\",\"Yes\"),\"No\"),\"\")","v":""},{"$nulls":5},{"$f":"IF('Page 2 (Vegetation, 5 Strata)'!CI62=0,\"\",'Page 2 (Vegetation, 5 Strata)'!CI62)","v":""},{"$nulls":26},"LRR T, MLRA 150A"]
[null,"21.",null,"",{"$nulls":27},{"$f":"IF(Z42>0,IF(OR(AND(Z$44<5,Z$11=\"\",Z$21=\"\",Z$30=\"\",Z$52=\"\"),Z$44>=5),IF(AND(ISNA(MATCH(Z42,'Page 2 (Vegetation, 5 Strata)'!CG$43:CG$64,0)),'Page 2 (Vegetation, 5 Strata)'!CD63<0.2),\"No\",\"Yes\"),\"No\"),\"\")","v":""},{"$nulls":5},{"$f":"IF('Page 2 (Vegetation, 5 Strata)'!CI63=0,\"\",'Page 2 (Vegetation, 5 Strata)'!CI63)","v":""},{"$nulls":26},"LRR T, MLRA 151"]
[null,"22.",null,"",{"$nulls":27},{"$f":"IF(Z43>0,IF(OR(AND(Z$44<5,Z$11=\"\",Z$21=\"\",Z$30=\"\",Z$52=\"\"),Z$44>=5),IF(AND(ISNA(MATCH(Z43,'Page 2 (Vegetation, 5 Strata)'!CG$43:CG$64,0)),'Page 2 (Vegetation, 5 Strata)'!CD64<0.2),\"No\",\"Yes\"),\"No\"),\"\")","v":""},{"$nulls":5},{"$f":"IF('Page 2 (Vegetation, 5 Strata)'!CI64=0,\"\",'Page 2 (Vegetation, 5 Strata)'!CI64)","v":""},{"$nulls":26},"LRR T, MLRA 152A"]
[{"$nulls":25},{"$f":"IFERROR('Page 2 (Vegetation, 5 Strata)'!Z44,\"\")","v":""},{"$nulls":4},"=Total Cover",{"$nulls":33},"LRR T, MLRA 152B"]
[{"$nulls":13},"50% of total cover:",{"$nulls":8},{"$f":"IFERROR('Page 2 (Vegetation, 5 Strata)'!W45,\"\")","v":""},{"$nulls":5},"20% of total cover:",{"$nulls":8},{"$f":"IFERROR('Page 2 (Vegetation, 5 Strata)'!AL45,\"\")","v":""}]
[null,"Woody Vine Stratum",{"$nulls":62},"MS"]
[null,"6.",null,"",{"$nulls":27},{"$f":"IF(Z47>0,IF(OR(AND(Z$52<5,Z$11=\"\",Z$21=\"\",Z$30=\"\",Z$44=\"\"),Z$52>=5),IF(AND(ISNA(MATCH(Z47,'Page 2 (Vegetation, 5 Strata)'!CG$66:CG$75,0)),'Page 2 (Vegetation, 5 Strata)'!CD71<0.2),\"No\",\"Yes\"),\"No\"),\"\")","v":""},{"$nulls":5},{"$f":"IF('Page 2 (Vegetation, 5 Strata)'!CI71=0,\"\",'Page 2 (Vegetation, 5 Strata)'!CI71)","v":""},{"$nulls":26},"LRR O"]
[null,"7.",{"$nulls":29},{"$f":"IF(Z48>0,IF(OR(AND(Z$52<5,Z$11=\"\",Z$21=\"\",Z$30=\"\",Z$44=\"\"),Z$52>=5),IF(AND(ISNA(MATCH(Z48,'Page 2 (Vegetation, 5 Strata)'!CG$66:CG$75,0)),'Page 2 (Vegetation, 5 Strata)'!CD72<0.2),\"No\",\"Yes\"),\"No\"),\"\")","v":""},{"$nulls":5},{"$f":"IF('Page 2 (Vegetation, 5 Strata)'!CI72=0,\"\",'Page 2 (Vegetation, 5 Strata)'!CI72)","v":""},{"$nulls":26},"LRR O, MLRA 131A"]
[null,"8.",null,"",{"$nulls":27},{"$f":"IF(Z49>0,IF(OR(AND(Z$52<5,Z$11=\"\",Z$21=\"\",Z$30=\"\",Z$44=\"\"),Z$52>=5),IF(AND(ISNA(MATCH(Z49,'Page 2 (Vegetation, 5 Strata)'!CG$66:CG$75,0)),'Page 2 (Vegetation, 5 Strata)'!CD73<0.2),\"No\",\"Yes\"),\"No\"),\"\")","v":""},{"$nulls":5},{"$f":"IF('Page 2 (Vegetation, 5 Strata)'!CI73=0,\"\",'Page 2 (Vegetation, 5 Strata)'!CI73)","v":""},{"$nulls":26},"LRR P, MLRA 133A"]
[null,"9.",{"$nulls":29},{"$f":"IF(Z50>0,IF(OR(AND(Z$52<5,Z$11=\"\",Z$21=\"\",Z$30=\"\",Z$44=\"\"),Z$52>=5),IF(AND(ISNA(MATCH(Z50,'Page 2 (Vegetation, 5 Strata)'!CG$66:CG$75,0)),'Page 2 (Vegetation, 5 Strata)'!CD74<0.2),\"No\",\"Yes\"),\"No\"),\"\")","v":""},{"$nulls":5},{"$f":"IF('Page 2 (Vegetation, 5 Strata)'!CI74=0,\"\",'Page 2 (Vegetation, 5 Strata)'!CI74)","v":""},{"$nulls":26},"LRR P, MLRA 134"]
[null,"10.",null,"",{"$nulls":27},{"$f":"IF(Z51>0,IF(OR(AND(Z$52<5,Z$11=\"\",Z$21=\"\",Z$30=\"\",Z$44=\"\"),Z$52>=5),IF(AND(ISNA(MATCH(Z51,'Page 2 (Vegetation, 5 Strata)'!CG$66:CG$75,0)),'Page 2 (Vegetation, 5 Strata)'!CD75<0.2),\"No\",\"Yes\"),\"No\"),\"\")","v":""},{"$nulls":5},{"$f":"IF('Page 2 (Vegetation, 5 Strata)'!CI75=0,\"\",'Page 2 (Vegetation, 5 Strata)'!CI75)","v":""},{"$nulls":26},"LRR P, MLRA 135A"]
[{"$nulls":25},{"$f":"IFERROR('Page 2 (Vegetation, 5 Strata)'!Z52,\"\")","v":""},{"$nulls":4},"=Total Cover",{"$nulls":33},"LRR T, MLRA 151"]
[{"$nulls":13},"50% of total cover:",{"$nulls":8},{"$f":"IFERROR('Page 2 (Vegetation, 5 Strata)'!W53,\"\")","v":""},{"$nulls":5},"20% of total cover:",{"$nulls":8},{"$f":"IFERROR('Page 2 (Vegetation, 5 Strata)'!AL53,\"\")","v":""},{"$nulls":26},"LRR T, MLRA 152A"]
[]
[null,"Remarks:  (If observed, list morphological adaptations below.)",{"$nulls":62},"OK"]
[{"$nulls":64},"LRR P, MLRA 133B"]
["ENG FORM 6116-2, JUL 2018",{"$nulls":45},"Atlantic and Gulf Coastal Plain – Version 2.0",{"$nulls":17},"LRR P, MLRA 135B"]
[]
[{"$nulls":64},"TN"]
[{"$nulls":64},"LRR O"]
[{"$nulls":64},"LRR O, MLRA 131A"]
[{"$nulls":64},"LRR P, MLRA 133A"]
[{"$nulls":64},"LRR P, MLRA 134"]
[{"$nulls":64},"LRR P, MLRA 135A"]

{"sheet":"Vegetation Continued, 4 Strata","index":5,"n_rows":64,"n_cols":65,"rows_kept":64,"merged":[[0,24,0,51],[0,58,0,62],[1,0,1,63],[2,0,49,0],[2,1,2,24],[2,25,2,29],[2,30,8,30],[2,31,2,35],[2,37,2,41],[2,42,8,42],[2,43,14,43],[2,44,2,63],[3,3,3,23],[3,24,8,24],[3,25,3,29],[3,31,3,35],[3,37,3,41],[3,44,5,63],[4,3,4,23],[4,25,4,29],[4,31,4,35],[4,37,4,41],[5,3,5,23],[5,25,5,29],[5,31,5,35],[5,37,5,41],[6,3,6,23],[6,25,6,29],[6,31,6,35],[6,37,6,41],[6,44,8,63],[7,3,7,23],[7,25,7,29],[7,31,7,35],[7,37,7,41],[8,3,8,23],[8,25,8,29],[8,31,8,35],[8,37,8,41],[9,1,10,2],[9,3,10,23],[9,25,10,29],[9,31,10,35],[9,37,10,41],[9,44,12,63],[10,42,11,42],[11,3,11,23],[11,25,11,29],[11,31,11,35],[11,37,11,41],[12,1,12,24],[12,25,12,29],[12,30,12,42],[13,1,13,12],[13,22,13,26],[13,37,13,41],[13,44,14,63],[14,1,14,42],[15,3,15,23],[15,24,18,24],[15,25,15,29],[15,30,18,30],[15,31,15,35],[15,36,18,36],[15,37,15,41],[15,42,18,42],[15,43,48,63],[16,3,16,23],[16,25,16,29],[16,31,16,35],[16,37,16,41],[17,3,17,23],[17,25,17,29],[17,31,17,35],[17,37,17,41],[18,3,18,23],[18,25,18,29],[18,31,18,35],[18,37,18,41],[19,1,20,2],[19,3,20,23],[19,25,20,29],[19,31,20,35],[19,37,20,41],[20,42,23,42],[21,3,21,23],[21,25,21,29],[21,31,21,35],[21,37,21,41],[22,3,22,23],[22,25,22,29],[22,31,22,35],[22,37,22,41],[23,3,23,23],[23,25,23,29],[23,31,23,35],[23,37,23,41],[24,1,24,24],[24,25,24,29],[24,30,24,42],[25,1,25,12],[25,22,25,26],[25,37,25,41],[26,1,26,42],[27,3,27,23],[27,24,38,24],[27,25,27,29],[27,30,38,30],[27,31,27,35],[27,36,38,36],[27,37,27,41],[27,42,38,42],[28,3,28,23],[28,25,28,29],[28,31,28,35],[28,37,28,41],[29,3,29,23],[29,25,29,29],[29,31,29,35],[29,37,29,41],[30,3,30,23],[30,25,30,29],[30,31,30,35],[30,37,30,41],[31,3,31,23],[31,25,31,29],[31,31,31,35],[31,37,31,41],[32,3,32,23],[32,25,32,29],[32,31,32,35],[32,37,32,41],[33,3,33,23],[33,25,33,29],[33,31,33,35],[33,37,33,41],[34,3,34,23],[34,25,34,29],[34,31,34,35],[34,37,34,41],[35,3,35,23],[35,25,35,29],[35,31,35,35],[35,37,35,41],[36,3,36,23],[36,25,36,29],[36,31,36,35],[36,37,36,41],[37,3,37,23],[37,25,37,29],[37,31,37,35],[37,37,37,41],[38,3,38,23],[38,25,38,29],[38,31,38,35],[38,37,38,41],[39,1,39,24],[39,25,39,29],[39,30,39,42],[40,1,40,12],[40,22,40,26],[40,37,40,41],[41,1,41,42],[42,3,42,23],[42,24,46,24],[42,25,42,29],[42,30,46,30],[42,31,42,35],[42,36,46,36],[42,37,42,41],[42,42,46,42],[43,3,43,23],[43,25,43,29],[43,31,43,35],[43,37,43,41],[44,3,44,23],[44,25,44,29],[44,31,44,35],[44,37,44,41],[45,3,45,23],[45,25,45,29],[45,31,45,35],[45,37,45,41],[46,3,46,23],[46,25,46,29],[46,31,46,35],[46,37,46,41],[47,1,47,24],[47,25,47,29],[47,30,47,42],[48,1,48,12],[48,22,48,26],[48,37,48,41],[49,1,49,42],[49,43,49,63],[50,0,55,0],[50,1,50,63],[51,1,55,63]]}
["VEGETATION Continued (Four Strata)",{"$nulls":23},"– Use scientific names of plants.",{"$nulls":27},"Sampling Point:",{"$nulls":5},{"$f":"IF('Page 1 (Hydrology)'!AP3=0,\"\",'Page 1 (Hydrology)'!AP3)","v":""}]
[]
[null,"Tree Stratum",{"$nulls":23},"Absolute % Cover",{"$nulls":5},"Dominant Species?",{"$nulls":5},"Indicator Status",{"$nulls":6},"Definitions of Four Vegetation Strata:",{"$nulls":19},"Indicators"]
[null,"9.",null,"",{"$nulls":27},{"$f":"IF(Z4>0,IF(OR(AND(Z$13<5,Z$25=\"\",Z$40=\"\",Z$48=\"\"),Z$13>=5),IF(AND(ISNA(MATCH(Z4,'Page 2 (Vegetation, 4 Strata)'!CG$4:CG$19,0)),'Page 2 (Vegetation, 4 Strata)'!CD12<0.2),\"No\",\"Yes\"),\"No\"),\"\")","v":""},{"$nulls":5},{"$f":"IF('Page 2 (Vegetation, 4 Strata)'!CI12=0,\"\",'Page 2 (Vegetation, 4 Strata)'!CI12)","v":""},{"$nulls":6},"Tree – Woody plants, excluding vines, 3 in. (7.6 cm) or more in diameter at breast height (DBH), regardless of height.",{"$nulls":19},"OBL"]
[null,"10.",null,"",{"$nulls":27},{"$f":"IF(Z5>0,IF(OR(AND(Z$13<5,Z$25=\"\",Z$40=\"\",Z$48=\"\"),Z$13>=5),IF(AND(ISNA(MATCH(Z5,'Page 2 (Vegetation, 4 Strata)'!CG$4:CG$19,0)),'Page 2 (Vegetation, 4 Strata)'!CD13<0.2),\"No\",\"Yes\"),\"No\"),\"\")","v":""},{"$nulls":5},{"$f":"IF('Page 2 (Vegetation, 4 Strata)'!CI13=0,\"\",'Page 2 (Vegetation, 4 Strata)'!CI13)","v":""},{"$nulls":26},"FACW"]
[null,"11.",null,"",{"$nulls":27},{"$f":"IF(Z6>0,IF(OR(AND(Z$13<5,Z$25=\"\",Z$40=\"\",Z$48=\"\"),Z$13>=5),IF(AND(ISNA(MATCH(Z6,'Page 2 (Vegetation, 4 Strata)'!CG$4:CG$19,0)),'Page 2 (Vegetation, 4 Strata)'!CD14<0.2),\"No\",\"Yes\"),\"No\"),\"\")","v":""},{"$nulls":5},{"$f":"IF('Page 2 (Vegetation, 4 Strata)'!CI14=0,\"\",'Page 2 (Vegetation, 4 Strata)'!CI14)","v":""},{"$nulls":26},"FAC"]
[null,"12.",null,"",{"$nulls":27},{"$f":"IF(Z7>0,IF(OR(AND(Z$13<5,Z$25=\"\",Z$40=\"\",Z$48=\"\"),Z$13>=5),IF(AND(ISNA(MATCH(Z7,'Page 2 (Vegetation, 4 Strata)'!CG$4:CG$19,0)),'Page 2 (Vegetation, 4 Strata)'!CD15<0.2),\"No\",\"Yes\"),\"No\"),\"\")","v":""},{"$nulls":5},{"$f":"IF('Page 2 (Vegetation, 4 Strata)'!CI15=0,\"\",'Page 2 (Vegetation, 4 Strata)'!CI15)","v":""},{"$nulls":6},"Sapling/Shrub – Woody plants, excluding vines, less than 3 in. DBH and greater than 3.28 ft (1 m) tall.",{"$nulls":19},"FACU"]
[null,"13.",null,"",{"$nulls":27},{"$f":"IF(Z8>0,IF(OR(AND(Z$13<5,Z$25=\"\",Z$40=\"\",Z$48=\"\"),Z$13>=5),IF(AND(ISNA(MATCH(Z8,'Page 2 (Vegetation, 4 Strata)'!CG$4:CG$19,0)),'Page 2 (Vegetation, 4 Strata)'!CD16<0.2),\"No\",\"Yes\"),\"No\"),\"\")","v":""},{"$nulls":5},{"$f":"IF('Page 2 (Vegetation, 4 Strata)'!CI16=0,\"\",'Page 2 (Vegetation, 4 Strata)'!CI16)","v":""},{"$nulls":26},"UPL"]
[null,"14.",null,"",{"$nulls":27},{"$f":"IF(Z9>0,IF(OR(AND(Z$13<5,Z$25=\"\",Z$40=\"\",Z$48=\"\"),Z$13>=5),IF(AND(ISNA(MATCH(Z9,'Page 2 (Vegetation, 4 Strata)'!CG$4:CG$19,0)),'Page 2 (Vegetation, 4 Strata)'!CD17<0.2),\"No\",\"Yes\"),\"No\"),\"\")","v":""},{"$nulls":5},{"$f":"IF('Page 2 (Vegetation, 4 Strata)'!CI17=0,\"\",'Page 2 (Vegetation, 4 Strata)'!CI17)","v":""}]
[null,"15.",null,"",{"$nulls":27},{"$f":"IF(Z10>0,IF(OR(AND(Z$13<5,Z$25=\"\",Z$40=\"\",Z$48=\"\"),Z$13>=5),IF(AND(ISNA(MATCH(Z10,'Page 2 (Vegetation, 4 Strata)'!CG$4:CG$19,0)),'Page 2 (Vegetation, 4 Strata)'!CD18<0.2),\"No\",\"Yes\"),\"No\"),\"\")","v":""},{"$nulls":5},{"$f":"IF('Page 2 (Vegetation, 4 Strata)'!CI18=0,\"\",'Page 2 (Vegetation, 4 Strata)'!CI18)","v":""},{"$nulls":6},"Herb – All herbaceous (non-woody) plants, regardless of size, and woody plants less than 3.28 ft tall."]
[{"$nulls":64},"Page 1"]
[null,"16.",null,"",{"$nulls":27},{"$f":"IF(Z12>0,IF(OR(AND(Z$13<5,Z$25=\"\",Z$40=\"\",Z$48=\"\"),Z$13>=5),IF(AND(ISNA(MATCH(Z12,'Page 2 (Vegetation, 4 Strata)'!CG$4:CG$19,0)),'Page 2 (Vegetation, 4 Strata)'!CD19<0.2),\"No\",\"Yes\"),\"No\"),\"\")","v":""},{"$nulls":5},{"$f":"IF('Page 2 (Vegetation, 4 Strata)'!CI19=0,\"\",'Page 2 (Vegetation, 4 Strata)'!CI19)","v":""},{"$nulls":26},{"$f":"ISBLANK('Page 1 (Hydrology)'!AI3)","v":true}]
[{"$nulls":25},{"$f":"IFERROR('Page 2 (Vegetation, 4 Strata)'!Z13,\"\")","v":""},{"$nulls":4},"=Total Cover",{"$nulls":33},{"$f":"IF('Page 1 (Hydrology)'!$AI$3=\"AR\",IF(ISNA(MATCH('Page 1 (Hydrology)'!$L$6,BM23:BM30,0)),TRUE,FALSE))","v":false}]
[{"$nulls":13},"50% of total cover:",{"$nulls":8},{"$f":"IFERROR('Page 2 (Vegetation, 4 Strata)'!W14,\"\")","v":""},{"$nulls":5},"20% of total cover:",{"$nulls":8},{"$f":"IFERROR('Page 2 (Vegetation, 4 Strata)'!AL14,\"\")","v":""},{"$nulls":6},"Woody Vine – All woody vines greater than 3.28 ft in height.",{"$nulls":19},{"$f":"IF('Page 1 (Hydrology)'!$AI$3=\"LA\",IF(ISNA(MATCH('Page 1 (Hydrology)'!$L$6,BM33:BM44,0)),TRUE,FALSE))","v":false}]
[null,"Sapling/Shrub Stratum",{"$nulls":62},{"$f":"IF('Page 1 (Hydrology)'!$AI$3=\"MS\",IF(ISNA(MATCH('Page 1 (Hydrology)'!$L$6,BM47:BM53,0)),TRUE,FALSE))","v":false}]
[null,"9.",{"$nulls":29},{"$f":"IF(Z16>0,IF(OR(AND(Z$25<5,Z$13=\"\",Z$40=\"\",Z$48=\"\"),Z$25>=5),IF(AND(ISNA(MATCH(Z16,'Page 2 (Vegetation, 4 Strata)'!CG$21:CG$36,0)),'Page 2 (Vegetation, 4 Strata)'!CD29<0.2),\"No\",\"Yes\"),\"No\"),\"\")","v":""},{"$nulls":5},{"$f":"IF('Page 2 (Vegetation, 4 Strata)'!CI29=0,\"\",'Page 2 (Vegetation, 4 Strata)'!CI29)","v":""},{"$nulls":26},{"$f":"IF('Page 1 (Hydrology)'!$AI$3=\"OK\",IF(ISNA(MATCH('Page 1 (Hydrology)'!$L$6,BM56:BM57,0)),TRUE,FALSE))","v":false}]
[null,"10.",null,"",{"$nulls":27},{"$f":"IF(Z17>0,IF(OR(AND(Z$25<5,Z$13=\"\",Z$40=\"\",Z$48=\"\"),Z$25>=5),IF(AND(ISNA(MATCH(Z17,'Page 2 (Vegetation, 4 Strata)'!CG$21:CG$36,0)),'Page 2 (Vegetation, 4 Strata)'!CD30<0.2),\"No\",\"Yes\"),\"No\"),\"\")","v":""},{"$nulls":5},{"$f":"IF('Page 2 (Vegetation, 4 Strata)'!CI30=0,\"\",'Page 2 (Vegetation, 4 Strata)'!CI30)","v":""},{"$nulls":26},{"$f":"IF('Page 1 (Hydrology)'!$AI$3=\"TN\",IF(ISNA(MATCH('Page 1 (Hydrology)'!$L$6,BM60:BM64,0)),TRUE,FALSE))","v":false}]
[null,"11.",null,"",{"$nulls":27},{"$f":"IF(Z18>0,IF(OR(AND(Z$25<5,Z$13=\"\",Z$40=\"\",Z$48=\"\"),Z$25>=5),IF(AND(ISNA(MATCH(Z18,'Page 2 (Vegetation, 4 Strata)'!CG$21:CG$36,0)),'Page 2 (Vegetation, 4 Strata)'!CD31<0.2),\"No\",\"Yes\"),\"No\"),\"\")","v":""},{"$nulls":5},{"$f":"IF('Page 2 (Vegetation, 4 Strata)'!CI31=0,\"\",'Page 2 (Vegetation, 4 Strata)'!CI31)","v":""},{"$nulls":26},{"$f":"IF(AND(OR($BM$12=TRUE,$BM$13=TRUE,$BM$14=TRUE,$BM$15=TRUE,$BM$16=TRUE,$BM$17=TRUE),D4<>\"\"),TRUE,FALSE)","v":false}]
[null,"12.",null,"",{"$nulls":27},{"$f":"IF(Z19>0,IF(OR(AND(Z$25<5,Z$13=\"\",Z$40=\"\",Z$48=\"\"),Z$25>=5),IF(AND(ISNA(MATCH(Z19,'Page 2 (Vegetation, 4 Strata)'!CG$21:CG$36,0)),'Page 2 (Vegetation, 4 Strata)'!CD32<0.2),\"No\",\"Yes\"),\"No\"),\"\")","v":""},{"$nulls":5},{"$f":"IF('Page 2 (Vegetation, 4 Strata)'!CI32=0,\"\",'Page 2 (Vegetation, 4 Strata)'!CI32)","v":""}]
[null,"13.",{"$nulls":29},{"$f":"IF(Z20>0,IF(OR(AND(Z$25<5,Z$13=\"\",Z$40=\"\",Z$48=\"\"),Z$25>=5),IF(AND(ISNA(MATCH(Z20,'Page 2 (Vegetation, 4 Strata)'!CG$21:CG$36,0)),'Page 2 (Vegetation, 4 Strata)'!CD33<0.2),\"No\",\"Yes\"),\"No\"),\"\")","v":""},{"$nulls":5},{"$f":"IF('Page 2 (Vegetation, 4 Strata)'!CI33=0,\"\",'Page 2 (Vegetation, 4 Strata)'!CI33)","v":""}]
[{"$nulls":64},"Conditional Formatting Indicator Status"]
[null,"14.",null,"",{"$nulls":27},{"$f":"IF(Z22>0,IF(OR(AND(Z$25<5,Z$13=\"\",Z$40=\"\",Z$48=\"\"),Z$25>=5),IF(AND(ISNA(MATCH(Z22,'Page 2 (Vegetation, 4 Strata)'!CG$21:CG$36,0)),'Page 2 (Vegetation, 4 Strata)'!CD34<0.2),\"No\",\"Yes\"),\"No\"),\"\")","v":""},{"$nulls":5},{"$f":"IF('Page 2 (Vegetation, 4 Strata)'!CI34=0,\"\",'Page 2 (Vegetation, 4 Strata)'!CI34)","v":""},{"$nulls":26},"AR"]
[null,"15.",null,"",{"$nulls":27},{"$f":"IF(Z23>0,IF(OR(AND(Z$25<5,Z$13=\"\",Z$40=\"\",Z$48=\"\"),Z$25>=5),IF(AND(ISNA(MATCH(Z23,'Page 2 (Vegetation, 4 Strata)'!CG$21:CG$36,0)),'Page 2 (Vegetation, 4 Strata)'!CD35<0.2),\"No\",\"Yes\"),\"No\"),\"\")","v":""},{"$nulls":5},{"$f":"IF('Page 2 (Vegetation, 4 Strata)'!CI35=0,\"\",'Page 2 (Vegetation, 4 Strata)'!CI35)","v":""},{"$nulls":26},"LRR O"]
[null,"16.",null,"",{"$nulls":27},{"$f":"IF(Z24>0,IF(OR(AND(Z$25<5,Z$13=\"\",Z$40=\"\",Z$48=\"\"),Z$25>=5),IF(AND(ISNA(MATCH(Z24,'Page 2 (Vegetation, 4 Strata)'!CG$21:CG$36,0)),'Page 2 (Vegetation, 4 Strata)'!CD36<0.2),\"No\",\"Yes\"),\"No\"),\"\")","v":""},{"$nulls":5},{"$f":"IF('Page 2 (Vegetation, 4 Strata)'!CI36=0,\"\",'Page 2 (Vegetation, 4 Strata)'!CI36)","v":""},{"$nulls":26},"LRR O, MLRA 131A"]
[{"$nulls":25},{"$f":"IFERROR('Page 2 (Vegetation, 4 Strata)'!Z25,\"\")","v":""},{"$nulls":4},"=Total Cover",{"$nulls":33},"LRR O, MLRA 131B"]
[{"$nulls":13},"50% of total cover:",{"$nulls":8},{"$f":"IFERROR('Page 2 (Vegetation, 4 Strata)'!W26,\"\")","v":""},{"$nulls":5},"20% of total cover:",{"$nulls":8},{"$f":"IFERROR('Page 2 (Vegetation, 4 Strata)'!AL26,\"\")","v":""},{"$nulls":26},"LRR O, MLRA 131C"]
[null,"Herb Stratum",{"$nulls":62},"LRR O, MLRA 131D"]
[null,"13.",null,"",{"$nulls":27},{"$f":"IF(Z28>0,IF(OR(AND(Z$40<5,Z$13=\"\",Z$25=\"\",Z$48=\"\"),Z$40>=5),IF(AND(ISNA(MATCH(Z28,'Page 2 (Vegetation, 4 Strata)'!CG$38:CG$61,0)),'Page 2 (Vegetation, 4 Strata)'!CD50<0.2),\"No\",\"Yes\"),\"No\"),\"\")","v":""},{"$nulls":5},{"$f":"IF('Page 2 (Vegetation, 4 Strata)'!CI50=0,\"\",'Page 2 (Vegetation, 4 Strata)'!CI50)","v":""},{"$nulls":26},"LRR P, MLRA 133B"]
[null,"14.",null,"",{"$nulls":27},{"$f":"IF(Z29>0,IF(OR(AND(Z$40<5,Z$13=\"\",Z$25=\"\",Z$48=\"\"),Z$40>=5),IF(AND(ISNA(MATCH(Z29,'Page 2 (Vegetation, 4 Strata)'!CG$38:CG$61,0)),'Page 2 (Vegetation, 4 Strata)'!CD51<0.2),\"No\",\"Yes\"),\"No\"),\"\")","v":""},{"$nulls":5},{"$f":"IF('Page 2 (Vegetation, 4 Strata)'!CI51=0,\"\",'Page 2 (Vegetation, 4 Strata)'!CI51)","v":""},{"$nulls":26},"LRR P, MLRA 134"]
[null,"15.",{"$nulls":29},{"$f":"IF(Z30>0,IF(OR(AND(Z$40<5,Z$13=\"\",Z$25=\"\",Z$48=\"\"),Z$40>=5),IF(AND(ISNA(MATCH(Z30,'Page 2 (Vegetation, 4 Strata)'!CG$38:CG$61,0)),'Page 2 (Vegetation, 4 Strata)'!CD52<0.2),\"No\",\"Yes\"),\"No\"),\"\")","v":""},{"$nulls":5},{"$f":"IF('Page 2 (Vegetation, 4 Strata)'!CI52=0,\"\",'Page 2 (Vegetation, 4 Strata)'!CI52)","v":""},{"$nulls":26},"LRR P, MLRA 135B"]
[null,"16.",{"$nulls":29},{"$f":"IF(Z31>0,IF(OR(AND(Z$40<5,Z$13=\"\",Z$25=\"\",Z$48=\"\"),Z$40>=5),IF(AND(ISNA(MATCH(Z31,'Page 2 (Vegetation, 4 Strata)'!CG$38:CG$61,0)),'Page 2 (Vegetation, 4 Strata)'!CD53<0.2),\"No\",\"Yes\"),\"No\"),\"\")","v":""},{"$nulls":5},{"$f":"IF('Page 2 (Vegetation, 4 Strata)'!CI53=0,\"\",'Page 2 (Vegetation, 4 Strata)'!CI53)","v":""}]
[null,"17.",null,"",{"$nulls":27},{"$f":"IF(Z32>0,IF(OR(AND(Z$40<5,Z$13=\"\",Z$25=\"\",Z$48=\"\"),Z$40>=5),IF(AND(ISNA(MATCH(Z32,'Page 2 (Vegetation, 4 Strata)'!CG$38:CG$61,0)),'Page 2 (Vegetation, 4 Strata)'!CD54<0.2),\"No\",\"Yes\"),\"No\"),\"\")","v":""},{"$nulls":5},{"$f":"IF('Page 2 (Vegetation, 4 Strata)'!CI54=0,\"\",'Page 2 (Vegetation, 4 Strata)'!CI54)","v":""},{"$nulls":26},"LA"]
[null,"18.",null,"",{"$nulls":27},{"$f":"IF(Z33>0,IF(OR(AND(Z$40<5,Z$13=\"\",Z$25=\"\",Z$48=\"\"),Z$40>=5),IF(AND(ISNA(MATCH(Z33,'Page 2 (Vegetation, 4 Strata)'!CG$38:CG$61,0)),'Page 2 (Vegetation, 4 Strata)'!CD55<0.2),\"No\",\"Yes\"),\"No\"),\"\")","v":""},{"$nulls":5},{"$f":"IF('Page 2 (Vegetation, 4 Strata)'!CI55=0,\"\",'Page 2 (Vegetation, 4 Strata)'!CI55)","v":""},{"$nulls":26},"LRR O"]
[null,"19.",null,"",{"$nulls":27},{"$f":"IF(Z34>0,IF(OR(AND(Z$40<5,Z$13=\"\",Z$25=\"\",Z$48=\"\"),Z$40>=5),IF(AND(ISNA(MATCH(Z34,'Page 2 (Vegetation, 4 Strata)'!CG$38:CG$61,0)),'Page 2 (Vegetation, 4 Strata)'!CD56<0.2),\"No\",\"Yes\"),\"No\"),\"\")","v":""},{"$nulls":5},{"$f":"IF('Page 2 (Vegetation, 4 Strata)'!CI56=0,\"\",'Page 2 (Vegetation, 4 Strata)'!CI56)","v":""},{"$nulls":26},"LRR O, MLRA 131A"]
[null,"20.",null,"",{"$nulls":27},{"$f":"IF(Z35>0,IF(OR(AND(Z$40<5,Z$13=\"\",Z$25=\"\",Z$48=\"\"),Z$40>=5),IF(AND(ISNA(MATCH(Z35,'Page 2 (Vegetation, 4 Strata)'!CG$38:CG$61,0)),'Page 2 (Vegetation, 4 Strata)'!CD57<0.2),\"No\",\"Yes\"),\"No\"),\"\")","v":""},{"$nulls":5},{"$f":"IF('Page 2 (Vegetation, 4 Strata)'!CI57=0,\"\",'Page 2 (Vegetation, 4 Strata)'!CI57)","v":""},{"$nulls":26},"LRR O, MLRA 131B"]
[null,"21.",null,"",{"$nulls":27},{"$f":"IF(Z36>0,IF(OR(AND(Z$40<5,Z$13=\"\",Z$25=\"\",Z$48=\"\"),Z$40>=5),IF(AND(ISNA(MATCH(Z36,'Page 2 (Vegetation, 4 Strata)'!CG$38:CG$61,0)),'Page 2 (Vegetation, 4 Strata)'!CD58<0.2),\"No\",\"Yes\"),\"No\"),\"\")","v":""},{"$nulls":5},{"$f":"IF('Page 2 (Vegetation, 4 Strata)'!CI58=0,\"\",'Page 2 (Vegetation, 4 Strata)'!CI58)","v":""},{"$nulls":26},"LRR O, MLRA 131C"]
[null,"22.",{"$nulls":29},{"$f":"IF(Z37>0,IF(OR(AND(Z$40<5,Z$13=\"\",Z$25=\"\",Z$48=\"\"),Z$40>=5),IF(AND(ISNA(MATCH(Z37,'Page 2 (Vegetation, 4 Strata)'!CG$38:CG$61,0)),'Page 2 (Vegetation, 4 Strata)'!CD59<0.2),\"No\",\"Yes\"),\"No\"),\"\")","v":""},{"$nulls":5},{"$f":"IF('Page 2 (Vegetation, 4 Strata)'!CI59=0,\"\",'Page 2 (Vegetation, 4 Strata)'!CI59)","v":""},{"$nulls":26},"LRR O, MLRA 131D"]
[null,"23.",null,"",{"$nulls":27},{"$f":"IF(Z38>0,IF(OR(AND(Z$40<5,Z$13=\"\",Z$25=\"\",Z$48=\"\"),Z$40>=5),IF(AND(ISNA(MATCH(Z38,'Page 2 (Vegetation, 4 Strata)'!CG$38:CG$61,0)),'Page 2 (Vegetation, 4 Strata)'!CD60<0.2),\"No\",\"Yes\"),\"No\"),\"\")","v":""},{"$nulls":5},{"$f":"IF('Page 2 (Vegetation, 4 Strata)'!CI60=0,\"\",'Page 2 (Vegetation, 4 Strata)'!CI60)","v":""},{"$nulls":26},"LRR P, MLRA 133A"]
[null,"24.",null,"",{"$nulls":27},{"$f":"IF(Z39>0,IF(OR(AND(Z$40<5,Z$13=\"\",Z$25=\"\",Z$48=\"\"),Z$40>=5),IF(AND(ISNA(MATCH(Z39,'Page 2 (Vegetation, 4 Strata)'!CG$38:CG$61,0)),'Page 2 (Vegetation, 4 Strata)'!CD61<0.2),\"No\",\"Yes\"),\"No\"),\"\")","v":""},{"$nulls":5},{"$f":"IF('Page 2 (Vegetation, 4 Strata)'!CI61=0,\"\",'Page 2 (Vegetation, 4 Strata)'!CI61)","v":""},{"$nulls":26},"LRR P, MLRA 133B"]
[{"$nulls":25},{"$f":"IFERROR('Page 2 (Vegetation, 4 Strata)'!Z40,\"\")","v":""},{"$nulls":4},"=Total Cover",{"$nulls":33},"LRR P, MLRA 134"]
[{"$nulls":13},"50% of total cover:",{"$nulls":8},{"$f":"IFERROR('Page 2 (Vegetation, 4 Strata)'!W41,\"\")","v":""},{"$nulls":5},"20% of total cover:",{"$nulls":8},{"$f":"IFERROR('Page 2 (Vegetation, 4 Strata)'!AL41,\"\")","v":""},{"$nulls":26},"LRR T, MLRA 150A"]
[null,"Woody Vine Stratum",{"$nulls":62},"LRR T, MLRA 151"]
[null,"6.",null,"",{"$nulls":27},{"$f":"IF(Z43>0,IF(OR(AND(Z$48<5,Z$13=\"\",Z$25=\"\",Z$40=\"\"),Z$48>=5),IF(AND(ISNA(MATCH(Z43,'Page 2 (Vegetation, 4 Strata)'!CG$63:CG$72,0)),'Page 2 (Vegetation, 4 Strata)'!CD68<0.2),\"No\",\"Yes\"),\"No\"),\"\")","v":""},{"$nulls":5},{"$f":"IF('Page 2 (Vegetation, 4 Strata)'!CI68=0,\"\",'Page 2 (Vegetation, 4 Strata)'!CI68)","v":""},{"$nulls":26},"LRR T, MLRA 152A"]
[null,"7.",{"$nulls":29},{"$f":"IF(Z44>0,IF(OR(AND(Z$48<5,Z$13=\"\",Z$25=\"\",Z$40=\"\"),Z$48>=5),IF(AND(ISNA(MATCH(Z44,'Page 2 (Vegetation, 4 Strata)'!CG$63:CG$72,0)),'Page 2 (Vegetation, 4 Strata)'!CD69<0.2),\"No\",\"Yes\"),\"No\"),\"\")","v":""},{"$nulls":5},{"$f":"IF('Page 2 (Vegetation, 4 Strata)'!CI69=0,\"\",'Page 2 (Vegetation, 4 Strata)'!CI69)","v":""},{"$nulls":26},"LRR T, MLRA 152B"]
[null,"8.",{"$nulls":29},{"$f":"IF(Z45>0,IF(OR(AND(Z$48<5,Z$13=\"\",Z$25=\"\",Z$40=\"\"),Z$48>=5),IF(AND(ISNA(MATCH(Z45,'Page 2 (Vegetation, 4 Strata)'!CG$63:CG$72,0)),'Page 2 (Vegetation, 4 Strata)'!CD70<0.2),\"No\",\"Yes\"),\"No\"),\"\")","v":""},{"$nulls":5},{"$f":"IF('Page 2 (Vegetation, 4 Strata)'!CI70=0,\"\",'Page 2 (Vegetation, 4 Strata)'!CI70)","v":""}]
[null,"9.",null,"",{"$nulls":27},{"$f":"IF(Z46>0,IF(OR(AND(Z$48<5,Z$13=\"\",Z$25=\"\",Z$40=\"\"),Z$48>=5),IF(AND(ISNA(MATCH(Z46,'Page 2 (Vegetation, 4 Strata)'!CG$63:CG$72,0)),'Page 2 (Vegetation, 4 Strata)'!CD71<0.2),\"No\",\"Yes\"),\"No\"),\"\")","v":""},{"$nulls":5},{"$f":"IF('Page 2 (Vegetation, 4 Strata)'!CI71=0,\"\",'Page 2 (Vegetation, 4 Strata)'!CI71)","v":""},{"$nulls":26},"MS"]
[null,"10.",null,"",{"$nulls":27},{"$f":"IF(Z47>0,IF(OR(AND(Z$48<5,Z$13=\"\",Z$25=\"\",Z$40=\"\"),Z$48>=5),IF(AND(ISNA(MATCH(Z47,'Page 2 (Vegetation, 4 Strata)'!CG$63:CG$72,0)),'Page 2 (Vegetation, 4 Strata)'!CD72<0.2),\"No\",\"Yes\"),\"No\"),\"\")","v":""},{"$nulls":5},{"$f":"IF('Page 2 (Vegetation, 4 Strata)'!CI72=0,\"\",'Page 2 (Vegetation, 4 Strata)'!CI72)","v":""},{"$nulls":26},"LRR O"]
[{"$nulls":25},{"$f":"IFERROR('Page 2 (Vegetation, 4 Strata)'!Z48,\"\")","v":""},{"$nulls":4},"=Total Cover",{"$nulls":33},"LRR O, MLRA 131A"]
[{"$nulls":13},"50% of total cover:",{"$nulls":8},{"$f":"IFERROR('Page 2 (Vegetation, 4 Strata)'!W49,\"\")","v":""},{"$nulls":5},"20% of total cover:",{"$nulls":8},{"$f":"IFERROR('Page 2 (Vegetation, 4 Strata)'!AL49,\"\")","v":""},{"$nulls":26},"LRR P, MLRA 133A"]
[{"$nulls":64},"LRR P, MLRA 134"]
[null,"Remarks:  (If observed, list morphological adaptations below.)",{"$nulls":62},"LRR P, MLRA 135A"]
[{"$nulls":64},"LRR T, MLRA 151"]
[{"$nulls":64},"LRR T, MLRA 152A"]
[]
[{"$nulls":64},"OK"]
[{"$nulls":64},"LRR P, MLRA 133B"]
["ENG FORM 6116-2, JUL 2018",{"$nulls":45},"Atlantic and Gulf Coastal Plain – Version 2.0",{"$nulls":17},"LRR P, MLRA 135B"]
[]
[{"$nulls":64},"TN"]
[{"$nulls":64},"LRR O"]
[{"$nulls":64},"LRR O, MLRA 131A"]
[{"$nulls":64},"LRR P, MLRA 133A"]
[{"$nulls":64},"LRR P, MLRA 134"]
[{"$nulls":64},"LRR P, MLRA 135A"]

{"sheet":"Privacy Act Information","index":6,"n_rows":4,"n_cols":1,"rows_kept":4,"merged":[[0,0,0,9],[1,0,1,9],[2,0,2,9],[3,0,3,9]]}
["AGENCY DISCLOSURE NOTIFICATION"]
["The public reporting burden for this collection of information, OMB Control Number 0710-0024, is estimated to average 30 minutes per response, including the timefor reviewing instructions, searching existing data sources, gathering and maintaining the data needed, and completing and reviewing the collection of information. Send comments regarding the burden estimate or burden reduction suggestions to the Department of Defense, Washington Headquarters Services,at whs.mc-alex.esd.mbx.dd-dod-information-collections@mail.mil. Respondents should be aware that notwithstanding any other provision of law, no person shall be subject to any penalty for failing to comply with a collection of information if it does not display a currently valid OMB control number. PLEASE DO NOT RETURN YOUR REQUEST TO THE ABOVE EMAIL."]
["PRIVACY ACT STATEMENT"]
["Authorities: Rivers and Harbors Act, Section 10, 33 USC 403; Clean Water Act, Section 404, 33 USC 1344; Marine Protection, Research, and Sanctuaries Act, Section 103, 33 USC 1413; Regulatory Programs of the Corps of Engineers; Final Rule 33 CFR 320-332. Principal Purpose: Information provided on this form will be used in evaluating the application for a permit. Routine Uses: This information may be shared with the Department of Justice and other federal, state, and local government agencies, and the public and may be made available as part of a public notice as required by Federal law. Submission of requested information is voluntary, however, if information is not provided the permit application cannot be evaluated nor can a permit be issued. One set of original drawings or good reproducible copies which show the location and character of the proposed activity must be attached to this application (see sample drawings and/or instructions) and be submitted to the District Engineer having jurisdiction over the location of the proposed activity. An application that is not completed in full will be returned. System of Record Notice (SORN). The information received is entered into our permit tracking database and a SORN has been completed (SORN #A1145b) and may be accessed at the following website: http://dpcld.defense.gov/Privacy/SORNsIndex/DOD-wide-SORN-Article-View/Article/570115/a1145b-ce.aspx"]

{"sheet":"Plant List","index":7,"n_rows":44753,"n_cols":3,"rows_kept":4500,"cut":true,"hidden":true,"bounds":{"rows_first":2000,"rows_last":500,"rows_between":2000,"halvings":0}}
["Plant List"]
["Name","AGCP","WGC"]
["Abelia","",""]
[" abelia"]
["Abelia X grandiflora","UPL","UPL"]
[" glossy abelia"]
["Abelmoschus","",""]
[" okra"]
["Abelmoschus esculentus","UPL","UPL"]
[" okra"]
["Abies","",""]
[" fir"]
["Abies alba","UPL","UPL"]
[" silver fir"]
["Abies firma","UPL","UPL"]
[" Momi fir"]
["Abietinella","",""]
[" abietenella moss"]
["Abietinella abietina","UPL","UPL"]
[" abietinella moss"]
["Abildgaardia","",""]
[" sedge"]
["Abildgaardia ovata","FACW","FACW"]
[" Flat-Spike Sedge"]
["Abronia","",""]
[" sand verbena"]
["Abronia ameliae","UPL","UPL"]
[" Amelia's sand verbena"]
["Abronia angustifolia","UPL","UPL"]
[" purple sand verbena"]
["Abronia carletonii","UPL","UPL"]
[" Carleton's sand verbena"]
["Abronia fragrans","UPL","UPL"]
[" snowball sand verbena"]
["Abronia macrocarpa","UPL","UPL"]
[" largefruit sand verbena"]
["Abrus","",""]
[" abrus"]
["Abrus precatorius","UPL","UPL"]
[" Rosary-Pea"]
["Abutilon","",""]
[" Indian mallow"]
["Abutilon abutiloides","UPL","UPL"]
[" shrubby Indian mallow"]
["Abutilon berlandieri","UPL","UPL"]
[" Berlandier's Indian mallow"]
["Abutilon fruticosum","UPL","UPL"]
[" Texas Indian mallow"]
["Abutilon hirtum","UPL","UPL"]
[" Florida Keys Indian mallow"]
["Abutilon hulseanum","UPL","UPL"]
[" mauve"]
["Abutilon hypoleucum","UPL","UPL"]
[" whiteleaf Indian mallow"]
["Abutilon malacum","UPL","UPL"]
[" yellow Indian mallow"]
["Abutilon mollicomum","UPL","UPL"]
[" Sonoran Indian mallow"]
["Abutilon parvulum","UPL","UPL"]
[" dwarf Indian mallow"]
["Abutilon permolle","UPL","UPL"]
[" coastal Indian mallow"]
["Abutilon theophrasti","FACU","FACU"]
[" Velvetleaf"]
["Abutilon trisulcatum","UPL","UPL"]
[" anglestem Indian mallow"]
["Abutilon wrightii","UPL","UPL"]
[" Wright's Indian mallow"]
["Acacia","",""]
[" acacia"]
["Acacia auriculiformis","UPL","UPL"]
[" earleaf acacia"]
["Acacia retinodes","UPL","UPL"]
[" water wattle"]
["Acalypha","",""]
[" copperleaf"]
["Acalypha alopecuroidea","UPL","UPL"]
[" foxtail copperleaf"]
["Acalypha amentacea","FAC","FAC"]
[" Match-Me-If-You-Can"]
["Acalypha arvensis","UPL","UPL"]
[" field copperleaf"]
["Acalypha australis","UPL","UPL"]
[" Asian copperleaf"]
["Acalypha chamaedryfolia","UPL","UPL"]
[" bastard copperleaf"]
["Acalypha deamii","UPL","UPL"]
[" Deam's threeseed mercury"]
["Acalypha gracilens","FAC","FAC"]
[" Slender Three-Seed-Mercury"]
["Acalypha monococca","UPL","UPL"]
[" slender threeseed mercury"]
["Acalypha monostachya","UPL","UPL"]
[" round copperleaf"]
["Acalypha neomexicana","UPL","UPL"]
[" New Mexico copperleaf"]
["Acalypha ostryifolia","UPL","UPL"]
[" pineland threeseed mercury"]
["Acalypha phleoides","UPL","UPL"]
[" shrubby copperleaf"]
["Acalypha poiretii","FACU","FACU"]
[" Poiret's Copperleaf"]
["Acalypha radians","UPL","UPL"]
[" cardinal's feather"]
["Acalypha rhomboidea","FAC","FAC"]
[" Common Three-Seed-Mercury"]
["Acalypha setosa","UPL","UPL"]
[" Cuban copperleaf"]
["Acalypha virginica","FACU","FACU"]
[" Virginia Three-Seed-Mercury"]
["Acanthocereus","",""]
[" triangle cactus"]
["Acanthocereus tetragonus","FAC","FAC"]
[" Triangle Cactus"]
["Acanthospermum","",""]
[" starbur"]
["Acanthospermum australe","UPL","UPL"]
[" Paraguayan starbur"]
["Acanthospermum hispidum","UPL","UPL"]
[" hispid starbur"]
["Acanthospermum humile","UPL","UPL"]
[" low starbur"]
["Acer","",""]
[" maple"]
["Acer campestre","UPL","UPL"]
[" hedge maple"]
["Acer floridanum","UPL","UPL"]
[" southern sugar maple"]
["Acer ginnala","UPL","UPL"]
[" Amur maple"]
["Acer japonicum","UPL","UPL"]
[" Amur maple"]
["Acer leucoderme","UPL","UPL"]
[" chalk maple"]
["Acer negundo","FAC","FAC"]
[" Ash-Leaf Maple"]
["Acer nigrum","UPL","UPL"]
[" Black Maple"]
["Acer palmatum","UPL","UPL"]
[" Japanese maple"]
["Acer pensylvanicum","FACU","FACU"]
[" Striped Maple"]
["Acer platanoides","UPL","UPL"]
[" Norway Maple"]
["Acer pseudoplatanus","UPL","UPL"]
[" sycamore maple"]
["Acer rubrum","FAC","FAC"]
[" Red Maple"]
["Acer saccharinum","FAC","FAC"]
[" Silver Maple"]
["Acer saccharum","FACU","FACU"]
[" Sugar Maple"]
["Acer spicatum","UPL","UPL"]
[" Mountain Maple"]
["Acer X freemanii","UPL","UPL"]
[" Freeman maple"]
["Achillea","",""]
[" yarrow"]
["Achillea millefolium","FACU","FACU"]
[" Common Yarrow"]
["Achillea ptarmica","FACU","FACU"]
[" Pearl Yarrow"]
["Achnatherum","",""]
[" needlegrass"]
["Achnatherum aridum","UPL","UPL"]
[" Mormon needlegrass"]
["Achnatherum clandestinum","UPL","UPL"]
[" Mexican ricegrass"]
["Achnatherum curvifolium","UPL","UPL"]
[" Guadalupe ricegrass"]
["Achnatherum eminens","UPL","UPL"]
[" southwestern needlegrass"]
["Achnatherum lobatum","UPL","UPL"]
[" littleawn needlegrass"]
["Achnatherum perplexum","UPL","UPL"]
[" New Mexico needlegrass"]
["Achnatherum robustum","UPL","UPL"]
[" sleepygrass"]
["Achnatherum scribneri","UPL","UPL"]
[" Scribner needlegrass"]
["Achyranthes","",""]
[" chaff flower"]
["Achyranthes aspera","UPL","UPL"]
[" Devil's-Horsewhip"]
["Achyranthes japonica","UPL","UPL"]
[" Japanese chaff flower"]
["Acicarpha","",""]
[" acicarpha"]
["Acicarpha tribuloides","UPL","UPL"]
[" madam gorgon"]
["Acinos","",""]
[" acinos"]
["Acinos arvensis","UPL","UPL"]
[" basil thyme"]
["Acleisanthes","",""]
[" trumpets"]
["Acleisanthes acutifolia","UPL","UPL"]
[" needletip trumpets"]
["Acleisanthes anisophylla","UPL","UPL"]
[" obliqueleaf trumpets"]
["Acleisanthes crassifolia","UPL","UPL"]
[" Texas trumpets"]
["Acleisanthes longiflora","UPL","UPL"]
[" angel's trumpets"]
["Acleisanthes obtusa","UPL","UPL"]
[" Berlandier's trumpets"]
["Acleisanthes wrightii","UPL","UPL"]
[" Wright's trumpets"]
["Acmella","",""]
[" spotflower"]
["Acmella decumbens","UPL","UPL"]
[" creeping spotflower"]
["Acmella oppositifolia","UPL","UPL"]
[" oppositeleaf spotflower"]
["Acmella pilosa","UPL","UPL"]
[" hairy spotflower"]
["Acmella pusilla","UPL","UPL"]
[" dwarf spotflower"]
["Acmella repens","FACW","FACW"]
[" Opposite-Leaf Spotflower"]
["Acmispon","",""]
[" bird's-foot trefoil"]
["Acmispon americanus","FACU","FACU"]
[" American Deerweed"]
["Acoelorraphe","",""]
[" palm"]
["Acoelorraphe wrightii","UPL","UPL"]
[" Everglades palm"]
["Acoelorrhaphe"]
[" palm"]
["Acoelorrhaphe wrightii","OBL","OBL"]
[" Everglades Palm"]
["Aconitum","",""]
[" monkshood"]
["Aconitum napellus","UPL","UPL"]
[" Venus' chariot"]
["Aconitum uncinatum","FAC","FAC"]
[" Southern Blue Monkshood"]
["Acorus","",""]
[" sweetflag"]
["Acorus americanus","OBL","OBL"]
[" Several-Vein Sweetflag"]
["Acorus calamus","OBL","OBL"]
[" Single-Vein Sweetflag"]
["Acourtia","",""]
[" desertpeony"]
["Acourtia nana","UPL","UPL"]
[" dwarf desertpeony"]
["Acourtia runcinata","UPL","UPL"]
[" featherleaf desertpeony"]
["Acourtia wrightii","UPL","UPL"]
[" brownfoot"]
["Acrocomia","",""]
[" acrocomia"]
["Acrocomia totai","UPL","UPL"]
[" grugru palm"]
["Acroptilon","",""]
[" hardheads"]
["Acroptilon repens","UPL","UPL"]
[" hardheads"]
["Acrostichum","",""]
[" leatherfern"]
["Acrostichum aureum","OBL","OBL"]
[" Golden Leather Fern"]
["Acrostichum danaeifolium","OBL","OBL"]
[" Inland Leather Fern"]
["Actaea","",""]
[" baneberry"]
["Actaea pachypoda","FACU","FACU"]
[" White Baneberry"]
["Actaea racemosa","UPL","UPL"]
[" black baneberry"]
["Actaea rubifolia","UPL","UPL"]
[" Appalachian bugbane"]
["Actaea rubra","UPL","UPL"]
[" Red Baneberry"]
["Actaea spicata","UPL","UPL"]
[" Eurasian baneberry"]
["Actaea X ludovici","UPL","UPL"]
[" baneberry"]
["Actinidia","",""]
[" actinidia"]
["Actinidia arguta","UPL","UPL"]
[" tara vine"]
["Actinidia chinensis","UPL","UPL"]
[" kiwi"]
["Actinostachys"]
[" actinostachys"]
["Actinostachys pennula","FAC","FAC"]
[" Ray Fern"]
["Adelia","",""]
[" wild lime"]
["Adelia vaseyi","UPL","UPL"]
[" Vasey's wild lime"]
["Adenanthera","",""]
[" beadtree"]
["Adenanthera pavonina","UPL","UPL"]
[" Red Beadtree"]
["Adiantum","",""]
[" maidenhair fern"]
["Adiantum aleuticum","FAC","FAC"]
[" Aleutian Maidenhair"]
["Adiantum anceps","UPL","UPL"]
[" double edge maidenhair"]
["Adiantum capillus-veneris","FACU","FACU"]
[" Southern Maidenhair"]
["Adiantum caudatum","UPL","UPL"]
[" tailed maidenhair"]
["Adiantum hispidulum","UPL","UPL"]
[" rough maidenhair"]
["Adiantum melanoleucum","UPL","UPL"]
[" fragrant maidenhair"]
["Adiantum pedatum","FACU","FACU"]
[" Northern Maidenhair"]
["Adiantum tenerum","FAC","FAC"]
[" Brittle Maidenhair"]
["Adiantum trapeziforme","UPL","UPL"]
[" diamond maidenhair"]
["Adiantum villosum","UPL","UPL"]
[" woolly maidenhair"]
["Adlumia","",""]
[" adlumia"]
["Adlumia fungosa","UPL","UPL"]
[" allegheny vine"]
["Adolphia","",""]
[" prickbush"]
["Adolphia infesta","UPL","UPL"]
[" junco"]
["Adonis","",""]
[" pheasant's eye"]
["Adonis aestivalis","UPL","UPL"]
[" summer pheasant's eye"]
["Adonis annua","UPL","UPL"]
[" blooddrops"]
["Aegilops","",""]
[" goatgrass"]
["Aegilops cylindrica","UPL","UPL"]
[" jointed goatgrass"]
["Aegilops geniculata","UPL","UPL"]
[" ovate goatgrass"]
["Aegilops neglecta","UPL","UPL"]
[" three-awned goatgrass"]
["Aegilops triuncialis","UPL","UPL"]
[" barbed goatgrass"]
["Aegiphila","",""]
[" spiritweed"]
["Aegiphila elata","UPL","UPL"]
[" tall spiritweed"]
["Aegopodium","",""]
[" goutweed"]
["Aegopodium podagraria","FACW","FACW"]
[" Bishop's Goutweed"]
["Aeschynomene","",""]
[" jointvetch"]
["Aeschynomene americana","FAC","FAC"]
[" Shyleaf"]
["Aeschynomene histrix","UPL","UPL"]
[" porcupine jointvetch"]
["Aeschynomene indica","FACW","FACW"]
[" Indian Joint-Vetch"]
["Aeschynomene pratensis","OBL","OBL"]
[" Meadow Joint-Vetch"]
["Aeschynomene rudis","UPL","UPL"]
[" zigzag jointvetch"]
["Aeschynomene virginica","OBL","OBL"]
[" Virginia Joint-Vetch"]
["Aeschynomene viscidula","UPL","UPL"]
[" sticky jointvetch"]
["Aesculus","",""]
[" buckeye"]
["Aesculus flava","FACU","FACU"]
[" Yellow Buckeye"]
["Aesculus glabra","FACU","FACU"]
[" Ohio Buckeye"]
["Aesculus hippocastanum","UPL","UPL"]
[" horse chestnut"]
["Aesculus parviflora","UPL","UPL"]
[" bottlebrush buckeye"]
["Aesculus pavia","FACU","FACU"]
[" Red Buckeye"]
["Aesculus sylvatica","FAC","FAC"]
[" Painted Buckeye"]
["Aesculus X bushii","UPL","UPL"]
[" buckeye"]
["Aesculus X carnea","UPL","UPL"]
[" red horse-chestnut"]
["Aesculus X hybrida","UPL","UPL"]
[" buckeye"]
["Aesculus X marylandica","UPL","UPL"]
[" buckeye"]
["Aesculus X mutabilis","UPL","UPL"]
[" buckeye"]
["Aesculus X neglecta","UPL","UPL"]
[" buckeye"]
["Aesculus X worlitzensis","UPL","UPL"]
[" buckeye"]
["Aethusa","",""]
[" aethusa"]
["Aethusa cynapium","UPL","UPL"]
[" fool's parsley"]
["Agalinis","",""]
[" false foxglove"]
["Agalinis acuta","UPL","UPL"]
[" sandplain false foxglove"]
["Agalinis aphylla","FACW","FACW"]
[" Scale-Leaf False Foxglove"]
["Agalinis aspera","FACU","FACU"]
[" Tall False Foxglove"]
["Agalinis auriculata","UPL","UPL"]
[" earleaf false foxglove"]
["Agalinis caddoensis","UPL","UPL"]
[" Caddo false foxglove"]
["Agalinis densiflora","UPL","UPL"]
[" Osage false foxglove"]
["Agalinis divaricata","FACU","FACU"]
[" Pineland False Foxglove"]
["Agalinis edwardsiana","UPL","UPL"]
[" plateau false foxglove"]
["Agalinis fasciculata","FAC","FAC"]
[" Beach False Foxglove"]
["Agalinis filicaulis","FAC","FAC"]
[" Jackson False Foxglove"]
["Agalinis filifolia","FACU","FACU"]
[" Seminole False Foxglove"]
["Agalinis flexicaulis","FACW","FACW"]
[" Hampton False Foxglove"]
["Agalinis gattingeri","UPL","UPL"]
[" roundstem false foxglove"]
["Agalinis georgiana","FAC","FAC"]
[" Georgia False Foxglove"]
["Agalinis harperi","FAC","FAC"]
[" Coastal-Plain False Foxglove"]
["Agalinis heterophylla","FACU","FACU"]
[" Prairie False Foxglove"]
["Agalinis homalantha","UPL","UPL"]
[" San Antonio false foxglove"]
["Agalinis laxa","UPL","UPL"]
[" twoline false foxglove"]
["Agalinis linifolia","OBL","OBL"]
[" Flax-Leaf False Foxglove"]
["Agalinis maritima","OBL","OBL"]
[" Saltmarsh False Foxglove"]
["Agalinis navasotensis","UPL","UPL"]
[" Navasota false foxglove"]
["Agalinis nuttallii","UPL","UPL"]
[" Nuttall's false foxglove"]
["Agalinis obtusifolia","FAC","FAC"]
[" Ten-Lobe False Foxglove"]
["Agalinis oligophylla","FAC","FAC"]
[" Ridge-Stem False Foxglove"]
["Agalinis paupercula","FACW","FACW"]
[" Small-Flower False Foxglove"]
["Agalinis plukenetii","UPL","UPL"]
[" Chattahoochee false foxglove"]
["Agalinis pulchella","FACW","FACW"]
[" St. Mark's False Foxglove"]
["Agalinis purpurea","FACW","FACW"]
[" Purple False Foxglove"]
["Agalinis setacea","UPL","UPL"]
[" threadleaf false foxglove"]
["Agalinis skinneriana","FACU","FACU"]
[" Skinner's False Foxglove"]
["Agalinis strictifolia","UPL","UPL"]
[" stiffleaf false foxglove"]
["Agalinis tenella","OBL","OBL"]
["Agalinis tenuifolia","FACU","FACU"]
[" Slender-Leaf False Foxglove"]
["Agalinis viridis","UPL","UPL"]
[" green false foxglove"]
["Agarista","",""]
[" Florida hobblebush"]
["Agarista populifolia","FACW","FACW"]
[" Florida-Hobblebush"]
["Agastache","",""]
[" giant hyssop"]
["Agastache cana","UPL","UPL"]
[" mosquito plant"]
["Agastache foeniculum","UPL","UPL"]
[" blue giant hyssop"]
["Agastache micrantha","UPL","UPL"]
[" white giant hyssop"]
["Agastache nepetoides","FAC","FAC"]
[" Yellow Giant-Hyssop"]
["Agastache pallidiflora","UPL","UPL"]
[" Bill Williams Mountain giant hyssop"]
["Agastache scrophulariifolia","UPL","UPL"]
[" purple giant hyssop"]
["Agave","",""]
[" agave"]
["Agave americana","UPL","UPL"]
[" American Century-Plant"]
["Agave asperrima","UPL","UPL"]
[" rough century plant"]
["Agave decipiens","UPL","UPL"]
[" false sisal"]
["Agave desmettiana","UPL","UPL"]
[" dwarf century plant"]
["Agave glomeruliflora","UPL","UPL"]
[" Chisos Mountain century plant"]
["Agave gracilipes","UPL","UPL"]
[" slimfoot century plant"]
["Agave havardiana","UPL","UPL"]
[" Havard's century plant"]
["Agave lechuguilla","UPL","UPL"]
[" lechuguilla"]
["Agave neglecta","UPL","UPL"]
[" wild century plant"]
["Agave parryi","UPL","UPL"]
[" Parry's agave"]
["Agave sisalana","UPL","UPL"]
[" Sisal-Hemp"]
["Agave univittata","UPL","UPL"]
[" McKelvey's century plant"]
["Agave weberi","UPL","UPL"]
[" Weber's century plant"]
["Agdestis","",""]
[" agdestis"]
["Agdestis clematidea","UPL","UPL"]
[" rockroot"]
["Ageratina","",""]
[" snakeroot"]
["Ageratina altissima","FACU","FACU"]
[" White Snakeroot"]
["Ageratina aromatica","UPL","UPL"]
[" lesser snakeroot"]
["Ageratina havanensis","UPL","UPL"]
[" Havana snakeroot"]
["Ageratina herbacea","UPL","UPL"]
[" fragrant snakeroot"]
["Ageratina jucunda","FACU","FACU"]
[" Hammock Snakeroot"]
["Ageratina luciae-brauniae","UPL","UPL"]
[" Lucy Braun's snakeroot"]
["Ageratina rothrockii","UPL","UPL"]
[" Rothrock's snakeroot"]
["Ageratina wrightii","UPL","UPL"]
[" Wright's snakeroot"]
["Ageratum","",""]
[" whiteweed"]
["Ageratum conyzoides","FACU","FACU"]
[" Tropical Whiteweed"]
["Ageratum corymbosum","UPL","UPL"]
[" flat-top whiteweed"]
["Ageratum houstonianum","FACU","FACU"]
[" Bluemink"]
["Ageratum littorale","UPL","UPL"]
[" Cape Sable whiteweed"]
["Aglaonema","",""]
[" aglaonema"]
["Aglaonema commutatum","FACU","FACU"]
[" Philippine-Evergreen"]
["Agrimonia","",""]
[" agrimony"]
["Agrimonia eupatoria","UPL","UPL"]
[" churchsteeples"]
["Agrimonia gryposepala","FACU","FACU"]
[" Tall Hairy Grooveburr"]
["Agrimonia incisa","UPL","UPL"]
[" incised agrimony"]
["Agrimonia microcarpa","UPL","UPL"]
[" smallfruit agrimony"]
["Agrimonia parviflora","FAC","FAC"]
[" Harvestlice"]
["Agrimonia pubescens","UPL","UPL"]
[" soft agrimony"]
["Agrimonia rostellata","FAC","FAC"]
[" Beaked Grooveburr"]
["Agrimonia striata","UPL","UPL"]
[" Woodland Grooveburr"]
["Agropyron","",""]
[" wheatgrass"]
["Agropyron cristatum","UPL","UPL"]
[" crested wheatgrass"]
["Agropyron desertorum","UPL","UPL"]
[" desert wheatgrass"]
["Agrostemma","",""]
[" corncockle"]
["Agrostemma githago","UPL","UPL"]
[" common corncockle"]
["Agrostis","",""]
[" bentgrass"]
["Agrostis canina","FACU","FACU"]
[" Velvet Bent"]
["Agrostis capillaris","FAC","FAC"]
[" Colonial Bent"]
["Agrostis elliottiana","FACU","FACU"]
[" Elliott's Bent"]
["Agrostis gigantea","FACW","FACW"]
[" Black Bent"]
["Agrostis hyemalis","FAC","FAC"]
[" Winter Bent"]
["Agrostis mertensii","FACU","FACU"]
[" Northern Bent"]
["Agrostis perennans","FACU","FACU"]
[" Upland Bent"]
["Agrostis scabra","FAC","FAC"]
[" Rough Bent"]
["Agrostis stolonifera","FACW","FACW"]
[" Spreading Bent"]
["Ailanthus","",""]
[" ailanthus"]
["Ailanthus altissima","FACU","FACU"]
[" Tree-of-Heaven"]
["Aira","",""]
[" hairgrass"]
["Aira caryophyllea","FAC","FAC"]
[" Common Silver-Hair Grass"]
["Aira elegans","UPL","UPL"]
[" annual silver hairgrass"]
["Aira praecox","UPL","UPL"]
[" yellow hairgrass"]
["Ajuga","",""]
[" bugle"]
["Ajuga chamaepitys","UPL","UPL"]
[" yellow bugle"]
["Ajuga genevensis","UPL","UPL"]
[" blue bugle"]
["Ajuga pyramidalis","UPL","UPL"]
[" pyramid bugle"]
["Ajuga reptans","UPL","UPL"]
[" common bugle"]
["Akebia","",""]
[" chocolate vine"]
["Akebia quinata","UPL","UPL"]
[" chocolate vine"]
["Albizia","",""]
[" albizia"]
["Albizia julibrissin","UPL","UPL"]
[" silktree"]
["Albizia lebbeck","UPL","UPL"]
[" Woman's-Tongue"]
["Albizia lebbekoides","UPL","UPL"]
[" Indian albizia"]
["Albizia procera","UPL","UPL"]
[" tall albizia"]
["Alcea","",""]
[" hollyhock"]
["Alcea rosea","UPL","UPL"]
[" hollyhock"]
["Aldrovanda","",""]
["Aldrovanda vesiculosa","UPL","UPL"]
[" waterwheel plant"]
["Aletes","",""]
[" Indian parsley"]
["Aletes acaulis","UPL","UPL"]
[" stemless Indian parsley"]
["Aletes filifolius","UPL","UPL"]
[" Trans-Pecos Indian parsley"]
["Aletris","",""]
[" colicroot"]
["Aletris aurea","FACW","FACW"]
[" Golden Colicroot"]
["Aletris bracteata","FACU","FACU"]
[" Bracted Colicroot"]
["Aletris farinosa","FAC","FAC"]
[" White Colicroot"]
["Aletris lutea","FACW","FACW"]
[" Yellow Colicroot"]
["Aletris obovata","FAC","FAC"]
[" Southern Colicroot"]
["Aletris X tottenii","UPL","UPL"]
[" colicroot"]
["Aleurites","",""]
[" aleurites"]
["Aleurites moluccanus","UPL","UPL"]
[" Indian-Walnut"]
["Alhagi","",""]
[" alhagi"]
["Alhagi maurorum","FAC","FAC"]
[" Camelthorn"]
["Alisma","",""]
[" water plantain"]
["Alisma gramineum","OBL","OBL"]
[" Narrow-Leaf Water-Plantain"]
["Alisma subcordatum","OBL","OBL"]
[" American Water-Plantain"]
["Alisma triviale","OBL","OBL"]
[" Northern Water-Plantain"]
["Allamanda","",""]
[" allamanda"]
["Allamanda cathartica","UPL","UPL"]
[" golden trumpet"]
["Alliaria","",""]
[" alliaria"]
["Alliaria petiolata","FACU","FACU"]
[" Garlic-Mustard"]
["Allionia","",""]
[" windmills"]
["Allionia choisyi","UPL","UPL"]
[" annual windmills"]
["Allionia incarnata","UPL","UPL"]
[" trailing windmills"]
["Allium","",""]
[" onion"]
["Allium allegheniense","UPL","UPL"]
[" Allegheny onion"]
["Allium ampeloprasum","UPL","UPL"]
[" broadleaf wild leek"]
["Allium atroviolaceum","UPL","UPL"]
[" broadleaf wild leek"]
["Allium canadense","FACU","FACU"]
[" Meadow Garlic"]
["Allium cepa","UPL","UPL"]
[" garden onion"]
["Allium cernuum","FACU","FACU"]
[" Nodding Onion"]
["Allium coryi","UPL","UPL"]
[" yellowflower onion"]
["Allium cuthbertii","UPL","UPL"]
[" striped garlic"]
["Allium drummondii","UPL","UPL"]
[" Drummond's onion"]
["Allium elmendorfii","UPL","UPL"]
[" Elmendorf's onion"]
["Allium fistulosum","UPL","UPL"]
[" welsh onion"]
["Allium glandulosum","UPL","UPL"]
[" gland onion"]
["Allium kunthii","UPL","UPL"]
[" Kunth's onion"]
["Allium macropetalum","UPL","UPL"]
[" largeflower onion"]
["Allium neapolitanum","UPL","UPL"]
[" white garlic"]
["Allium oleraceum","UPL","UPL"]
[" field garlic"]
["Allium perdulce","UPL","UPL"]
[" plains onion"]
["Allium porrum","UPL","UPL"]
[" garden leek"]
["Allium runyonii","UPL","UPL"]
[" Runyon's onion"]
["Allium sativum","UPL","UPL"]
[" cultivated garlic"]
["Allium schoenoprasum","FACU","FACU"]
[" Wild Chives"]
["Allium speculae","UPL","UPL"]
[" Little River Canyon onion"]
["Allium stellatum","UPL","UPL"]
[" autumn onion"]
["Allium tricoccum","FACU","FACU"]
[" Ramp"]
["Allium vineale","FACU","FACU"]
[" Crow Garlic"]
["Allium X proliferum","UPL","UPL"]
[" garden onion"]
["Alloteropsis","",""]
[" summergrass"]
["Alloteropsis cimicina","UPL","UPL"]
[" summergrass"]
["Allowissadula","",""]
[" false Indianmallow"]
["Allowissadula holosericea","UPL","UPL"]
[" Chisos Mountain false Indianmallow"]
["Allowissadula lozanii","UPL","UPL"]
[" Lozano's false Indianmallow"]
["Alnus","",""]
[" alder"]
["Alnus glutinosa","FACW","FACW"]
[" European Alder"]
["Alnus incana","FACU","FACU"]
[" Speckled Alder"]
["Alnus maritima","OBL","OBL"]
[" Seaside Alder"]
["Alnus serrulata","FACW","FACW"]
[" Brookside Alder"]
["Alocasia","",""]
[" taro"]
["Alocasia macrorrhizos","FACW","FACW"]
[" Giant Taro"]
["Alocasia odora","UPL","UPL"]
[" Asian taro"]
["Aloe","",""]
[" aloe"]
["Aloe vera","UPL","UPL"]
[" Barbados aloe"]
["Alopecurus","",""]
[" foxtail"]
["Alopecurus aequalis","OBL","OBL"]
[" Short-Awn Meadow-Foxtail"]
["Alopecurus carolinianus","FACW","FACW"]
[" Tufted Meadow-Foxtail"]
["Alopecurus creticus","UPL","UPL"]
[" Cretan meadow foxtail"]
["Alopecurus geniculatus","OBL","OBL"]
[" Marsh Meadow-Foxtail"]
["Alopecurus myosuroides","FACW","FACW"]
[" Slender Meadow-Foxtail"]
["Alopecurus pratensis","FAC","FAC"]
[" Field Meadow-Foxtail"]
["Alopecurus rendlei","UPL","UPL"]
[" Rendle's meadow foxtail"]
["Alophia","",""]
[" alophia"]
["Alophia drummondii","FACU","FACU"]
[" Propeller-Flower"]
["Aloysia","",""]
[" beebrush"]
["Aloysia gratissima","UPL","UPL"]
[" whitebrush"]
["Aloysia macrostachya","UPL","UPL"]
[" Rio Grande beebrush"]
["Aloysia triphylla","UPL","UPL"]
[" lemon beebrush"]
["Aloysia wrightii","UPL","UPL"]
[" Wright's beebrush"]
["Alpinia","",""]
[" alpinia"]
["Alpinia zerumbet","UPL","UPL"]
[" Shellplant"]
["Alstonia","",""]
[" alstonia"]
["Alstonia macrophylla","UPL","UPL"]
[" deviltree"]
["Alstroemeria","",""]
[" lily of the Incas"]
["Alstroemeria haemantha","UPL","UPL"]
[" purple-spot parrot-lily"]
["Alstroemeria psittacina","UPL","UPL"]
[" lily of the Incas"]
["Alstroemeria pulchella","UPL","UPL"]
[" parrot-lily"]
["Alternanthera","",""]
[" joyweed"]
["Alternanthera bettzichiana","UPL","UPL"]
[" calicoplant"]
["Alternanthera brasiliana","UPL","UPL"]
[" Brazilian joyweed"]
["Alternanthera caracasana","UPL","UPL"]
[" washerwoman"]
["Alternanthera ficoidea","FACU","FACU"]
[" Sanguinaria"]
["Alternanthera flavescens","UPL","UPL"]
[" yellow joyweed"]
["Alternanthera flavogrisea","UPL","UPL"]
[" hairy joyweed"]
["Alternanthera maritima","FACW","FACW"]
[" Seaside Joyweed"]
["Alternanthera paronychioides","OBL","OBL"]
[" Smooth Joyweed"]
["Alternanthera philoxeroides","OBL","OBL"]
[" Alligator-Weed"]
["Alternanthera pungens","UPL","UPL"]
[" khakiweed"]
["Alternanthera sessilis","OBL","OBL"]
[" Sessile Joyweed"]
["Althaea","",""]
[" marshmallow"]
["Althaea cannabina","UPL","UPL"]
[" palm-leaf marshmallow"]
["Althaea hirsuta","UPL","UPL"]
[" hairy marshmallow"]
["Althaea officinalis","FACW","FACW"]
[" Common Marsh-Mallow"]
["Alvaradoa","",""]
[" alvaradoa"]
["Alvaradoa amorphoides","UPL","UPL"]
[" Mexican alvaradoa"]
["Alysicarpus","",""]
[" moneywort"]
["Alysicarpus ovalifolius","UPL","UPL"]
[" alyce clover"]
["Alysicarpus rugosus","UPL","UPL"]
[" red moneywort"]
["Alysicarpus vaginalis","FAC","FAC"]
[" White Moneywort"]
["Alyssum","",""]
[" madwort"]
["Alyssum alyssoides","UPL","UPL"]
[" pale madwort"]
["Alyssum desertorum","UPL","UPL"]
[" desert madwort"]
["Amaranthus","",""]
[" pigweed"]
["Amaranthus acanthochiton","FACU","FACU"]
[" Greenstripe"]
["Amaranthus albus","FACU","FACU"]
[" Tumbleweed"]
["Amaranthus arenicola","FACU","FACU"]
[" Sandhill Amaranth"]
["Amaranthus australis","OBL","OBL"]
[" Southern Amaranth"]
["Amaranthus bigelovii","UPL","UPL"]
[" Bigelow's amaranth"]
["Amaranthus blitoides","FAC","FAC"]
[" Mat Amaranth"]
["Amaranthus blitum","FACU","FACU"]
[" Purple Amaranth"]
["Amaranthus cannabinus","OBL","OBL"]
[" Tidal-Marsh Amaranth"]
["Amaranthus caudatus","UPL","UPL"]
[" foxtail amaranth"]
["Amaranthus crassipes","FAC","FAC"]
[" Spreading Amaranth"]
["Amaranthus crispus","UPL","UPL"]
[" crispleaf amaranth"]
["Amaranthus cruentus","UPL","UPL"]
[" red amaranth"]
["Amaranthus deflexus","UPL","UPL"]
[" largefruit amaranth"]
["Amaranthus dubius","UPL","UPL"]
[" spleen amaranth"]
["Amaranthus fimbriatus","UPL","UPL"]
[" fringed amaranth"]
["Amaranthus floridanus","OBL","OBL"]
[" Florida Amaranth"]
["Amaranthus graecizans","FACU","FACU"]
[" Italian-Spinach"]
["Amaranthus greggii","FAC","FAC"]
[" Josiah Amaranth"]
["Amaranthus hybridus","UPL","UPL"]
[" slim amaranth"]
["Amaranthus hypochondriacus","UPL","UPL"]
[" Prince-of-Wales feather"]
["Amaranthus muricatus","UPL","UPL"]
[" African amaranth"]
["Amaranthus palmeri","FACU","FACU"]
[" Careless Weed"]
["Amaranthus polygonoides","UPL","UPL"]
[" tropical amaranth"]
["Amaranthus powellii","UPL","UPL"]
[" Powell's amaranth"]
["Amaranthus pumilus","FACW","FACW"]
[" Seaside Amaranth"]
["Amaranthus retroflexus","FAC","FAC"]
[" Red-Root"]
["Amaranthus scleropoides","UPL","UPL"]
[" bonebract amaranth"]
["Amaranthus spinosus","FACU","FACU"]
[" Spiny Amaranth"]
["Amaranthus tamaulipensis","UPL","UPL"]
[" Tamaulipas amaranth"]
["Amaranthus thunbergii","UPL","UPL"]
[" Thunberg's amaranthus"]
["Amaranthus tricolor","UPL","UPL"]
[" Joseph's-Coat"]
["Amaranthus tuberculatus","FACW","FACW"]
[" Rough-Fruit Amaranth"]
["Amaranthus viridis","FAC","FAC"]
[" Slender Amaranth"]
["Amaranthus wrightii","UPL","UPL"]
[" Wright's amaranth"]
["Amaryllis","",""]
[" amaryllis"]
["Amaryllis belladonna","UPL","UPL"]
[" belladonna lily"]
["Amberboa","",""]
[" amberboa"]
["Amberboa moschata","UPL","UPL"]
[" sweetsultan"]
["Amblyolepis","",""]
[" amblyolepis"]
["Amblyolepis setigera","UPL","UPL"]
[" huisache daisy"]
["Amblystegium","",""]
[" amblystegium moss"]
["Amblystegium serpens","UPL","UPL"]
[" amblystegium moss"]
["Amblystegium varium","UPL","UPL"]
[" amblystegium moss"]
["Ambrosia","",""]
[" ragweed"]
["Ambrosia acanthicarpa","UPL","UPL"]
[" flatspine bur ragweed"]
["Ambrosia artemisiifolia","FACU","FACU"]
[" Annual Ragweed"]
["Ambrosia bidentata","UPL","UPL"]
[" lanceleaf ragweed"]
["Ambrosia cheiranthifolia","UPL","UPL"]
[" Rio Grande ragweed"]
["Ambrosia confertiflora","UPL","UPL"]
[" weakleaf bur ragweed"]
["Ambrosia hispida","UPL","UPL"]
[" coastal ragweed"]
["Ambrosia psilostachya","FAC","FAC"]
[" Perennial Ragweed"]
["Ambrosia tenuifolia","UPL","UPL"]
[" slimleaf bur ragweed"]
["Ambrosia tomentosa","UPL","UPL"]
[" skeletonleaf bur ragweed"]
["Ambrosia trifida","FAC","FAC"]
[" Great Ragweed"]
["Ambrosia X helenae","UPL","UPL"]
[" ragweed"]
["Ambrosia X intergradiens","UPL","UPL"]
[" ragweed"]
["Amelanchier","",""]
[" serviceberry"]
["Amelanchier arborea","FACU","FACU"]
[" Downy Service-Berry"]
["Amelanchier canadensis","FAC","FAC"]
[" Canadian Service-Berry"]
["Amelanchier humilis","UPL","UPL"]
[" low serviceberry"]
["Amelanchier interior","UPL","UPL"]
[" inland serviceberry"]
["Amelanchier intermedia","FACW","FACW"]
[" Intermediate Service-Berry"]
["Amelanchier laevis","UPL","UPL"]
[" Allegheny serviceberry"]
["Amelanchier nantucketensis","FACU","FACU"]
[" Nantucket Service-Berry"]
["Amelanchier sanguinea","UPL","UPL"]
[" roundleaf serviceberry"]
["Amelanchier spicata","FACU","FACU"]
[" Running Service-Berry"]
["Amelanchier X intermedia","UPL","UPL"]
[" serviceberry"]
["Amelanchier X neglecta","UPL","UPL"]
[" serviceberry"]
["Amianthium","",""]
[" amianthium"]
["Amianthium muscitoxicum","FAC","FAC"]
[" Flypoison"]
["Ammannia","",""]
[" redstem"]
["Ammannia auriculata","OBL","OBL"]
[" Eared Redstem"]
["Ammannia coccinea","OBL","OBL"]
[" Valley Redstem"]
["Ammannia latifolia","OBL","OBL"]
[" Pink Redstem"]
["Ammannia robusta","OBL","OBL"]
[" Grand Redstem"]
["Ammi","",""]
[" ammi"]
["Ammi majus","UPL","UPL"]
[" large bullwort"]
["Ammi visnaga","UPL","UPL"]
[" toothpickweed"]
["Ammocodon","",""]
[" ammocodon"]
["Ammocodon chenopodioides","UPL","UPL"]
[" goosefoot moonpod"]
["Ammophila","",""]
[" beachgrass"]
["Ammophila arenaria","FACU","FACU"]
[" European Beach Grass"]
["Ammophila breviligulata","UPL","UPL"]
[" American Beach Grass"]
["Ammoselinum","",""]
[" sandparsley"]
["Ammoselinum butleri","FAC","FAC"]
[" Butler's Sand-Parsley"]
["Ammoselinum popei","UPL","UPL"]
[" plains sandparsley"]
["Amoreuxia","",""]
[" yellowshow"]
["Amoreuxia wrightii","UPL","UPL"]
[" Wright's yellowshow"]
["Amorpha","",""]
[" false indigo"]
["Amorpha canescens","UPL","UPL"]
[" leadplant"]
["Amorpha confusa","FACU","FACU"]
[" Carolina Indigo-Bush"]
["Amorpha fruticosa","FACW","FACW"]
[" False Indigo-Bush"]
["Amorpha georgiana","FACW","FACW"]
[" Georgia Indigo-Bush"]
["Amorpha glabra","UPL","UPL"]
[" mountain false indigo"]
["Amorpha herbacea","FAC","FAC"]
[" Cluster-Spike Indigo-Bush"]
["Amorpha laevigata","UPL","UPL"]
[" smooth false indigo"]
["Amorpha nitens","FAC","FAC"]
[" Shining Indigo-Bush"]
["Amorpha ouachitensis","UPL","UPL"]
[" Ouachita false indigo"]
["Amorpha paniculata","FACW","FACW"]
[" Panicled Indigo-Bush"]
["Amorpha roemeriana","FACU","FACU"]
[" Roemer's Indigo-Bush"]
["Amorpha schwerinii","UPL","UPL"]
[" Schwerin's false indigo"]
["Amorpha X notha","UPL","UPL"]
[" false indigo"]
["Ampelaster","",""]
[" climbing aster"]
["Ampelaster carolinianus","OBL","OBL"]
[" Climbing-Aster"]
["Ampelopsis","",""]
[" peppervine"]
["Ampelopsis aconitifolia","UPL","UPL"]
[" monkshoodvine"]
["Ampelopsis arborea","FAC","FAC"]
[" Peppervine"]
["Ampelopsis brevipedunculata","UPL","UPL"]
[" Amur peppervine"]
["Ampelopsis cordata","FAC","FAC"]
[" Heart-Leaf Peppervine"]
["Amphiachyris","",""]
[" broomweed"]
["Amphiachyris amoena","UPL","UPL"]
[" Texas broomweed"]
["Amphiachyris dracunculoides","UPL","UPL"]
[" prairie broomweed"]
["Amphibromus","",""]
[" wallaby grass"]
["Amphibromus scabrivalvis","UPL","UPL"]
[" swamp wallaby grass"]
["Amphicarpaea","",""]
[" hogpeanut"]
["Amphicarpaea bracteata","FAC","FAC"]
[" American Hog-Peanut"]
["Amphicarpum","",""]
[" maidencane"]
["Amphicarpum amphicarpon","FACW","FACW"]
[" Blue Maiden-Cane"]
["Amphicarpum muehlenbergianum","FACW","FACW"]
[" Perennial Goober Grass"]
["Amphitecna","",""]
[" amphitecna"]
["Amphitecna latifolia","FACU","FACU"]
[" Black-Calabash"]
["Amsinckia","",""]
[" fiddleneck"]
["Amsinckia lycopsoides","UPL","UPL"]
[" tarweed fiddleneck"]
["Amsinckia menziesii","UPL","UPL"]
[" Menzies' fiddleneck"]
["Amsinckia tessellata","UPL","UPL"]
[" bristly fiddleneck"]
["Amsonia","",""]
[" bluestar"]
["Amsonia ciliata","UPL","UPL"]
[" fringed bluestar"]
["Amsonia hubrichtii","UPL","UPL"]
[" Hubricht's bluestar"]
["Amsonia longiflora","UPL","UPL"]
[" tubular bluestar"]
["Amsonia ludoviciana","FAC","FAC"]
[" Louisiana Bluestar"]
["Amsonia palmeri","UPL","UPL"]
[" Palmer's bluestar"]
["Amsonia repens","UPL","UPL"]
[" creeping bluestar"]
["Amsonia rigida","FACW","FACW"]
[" Stiff Bluestar"]
["Amsonia tabernaemontana","FACW","FACW"]
[" Eastern Bluestar"]
["Amsonia tharpii","UPL","UPL"]
[" feltleaf bluestar"]
["Amsonia tomentosa","UPL","UPL"]
[" woolly bluestar"]
["Amyris","",""]
[" torchwood"]
["Amyris balsamifera","UPL","UPL"]
[" balsam torchwood"]
["Amyris elemifera","FAC","FAC"]
[" Smooth Torchwood"]
["Amyris madrensis","UPL","UPL"]
[" mountain torchwood"]
["Amyris texana","UPL","UPL"]
[" Texas torchwood"]
["Anacamptodon","",""]
[" anacamptodon moss"]
["Anacamptodon splachnoides","UPL","UPL"]
[" anacamptodon moss"]
["Anacyclus","",""]
[" anacyclus"]
["Anacyclus clavatus","UPL","UPL"]
[" whitebuttons"]
["Ananas","",""]
[" pineapple"]
["Ananas comosus","UPL","UPL"]
[" pineapple"]
["Anaphalis","",""]
[" pearly everlasting"]
["Anaphalis margaritacea","UPL","UPL"]
[" Pearly-Everlasting"]
["Anchusa","",""]
[" bugloss"]
["Anchusa arvensis","UPL","UPL"]
[" small bugloss"]
["Anchusa azurea","UPL","UPL"]
[" Italian bugloss"]
["Anchusa officinalis","UPL","UPL"]
[" common bugloss"]
["Ancistrocactus","",""]
["Ancistrocactus brevihamatus","UPL","UPL"]
[" shorthook fishhook cactus"]
["Ancistrocactus scheeri","UPL","UPL"]
[" Scheer's fishhook cactus"]
["Ancistrocactus tobuschii","UPL","UPL"]
[" shorthook fishhook cactus"]
["Andira","",""]
[" andira"]
["Andira inermis","FAC","FAC"]
[" Cabbagebark-Tree"]
["Andrographis","",""]
[" false waterwillow"]
["Andrographis echioides","UPL","UPL"]
[" false waterwillow"]
["Andropogon","",""]
[" bluestem"]
["Andropogon arctatus","FAC","FAC"]
[" Pinewoods Bluestem"]
["Andropogon bicornis","FAC","FAC"]
[" Barbas-de-Indio"]
["Andropogon brachystachyus","FAC","FAC"]
[" Short-Spike Bluestem"]
["Andropogon capillipes","FAC","FAC"]
[" Chalky Bluestem"]
["Andropogon floridanus","FACU","FACU"]
[" Florida Bluestem"]
["Andropogon gerardii","FAC","FAC"]
[" Big Bluestem"]
["Andropogon glaucopsis","FACW","FACW"]
[" Coastal Bluestem"]
["Andropogon glomeratus","FACW","FACW"]
[" Bushy Bluestem"]
["Andropogon gracilis","FAC","FAC"]
[" Wiry Bluestem"]
["Andropogon gyrans","FACU","FACU"]
[" Elliott's Bluestem"]
["Andropogon hallii","UPL","UPL"]
[" sand bluestem"]
["Andropogon hirsutior","FACW","FACW"]
["Andropogon longiberbis","FAC","FAC"]
[" Long-Beard Bluestem"]
["Andropogon mohrii","FACW","FACW"]
[" Mohr's Bluestem"]
["Andropogon ternarius","FACU","FACU"]
[" Split-Beard Bluestem"]
["Andropogon tracyi","UPL","UPL"]
[" Tracy's bluestem"]
["Andropogon virginicus","FAC","FAC"]
[" Broom-Sedge"]
["Androsace","",""]
[" rockjasmine"]
["Androsace occidentalis","FACU","FACU"]
[" Western Rock-Jasmine"]
["Androstephium","",""]
[" funnel lily"]
["Androstephium coeruleum","UPL","UPL"]
[" blue funnel lily"]
["Anemia","",""]
[" anemia fern"]
["Anemia adiantifolia","UPL","UPL"]
[" pineland fern"]
["Anemia mexicana","UPL","UPL"]
[" Mexican fern"]
["Anemia wrightii","UPL","UPL"]
[" Wright's flowering fern"]
["Anemone","",""]
[" anemone"]
["Anemone berlandieri","UPL","UPL"]
[" tenpetal thimbleweed"]
["Anemone blanda","UPL","UPL"]
[" Greek thimbleweed"]
["Anemone canadensis","FAC","FAC"]
[" Round-Leaf Thimbleweed"]
["Anemone caroliniana","UPL","UPL"]
[" Carolina anemone"]
["Anemone cylindrica","UPL","UPL"]
[" candle anemone"]
["Anemone edwardsiana","UPL","UPL"]
[" Edwards Plateau thimbleweed"]
["Anemone lancifolia","UPL","UPL"]
[" mountain thimbleweed"]
["Anemone quinquefolia","FACU","FACU"]
[" Nightcaps"]
["Anemone tuberosa","UPL","UPL"]
[" tuber anemone"]
["Anemone virginiana","FACU","FACU"]
[" Tall Thimbleweed"]
["Anethum","",""]
[" dill"]
["Anethum graveolens","UPL","UPL"]
[" dill"]
["Aneura","",""]
["Aneura maxima","UPL","UPL"]
["Aneura pinguis","UPL","UPL"]
["Angadenia","",""]
[" pineland golden trumpet"]
["Angadenia berteroi","FACW","FACW"]
[" Pineland-Golden-Trumpet"]
["Angelica","",""]
[" angelica"]
["Angelica atropurpurea","OBL","OBL"]
[" Purple-Stem Angelica"]
["Angelica dentata","UPL","UPL"]
[" coastal plain angelica"]
["Angelica triquinata","UPL","UPL"]
[" filmy angelica"]
["Angelica venenosa","UPL","UPL"]
[" hairy angelica"]
["Angelonia","",""]
[" angelon"]
["Angelonia angustifolia","UPL","UPL"]
[" narrowleaf angelon"]
["Anisacanthus","",""]
[" desert honeysuckle"]
["Anisacanthus linearis","UPL","UPL"]
[" narrowleaf desert honeysuckle"]
["Anisacanthus puberulus","UPL","UPL"]
[" dwarf desert honeysuckle"]
["Anisacanthus quadrifidus","UPL","UPL"]
[" Wright's desert honeysuckle"]
["Aniseia","",""]
[" aniseia"]
["Aniseia martinicensis","FAC","FAC"]
[" Whitejacket"]
["Annona","",""]
[" annona"]
["Annona glabra","OBL","OBL"]
[" Pond-Apple"]
["Annona montana","UPL","UPL"]
[" mountain soursop"]
["Annona squamosa","UPL","UPL"]
[" sugar apple"]
["Anoda","",""]
[" anoda"]
["Anoda crenatiflora","UPL","UPL"]
[" thicket anoda"]
["Anoda cristata","FAC","FAC"]
[" Crested Anoda"]
["Anoda lanceolata","UPL","UPL"]
[" lanceleaf anoda"]
["Anoda pentaschista","UPL","UPL"]
[" field anoda"]
["Anomodon","",""]
[" anomodon moss"]
["Anomodon attenuatus","UPL","UPL"]
[" anomodon moss"]
["Anomodon minor","UPL","UPL"]
[" anomodon moss"]
["Anomodon rostratus","UPL","UPL"]
[" anomodon moss"]
["Anomodon viticulosus","UPL","UPL"]
[" anomodon moss"]
["Anredera","",""]
[" madieravine"]
["Anredera cordifolia","UPL","UPL"]
[" heartleaf madeiravine"]
["Anredera vesicaria","UPL","UPL"]
[" Texas madeiravine"]
["Antennaria","",""]
[" pussytoes"]
["Antennaria howellii","UPL","UPL"]
[" Howell's pussytoes"]
["Antennaria marginata","UPL","UPL"]
[" whitemargin pussytoes"]
["Antennaria neglecta","UPL","UPL"]
[" Field Pussytoes"]
["Antennaria parlinii","UPL","UPL"]
[" Parlin's pussytoes"]
["Antennaria parvifolia","UPL","UPL"]
[" small-leaf pussytoes"]
["Antennaria plantaginifolia","UPL","UPL"]
[" woman's tobacco"]
["Antennaria solitaria","UPL","UPL"]
[" singlehead pussytoes"]
["Antennaria virginica","UPL","UPL"]
[" shale barren pussytoes"]
["Anthaenantia","",""]
[" silkyscale"]
["Anthaenantia rufa","UPL","UPL"]
[" purple silkyscale"]
["Anthaenantia villosa","UPL","UPL"]
[" green silkyscale"]
["Anthemis","",""]
[" chamomile"]
["Anthemis arvensis","UPL","UPL"]
[" corn chamomile"]
["Anthemis cotula","FACU","FACU"]
[" Stinking Chamomile"]
["Anthemis secundiramea","UPL","UPL"]
[" prostrate chamomile"]
["Anthemis tinctoria","UPL","UPL"]
[" golden chamomile"]
["Anthenantia","",""]
[" silkyscale"]
["Anthenantia rufa","FACW","FACW"]
[" Purple Silkyscale"]
["Anthephora","",""]
[" oldfield grass"]
["Anthephora hermaphrodita","UPL","UPL"]
[" oldfield grass"]
["Anthoxanthum","",""]
[" hornwort"]
["Anthoxanthum aristatum","UPL","UPL"]
[" annual vernalgrass"]
["Anthoxanthum hirtum","FACW","FACW"]
[" Northern Sweet Vernal Grass"]
["Anthoxanthum odoratum","FACU","FACU"]
[" Large Sweet Vernal Grass"]
["Anthriscus","",""]
[" chervil"]
["Anthriscus caucalis","UPL","UPL"]
[" bur chervil"]
["Anthriscus cerefolium","UPL","UPL"]
[" garden chervil"]
["Anthriscus sylvestris","UPL","UPL"]
[" wild chervil"]
["Anthyllis","",""]
[" kidneyvetch"]
["Anthyllis vulneraria","UPL","UPL"]
[" common kidneyvetch"]
["Antigonon","",""]
[" antigonon"]
["Antigonon leptopus","FAC","FAC"]
[" Queen's-Jewels"]
["Antiphytum","",""]
[" saucerflower"]
["Antiphytum floribundum","UPL","UPL"]
[" Texas saucerflower"]
["Antiphytum heliotropioides","UPL","UPL"]
[" Mexican saucerflower"]
["Antirrhinum","",""]
[" snapdragon"]
["Antirrhinum majus","UPL","UPL"]
[" garden snapdragon"]
["Anulocaulis","",""]
[" ringstem"]
["Anulocaulis eriosolenus","UPL","UPL"]
[" Big Bend ringstem"]
["Anulocaulis leiosolenus","UPL","UPL"]
[" southwestern ringstem"]
["Anulocaulis reflexus","UPL","UPL"]
[" Texas ringstem"]
["Apera","",""]
[" silkybent"]
["Apera interrupta","UPL","UPL"]
[" dense silkybent"]
["Apera spica-venti","UPL","UPL"]
[" loose silkybent"]
["Aphanes","",""]
[" parsley piert"]
["Aphanes arvensis","UPL","UPL"]
[" field parsley piert"]
["Aphanes microcarpa","UPL","UPL"]
[" slender parsley piert"]
["Aphanorrhegma","",""]
[" aphanorrhegma moss"]
["Aphanorrhegma serratum","UPL","UPL"]
[" serrate aphanorrhegma moss"]
["Aphanostephus","",""]
[" dozedaisy"]
["Aphanostephus pilosus","UPL","UPL"]
[" hairy dozedaisy"]
["Aphanostephus ramosissimus","UPL","UPL"]
[" plains dozedaisy"]
["Aphanostephus riddellii","UPL","UPL"]
[" Riddell's dozedaisy"]
["Aphanostephus skirrhobasis","UPL","UPL"]
[" Arkansas dozedaisy"]
["Apios","",""]
[" groundnut"]
["Apios americana","FACW","FACW"]
[" Groundnut"]
["Apios priceana","FACU","FACU"]
["Traveler's Delight"]
["Apium","",""]
[" celery"]
["Apium graveolens","UPL","UPL"]
[" wild celery"]
["Apium repens","UPL","UPL"]
[" creeping marshwort"]
["Aplectrum","",""]
[" Adam and Eve"]
["Aplectrum hyemale","FAC","FAC"]
[" Adam-and-Eve"]
["Apluda","",""]
[" Mauritian grass"]
["Apluda mutica","UPL","UPL"]
[" Mauritian grass"]
["Apocynum","",""]
[" dogbane"]
["Apocynum androsaemifolium","UPL","UPL"]
[" Spreading Dogbane"]
["Apocynum cannabinum","FACU","FACU"]
[" Indian-Hemp"]
["Apocynum X floribundum","UPL","UPL"]
["Apodanthera","",""]
[" apodanthera"]
["Apodanthera undulata","UPL","UPL"]
[" melon loco"]
["Apteria","",""]
[" apteria"]
["Apteria aphylla","FACW","FACW"]
[" Nodding-Nixie"]
["Aquilegia","",""]
[" columbine"]
["Aquilegia canadensis","FACU","FACU"]
[" Red Columbine"]
["Aquilegia vulgaris","UPL","UPL"]
[" European columbine"]
["Arabidopsis","",""]
[" rockcress"]
["Arabidopsis lyrata","FACU","FACU"]
[" Lyre-Leaf Thalecress"]
["Arabidopsis thaliana","UPL","UPL"]
[" mouseear cress"]
["Arabis","",""]
[" rockcress"]
["Arabis alpina","FAC","FAC"]
[" Alpine Eared Rockcress"]
["Arabis canadensis","UPL","UPL"]
[" sicklepod"]
["Arabis fendleri","UPL","UPL"]
[" Fendler's rockcress"]
["Arabis georgiana","UPL","UPL"]
[" Georgia rockcress"]
["Arabis glabra","UPL","UPL"]
[" tower rockcress"]
["Arabis hirsuta","UPL","UPL"]
[" hairy rockcress"]
["Arabis laevigata","UPL","UPL"]
[" smooth rockcress"]
["Arabis lyallii","UPL","UPL"]
[" Lyall's rockcress"]
["Arabis missouriensis","UPL","UPL"]
[" green rockcress"]
["Arabis patens","UPL","UPL"]
[" spreading rockcress"]
["Arabis perennans","UPL","UPL"]
[" perennial rockcress"]
["Arabis perstellata","UPL","UPL"]
[" Braun's rockcress"]
["Arabis petiolaris","UPL","UPL"]
[" Brazos rockcress"]
["Arabis pycnocarpa","FACU","FACU"]
[" Hairy Eared Rockcress"]
["Arabis serotina","UPL","UPL"]
[" shale barren rockcress"]
["Arachis","",""]
[" peanut"]
["Arachis glabrata","UPL","UPL"]
[" rhizoma peanut"]
["Arachis hagenbeckii","UPL","UPL"]
[" rhizoma peanut"]
["Arachis hypogaea","UPL","UPL"]
[" peanut"]
["Arachniodes","",""]
[" hollyfern"]
["Arachniodes simplicior","UPL","UPL"]
[" simpler hollyfern"]
["Aralia","",""]
[" spikenard"]
["Aralia chinensis","UPL","UPL"]
[" Chinese angelica tree"]
["Aralia elata","UPL","UPL"]
[" Japanese angelica tree"]
["Aralia hispida","UPL","UPL"]
[" bristly sarsaparilla"]
["Aralia nudicaulis","FACU","FACU"]
[" Wild Sarsaparilla"]
["Aralia racemosa","FACU","FACU"]
[" American Spikenard"]
["Aralia spinosa","FAC","FACU"]
[" Devil's-Walkingstick"]
["Araucaria","",""]
[" araucaria"]
["Araucaria heterophylla","UPL","UPL"]
[" Norfolk Island pine"]
["Araujia","",""]
[" araujia"]
["Araujia sericifera","UPL","UPL"]
[" white bladderflower"]
["Arbutus","",""]
[" madrone"]
["Arbutus xalapensis","UPL","UPL"]
[" Texas madrone"]
["Arceuthobium","",""]
[" dwarf mistletoe"]
["Arceuthobium divaricatum","UPL","UPL"]
[" pinyon dwarf mistletoe"]
["Arceuthobium douglasii","UPL","UPL"]
[" Douglas-fir dwarf mistletoe"]
["Arceuthobium pusillum","UPL","UPL"]
[" eastern dwarf mistletoe"]
["Arceuthobium vaginatum","UPL","UPL"]
[" pineland dwarf mistletoe"]
["Archidium","",""]
[" archidium moss"]
["Archidium ohioense","UPL","UPL"]
[" Ohio archidium moss"]
["Arctium","",""]
[" burdock"]
["Arctium lappa","UPL","UPL"]
[" greater burdock"]
["Arctium minus","UPL","UPL"]
[" Lesser Burrdock"]
["Arctium tomentosum","UPL","UPL"]
[" woolly burdock"]
["Arctium vulgare","UPL","UPL"]
[" woodland burdock"]
["Arctostaphylos","",""]
[" manzanita"]
["Arctostaphylos pungens","UPL","UPL"]
[" pointleaf manzanita"]
["Arctostaphylos uva-ursi","UPL","UPL"]
[" Red Bearberry"]
["Arctotis","",""]
[" arctotis"]
["Arctotis stoechadifolia","UPL","UPL"]
[" African daisy"]
["Ardisia","",""]
[" marlberry"]
["Ardisia crenata","FAC","FAC"]
[" Hen's-Eyes"]
["Ardisia elliptica","FAC","FAC"]
[" Shoebutton"]
["Ardisia escallonoides","UPL","UPL"]
[" island marlberry"]
["Ardisia humilis","UPL","UPL"]
[" low shoebutton"]
["Ardisia solanacea","UPL","UPL"]
[" China-shrub"]
["Arenaria","",""]
[" sandwort"]
["Arenaria benthamii","UPL","UPL"]
[" hilly sandwort"]
["Arenaria fendleri","UPL","UPL"]
[" Fendler's sandwort"]
["Arenaria hookeri","UPL","UPL"]
[" Hooker's sandwort"]
["Arenaria lanuginosa","FAC","FAC"]
[" Spreading Sandwort"]
["Arenaria livermorensis","UPL","UPL"]
[" Livermore sandwort"]
["Arenaria ludens","UPL","UPL"]
[" Trans-Pecos sandwort"]
["Arenaria serpyllifolia","UPL","UPL"]
[" Thyme-Leaf Sandwort"]
["Arethusa","",""]
[" dragon's mouth"]
["Arethusa bulbosa","OBL","OBL"]
[" Dragon's-Mouth"]
["Argemone","",""]
[" pricklypoppy"]
["Argemone aenea","UPL","UPL"]
[" golden pricklypoppy"]
["Argemone albiflora","UPL","UPL"]
[" bluestem pricklypoppy"]
["Argemone aurantiaca","UPL","UPL"]
[" Texas pricklypoppy"]
["Argemone chisosensis","UPL","UPL"]
[" Chisos Mountain pricklypoppy"]
["Argemone mexicana","UPL","UPL"]
[" Mexican pricklypoppy"]
["Argemone polyanthemos","UPL","UPL"]
[" crested pricklypoppy"]
["Argemone sanguinea","UPL","UPL"]
[" red pricklypoppy"]
["Argemone squarrosa","UPL","UPL"]
[" hedgehog pricklypoppy"]
["Argusia","",""]
[" sea rosemary"]
["Argusia gnaphalodes","FACU","FACU"]
[" Sea-Rosemary"]
["Argyreia","",""]
[" argyreia"]
["Argyreia nervosa","UPL","UPL"]
[" elephant creeper"]
["Argyrochosma","",""]
[" false cloak fern"]
["Argyrochosma dealbata","UPL","UPL"]
[" powdery false cloak fern"]
["Argyrochosma limitanea","UPL","UPL"]
[" southwestern false cloak fern"]
["Argyrochosma microphylla","UPL","UPL"]
[" small-leaf false cloak fern"]
["Argythamnia","",""]
[" silverbush"]
["Argythamnia aphoroides","UPL","UPL"]
[" Hill Country silverbush"]
["Argythamnia argyraea","UPL","UPL"]
[" silky silverbush"]
["Argythamnia astroplethos","UPL","UPL"]
[" Mexican silverbush"]
["Argythamnia blodgettii","UPL","UPL"]
[" Blodgett's silverbush"]
["Argythamnia humilis","UPL","UPL"]
[" low silverbush"]
["Argythamnia mercurialina","UPL","UPL"]
[" tall silverbush"]
["Argythamnia neomexicana","UPL","UPL"]
[" New Mexico silverbush"]
["Argythamnia simulans","UPL","UPL"]
[" plateau silverbush"]
["Ariocarpus","",""]
[" livingrock"]
["Ariocarpus fissuratus","UPL","UPL"]
[" chautle livingrock"]
["Arisaema","",""]
[" Jack in the pulpit"]
["Arisaema dracontium","FACW","FACW"]
[" Greendragon"]
["Arisaema triphyllum","FACW","FACW"]
[" Jack-in-the-Pulpit"]
["Aristida","",""]
[" threeawn"]
["Aristida adscensionis","UPL","UPL"]
[" sixweeks threeawn"]
["Aristida arizonica","UPL","UPL"]
[" Arizona threeawn"]
["Aristida basiramea","UPL","UPL"]
[" forked threeawn"]
["Aristida beyrichiana","FAC","FAC"]
[" Beyrich's Three-Awn"]
["Aristida condensata","UPL","UPL"]
[" piedmont threeawn"]
["Aristida desmantha","UPL","UPL"]
[" curly threeawn"]
["Aristida dichotoma","FACU","FACU"]
[" Church-Mouse Three-Awn"]
["Aristida divaricata","UPL","UPL"]
[" poverty threeawn"]
["Aristida floridana","UPL","UPL"]
[" Key West threeawn"]
["Aristida gypsophila","UPL","UPL"]
[" gypsum threeawn"]
["Aristida gyrans","UPL","UPL"]
[" corkscrew threeawn"]
["Aristida havardii","UPL","UPL"]
[" Havard's threeawn"]
["Aristida lanosa","UPL","UPL"]
[" woollysheath threeawn"]
["Aristida longespica","FACU","FACU"]
[" Red Three-Awn"]
["Aristida mohrii","UPL","UPL"]
[" Mohr's threeawn"]
["Aristida oligantha","UPL","UPL"]
[" prairie threeawn"]
["Aristida palustris","FACW","FACW"]
[" Three-Awn"]
["Aristida pansa","UPL","UPL"]
[" Wooton's threeawn"]
["Aristida patula","FAC","FAC"]
[" Tall Three-Awn"]
["Aristida purpurascens","UPL","UPL"]
[" Arrow-Feather Three-Awn"]
["Aristida purpurea","UPL","UPL"]
[" purple threeawn"]
["Aristida ramosissima","UPL","UPL"]
[" s-curve threeawn"]
["Aristida rhizomophora","FACW","FACW"]
[" Florida Three-Awn"]
["Aristida schiedeana","UPL","UPL"]
[" single threeawn"]
["Aristida simpliciflora","FAC","FAC"]
[" Southern Three-Awn"]
["Aristida spiciformis","FAC","FAC"]
[" Bottlebrush Three-Awn"]
["Aristida stricta","FAC","FAC"]
[" Pineland Three-Awn"]
["Aristida ternipes","UPL","UPL"]
[" spidergrass"]
["Aristida tuberculosa","UPL","UPL"]
[" seaside threeawn"]
["Aristolochia","",""]
[" dutchman's pipe"]
["Aristolochia clematitis","UPL","UPL"]
[" birthwort"]
["Aristolochia coryi","UPL","UPL"]
[" Cory's dutchman's pipe"]
["Aristolochia elegans","UPL","UPL"]
[" Elegant Dutchman's-Pipe"]
["Aristolochia erecta","UPL","UPL"]
[" swanflower"]
["Aristolochia grandiflora","UPL","UPL"]
[" pelicanflower"]
["Aristolochia labiata","UPL","UPL"]
[" mottled dutchman's pipe"]
["Aristolochia macrophylla","UPL","UPL"]
[" pipevine"]
["Aristolochia maxima","UPL","UPL"]
[" Florida dutchman's pipe"]
["Aristolochia pentandra","UPL","UPL"]
[" Marsh's dutchman's pipe"]
["Aristolochia reticulata","UPL","UPL"]
[" Texas dutchman's pipe"]
["Aristolochia ringens","UPL","UPL"]
[" gaping dutchman's pipe"]
["Aristolochia wrightii","UPL","UPL"]
[" Wright's dutchman's pipe"]
["Arivela","",""]
[" spiderflower"]
["Arivela viscosa","UPL","UPL"]
[" Tickweed"]
["Armoracia","",""]
[" armoracia"]
["Armoracia rusticana","UPL","UPL"]
[" horseradish"]
["Arnica","",""]
[" arnica"]
["Arnica acaulis","UPL","UPL"]
[" Common Leopardbane"]
["Arnoglossum","",""]
[" Indian plantain"]
["Arnoglossum album","UPL","UPL"]
[" Bay County Indian plantain"]
["Arnoglossum atriplicifolium","UPL","UPL"]
[" pale Indian plantain"]
["Arnoglossum diversifolium","FACW","FACW"]
[" Variable-Leaf Indian-Plantain"]
["Arnoglossum floridanum","UPL","UPL"]
[" Florida cacalia"]
["Arnoglossum ovatum","FACW","FACW"]
[" Egg-Leaf Indian-Plantain"]
["Arnoglossum plantagineum","FACU","FACU"]
[" Groove-Stem Indian-Plantain"]
["Arnoglossum reniforme","UPL","UPL"]
[" great Indian plantain"]
["Arnoglossum sulcatum","OBL","OBL"]
[" Georgia Indian-Plantain"]
["Arnoseris","",""]
[" arnoseris"]
["Arnoseris minima","UPL","UPL"]
[" lamb succory"]
["Aronia","",""]
["Aronia arbutifolia","FACW","FACW"]
[" Red Chokeberry"]
["Aronia melanocarpa","FAC","FAC"]
[" Black Chokeberry"]
["Aronia prunifolia","FACW","FACW"]
[" Purple Chokeberry"]
["Aronia X prunifolia","UPL","UPL"]
[" purple chokeberry"]
["Arrhenatherum","",""]
[" oatgrass"]
["Arrhenatherum elatius","FACU","FACU"]
[" Tall Oat Grass"]
["Artemisia","",""]
[" sagebrush"]
["Artemisia abrotanum","UPL","UPL"]
[" southernwood"]
["Artemisia absinthium","UPL","UPL"]
[" absinthium"]
["Artemisia annua","FACU","FACU"]
[" Annual Wormwood"]
["Artemisia biennis","FACU","FACU"]
[" Biennial Wormwood"]
["Artemisia bigelovii","UPL","UPL"]
[" Bigelow sage"]
["Artemisia campestris","UPL","UPL"]
[" Pacific Wormwood"]
["Artemisia carruthii","UPL","UPL"]
[" Carruth's sagewort"]
["Artemisia filifolia","UPL","UPL"]
[" sand sagebrush"]
["Artemisia frigida","UPL","UPL"]
[" prairie sagewort"]
["Artemisia ludoviciana","UPL","UPL"]
[" White Sagebrush"]
["Artemisia pontica","UPL","UPL"]
[" Roman wormwood"]
["Artemisia scoparia","UPL","UPL"]
[" redstem wormwood"]
["Artemisia serrata","UPL","UPL"]
[" sawtooth wormwood"]
["Artemisia stelleriana","FACU","FACU"]
[" Oldwoman"]
["Artemisia vulgaris","UPL","UPL"]
[" Common Wormwood"]
["Arthraxon","",""]
[" carpetgrass"]
["Arthraxon hispidus","FAC","FAC"]
[" Small Carp Grass"]
["Arum","",""]
[" arum"]
["Arum italicum","UPL","UPL"]
[" Italian lords and ladies"]
["Aruncus","",""]
[" aruncus"]
["Aruncus dioicus","FACU","FACU"]
[" Bride's-Feathers"]
["Arundinaria","",""]
[" cane"]
["Arundinaria appalachiana","UPL","UPL"]
[" hill cane"]
["Arundinaria gigantea","FACW","FACW"]
[" Giant Cane"]
["Arundinaria tecta","FACW","FACW"]
[" Switch Cane"]
["Arundo","",""]
[" giant reed"]
["Arundo donax","FAC","FAC"]
[" Giant-Reed"]
["Asarum","",""]
[" wildginger"]
["Asarum canadense","UPL","UPL"]
[" Canadian Wild Ginger"]
["Asclepias","",""]
[" milkweed"]
["Asclepias amplexicaulis","UPL","UPL"]
[" clasping milkweed"]
["Asclepias arenaria","UPL","UPL"]
[" sand milkweed"]
["Asclepias asperula","UPL","UPL"]
[" spider milkweed"]
["Asclepias brachystephana","UPL","UPL"]
[" bract milkweed"]
["Asclepias cinerea","UPL","UPL"]
[" Carolina milkweed"]
["Asclepias connivens","OBL","OBL"]
[" Large-Flower Milkweed"]
["Asclepias curassavica","FAC","FAC"]
[" Bloodflower"]
["Asclepias curtissii","UPL","UPL"]
[" Curtiss' milkweed"]
["Asclepias emoryi","UPL","UPL"]
[" Emory's milkweed"]
["Asclepias engelmanniana","UPL","UPL"]
[" Engelmann's milkweed"]
["Asclepias exaltata","UPL","UPL"]
[" Poke Milkweed"]
["Asclepias feayi","UPL","UPL"]
[" Florida milkweed"]
["Asclepias glaucescens","UPL","UPL"]
[" nodding milkweed"]
["Asclepias humistrata","UPL","UPL"]
[" pinewoods milkweed"]
["Asclepias incarnata","OBL","OBL"]
[" Swamp Milkweed"]
["Asclepias involucrata","UPL","UPL"]
[" dwarf milkweed"]
["Asclepias lanceolata","OBL","OBL"]
[" Few-Flower Milkweed"]
["Asclepias lanuginosa","UPL","UPL"]
[" sidecluster milkweed"]
["Asclepias latifolia","UPL","UPL"]
[" broadleaf milkweed"]
["Asclepias linearis","UPL","UPL"]
[" slim milkweed"]
["Asclepias longifolia","FAC","FAC"]
[" Long-Leaf Milkweed"]
["Asclepias macrotis","UPL","UPL"]
[" longhood milkweed"]
["Asclepias michauxii","FAC","FAC"]
[" Michaux's Milkweed"]
["Asclepias nummularia","UPL","UPL"]
[" tufted milkweed"]
["Asclepias obovata","UPL","UPL"]
[" pineland milkweed"]
["Asclepias oenotheroides","FACU","FACU"]
[" Zizotes Milkweed"]
["Asclepias ovalifolia","UPL","UPL"]
[" oval-leaf milkweed"]
["Asclepias pedicellata","FACW","FACW"]
[" Savannah Milkweed"]
["Asclepias perennis","OBL","OBL"]
[" Aquatic Milkweed"]
["Asclepias purpurascens","FACU","FACU"]
[" Purple Milkweed"]
["Asclepias quadrifolia","UPL","UPL"]
[" fourleaf milkweed"]
["Asclepias quinquedentata","UPL","UPL"]
[" slimpod milkweed"]
["Asclepias rubra","OBL","OBL"]
[" Red Milkweed"]
["Asclepias scaposa","UPL","UPL"]
[" Bear Mountain milkweed"]
["Asclepias speciosa","FAC","FAC"]
[" Showy Milkweed"]
["Asclepias sperryi","UPL","UPL"]
[" Sperry's milkweed"]
["Asclepias stenophylla","UPL","UPL"]
[" slimleaf milkweed"]
["Asclepias subverticillata","FACU","FACU"]
[" Horsetail Milkweed"]
["Asclepias syriaca","UPL","UPL"]
[" Common Milkweed"]
["Asclepias tomentosa","UPL","UPL"]
[" tuba milkweed"]
["Asclepias tuberosa","UPL","UPL"]
[" butterfly milkweed"]
["Asclepias uncialis","UPL","UPL"]
[" wheel milkweed"]
["Asclepias variegata","FACU","FACU"]
[" Red-Ring Milkweed"]
["Asclepias verticillata","FACU","FACU"]
[" Whorled Milkweed"]
["Asclepias viridiflora","UPL","UPL"]
[" green comet milkweed"]
["Asclepias viridis","UPL","UPL"]
[" green antelopehorn"]
["Asclepias viridula","FACW","FACW"]
[" Southern Milkweed"]
["Asimina","",""]
[" pawpaw"]
["Asimina angustifolia","UPL","UPL"]
[" slimleaf pawpaw"]
["Asimina incana","UPL","UPL"]
[" woolly pawpaw"]
["Asimina obovata","UPL","UPL"]
[" bigflower pawpaw"]
["Asimina parviflora","FACU","FACU"]
[" Small-Flower Pawpaw"]
["Asimina pygmea","FACU","FACU"]
[" Dwarf Pawpaw"]
["Asimina reticulata","FACU","FACU"]
[" Netted Pawpaw"]
["Asimina tetramera","UPL","UPL"]
[" fourpetal pawpaw"]
["Asimina triloba","FAC","FACU"]
[" blue woodruff"]
["Asplenium dentatum","FACU","FACU"]
[" Ebony Spleenwort"]
["Asplenium verecundum","UPL","UPL"]
[" spleenwort"]
[" Crescent milkvetch"]
["Astragalus giganteus","UPL","UPL"]
["Astragalus gypsodes","UPL","UPL"]
[" Edwards Plateau milkvetch"]
["Astragalus waterfallii","UPL","UPL"]
["Athyrium filix-femina","UPL","UPL"]
[" Saline Saltbush"]
["Atriplex matamorensis","UPL","UPL"]
[" Tumbling Orache"]
["Aubrieta deltoidea","UPL","UPL"]
[" animated oat"]
["Axyris","",""]
[" hairy ayenia"]
["Baccharis brachyphylla","UPL","UPL"]
["Bahia absinthifolia","UPL","UPL"]
[" honeycombhead"]
["Baptisia","",""]
[" grayhairy wild indigo"]
["Baptisia X sulphurea","UPL","UPL"]
[" screwstem"]
["Bassia","",""]
[" purple gaymallow"]
["Bauhinia yunnanensis","UPL","UPL"]
["Berberis","",""]
[" bergia"]
["Bernardia","",""]
[" beet"]
[" Downy Birch"]
[" bishop"]
["Bignonia capreolata","FAC","FAC"]
[" midsorus fern"]
["Blephilia ciliata","UPL","UPL"]
[" false oxtongue"]
[" narrowleaf spiderling"]
["Boerhavia purpurascens","UPL","UPL"]
["Bontia daphnoides","FACW","FACW"]
["Bothriochloa alta","UPL","UPL"]
[" pitted beardgrass"]
[" paintedtongue"]
["Bouteloua aristidoides","UPL","UPL"]
[" hairy grama"]
["Bouteloua uniflora","UPL","UPL"]
["Brachythecium","",""]
["Brasiliopuntia","",""]
[" black mustard"]
["Brickellia","",""]
[" leafy brickellbush"]
[" pinguin"]
["Bromus erectus","UPL","UPL"]
[" Compact Brome"]
[" littleleaf greentwig"]
["Broussonetia","",""]
["Bryum","",""]
[" American Bluehearts"]
["Buddleja alternifolia","UPL","UPL"]
[" escobilla butterflybush"]
["Bulbostylis hirta","UPL","UPL"]
["Butia capitata","UPL","UPL"]
["Cabomba","",""]
[" fewflower holdback"]
["Cakile constricta","FACU","FACU"]
["Calamovilfa brevipilis","OBL","OBL"]
[" pot marigold"]
["Calliandra eriophylla","UPL","UPL"]
[" callicladium moss"]
["Callirhoe digitata","UPL","UPL"]
[" littleflower roseling"]
["Callitris glaucophylla","UPL","UPL"]
[" Bearded Grass-Pink"]
["Calycera","",""]
["Calyptranthes zuzygium","UPL","UPL"]
[" camas"]
["Camellia japonica","UPL","UPL"]
[" small bonny bellflower"]
["Campylium stellatum","UPL","UPL"]
[" wild cinnamon"]
[" marijuana"]
[" Goatweed"]
["Cardamine","",""]
[" Woodland Bittercress"]
[" spiny plumeless thistle"]
[" Lesser Pond Sedge"]
["Carex annectens","FACW","FACW"]
[" Prickly Bog Sedge"]
[" Bryson's sedge"]
["Carex cephaloidea","FAC","FAC"]
[" Hirsute Sedge"]
["Carex cryptolepis","OBL","OBL"]
[" northern sedge"]
["Carex extensa","OBL","OBL"]
[" Godfrey's sedge"]
["Carex gynocrates","OBL","OBL"]
[" Shoreline Sedge"]
["Carex juniperorum","UPL","UPL"]
["Carex louisianica","OBL","OBL"]
[" Mead's Sedge"]
["Carex molestiformis","UPL","UPL"]
[" Greater Straw Sedge"]
["Carex panicea","UPL","UPL"]
["Carex purpurifera","UPL","UPL"]
[" Ruth's sedge"]
["Carex siccata","UPL","UPL"]
[" Dioecious Sedge"]
["Carex tenax","UPL","UPL"]
["Carex venusta","FACW","FACW"]
["Carica","",""]
["Carlina","",""]
[" littleleaf wrightwort"]
[" American Hornbeam"]
["Cartrema americana","FAC","FAC"]
[" scrub hickory"]
["Carya X brownii","UPL","UPL"]
["Caryota","",""]
["Castanea pumila","UPL","UPL"]
["Castilleja kraliana","UPL","UPL"]
[" sheoak"]
["Catapodium","",""]
["Cayaponia americana","FAC","FAC"]
[" desert ceanothus"]
["Celastrus paniculatus","UPL","UPL"]
[" hackberry"]
[" Buffel Grass"]
[" diffuse knapweed"]
["Centaurea solstitialis","UPL","UPL"]
["Centaurium tenuiflorum","FACW","FACW"]
[" Larkdaisy"]
["Cerastium","",""]
["Ceratonia","",""]
[" Floating Antler Fern"]
[" wild foxglove"]
["Chaenomeles","",""]
["Chaetopappa parryi","UPL","UPL"]
[" Gregg's sensitive pea"]
["Chamaecyparis thyoides","OBL","OBL"]
[" Roman chamomile"]
["Chamaesaracha pallida","UPL","UPL"]
["Chamaesyce cordifolia","UPL","UPL"]
["Chamaesyce lasiocarpa","UPL","UPL"]
[" Parry's sandmat"]
["Chamaesyce theriaca","UPL","UPL"]
[" white sunbonnets"]
[" hairy lipfern"]
["Cheilanthes yavapensis","UPL","UPL"]
[" White Turtlehead"]
["Chenopodium capitatum","UPL","UPL"]
[" manyseed goosefoot"]
["Chimaphila maculata","UPL","UPL"]
[" windmill grass"]
["Chloris gayana","FACU","FACU"]
[" tumble windmill grass"]
["Chorispora","",""]
["Chrysogonum","",""]
[" red false beardgrass"]
["Chrysopsis mariana","UPL","UPL"]
["Chrysothamnus pulchellus","UPL","UPL"]
["Circaea alpina","FACW","FACW"]
[" Canadian Thistle"]
["Cirsium lecontei","FACW","FACW"]
[" Virginia Thistle"]
["Citharexylum","",""]
["Cladonia","",""]
[" British soldier lichen"]
[" cleistesiopsis"]
["Clematis fremontii","UPL","UPL"]
["Clematis viticella","UPL","UPL"]
[" toothed spiderflower"]
["Clerodendrum kaempferi","UPL","UPL"]
[" mountain sweetpepperbush"]
["Climacium kindbergii","UPL","UPL"]
[" cnicus"]
["Coccocypselum hirsutum","UPL","UPL"]
[" laurel-leaf snailseed"]
["Coelorachis tessellata","FACW","FACW"]
["Collinsia heterophylla","UPL","UPL"]
[" trumpet"]
["Colubrina arborescens","UPL","UPL"]
[" Jio"]
[" White-Mouth Dayflower"]
[" mangrove"]
["Conradina etonia","UPL","UPL"]
[" knight's-spur"]
["Convolvulus arvensis","UPL","UPL"]
[" rainlily"]
[" jackswitch"]
["Cordia curassavica","UPL","UPL"]
["Coreopsis auriculata","UPL","UPL"]
[" Fringe-Leaf Tickseed"]
["Coreopsis palmata","UPL","UPL"]
["Cornus alternifolia","FAC","FAC"]
[" Gray Dogwood"]
["Coronopus squamatus","UPL","UPL"]
[" scrambled eggs"]
[" beehive cactus"]
[" spreading cotoneaster"]
["Crassocephalum","",""]
[" Smooth-Seed Pygmyweed"]
["Crataegus arcana","UPL","UPL"]
[" Brazos hawthorn"]
[" northern hawthorn"]
["Crataegus fulleriana","UPL","UPL"]
["Crataegus jesupii","UPL","UPL"]
[" Kellogg's hawthorn"]
[" Florida hawthorn"]
["Crataegus pratensis","UPL","UPL"]
[" jeweled hawthorn"]
["Crataegus suborbiculata","UPL","UPL"]
[" minute hawthorn"]
[" rough hawksbeard"]
[" alkaliweed"]
["Crocosmia","",""]
["Croptilon rigidifolium","UPL","UPL"]
["Crotalaria spectabilis","FACU","FACU"]
[" healing croton"]
["Croton glandulosus","UPL","UPL"]
[" prairie tea"]
["Cruciata pedemontana","UPL","UPL"]
[" redroot cryptantha"]
["Cryptomeria japonica","UPL","UPL"]
[" Florida lacefern"]
["Cucumis anguria","UPL","UPL"]
["Cuminum cyminum","UPL","UPL"]
[" waxweed"]
["Curculigo","",""]
[" buttonbush dodder"]
["Cuscuta exaltata","UPL","UPL"]
[" Cooper's cyathea"]
["Cycloloma atriplicifolium","FACU","FACU"]
[" Marsh-Parsley"]
["Cylindropuntia kleiniae","UPL","UPL"]
[" Iwarancusa grass"]
[" European swallow-wort"]
["Cynoglossum furcatum","UPL","UPL"]
[" Fox-Tail Flat Sedge"]
[" buttonbush flatsedge"]
["Cyperus drummondii","OBL","OBL"]
["Cyperus grayi","UPL","UPL"]
[" Many-Flower Flat Sedge"]
["Cyperus odoratus","FACW","FACW"]
[" Flat-Leaf Flat Sedge"]
["Cyperus retroflexus","UPL","UPL"]
["Cyperus unioloides","FACW","FACW"]
["Cypripedium parviflorum","FAC","FAC"]
[" cyrtopodium"]
["Cystopteris laurentiana","UPL","UPL"]
[" orchardgrass"]
[" silver prairie clover"]
["Dalea cylindriceps","UPL","UPL"]
[" glandleaf prairie clover"]
[" roundhead prairie clover"]
[" poverty oatgrass"]
["Dasyochloa","",""]
[" Sacred Thorn-Apple"]
["Deeringothamnus","",""]
[" Carolina larkspur"]
[" Lickstoop"]
["Deschampsia cespitosa","UPL","UPL"]
["Desmanthus leptophyllus","UPL","UPL"]
[" hoary ticktrefoil"]
[" Nuttall's ticktrefoil"]
["Desmodium scorpiurus","FACU","FACU"]
[" crenate pride-of-Rochester"]
["Dianella caerulea","UPL","UPL"]
[" beakgrain"]
[" Tapered Rosette Grass"]
[" Cypress Rosette Grass"]
["Dichanthelium ovale","FACU","FACU"]
[" Round-Seed Rosette Grass"]
[" Asian Pony's-Foot"]
["Dicranella heteromalla","UPL","UPL"]
[" dicranum moss"]
["Didymoglossum","",""]
["Digitalis lutea","UPL","UPL"]
["Digitaria gracillima","UPL","UPL"]
[" Carolina crabgrass"]
["Digitaria violascens","FAC","FAC"]
[" Nealley's Viper Grass"]
["Dionaea","",""]
["Diplazium esculentum","FACW","FACW"]
[" Fuller's Teasel"]
[" Coastal Salt Grass"]
["Dittrichia viscosa","UPL","UPL"]
[" Southern White-Top"]
[" Clasping-Coneflower"]
["Drosera rotundifolia","OBL","OBL"]
[" Trans-Pecos drymary"]
["Dryopetalon runcinatum","UPL","UPL"]
[" Goldie's Wood Fern"]
["Dryopteris X pittsfordensis","UPL","UPL"]
[" Golden Butterfly Palm"]
["Dysphania","",""]
[" dwarf-flower"]
["Echeandia flavescens","UPL","UPL"]
["Echinocereus berlandieri","UPL","UPL"]
[" rainbow cactus"]
["Echinochloa colona","FACW","FACW"]
[" top cactus"]
["Echium","",""]
[" egeria"]
["Eichhornia","",""]
[" autumn olive"]
["Eleocharis acicularis","OBL","OBL"]
["Eleocharis fallax","OBL","OBL"]
[" Small Spike-Rush"]
["Eleocharis parvula","OBL","OBL"]
["Eleocharis rostellata","OBL","OBL"]
["Elionurus","",""]
[" waterweed"]
["Elymus canadensis","FAC","FAC"]
[" early wildrye"]
["Elymus virginicus","FAC","FAC"]
["Encyclia rufa","UPL","UPL"]
[" false rue anemone"]
[" seductive entodon moss"]
["Ephedra torreyana","UPL","UPL"]
["Epilobium","",""]
[" Giant Helleborine"]
["Epithelantha micromeris","UPL","UPL"]
[" Smooth Scouring-Rush"]
[" Mediterranean lovegrass"]
[" Elliot's Love Grass"]
[" Dominican Love Grass"]
["Eragrostis spicata","UPL","UPL"]
[" eranthemum"]
["Erica vagans","UPL","UPL"]
["Erigeron geiseri","UPL","UPL"]
[" Rio Grande fleabane"]
["Eriocaulon aquaticum","OBL","OBL"]
["Eriochloa contracta","FAC","FAC"]
[" Carib Grass"]
[" heartsepal buckwheat"]
["Erioneuron","",""]
[" blacktorch"]
["Erodium moschatum","UPL","UPL"]
[" eryngo"]
[" western wallflower"]
[" redcardinal"]
["Escobaria albicolumnaria","UPL","UPL"]
[" Missouri foxtail cactus"]
["Eubotrys racemosus","UPL","UPL"]
["Eulophia alta","FACW","FACW"]
[" European spindletree"]
["Eupatorium cannabinum","UPL","UPL"]
["Eupatorium perfoliatum","FACW","FACW"]
[" forked spurge"]
["Euphorbia dentata","UPL","UPL"]
[" sickle spurge"]
["Euphorbia hypericifolia","FACU","FACU"]
[" wedgeleaf spurge"]
[" Darlington's Glade Spurge"]
["Euphorbia tetrapora","UPL","UPL"]
["Eurhynchium","",""]
[" forked aster"]
[" twospike fingergrass"]
["Euthamia","",""]
[" Sweet-Scented Joe-Pye-Weed"]
["Evolvulus arenarius","UPL","UPL"]
[" pearlbrush"]
[" Black-Bindweed"]
[" fendlerbush"]
["Festuca heterophylla","UPL","UPL"]
[" Thurber's fescue"]
[" common cottonrose"]
["Fimbristylis cymosa","FAC","FAC"]
[" Woolly Fimbry"]
["Flaveria","",""]
[" floerkea"]
["Forestiera ligustrina","FAC","FAC"]
[" ocotillo"]
["Frangula caroliniana","FACU","FACU"]
[" American columbo"]
["Fraxinus papillosa","UPL","UPL"]
["Fuirena coerulescens","UPL","UPL"]
[" fineleaf fumitory"]
["Funastrum cynanchoides","FACU","FACU"]
[" maroon blanketflower"]
[" milkpea"]
[" snowdrop"]
["Galearis spectabilis","UPL","UPL"]
[" gallant soldier"]
["Galium boreale","FAC","FAC"]
[" purple bedstraw"]
[" Wright's bedstraw"]
["Gamochaeta","",""]
["Gastridium","",""]
[" box huckleberry"]
[" Pine-Barren Gentian"]
["Gentiana X billingtonii","UPL","UPL"]
[" geocarpon"]
["Geranium maculatum","FACU","FACU"]
[" Siberian geranium"]
[" bluehead gilia"]
[" Rio Grande gilia"]
["Gisekia pharnacioides","UPL","UPL"]
[" Dakota mock vervain"]
["Glandularia pulchella","UPL","UPL"]
[" Water-Locust"]
["Gloriosa","",""]
[" mannagrass"]
[" soybean"]
[" anglepod"]
["Gossypianthus","",""]
[" caricature-plant"]
["Gratiola neglecta","OBL","OBL"]
[" grewia"]
[" Big Bend pricklypear"]
["Guapira","",""]
["Guilleminea densa","UPL","UPL"]
[" false box"]
[" button burrweed"]
["Gypsophila oldhamiana","UPL","UPL"]
[" Long-Horn False Rein Orchid"]
["Hackelia pinetorum","UPL","UPL"]
[" halimodendron"]
[" Mississippi Witch-Hazel"]
[" Pond Harperella"]
["Harrisia eriophora","UPL","UPL"]
[" havardia"]
["Hedeoma hispida","UPL","UPL"]
["Hedypnois cretica","UPL","UPL"]
[" Fall Sneezeweed"]
["Helenium vernale","FACW","FACW"]
["Helianthus angustifolius","FACW","FACW"]
[" Common Sunflower"]
[" Maximilian Sunflower"]
["Helianthus petiolaris","UPL","UPL"]
[" Smith's sunflower"]
["Helianthus X intermedius","UPL","UPL"]
[" longleaf false goldeneye"]
[" Dwarf Heliotrope"]
[" Swamp-Pink"]
["Hemigraphis","",""]
["Heracleum mantegazzianum","FAC","FAC"]
["Hesperis","",""]
[" Grass-Leaf Mud-Plantain"]
["Heteropogon","",""]
[" rockyscree false goldenaster"]
["Heuchera caroliniana","UPL","UPL"]
[" heartleaf"]
["Hibiscus aculeatus","FACW","FACW"]
[" Swamp Rose-Mallow"]
["Hibiscus sabdariffa","UPL","UPL"]
[" yellow hawkweed"]
[" hawkweed"]
["Hippobroma longiflora","UPL","UPL"]
[" rushpea"]
["Holcus lanatus","FACU","FACU"]
[" common barley"]
["Houstonia acerosa","UPL","UPL"]
[" Greenman's bluet"]
["Houttuynia","",""]
[" woolly beachheather"]
[" greenviolet"]
["Hydrangea paniculata","FAC","FAC"]
[" Coastal Marsh-Pennywort"]
[" Lawn Marsh-Pennywort"]
[" Water-Wisteria"]
["Hymenachne","",""]
[" Franklin spiderlily"]
["Hymenocallis palmeri","OBL","OBL"]
[" fineleaf hymenopappus"]
[" hyophila moss"]
["Hypecoum imberbe","UPL","UPL"]
["Hypericum canadense","FACW","FACW"]
[" disguised St. Johnswort"]
["Hypericum frondosum","UPL","UPL"]
["Hypericum punctatum","FAC","FAC"]
[" Lesser St. John's-Wort"]
[" Hairy Cat's-Ear"]
["Hypoxis sessilis","FAC","FAC"]
["Ibervillea tenuisecta","UPL","UPL"]
["Ilex krugiana","UPL","UPL"]
[" Common Winterberry"]
["Impatiens walleriana","FACW","FACW"]
[" rusty indigo"]
[" aster"]
["Ipomoea batatas","UPL","UPL"]
[" heartleaf morning-glory"]
[" Whitestar"]
["Ipomoea quamoclit","FACU","FACU"]
["Ipomopsis laxiflora","UPL","UPL"]
[" Standley's bloodleaf"]
["Iris ensata","UPL","UPL"]
[" Pale-Yellow Iris"]
["Iris virginica","OBL","OBL"]
["Isoetes acadiensis","OBL","OBL"]
["Isoetes melanopoda","OBL","OBL"]
[" Shore Quillwort"]
["Isoetes X carltaylorii","UPL","UPL"]
["Isotrema tomentosum","FAC","FAC"]
["Ixophorus","",""]
[" ragwort"]
["Jacquinia","",""]
[" janusia"]
["Jatropha integerrima","UPL","UPL"]
[" buart"]
["Juncus brachycarpus","FACW","FACW"]
[" Leathery Rush"]
["Juncus filipendulus","FAC","FAC"]
["Juncus roemerianus","OBL","OBL"]
[" Red-Pod Rush"]
[" Rocky Mountain juniper"]
[" longflower tube tongue"]
[" caltrop"]
["Kalmia buxifolia","FACU","FACU"]
[" karwinskia"]
["Kickxia spuria","UPL","UPL"]
[" prairie Junegrass"]
[" dwarfdandelion"]
[" Potato Dwarf-Dandelion"]
["Kyllinga pumila","FACW","FACW"]
[" Carolina Redroot"]
[" Wild Blue Lettuce"]
[" Turner's horseweed"]
["Laguncularia racemosa","OBL","OBL"]
[" purple deadnettle"]
["Lantana canescens","UPL","UPL"]
[" stickseed"]
["Lathyrus inconspicuus","UPL","UPL"]
[" Meadow Vetchling"]
["Leavenworthia","",""]
[" Michaux's Gladecress"]
[" narrowleaf pinweed"]
["Leitneria","",""]
[" Least Duckweed"]
["Leonurus","",""]
["Lepanthopsis","",""]
["Lepidium perfoliatum","FACU","FACU"]
[" Argentine sprangletop"]
["Leptochloa virgata","FAC","FAC"]
[" shrub lespedeza"]
["Lespedeza texana","UPL","UPL"]
["Lesquerella densipila","UPL","UPL"]
[" roughpod bladderpod"]
[" gaslight bladderpod"]
["Leucaena leucocephala","FACU","FACU"]
[" leucobryum moss"]
[" levisticum"]
["Liatris cymosa","UPL","UPL"]
[" Slender Gayfeather"]
["Liatris provincialis","UPL","UPL"]
["Liatris X boykinii","UPL","UPL"]
["Ligusticum canadense","FAC","FAC"]
[" waxyleaf privet"]
["Lilium catesbaei","FACW","FACW"]
[" Wood Lily"]
["Limosella australis","OBL","OBL"]
[" Moroccan toadflax"]
["Lindernia","",""]
["Lindernia procumbens","FACW","FACW"]
["Linum macrocarpum","UPL","UPL"]
[" Schied's flax"]
["Liparis nervosa","OBL","OBL"]
[" Rehman's halfchaff sedge"]
["Liriope spicata","UPL","UPL"]
["Livistona","",""]
[" Boykin's Lobelia"]
[" Indian-Tobacco"]
["Lobelia X rogersii","UPL","UPL"]
[" Schott's calico"]
[" western white honeysuckle"]
["Lonicera maackii","UPL","UPL"]
["Lonicera X minutiflora","UPL","UPL"]
[" peyote"]
[" Cylindric-Fruit Primrose-Willow"]
[" Southeastern Primrose-Willow"]
["Ludwigia spathulata","OBL","OBL"]
[" lunaria"]
["Lupinus concinnus","UPL","UPL"]
["Luzula","",""]
[" brilliant campion"]
["Lycium chinense","UPL","UPL"]
[" Feather-Stem Club-Moss"]
["Lycopodium X habereri","UPL","UPL"]
["Lygodesmia juncea","UPL","UPL"]
[" Coastal-Plain Staggerbush"]
["Lysimachia arvensis","FACU","FACU"]
[" Lowland Yellow-Loosestrife"]
["Lysimachia quadrifolia","FACU","FACU"]
[" European wand loosestrife"]
[" macfadyena"]
["Macradenia lutescens","UPL","UPL"]
[" macrothelypteris"]
["Magnolia kobus","UPL","UPL"]
["Malachra","",""]
[" Sonoran desertdandelion"]
["Malpighia","",""]
[" sweet crab apple"]
["Malva sylvestris","UPL","UPL"]
[" wax mallow"]
["Mammillaria heyderi","UPL","UPL"]
[" rocktrumpet"]
["Manfreda sileri","UPL","UPL"]
["Marshallia caespitosa","FACU","FACU"]
[" waterclover"]
["Matelea","",""]
[" smallflower milkvine"]
["Matthiola","",""]
[" tiger orchid"]
["Mecardonia","",""]
[" Heldreich's alfalfa"]
["Medicago turbinata","UPL","UPL"]
["Melastoma","",""]
[" Montezuma melicgrass"]
["Melilotus indicus","FACU","FACU"]
["Melochia pyramidata","FAC","FAC"]
["Mentha X gracilis","FAC","FAC"]
[" gypsum blazingstar"]
["Mentzelia pachyrhiza","UPL","UPL"]
[" mercurialis"]
["Merremia umbellata","UPL","UPL"]
[" Banana shrub"]
["Micranthemum glomeratum","OBL","OBL"]
["Microseris lindleyi","UPL","UPL"]
["Mikania micrantha","UPL","UPL"]
[" catclaw mimosa"]
[" monkeyflower"]
["Minuartia cumberlandensis","UPL","UPL"]
[" Pitcher's Stitchwort"]
["Mirabilis hirsuta","UPL","UPL"]
["Mitella diphylla","FACU","FACU"]
["Moehringia","",""]
[" nakedstem carpetweed"]
["Monarda bradburiana","UPL","UPL"]
[" Lindheimer's beebalm"]
["Monolepis nuttalliana","FACU","FACU"]
["Moricandia arvensis","UPL","UPL"]
[" Gregg's saddlebush"]
[" mucuna"]
["Muhlenbergia brevis","UPL","UPL"]
[" Pullup Muhly"]
[" Slender Muhly"]
["Muhlenbergia torreyana","FACW","FACW"]
[" muntingia"]
["Musa","",""]
[" Giant-Chickweed"]
[" myrcianthes"]
["Myriophyllum verticillatum","OBL","OBL"]
[" Nodding Rattlesnake-Root"]
["Najas minor","OBL","OBL"]
["Narcissus assoanus","UPL","UPL"]
[" primrose peerless"]
["Nassella trichotoma","UPL","UPL"]
[" Skunkweed"]
["Nemophila menziesii","UPL","UPL"]
[" catnip"]
["Neptunia oleracea","OBL","OBL"]
[" oleander"]
["Neviusia alabamensis","UPL","UPL"]
["Nierembergia scoparia","UPL","UPL"]
[" pennycress"]
["Nolina micrantha","UPL","UPL"]
[" cloak fern"]
["Nuphar advena","OBL","OBL"]
[" devil's bouquet"]
["Nymphaea odorata","OBL","OBL"]
[" tupelo"]
["Ochna","",""]
[" waterdropwort"]
["Oenothera canescens","FAC","FAC"]
[" Curtiss' evening primrose"]
[" Havard's evening primrose"]
["Oenothera macrocarpa","UPL","UPL"]
["Okenia","",""]
[" oligomeris"]
["Omphalodes","",""]
[" Sensitive Fern"]
["Ophioglossum","",""]
[" chenille pricklypear"]
["Opuntia engelmannii","UPL","UPL"]
[" common pricklypear"]
["Opuntia triacantha","UPL","UPL"]
[" French-grass"]
[" hellroot"]
["Orthilia secunda","FAC","FAC"]
[" Brown-Beard Rice"]
[" osmundastrum"]
["Oxalis debilis","UPL","UPL"]
["Oxypolis canbyi","OBL","OBL"]
[" white locoweed"]
["Packera fendleri","UPL","UPL"]
[" Prairie Groundsel"]
[" Texas palafox"]
["Panicum amarum","FAC","FAC"]
["Panicum capillare","FAC","FAC"]
[" Havard's panicgrass"]
["Panicum psilopodium","UPL","UPL"]
["Parathelypteris","",""]
[" Pennsylvania Pellitory"]
["Parnassia glauca","OBL","OBL"]
[" Drummond's nailwort"]
[" bristle nailwort"]
[" sevenleaf creeper"]
["Paspalidium geminatum","OBL","OBL"]
[" Blue Crown Grass"]
["Paspalum distichum","OBL","OBL"]
["Paspalum quadrifarium","UPL","UPL"]
[" Seashore Crown Grass"]
["Passiflora filipes","UPL","UPL"]
["Passiflora sexflora","UPL","UPL"]
["Pecluma","",""]
[" yerba de San Juan"]
["Pectocarya platycarpa","UPL","UPL"]
[" largebract Indian breadroot"]
["Pediomelum pentaphyllum","UPL","UPL"]
["Pellaea wrightiana","UPL","UPL"]
[" mock thelypody"]
[" mountain mock thelypody"]
["Penstemon alluviorum","FACW","FACW"]
[" cardinal beardtongue"]
[" Pale Beardtongue"]
["Pentalinon luteum","FAC","FAC"]
[" peperomia"]
["Peperomia rotundifolia","UPL","UPL"]
[" Beefsteakplant"]
["Perityle vitreomontana","UPL","UPL"]
[" Pink Knotweed"]
["Persicaria longiseta","FAC","FAC"]
[" Oriental Lady's-Thumb"]
["Peteria scoparia","UPL","UPL"]
["Petunia X atkinsiana","UPL","UPL"]
[" Buttercup Scorpion-Weed"]
["Phacelia maculata","UPL","UPL"]
[" canarygrass"]
[" May Grass"]
[" variable bean"]
[" beechfern"]
["Phemeranthus brevicaulis","UPL","UPL"]
[" prairie fameflower"]
[" Sharp's mock orange"]
["Phleum subulatum","UPL","UPL"]
[" swordleaf phlox"]
[" trailing phlox"]
["Phlox subulata","UPL","UPL"]
["Phoradendron rubrum","UPL","UPL"]
[" phryma"]
["Phyla stoechadifolia","FACW","FACW"]
["Phyllanthus caroliniensis","FAC","FAC"]
["Phyllostachys meyeri","UPL","UPL"]
[" Cut-Leaf Ground-Cherry"]
[" clammy groundcherry"]
["Physalis philadelphica","UPL","UPL"]
[" twinpod"]
[" Norway spruce"]
["Picramnia pentandra","UPL","UPL"]
[" Lesser Clearweed"]
["Pimenta","",""]
[" crowdipper"]
["Pinus cembroides","UPL","UPL"]
[" Long-Leaf Pine"]
["Pinus strobiformis","UPL","UPL"]
[" Sonderegger pine"]
[" catchbirdtree"]
["Pisum fulvum","UPL","UPL"]
[" monkey's-comb"]
[" zigzag silkgrass"]
["Plagiomnium","",""]
["Plantago media","UPL","UPL"]
[" White Fringed Orchid"]
[" Greater Purple Fringed Orchid"]
["Platanthera X apalachicola","FACW","FACW"]
[" plateilema"]
[" Sprengel's plaubelia moss"]
[" tobosagrass"]
["Pluchea longifolia","OBL","OBL"]
[" plumeria"]
["Poa chapmaniana","FAC","FAC"]
["Podocarpus macrophyllus","UPL","UPL"]
[" pogonia"]
["Polemonium reptans","FAC","FAC"]
["Polycarpaea","",""]
[" Baldwin's Milkwort"]
[" glandleaf milkwort"]
["Polygala ovatifolia","UPL","UPL"]
[" Coastal-Plain Milkwort"]
["Polygonatum biflorum","FACU","FACU"]
["Polygonum baldschuanicum","UPL","UPL"]
[" bristly smartweed"]
[" polypody"]
["Polypogon interruptus","OBL","OBL"]
[" geranium aralia"]
[" Ohio polytrichum moss"]
["Pontederia cordata","OBL","OBL"]
[" Balsam Poplar"]
["Populus X canescens","UPL","UPL"]
["Portulaca suffrutescens","UPL","UPL"]
["Potamogeton bicupulatus","OBL","OBL"]
[" Long-Leaf Pondweed"]
["Potamogeton spirillus","OBL","OBL"]
[" English cinquefoil"]
["Praxelis clematidea","FACU","FACU"]
[" barbed rattlesnakeroot"]
["Primula veris","UPL","UPL"]
[" doubleclaw"]
["Prosopis glandulosa","UPL","UPL"]
[" Carolina Laurel Cherry"]
["Prunus hortulana","UPL","UPL"]
[" West Indian cherry"]
["Prunus texana","UPL","UPL"]
["Pseudoclappia watsonii","UPL","UPL"]
[" Jersey Rabbit-Tobacco"]
["Pseudolycopodiella","",""]
[" Purple Strawberry Guava"]
[" mangroveberry"]
[" dotted wild coffee"]
["Pteris grandifolia","OBL","OBL"]
[" Chinese wingnut"]
["Ptilimnium","",""]
[" Saltmarsh Alkali Grass"]
[" basil mountainmint"]
["Pycnanthemum pycnanthemoides","UPL","UPL"]
["Pyracantha fortuneana","UPL","UPL"]
[" pyrostegia"]
["Pyrus","",""]
["Quercus buckleyi","UPL","UPL"]
[" Emory oak"]
["Quercus hemisphaerica","FACU","FACU"]
[" dwarf oak"]
[" Water Oak"]
[" Shumard's Oak"]
["Quercus turbinella","UPL","UPL"]
["Quercus X bernardiensis","UPL","UPL"]
[" hybrid oak"]
[" hybrid oak"]
["Quercus X introgressa","UPL","UPL"]
["Quercus X moultonensis","UPL","UPL"]
[" false sand post oak"]
["Quercus X schochiana","UPL","UPL"]
["Quisqualis","",""]
[" buttercup"]
["Ranunculus flabellaris","OBL","OBL"]
[" Large Buttercup"]
[" annual bastardcabbage"]
["Ratibida columnifera","UPL","UPL"]
["Remirea","",""]
[" rampion mignonette"]
["Reynoutria X bohemica","FACU","FACU"]
[" Yellow Meadow-Beauty"]
["Rhexia X brevibracteata","FACW","FACW"]
["Rhodobryum roseum","UPL","UPL"]
[" Carolina azalea"]
[" angled sandmint"]
[" false poison sumac"]
["Rhynchosia cinerea","UPL","UPL"]
[" small-leaf snoutbean"]
["Rhynchospora baldwinii","FACW","FACW"]
["Rhynchospora elliottii","FACW","FACW"]
[" Clustered Beak Sedge"]
["Rhynchospora knieskernii","OBL","OBL"]
["Rhynchospora mixta","OBL","OBL"]
[" Pineland Beak Sedge"]
[" Golden Currant"]
["Ribes mescalerium","UPL","UPL"]
[" largeflower Mexican clover"]
["Robinia","",""]
[" Hartweg's groundsel"]
[" Carolina Rose"]
[" white prairie rose"]
["Rosa tomentosa","UPL","UPL"]
[" polyantha rose"]
["Rottboellia","",""]
["Rubus armeniacus","UPL","UPL"]
[" Boynton's dewberry"]
["Rubus depavitus","UPL","UPL"]
[" Windham County blackberry"]
["Rubus hypolasius","OBL","OBL"]
[" dryslope dewberry"]
["Rubus nefrens","UPL","UPL"]
[" Cold Spring blackberry"]
["Rubus permixtus","UPL","UPL"]
["Rubus riograndis","UPL","UPL"]
[" New Orleans Dewberry"]
["Rubus ucetanus","UPL","UPL"]
[" Green-Head Coneflower"]
[" Mohr's Coneflower"]
[" Night-Flowering Wild Petunia"]
["Rugelia nudicaulis","UPL","UPL"]
[" Browne's dock"]
["Rumex fueginus","OBL","OBL"]
["Ruppia","",""]
[" common rue"]
["Sabatia brachiata","FAC","FAC"]
["Sabatia dodecandra","OBL","OBL"]
[" Rose-of-Plymouth"]
[" Wright's mock buckthorn"]
["Sagittaria ambigua","OBL","OBL"]
[" Narrow-Leaf Arrowhead"]
[" Nipple-Bract Arrowhead"]
["Salix bebbiana","FACW","FACW"]
[" Pussy Willow"]
[" Silky Willow"]
["Salix X glatfelteri","FACW","FACW"]
["Salvia arizonica","UPL","UPL"]
["Salvia pratensis","UPL","UPL"]
[" Texas sage"]
["Salvia X sylvestris","UPL","UPL"]
[" Red Elder"]
["Sanicula","",""]
["Sapium glandulosum","UPL","UPL"]
[" Alabama Cranebrake Pitcherplant"]
["Sarracenia X ahlesii","UPL","UPL"]
[" pitcherplant"]
["Sarracenia X swaniana","UPL","UPL"]
["Scaevola plumieri","FACU","FACU"]
[" Dixie Grape Fern"]
[" dwarf umbrella tree"]
["Scheuchzeria palustris","OBL","OBL"]
["Schizachyrium rhizomatum","FACW","FACW"]
[" false threadleaf"]
["Schoenocrambe","",""]
[" California Club-Rush"]
["Schoenoplectus lacustris","OBL","OBL"]
["Schoepfia","",""]
["Scirpus divaricatus","OBL","OBL"]
[" Pale Bulrush"]
["Scleria ciliata","FAC","FAC"]
[" Little-Head Nut-Rush"]
[" licorice weed"]
["Scrophularia","",""]
[" Alabama skullcap"]
[" Georgia skullcap"]
["Scutellaria multiglandulosa","UPL","UPL"]
["Sechium edule","UPL","UPL"]
["Sedum glaucophyllum","UPL","UPL"]
[" yellow stonecrop"]
["Selaginella","",""]
["Selaginella viridissima","UPL","UPL"]
["Selenicereus coniflorus","UPL","UPL"]
["Selinocarpus angustifolius","UPL","UPL"]
[" threadleaf ragwort"]
["Senecio sylvaticus","UPL","UPL"]
["Senna obtusifolia","FACU","FACU"]
[" twoleaf senna"]
["Sericocarpus asteroides","UPL","UPL"]
[" Poison-Bean"]
[" coastal bristlegrass"]
[" Yellow Bristle Grass"]
["Setaria verticillata","FAC","FAC"]
["Seymeria","",""]
[" beaked skeletonweed"]
[" Antilles fanpetals"]
["Sida linifolia","UPL","UPL"]
[" tropical fanpetals"]
["Sideritis romana","UPL","UPL"]
[" sweet William silene"]
["Silene nivea","FAC","FAC"]
[" widowsfrill"]
["Silphium gracile","UPL","UPL"]
[" Reverchon's rosinweed"]
["Simsia","",""]
["Sisyrinchium albidum","FAC","FAC"]
[" swordleaf blue-eyed grass"]
["Sisyrinchium sagittiferum","FAC","FAC"]
["Smilax auriculata","FACU","FACU"]
["Smilax walteri","OBL","OBL"]
[" Cockroach-Berry"]
["Solanum dulcamara","FAC","FAC"]
[" tigna potato"]
["Solanum ptycanthum","UPL","UPL"]
["Solidago","",""]
[" Tall Goldenrod"]
[" Zigzag Goldenrod"]
["Solidago latissimifolia","OBL","OBL"]
[" downy ragged goldenrod"]
[" Blue Ridge goldenrod"]
["Solidago X asperula","FACU","FACU"]
["Sonchus asper","FACU","FACU"]
[" Yellow Necklacepod"]
[" Branched Burr-Reed"]
[" Salt-Meadow Cord Grass"]
[" spurry"]
["Spergularia platensis","FACW","FACW"]
[" Woodland False Buttonweed"]
[" palmleaf globemallow"]
["Sphagnum carolinianum","UPL","UPL"]
[" sphagnum"]
[" Texas wedgescale"]
[" pinkroot"]
[" bridalwreath spirea"]
["Spiraea X subcanescens","UPL","UPL"]
[" Florida Ladies'-Tresses"]
["Spiranthes torta","FACU","FACU"]
[" spike dropseed"]
["Sporobolus indicus","FACU","FACU"]
["Sporobolus purpurascens","UPL","UPL"]
[" Mock Pennyroyal"]
["Stachys drummondii","UPL","UPL"]
["Staphylea","",""]
[" Boreal Starwort"]
["Stemodia durantifolia","FACW","FACW"]
[" Osceola's-Plume"]
["Stenorrhynchos","",""]
[" wirelettuce"]
["Stillingia aquatica","OBL","OBL"]
[" bracted jewelflower"]
["Striga","",""]
["Stylisma humistrata","UPL","UPL"]
[" celandine poppy"]
["Styphnolobium japonicum","UPL","UPL"]
["Suaeda","",""]
[" mahogany"]
[" Lindley's aster"]
["Symphyotrichum expansum","OBL","OBL"]
[" Smooth Blue American-Aster"]
["Symphyotrichum patens","UPL","UPL"]
[" Fragile-Stem American-Aster"]
["Symplocarpus foetidus","OBL","OBL"]
["Syngonium","",""]
[" common lilac"]
["Tabebuia aurea","UPL","UPL"]
[" mountain pimpernel"]
[" tamarisk"]
["Tanacetum","",""]
[" giant spider-flower"]
["Taxus","",""]
["Teesdalia","",""]
[" Rugel's hoarypea"]
["Tetraclea","",""]
[" showy nerveray"]
["Tetraneuris scaposa","UPL","UPL"]
["Thalictrum clavatum","FACW","FACW"]
[" Little Mountain Meadow-Rue"]
["Thaspium barbinode","UPL","UPL"]
[" East Texas greenthread"]
[" Purpus' tumblemustard"]
[" Stiff Maiden Fern"]
["Thermopsis fraxinifolia","UPL","UPL"]
[" wheatgrass"]
["Thlaspi arvense","UPL","UPL"]
["Thymophylla pentachaeta","UPL","UPL"]
[" garden thyme"]
["Tilia americana","FACU","FACU"]
["Tillandsia baileyi","UPL","UPL"]
[" fuzzywuzzy airplant"]
[" tithonia"]
["Toona ciliata","UPL","UPL"]
[" Florida nutmeg"]
["Townsendia exscapa","UPL","UPL"]
[" crinkleawn grass"]
[" wild crocus"]
[" Tharp's spiderwort"]
["Tragia leptophylla","UPL","UPL"]
[" goatsbeard"]
[" Whitenymph"]
["Trichloris","",""]
[" entirewing bristle fern"]
["Trichophorum planifolium","UPL","UPL"]
["Trichostigma octandrum","FACU","FACU"]
["Trientalis","",""]
[" Carolina clover"]
["Trifolium hirtum","UPL","UPL"]
[" peanut clover"]
["Trifolium tomentosum","UPL","UPL"]
["Trillium flexipes","FAC","FAC"]
[" persistent wakerobin"]
[" illscented wakerobin"]
["Triodanis","",""]
[" orangefruit horse-gentian"]
[" fiveminute grass"]
["Triraphis","",""]
[" springstar"]
["Trixis","",""]
[" hemlock"]
["Ulex europaeus","UPL","UPL"]
[" Chinese Elm"]
["Ungnadia speciosa","UPL","UPL"]
[" Arizona signalgrass"]
[" Heart-Leaf Nettle"]
["Utricularia cornuta","OBL","OBL"]
[" Southern Bladderwort"]
["Uvularia","",""]
[" Creeping Blueberry"]
["Vaccinium X margarettiae","UPL","UPL"]
["Valerianella","",""]
[" Nuttall's cornsalad"]
["Vandenboschia","",""]
["Veratrum","",""]
[" mullein"]
["Verbascum X spurium","UPL","UPL"]
[" Texas vervain"]
[" Rio Grande Vervain"]
["Verbesina encelioides","FAC","FAC"]
[" White Crownbeard"]
["Vernonia fasciculata","FACW","FACW"]
[" Missouri Ironweed"]
["Veronica chamaedrys","UPL","UPL"]
["Veronica filiformis","UPL","UPL"]
[" Mexican arrowwood"]
["Viburnum opulus","FACW","FACW"]
[" tea viburnum"]
[" barn vetch"]
["Vigna adenantha","FACU","FACU"]
[" cowpea"]
["Viola","",""]
[" Langlois' Violet"]
["Viola pubescens","FACU","FACU"]
[" Early Blue Violet"]
[" hybrid violet"]
[" salad violet"]
[" hybrid violet"]
["Vitis cinerea","FAC","FAC"]
[" wine grape"]
[" Brome Six-Weeks Grass"]
[" wahlenbergia"]
["Warea carteri","UPL","UPL"]
[" wisteria"]
["Wolffia columbiana","OBL","OBL"]
[" New Mexico cliff fern"]
["Woodwardia virginica","OBL","OBL"]
[" Texas sleepydaisy"]
[" mucha-gente"]
[" Carolina Yellow-Eyed-Grass"]
["Xyris jupicai","OBL","OBL"]
[" Acid-Swamp Yellow-Eyed-Grass"]
[" soapweed yucca"]
["Yucca tenuistyla","UPL","UPL"]
[" horned pondweed"]
["Zanthoxylum hirsutum","UPL","UPL"]
["Zelkova serrata","UPL","UPL"]
["Zeuxine","",""]
[" shortray zinnia"]
["Zizaniopsis miliacea","OBL","OBL"]
[" common jujube"]
["Abutilon crispum","UPL","UPL"]
["Acacia smallii","FACU","FACU"]
["Acamptoclados sessilispicus","UPL","UPL"]
["Acer nigrum var. palmeri","UPL","UPL"]
["Acer rubrum var. tridens","FAC","FAC"]
["Achaetogeron versicolor","UPL","UPL"]
["Achillea gracilis","FACU","FACU"]
["Achillea millefolium var. californica","FACU","FACU"]
["Achillea millefolium var. rosea","FACU","FACU"]
["Acmispon helleri","FACU","FACU"]
["Aconitum uncinatum var. acutidens","FAC","FAC"]
["Actaea rubra var. arguta","UPL","UPL"]
["Adenolinum grandiflorum","UPL","UPL"]
["Adiantum pedatum ssp. calderi","FAC","FAC"]
["Aesculus pavia var. discolor","FACU","FACU"]
["Agalinis maritima var. grandiflora","OBL","OBL"]
["Agalinis tenuifolia ssp. leucanthera","FACU","FACU"]
["Agave americana ssp. americana var. expansa","UPL","UPL"]
["Ageratum guatemalense","UPL","UPL"]
["Agropyron laeve","FAC","FAC"]
["Agropyron trachycaulum var. majus","FAC","FAC"]
["Agrostis antecedens","FAC","FAC"]
["Agrostis hyemalis var. tenuis","FAC","FAC"]
["Agrostis rupestris","FACU","FACU"]
["Aira elongata","FACW","FACW"]
["Alisma geyeri","OBL","OBL"]
["Allibertia intermedia","UPL","UPL"]
["Allionia hirsuta","UPL","UPL"]
["Allium canadense var. fraseri","FACU","FACU"]
["Allium reticulatum var. ecristatum","FACU","FACU"]
["Allocarya hirta ssp. corallicarpa","OBL","OBL"]
["Alnus X purpusii","FACU","FACU"]
["Aloysia citriodora","UPL","UPL"]
["Alternanthera amoena","UPL","UPL"]
["Amaranthus crassipes var. crassipes","FAC","FAC"]
["Amaranthus retroflexus var. salicifolius","FAC","FAC"]
["Amaryllis zeylanicum","FACU","FACU"]
["Ambrosia glandulosa","FACU","FACU"]
["Ammannia coccinea ssp. robusta","OBL","OBL"]
["Amorpha floridana","FAC","FAC"]
["Amorpha texana","FACU","FACU"]
["Amphicarpaea comosa","FAC","FAC"]
["Anacylus","UPL","UPL"]
["Anaphalis margaritacea var. subalpina","UPL","UPL"]
["Andropogon cabanisii","FACU","FACU"]
["Andropogon furcatus","FAC","FAC"]
["Andropogon liebmannii","FACW","FACW"]
["Andropogon ternarius var. cabanisii","FACU","FACU"]
["Androsace arizonica","FACU","FACU"]
["Anemone quinquefolia var. quinquefolia","FACU","FACU"]
["Aniseia martinicensis var. nitens","FAC","FAC"]
["Anoda pentaschista var. obtusior","UPL","UPL"]
["Antennaria parvula","UPL","UPL"]
["Anthenantia texana","FACW","FACW"]
["Antirrhinum wislizeni","UPL","UPL"]
["Apium echinatum","FACU","FACU"]
["Apocynum sibiricum var. farwellii","FACU","FACU"]
["Arabis alpina var. albida","FAC","FAC"]
["Arabis dentata var. phalacrocarpa","FACU","FACU"]
["Arabis viridis","UPL","UPL"]
["Archidium floridanum","UPL","UPL"]
["Arenaria lanuginosa ssp. lanuginosa var. lanuginosa","FAC","FAC"]
["Arenaria serpyllifolia ssp. leptoclados","UPL","UPL"]
["Argentina egedii ssp. groenlandica","OBL","OBL"]
["Aristida affinis","FACW","FACW"]
["Aristida purpurascens var. purpurascens","UPL","UPL"]
["Arrhenatherum elatius var. tuberosum","FACU","FACU"]
["Artemisia camporum","UPL","UPL"]
["Artemisia ludoviciana ssp. estesii","UPL","UPL"]
["Artemisia pabularis","UPL","UPL"]
["Arthrocnemum perenne","OBL","OBL"]
["Asarum reflexum","UPL","UPL"]
["Asclepias incarnata ssp. incarnata","OBL","OBL"]
["Asclepias viridiflora var. obovata","UPL","UPL"]
["Asperula tinctoria","FACW","FACW"]
["Asplenium myriophyllum","UPL","UPL"]
["Aster brachypholis","FACW","FACW"]
["Aster claytonii","UPL","UPL"]
["Aster cordifolius var. racemiflorus","UPL","UPL"]
["Aster divaricatus var. sandwicensis","OBL","OBL"]
["Aster ericoides var. commutatus","FAC","FAC"]
["Aster gaspensis","OBL","OBL"]
["Aster hesperius var. wootonii","FACW","FACW"]
["Aster laevis var. guadalupensis","UPL","UPL"]
["Aster lateriflorus var. hirsuticaulis","FAC","FAC"]
["Aster multiflorus var. exiguus","UPL","UPL"]
["Aster oblongifolius var. angustatus","UPL","UPL"]
["Aster parviflorus","UPL","UPL"]
["Aster plumarius","UPL","UPL"]
["Aster proteus","UPL","UPL"]
["Aster ramulosus","FAC","FAC"]
["Aster spectabilis var. suffultus","UPL","UPL"]
["Aster subulatus var. euroauster","OBL","OBL"]
["Aster tradescantii var. thyrsoides","FAC","FAC"]
["Astragalus canadensis var. longilobus","FAC","FAC"]
["Astragalus nuttallianus var. pleianthus","UPL","UPL"]
["Athyrium angustum var. subtripinnatum","FAC","FAC"]
["Atriplex arenaria","FAC","FAC"]
["Aulacomnium palustre var. imbricatum","UPL","UPL"]
["Avenella flexuosa","UPL","UPL"]
["Azalea nudiflora","FAC","FAC"]
["Bacopa procumbens","OBL","OBL"]
["Baptisia alba var. alba","FACU","FACU"]
["Barbarea vulgaris var. sylvestris","FAC","FAC"]
["Basella vesicaria","UPL","UPL"]
["Batschia canescens","UPL","UPL"]
["Berberis amplectens","UPL","UPL"]
["Berberis trifoliolata","UPL","UPL"]
["Bidens aristosa var. retrorsa","FACW","FACW"]
["Bidens connata var. submutica","FACW","FACW"]
["Bidens frondosa var. pallida","FACW","FACW"]
["Bidens polylepis var. retrorsa","FACW","FACW"]
["Bilderdykia cilinodis","UPL","UPL"]
["Boechera missouriensis","UPL","UPL"]
["Boerhavia gypsophiloides","UPL","UPL"]
["Boltonia diffusa var. interior","FAC","FAC"]
["Borreria densiflora","UPL","UPL"]
["Botrychium dissectum var. obliquum","FAC","FAC"]
["Botrydium botrys","FACU","FACU"]
["Bouteloua heterostega","UPL","UPL"]
["Brachiaria piligera","UPL","UPL"]
["Brachyelytrum septentrionale","UPL","UPL"]
["Brachythecium rivulare var. noveboracense","UPL","UPL"]
["Brassica rapa var. chinensis","UPL","UPL"]
["Breweria pickeringii var. pattersonii","FAC","FAC"]
["Bromopsis ramosa","FACW","FACW"]
["Bromus commutatus","UPL","UPL"]
["Bromus secundus","FACU","FACU"]
["Bryocles ventricosa","UPL","UPL"]
["Bulbostylis capillaris var. isopoda","FAC","FAC"]
["Bumelia anomala","UPL","UPL"]
["Bumelia megacocca","UPL","UPL"]
["Cacalia ovata","FACW","FACW"]
["Cactus spinosissimus","UPL","UPL"]
["Cailliea glomerata","UPL","UPL"]
["Cakile lanceolata var. geniculata","FAC","FAC"]
["Calamagrostis canadensis var. robusta","OBL","OBL"]
["Calamagrostis robertii","FACW","FACW"]
["Calamovilfa brevipilis var. calvipes","OBL","OBL"]
["Calliergon cordifolium var. intermedium","UPL","UPL"]
["Calliopsis basalis","UPL","UPL"]
["Calpidisca standleyae","OBL","OBL"]
["Caltha zetlandica","OBL","OBL"]
["Calystegia pellita","UPL","UPL"]
["Camelina sativa ssp. microcarpa","FACU","FACU"]
["Campanula rotundifolia var. lancifolia","FACU","FACU"]
["Capparis longifolia","FAC","FAC"]
["Cardamine heterophylla","FAC","FAC"]
["Cardaria pubescens var. elongata","FAC","FAC"]
["Carduus marianus","UPL","UPL"]
["Carex aquatilis var. altior","OBL","OBL"]
["Carex brevior var. crawei","FAC","FAC"]
["Carex cephalophora var. angustifolia","UPL","UPL"]
["Carex crinita var. minor","FACW","FACW"]
["Carex durifolia var. subrostrata","UPL","UPL"]
["Carex haleana","FACW","FACW"]
["Carex lanuginosa","OBL","OBL"]
["Carex laxiflora var. varians","FACW","FACW"]
["Carex magnifolia","FACW","FACW"]
["Carex oederi","OBL","OBL"]
["Carex scoparia var. moniliformis","FACW","FACW"]
["Carex stipata var. uberior","OBL","OBL"]
["Carex tetanica var. meadii","FAC","FAC"]
["Carex vesicaria var. monile","OBL","OBL"]
["Carex X minganinsularum","OBL","OBL"]
["Carya ovalis var. odorata","FACU","FACU"]
["Cassandra calyculata var. angustifolia","OBL","OBL"]
["Cassia exunguis","FACU","FACU"]
["Cassia lechenaultiana","FACU","FACU"]
["Castalia lekophylla","OBL","OBL"]
["Cathartolinum alatum","UPL","UPL"]
["Cathartolinum striatum","FACW","FACW"]
["Ceanothus ovatus","UPL","UPL"]
["Celtis occidentalis var. crassifolia","FACU","FACU"]
["Centaurea vochinensis","UPL","UPL"]
["Centrostachys aspera","UPL","UPL"]
["Cerastium arvense ssp. strictum","FACU","FACU"]
["Cerastium holosteoides var. vulgare","FAC","FAC"]
["Cerastium scopulorum","FACU","FACU"]
["Ceratophyllum floridanum","OBL","OBL"]
["Cereus gracilis var. simpsonii","FACU","FACU"]
["Cestrum diurnum var. portoricense","UPL","UPL"]
["Chaetochloa geniculata","FACW","FACW"]
["Chamaecrista aspera","FACU","FACU"]
["Chamaenerion angustifolium ssp. circumvagum","FACU","FACU"]
["Chamaesyce gemella","UPL","UPL"]
["Chamaesyce preslii","FACU","FACU"]
["Chamberlainia campestris","UPL","UPL"]
["Chelone glabra var. elatior","OBL","OBL"]
["Chenopodium album var. microphyllum","FACU","FACU"]
["Chenopodium carinatum","UPL","UPL"]
["Chenopodium glaucum var. pulchrum","FAC","FAC"]
["Chenopodium leptophyllum var. subglabrum","UPL","UPL"]
["Chiropetalum astroplethos","UPL","UPL"]
["Chloris mendocina","FACU","FACU"]
["Chondrosum microstachyum","UPL","UPL"]
["Chrysanthemum leucanthemum var. pinnatifidum","UPL","UPL"]
["Chrysopsis hyssopifolia","UPL","UPL"]
["Chrysothamnus pulchellus var. baileyi","UPL","UPL"]
["Cicuta victorinii","OBL","OBL"]
["Circaea lutetiana var. canadensis","FACU","FACU"]
["Cirsium nelsonii","UPL","UPL"]
["Citrullus lanatus var. caffer","UPL","UPL"]
["Claytonia fontana","OBL","OBL"]
["Cleistes divaricata","FAC","FAC"]
["Clematis ligusticifolia var. californica","FACW","FACW"]
["Cleome pentaphylla","FAC","FAC"]
["Coeloglossum bracteatum","FAC","FAC"]
["Coleataenia anceps ssp. rhizomata","FAC","FAC"]
["Collinsonia punctata","UPL","UPL"]
["Comandra umbellata ssp. umbellata","UPL","UPL"]
["Commelina gigas","FACW","FACW"]
["Convolvulus carolinus","FACU","FACU"]
["Convolvulus sepium var. americanus","FAC","FAC"]
["Conyza canadensis var. glabrata","FACU","FACU"]
["Conyza subspathulata","UPL","UPL"]
["Corchoropsis tomentosa","UPL","UPL"]
["Coreopsis major var. oemleri","UPL","UPL"]
["Coreopsis tinctoria var. tinctoria","FAC","FAC"]
["Coriflora viorna","UPL","UPL"]
["Cornucopiae perennans","FACU","FACU"]
["Coronilla varia","UPL","UPL"]
["Coryphantha albicolumnaria","UPL","UPL"]
["Cota tinctoria","UPL","UPL"]
["Cracca chapmanii","UPL","UPL"]
["Crassina multiflora","UPL","UPL"]
["Crataegus biltmoreana var. stonei","UPL","UPL"]
["Crataegus calpodendron var. microcarpa","UPL","UPL"]
["Crataegus collina","UPL","UPL"]
["Crataegus crus-galli var. barrettiana","FAC","FAC"]
["Crataegus discolor","FAC","FAC"]
["Crataegus fortunata","UPL","UPL"]
["Crataegus holmesiana var. magniflora","UPL","UPL"]
["Crataegus interior","FACW","FACW"]
["Crataegus lanuginosa","FAC","FAC"]
["Crataegus micrantha","FACW","FACW"]
["Crataegus nitida","FACW","FACW"]
["Crataegus parvula","UPL","UPL"]
["Crataegus poliophylla","FACW","FACW"]
["Crataegus pruinosa var. leiophylla","UPL","UPL"]
["Crataegus rugosa","UPL","UPL"]
["Crataegus stevensiana","FAC","FAC"]
["Crataegus succulenta var. pisifera","UPL","UPL"]
["Crataegus viburnifolia","FAC","FAC"]
["Critesion depressum","FACW","FACW"]
["Crocanthemum majus","UPL","UPL"]
["Crotalaria falcata","FACU","FACU"]
["Crotalaria sagittalis var. fruticosa","UPL","UPL"]
["Cucurbita citrullus","UPL","UPL"]
["Cyanococcus tallapusae","UPL","UPL"]
["Cymbia occidentalis","UPL","UPL"]
["Cynoctonum succulentum","FACW","FACW"]
["Cynthia dandelion","FACU","FACU"]
["Cyperus cylindricus","FACU","FACU"]
["Cyperus lanceolatus var. compositus","FACW","FACW"]
["Cyperus microdontus","FACW","FACW"]
["Cyperus nuttallii","OBL","OBL"]
["Cyperus retrorsus var. nashii","FACU","FACU"]
["Cyperus uniflorus","UPL","UPL"]
["Cystopteris fragilis var. mackayi","UPL","UPL"]
["Dahlia rosea","UPL","UPL"]
["Danthonia thermalis","UPL","UPL"]
["Dasystephana villosa","UPL","UPL"]
["Dendrolycopodium hickeyi","UPL","UPL"]
["Deschampsia anadyrensis","FACW","FACW"]
["Deschampsia caespitosa var. intercotidalis","FACW","FACW"]
["Deschampsia cespitosa var. intercotidalis","UPL","UPL"]
["Deschampsia pumila","FACW","FACW"]
["Dianthera americana","OBL","OBL"]
["Diaphoranthema recurvata","UPL","UPL"]
["Dichanthelium acuminatum ssp. sericeum","FAC","FAC"]
["Dichanthelium annulum","FAC","FAC"]
["Dichanthelium dichotomum var. ramulosum","FAC","FAC"]
["Dichanthelium nitidum","FAC","FAC"]
["Dichanthelium sphaerocarpon var. sphaerocarpon","FACU","FACU"]
["Dichondra repens var. carolinensis","FAC","FAC"]
["Dicliptera viridiflora","FACW","FACW"]
["Digitaria albicoma","UPL","UPL"]
["Diodella teres","FACU","FACU"]
["Dioscorea villosa var. hirticaulis","FACW","FACW"]
["Diphasium tristachyum","UPL","UPL"]
["Dipsacus fullonum ssp. sativus","UPL","UPL"]
["Dodonaea elaeagnoides","UPL","UPL"]
["Dodonaea eriocarpa var. sherffii","UPL","UPL"]
["Dodonaea viscosa var. linearis","UPL","UPL"]
["Dolichothele sphaerica","UPL","UPL"]
["Draba reptans var. stellifera","UPL","UPL"]
["Dryopteris cristata var. australis","FACW","FACW"]
["Dryopteris spinulosa","FACW","FACW"]
["Dryopteris thelypteris var. pubescens","OBL","OBL"]
["Dyssodia tephroleuca","UPL","UPL"]
["Echinochloa crus-pavonis var. crus-pavonis","OBL","OBL"]
["Echinochloa zelayensis var. macera","OBL","OBL"]
["Eclipta alba","FACW","FACW"]
["Elatine triandra var. brachysperma","OBL","OBL"]
["Eleocharis elliptica var. atrata","FACW","FACW"]
["Eleocharis minima var. bicolor","OBL","OBL"]
["Eleocharis obtusa var. peasei","OBL","OBL"]
["Eleocharis quadrangulata var. crassior","OBL","OBL"]
["Eleocharis torreyana","OBL","OBL"]
["Elodea fraseri","OBL","OBL"]
["Elymus jejunus","FAC","FAC"]
["Elymus trachycaulus ssp. novae-angliae","FAC","FAC"]
["Elymus X maltei var. simulans","UPL","UPL"]
["Elytrigia pontica ssp. pontica","UPL","UPL"]
["Epibaterium carolinum","FAC","FAC"]
["Epilobium angustifolium ssp. circumvagum","FACU","FACU"]
["Epilobium ciliatum ssp. watsonii","FACW","FACW"]
["Epilobium treleaseanum","OBL","OBL"]
["Equisetum arvense var. campestre","FAC","FAC"]
["Eragrostis domingensis","FAC","FAC"]
["Eragrostis megastachya","FACU","FACU"]
["Eragrostis tenella","FAC","FAC"]
["Erianthus brevibarbis","FACW","FACW"]
["Ericameria austrotexana","UPL","UPL"]
["Erigeron ramosus","FAC","FAC"]
["Eriocarpum megacephalum","FACU","FACU"]
["Eriochloa acuminata var. minor","FAC","FAC"]
["Eriogonum abertianum var. villosum","UPL","UPL"]
["Erophila verna ssp. praecox","UPL","UPL"]
["Escobaria missouriensis var. missouriensis","UPL","UPL"]
["Eugenia jambos","FACU","FACU"]
["Euonymus atropurpureus var. cheatumii","FAC","FAC"]
["Eupatoriadelphus purpureus","FAC","FAC"]
["Eupatorium herbaceum","UPL","UPL"]
["Eupatorium rugosum var. angustata","FACU","FACU"]
["Eupatorium trifoliatum var. foliosum","FACW","FACW"]
["Euphorbia commutata var. erecta","FACU","FACU"]
["Euphorbia corollata var. zinniiflora","UPL","UPL"]
["Euphorbia mendezii","UPL","UPL"]
["Euphorbia pilulifera","UPL","UPL"]
["Euphorbia supina","FACU","FACU"]
["Eurybia glomerata","UPL","UPL"]
["Euthamia graminifolia var. major","FAC","FAC"]
["Falcata pitcheri","FAC","FAC"]
["Festuca arenaria","FACU","FACU"]
["Festuca elatior var. arundinacea","FAC","FAC"]
["Festuca octoflora var. tenella","FACU","FACU"]
["Festuca rubra var. mutica","FACU","FACU"]
["Ficaria verna ssp. ficariiformis","FAC","FAC"]
["Filipendula denudata","FAC","FAC"]
["Fimbristylis cymosa ssp. umbellatacapitata","FAC","FAC"]
["Firmiana platanifolia","UPL","UPL"]
["Forsellesia texensis","UPL","UPL"]
["Fragaria vesca ssp. californica","UPL","UPL"]
["Franseria discolor","UPL","UPL"]
["Fraxinus americana var. juglandifolia","FACU","FACU"]
["Froelichia braunii","UPL","UPL"]
["Galactia brachypoda","UPL","UPL"]
["Galactia spiciformis","UPL","UPL"]
["Galarhoeus platyphyllos","UPL","UPL"]
["Galium boreale var. hyssopifolium","FAC","FAC"]
["Galium cymosum","OBL","OBL"]
["Galium parisiense var. trichocarpum","FACU","FACU"]
["Galium strictum","FAC","FAC"]
["Galium trifidum var. pacificum","OBL","OBL"]
["Garberia fruticosa","UPL","UPL"]
["Gentiana quinquefolia var. occidentalis","FACW","FACW"]
["Geranium nepalense var. thunbergii","UPL","UPL"]
["Gerardia fasciculata ssp. peninsularis","FAC","FAC"]
["Gerardia laevigata","UPL","UPL"]
["Gerardia plukenetii var. microphylla","FAC","FAC"]
["Geum aleppicum var. strictum","FACW","FACW"]
["Gilia insignis","UPL","UPL"]
["Gilia squarrosa","FACU","FACU"]
["Glaux maritima ssp. obtusifolia","OBL","OBL"]
["Glyceria hulteniana","OBL","OBL"]
["Gnaphalium calviceps","UPL","UPL"]
["Gomphrena viridis","UPL","UPL"]
["Gonolobus parviflorus var. brevicoronatus","UPL","UPL"]
["Gossypium herbaceum","FACU","FACU"]
["Gratiola repens","OBL","OBL"]
["Grossularia texensis","UPL","UPL"]
["Gutierrezia linearifolia","UPL","UPL"]
["Gypsophila porrigens","UPL","UPL"]
["Habenaria flava","FACW","FACW"]
["Hamamelis macrophylla","FACU","FACU"]
["Haplopappus gooddingii","FACU","FACU"]
["Haplopappus phyllocephalus ssp. annuus","UPL","UPL"]
["Haplopappus texensis","FACU","FACU"]
["Hedeoma campora","UPL","UPL"]
["Hedyotis procumbens","UPL","UPL"]
["Hedyotis purpurea var. setiscaphia","UPL","UPL"]
["Helenium badium","FACU","FACU"]
["Helenium vernale","OBL","OBL"]
["Helianthus divaricatus var. angustifolius","UPL","UPL"]
["Helianthus mollis var. cordatus","UPL","UPL"]
["Helianthus scaberrimus","UPL","UPL"]
["Heliopsis helianthoides var. helianthoides","UPL","UPL"]
["Heliotropium procumbens var. depressum","FACW","FACW"]
["Hesperidanthus linearifolius","UPL","UPL"]
["Heterotheca hyssopifolia var. subulata","UPL","UPL"]
["Heterotheca subaxillaris var. petiolaris","UPL","UPL"]
["Heuchera calycosa","FACU","FACU"]
["Hibiscus moscheutos ssp. incanus","OBL","OBL"]
["Hibiscus youngianus","FAC","FAC"]
["Hicoria pallida","UPL","UPL"]
["Hieracium traillii","FACU","FACU"]
["Hoffmannseggia caudata","UPL","UPL"]
["Honckenya peploides ssp. diffusa","FACU","FACU"]
["Hordeum jubatum ssp. breviaristatum","FACW","FACW"]
["Hordeum pusillum var. pubens","FACU","FACU"]
["Houstonia longifolia var. tenuifolia","UPL","UPL"]
["Humulus lupulus var. pubescens","FACU","FACU"]
["Hydrophila vaillantii","OBL","OBL"]
["Hymenocallis floridana ssp. amplifolia","OBL","OBL"]
["Hymenocallis traubii","UPL","UPL"]
["Hypericum canadense var. magninsulare","FACW","FACW"]
["Hypericum petiolatum","OBL","OBL"]
["Hystrix patula","UPL","UPL"]
["Ilex ambigua var. montana","FAC","FAC"]
["Ilex decidua var. longipes","FAC","FAC"]
["Ilysanthes dubia","OBL","OBL"]
["Indigofera miniata var. leptosepala","UPL","UPL"]
["Iodanthus hesperidioides","FACW","FACW"]
["Ipomoea heptaphylla","FACW","FACW"]
["Ipomoea plummerae var. plummerae","UPL","UPL"]
["Ipomoea tuba","FACW","FACW"]
["Iris brevipes","OBL","OBL"]
["Iris iocyanea","OBL","OBL"]
["Iris orientalis","UPL","UPL"]
["Iris rubea","OBL","OBL"]
["Isnardia palustris","OBL","OBL"]
["Isoetes gravesii","OBL","OBL"]
["Isoetes tenella","OBL","OBL"]
["Iva axillaris var. robustior","FAC","FAC"]
["Jambosa jambos","FACU","FACU"]
["Juncoides bulbosum","FACU","FACU"]
["Juncus effusus ssp. effusus","OBL","OBL"]
["Juncus macer var. anthelatus","FACW","FACW"]
["Juncus subcaudatus var. planisepalus","FAC","FAC"]
["Juniperus coahuilensis var. coahuilensis","UPL","UPL"]
["Juniperus virginiana var. virginiana","FACU","FACU"]
["Jussiaea repens var. grandiflora","OBL","OBL"]
["Justicia ovata var. lanceolata","OBL","OBL"]
["Keerlia effusa","UPL","UPL"]
["Kneiffia tetragona","FACU","FACU"]
["Koellia nuda","FACW","FACW"]
["Kohlrauschia velutina","UPL","UPL"]
["Kyllinga tenuifolia","FACW","FACW"]
["Lacinaria garberi","FACW","FACW"]
["Lactuca scariola","FAC","FAC"]
["Lantana aculeata","FACU","FACU"]
["Lantana macropoda","UPL","UPL"]
["Lappula echinata","UPL","UPL"]
["Lasallea novae-angliae","FACW","FACW"]
["Lathyrus palustris var. pilosus","OBL","OBL"]
["Leavenworthia aurea var. texana","FACU","FACU"]
["Legousia perfoliata","FACU","FACU"]
["Lemna minima","OBL","OBL"]
["Leontodon hastilis var. glabratus","UPL","UPL"]
["Lepidium medium","UPL","UPL"]
["Lepidotis alopecuroides","OBL","OBL"]
["Leptochloa domingensis","FAC","FAC"]
["Leptodactylon pungens ssp. hookeri","UPL","UPL"]
["Leptoglottis nuttallii","UPL","UPL"]
["Lesquerella praecox","UPL","UPL"]
["Leucothoe axillaris var. editorum","FACW","FACW"]
["Liatris graminifolia var. dubia","UPL","UPL"]
["Liatris scabra","UPL","UPL"]
["Lilium canadense ssp. superbum","FACW","FACW"]
["Limodorum tuberosum","OBL","OBL"]
["Linanthus androsaceus","UPL","UPL"]
["Lindernia saxicola","OBL","OBL"]
["Linum rigidum var. carteri","FACW","FACW"]
["Lippia incisa","FAC","FAC"]
["Lobelia cardinalis var. meridionalis","FACW","FACW"]
["Lobelia puberula var. puberula","FACW","FACW"]
["Lolium multiflorum ssp. italicum","FACU","FACU"]
["Lonicera dioica var. glaucescens","FACU","FACU"]
["Lotus glaber","FACU","FACU"]
["Lucuma nervosa","UPL","UPL"]
["Ludwigia lacustris","OBL","OBL"]
["Ludwigia repens var. stipitata","OBL","OBL"]
["Lupinus apodotropis","FAC","FAC"]
["Lupinus viridicalyx","FAC","FAC"]
["Luzula multiflora ssp. multiflora","FACU","FACU"]
["Luzula multiflora var. minor","FACU","FACU"]
["Lycopodium annotinum","FAC","FAC"]
["Lycopodium obscurum","FACU","FACU"]
["Lycopodium tristachyum var. laurentianum","UPL","UPL"]
["Lycopus uniflorus var. uniflorus","OBL","OBL"]
["Lysimachia ciliata var. validula","OBL","OBL"]
["Lythrum salicaria var. gracilior","OBL","OBL"]
["Macuillamia repens","OBL","OBL"]
["Mahonia nervosa var. mendocinensis","FACU","FACU"]
["Malachra alceifolia var. fasciata","UPL","UPL"]
["Malus glaucescens","UPL","UPL"]
["Mammillaria conoidea","UPL","UPL"]
["Mammillaria oliviae","UPL","UPL"]
["Manihot melanobasis","UPL","UPL"]
["Mariscus cylindricus","FACU","FACU"]
["Marshallia graminifolia ssp. tenuifolia","OBL","OBL"]
["Matricaria ambigua","FAC","FAC"]
["Maytenus phyllanthoides var. ovalifolia","FAC","FAC"]
["Medicago falcata","UPL","UPL"]
["Medicago polymorpha var. polygyra","FACU","FACU"]
["Meibomia chapmanii","FACU","FACU"]
["Meibomia tenuifolia","FACU","FACU"]
["Melanthera aspera","FACU","FACU"]
["melanthium racemosum","UPL","UPL"]
["Melochia hirsuta","FAC","FAC"]
["Mentha alopecuroides","OBL","OBL"]
["Mentzelia albicaulis var. tenerrima","UPL","UPL"]
["Mesadenia reniformis","UPL","UPL"]
["Micheliella anisata","UPL","UPL"]
["Microsorum scolopendria","UPL","UPL"]
["Mimosa plena","FACW","FACW"]
["Mimulus guttatus ssp. haidensis","OBL","OBL"]
["Mimulus langsdorfii var. californicus","OBL","OBL"]
["Mimulus leibergii","OBL","OBL"]
["Mimulus moschatus var. sessilifolius","OBL","OBL"]
["Mimulus scouleri","OBL","OBL"]
["Mirabilis pseudaggregata","UPL","UPL"]
["Mnium cuspidatum var. tenellum","UPL","UPL"]
["Monarda fistulosa ssp. fistulosa var. fistulosa","FACU","FACU"]
["Monarda punctata ssp. intermedia","FACU","FACU"]
["Monroa","UPL","UPL"]
["Morongia latidens","UPL","UPL"]
["Muhlenbergia commutata","FAC","FAC"]
["Muhlenbergia schreberi var. palustris","FAC","FAC"]
["Murdannia spirata var. parviflora","FAC","FAC"]
["Myosurus minimus var. filiformis","FACW","FACW"]
["Myrica rubra","UPL","UPL"]
["Myriophyllum verticillatum var. pectinatum","OBL","OBL"]
["Najas gracilis","OBL","OBL"]
["Narcissus juncifolius","UPL","UPL"]
["Navarretia intertexta ssp. intertexta","FACW","FACW"]
["Nelumbo speciosa","OBL","OBL"]
["Neobesseya missouriensis","UPL","UPL"]
["Neopieris mariana","FAC","FAC"]
["Norta irio","UPL","UPL"]
["Nummularia radicans","OBL","OBL"]
["Nuphar lutea ssp. ulvacea","OBL","OBL"]
["Nymphaea fluviatilis","OBL","OBL"]
["Oakesiella sessilifolia","FAC","FAC"]
["Oenothera arenicola","FACU","FACU"]
["Oenothera brachycarpa var. wrightii","UPL","UPL"]
["Oenothera depressa","FACU","FACU"]
["Oenothera fruticosa var. vera","FACU","FACU"]
["Oenothera lavandulifolia var. typica","UPL","UPL"]
["Oenothera tubicula","UPL","UPL"]
["Oligoneuron canescens","FACU","FACU"]
["Oncidium luridum","UPL","UPL"]
["Ophioglossum pycnostichum","FACW","FACW"]
["Opuntia chlorotica var. santa-rita","UPL","UPL"]
["Opuntia engelmannii var. cycloides","UPL","UPL"]
["Opuntia macrantha","UPL","UPL"]
["Opuntia tunicata var. tunicata","UPL","UPL"]
["Opuntia vulgaris","UPL","UPL"]
["Orobanche uniflora var. purpurea","FACU","FACU"]
["Oryza sativa var. fatua","OBL","OBL"]
["Osmunda cinnamomea var. imbricata","FACW","FACW"]
["Oxalis bushii","UPL","UPL"]
["Oxalis florida","FACU","FACU"]
["Oxybaphus linearis var. subhispidus","UPL","UPL"]
["Oxyrrhynchium hians ssp. rappii","UPL","UPL"]
["Packera paupercula var. savannarum","FACW","FACW"]
["Palhinhaea cernua var. curvata","FACW","FACW"]
["Panicum acuminatum var. thermale","FAC","FAC"]
["Panicum alopecuroides","UPL","UPL"]
["Panicum arizonicum","UPL","UPL"]
["Panicum bulbosum var. minor","UPL","UPL"]
["Panicum chrysopsidifolium","FAC","FAC"]
["Panicum curtifolium","FAC","FAC"]
["Panicum eatonii","FACW","FACW"]
["Panicum ferventicola var. papillosum","FAC","FAC"]
["Panicum helleri","FACU","FACU"]
["Panicum lanuginosum","FAC","FAC"]
["Panicum meridionale","FAC","FAC"]
["Panicum nudicaule","FAC","FAC"]
["Panicum ovale var. villosum","FAC","FAC"]
["Panicum philadelphicum var. tuckermanii","FAC","FAC"]
["Panicum shastense","FACU","FACU"]
["Panicum strigosum var. glabrescens","FAC","FAC"]
["Panicum verticillatum var. ambiguum","FAC","FAC"]
["Panicum wrightianum","FACW","FACW"]
["Parietaria diffusa","UPL","UPL"]
["Parthenium integrifolium var. auriculatum","UPL","UPL"]
["Paspalum bifidum var. projectum","FACW","FACW"]
["Paspalum notatum var. latiflorum","FACU","FACU"]
["Paspalum praecox var. curtisianum","OBL","OBL"]
["Paurotis wrightii","OBL","OBL"]
["Pedicularis pallida","FACW","FACW"]
["Pellaea sagittata var. cordata","UPL","UPL"]
["Pennisetum purpureum","FAC","FAC"]
["Penstemon guadalupensis var. ernstii","UPL","UPL"]
["Pericome caudata var. glandulosa","UPL","UPL"]
["Persicaria coccinea","OBL","OBL"]
["Persicaria pensylvanica var. laevigata","FACW","FACW"]
["Perularia flava","FACW","FACW"]
["Petasites corymbosus","FACW","FACW"]
["Petunia violacea","UPL","UPL"]
["Phaethusa helianthoides","UPL","UPL"]
["Pharbitis hederacea","FACU","FACU"]
["Phaseolus max","UPL","UPL"]
["Philadelphus microphyllus ssp. typicus","UPL","UPL"]
["Phippsia nutkaensis ssp. borealis","FACW","FACW"]
["Phlox carolina var. triflora","FACW","FACW"]
["Phlox ovata","UPL","UPL"]
["Phlox pilosa var. longipilosa","FACU","FACU"]
["Phoradendron ligatum","UPL","UPL"]
["Phyllanthus caroliniensis ssp. caroliniensis","FAC","FAC"]
["Phymosia cuspidata","UPL","UPL"]
["Physalis grandiflora","UPL","UPL"]
["Physalodes physalodes","UPL","UPL"]
["Picea excelsa","UPL","UPL"]
["Pimpinella saxifraga var. major","UPL","UPL"]
["Pinus flexilis var. reflexa","UPL","UPL"]
["Piper pellucidum","UPL","UPL"]
["Piriqueta glabrescens","FAC","FAC"]
["Pityothamnus angustifolius","UPL","UPL"]
["Plantago juncoides var. decipiens","FACW","FACW"]
["Plantago maritima var. californica","FACW","FACW"]
["Plantago scabra","FACU","FACU"]
["Platanthera X keenanii","UPL","UPL"]
["Pluchea imbricata","OBL","OBL"]
["Poa alpigena","FACU","FACU"]
["Poa ciliaris","FACU","FACU"]
["Poa involuta","UPL","UPL"]
["Poa refracta","FACU","FACU"]
["Podostemma lindheimeri","FACU","FACU"]
["Poinsettia pinetorum","UPL","UPL"]
["Polianthes runyonii","UPL","UPL"]
["Polygala aboriginum","FACU","FACU"]
["Polygonella brachystachya","UPL","UPL"]
["Polygonum amphibium var. stipulaceum","OBL","OBL"]
["Polygonum aviculare ssp. rurivagum","FAC","FAC"]
["Polygonum cilinode var. laevigatum","UPL","UPL"]
["Polygonum hydropiperoides var. opelousanum","OBL","OBL"]
["Polygonum longisetum","FAC","FAC"]
["Polygonum muehlenbergii","OBL","OBL"]
["Polygonum pensylvanicum var. nesophilum","FACW","FACW"]
["Polygonum ramosissimum ssp. prolificum","FACU","FACU"]
["Polypodium heterophyllum","UPL","UPL"]
["Polypodium scolopendria","UPL","UPL"]
["Polytrichum apiculatum","UPL","UPL"]
["Populus angulata var. missouriensis","FAC","FAC"]
["Populus canadensis var. serotina","UPL","UPL"]
["Populus manitobensis","UPL","UPL"]
["Populus tremula ssp. tremuloides","FAC","FAC"]
["Populus X dutillyi","UPL","UPL"]
["Porteranthus stipulatus","UPL","UPL"]
["Potamogeton compressus","OBL","OBL"]
["Potamogeton foliosus var. fibrillosus","OBL","OBL"]
["Potamogeton panormitanus","OBL","OBL"]
["Potentilla anserina ssp. anserina","OBL","OBL"]
["Potentilla canescens","UPL","UPL"]
["Pothos aurea","UPL","UPL"]
["Proboscidea louisiana ssp. louisiana","FACU","FACU"]
["Prosopis juliflora var. torreyana","UPL","UPL"]
["Prunus pensylvanica var. mollis","UPL","UPL"]
["Prunus serotina var. eximia","FACU","FACU"]
["Psidium cattleianum var. littorale","FACU","FACU"]
["Psoralea dentata","UPL","UPL"]
["Psoralea obtusifolia","UPL","UPL"]
["Psoralea virgata","FACU","FACU"]
["Psychotria undata","FAC","FAC"]
["Pteridium latiusculum var. pseudocaudatum","FACU","FACU"]
["Ptilimnium texense","FACW","FACW"]
["Puccinellia pauciflora var. microtheca","OBL","OBL"]
["Pycnanthemum torreyi var. leptodon","FAC","FAC"]
["Pylostachya lutea","FACW","FACW"]
["Pyrostegia ignea","UPL","UPL"]
["Pyrus coronaria var. dasycalyx","UPL","UPL"]
["Pyrus X soulardii","UPL","UPL"]
["Quercus borealis","FACU","FACU"]
["Quercus margarettae","UPL","UPL"]
["Quercus stellata var. margarettiae","UPL","UPL"]
["Quercus X fallax","UPL","UPL"]
["Radicula sinuata","FACW","FACW"]
["Randia aculeata var. mitis","FAC","FAC"]
["Ranunculus falcatus","UPL","UPL"]
["Ranunculus flammula var. filiformis","FACW","FACW"]
["Ranunculus hispidus var. hispidus","FAC","FAC"]
["Ranunculus reptans var. intermedius","FACW","FACW"]
["Rapistrum rugosum ssp. orientale","UPL","UPL"]
["Reynoutria scandens var. cristata","FAC","FAC"]
["Rhamnus paliurus","UPL","UPL"]
["Rhexia mariana var. leiosperma","FACW","FACW"]
["Rhododendron nudiflorum","FAC","FAC"]
["Rhus caroliniana","UPL","UPL"]
["Rhus radicans var. littoralis","FAC","FAC"]
["Rhynchelytrum roseum","UPL","UPL"]
["Rhynchospora bruneri","FACW","FACW"]
["Rhynchospora glomerata var. angusta","OBL","OBL"]
["Ribes aureum var. aureum","FAC","FAC"]
["Ribes prostratum","FACW","FACW"]
["Robinia halodendron","UPL","UPL"]
["Rorippa floridana","UPL","UPL"]
["Rorippa palustris ssp. fernaldiana","OBL","OBL"]
["Rosa carolina ssp. carolina","FACU","FACU"]
["Rosa lancifolia","OBL","OBL"]
["Rosa suffulta var. relicta","FACU","FACU"]
["Rotantha robinsiae","FACW","FACW"]
["Rubus apparatus","UPL","UPL"]
["Rubus bollianus","UPL","UPL"]
["Rubus carolinianus","FACU","FACU"]
["Rubus corei","FACU","FACU"]
["Rubus discretus","FACW","FACW"]
["Rubus harperi","UPL","UPL"]
["Rubus idaeus var. melanotrachys","FACU","FACU"]
["Rubus jaysmithii","UPL","UPL"]
["Rubus licitus","FACU","FACU"]
["Rubus miscix","UPL","UPL"]
["Rubus pauperrimus","UPL","UPL"]
["Rubus pensilvanicus var. frondosus","UPL","UPL"]
["Rubus recurvicaulis var. armatus","UPL","UPL"]
["Rubus satis","UPL","UPL"]
["Rubus strigosus var. arizonicus","FACU","FACU"]
["Rubus victorinii","UPL","UPL"]
["Rudbeckia deamii","FAC","FAC"]
["Rudbeckia globosa","UPL","UPL"]
["Rudbeckia laciniata var. digitata","FACW","FACW"]
["Ruellia caroliniensis ssp. caroliniensis","FACU","FACU"]
["Ruellia humilis var. calvescens","FACU","FACU"]
["Ruellia oblongifolia","UPL","UPL"]
["Rumex aquaticus var. fenestratus","OBL","OBL"]
["Rumex maritimus ssp. fueginus","OBL","OBL"]
["Ruppia maritima var. subcapitata","OBL","OBL"]
["Sabatia alainii","FACW","FACW"]
["Sabatia gracilis","FACW","FACW"]
["Sabulina patula","FAC","FAC"]
["Sagittaria engelmanniana ssp. longirostra","OBL","OBL"]
["Sagittaria lorata","OBL","OBL"]
["Sagotia triflora","FACU","FACU"]
["Salix alba var. calva","FACW","FACW"]
["Salix cinerea ssp. atrocinerea","FACW","FACW"]
["Salix glaucophylla var. angustifolia","FACW","FACW"]
["Salix humilis var. hyporhysa","FACU","FACU"]
["Salix longifolia","OBL","OBL"]
["Salix myricoides var. rigida","FACW","FACW"]
["Salix pensylvanica","OBL","OBL"]
["Salix wardii","OBL","OBL"]
["Salsola kali ssp. ruthenica","FACU","FACU"]
["Salvinia auriculata","OBL","OBL"]
["Sambucus mexicana ssp. caerulea","FACW","FAC"]
["Sanguisorba minor ssp. muricata","FAC","FAC"]
["Sapium sebiferum","FAC","FAC"]
["Sarcostemma torreyi","UPL","UPL"]
["Sarracenia purpurea var. ripicola","OBL","OBL"]
["Satureja arkansana","FACW","FACW"]
["Scaevola taccada","FACU","FACU"]
["Schisandra coccinea","UPL","UPL"]
["Schizachyrium scoparium var. scoparium","FACU","FACU"]
["Schoenoplectus acutus var. occidentalis","OBL","OBL"]
["Schrankia latidens","UPL","UPL"]
["Scirpus autumnalis","OBL","OBL"]
["Scirpus coarctatus","FAC","FAC"]
["Scirpus erectus","OBL","OBL"]
["Scirpus interstinctus","OBL","OBL"]
["Scirpus maritimus var. paludosus","OBL","OBL"]
["Scirpus retroflexus","OBL","OBL"]
["Scirpus supinus","OBL","OBL"]
["Scirpus verecundus","UPL","UPL"]
["Scleria nitida","FACW","FACW"]
["Sclerocactus mariposensis","UPL","UPL"]
["Scutellaria ovata ssp. mexicana","UPL","UPL"]
["Scutellaria resinosa var. brevifolia","UPL","UPL"]
["Sedum ellacombianum","UPL","UPL"]
["Sedum texanum","UPL","UPL"]
["Senecio imparipinnatus","FACW","FACW"]
["Senecio manitobensis","UPL","UPL"]
["Senecioides cinerea","FAC","FAC"]
["Sesbania marginata","UPL","UPL"]
["Setaria glauca var. pallidifusca","FAC","FAC"]
["Sida filiformis","UPL","UPL"]
["Sida setifera","UPL","UPL"]
["Sideranthus glaberrimus","FACU","FACU"]
["Sigesbeckia laciniata","FACU","FACU"]
["Silphium terebinthinaceum var. pinnatifidum","FACU","FACU"]
["Sisymbrium dubium","FACW","FACW"]
["Sisyrinchium brownei","FAC","FAC"]
["Sisyrinchium incrustatum","UPL","UPL"]
["Sium floridanum","OBL","OBL"]
["Smilax lanceolata","FACW","FACW"]
["Solanum americanum","FACU","FACU"]
["Solanum fistulosum","FACU","FACU"]
["Solanum racemosum","FAC","FAC"]
["Solidago altissima var. canescens","UPL","UPL"]
["Solidago canadensis var. gilvocanescens","FACU","FACU"]
["Solidago discoidea","FACU","FACU"]
["Solidago glutinosa ssp. randii","FACU","FACU"]
["Solidago gymnospermoides","FAC","FAC"]
["Solidago petiolata","FACW","FACW"]
["Solidago rigida var. humilis","FACU","FACU"]
["Solidago rugosa var. villosa","FAC","FAC"]
["Solidago spathulata var. subcinerea","UPL","UPL"]
["Solidago velutina var. nevadensis","UPL","UPL"]
["Sorengia anceps","FAC","FAC"]
["Sorghum caffrorum","FACU","FACU"]
["Sorghum vulgare var. durra","FACU","FACU"]
["Spartina michauxiana","OBL","OBL"]
["Spergularia alata","OBL","OBL"]
["Sphaeralcea emoryi var. nevadensis","UPL","UPL"]
["Sphagnum compactum var. expositum","UPL","UPL"]
["Sphenopholis obtusata var. major","FAC","FAC"]
["Spiraea betulifolia ssp. lucida","FAC","FAC"]
["Spiranthes adnata","FACW","FACW"]
["Spironema robbinsii","FACU","FACU"]
["Sporobolus cryptandrus var. strictus","UPL","UPL"]
["Stachys glabra","FACW","FACW"]
["Stachys hispida","FACW","FACW"]
["Stachys pilosa var. arenicola","FACW","FACW"]
["Stellaria borealis var. bongardiana","FACW","FACW"]
["Stellaria jamesiana","UPL","UPL"]
["Stemodia multifida","OBL","OBL"]
["Stenophyllus ciliatifolius","FAC","FAC"]
["Stipa spicata","UPL","UPL"]
["Strophocaulos arvensis","UPL","UPL"]
["Stylosanthes biflora var. hispidissima","UPL","UPL"]
["Suaeda nigrescens","OBL","OBL"]
["Swida alba","FACW","FACW"]
["Symphyotrichum dumosum var. dodgei","FAC","FAC"]
["Symphyotrichum laeve var. concinnum","UPL","UPL"]
["Symphyotrichum lateriflorum var. tenuipes","FAC","FAC"]
["Symphyotrichum puniceum var. puniceum","OBL","OBL"]
["Syntherisma floridana","UPL","UPL"]
["Tagetes papposa","UPL","UPL"]
["Talinum paniculatum var. sarmentosum","UPL","UPL"]
["Tamarix africana","FACW","FACW"]
["Taraxacum islandiciforme","FACU","FACU"]
["Teloxys graveolens","UPL","UPL"]
["Tephrosia spicata var. semitonsa","UPL","UPL"]
["Teucrium boreale","FACW","FACW"]
["Teucrium cubense ssp. laevigatum","FACW","FACW"]
["Thelypodium vernale","UPL","UPL"]
["Thelypteris patens var. scabriuscula","FACU","FACU"]
["Themeda frondosa","UPL","UPL"]
["Thryallis gracilis","UPL","UPL"]
["Tiaridium indicum","FAC","FAC"]
["Tillaea angustifolia","OBL","OBL"]
["Tillaea vaillantii","OBL","OBL"]
["Tissa marina","OBL","OBL"]
["Tithymalopsis ipecacuanhae","UPL","UPL"]
["Tithymalus helioscopius","UPL","UPL"]
["Torulinium odoratum","FACW","FACW"]
["Toxicodendron radicans var. eximium","FAC","FAC"]
["Trachynia distachya","UPL","UPL"]
["Tradescantia discolor","UPL","UPL"]
["Tradescantia speciosa","FAC","FAC"]
["Tricerma texana","FAC","FAC"]
["Tridens elongatus","FACW","FACW"]
["Trifolium arvense var. arvense","UPL","UPL"]
["Trifolium incarnatum var. elatius","UPL","UPL"]
["Trigonella monspeliaca","UPL","UPL"]
["Triodia eragrostoides","UPL","UPL"]
["Tripleurospermum phaeocephalum","FAC","FAC"]
["Triticum persicum","UPL","UPL"]
["Tubiflora acuminata","UPL","UPL"]
["Tyria myricifolia","UPL","UPL"]
["Urostachys lucidulus","FACW","FACW"]
["Urtica dioica var. gracilis","FAC","FAC"]
["Urtica serra","FAC","FAC"]
["Utricularia virgatula","OBL","OBL"]
["Vaccinium neglectum","FACU","FACU"]
["Vaccinium virgatum var. speciosum","FACW","FACW"]
["Vagnera amplexicaulis var. glabra","FACU","FACU"]
["Valota insularis","FAC","FAC"]
["Verbena angustifolia","UPL","UPL"]
["Verbena plicata var. degeneri","UPL","UPL"]
["Verbena urticifolia var. leiocarpa","FAC","FAC"]
["Verbesina nodiflora","FAC","FAC"]
["Vernonia crinita","FAC","FAC"]
["Veronica persica var. aschersoniana","UPL","UPL"]
["Vesicaria globosa","UPL","UPL"]
["Viburnum carolinianum","FAC","FACU"]
["Viburnum dentatum var. scabrellum","FAC","FACU"]
["Viburnum plicatum var. tomentosum","UPL","UPL"]
["Vicia californica var. madrensis","FACU","FACU"]
["Vicia reverchonii","FAC","FAC"]
["Vilfa rigida","UPL","UPL"]
["Viola canadensis var. canadensis","FAC","FAC"]
["Viola chinensis","UPL","UPL"]
["Viola concolor","FACU","FACU"]
["Viola conspersa","FAC","FAC"]
["Viola cucullata var. microtitis","OBL","OBL"]
["Viola emarginata","FACW","FACW"]
["Viola emarginata var. acutiloba","FACW","FACW"]
["Viola emarginata var. subsinuata","FACU","FACU"]
["Viola eriocarpa","FACU","FACU"]
["Viola eriocarpa var. leiocarpa","FACU","FACU"]
["Viola esculenta","FACU","FACU"]
["Viola falcata","FACU","FACU"]
["Viola fimbriatula","FACW","FACW"]
["Viola floridana","FAC","FAC"]
["Viola incognita","FACW","FACW"]
["Viola incognita var. forbesii","FACW","FACW"]
["Viola kitaibeliana","FAC","FAC"]
["Viola kitaibeliana var. rafinesquei","FAC","FAC"]
["Viola lanceolata ssp. lanceolata","OBL","OBL"]
["Viola lanceolata ssp. occidentalis","OBL","OBL"]
["Viola lanceolata ssp. vittata","OBL","OBL"]
["Viola lanceolata var. vittata","OBL","OBL"]
["Viola langloisii var. pedatiloba","FACW","FACW"]
["Viola latiuscula","FAC","FAC"]
["Viola linearifolia","UPL","UPL"]
["Viola lovelliana","UPL","UPL"]
["Viola macloskeyi ssp. macloskeyi","FACW","FACW"]
["Viola macloskeyi ssp. pallens","FACW","FACW"]
["Viola macloskeyi var. pallens","FACW","FACW"]
["Viola mccabeana","FACW","FACW"]
["Viola nephrophylla var. arizonica","FACW","FACW"]
["Viola nephrophylla var. cognata","FACW","FACW"]
["Viola obliqua","OBL","OBL"]
["Viola occidentalis","OBL","OBL"]
["Viola pallens","FACW","FACW"]
["Viola pallens var. subreptans","FACW","FACW"]
["Viola palmata var. dilatata","FACU","FACU"]
["Viola palmata var. dilatata","FACU","FACU"]
["Viola palmata var. esculenta","FACU","FACU"]
["Viola palmata var. palmata","FACU","FACU"]
["Viola palmata var. pedatifida","FACU","FACU"]
["Viola palmata var. sororia","FACW","FACW"]
["Viola palmata var. sororia","FAC","FAC"]
["Viola palmata var. triloba","FACU","FACU"]
["Viola papilionacea","FAC","FAC"]
["Viola papilionacea var. priceana","FAC","FAC"]
["Viola pectinata","FAC","FAC"]
["Viola pedata var. concolor","FACU","FACU"]
["Viola pedata var. lineariloba","FACU","FACU"]
["Viola pedata var. ranunculifolia","FACU","FACU"]
["Viola pedatifida ssp. brittoniana","FAC","FAC"]
["Viola pensylvanica","FACU","FACU"]
["Viola pensylvanica var. leiocarpa","FACU","FACU"]
["Viola pratincola","FACW","FACW"]
["Viola priceana","FAC","FAC"]
["Viola primulifolia ssp. occidentalis","OBL","OBL"]
["Viola primulifolia ssp. villosa","FACW","FACW"]
["Viola primulifolia var. acuta","FACW","FACW"]
["Viola primulifolia var. villosa","FACW","FACW"]
["Viola pubescens var. eriocarpon","FACU","FACU"]
["Viola pubescens var. leiocarpa","FACU","FACU"]
["Viola pubescens var. peckii","FACU","FACU"]
["Viola pubescens var. scabriuscula","FACU","FACU"]
["Viola rafinesquei","FAC","FAC"]
["Viola retusa","FACW","FACW"]
["Viola rosacea","FACW","FACW"]
["Viola rugosa","FACU","FACU"]
["Viola rugulosa","FAC","FAC"]
["Viola rydbergii","FAC","FAC"]
["Viola sagittata var. ovata","FACW","FACW"]
["Viola sagittata var. sagittata","FACW","FACW"]
["Viola sagittata var. subsagittata","FACW","FACW"]
["Viola scopulorum","FAC","FAC"]
["Viola septemloba ssp. egglestonii","UPL","UPL"]
["Viola sororia","FACW","FACW"]
["Viola sororia ssp. affinis","FACW","FACW"]
["Viola sororia ssp. affinis","FACW","FACW"]
["Viola sororia var. affinis","FACW","FACW"]
["Viola sororia var. affinis","FACW","FACW"]
["Viola sororia var. missouriensis","FAC","FAC"]
["Viola stoneana","FACU","FACU"]
["Viola tricolor var. arvensis","UPL","UPL"]
["Viola triloba","FACU","FACU"]
["Viola triloba var. dilatata","FACU","FACU"]
["Viola triloba var. dilatata","FACU","FACU"]
["Viola tripartita var. glaberrima","UPL","UPL"]
["Viola variabilis","UPL","UPL"]
["Viola vittata","OBL","OBL"]
["Viola walteri var. appalachiensis","FACU","FACU"]
["Viola walteri var. walteri","FACU","FACU"]
["Viola X abundans","FACW","FACW"]
["Viola X caesariensis","FAC","FAC"]
["Viola X cestrica","FACW","FACW"]
["Viola X columbiana","UPL","UPL"]
["Viola X consona","UPL","UPL"]
["Viola X conturbata","UPL","UPL"]
["Viola X convicta","FAC","FAC"]
["Viola X dimissa","UPL","UPL"]
["Viola X discors","UPL","UPL"]
["Viola X dissensa","UPL","UPL"]
["Viola X dowelliana","UPL","UPL"]
["Viola X erratica","FACW","FACW"]
["Viola X fernaldii","UPL","UPL"]
["Viola X festata","FACW","FACW"]
["Viola X greenei","UPL","UPL"]
["Viola X holmiana","UPL","UPL"]
["Viola X lavandulacea","UPL","UPL"]
["Viola X marylandica","UPL","UPL"]
["Viola X milleri","UPL","UPL"]
["Viola X parca","UPL","UPL"]
["Viola X peckiana","UPL","UPL"]
["Viola X perpera","UPL","UPL"]
["Viola X robinsoniana","FAC","FAC"]
["Viola X ryoniae","FAC","FAC"]
["Viorna baldwinii","FACW","FACW"]
["Viorna beadlei","UPL","UPL"]
["Viorna crispa","FACW","FACW"]
["Viorna crispa var. walteri","FACW","FACW"]
["Viorna flaccida","UPL","UPL"]
["Viorna fremontii","UPL","UPL"]
["Viorna gattingeri","UPL","UPL"]
["Viorna glaucophylla","FAC","FAC"]
["Viorna obliqua","FACW","FACW"]
["Viorna ochroleuca","UPL","UPL"]
["Viorna ovata","UPL","UPL"]
["Viorna pitcheri","FACU","FACU"]
["Viorna reticulata","UPL","UPL"]
["Viorna ridgwayi","UPL","UPL"]
["Viorna subreticulata","UPL","UPL"]
["Viorna versicolor","UPL","UPL"]
["Viorna viorna","UPL","UPL"]
["Virgulus adnatus","FACW","FACW"]
["Virgulus carolinianus","OBL","OBL"]
["Virgulus concolor","UPL","UPL"]
["Virgulus ericoides","UPL","UPL"]
["Virgulus falcatus","FAC","FAC"]
["Virgulus fendleri","UPL","UPL"]
["Virgulus georgianus","UPL","UPL"]
["Virgulus grandiflorus","UPL","UPL"]
["Virgulus novae-angliae","FACW","FACW"]
["Virgulus oblongifolius","UPL","UPL"]
["Virgulus patens var. georgianus","UPL","UPL"]
["Virgulus patens var. phlogifolius","UPL","UPL"]
["Virgulus pratensis","UPL","UPL"]
["Virgulus sericeus","UPL","UPL"]
["Virgulus walteri","FAC","FAC"]
["Virgulus X amethystinus","UPL","UPL"]
["Viscaria viscosa","UPL","UPL"]
["Viscaria vulgaris","UPL","UPL"]
["Viscum flavescens","UPL","UPL"]
["Visnaga daucoides","UPL","UPL"]
["Vitex negundo var. bicolor","UPL","UPL"]
["Vitex negundo var. heterophylla","UPL","UPL"]
["Vitex negundo var. intermedia","UPL","UPL"]
["Vitex negundo var. negundo","UPL","UPL"]
["Vitex ovata","UPL","UPL"]
["Vitex trifolia var. bicolor","UPL","UPL"]
["Vitex trifolia var. simplicifolia","UPL","UPL"]
["Vitex trifolia var. subtrisecta","UPL","UPL"]
["Vitex trifolia var. trifolia","UPL","UPL"]
["Vitex trifolia var. variegata","UPL","UPL"]
["Viticella viticella","UPL","UPL"]
["Vitis aestivalis var. aestivalis","FACU","FACU"]
["Vitis aestivalis var. argentifolia","FACU","FACU"]
["Vitis aestivalis var. bicolor","FACU","FACU"]
["Vitis aestivalis var. canescens","FAC","FAC"]
["Vitis aestivalis var. cinerea","FAC","FAC"]
["Vitis aestivalis var. lincecumii","FACU","FACU"]
["Vitis aestivalis var. monticola","UPL","UPL"]
["Vitis aestivalis var. smalliana","FACU","FACU"]
["Vitis argentifolia","FACU","FACU"]
["Vitis austrina","FAC","FAC"]
["Vitis baileyana","FAC","FAC"]
["Vitis berlandieri","FAC","FAC"]
["Vitis berlandieri var. tomentosa","FAC","FAC"]
["Vitis bicolor","FACU","FACU"]
["Vitis candicans","UPL","UPL"]
["Vitis candicans var. coriacea","FAC","FAC"]
["Vitis candicans var. diversa","UPL","UPL"]
["Vitis champanii","UPL","UPL"]
["Vitis cinerea var. baileyana","FAC","FAC"]
["Vitis cinerea var. canescens","FAC","FAC"]
["Vitis cinerea var. cinerea","FAC","FAC"]
["Vitis cinerea var. floridana","FAC","FAC"]
["Vitis cinerea var. helleri","FAC","FAC"]
["Vitis cinerea var. tomentosa","FAC","FAC"]
["Vitis cordifolia","FAC","FAC"]
["Vitis cordifolia var. foetida","FAC","FAC"]
["Vitis cordifolia var. helleri","FAC","FAC"]
["Vitis cordifolia var. sempervirens","FAC","FAC"]
["Vitis coriacea","FAC","FAC"]
["Vitis foexana","UPL","UPL"]
["Vitis helleri","FAC","FAC"]
["Vitis heptaphylla","UPL","UPL"]
["Vitis illex","FAC","FAC"]
["Vitis inserta","FACU","FACU"]
["Vitis inserta","FACU","FACU"]
["Vitis labrusca var. subedentata","FAC","FAC"]
["Vitis lecontiana","FACU","FACU"]
["Vitis lincecumii","FACU","FACU"]
["Vitis lincecumii var. glauca","FACU","FACU"]
["Vitis lincecumii var. lactea","FACU","FACU"]
["Vitis longii","UPL","UPL"]
["Vitis longii var. microsperma","UPL","UPL"]
["Vitis montana","UPL","UPL"]
["Vitis munsoniana","FAC","FAC"]
["Vitis mustangensis var. diversa","UPL","UPL"]
["Vitis quinquefolia","FACU","FACU"]
["Vitis riparia var. praecox","FACW","FACW"]
["Vitis riparia var. syrticola","FACW","FACW"]
["Vitis rotundifolia var. munsoniana","FAC","FAC"]
["Vitis rotundifolia var. pygmaea","FAC","FAC"]
["Vitis rotundifolia var. rotundifolia","FAC","FAC"]
["Vitis rubra","FACW","FACW"]
["Vitis rufotomentosa","FACU","FACU"]
["Vitis rupestris var. dissecta","UPL","UPL"]
["Vitis simpsonii","FACU","FACU"]
["Vitis simpsonii","FAC","FAC"]
["Vitis smalliana","FACU","FACU"]
["Vitis sola","FAC","FAC"]
["Vitis solonis","UPL","UPL"]
["Vitis texana","UPL","UPL"]
["Vitis vulpina ssp. riparia","FACW","FACW"]
["Vitis vulpina var. praecox","FACW","FACW"]
["Vitis vulpina var. syrticola","FACW","FACW"]
["Vitis X slavinii","FACU","FACU"]
["Voyria mexicana","UPL","UPL"]
["Vulpia dertonensis","UPL","UPL"]
["Vulpia megalura","FACU","FACU"]
["Vulpia myuros var. hirsuta","FACU","FACU"]
["Vulpia octoflora var. glauca","FACU","FACU"]
["Vulpia octoflora var. hirtella","FACU","FACU"]
["Vulpia octoflora var. octoflora","FACU","FACU"]
["Vulpia octoflora var. tenella","FACU","FACU"]
["Vulpia sciurea","UPL","UPL"]
["Wahlenbergia gracilis","UPL","UPL"]
["Wallia cinerea","FACU","FACU"]
["Wallia nigra","UPL","UPL"]
["Waltheria americana","UPL","UPL"]
["Waltheria indica var. americana","UPL","UPL"]
["Waltheria pyrolifolia","UPL","UPL"]
["Warea auriculata","UPL","UPL"]
["Washingtonia claytonii","FACU","FACU"]
["Washingtonia gracilis","FAC","FAC"]
["Washingtonia longistylis","FAC","FAC"]
["Washingtonia sonorae","FAC","FAC"]
["Websteria confervoides","OBL","OBL"]
["Websteria submersa","OBL","OBL"]
["Wedelia calycina","UPL","UPL"]
["Wedelia glauca","UPL","UPL"]
["Wedelia trilobata","FAC","FAC"]
["Weigelia","UPL","UPL"]
["Weissia muehlenbergiana","UPL","UPL"]
["Weissia phascopsis","UPL","UPL"]
["Weissia rostellata var. phascoides","UPL","UPL"]
["Wilcoxia poselgeri","UPL","UPL"]
["Willoughbya halei","FACW","FACW"]
["Wissadula holosericea","UPL","UPL"]
["Wisteria frutescens var. macrostachya","FACW","FACW"]
["Wisteria macrostachya","FACW","FACW"]
["Wolffia cylindracea","OBL","OBL"]
["Wolffia floridana","OBL","OBL"]
["Wolffia gladiata","OBL","OBL"]
["Wolffia gladiata var. floridana","OBL","OBL"]
["Wolffia lingulata","OBL","OBL"]
["Wolffia papulifera","OBL","OBL"]
["Wolffia punctata","OBL","OBL"]
["Wolffia punctata","OBL","OBL"]
["Wolffiella floridana","OBL","OBL"]
["Woodsia scopulina ssp. appalachiana","UPL","UPL"]
["Woodsia scopulina var. appalachiana","UPL","UPL"]
["Wootonella nana","UPL","UPL"]
["Wulfenia bullii","UPL","UPL"]
["X Asplenosorus boydstoniae","UPL","UPL"]
["X Asplenosorus ebenoides","UPL","UPL"]
["X Asplenosorus gravesii","UPL","UPL"]
["X Asplenosorus herb-wagneri","UPL","UPL"]
["X Asplenosorus kentuckiensis","UPL","UPL"]
["X Asplenosorus pinnatifidus","UPL","UPL"]
["X Asplenosorus shawneensis","UPL","UPL"]
["X Asplenosorus trudellii","UPL","UPL"]
["X Cupressocyparis","UPL","UPL"]
["X Cupressocyparis leylandii","UPL","UPL"]
["X Cupressocyparis leylandii","UPL","UPL"]
["X Cuprocyparis leylandii","UPL","UPL"]
["X Elymordeum montanense","UPL","UPL"]
["X Elytesion montanense","UPL","UPL"]
["X Neocupropsis leylandii","UPL","UPL"]
["Xanthisma glaberrimum","FACU","FACU"]
["Xanthisma paradoxum","FACU","FACU"]
["Xanthisma spinulosum var. austrotexanum","FACU","FACU"]
["Xanthisma spinulosum var. chihuahuanum","FACU","FACU"]
["Xanthisma spinulosum var. glaberrimum","FACU","FACU"]
["Xanthisma spinulosum var. gooddingii","FACU","FACU"]
["Xanthisma spinulosum var. paradoxum","FACU","FACU"]
["Xanthisma spinulosum var. spinulosum","FACU","FACU"]
["Xanthium acerosum","FAC","FAC"]
["Xanthium americanum","FAC","FAC"]
["Xanthium californicum","FAC","FAC"]
["Xanthium californicum var. rotundifolium","FAC","FAC"]
["Xanthium calvum","FAC","FAC"]
["Xanthium campestre","FAC","FAC"]
["Xanthium canadense","FAC","FAC"]
["Xanthium cavanillesii","FAC","FAC"]
["Xanthium cenchroides","FAC","FAC"]
["Xanthium chasei","FAC","FAC"]
["Xanthium chinense","FAC","FAC"]
["Xanthium commune","FAC","FAC"]
["Xanthium curvescens","FAC","FAC"]
["Xanthium cylindraceum","FAC","FAC"]
["Xanthium echinatum","FAC","FAC"]
["Xanthium echinellum","FAC","FAC"]
["Xanthium glanduliferum","FAC","FAC"]
["Xanthium globosum","FAC","FAC"]
["Xanthium inflexum","FAC","FAC"]
["Xanthium italicum","FAC","FAC"]
["Xanthium macounii","FAC","FAC"]
["Xanthium macrocarpum var. glabratum","FAC","FAC"]
["Xanthium occidentale","FAC","FAC"]
["Xanthium oligacanthum","FAC","FAC"]
["Xanthium orientale","FAC","FAC"]
["Xanthium oviforme","FAC","FAC"]
["Xanthium pensylvanicum","FAC","FAC"]
["Xanthium saccharatum","FAC","FAC"]
["Xanthium speciosum","FAC","FAC"]
["Xanthium spinosum var. inerme","FACU","FACU"]
["Xanthium strumarium ssp. italicum","FAC","FAC"]
["Xanthium strumarium var. canadense","FAC","FAC"]
["Xanthium strumarium var. glabratum","FAC","FAC"]
["Xanthium strumarium var. oviforme","FAC","FAC"]
["Xanthium strumarium var. pensylvanicum","FAC","FAC"]
["Xanthium strumarium var. wootonii","FAC","FAC"]
["Xanthium strumarium var. wootonii","FAC","FAC"]
["Xanthium varians","FAC","FAC"]
["Xanthium wootonii","FAC","FAC"]
["Xanthocephalum amoenum","UPL","UPL"]
["Xanthocephalum amoenum var. intermedium","UPL","UPL"]
["Xanthocephalum dracunculoides","UPL","UPL"]
["Xanthocephalum glutinosum","UPL","UPL"]
["Xanthocephalum lucidum","UPL","UPL"]
["Xanthocephalum microcephalum","UPL","UPL"]
["Xanthocephalum sarothrae","UPL","UPL"]
["Xanthocephalum sarothrae var. pomariense","UPL","UPL"]
["Xanthocephalum sphaerocephalum","UPL","UPL"]
["Xanthocephalum sphaerocephalum var. eriocarpum","UPL","UPL"]
["Xanthocephalum tenue","UPL","UPL"]
["Xanthosoma atrovirens","FACW","FACW"]
["Xanthosoma nigrum","FACW","FACW"]
["Xanthosoma violaceum","FACW","FACW"]
["Xanthoxalis brittoniae","FACU","FACU"]
["Xanthoxalis bushii","UPL","UPL"]
["Xanthoxalis coloradensis","UPL","UPL"]
["Xanthoxalis corniculata","UPL","UPL"]
["Xanthoxalis corniculata var. atropurpurea","UPL","UPL"]
["Xanthoxalis cymosa","UPL","UPL"]
["Xanthoxalis dillenii","FACU","FACU"]
["Xanthoxalis dillenii var. piletocarpa","UPL","UPL"]
["Xanthoxalis filipes","FACU","FACU"]
["Xanthoxalis florida","FACU","FACU"]
["Xanthoxalis grandis","UPL","UPL"]
["Xanthoxalis interior","UPL","UPL"]
["Xanthoxalis langloisii","UPL","UPL"]
["Xanthoxalis repens","UPL","UPL"]
["Xanthoxalis rufa","UPL","UPL"]
["Xanthoxalis stricta","UPL","UPL"]
["Xanthoxalis stricta var. piletocarpa","UPL","UPL"]
["Xeniatrum umbellulatum","UPL","UPL"]
["Ximenesia encelioides","FAC","FAC"]
["Ximenesia encelioides var. cana","FAC","FAC"]
["Ximenesia encelioides var. exauriculata","FAC","FAC"]
["Ximenesia encelioides var. nana","UPL","UPL"]
["Ximenesia exauriculata","FAC","FAC"]
["Ximenesia microptera","FAC","FAC"]
["Ximenesia nana","UPL","UPL"]
["Ximenia inermis","FACU","FACU"]
["Xiphion sordidum","UPL","UPL"]
["Xiphion vernum","UPL","UPL"]
["Xiphion vulgare","UPL","UPL"]
["Xolisma ferruginea","FACU","FACU"]
["Xolisma foliosiflora","FACW","FACW"]
["Xolisma fruticosa","FACW","FACW"]
["Xolisma ligustrina","FACW","FACW"]
["Xolisma ligustrina var. foliosiflora","FACW","FACW"]
["Xolisma mariana","FAC","FAC"]
["Xylosma senticosum","UPL","UPL"]
["Xylosteon ciliatum","FACU","FACU"]
["Xylosteon fragrantissimum","UPL","UPL"]
["Xyris arenicola","FACW","FACW"]
["Xyris arenicola","OBL","OBL"]
["Xyris baldwiniana var. tenuifolia","OBL","OBL"]
["Xyris bayardii","OBL","OBL"]
["Xyris bulbosa","OBL","OBL"]
["Xyris caroliniana var. olneyi","OBL","OBL"]
["Xyris chapmanii","OBL","OBL"]
["Xyris communis","OBL","OBL"]
["Xyris congdonii","OBL","OBL"]
["Xyris curtissii","OBL","OBL"]
["Xyris difformis var. curtissii","OBL","OBL"]
["Xyris difformis var. difformis","OBL","OBL"]
["Xyris difformis var. floridana","OBL","OBL"]
["Xyris elata","OBL","OBL"]
["Xyris elliottii var. stenotera","OBL","OBL"]
["Xyris flexuosa","FACW","FACW"]
["Xyris flexuosa","OBL","OBL"]
["Xyris indica","OBL","OBL"]
["Xyris iridifolia","OBL","OBL"]
["Xyris juncea","OBL","OBL"]
["Xyris laxifolia var. iridifolia","OBL","OBL"]
["Xyris neglecta","OBL","OBL"]
["Xyris pallescens","FACW","FACW"]
["Xyris papillosa","OBL","OBL"]
["Xyris smalliana var. olneyi","OBL","OBL"]
["Xyris stricta var. obscura","OBL","OBL"]
["Xyris torta var. macropoda","OBL","OBL"]
["Xyris torta var. occidentalis","OBL","OBL"]
["Yeatesia laetevirens","FACW","FACW"]
["Youngia japonica ssp. elstonii","FACU","FACU"]
["Youngia thunbergiana","FACU","FACU"]
["Yucca angustissima var. elata","UPL","UPL"]
["Yucca angustissima var. mollis","UPL","UPL"]
["Yucca arkansana var. paniculata","UPL","UPL"]
["Yucca baccata var. baccata","UPL","UPL"]
["Yucca baccata var. macrocarpa","UPL","UPL"]
["Yucca baccata var. vespertina","UPL","UPL"]
["Yucca carnerosana","UPL","UPL"]
["Yucca concava","UPL","UPL"]
["Yucca confinis","UPL","UPL"]
["Yucca crassifolia","UPL","UPL"]
["Yucca elata var. elata","UPL","UPL"]
["Yucca elata var. utahensis","UPL","UPL"]
["Yucca elata var. verdiensis","UPL","UPL"]
["Yucca filamentosa var. concava","UPL","UPL"]
["Yucca filamentosa var. smalliana","UPL","UPL"]
["Yucca freemanii","UPL","UPL"]
["Yucca intermedia var. ramosa","UPL","UPL"]
["Yucca macrocarpa","UPL","UPL"]
["Yucca recurvifolia","FAC","FAC"]
["Yucca rostrata","UPL","UPL"]
["Yucca rostrata var. linearis","UPL","UPL"]
["Yucca rupicola","UPL","UPL"]
["Yucca smalliana","UPL","UPL"]
["Yucca tortifolia","UPL","UPL"]
["Yucca utahensis","UPL","UPL"]
["Yucca verdiensis","UPL","UPL"]
["Yucca vespertina","UPL","UPL"]
["Zannichellia major","OBL","OBL"]
["Zannichellia palustris var. major","OBL","OBL"]
["Zannichellia palustris var. stenophylla","OBL","OBL"]
["Zanthoxylum clava-herculis var. fruticosum","UPL","UPL"]
["Zanthoxylum macrophyllum","FAC","FAC"]
["Zea mays ssp. mexicana","UPL","UPL"]
["Zebrina pendula","UPL","UPL"]
["Zebrina pendula var. quadrifolia","UPL","UPL"]
["Zenobia cassinefolia","OBL","OBL"]
["Zephyranthes atamasca var. treatiae","FACW","FACW"]
["Zephyranthes brazosensis","FACU","FACU"]
["Zephyranthes chlorosolen","FACU","FACU"]
["Zephyranthes drummondii","UPL","UPL"]
["Zephyranthes herbertiana","FACU","FACU"]
["Zephyranthes jonesii","UPL","UPL"]
["Zephyranthes smallii","UPL","UPL"]
["Zephyranthes texana","FACW","FACW"]
["Zexmenia brevifolia","UPL","UPL"]
["Zigadenus densus","FACW","FACW"]
["Zigadenus hybridus","UPL","UPL"]
["Zigadenus leimanthoides","FACW","FACW"]
["Zigadenus muscitoxicus","FAC","FAC"]
["Zinnia elegans","UPL","UPL"]
["Zinnia multiflora","UPL","UPL"]
["Zinnia pauciflora","UPL","UPL"]
["Zinnia pumila","UPL","UPL"]
["Zizania aquatica ssp. angustifolia","OBL","OBL"]
["Zizania aquatica var. angustifolia","OBL","OBL"]
["Zizania aquatica var. aquatica","OBL","OBL"]
["Zizania aquatica var. brevis","OBL","OBL"]
["Zizania aquatica var. interior","OBL","OBL"]
["Zizania aquatica var. subbrevis","OBL","OBL"]
["Zizania miliacea","OBL","OBL"]
["Zizania palustris var. interior","OBL","OBL"]
["Zizania palustris var. palustris","OBL","OBL"]
["Zizia aptera var. occidentalis","FAC","FAC"]
["Zizia arenicola","FAC","FAC"]
["Zizia bebbii","FAC","FAC"]
["Zizia cordata","FAC","FAC"]
["Zizia latifolia","FAC","FAC"]
["Ziziphora pulegioides","UPL","UPL"]
["Ziziphus jujuba","FACU","FACU"]
["Zornia diphylla","UPL","UPL"]
["Zostera asiatica","OBL","OBL"]
["Zostera marina var. latifolia","OBL","OBL"]
["Zostera marina var. stenophylla","OBL","OBL"]
["Zostera pacifica","OBL","OBL"]
["Zosterella dubia","OBL","OBL"]
["Zosterella longituba","OBL","OBL"]
["Zoysia matrella ssp. tenuifolia","UPL","UPL"]
["Zoysia matrella var. pacifica","UPL","UPL"]
["Zoysia matrella var. tenuifolia","UPL","UPL"]
["Zoysia tenuifolia","UPL","UPL"]
["Zygophyllidium delicatulum","UPL","UPL"]
["Zygophyllidium hexagonum","UPL","UPL"]
["Zygophyllum fabago var. brachycarpum","UPL","UPL"]