{"text_format":"3","workbook":"xlsx","n_sheets":22,"sheets":["Instructions","PNA Summary","Tab 1","Tab 2","Tab 3","Tab 4","Tab 5","Tab 6","Tab 7","Tab 8","Tab 9","Tab 10","Tab 11","Tab 12","Tab 13","Tab 14","Tab 15","Tab 16","Tab 17","Tab 18","Tab 19","Tab 20"],"not_rendered":{"macros":1,"defined_names":23},"read":"whole","date_system":"1904"}

{"sheet":"Instructions","index":0,"n_rows":106,"n_cols":2,"rows_kept":106}
["INSTRUCTIONS for Physical Needs Assessment Form "]
[]
["Instructions for Preparation of Form-Capital Fund Financing Program (CFFP) and Operating Funding Financing Program (OFFP) Physical Needs Assessment (PNA)"]
[]
["Report Submission: Prepare a separate PNA form for each grouping of up to 20 developments in the HA's inventory, which are eligible for Capital Funding Program "]
["(CFP) funding, for all HA-wide non-dwelling needs, e.g., maintenance equipment, and for any development needs.  Use a separate Tab for each property or HA-wide "]
["non-dwelling needs or any development needs.  Submit these forms as part of the submission of a PHA Plan when pursuing a CFFP or OFFP Financing.  On an as-"]
["needed basis, submit a revised form where physical needs have significantly changed since the last needs assessment and the HA wishes to revise its use of CFFP or "]
["OFFP proceeds to include uses not previously reflected in a CFFP/OFFP PNA.  "]
[]
["PNA Summary Instructions"]
[]
[null,"HA Name - Enter the HA Name"]
[null,"HA Number - Enter the HA Number"]
[null,"FY Of Assessment - Enter the year the assessment was completed.  If the assessment spanned more than one year, enter the year that the Assessment was initiated.  "]
[null,"Original or Revision. Self-Explanatory. "]
[null,"Date Prepared/Revised.  Date Prepared is the date the Original Assessment form was completed.  Date Revised is the date of the most recent Revision.  If this is an "]
[null,"Original submission, leave Date Revised blank.  "]
[]
["Tabs 1-20 Instructions"]
["Section 1 - Project Data"]
[]
[1.1,"Management Office Address - Address of Management Office from which the Project is managed."]
[1.2,"Project Name - Enter the Name of the Development."]
[1.3,"Development Number - Enter an 11-digit alpha numeric code as follows: Enter an 11-digit alpha numeric code as follows: two-digit State code (alpha); two-digit Field "]
[null,"Office code (numeric); P for Public Housing or B for Indian Housing; three-digit HA number (numeric); and three-digit development number (numeric). For example, "]
[null,"VA05PO36001. In lieu of a development number, enter \"HA-wide\" for physical needs that are HA-wide in nature"]
[1.4,"DOFA Date - Enter the Date of Full Availability (DOFA) in this format:  MM/DD/YYYY. "]
[1.5,"Year of Last Substantial Modernization - Enter the FY when most recent substantial modernization occurred.  For purposes of this form, substantial modernization is "]
[null,"defined as the replacement/repair of major building systems, which brought the development up to the modernization standards."]
[1.6,"Occupancy Rate - This is a calculated field based on the Bedroom Distribution table (1.11)."]
[1.7,"Latest PASS REAC Score - Provide the latest issued score, on a 100-point basis, for the development."]
[1.8,"Total Buildings - Enter the total number of buildings (dwelling and non-dwelling) in the Development.  "]
[1.9,"Occupancy Types - Check all occupancy types that apply."]
[1.1,"Structure Types - Check all structure types that apply.  "]
[1.11,"Current Bedroom Distribution - Enter the current number of occupied and vacant units, by bedroom size in 1.11a and 1.11b.  This includes Rentable Units Only.  "]
["1.11a","Occupied - Enter the occupied units, as of the date of completing this Form, by bedroom size, in the table."]
["1.11b","Vacant - Enter the vacant units, as of the date of this Form, by bedroom size, in the table.  "]
[]
["Section 2 - Summary Data"]
[]
[2.1,"PNA Conducted By: (PHA/3rd Party) - Select the applicable check box which best describes who conducted the PNA.  Both selections can be chosen if applicable.  "]
[2.2,"First Year Covered by PNA - Enter the first Calendar year that is covered in the PNA.  This will be used to project the current needs and 20-year needs."]
[2.3,"Length of PNA (in years) - Enter the length of time that the PNA covers.  This will be used to project total PNA costs."]
[2.4,"Unit Interiors Inspected (#) - This is calculated automatically, based on information provided at 2.14.    "]
[2.5,"Inspector Contact Name: Enter the name of the contact person for the inspection.  "]
[2.6,"Company Name or PHA Title: Enter the name of the company for whom the inspector works, or if conducted by a staff person of the PHA, enter the inspector's job title.  "]
[2.7,"Inspector Contact Phone: Enter the phone number for contacting the inspector.  "]
[2.8,"Data Source(s) for PNA: Check the applicable box or boxes indicating the sources of data for the preparation of the PNA.  "]
[2.9,"Total Residential Buildings: Enter the number of residential buildings in the property.  "]
[2.1,"Number of Building Exteriors Inspected: Enter the number of buildings for which the exteriors were inspected"]
[null,"(Reference HUD Handbook 7485.2 for PNA survey requirements).  "]
[2.11,"Total Off-Street Parking Spaces: Enter the number of off-street parking spaces on the site.  "]
[2.12,"Site Acreage: Enter the total number of acres included in the site.  "]
[2.13,"Parking Area (in square feet): Enter the approximate area of the off-street parking spaces.  "]
[2.14,"Units Inspected by Bedroom Size: Enter the number of units for which the interiors were inspected, by bedroom size, into this table. "]
[null,"Reference HUD Handbook 7485.2 for PNA survey requirements. Note that designated accessible units, exterior and interior paths of travel, and all common areas should be surveyed for compliance with the Uniform Federal Accessibility Standards (UFAS) and the 2010 ADA Standards. Properties covered by the Fair Housing Act should be surveyed in accordance with 24 C.F.R. 100.205)."]
[2.15,"Physical Improvements Will Result in Structural/System Soundness at a Reasonable Cost: Check \"Yes\" or \"No\". For cost reasonableness, "]
[null,"the preliminary estimate of hard costs for work proposed at the development should be 90 percent or less of Total Development Cost (TDC).  "]
[2.16,"Development Has Long-Term Physical and Social Viability: Check \"Yes\" or \"No\" as to whether the HA has determined that the development has long-term physical "]
[null,"and social viability. Note: If \"No\" is checked, attach the viability analysis and an explanation of what actions are proposed regarding the nonviable development."]
[]
["Section 3 - Total Physical Needs Summary.  This section is a summary that is completed automatically from data entered in Section 4.0.  "]
[]
["Section 4 - Physical Needs Cost Estimate"]
[]
["Column Instructions:"]
[]
["Needed Physical Improvements. This section should include the estimated costs of all current and future physical improvements that must be undertaken to bring the "]
["development (dwelling and non-dwelling structures, dwelling and non-dwelling equipment, and site) up to a level at least equal to the modernization standards, energy"]
["conservation and life-cycle cost effective performance standards and the lead-based paint testing and abatement standards. Also, include any replacements of equipment, "]
["systems and structural elements that will be needed, assuming routine and timely maintenance, within the timeframe of the PNA. Enter only physical improvements that are "]
["eligible for Capital Fund Program funding."]
[]
["Use the most appropriate line items for repairs related to: Site (4.9), Common Buildings (4.10), Unit Exteriors (4.11), Unit Interiors (4.12), Mechanical Systems (4.13), a"]
["and Other (4.14).  If you have a unique item not accounted for in each sub-section, modify the \"Other (Specify)\" line or lines provided.  Please note that in Section 4.15"]
["(Special Categories) you are asked to estimate the amount of lead-based paint and asbestos removal costs, and Section 504, ADA, "]
["and Fair Housing Act (if applicable) compliance cost estimates.  These are not additive to the PNA cost estimate."]
[]
[4.16,"Section 4.16 should include all New Construction activities being proposed, which, since they are not \"modernization\" in a strict sense, are segregated from the "]
[null,"rehabilitation costs in Section 4.9 to 4.15.  "]
[]
[4.2,"Estimate Useful Life (in Years).  Enter the number of years the component is expected to be serviceable in your geographic area.  This is the \"life cycle\" of the "]
[null,"component adjusted to your conditions."]
[]
[4.3,"Useful Life Remaining (in Years).  Based on the inspection, estimate the number of years that this component is expected to remain useful before it needs to be   "]
[null,"replaced or renovated. "]
[]
[4.4,"Method.  The method for calculating the cost of replacing various items differs.  For some items, it is the \"cost per square foot\" or \"cost per linear foot\".  For others, it "]
[null,"is a \"unit cost\".  Some other items may be \"lump sum\".  In this column, select the method from the pull down menu that is being used for estimating the replacement/repair "]
[null,"cost of the line item. "]
[]
[4.5,"Total Quantity.  Enter the quantity that will be required for each line item, which will then be multiplied by the Cost per Quantity (4.8) and produce the Total Long- "]
[null,"Term Need.  "]
[]
[4.6,"Current Needs Quantity.  In this column, enter the quantity of each line item that needs immediate repair or replacement.  These are existing or backlog needs, and will  "]
[null,"be treated as a \"sub-set\" of Year One Needs and will be reflected in the \"Immediate\" column in Section 3.0 of the PNA.  "]
[]
[4.7,"Cost per Quantity.  Enter the estimated Cost for each line item, based on the Method selected in Column 4.5.  This estimate should exclude any management "]
[null,"improvements, administration, architectural/engineering fees, relocation or other soft costs.  "]
[]
[null,"Total Long Term Needs:  Long term needs will be automatically calculated based on the projected useful life, estimated useful life remaining, quantity and cost "]
[null,"per quantity fields.  "]
[]
[null,"The form has been designed to print in portrait mode on 8.5 x 11 paper and will only include the fields from columns A - J.  To print the future cost projections, the print "]
[null,"area command must be used to change the print area."]

{"sheet":"PNA Summary","index":1,"n_rows":59,"n_cols":9,"rows_kept":59,"merged":[[43,0,43,2],[46,0,46,1],[55,0,55,1],[56,0,56,1],[57,0,57,1],[60,0,60,1]]}
["Physical Needs Assessment",null,null,"U.S. Department of Housing",{"$nulls":4}," OMB Approval No. 2577-0157"]
[{"$f":"'Tab 1'!A2","v":"Capital Fund Financing Program/"},null,null,"and Urban Development",{"$nulls":4}," (exp. 1/31/2017)"]
[{"$f":"'Tab 1'!A3","v":"Operating Fund Financing Program"},null,null,"Office of Public and Indian Housing",null,null,"PNA Summary"]
{"$rows_empty":7}
["HA Name",null,"HA Number"]
[{"$f":"'Tab 1'!A6","v":0},null,{"$f":"'Tab 1'!C6:D6","v":0}]
[]
["Project Name","Project       Number","Immediate Repairs","Years 1-5","Years 6-10","Years 11-15","Years 16-20","Total","Per Unit"]
[{"$f":"'Tab 1'!$B$11","v":0},{"$f":"'Tab 1'!$H$10","v":0},{"$f":"'Tab 1'!$C$54","v":0},{"$f":"'Tab 1'!$D$54","v":0},{"$f":"'Tab 1'!$E$54","v":0},{"$f":"'Tab 1'!$F$54","v":0},{"$f":"'Tab 1'!$G$54","v":0},{"$f":"SUM(C15:G15)","v":0},{"$f":"+H15/'Tab 1'!$B$18","v":{"$error":"#DIV/0!"}}]
[{"$f":"'Tab 2'!$B$11","v":0},{"$f":"'Tab 2'!$H$10","v":0},{"$f":"'Tab 2'!$C$54","v":0},{"$f":"'Tab 2'!$D$54","v":0},{"$f":"'Tab 2'!$E$54","v":0},{"$f":"'Tab 2'!$F$54","v":0},{"$f":"'Tab 2'!$G$54","v":0},0,{"$f":"+H16/'Tab 2'!$B$18","v":{"$error":"#DIV/0!"}}]
[{"$f":"'Tab 3'!B$11","v":0},{"$f":"'Tab 3'!$H$10","v":0},{"$f":"'Tab 3'!$C$54","v":0},{"$f":"'Tab 3'!$D$54","v":0},{"$f":"'Tab 3'!$E$54","v":0},{"$f":"'Tab 3'!$F$54","v":0},{"$f":"'Tab 3'!$G$54","v":0},0,{"$f":"+H17/'Tab 3'!$B$18","v":{"$error":"#DIV/0!"}}]
[{"$f":"'Tab 4'!B$11","v":0},{"$f":"'Tab 4'!$H$10","v":0},{"$f":"'Tab 4'!$C$54","v":0},{"$f":"'Tab 4'!$D$54","v":0},{"$f":"'Tab 4'!$E$54","v":0},{"$f":"'Tab 4'!$F$54","v":0},{"$f":"'Tab 4'!$G$54","v":0},0,{"$f":"+H18/'Tab 4'!$B$18","v":{"$error":"#DIV/0!"}}]
[{"$f":"'Tab 5'!B$11","v":0},{"$f":"'Tab 5'!$H$10","v":0},{"$f":"'Tab 5'!$C$54","v":0},{"$f":"'Tab 5'!$D$54","v":0},{"$f":"'Tab 5'!$E$54","v":0},{"$f":"'Tab 5'!$F$54","v":0},{"$f":"'Tab 5'!$G$54","v":0},0,{"$f":"+H19/'Tab 5'!$B$18","v":{"$error":"#DIV/0!"}}]
[{"$f":"'Tab 6'!B$11","v":0},{"$f":"'Tab 6'!$H$10","v":0},{"$f":"'Tab 6'!$C$54","v":0},{"$f":"'Tab 6'!$D$54","v":0},{"$f":"'Tab 6'!$E$54","v":0},{"$f":"'Tab 6'!$F$54","v":0},{"$f":"'Tab 6'!$G$54","v":0},0,{"$f":"+H20/'Tab 6'!$B$18","v":{"$error":"#DIV/0!"}}]
[{"$f":"'Tab 7'!B$11","v":0},{"$f":"'Tab 7'!$H$10","v":0},{"$f":"'Tab 7'!$C$54","v":0},{"$f":"'Tab 7'!$D$54","v":0},{"$f":"'Tab 7'!$E$54","v":0},{"$f":"'Tab 7'!$F$54","v":0},{"$f":"'Tab 7'!$G$54","v":0},0,{"$f":"+H21/'Tab 7'!$B$18","v":{"$error":"#DIV/0!"}}]
[{"$f":"'Tab 8'!B$11","v":0},{"$f":"'Tab 8'!$H$10","v":0},{"$f":"'Tab 8'!$C$54","v":0},{"$f":"'Tab 8'!$D$54","v":0},{"$f":"'Tab 8'!$E$54","v":0},{"$f":"'Tab 8'!$F$54","v":0},{"$f":"'Tab 8'!$G$54","v":0},0,{"$f":"+H22/'Tab 8'!$B$18","v":{"$error":"#DIV/0!"}}]
[{"$f":"'Tab 9'!B$11","v":0},{"$f":"'Tab 9'!$H$10","v":0},{"$f":"'Tab 9'!$C$54","v":0},{"$f":"'Tab 9'!$D$54","v":0},{"$f":"'Tab 9'!$E$54","v":0},{"$f":"'Tab 9'!$F$54","v":0},{"$f":"'Tab 9'!$G$54","v":0},0,{"$f":"+H23/'Tab 9'!$B$18","v":{"$error":"#DIV/0!"}}]
[{"$f":"'Tab 10'!B$11","v":0},{"$f":"'Tab 10'!$H$10","v":0},{"$f":"'Tab 10'!$C$54","v":0},{"$f":"'Tab 10'!$D$54","v":0},{"$f":"'Tab 10'!$E$54","v":0},{"$f":"'Tab 10'!$F$54","v":0},{"$f":"'Tab 10'!$G$54","v":0},0,{"$f":"+H24/'Tab 10'!$B$18","v":{"$error":"#DIV/0!"}}]
[{"$f":"'Tab 11'!B$11","v":0},{"$f":"'Tab 11'!$H$10","v":0},{"$f":"'Tab 11'!$C$54","v":0},{"$f":"'Tab 11'!$D$54","v":0},{"$f":"'Tab 11'!$E$54","v":0},{"$f":"'Tab 11'!$F$54","v":0},{"$f":"'Tab 11'!$G$54","v":0},{"$f":"SUM(C25:G25)","v":0},{"$f":"+H25/'Tab 11'!$B$18","v":{"$error":"#DIV/0!"}}]
[{"$f":"'Tab 12'!B$11","v":0},{"$f":"'Tab 12'!$H$10","v":0},{"$f":"'Tab 12'!$C$54","v":0},{"$f":"'Tab 12'!$D$54","v":0},{"$f":"'Tab 12'!$E$54","v":0},{"$f":"'Tab 12'!$F$54","v":0},{"$f":"'Tab 12'!$G$54","v":0},0,{"$f":"+H26/'Tab 12'!$B$18","v":{"$error":"#DIV/0!"}}]
[{"$f":"'Tab 13'!B$11","v":0},{"$f":"'Tab 13'!$H$10","v":0},{"$f":"'Tab 13'!$C$54","v":0},{"$f":"'Tab 13'!$D$54","v":0},{"$f":"'Tab 13'!$E$54","v":0},{"$f":"'Tab 13'!$F$54","v":0},{"$f":"'Tab 13'!$G$54","v":0},0,{"$f":"+H27/'Tab 13'!$B$18","v":{"$error":"#DIV/0!"}}]
[{"$f":"'Tab 14'!B$11","v":0},{"$f":"'Tab 14'!$H$10","v":0},{"$f":"'Tab 14'!$C$54","v":0},{"$f":"'Tab 14'!$D$54","v":0},{"$f":"'Tab 14'!$E$54","v":0},{"$f":"'Tab 14'!$F$54","v":0},{"$f":"'Tab 14'!$G$54","v":0},0,{"$f":"+H28/'Tab 14'!$B$18","v":{"$error":"#DIV/0!"}}]
[{"$f":"'Tab 15'!B$11","v":0},{"$f":"'Tab 15'!$H$10","v":0},{"$f":"'Tab 15'!$C$54","v":0},{"$f":"'Tab 15'!$D$54","v":0},{"$f":"'Tab 15'!$E$54","v":0},{"$f":"'Tab 15'!$F$54","v":0},{"$f":"'Tab 15'!$G$54","v":0},0,{"$f":"+H29/'Tab 15'!$B$18","v":{"$error":"#DIV/0!"}}]
[{"$f":"'Tab 16'!B$11","v":0},{"$f":"'Tab 16'!$H$10","v":0},{"$f":"'Tab 16'!$C$54","v":0},{"$f":"'Tab 16'!$D$54","v":0},{"$f":"'Tab 16'!$E$54","v":0},{"$f":"'Tab 16'!$F$54","v":0},{"$f":"'Tab 16'!$G$54","v":0},0,{"$f":"+H30/'Tab 16'!$B$18","v":{"$error":"#DIV/0!"}}]
[{"$f":"'Tab 17'!B$11","v":0},{"$f":"'Tab 17'!$H$10","v":0},{"$f":"'Tab 17'!$C$54","v":0},{"$f":"'Tab 17'!$D$54","v":0},{"$f":"'Tab 17'!$E$54","v":0},{"$f":"'Tab 17'!$F$54","v":0},{"$f":"'Tab 17'!$G$54","v":0},0,{"$f":"+H31/'Tab 17'!$B$18","v":{"$error":"#DIV/0!"}}]
[{"$f":"'Tab 18'!B$11","v":0},{"$f":"'Tab 18'!$H$10","v":0},{"$f":"'Tab 18'!$C$54","v":0},{"$f":"'Tab 18'!$D$54","v":0},{"$f":"'Tab 18'!$E$54","v":0},{"$f":"'Tab 18'!$F$54","v":0},{"$f":"'Tab 18'!$G$54","v":0},0,{"$f":"+H32/'Tab 18'!$B$18","v":{"$error":"#DIV/0!"}}]
[{"$f":"'Tab 19'!B$11","v":0},{"$f":"'Tab 19'!$H$10","v":0},{"$f":"'Tab 19'!$C$54","v":0},{"$f":"'Tab 19'!$D$54","v":0},{"$f":"'Tab 19'!$E$54","v":0},{"$f":"'Tab 19'!$F$54","v":0},{"$f":"'Tab 19'!$G$54","v":0},0,{"$f":"+H33/'Tab 19'!$B$18","v":{"$error":"#DIV/0!"}}]
[{"$f":"'Tab 20'!B$11","v":0},{"$f":"'Tab 20'!$H$10","v":0},{"$f":"'Tab 20'!$C$54","v":0},{"$f":"'Tab 20'!$D$54","v":0},{"$f":"'Tab 20'!$E$54","v":0},{"$f":"'Tab 20'!$F$54","v":0},{"$f":"'Tab 20'!$G$54","v":0},0,{"$f":"+H34/'Tab 20'!$B$18","v":{"$error":"#DIV/0!"}}]
{"$rows_empty":10}
["Totals",null,{"$f":"SUM(C15:C44)","v":0},0,0,0,0,0,{"$f":"H45/('Tab 1'!B$18+'Tab 2'!B$18+'Tab 3'!B$18+'Tab 4'!B$18+'Tab 5'!B$18+'Tab 6'!B$18+'Tab 7'!B$18+'Tab 8'!B$18+'Tab 9'!B$18+'Tab 10'!B$18+'Tab 11'!B$18+'Tab 12'!B$18+'Tab 13'!B$18+'Tab 14'!B$18+'Tab 15'!B$18+'Tab 16'!B$18+'Tab 17'!B$18+'Tab 18'!B$18+'Tab 19'!B$18+'Tab 20'!B$18)","v":{"$error":"#DIV/0!"}}]
[]
["Category",null,"Immediate Repairs","Years 1-5","Years 6-10","Years 11-15","Years 16-20","Total","Per Unit"]
["Site",null,{"$f":"'Tab 1'!C48+'Tab 2'!C48+'Tab 3'!C48+'Tab 4'!C48+'Tab 5'!C48+'Tab 6'!C48+'Tab 7'!C48+'Tab 8'!C48+'Tab 9'!C48+'Tab 10'!C48+'Tab 11'!C48+'Tab 12'!C48+'Tab 13'!C48+'Tab 14'!C48+'Tab 15'!C48+'Tab 16'!C48+'Tab 17'!C48+'Tab 18'!C48+'Tab 19'!C48+'Tab 20'!C48","v":0},{"$f":"'Tab 1'!D48+'Tab 2'!D48+'Tab 3'!D48+'Tab 4'!D48+'Tab 5'!D48+'Tab 6'!D48+'Tab 7'!D48+'Tab 8'!D48+'Tab 9'!D48+'Tab 10'!D48+'Tab 11'!D48+'Tab 12'!D48+'Tab 13'!D48+'Tab 14'!D48+'Tab 15'!D48+'Tab 16'!D48+'Tab 17'!D48+'Tab 18'!D48+'Tab 19'!D48+'Tab 20'!D48","v":0},{"$f":"'Tab 1'!E48+'Tab 2'!E48+'Tab 3'!E48+'Tab 4'!E48+'Tab 5'!E48+'Tab 6'!E48+'Tab 7'!E48+'Tab 8'!E48+'Tab 9'!E48+'Tab 10'!E48+'Tab 11'!E48+'Tab 12'!E48+'Tab 13'!E48+'Tab 14'!E48+'Tab 15'!E48+'Tab 16'!E48+'Tab 17'!E48+'Tab 18'!E48+'Tab 19'!E48+'Tab 20'!E48","v":0},{"$f":"'Tab 1'!F48+'Tab 2'!F48+'Tab 3'!F48+'Tab 4'!F48+'Tab 5'!F48+'Tab 6'!F48+'Tab 7'!F48+'Tab 8'!F48+'Tab 9'!F48+'Tab 10'!F48+'Tab 11'!F48+'Tab 12'!F48+'Tab 13'!F48+'Tab 14'!F48+'Tab 15'!F48+'Tab 16'!F48+'Tab 17'!F48+'Tab 18'!F48+'Tab 19'!F48+'Tab 20'!F48","v":0},{"$f":"'Tab 1'!G48+'Tab 2'!G48+'Tab 3'!G48+'Tab 4'!G48+'Tab 5'!G48+'Tab 6'!G48+'Tab 7'!G48+'Tab 8'!G48+'Tab 9'!G48+'Tab 10'!G48+'Tab 11'!G48+'Tab 12'!G48+'Tab 13'!G48+'Tab 14'!G48+'Tab 15'!G48+'Tab 16'!G48+'Tab 17'!G48+'Tab 18'!G48+'Tab 19'!G48+'Tab 20'!G48","v":0},{"$f":"SUM(C48:G48)","v":0},{"$f":"H48/('Tab 1'!B$18+'Tab 2'!B$18+'Tab 3'!B$18+'Tab 4'!B$18+'Tab 5'!B$18+'Tab 6'!B$18+'Tab 7'!B$18+'Tab 8'!B$18+'Tab 9'!B$18+'Tab 10'!B$18+'Tab 11'!B$18+'Tab 12'!B$18+'Tab 13'!B$18+'Tab 14'!B$18+'Tab 15'!B$18+'Tab 16'!B$18+'Tab 17'!B$18+'Tab 18'!B$18+'Tab 19'!B$18+'Tab 20'!B$18)","v":{"$error":"#DIV/0!"}}]
["Common Buildings",null,{"$f":"'Tab 1'!C49+'Tab 2'!C49+'Tab 3'!C49+'Tab 4'!C49+'Tab 5'!C49+'Tab 6'!C49+'Tab 7'!C49+'Tab 8'!C49+'Tab 9'!C49+'Tab 10'!C49+'Tab 11'!C49+'Tab 12'!C49+'Tab 13'!C49+'Tab 14'!C49+'Tab 15'!C49+'Tab 16'!C49+'Tab 17'!C49+'Tab 18'!C49+'Tab 19'!C49+'Tab 20'!C49","v":0},{"$f":"'Tab 1'!D49+'Tab 2'!D49+'Tab 3'!D49+'Tab 4'!D49+'Tab 5'!D49+'Tab 6'!D49+'Tab 7'!D49+'Tab 8'!D49+'Tab 9'!D49+'Tab 10'!D49+'Tab 11'!D49+'Tab 12'!D49+'Tab 13'!D49+'Tab 14'!D49+'Tab 15'!D49+'Tab 16'!D49+'Tab 17'!D49+'Tab 18'!D49+'Tab 19'!D49+'Tab 20'!D49","v":0},{"$f":"'Tab 1'!E49+'Tab 2'!E49+'Tab 3'!E49+'Tab 4'!E49+'Tab 5'!E49+'Tab 6'!E49+'Tab 7'!E49+'Tab 8'!E49+'Tab 9'!E49+'Tab 10'!E49+'Tab 11'!E49+'Tab 12'!E49+'Tab 13'!E49+'Tab 14'!E49+'Tab 15'!E49+'Tab 16'!E49+'Tab 17'!E49+'Tab 18'!E49+'Tab 19'!E49+'Tab 20'!E49","v":0},{"$f":"'Tab 1'!F49+'Tab 2'!F49+'Tab 3'!F49+'Tab 4'!F49+'Tab 5'!F49+'Tab 6'!F49+'Tab 7'!F49+'Tab 8'!F49+'Tab 9'!F49+'Tab 10'!F49+'Tab 11'!F49+'Tab 12'!F49+'Tab 13'!F49+'Tab 14'!F49+'Tab 15'!F49+'Tab 16'!F49+'Tab 17'!F49+'Tab 18'!F49+'Tab 19'!F49+'Tab 20'!F49","v":0},{"$f":"'Tab 1'!G49+'Tab 2'!G49+'Tab 3'!G49+'Tab 4'!G49+'Tab 5'!G49+'Tab 6'!G49+'Tab 7'!G49+'Tab 8'!G49+'Tab 9'!G49+'Tab 10'!G49+'Tab 11'!G49+'Tab 12'!G49+'Tab 13'!G49+'Tab 14'!G49+'Tab 15'!G49+'Tab 16'!G49+'Tab 17'!G49+'Tab 18'!G49+'Tab 19'!G49+'Tab 20'!G49","v":0},0,{"$f":"H49/('Tab 1'!B$18+'Tab 2'!B$18+'Tab 3'!B$18+'Tab 4'!B$18+'Tab 5'!B$18+'Tab 6'!B$18+'Tab 7'!B$18+'Tab 8'!B$18+'Tab 9'!B$18+'Tab 10'!B$18+'Tab 11'!B$18+'Tab 12'!B$18+'Tab 13'!B$18+'Tab 14'!B$18+'Tab 15'!B$18+'Tab 16'!B$18+'Tab 17'!B$18+'Tab 18'!B$18+'Tab 19'!B$18+'Tab 20'!B$18)","v":{"$error":"#DIV/0!"}}]
["Unit Exteriors",null,{"$f":"'Tab 1'!C50+'Tab 2'!C50+'Tab 3'!C50+'Tab 4'!C50+'Tab 5'!C50+'Tab 6'!C50+'Tab 7'!C50+'Tab 8'!C50+'Tab 9'!C50+'Tab 10'!C50+'Tab 11'!C50+'Tab 12'!C50+'Tab 13'!C50+'Tab 14'!C50+'Tab 15'!C50+'Tab 16'!C50+'Tab 17'!C50+'Tab 18'!C50+'Tab 19'!C50+'Tab 20'!C50","v":0},{"$f":"'Tab 1'!D50+'Tab 2'!D50+'Tab 3'!D50+'Tab 4'!D50+'Tab 5'!D50+'Tab 6'!D50+'Tab 7'!D50+'Tab 8'!D50+'Tab 9'!D50+'Tab 10'!D50+'Tab 11'!D50+'Tab 12'!D50+'Tab 13'!D50+'Tab 14'!D50+'Tab 15'!D50+'Tab 16'!D50+'Tab 17'!D50+'Tab 18'!D50+'Tab 19'!D50+'Tab 20'!D50","v":0},{"$f":"'Tab 1'!E50+'Tab 2'!E50+'Tab 3'!E50+'Tab 4'!E50+'Tab 5'!E50+'Tab 6'!E50+'Tab 7'!E50+'Tab 8'!E50+'Tab 9'!E50+'Tab 10'!E50+'Tab 11'!E50+'Tab 12'!E50+'Tab 13'!E50+'Tab 14'!E50+'Tab 15'!E50+'Tab 16'!E50+'Tab 17'!E50+'Tab 18'!E50+'Tab 19'!E50+'Tab 20'!E50","v":0},{"$f":"'Tab 1'!F50+'Tab 2'!F50+'Tab 3'!F50+'Tab 4'!F50+'Tab 5'!F50+'Tab 6'!F50+'Tab 7'!F50+'Tab 8'!F50+'Tab 9'!F50+'Tab 10'!F50+'Tab 11'!F50+'Tab 12'!F50+'Tab 13'!F50+'Tab 14'!F50+'Tab 15'!F50+'Tab 16'!F50+'Tab 17'!F50+'Tab 18'!F50+'Tab 19'!F50+'Tab 20'!F50","v":0},{"$f":"'Tab 1'!G50+'Tab 2'!G50+'Tab 3'!G50+'Tab 4'!G50+'Tab 5'!G50+'Tab 6'!G50+'Tab 7'!G50+'Tab 8'!G50+'Tab 9'!G50+'Tab 10'!G50+'Tab 11'!G50+'Tab 12'!G50+'Tab 13'!G50+'Tab 14'!G50+'Tab 15'!G50+'Tab 16'!G50+'Tab 17'!G50+'Tab 18'!G50+'Tab 19'!G50+'Tab 20'!G50","v":0},0,{"$f":"H50/('Tab 1'!B$18+'Tab 2'!B$18+'Tab 3'!B$18+'Tab 4'!B$18+'Tab 5'!B$18+'Tab 6'!B$18+'Tab 7'!B$18+'Tab 8'!B$18+'Tab 9'!B$18+'Tab 10'!B$18+'Tab 11'!B$18+'Tab 12'!B$18+'Tab 13'!B$18+'Tab 14'!B$18+'Tab 15'!B$18+'Tab 16'!B$18+'Tab 17'!B$18+'Tab 18'!B$18+'Tab 19'!B$18+'Tab 20'!B$18)","v":{"$error":"#DIV/0!"}}]
["Unit Interiors",null,{"$f":"'Tab 1'!C51+'Tab 2'!C51+'Tab 3'!C51+'Tab 4'!C51+'Tab 5'!C51+'Tab 6'!C51+'Tab 7'!C51+'Tab 8'!C51+'Tab 9'!C51+'Tab 10'!C51+'Tab 11'!C51+'Tab 12'!C51+'Tab 13'!C51+'Tab 14'!C51+'Tab 15'!C51+'Tab 16'!C51+'Tab 17'!C51+'Tab 18'!C51+'Tab 19'!C51+'Tab 20'!C51","v":0},{"$f":"'Tab 1'!D51+'Tab 2'!D51+'Tab 3'!D51+'Tab 4'!D51+'Tab 5'!D51+'Tab 6'!D51+'Tab 7'!D51+'Tab 8'!D51+'Tab 9'!D51+'Tab 10'!D51+'Tab 11'!D51+'Tab 12'!D51+'Tab 13'!D51+'Tab 14'!D51+'Tab 15'!D51+'Tab 16'!D51+'Tab 17'!D51+'Tab 18'!D51+'Tab 19'!D51+'Tab 20'!D51","v":0},{"$f":"'Tab 1'!E51+'Tab 2'!E51+'Tab 3'!E51+'Tab 4'!E51+'Tab 5'!E51+'Tab 6'!E51+'Tab 7'!E51+'Tab 8'!E51+'Tab 9'!E51+'Tab 10'!E51+'Tab 11'!E51+'Tab 12'!E51+'Tab 13'!E51+'Tab 14'!E51+'Tab 15'!E51+'Tab 16'!E51+'Tab 17'!E51+'Tab 18'!E51+'Tab 19'!E51+'Tab 20'!E51","v":0},{"$f":"'Tab 1'!F51+'Tab 2'!F51+'Tab 3'!F51+'Tab 4'!F51+'Tab 5'!F51+'Tab 6'!F51+'Tab 7'!F51+'Tab 8'!F51+'Tab 9'!F51+'Tab 10'!F51+'Tab 11'!F51+'Tab 12'!F51+'Tab 13'!F51+'Tab 14'!F51+'Tab 15'!F51+'Tab 16'!F51+'Tab 17'!F51+'Tab 18'!F51+'Tab 19'!F51+'Tab 20'!F51","v":0},{"$f":"'Tab 1'!G51+'Tab 2'!G51+'Tab 3'!G51+'Tab 4'!G51+'Tab 5'!G51+'Tab 6'!G51+'Tab 7'!G51+'Tab 8'!G51+'Tab 9'!G51+'Tab 10'!G51+'Tab 11'!G51+'Tab 12'!G51+'Tab 13'!G51+'Tab 14'!G51+'Tab 15'!G51+'Tab 16'!G51+'Tab 17'!G51+'Tab 18'!G51+'Tab 19'!G51+'Tab 20'!G51","v":0},0,{"$f":"H51/('Tab 1'!B$18+'Tab 2'!B$18+'Tab 3'!B$18+'Tab 4'!B$18+'Tab 5'!B$18+'Tab 6'!B$18+'Tab 7'!B$18+'Tab 8'!B$18+'Tab 9'!B$18+'Tab 10'!B$18+'Tab 11'!B$18+'Tab 12'!B$18+'Tab 13'!B$18+'Tab 14'!B$18+'Tab 15'!B$18+'Tab 16'!B$18+'Tab 17'!B$18+'Tab 18'!B$18+'Tab 19'!B$18+'Tab 20'!B$18)","v":{"$error":"#DIV/0!"}}]
["Mechanical",null,{"$f":"'Tab 1'!C52+'Tab 2'!C52+'Tab 3'!C52+'Tab 4'!C52+'Tab 5'!C52+'Tab 6'!C52+'Tab 7'!C52+'Tab 8'!C52+'Tab 9'!C52+'Tab 10'!C52+'Tab 11'!C52+'Tab 12'!C52+'Tab 13'!C52+'Tab 14'!C52+'Tab 15'!C52+'Tab 16'!C52+'Tab 17'!C52+'Tab 18'!C52+'Tab 19'!C52+'Tab 20'!C52","v":0},{"$f":"'Tab 1'!D52+'Tab 2'!D52+'Tab 3'!D52+'Tab 4'!D52+'Tab 5'!D52+'Tab 6'!D52+'Tab 7'!D52+'Tab 8'!D52+'Tab 9'!D52+'Tab 10'!D52+'Tab 11'!D52+'Tab 12'!D52+'Tab 13'!D52+'Tab 14'!D52+'Tab 15'!D52+'Tab 16'!D52+'Tab 17'!D52+'Tab 18'!D52+'Tab 19'!D52+'Tab 20'!D52","v":0},{"$f":"'Tab 1'!E52+'Tab 2'!E52+'Tab 3'!E52+'Tab 4'!E52+'Tab 5'!E52+'Tab 6'!E52+'Tab 7'!E52+'Tab 8'!E52+'Tab 9'!E52+'Tab 10'!E52+'Tab 11'!E52+'Tab 12'!E52+'Tab 13'!E52+'Tab 14'!E52+'Tab 15'!E52+'Tab 16'!E52+'Tab 17'!E52+'Tab 18'!E52+'Tab 19'!E52+'Tab 20'!E52","v":0},{"$f":"'Tab 1'!F52+'Tab 2'!F52+'Tab 3'!F52+'Tab 4'!F52+'Tab 5'!F52+'Tab 6'!F52+'Tab 7'!F52+'Tab 8'!F52+'Tab 9'!F52+'Tab 10'!F52+'Tab 11'!F52+'Tab 12'!F52+'Tab 13'!F52+'Tab 14'!F52+'Tab 15'!F52+'Tab 16'!F52+'Tab 17'!F52+'Tab 18'!F52+'Tab 19'!F52+'Tab 20'!F52","v":0},{"$f":"'Tab 1'!G52+'Tab 2'!G52+'Tab 3'!G52+'Tab 4'!G52+'Tab 5'!G52+'Tab 6'!G52+'Tab 7'!G52+'Tab 8'!G52+'Tab 9'!G52+'Tab 10'!G52+'Tab 11'!G52+'Tab 12'!G52+'Tab 13'!G52+'Tab 14'!G52+'Tab 15'!G52+'Tab 16'!G52+'Tab 17'!G52+'Tab 18'!G52+'Tab 19'!G52+'Tab 20'!G52","v":0},0,{"$f":"H52/('Tab 1'!B$18+'Tab 2'!B$18+'Tab 3'!B$18+'Tab 4'!B$18+'Tab 5'!B$18+'Tab 6'!B$18+'Tab 7'!B$18+'Tab 8'!B$18+'Tab 9'!B$18+'Tab 10'!B$18+'Tab 11'!B$18+'Tab 12'!B$18+'Tab 13'!B$18+'Tab 14'!B$18+'Tab 15'!B$18+'Tab 16'!B$18+'Tab 17'!B$18+'Tab 18'!B$18+'Tab 19'!B$18+'Tab 20'!B$18)","v":{"$error":"#DIV/0!"}}]
["Other",null,{"$f":"'Tab 1'!C53+'Tab 2'!C53+'Tab 3'!C53+'Tab 4'!C53+'Tab 5'!C53+'Tab 6'!C53+'Tab 7'!C53+'Tab 8'!C53+'Tab 9'!C53+'Tab 10'!C53+'Tab 11'!C53+'Tab 12'!C53+'Tab 13'!C53+'Tab 14'!C53+'Tab 15'!C53+'Tab 16'!C53+'Tab 17'!C53+'Tab 18'!C53+'Tab 19'!C53+'Tab 20'!C53","v":0},{"$f":"'Tab 1'!D53+'Tab 2'!D53+'Tab 3'!D53+'Tab 4'!D53+'Tab 5'!D53+'Tab 6'!D53+'Tab 7'!D53+'Tab 8'!D53+'Tab 9'!D53+'Tab 10'!D53+'Tab 11'!D53+'Tab 12'!D53+'Tab 13'!D53+'Tab 14'!D53+'Tab 15'!D53+'Tab 16'!D53+'Tab 17'!D53+'Tab 18'!D53+'Tab 19'!D53+'Tab 20'!D53","v":0},{"$f":"'Tab 1'!E53+'Tab 2'!E53+'Tab 3'!E53+'Tab 4'!E53+'Tab 5'!E53+'Tab 6'!E53+'Tab 7'!E53+'Tab 8'!E53+'Tab 9'!E53+'Tab 10'!E53+'Tab 11'!E53+'Tab 12'!E53+'Tab 13'!E53+'Tab 14'!E53+'Tab 15'!E53+'Tab 16'!E53+'Tab 17'!E53+'Tab 18'!E53+'Tab 19'!E53+'Tab 20'!E53","v":0},{"$f":"'Tab 1'!F53+'Tab 2'!F53+'Tab 3'!F53+'Tab 4'!F53+'Tab 5'!F53+'Tab 6'!F53+'Tab 7'!F53+'Tab 8'!F53+'Tab 9'!F53+'Tab 10'!F53+'Tab 11'!F53+'Tab 12'!F53+'Tab 13'!F53+'Tab 14'!F53+'Tab 15'!F53+'Tab 16'!F53+'Tab 17'!F53+'Tab 18'!F53+'Tab 19'!F53+'Tab 20'!F53","v":0},{"$f":"'Tab 1'!G53+'Tab 2'!G53+'Tab 3'!G53+'Tab 4'!G53+'Tab 5'!G53+'Tab 6'!G53+'Tab 7'!G53+'Tab 8'!G53+'Tab 9'!G53+'Tab 10'!G53+'Tab 11'!G53+'Tab 12'!G53+'Tab 13'!G53+'Tab 14'!G53+'Tab 15'!G53+'Tab 16'!G53+'Tab 17'!G53+'Tab 18'!G53+'Tab 19'!G53+'Tab 20'!G53","v":0},0,{"$f":"H53/('Tab 1'!B$18+'Tab 2'!B$18+'Tab 3'!B$18+'Tab 4'!B$18+'Tab 5'!B$18+'Tab 6'!B$18+'Tab 7'!B$18+'Tab 8'!B$18+'Tab 9'!B$18+'Tab 10'!B$18+'Tab 11'!B$18+'Tab 12'!B$18+'Tab 13'!B$18+'Tab 14'!B$18+'Tab 15'!B$18+'Tab 16'!B$18+'Tab 17'!B$18+'Tab 18'!B$18+'Tab 19'!B$18+'Tab 20'!B$18)","v":{"$error":"#DIV/0!"}}]
["Total Preliminary Estimated Cost",null,{"$f":"SUM(C48:C53)","v":0},{"$f":"SUM(D48:D53)","v":0},{"$f":"SUM(E48:E53)","v":0},{"$f":"SUM(F48:F53)","v":0},{"$f":"SUM(G48:G53)","v":0},0,{"$f":"H54/('Tab 1'!B$18+'Tab 2'!B$18+'Tab 3'!B$18+'Tab 4'!B$18+'Tab 5'!B$18+'Tab 6'!B$18+'Tab 7'!B$18+'Tab 8'!B$18+'Tab 9'!B$18+'Tab 10'!B$18+'Tab 11'!B$18+'Tab 12'!B$18+'Tab 13'!B$18+'Tab 14'!B$18+'Tab 15'!B$18+'Tab 16'!B$18+'Tab 17'!B$18+'Tab 18'!B$18+'Tab 19'!B$18+'Tab 20'!B$18)","v":{"$error":"#DIV/0!"}}]
[]
["Amount of PNA relating to Lead Paint/Asbestos",{"$nulls":6},{"$f":"'Tab 1'!I173+'Tab 2'!I173+'Tab 3'!I173+'Tab 4'!I173+'Tab 5'!I173+'Tab 6'!I173+'Tab 7'!I173+'Tab 8'!I173+'Tab 9'!I173+'Tab 10'!I173+'Tab 11'!I173+'Tab 12'!I173+'Tab 13'!I173+'Tab 14'!I173+'Tab 15'!I173+'Tab 16'!I173+'Tab 17'!I173+'Tab 18'!I173+'Tab 19'!I173+'Tab 20'!I173","v":0},{"$f":"H56/('Tab 1'!B$18+'Tab 2'!B$18+'Tab 3'!B$18+'Tab 4'!B$18+'Tab 5'!B$18+'Tab 6'!B$18+'Tab 7'!B$18+'Tab 8'!B$18+'Tab 9'!B$18+'Tab 10'!B$18+'Tab 11'!B$18+'Tab 12'!B$18+'Tab 13'!B$18+'Tab 14'!B$18+'Tab 15'!B$18+'Tab 16'!B$18+'Tab 17'!B$18+'Tab 18'!B$18+'Tab 19'!B$18+'Tab 20'!B$18)","v":{"$error":"#DIV/0!"}}]
["Amount of PNA relating to Section 504, ADA, and Fair Housing Act (if applicable) Compliance.",{"$nulls":6},{"$f":"'Tab 1'!I174+'Tab 2'!I174+'Tab 3'!I174+'Tab 4'!I174+'Tab 5'!I174+'Tab 6'!I174+'Tab 7'!I174+'Tab 8'!I174+'Tab 9'!I174+'Tab 10'!I174+'Tab 11'!I174+'Tab 12'!I174+'Tab 13'!I174+'Tab 14'!I174+'Tab 15'!I174+'Tab 16'!I174+'Tab 17'!I174+'Tab 18'!I174+'Tab 19'!I174+'Tab 20'!I174","v":0},{"$f":"H57/('Tab 1'!B$18+'Tab 2'!B$18+'Tab 3'!B$18+'Tab 4'!B$18+'Tab 5'!B$18+'Tab 6'!B$18+'Tab 7'!B$18+'Tab 8'!B$18+'Tab 9'!B$18+'Tab 10'!B$18+'Tab 11'!B$18+'Tab 12'!B$18+'Tab 13'!B$18+'Tab 14'!B$18+'Tab 15'!B$18+'Tab 16'!B$18+'Tab 17'!B$18+'Tab 18'!B$18+'Tab 19'!B$18+'Tab 20'!B$18)","v":{"$error":"#DIV/0!"}}]
["New Construction",{"$nulls":6},{"$f":"'Tab 1'!I188+'Tab 2'!I188+'Tab 3'!I188+'Tab 4'!I188+'Tab 5'!I188+'Tab 6'!I188+'Tab 7'!I188+'Tab 8'!I188+'Tab 9'!I188+'Tab 10'!I188+'Tab 11'!I188+'Tab 12'!I188+'Tab 13'!I188+'Tab 14'!I188+'Tab 15'!I188+'Tab 16'!I188+'Tab 17'!I188+'Tab 18'!I188+'Tab 19'!I188+'Tab 20'!I188","v":0},{"$f":"H58/('Tab 1'!B$18+'Tab 2'!B$18+'Tab 3'!B$18+'Tab 4'!B$18+'Tab 5'!B$18+'Tab 6'!B$18+'Tab 7'!B$18+'Tab 8'!B$18+'Tab 9'!B$18+'Tab 10'!B$18+'Tab 11'!B$18+'Tab 12'!B$18+'Tab 13'!B$18+'Tab 14'!B$18+'Tab 15'!B$18+'Tab 16'!B$18+'Tab 17'!B$18+'Tab 18'!B$18+'Tab 19'!B$18+'Tab 20'!B$18)","v":{"$error":"#DIV/0!"}}]
["Total Physical Needs",{"$nulls":6},{"$f":"H54+H58","v":0},{"$f":"H61/('Tab 1'!B$18+'Tab 2'!B$18+'Tab 3'!B$18+'Tab 4'!B$18+'Tab 5'!B$18+'Tab 6'!B$18+'Tab 7'!B$18+'Tab 8'!B$18+'Tab 9'!B$18+'Tab 10'!B$18+'Tab 11'!B$18+'Tab 12'!B$18+'Tab 13'!B$18+'Tab 14'!B$18+'Tab 15'!B$18+'Tab 16'!B$18+'Tab 17'!B$18+'Tab 18'!B$18+'Tab 19'!B$18+'Tab 20'!B$18)","v":{"$error":"#DIV/0!"}}]

{"sheet":"Tab 1","index":2,"n_rows":188,"n_cols":31,"rows_kept":188,"merged":[[4,2,4,3],[5,2,5,3],[7,0,7,8],[9,1,9,2],[10,1,10,2],[20,3,20,9],[27,0,27,8],[29,8,29,9],[30,8,30,9],[31,8,31,9],[33,6,35,6],[37,4,37,9],[44,0,44,8],[46,0,46,1],[47,0,47,1],[48,0,48,1],[49,0,49,1],[50,0,50,1],[51,0,51,1],[52,0,52,1],[53,0,53,1],[54,0,54,1],[55,0,55,1],[56,0,56,1],[59,0,59,8],[61,0,61,1],[62,0,62,1],[81,0,81,1],[97,0,97,1],[120,0,120,1],[143,0,143,1],[160,0,160,1],[169,0,169,1],[170,0,170,1],[187,0,187,1]]}
["Physical Needs Assessment",{"$nulls":3},"U.S. Department of Housing",{"$nulls":4}," OMB Approval No. 2577-0157"]
["Capital Fund Financing Program/",{"$nulls":3},"and Urban Development",{"$nulls":4}," (exp. 1/31/2017)"]
["Operating Fund Financing Program",{"$nulls":3},"Office of Public and Indian Housing"]
[]
["HA Name",null,"HA Number",null,null,"FY of Assessment",null," Original  ","Date Prepared:"]
[{"$nulls":7},"Revision  ","Date Revised:"]
[]
["(1.0) Project Data"]
[]
["(1.1) Management Office Address",{"$nulls":5},"(1.3) Development No.",null,"(1.4) DOFA Date"]
["(1.2) Project Name"]
[{"$nulls":4},"Family"]
[{"$nulls":3},"(1.9)","Elderly",null,null,"(1.10)","S-F Detached"]
["(1.5) Year of Last Substantial Mod",null,null,"Occupancy","Family & Disabled",null,null,"Structure","Semi-Detached"]
["(1.6) Occupancy Rate ",{"$f":"B20/(+B18-B26)","v":{"$error":"#DIV/0!"}},null,"Type(s)","Elderly & Disabled",null,null,"Type(s)","Row or Townhome"]
["        (Rentable Units Only)",null,null,"(Check)","Not Applicable",null,null,"(Check","M-F/Walkup"]
["(1.7) Latest PASS REAC Score",null,null,"all that apply)","Official Designation: Elderly",null,null,"all that","Elevator"]
["Total Units",{"$f":"+B20+B21","v":0},null,null,"Official Designation: Disabled",null,null,"apply)","Non-Dwelling"]
["(1.8) Total Buildings",{"$nulls":3},"Official Designation: Mixed"]
["Occupied Units",{"$f":"SUM(E23:J23)","v":0}]
["Vacant/Rentable Units",{"$f":"SUM(E24:J24)","v":0},null,"(1.11) Bedroom Distribution"]
[{"$nulls":4},"Eff","1BR","2BR","3BR","4BR","5BR+"]
[{"$nulls":3},"(1.11a) Occupied"]
[{"$nulls":3},"(1.11b) Vacant"]
[{"$nulls":3},"Total Units",{"$f":"SUM(E23:E24)","v":0},0,0,0,0,0]
[{"$nulls":3},"Avg Bedrooms per Unit",null,{"$f":"(+E23*1+F23*1+G23*2+H23*3+I23*4+J23*5)/SUM(E23:J23)","v":{"$error":"#DIV/0!"}}]
[]
["(2.0) Physical Needs Assessment Summary Data"]
[]
["(2.1) PNA Conducted By: (PHA/ 3rd Party)",null,"PHA Internally",null,null,"(2.5) Inspector Contact Name: "]
[null,null,"3rd Pary Independent",null,null,"(2.6) Company Name or PHA Title:"]
["(2.2) First Year Covered by PNA",{"$nulls":4},"(2.7) Inspector Contact Phone:"]
["(2.3) Length of PNA (in years)"]
["(2.4) Unit Interiors Inspected (#)",null,{"$f":"SUM(E40:J40)","v":0},{"$nulls":3},"(2.8) Data Source(s) for PNA",null,"Annual Inspections"]
["Units Inspected as % of Total",null,{"$f":"C34/B18","v":{"$error":"#DIV/0!"}},{"$nulls":5},"Contractor"]
["(2.9) Total Residential Buildings",{"$nulls":7},"REAC Inspections"]
["(2.10) Number of Building Exteriors Inspected"]
["(2.11) Total Off-Street Parking Spaces",{"$nulls":3},"(2.14) Units Inspected by Bedroom Size"]
["(2.12) Site Acreage",null,null,"acres","Eff","1BR","2BR","3BR","4BR","5BR+"]
["(2.13) Parking Area (in square feet)",null,null,"SF"]
[]
["(2.15) Physical Improvements Will Result in Structural/System Soundness at a Reasonable Cost",{"$nulls":5},"Yes","No"]
["(2.16) Development Has Long-Term Physical and Social Viability",{"$nulls":5},"Yes","No"]
[]
["(3.0) Total Physical Needs Summary"]
[]
["Major Category",null,"Immediate","Years                       1-5","Years                    6-10","Years                    11-15","Years                   16-20","Total Needs"]
["Site",null,{"$f":"+I82","v":0},{"$f":"$O$63","v":0},{"$f":"$T$63","v":0},{"$f":"$Y$63","v":0},{"$f":"$AD$63","v":0},{"$f":"SUM(C48:G48)","v":0}]
["Common Buildings",null,{"$f":"$I$98","v":0},{"$f":"$O$83","v":0},{"$f":"$T$83","v":0},{"$f":"$Y$83","v":0},{"$f":"$AD$83","v":0},0]
["Unit Exteriors",null,{"$f":"$I$121","v":0},{"$f":"$O$99","v":0},{"$f":"$T$99","v":0},{"$f":"$Y$99","v":0},{"$f":"$AD$99","v":0},0]
["Unit Interiors",null,{"$f":"$I$144","v":0},{"$f":"O122","v":0},{"$f":"T122","v":0},{"$f":"Y122","v":0},{"$f":"AD122","v":0},0]
["Mechanical",null,{"$f":"I161","v":0},{"$f":"O145","v":0},{"$f":"T145","v":0},{"$f":"Y145","v":0},{"$f":"AD145","v":0},0]
["Other",null,{"$f":"I170","v":0},{"$f":"O162","v":0},{"$f":"T162","v":0},{"$f":"Y162","v":0},{"$f":"AD162","v":0},0]
["Totals",null,{"$f":"SUM(C48:C53)","v":0},0,0,0,0,0]
["Amount of PNA relating to Lead Paint/Asbestos",null,{"$f":"I173","v":0},{"$nulls":4},{"$f":"C55","v":0}]
["Amount of PNA relating to Section 504 Compliance",null,{"$f":"I174","v":0},{"$nulls":4},{"$f":"C56","v":0}]
["New Construction",{"$nulls":6},{"$f":"I188","v":0}]
[{"$nulls":5},"TOTAL PHYSICAL NEEDS",null,{"$f":"H57+H54","v":0}]
[]
["(4.0) Physical Needs Cost Estimate"]
[]
["(4.1) Category",null,"(4.2) Estimated Useful Life","(4.3)                Useful Life Remaining","(4.4)             Method","(4.5)                   Total          Quantity","(4.6)             Current Needs Quantity","(4.7)                Cost per      Quantity","(4.8)         Immediate Repairs Needed","Total Long Term Needs",{"$f":"+F6+1","v":1},{"$f":"1+K62","v":2},{"$f":"1+L62","v":3},{"$f":"1+M62","v":4},{"$f":"1+N62","v":5},{"$f":"1+O62","v":6},7,8,9,10,11,12,13,14,15,16,17,18,19,20]
["(4.9) Site",null,"(in yrs)","(in yrs)",{"$nulls":9},"Years 1-5",{"$f":"SUM(K82:O82)","v":0},{"$nulls":3},"Years 6-10",{"$f":"SUM(P82:T82)","v":0},{"$nulls":3},"Years 11-15",{"$f":"SUM(U82:Y82)","v":0},{"$nulls":3},"Years 16-20",{"$f":"SUM(Z82:AD82)","v":0}]
["Asphalt/Concrete",{"$nulls":3},"Per Sq. Ft.",{"$nulls":3},{"$f":"ROUNDUP(+G64*H64,-2)","v":0},{"$f":"SUM(K64:AD64)","v":0},{"$f":"ROUNDUP(IF(OR(($D64+$F$6)=K$62,($C64+$D64+$F$6)=K$62,($C64*2+$D64+$F$6)=K$62,($C64*3+$D64+$F$6)=K$62,($C64*4+$D64+$F$6)=K$62,($C64*5+$D64+$F$6)=K$62,($C64*6+$D64+$F$6)=K$62,($C64*7+$D64+$F$6)=K$62,($C64*8+$D64+$F$6)=K$62),$F64*$H64*((1+$J$52)^(K$62-$F$6)),0),-2)","v":0},0,0,0,0,0,0,0,0,0,{"$f":"ROUNDUP(IF(OR(($D64+$F$6)=U$62,($C64+$D64+$F$6)=U$62,($C64*2+$D64+$F$6)=U$62,($C64*3+$D64+$F$6)=U$62,($C64*4+$D64+$F$6)=U$62,($C64*5+$D64+$F$6)=U$62,($C64*6+$D64+$F$6)=U$62,($C64*7+$D64+$F$6)=U$62,($C64*8+$D64+$F$6)=U$62),$F64*$H64*((1+$J$52)^(U$62-$F$6)),0),-2)","v":0},0,0,0,0,0,0,0,0,0,{"$f":"SUM(K64:AD64)-J64","v":0}]
["Seal Coat",{"$nulls":3},"Per Sq. Ft.",{"$nulls":3},{"$f":"ROUNDUP(+G65*H65,-2)","v":0},{"$f":"SUM(K65:AD65)","v":0},0,0,0,0,0,0,0,0,0,0,0,0,0,0,0,0,0,0,0,0,{"$f":"SUM(K65:AD65)-J65","v":0}]
["Striping",{"$nulls":3},"Per Sq. Ft.",{"$nulls":3},{"$f":"ROUNDUP(+G66*H66,-2)","v":0},0,0,0,0,0,0,0,0,0,0,0,0,0,0,0,0,0,0,0,0,0,0]
["Curb & Gutter",{"$nulls":3},"Per Sq. Ft.",{"$nulls":3},0,0,0,0,0,0,0,0,0,0,0,0,0,0,0,0,0,0,0,0,0,0,0]
["Pedestrian paving",{"$nulls":3},"Per Sq. Ft.",{"$nulls":3},0,0,0,0,0,0,0,0,0,0,0,0,0,0,0,0,0,0,0,0,0,0,0]
["Signage",{"$nulls":3},"Per Sq. Ft.",{"$nulls":3},0,0,0,0,0,0,0,0,0,0,0,0,0,0,0,0,0,0,0,0,0,0,0]
["Water Lines/Mains",{"$nulls":3},"Per Sq. Ft.",{"$nulls":3},0,0,0,0,0,0,0,0,0,0,0,0,0,0,0,0,0,0,0,0,0,0,0]
["Sewer Lines/Mains",{"$nulls":3},"Per Sq. Ft.",{"$nulls":3},0,0,0,0,0,0,0,0,0,0,0,0,0,0,0,0,0,0,0,0,0,0,0]
["Lighting",{"$nulls":3},"Per Sq. Ft.",{"$nulls":3},0,0,0,0,0,0,0,0,0,0,0,0,0,0,0,0,0,0,0,0,0,0,0]
["Storm Drainage",{"$nulls":3},"Per Sq. Ft.",{"$nulls":3},0,0,0,0,0,0,0,0,0,0,0,0,0,0,0,0,0,0,0,0,0,0,0]
["Landscape",{"$nulls":3},"Per Sq. Ft.",{"$nulls":3},0,0,{"$f":"ROUNDUP(IF(OR(($D74+$F$6)=K$62,($C74+$D74+$F$6)=K$62,($C74*2+$D74+$F$6)=K$62,($C74*3+$D74+$F$6)=K$62,($C74*4+$D74+$F$6)=K$62,($C74*5+$D74+$F$6)=K$62,($C74*6+$D74+$F$6)=K$62,($C74*7+$D74+$F$6)=K$62,($C74*8+$D74+$F$6)=K$62),$F74*$H74*((1+$J$52)^(K$62-$F$6)),0),-2)","v":0},0,0,0,0,0,0,0,0,0,{"$f":"ROUNDUP(IF(OR(($D74+$F$6)=U$62,($C74+$D74+$F$6)=U$62,($C74*2+$D74+$F$6)=U$62,($C74*3+$D74+$F$6)=U$62,($C74*4+$D74+$F$6)=U$62,($C74*5+$D74+$F$6)=U$62,($C74*6+$D74+$F$6)=U$62,($C74*7+$D74+$F$6)=U$62,($C74*8+$D74+$F$6)=U$62),$F74*$H74*((1+$J$52)^(U$62-$F$6)),0),-2)","v":0},0,0,0,0,0,0,0,0,0,0]
["Fencing",{"$nulls":3},"Per Sq. Ft.",{"$nulls":3},0,0,0,0,0,0,0,0,0,0,0,0,0,0,0,0,0,0,0,0,0,0,0]
["Fence Painting",{"$nulls":3},"Per Sq. Ft.",{"$nulls":3},0,0,0,0,0,0,0,0,0,0,0,0,0,0,0,0,0,0,0,0,0,0,0]
["Dumpsters & Enclosures",{"$nulls":3},"Per Sq. Ft.",{"$nulls":3},0,0,0,0,0,0,0,0,0,0,0,0,0,0,0,0,0,0,0,0,0,0,0]
["Electric Distribution",{"$nulls":3},"Per Sq. Ft.",{"$nulls":3},0,0,0,0,0,0,0,0,0,0,0,0,0,0,0,0,0,0,0,0,0,0,0]
["Playground Areas/Equipment",{"$nulls":3},"Per Sq. Ft.",{"$nulls":3},0,0,0,0,0,0,0,0,0,0,0,0,0,0,0,0,0,0,0,0,0,0,0]
["Other (Specify)",{"$nulls":7},0,{"$f":"SUM(K80:AD80)","v":0},0,0,0,0,0,0,0,0,0,0,0,0,0,0,0,0,0,0,0,0,0]
["Other (Specify)",{"$nulls":7},0,{"$f":"SUM(K81:AD81)","v":0},0,0,0,0,0,0,0,0,0,0,0,0,0,0,0,0,0,0,0,0,0]
["Site Subtotals",{"$nulls":7},{"$f":"SUM(I64:I81)","v":0},{"$f":"SUM(J64:J81)","v":0},{"$f":"SUM(K64:K81)","v":0},0,0,0,0,0,0,0,0,0,0,0,0,0,0,0,0,0,0,0,0]
["(4.10) Common Buildings--Rehab Only",{"$nulls":12},"Years 1-5",{"$f":"SUM(K98:O98)","v":0},{"$nulls":3},"Years 6-10",{"$f":"SUM(P98:T98)","v":0},{"$nulls":3},"Years 11-15",{"$f":"SUM(T98:X98)","v":0},{"$nulls":3},"Years 16-20",{"$f":"SUM(Y98:AC98)","v":0}]
["Administrative Building",{"$nulls":3},"Other",{"$nulls":3},{"$f":"ROUNDUP(+G84*H84,-2)","v":0},{"$f":"SUM(K84:AD84)","v":0},{"$f":"ROUNDUP(IF(OR(($D84+$F$6)=K$62,($C84+$D84+$F$6)=K$62,($C84*2+$D84+$F$6)=K$62,($C84*3+$D84+$F$6)=K$62,($C84*4+$D84+$F$6)=K$62,($C84*5+$D84+$F$6)=K$62,($C84*6+$D84+$F$6)=K$62,($C84*7+$D84+$F$6)=K$62,($C84*8+$D84+$F$6)=K$62),$F84*$H84*((1+$J$52)^(K$62-$F$6)),0),-2)","v":0},0,0,0,0,0,0,0,0,0,{"$f":"ROUNDUP(IF(OR(($D84+$F$6)=U$62,($C84+$D84+$F$6)=U$62,($C84*2+$D84+$F$6)=U$62,($C84*3+$D84+$F$6)=U$62,($C84*4+$D84+$F$6)=U$62,($C84*5+$D84+$F$6)=U$62,($C84*6+$D84+$F$6)=U$62,($C84*7+$D84+$F$6)=U$62,($C84*8+$D84+$F$6)=U$62),$F84*$H84*((1+$J$52)^(U$62-$F$6)),0),-2)","v":0},0,0,0,0,0,0,0,0,0,0]
["Community Building",{"$nulls":3},"Other",{"$nulls":3},0,0,0,0,0,0,0,0,0,0,0,0,0,0,0,0,0,0,0,0,0,0,0]
["Shop",{"$nulls":3},"Other",{"$nulls":3},0,0,0,0,0,0,0,0,0,0,0,0,0,0,0,0,0,0,0,0,0,0,0]
["Storage Area",{"$nulls":3},"Other",{"$nulls":3},0,0,0,0,0,0,0,0,0,0,0,0,0,0,0,0,0,0,0,0,0,0,0]
["Central Boiler",{"$nulls":3},"Other",{"$nulls":3},0,0,0,0,0,0,0,0,0,0,0,0,0,0,0,0,0,0,0,0,0,0,0]
["Central Chiller",{"$nulls":3},"Other",{"$nulls":3},0,0,0,0,0,0,0,0,0,0,0,0,0,0,0,0,0,0,0,0,0,0,0]
["Family Invesment Center",{"$nulls":3},"Other",{"$nulls":3},0,0,0,0,0,0,0,0,0,0,0,0,0,0,0,0,0,0,0,0,0,0,0]
["Day Care Center",{"$nulls":3},"Other",{"$nulls":3},0,0,0,0,0,0,0,0,0,0,0,0,0,0,0,0,0,0,0,0,0,0,0]
["Laundry Areas",{"$nulls":3},"Other",{"$nulls":3},0,0,{"$f":"ROUNDUP(IF(OR(($D92+$F$6)=K$62,($C92+$D92+$F$6)=K$62,($C92*2+$D92+$F$6)=K$62,($C92*3+$D92+$F$6)=K$62,($C92*4+$D92+$F$6)=K$62,($C92*5+$D92+$F$6)=K$62,($C92*6+$D92+$F$6)=K$62,($C92*7+$D92+$F$6)=K$62,($C92*8+$D92+$F$6)=K$62),$F92*$H92*((1+$J$52)^(K$62-$F$6)),0),-2)","v":0},0,0,0,0,0,0,0,0,0,{"$f":"ROUNDUP(IF(OR(($D92+$F$6)=U$62,($C92+$D92+$F$6)=U$62,($C92*2+$D92+$F$6)=U$62,($C92*3+$D92+$F$6)=U$62,($C92*4+$D92+$F$6)=U$62,($C92*5+$D92+$F$6)=U$62,($C92*6+$D92+$F$6)=U$62,($C92*7+$D92+$F$6)=U$62,($C92*8+$D92+$F$6)=U$62),$F92*$H92*((1+$J$52)^(U$62-$F$6)),0),-2)","v":0},0,0,0,0,0,0,0,0,0,0]
["Common Area Washers",{"$nulls":3},"Other",{"$nulls":3},0,0,0,0,0,0,0,0,0,0,0,0,0,0,0,0,0,0,0,0,0,0,0]
["Common Area Dryers",{"$nulls":3},"Other",{"$nulls":3},0,0,0,0,0,0,0,0,0,0,0,0,0,0,0,0,0,0,0,0,0,0,0]
["Common Area Finishes",{"$nulls":3},"Other",{"$nulls":3},0,0,0,0,0,0,0,0,0,0,0,0,0,0,0,0,0,0,0,0,0,0,0]
["Other (Specify)",{"$nulls":3},"Other",{"$nulls":3},0,0,0,0,0,0,0,0,0,0,0,0,0,0,0,0,0,0,0,0,0,0,0]
["Other (Specify)",{"$nulls":7},0,0,0,0,0,0,0,0,0,0,0,0,0,0,0,0,0,0,0,0,0,0,0]
["Common Subtotals",{"$nulls":7},{"$f":"SUM(I84:I97)","v":0},0,0,0,0,0,0,{"$f":"SUM(P84:P97)","v":0},0,0,0,0,0,0,0,0,0,0,0,0,0,0,0]
["(4.11) Unit Exteriors",{"$nulls":12},"Years 1-5",{"$f":"SUM(K121:O121)","v":0},{"$nulls":3},"Years 6-10",{"$f":"SUM(P121:T121)","v":0},{"$nulls":3},"Years 11-15",{"$f":"SUM(U121:Y121)","v":0},{"$nulls":3},"Years 16-20",{"$f":"SUM(Z121:AD121)","v":0}]
["Carports/Surface Garage",{"$nulls":3},"Other",{"$nulls":3},{"$f":"ROUNDUP(+G100*H100,-2)","v":0},{"$f":"SUM(K100:AD100)","v":0},{"$f":"ROUNDUP(IF(OR(($D100+$F$6)=K$62,($C100+$D100+$F$6)=K$62,($C100*2+$D100+$F$6)=K$62,($C100*3+$D100+$F$6)=K$62,($C100*4+$D100+$F$6)=K$62,($C100*5+$D100+$F$6)=K$62,($C100*6+$D100+$F$6)=K$62,($C100*7+$D100+$F$6)=K$62,($C100*8+$D100+$F$6)=K$62),$F100*$H100*((1+$J$52)^(K$62-$F$6)),0),-2)","v":0},0,0,0,0,0,0,0,0,0,{"$f":"ROUNDUP(IF(OR(($D100+$F$6)=U$62,($C100+$D100+$F$6)=U$62,($C100*2+$D100+$F$6)=U$62,($C100*3+$D100+$F$6)=U$62,($C100*4+$D100+$F$6)=U$62,($C100*5+$D100+$F$6)=U$62,($C100*6+$D100+$F$6)=U$62,($C100*7+$D100+$F$6)=U$62,($C100*8+$D100+$F$6)=U$62),$F100*$H100*((1+$J$52)^(U$62-$F$6)),0),-2)","v":0},0,0,0,0,0,0,0,0,0,0]
["Foundation",{"$nulls":3},"Other",{"$nulls":3},0,0,0,0,0,0,0,0,0,0,0,0,0,0,0,0,0,0,0,0,0,0,0]
["Building Slab",{"$nulls":3},"Other",{"$nulls":3},0,0,0,0,0,0,0,0,0,0,0,0,0,0,0,0,0,0,0,0,0,0,0]
["Roofs",{"$nulls":3},"Other",{"$nulls":3},0,0,0,0,0,0,0,0,0,0,0,0,0,0,0,0,0,0,0,0,0,0,0]
["Canopies",{"$nulls":3},"Other",{"$nulls":3},0,0,0,0,0,0,0,0,0,0,0,0,0,0,0,0,0,0,0,0,0,0,0]
["Tuck-Pointing",{"$nulls":3},"Other",{"$nulls":3},0,0,0,0,0,0,0,0,0,0,0,0,0,0,0,0,0,0,0,0,0,0,0]
["Exterior Paint & Caulking",{"$nulls":3},"Other",{"$nulls":3},0,0,0,0,0,0,0,0,0,0,0,0,0,0,0,0,0,0,0,0,0,0,0]
["Soffits",{"$nulls":3},"Other",{"$nulls":3},0,0,0,0,0,0,0,0,0,0,0,0,0,0,0,0,0,0,0,0,0,0,0]
["Siding",{"$nulls":3},"Other",{"$nulls":3},0,0,0,0,0,0,0,0,0,0,0,0,0,0,0,0,0,0,0,0,0,0,0]
["Exterior Stairwells/Fire Escapes",{"$nulls":3},"Other",{"$nulls":3},0,0,0,0,0,0,0,0,0,0,0,0,0,0,0,0,0,0,0,0,0,0,0]
["Landings & Railings",{"$nulls":3},"Other",{"$nulls":3},0,0,{"$f":"ROUNDUP(IF(OR(($D110+$F$6)=K$62,($C110+$D110+$F$6)=K$62,($C110*2+$D110+$F$6)=K$62,($C110*3+$D110+$F$6)=K$62,($C110*4+$D110+$F$6)=K$62,($C110*5+$D110+$F$6)=K$62,($C110*6+$D110+$F$6)=K$62,($C110*7+$D110+$F$6)=K$62,($C110*8+$D110+$F$6)=K$62),$F110*$H110*((1+$J$52)^(K$62-$F$6)),0),-2)","v":0},0,0,0,0,0,0,0,0,0,{"$f":"ROUNDUP(IF(OR(($D110+$F$6)=U$62,($C110+$D110+$F$6)=U$62,($C110*2+$D110+$F$6)=U$62,($C110*3+$D110+$F$6)=U$62,($C110*4+$D110+$F$6)=U$62,($C110*5+$D110+$F$6)=U$62,($C110*6+$D110+$F$6)=U$62,($C110*7+$D110+$F$6)=U$62,($C110*8+$D110+$F$6)=U$62),$F110*$H110*((1+$J$52)^(U$62-$F$6)),0),-2)","v":0},0,0,0,0,0,0,0,0,0,0]
["Balconies & Railings",{"$nulls":3},"Other",{"$nulls":3},0,0,0,0,0,0,0,0,0,0,0,0,0,0,0,0,0,0,0,0,0,0,0]
["Mail Facilities",{"$nulls":3},"Other",{"$nulls":3},0,0,0,0,0,0,0,0,0,0,0,0,0,0,0,0,0,0,0,0,0,0,0]
["Exterior Doors",{"$nulls":3},"Other",{"$nulls":3},0,0,0,0,0,0,0,0,0,0,0,0,0,0,0,0,0,0,0,0,0,0,0]
["Windows",{"$nulls":3},"Other",{"$nulls":3},0,0,0,0,0,0,0,0,0,0,0,0,0,0,0,0,0,0,0,0,0,0,0]
["Gutters/Downspouts",{"$nulls":3},"Other",{"$nulls":3},0,0,0,0,0,0,0,0,0,0,0,0,0,0,0,0,0,0,0,0,0,0,0]
["Columns & Porches",{"$nulls":3},"Other",{"$nulls":3},0,0,0,0,0,0,0,0,0,0,0,0,0,0,0,0,0,0,0,0,0,0,0]
["Decks & Patios",{"$nulls":3},"Other",{"$nulls":3},0,0,0,0,0,0,0,0,0,0,0,0,0,0,0,0,0,0,0,0,0,0,0]
["Exterior Lighting",{"$nulls":3},"Other",{"$nulls":3},{"$f":"ROUNDUP(+G118*H118,-2)","v":0},{"$f":"SUM(K118:AD118)","v":0},0,0,0,0,0,0,0,0,0,0,0,0,0,0,0,0,0,0,0,0,{"$f":"SUM(K118:AD118)-J118","v":0}]
["Other (Specify)",{"$nulls":7},{"$f":"ROUNDUP(+G119*H119,-2)","v":0},{"$f":"SUM(K119:AD119)","v":0},0,0,0,0,0,0,0,0,0,0,0,0,0,0,0,0,0,0,0,0,0]
["Other (Specify)",{"$nulls":7},{"$f":"ROUNDUP(+G120*H120,-2)","v":0},{"$f":"SUM(K120:AD120)","v":0},0,0,0,0,0,0,0,0,0,0,0,0,0,0,0,0,0,0,0,0,0]
["Unit Exterior Subtotals",{"$nulls":7},{"$f":"SUM(I100:I120)","v":0},{"$f":"SUM(J100:J120)","v":0},{"$f":"SUM(K100:K120)","v":0},{"$f":"SUM(L100:L120)","v":0},0,0,0,0,0,0,0,0,0,0,0,0,0,0,0,0,0,0,0]
["(4.12) Unit Interiors",{"$nulls":12},"Years 1-5",{"$f":"SUM(K144:O144)","v":0},{"$nulls":3},"Years 6-10",{"$f":"SUM(P144:T144)","v":0},{"$nulls":3},"Years 11-15",{"$f":"SUM(U144:Y144)","v":0},{"$nulls":3},"Years 16-20",{"$f":"SUM(Z144:AD144)","v":0}]
["Interior Painting (non routine)",{"$nulls":3},"Other",{"$nulls":3},{"$f":"ROUNDUP(+G123*H123,-2)","v":0},{"$f":"SUM(K123:AD123)","v":0},{"$f":"ROUNDUP(IF(OR(($D123+$F$6)=K$62,($C123+$D123+$F$6)=K$62,($C123*2+$D123+$F$6)=K$62,($C123*3+$D123+$F$6)=K$62,($C123*4+$D123+$F$6)=K$62,($C123*5+$D123+$F$6)=K$62,($C123*6+$D123+$F$6)=K$62,($C123*7+$D123+$F$6)=K$62,($C123*8+$D123+$F$6)=K$62),$F123*$H123*((1+$J$52)^(K$62-$F$6)),0),-2)","v":0},0,0,0,0,0,0,0,0,0,{"$f":"ROUNDUP(IF(OR(($D123+$F$6)=U$62,($C123+$D123+$F$6)=U$62,($C123*2+$D123+$F$6)=U$62,($C123*3+$D123+$F$6)=U$62,($C123*4+$D123+$F$6)=U$62,($C123*5+$D123+$F$6)=U$62,($C123*6+$D123+$F$6)=U$62,($C123*7+$D123+$F$6)=U$62,($C123*8+$D123+$F$6)=U$62),$F123*$H123*((1+$J$52)^(U$62-$F$6)),0),-2)","v":0},0,0,0,0,0,0,0,0,0,0]
["Interior Doors",{"$nulls":3},"Other",{"$nulls":3},0,0,0,0,0,0,0,0,0,0,0,0,0,0,0,0,0,0,0,0,0,0,0]
["Flooring (non routine)",{"$nulls":3},"Other",{"$nulls":3},0,0,0,0,0,0,0,0,0,0,0,0,0,0,0,0,0,0,0,0,0,0,0]
["Shower/Tub Surrounds",{"$nulls":3},"Other",{"$nulls":3},0,0,0,0,0,0,0,0,0,0,0,0,0,0,0,0,0,0,0,0,0,0,0]
["Commodes",{"$nulls":3},"Other",{"$nulls":3},0,0,0,0,0,0,0,0,0,0,0,0,0,0,0,0,0,0,0,0,0,0,0]
["Vanities",{"$nulls":3},"Other",{"$nulls":3},0,0,0,0,0,0,0,0,0,0,0,0,0,0,0,0,0,0,0,0,0,0,{"$f":"SUM(K128:AD128)-J128","v":0}]
["Faucets",{"$nulls":3},"Other",{"$nulls":3},{"$f":"ROUNDUP(+G129*H129,-2)","v":0},{"$f":"SUM(K129:AD129)","v":0},0,0,0,0,0,0,0,0,0,0,0,0,0,0,0,0,0,0,0,0,{"$f":"SUM(K129:AD129)-J129","v":0}]
["Bathroom Flooring (non cyclical)",{"$nulls":3},"Other",{"$nulls":3},0,0,0,0,0,0,0,0,0,0,0,0,0,0,0,0,0,0,0,0,0,0,0]
["Kitchen Cabinets",{"$nulls":3},"Other",{"$nulls":3},0,0,0,0,0,0,0,0,0,0,0,0,0,0,0,0,0,0,0,0,0,0,0]
["Ranges",{"$nulls":3},"Other",{"$nulls":3},0,0,0,0,0,0,0,0,0,0,0,0,0,0,0,0,0,0,0,0,0,0,0]
["Range Hoods",{"$nulls":3},"Other",{"$nulls":3},0,0,{"$f":"ROUNDUP(IF(OR(($D133+$F$6)=K$62,($C133+$D133+$F$6)=K$62,($C133*2+$D133+$F$6)=K$62,($C133*3+$D133+$F$6)=K$62,($C133*4+$D133+$F$6)=K$62,($C133*5+$D133+$F$6)=K$62,($C133*6+$D133+$F$6)=K$62,($C133*7+$D133+$F$6)=K$62,($C133*8+$D133+$F$6)=K$62),$F133*$H133*((1+$J$52)^(K$62-$F$6)),0),-2)","v":0},0,0,0,0,0,0,0,0,0,{"$f":"ROUNDUP(IF(OR(($D133+$F$6)=U$62,($C133+$D133+$F$6)=U$62,($C133*2+$D133+$F$6)=U$62,($C133*3+$D133+$F$6)=U$62,($C133*4+$D133+$F$6)=U$62,($C133*5+$D133+$F$6)=U$62,($C133*6+$D133+$F$6)=U$62,($C133*7+$D133+$F$6)=U$62,($C133*8+$D133+$F$6)=U$62),$F133*$H133*((1+$J$52)^(U$62-$F$6)),0),-2)","v":0},0,0,0,0,0,0,0,0,0,0]
["Refrigerators",{"$nulls":3},"Other",{"$nulls":3},0,0,0,0,0,0,0,0,0,0,0,0,0,0,0,0,0,0,0,0,0,0,0]
["Counters and Sinks",{"$nulls":3},"Other",{"$nulls":3},0,0,0,0,0,0,0,0,0,0,0,0,0,0,0,0,0,0,0,0,0,0,0]
["Dishwasher",{"$nulls":3},"Other",{"$nulls":3},0,0,0,0,0,0,0,0,0,0,0,0,0,0,0,0,0,0,0,0,0,0,0]
["Microwave",{"$nulls":3},"Other",{"$nulls":3},0,0,0,0,0,0,0,0,0,0,0,0,0,0,0,0,0,0,0,0,0,0,0]
["Washing Machines",{"$nulls":3},"Other",{"$nulls":3},0,0,0,0,0,0,0,0,0,0,0,0,0,0,0,0,0,0,0,0,0,0,0]
["Dryers",{"$nulls":3},"Other",{"$nulls":3},0,0,0,0,0,0,0,0,0,0,0,0,0,0,0,0,0,0,0,0,0,0,0]
["Call-for-Aid Systems",{"$nulls":3},"Other",{"$nulls":3},{"$f":"ROUNDUP(+G140*H140,-2)","v":0},{"$f":"SUM(K140:AD140)","v":0},0,0,0,0,0,0,0,0,0,0,0,0,0,0,0,0,0,0,0,0,{"$f":"SUM(K140:AD140)-J140","v":0}]
["Stairs and Handrails",{"$nulls":7},0,0,0,0,0,0,0,0,0,0,0,0,0,0,0,0,0,0,0,0,0,0,0]
["Other (Specify)",{"$nulls":7},0,0,0,0,0,0,0,0,0,0,0,0,0,0,0,0,0,0,0,0,0,0,0]
["Other (Specify)",{"$nulls":7},{"$f":"ROUNDUP(+G143*H143,-2)","v":0},{"$f":"SUM(K143:AD143)","v":0},0,0,0,0,0,0,0,0,0,0,0,0,0,0,0,0,0,0,0,0,0]
["Unit Interior Subtotals",{"$nulls":7},{"$f":"SUM(I123:I143)","v":0},{"$f":"SUM(J123:J143)","v":0},{"$f":"SUM(K123:K143)","v":0},0,0,0,0,0,0,0,0,0,0,0,0,0,0,0,0,0,0,0,0]
["(4.13) Mechanical",{"$nulls":12},"Years 1-5",{"$f":"SUM(K161:O161)","v":0},{"$nulls":3},"Years 6-10",{"$f":"SUM(P161:T161)","v":0},{"$nulls":3},"Years 11-15",{"$f":"SUM(U161:Y161)","v":0},{"$nulls":3},"Years 16-20",{"$f":"SUM(Z161:AD161)","v":0}]
["Water Distribution",{"$nulls":3},"Other",{"$nulls":3},{"$f":"ROUNDUP(+G146*H146,-2)","v":0},{"$f":"SUM(K146:AD146)","v":0},{"$f":"ROUNDUP(IF(OR(($D146+$F$6)=K$62,($C146+$D146+$F$6)=K$62,($C146*2+$D146+$F$6)=K$62,($C146*3+$D146+$F$6)=K$62,($C146*4+$D146+$F$6)=K$62,($C146*5+$D146+$F$6)=K$62,($C146*6+$D146+$F$6)=K$62,($C146*7+$D146+$F$6)=K$62,($C146*8+$D146+$F$6)=K$62),$F146*$H146*((1+$J$52)^(K$62-$F$6)),0),-2)","v":0},0,0,0,0,0,0,0,0,0,{"$f":"ROUNDUP(IF(OR(($D146+$F$6)=U$62,($C146+$D146+$F$6)=U$62,($C146*2+$D146+$F$6)=U$62,($C146*3+$D146+$F$6)=U$62,($C146*4+$D146+$F$6)=U$62,($C146*5+$D146+$F$6)=U$62,($C146*6+$D146+$F$6)=U$62,($C146*7+$D146+$F$6)=U$62,($C146*8+$D146+$F$6)=U$62),$F146*$H146*((1+$J$52)^(U$62-$F$6)),0),-2)","v":0},0,0,0,0,0,0,0,0,0,0]
["Heating Equipt/System",{"$nulls":3},"Other",{"$nulls":3},0,0,0,0,0,0,0,0,0,0,0,0,0,0,0,0,0,0,0,0,0,0,0]
["Electric Disribution",{"$nulls":3},"Per Unit",{"$nulls":3},0,0,0,0,0,0,0,0,0,0,0,0,0,0,0,0,0,0,0,0,0,0,0]
["Hot Water Heaters",{"$nulls":3},"Other",{"$nulls":3},0,0,0,0,0,0,0,0,0,0,0,0,0,0,0,0,0,0,0,0,0,0,0]
["Unit Sub-panels",{"$nulls":3},"Other",{"$nulls":3},0,0,0,0,0,0,0,0,0,0,0,0,0,0,0,0,0,0,0,0,0,0,0]
["Trash Compactor",{"$nulls":3},"Other",{"$nulls":3},0,0,0,0,0,0,0,0,0,0,0,0,0,0,0,0,0,0,0,0,0,0,0]
["Cooling Equipt/Systems",{"$nulls":3},"Other",{"$nulls":3},0,0,0,0,0,0,0,0,0,0,0,0,0,0,0,0,0,0,0,0,0,0,0]
["Smoke/Fire Detection",{"$nulls":3},"Other",{"$nulls":3},0,0,0,0,0,0,0,0,0,0,0,0,0,0,0,0,0,0,0,0,0,0,0]
["Unit Reconfiguration",{"$nulls":3},"Other",{"$nulls":3},0,0,0,0,0,0,0,0,0,0,0,0,0,0,0,0,0,0,0,0,0,0,0]
["Security/Fire Alarm",{"$nulls":3},"Other",{"$nulls":3},0,{"$f":"SUM(K155:AD155)","v":0},0,0,0,0,0,0,0,0,0,0,0,0,0,0,0,0,0,0,0,0,0]
["Fire Suspression System",{"$nulls":3},"Other",{"$nulls":3},0,0,0,0,0,0,0,0,0,0,0,0,0,0,0,0,0,0,0,0,0,0,0]
["Generator",{"$nulls":3},"Other",{"$nulls":3},0,0,0,0,0,0,0,0,0,0,0,0,0,0,0,0,0,0,0,0,0,0,0]
["Elevator",{"$nulls":3},"Other",{"$nulls":3},0,0,0,0,0,0,0,0,0,0,0,0,0,0,0,0,0,0,0,0,0,0,0]
["Other (Specify) ",{"$nulls":3},"Other",{"$nulls":3},{"$f":"ROUNDUP(+G159*H159,-2)","v":0},0,0,0,0,0,0,0,0,0,0,0,0,0,0,0,0,0,0,0,0,0,0]
["Other (Specify)",{"$nulls":7},{"$f":"ROUNDUP(+G160*H160,-2)","v":0},0,0,0,0,0,0,0,0,0,0,0,0,0,0,0,0,0,0,0,0,0,0]
["Mechanical Subtotals",{"$nulls":7},{"$f":"SUM(I146:I160)","v":0},{"$f":"SUM(J146:J160)","v":0},{"$f":"SUM(K146:K160)","v":0},0,0,0,0,0,0,0,0,0,0,0,0,0,0,0,0,0,0,0,0]
["(4.14) Other",{"$nulls":12},"Years 1-5",{"$f":"SUM(K170:O170)","v":0},{"$nulls":3},"Years 6-10",{"$f":"SUM(P170:T170)","v":0},{"$nulls":3},"Years 11-15",{"$f":"SUM(U170:Y170)","v":0},{"$nulls":3},"Years 16-20",{"$f":"SUM(Z170:AD170)","v":0}]
["Site Acquisition",{"$nulls":3},"Other",{"$nulls":3},{"$f":"ROUNDUP(+G163*H163,-2)","v":0},{"$f":"SUM(K163:AD163)","v":0},{"$f":"ROUNDUP(IF(OR(($D163+$F$6)=K$62,($C163+$D163+$F$6)=K$62,($C163*2+$D163+$F$6)=K$62,($C163*3+$D163+$F$6)=K$62,($C163*4+$D163+$F$6)=K$62,($C163*5+$D163+$F$6)=K$62,($C163*6+$D163+$F$6)=K$62,($C163*7+$D163+$F$6)=K$62,($C163*8+$D163+$F$6)=K$62),$F163*$H163*((1+$J$52)^(K$62-$F$6)),0),-2)","v":0},0,0,0,0,0,0,0,0,0,{"$f":"ROUNDUP(IF(OR(($D163+$F$6)=U$62,($C163+$D163+$F$6)=U$62,($C163*2+$D163+$F$6)=U$62,($C163*3+$D163+$F$6)=U$62,($C163*4+$D163+$F$6)=U$62,($C163*5+$D163+$F$6)=U$62,($C163*6+$D163+$F$6)=U$62,($C163*7+$D163+$F$6)=U$62,($C163*8+$D163+$F$6)=U$62),$F163*$H163*((1+$J$52)^(U$62-$F$6)),0),-2)","v":0},0,0,0,0,0,0,0,0,0,0]
["Other Fees and Costs",{"$nulls":3},"Other",{"$nulls":3},0,0,0,0,0,0,0,0,0,0,0,0,0,0,0,0,0,0,0,0,0,0,0]
["Demolition",{"$nulls":3},"Other",{"$nulls":3},0,0,0,0,0,0,0,0,0,0,0,0,0,0,0,0,0,0,0,0,0,0,0]
["Dwelling Unit Conversion",{"$nulls":3},"Other",{"$nulls":3},0,0,0,0,0,0,0,0,0,0,0,0,0,0,0,0,0,0,0,0,0,0,{"$f":"SUM(K166:AD166)-J166","v":0}]
["Contingency",{"$nulls":3},"Other",{"$nulls":3},0,0,{"$f":"ROUNDUP(IF(OR(($D167+$F$6)=K$62,($C167+$D167+$F$6)=K$62,($C167*2+$D167+$F$6)=K$62,($C167*3+$D167+$F$6)=K$62,($C167*4+$D167+$F$6)=K$62,($C167*5+$D167+$F$6)=K$62,($C167*6+$D167+$F$6)=K$62,($C167*7+$D167+$F$6)=K$62,($C167*8+$D167+$F$6)=K$62),$F167*$H167*((1+$J$52)^(K$62-$F$6)),0),-2)","v":0},0,0,0,0,0,0,0,0,0,{"$f":"ROUNDUP(IF(OR(($D167+$F$6)=U$62,($C167+$D167+$F$6)=U$62,($C167*2+$D167+$F$6)=U$62,($C167*3+$D167+$F$6)=U$62,($C167*4+$D167+$F$6)=U$62,($C167*5+$D167+$F$6)=U$62,($C167*6+$D167+$F$6)=U$62,($C167*7+$D167+$F$6)=U$62,($C167*8+$D167+$F$6)=U$62),$F167*$H167*((1+$J$52)^(U$62-$F$6)),0),-2)","v":0},0,0,0,0,0,0,0,0,0,0]
["Other (Specify) ",{"$nulls":7},0,0,0,0,0,0,0,0,0,0,0,0,0,0,0,0,0,0,0,0,0,0,0]
["Other (Specify)",{"$nulls":7},0,0,0,0,0,0,0,0,0,0,0,0,0,0,0,0,0,0,0,0,0,0,0]
["Other Subtotals",{"$nulls":7},{"$f":"SUM(I163:I169)","v":0},{"$f":"SUM(J163:J169)","v":0},{"$f":"SUM(K163:K169)","v":0},{"$f":"SUM(L163:L169)","v":0},0,0,0,0,0,0,0,0,0,0,0,0,0,0,0,0,0,0,0]
["GRAND TOTAL",{"$nulls":7},{"$f":"I170+I161+I144+I82+I98","v":0},{"$f":"J170+J161+J144+J121+J98+J82","v":0},0,0,0,0,0,0,0,0,0,0,0,0,0,0,0,0,0,0,0,0,0]
["(4.15) Special Categories"]
["Amount of PNA Relating to Lead Paint/Asbestos Compliance",{"$nulls":3},"Other",{"$nulls":3},{"$f":"ROUNDUP(+G173*H173,-2)","v":0}]
["Amount of PNA Relating to Section 504, ADA, and Fair Housing Act (if applicable) Compliance",{"$nulls":3},"Other",{"$nulls":3},{"$f":"ROUNDUP(+G174*H174,-2)","v":0}]
[]
["(4.16) New Construction"]
["Dwelling Units",{"$nulls":3},"Other",{"$nulls":3},{"$f":"ROUNDUP(+G177*H177,-2)","v":0}]
["Administrative Building",{"$nulls":3},"Other",{"$nulls":3},0]
["Community Building or Facility",{"$nulls":3},"Other",{"$nulls":3},0]
["Shop",{"$nulls":3},"Other",{"$nulls":3},0]
["Storage Area",{"$nulls":3},"Other",{"$nulls":3},0]
["Family Investment Center",{"$nulls":3},"Other",{"$nulls":3},0]
["Day Care Center",{"$nulls":3},"Other",{"$nulls":3},0]
["Laundry Areas(s)",{"$nulls":3},"Other",{"$nulls":3},0]
["Other (Specify) ",{"$nulls":3},"Other",{"$nulls":3},0]
["Other (Specify)",{"$nulls":3},"Other",{"$nulls":3},0]
["Other (Specify)",{"$nulls":7},0]
["New Construction Subtotals",{"$nulls":7},{"$f":"SUM(I177:I187)","v":0}]

{"sheet":"Tab 2","index":3,"n_rows":188,"n_cols":31,"rows_kept":188,"merged":[[4,2,4,3],[5,2,5,3],[7,0,7,8],[9,1,9,2],[10,1,10,2],[20,3,20,9],[27,0,27,8],[29,8,29,9],[30,8,30,9],[31,8,31,9],[33,6,35,6],[37,4,37,9],[44,0,44,8],[46,0,46,1],[47,0,47,1],[48,0,48,1],[49,0,49,1],[50,0,50,1],[51,0,51,1],[52,0,52,1],[53,0,53,1],[54,0,54,1],[55,0,55,1],[56,0,56,1],[59,0,59,8],[61,0,61,1],[62,0,62,1],[81,0,81,1],[97,0,97,1],[120,0,120,1],[143,0,143,1],[160,0,160,1],[169,0,169,1],[170,0,170,1],[187,0,187,1]]}
["Physical Needs Assessment",{"$nulls":3},"U.S. Department of Housing",{"$nulls":4}," OMB Approval No. 2577-0157"]
["Capital Fund Financing Program/",{"$nulls":3},"and Urban Development",{"$nulls":4}," (exp. 1/31/2017)"]
["Operating Fund Financing Program",{"$nulls":3},"Office of Public and Indian Housing"]
[]
["HA Name",null,"HA Number",null,null,"FY of Assessment",null," Original  ","Date Prepared:"]
[{"$f":"'Tab 1'!A6","v":0},null,{"$f":"'Tab 1'!C6:D6","v":0},{"$nulls":4},"Revision  ","Date Revised:"]
[]
["(1.0) Project Data"]
[]
["(1.1) Management Office Address",{"$nulls":5},"(1.3) Development No.",null,"(1.4) DOFA Date"]
["(1.2) Project Name"]
[{"$nulls":4},"Family"]
[{"$nulls":3},"(1.9)","Elderly",null,null,"(1.10)","S-F Detached"]
["(1.5) Year of Last Substantial Mod",null,null,"Occupancy","Family & Disabled",null,null,"Structure","Semi-Detached"]
["(1.6) Occupancy Rate ",{"$f":"B20/(+B18-B26)","v":{"$error":"#DIV/0!"}},null,"Type(s)","Elderly & Disabled",null,null,"Type(s)","Row or Townhome"]
["        (Rentable Units Only)",null,null,"(Check)","Not Applicable",null,null,"(Check","M-F/Walkup"]
["(1.7) Latest PASS REAC Score",null,null,"all that apply)","Official Designation: Elderly",null,null,"all that","Elevator"]
["Total Units",{"$f":"+B20+B21","v":0},null,null,"Official Designation: Disabled",null,null,"apply)","Non-Dwelling"]
["(1.8) Total Buildings",{"$nulls":3},"Official Designation: Mixed"]
["Occupied Units",{"$f":"SUM(E23:J23)","v":0}]
["Vacant/Rentable Units",{"$f":"SUM(E24:J24)","v":0},null,"(1.11) Bedroom Distribution"]
[{"$nulls":4},"Eff","1BR","2BR","3BR","4BR","5BR+"]
[{"$nulls":3},"(1.11a) Occupied"]
[{"$nulls":3},"(1.11b) Vacant"]
[{"$nulls":3},"Total Units",{"$f":"SUM(E23:E24)","v":0},0,0,0,0,0]
[{"$nulls":3},"Avg Bedrooms per Unit",null,{"$f":"(+E23*1+F23*1+G23*2+H23*3+I23*4+J23*5)/SUM(E23:J23)","v":{"$error":"#DIV/0!"}}]
[]
["(2.0) Physical Needs Assessment Summary Data"]
[]
["(2.1) PNA Conducted By: (PHA/ 3rd Party)",null,"PHA Internally",null,null,"(2.5) Inspector Contact Name: "]
[null,null,"3rd Pary Independent",null,null,"(2.6) Company Name or PHA Title:"]
["(2.2) First Year Covered by PNA",{"$nulls":4},"(2.7) Inspector Contact Phone:"]
["(2.3) Length of PNA (in years)"]
["(2.4) Unit Interiors Inspected (#)",null,{"$f":"SUM(E40:J40)","v":0},{"$nulls":3},"(2.8) Data Source(s) for PNA",null,"Annual Inspections"]
["Units Inspected as % of Total",null,{"$f":"C34/B18","v":{"$error":"#DIV/0!"}},{"$nulls":5},"Contractor"]
["(2.9) Total Residential Buildings",{"$nulls":7},"REAC Inspections"]
["(2.10) Number of Building Exteriors Inspected"]
["(2.11) Total Off-Street Parking Spaces",{"$nulls":3},"(2.14) Units Inspected by Bedroom Size"]
["(2.12) Site Acreage",null,null,"acres","Eff","1BR","2BR","3BR","4BR","5BR+"]
["(2.13) Parking Area (in square feet)",null,null,"SF"]
[]
["(2.15) Physical Improvements Will Result in Structural/System Soundness at a Reasonable Cost",{"$nulls":5},"Yes","No"]
["(2.16) Development Has Long-Term Physical and Social Viability",{"$nulls":5},"Yes","No"]
[]
["(3.0) Total Physical Needs Summary"]
[]
["Major Category",null,"Immediate","Years                       1-5","Years                    6-10","Years                    11-15","Years                   16-20","Total Needs"]
["Site",null,{"$f":"+I82","v":0},{"$f":"$O$63","v":0},{"$f":"$T$63","v":0},{"$f":"$Y$63","v":0},{"$f":"$AD$63","v":0},{"$f":"SUM(C48:G48)","v":0}]
["Common Buildings",null,{"$f":"$I$98","v":0},{"$f":"$O$83","v":0},{"$f":"$T$83","v":0},{"$f":"$Y$83","v":0},{"$f":"$AD$83","v":0},0]
["Unit Exteriors",null,{"$f":"$I$121","v":0},{"$f":"$O$99","v":0},{"$f":"$T$99","v":0},{"$f":"$Y$99","v":0},{"$f":"$AD$99","v":0},0]
["Unit Interiors",null,{"$f":"$I$144","v":0},{"$f":"O122","v":0},{"$f":"T122","v":0},{"$f":"Y122","v":0},{"$f":"AD122","v":0},0]
["Mechanical",null,{"$f":"I161","v":0},{"$f":"O145","v":0},{"$f":"T145","v":0},{"$f":"Y145","v":0},{"$f":"AD145","v":0},0]
["Other",null,{"$f":"I170","v":0},{"$f":"O162","v":0},{"$f":"T162","v":0},{"$f":"Y162","v":0},{"$f":"AD162","v":0},0]
["Totals",null,{"$f":"SUM(C48:C53)","v":0},0,0,0,0,0]
["Amount of PNA relating to Lead Paint/Asbestos",null,{"$f":"I173","v":0},{"$nulls":4},{"$f":"C55","v":0}]
["Amount of PNA relating to Section 504, ADA, and Fair Housing Act (if applicable) Compliance",null,{"$f":"I174","v":0},{"$nulls":4},{"$f":"C56","v":0}]
["New Construction",{"$nulls":6},{"$f":"I188","v":0}]
[{"$nulls":5},"TOTAL PHYSICAL NEEDS",null,{"$f":"H57+H54","v":0}]
[]
["(4.0)Physical Needs Cost Estimate"]
[]
["(4.1) Category",null,"(4.2) Estimated Useful Life","(4.3)                Useful Life Remaining","(4.4)             Method","(4.5)                   Total          Quantity","(4.6)             Current Needs Quantity","(4.7)                Cost per      Quantity","(4.8)         Immediate Repairs Needed","Total Long Term Needs",{"$f":"+F6+1","v":1},{"$f":"1+K62","v":2},3,4,5,6,7,8,9,10,11,12,13,14,15,16,17,18,19,20]
["(4.9) Site",null,"(in yrs)","(in yrs)",{"$nulls":9},"Years 1-5",{"$f":"SUM(K82:O82)","v":0},{"$nulls":3},"Years 6-10",{"$f":"SUM(P82:T82)","v":0},{"$nulls":3},"Years 11-15",{"$f":"SUM(U82:Y82)","v":0},{"$nulls":3},"Years 16-20",{"$f":"SUM(Z82:AD82)","v":0}]
["Asphalt/Concrete",{"$nulls":3},"Per Sq. Ft.",{"$nulls":3},{"$f":"ROUNDUP(+G64*H64,-2)","v":0},{"$f":"SUM(K64:AD64)","v":0},{"$f":"ROUNDUP(IF(OR(($D64+$F$6)=K$62,($C64+$D64+$F$6)=K$62,($C64*2+$D64+$F$6)=K$62,($C64*3+$D64+$F$6)=K$62,($C64*4+$D64+$F$6)=K$62,($C64*5+$D64+$F$6)=K$62,($C64*6+$D64+$F$6)=K$62,($C64*7+$D64+$F$6)=K$62,($C64*8+$D64+$F$6)=K$62),$F64*$H64*((1+$J$52)^(K$62-$F$6)),0),-2)","v":0},0,0,0,0,0,0,0,0,0,{"$f":"ROUNDUP(IF(OR(($D64+$F$6)=U$62,($C64+$D64+$F$6)=U$62,($C64*2+$D64+$F$6)=U$62,($C64*3+$D64+$F$6)=U$62,($C64*4+$D64+$F$6)=U$62,($C64*5+$D64+$F$6)=U$62,($C64*6+$D64+$F$6)=U$62,($C64*7+$D64+$F$6)=U$62,($C64*8+$D64+$F$6)=U$62),$F64*$H64*((1+$J$52)^(U$62-$F$6)),0),-2)","v":0},0,0,0,0,0,0,0,0,0,{"$f":"SUM(K64:AD64)-J64","v":0}]
["Seal Coat",{"$nulls":3},"Per Sq. Ft.",{"$nulls":3},0,0,0,0,0,0,0,0,0,0,0,0,0,0,0,0,0,0,0,0,0,0,0]
["Striping",{"$nulls":3},"Per Sq. Ft.",{"$nulls":3},0,0,0,0,0,0,0,0,0,0,0,0,0,0,0,0,0,0,0,0,0,0,0]
["Curb & Gutter",{"$nulls":3},"Per Sq. Ft.",{"$nulls":3},0,0,0,0,0,0,0,0,0,0,0,0,0,0,0,0,0,0,0,0,0,0,0]
["Pedestrian paving",{"$nulls":3},"Per Sq. Ft.",{"$nulls":3},0,0,0,0,0,0,0,0,0,0,0,0,0,0,0,0,0,0,0,0,0,0,0]
["Signage",{"$nulls":3},"Per Sq. Ft.",{"$nulls":3},0,0,0,0,0,0,0,0,0,0,0,0,0,0,0,0,0,0,0,0,0,0,0]
["Water Lines/Mains",{"$nulls":3},"Per Sq. Ft.",{"$nulls":3},0,0,0,0,0,0,0,0,0,0,0,0,0,0,0,0,0,0,0,0,0,0,0]
["Sewer Lines/Mains",{"$nulls":3},"Per Sq. Ft.",{"$nulls":3},0,0,0,0,0,0,0,0,0,0,0,0,0,0,0,0,0,0,0,0,0,0,0]
["Lighting",{"$nulls":3},"Per Sq. Ft.",{"$nulls":3},0,0,0,0,0,0,0,0,0,0,0,0,0,0,0,0,0,0,0,0,0,0,0]
["Storm Drainage",{"$nulls":3},"Per Sq. Ft.",{"$nulls":3},0,0,0,0,0,0,0,0,0,0,0,0,0,0,0,0,0,0,0,0,0,0,0]
["Landscape",{"$nulls":3},"Per Sq. Ft.",{"$nulls":3},0,0,{"$f":"ROUNDUP(IF(OR(($D74+$F$6)=K$62,($C74+$D74+$F$6)=K$62,($C74*2+$D74+$F$6)=K$62,($C74*3+$D74+$F$6)=K$62,($C74*4+$D74+$F$6)=K$62,($C74*5+$D74+$F$6)=K$62,($C74*6+$D74+$F$6)=K$62,($C74*7+$D74+$F$6)=K$62,($C74*8+$D74+$F$6)=K$62),$F74*$H74*((1+$J$52)^(K$62-$F$6)),0),-2)","v":0},0,0,0,0,0,0,0,0,0,{"$f":"ROUNDUP(IF(OR(($D74+$F$6)=U$62,($C74+$D74+$F$6)=U$62,($C74*2+$D74+$F$6)=U$62,($C74*3+$D74+$F$6)=U$62,($C74*4+$D74+$F$6)=U$62,($C74*5+$D74+$F$6)=U$62,($C74*6+$D74+$F$6)=U$62,($C74*7+$D74+$F$6)=U$62,($C74*8+$D74+$F$6)=U$62),$F74*$H74*((1+$J$52)^(U$62-$F$6)),0),-2)","v":0},0,0,0,0,0,0,0,0,0,0]
["Fencing",{"$nulls":3},"Per Sq. Ft.",{"$nulls":3},0,0,0,0,0,0,0,0,0,0,0,0,0,0,0,0,0,0,0,0,0,0,0]
["Fence Painting",{"$nulls":3},"Per Sq. Ft.",{"$nulls":3},0,0,0,0,0,0,0,0,0,0,0,0,0,0,0,0,0,0,0,0,0,0,0]
["Dumpsters & Enclosures",{"$nulls":3},"Per Sq. Ft.",{"$nulls":3},0,0,0,0,0,0,0,0,0,0,0,0,0,0,0,0,0,0,0,0,0,0,0]
["Electric Distribution",{"$nulls":3},"Per Sq. Ft.",{"$nulls":3},0,0,0,0,0,0,0,0,0,0,0,0,0,0,0,0,0,0,0,0,0,0,0]
["Playground Areas/Equipment",{"$nulls":3},"Per Sq. Ft.",{"$nulls":3},0,0,0,0,0,0,0,0,0,0,0,0,0,0,0,0,0,0,0,0,0,0,0]
["Other (Specify)",{"$nulls":7},0,0,0,0,0,0,0,0,0,0,0,0,0,0,0,0,0,0,0,0,0,0,0]
["Other (Specify)",{"$nulls":7},0,0,0,0,0,0,0,0,0,0,0,0,0,0,0,0,0,0,0,0,0,0,0]
["Site Subtotals",{"$nulls":7},{"$f":"SUM(I64:I81)","v":0},0,0,0,0,0,0,0,0,0,0,0,0,0,0,0,0,0,0,0,0,0,0]
["(4.10) Common Buildings--Rehab Only",{"$nulls":12},"Years 1-5",{"$f":"SUM(K98:O98)","v":0},{"$nulls":3},"Years 6-10",{"$f":"SUM(P98:T98)","v":0},{"$nulls":3},"Years 11-15",{"$f":"SUM(T98:X98)","v":0},{"$nulls":3},"Years 16-20",{"$f":"SUM(Y98:AC98)","v":0}]
["Administrative Building",{"$nulls":3},"Per Sq. Ft.",{"$nulls":3},{"$f":"ROUNDUP(+G84*H84,-2)","v":0},{"$f":"SUM(K84:AD84)","v":0},{"$f":"ROUNDUP(IF(OR(($D84+$F$6)=K$62,($C84+$D84+$F$6)=K$62,($C84*2+$D84+$F$6)=K$62,($C84*3+$D84+$F$6)=K$62,($C84*4+$D84+$F$6)=K$62,($C84*5+$D84+$F$6)=K$62,($C84*6+$D84+$F$6)=K$62,($C84*7+$D84+$F$6)=K$62,($C84*8+$D84+$F$6)=K$62),$F84*$H84*((1+$J$52)^(K$62-$F$6)),0),-2)","v":0},0,0,0,0,0,0,0,0,0,{"$f":"ROUNDUP(IF(OR(($D84+$F$6)=U$62,($C84+$D84+$F$6)=U$62,($C84*2+$D84+$F$6)=U$62,($C84*3+$D84+$F$6)=U$62,($C84*4+$D84+$F$6)=U$62,($C84*5+$D84+$F$6)=U$62,($C84*6+$D84+$F$6)=U$62,($C84*7+$D84+$F$6)=U$62,($C84*8+$D84+$F$6)=U$62),$F84*$H84*((1+$J$52)^(U$62-$F$6)),0),-2)","v":0},0,0,0,0,0,0,0,0,0,{"$f":"SUM(K84:AD84)-J84","v":0}]
["Community Building",{"$nulls":3},"Per Sq. Ft.",{"$nulls":3},0,0,0,0,0,0,0,0,0,0,0,0,0,0,0,0,0,0,0,0,0,0,0]
["Shop",{"$nulls":3},"Per Sq. Ft.",{"$nulls":3},0,0,0,0,0,0,0,0,0,0,0,0,0,0,0,0,0,0,0,0,0,0,0]
["Storage Area",{"$nulls":3},"Per Sq. Ft.",{"$nulls":3},0,0,0,0,0,0,0,0,0,0,0,0,0,0,0,0,0,0,0,0,0,0,0]
["Central Boiler",{"$nulls":3},"Per Sq. Ft.",{"$nulls":3},0,0,0,0,0,0,0,0,0,0,0,0,0,0,0,0,0,0,0,0,0,0,0]
["Central Chiller",{"$nulls":3},"Per Sq. Ft.",{"$nulls":3},0,0,0,0,0,0,0,0,0,0,0,0,0,0,0,0,0,0,0,0,0,0,0]
["Family Invesment Center",{"$nulls":3},"Per Sq. Ft.",{"$nulls":3},0,0,0,0,0,0,0,0,0,0,0,0,0,0,0,0,0,0,0,0,0,0,0]
["Day Care Center",{"$nulls":3},"Per Sq. Ft.",{"$nulls":3},0,0,0,0,0,0,0,0,0,0,0,0,0,0,0,0,0,0,0,0,0,0,0]
["Laundry Areas",{"$nulls":3},"Per Sq. Ft.",{"$nulls":3},0,0,{"$f":"ROUNDUP(IF(OR(($D92+$F$6)=K$62,($C92+$D92+$F$6)=K$62,($C92*2+$D92+$F$6)=K$62,($C92*3+$D92+$F$6)=K$62,($C92*4+$D92+$F$6)=K$62,($C92*5+$D92+$F$6)=K$62,($C92*6+$D92+$F$6)=K$62,($C92*7+$D92+$F$6)=K$62,($C92*8+$D92+$F$6)=K$62),$F92*$H92*((1+$J$52)^(K$62-$F$6)),0),-2)","v":0},0,0,0,0,0,0,0,0,0,{"$f":"ROUNDUP(IF(OR(($D92+$F$6)=U$62,($C92+$D92+$F$6)=U$62,($C92*2+$D92+$F$6)=U$62,($C92*3+$D92+$F$6)=U$62,($C92*4+$D92+$F$6)=U$62,($C92*5+$D92+$F$6)=U$62,($C92*6+$D92+$F$6)=U$62,($C92*7+$D92+$F$6)=U$62,($C92*8+$D92+$F$6)=U$62),$F92*$H92*((1+$J$52)^(U$62-$F$6)),0),-2)","v":0},0,0,0,0,0,0,0,0,0,0]
["Common Area Washers",{"$nulls":3},"Per Sq. Ft.",{"$nulls":3},0,0,0,0,0,0,0,0,0,0,0,0,0,0,0,0,0,0,0,0,0,0,0]
["Common Area Dryers",{"$nulls":3},"Per Sq. Ft.",{"$nulls":3},0,0,0,0,0,0,0,0,0,0,0,0,0,0,0,0,0,0,0,0,0,0,0]
["Common Area Finishes",{"$nulls":3},"Per Sq. Ft.",{"$nulls":3},0,0,0,0,0,0,0,0,0,0,0,0,0,0,0,0,0,0,0,0,0,0,0]
["Other (Specify)",{"$nulls":7},0,0,0,0,0,0,0,0,0,0,0,0,0,0,0,0,0,0,0,0,0,0,0]
["Other (Specify)",{"$nulls":7},0,0,0,0,0,0,0,0,0,0,0,0,0,0,0,0,0,0,0,0,0,0,0]
["Common Subtotals",{"$nulls":7},{"$f":"SUM(I84:I97)","v":0},0,0,0,0,0,0,0,0,0,0,0,0,0,0,0,0,0,0,0,0,0,0]
["(4.11) Unit Exteriors",{"$nulls":12},"Years 1-5",{"$f":"SUM(K121:O121)","v":0},{"$nulls":3},"Years 6-10",{"$f":"SUM(P121:T121)","v":0},{"$nulls":3},"Years 11-15",{"$f":"SUM(U121:Y121)","v":0},{"$nulls":3},"Years 16-20",{"$f":"SUM(Z121:AD121)","v":0}]
["Carports/Surface Garage",{"$nulls":3},"Per Sq. Ft.",{"$nulls":3},{"$f":"ROUNDUP(+G100*H100,-2)","v":0},{"$f":"SUM(K100:AD100)","v":0},{"$f":"ROUNDUP(IF(OR(($D100+$F$6)=K$62,($C100+$D100+$F$6)=K$62,($C100*2+$D100+$F$6)=K$62,($C100*3+$D100+$F$6)=K$62,($C100*4+$D100+$F$6)=K$62,($C100*5+$D100+$F$6)=K$62,($C100*6+$D100+$F$6)=K$62,($C100*7+$D100+$F$6)=K$62,($C100*8+$D100+$F$6)=K$62),$F100*$H100*((1+$J$52)^(K$62-$F$6)),0),-2)","v":0},0,0,0,0,0,0,0,0,0,{"$f":"ROUNDUP(IF(OR(($D100+$F$6)=U$62,($C100+$D100+$F$6)=U$62,($C100*2+$D100+$F$6)=U$62,($C100*3+$D100+$F$6)=U$62,($C100*4+$D100+$F$6)=U$62,($C100*5+$D100+$F$6)=U$62,($C100*6+$D100+$F$6)=U$62,($C100*7+$D100+$F$6)=U$62,($C100*8+$D100+$F$6)=U$62),$F100*$H100*((1+$J$52)^(U$62-$F$6)),0),-2)","v":0},0,0,0,0,0,0,0,0,0,{"$f":"SUM(K100:AD100)-J100","v":0}]
["Foundation",{"$nulls":3},"Per Sq. Ft.",{"$nulls":3},0,0,0,0,0,0,0,0,0,0,0,0,0,0,0,0,0,0,0,0,0,0,0]
["Building Slab",{"$nulls":3},"Per Sq. Ft.",{"$nulls":3},0,0,0,0,0,0,0,0,0,0,0,0,0,0,0,0,0,0,0,0,0,0,0]
["Roofs",{"$nulls":3},"Per Sq. Ft.",{"$nulls":3},0,0,0,0,0,0,0,0,0,0,0,0,0,0,0,0,0,0,0,0,0,0,0]
["Canopies",{"$nulls":3},"Per Sq. Ft.",{"$nulls":3},0,0,0,0,0,0,0,0,0,0,0,0,0,0,0,0,0,0,0,0,0,0,0]
["Tuck-Pointing",{"$nulls":3},"Per Sq. Ft.",{"$nulls":3},0,0,0,0,0,0,0,0,0,0,0,0,0,0,0,0,0,0,0,0,0,0,0]
["Exterior Paint & Caulking",{"$nulls":3},"Per Sq. Ft.",{"$nulls":3},0,0,0,0,0,0,0,0,0,0,0,0,0,0,0,0,0,0,0,0,0,0,0]
["Soffits",{"$nulls":3},"Per Sq. Ft.",{"$nulls":3},0,0,0,0,0,0,0,0,0,0,0,0,0,0,0,0,0,0,0,0,0,0,0]
["Siding",{"$nulls":3},"Per Sq. Ft.",{"$nulls":3},0,0,0,0,0,0,0,0,0,0,0,0,0,0,0,0,0,0,0,0,0,0,0]
["Exterior Stairwells/Fire Escapes",{"$nulls":3},"Per Sq. Ft.",{"$nulls":3},0,0,0,0,0,0,0,0,0,0,0,0,0,0,0,0,0,0,0,0,0,0,0]
["Landings & Railings",{"$nulls":3},"Per Sq. Ft.",{"$nulls":3},0,0,{"$f":"ROUNDUP(IF(OR(($D110+$F$6)=K$62,($C110+$D110+$F$6)=K$62,($C110*2+$D110+$F$6)=K$62,($C110*3+$D110+$F$6)=K$62,($C110*4+$D110+$F$6)=K$62,($C110*5+$D110+$F$6)=K$62,($C110*6+$D110+$F$6)=K$62,($C110*7+$D110+$F$6)=K$62,($C110*8+$D110+$F$6)=K$62),$F110*$H110*((1+$J$52)^(K$62-$F$6)),0),-2)","v":0},0,0,0,0,0,0,0,0,0,{"$f":"ROUNDUP(IF(OR(($D110+$F$6)=U$62,($C110+$D110+$F$6)=U$62,($C110*2+$D110+$F$6)=U$62,($C110*3+$D110+$F$6)=U$62,($C110*4+$D110+$F$6)=U$62,($C110*5+$D110+$F$6)=U$62,($C110*6+$D110+$F$6)=U$62,($C110*7+$D110+$F$6)=U$62,($C110*8+$D110+$F$6)=U$62),$F110*$H110*((1+$J$52)^(U$62-$F$6)),0),-2)","v":0},0,0,0,0,0,0,0,0,0,0]
["Balconies & Railings",{"$nulls":3},"Per Sq. Ft.",{"$nulls":3},0,0,0,0,0,0,0,0,0,0,0,0,0,0,0,0,0,0,0,0,0,0,0]
["Mail Facilities",{"$nulls":3},"Per Sq. Ft.",{"$nulls":3},0,0,0,0,0,0,0,0,0,0,0,0,0,0,0,0,0,0,0,0,0,0,0]
["Exterior Doors",{"$nulls":3},"Per Sq. Ft.",{"$nulls":3},0,0,0,0,0,0,0,0,0,0,0,0,0,0,0,0,0,0,0,0,0,0,0]
["Windows",{"$nulls":3},"Per Sq. Ft.",{"$nulls":3},0,0,0,0,0,0,0,0,0,0,0,0,0,0,0,0,0,0,0,0,0,0,0]
["Gutters/Downspouts",{"$nulls":3},"Per Sq. Ft.",{"$nulls":3},0,0,0,0,0,0,0,0,0,0,0,0,0,0,0,0,0,0,0,0,0,0,0]
["Columns & Porches",{"$nulls":3},"Per Sq. Ft.",{"$nulls":3},0,0,0,0,0,0,0,0,0,0,0,0,0,0,0,0,0,0,0,0,0,0,0]
["Decks & Patios",{"$nulls":3},"Per Sq. Ft.",{"$nulls":3},0,0,0,0,0,0,0,0,0,0,0,0,0,0,0,0,0,0,0,0,0,0,0]
["Exterior Lighting",{"$nulls":3},"Per Sq. Ft.",{"$nulls":3},0,0,0,0,0,0,0,0,0,0,0,0,0,0,0,0,0,0,0,0,0,0,0]
["Other (Specify)",{"$nulls":7},0,0,0,0,0,0,0,0,0,0,0,0,0,0,0,0,0,0,0,0,0,0,0]
["Other (Specify)",{"$nulls":7},0,0,0,0,0,0,0,0,0,0,0,0,0,0,0,0,0,0,0,0,0,0,0]
["Unit Exterior Subtotals",{"$nulls":7},{"$f":"SUM(I100:I120)","v":0},0,0,0,0,0,0,0,0,0,0,0,0,0,0,0,0,0,0,0,0,0,0]
["(4.12) Unit Interiors",{"$nulls":12},"Years 1-5",{"$f":"SUM(K144:O144)","v":0},{"$nulls":3},"Years 6-10",{"$f":"SUM(P144:T144)","v":0},{"$nulls":3},"Years 11-15",{"$f":"SUM(U144:Y144)","v":0},{"$nulls":3},"Years 16-20",{"$f":"SUM(Z144:AD144)","v":0}]
["Interior Painting (non routine)",{"$nulls":3},"Per Sq. Ft.",{"$nulls":3},{"$f":"ROUNDUP(+G123*H123,-2)","v":0},{"$f":"SUM(K123:AD123)","v":0},{"$f":"ROUNDUP(IF(OR(($D123+$F$6)=K$62,($C123+$D123+$F$6)=K$62,($C123*2+$D123+$F$6)=K$62,($C123*3+$D123+$F$6)=K$62,($C123*4+$D123+$F$6)=K$62,($C123*5+$D123+$F$6)=K$62,($C123*6+$D123+$F$6)=K$62,($C123*7+$D123+$F$6)=K$62,($C123*8+$D123+$F$6)=K$62),$F123*$H123*((1+$J$52)^(K$62-$F$6)),0),-2)","v":0},0,0,0,0,0,0,0,0,0,{"$f":"ROUNDUP(IF(OR(($D123+$F$6)=U$62,($C123+$D123+$F$6)=U$62,($C123*2+$D123+$F$6)=U$62,($C123*3+$D123+$F$6)=U$62,($C123*4+$D123+$F$6)=U$62,($C123*5+$D123+$F$6)=U$62,($C123*6+$D123+$F$6)=U$62,($C123*7+$D123+$F$6)=U$62,($C123*8+$D123+$F$6)=U$62),$F123*$H123*((1+$J$52)^(U$62-$F$6)),0),-2)","v":0},0,0,0,0,0,0,0,0,0,{"$f":"SUM(K123:AD123)-J123","v":0}]
["Interior Doors",{"$nulls":3},"Per Sq. Ft.",{"$nulls":3},0,0,0,0,0,0,0,0,0,0,0,0,0,0,0,0,0,0,0,0,0,0,0]
["Flooring (non routine)",{"$nulls":3},"Per Sq. Ft.",{"$nulls":3},0,0,0,0,0,0,0,0,0,0,0,0,0,0,0,0,0,0,0,0,0,0,0]
["Shower/Tub Surrounds",{"$nulls":3},"Per Sq. Ft.",{"$nulls":3},0,0,0,0,0,0,0,0,0,0,0,0,0,0,0,0,0,0,0,0,0,0,0]
["Commodes",{"$nulls":3},"Per Sq. Ft.",{"$nulls":3},0,0,0,0,0,0,0,0,0,0,0,0,0,0,0,0,0,0,0,0,0,0,0]
["Vanities",{"$nulls":3},"Per Sq. Ft.",{"$nulls":3},0,0,0,0,0,0,0,0,0,0,0,0,0,0,0,0,0,0,0,0,0,0,0]
["Faucets",{"$nulls":3},"Per Sq. Ft.",{"$nulls":3},0,0,0,0,0,0,0,0,0,0,0,0,0,0,0,0,0,0,0,0,0,0,0]
["Bathroom Flooring (non cyclical)",{"$nulls":3},"Per Sq. Ft.",{"$nulls":3},0,0,0,0,0,0,0,0,0,0,0,0,0,0,0,0,0,0,0,0,0,0,0]
["Kitchen Cabinets",{"$nulls":3},"Per Sq. Ft.",{"$nulls":3},0,0,0,0,0,0,0,0,0,0,0,0,0,0,0,0,0,0,0,0,0,0,0]
["Ranges",{"$nulls":3},"Per Sq. Ft.",{"$nulls":3},0,0,0,0,0,0,0,0,0,0,0,0,0,0,0,0,0,0,0,0,0,0,0]
["Range Hoods",{"$nulls":3},"Per Sq. Ft.",{"$nulls":3},0,0,{"$f":"ROUNDUP(IF(OR(($D133+$F$6)=K$62,($C133+$D133+$F$6)=K$62,($C133*2+$D133+$F$6)=K$62,($C133*3+$D133+$F$6)=K$62,($C133*4+$D133+$F$6)=K$62,($C133*5+$D133+$F$6)=K$62,($C133*6+$D133+$F$6)=K$62,($C133*7+$D133+$F$6)=K$62,($C133*8+$D133+$F$6)=K$62),$F133*$H133*((1+$J$52)^(K$62-$F$6)),0),-2)","v":0},0,0,0,0,0,0,0,0,0,{"$f":"ROUNDUP(IF(OR(($D133+$F$6)=U$62,($C133+$D133+$F$6)=U$62,($C133*2+$D133+$F$6)=U$62,($C133*3+$D133+$F$6)=U$62,($C133*4+$D133+$F$6)=U$62,($C133*5+$D133+$F$6)=U$62,($C133*6+$D133+$F$6)=U$62,($C133*7+$D133+$F$6)=U$62,($C133*8+$D133+$F$6)=U$62),$F133*$H133*((1+$J$52)^(U$62-$F$6)),0),-2)","v":0},0,0,0,0,0,0,0,0,0,0]
["Refrigerators",{"$nulls":3},"Per Sq. Ft.",{"$nulls":3},0,0,0,0,0,0,0,0,0,0,0,0,0,0,0,0,0,0,0,0,0,0,0]
["Counters and Sinks",{"$nulls":3},"Per Sq. Ft.",{"$nulls":3},0,0,0,0,0,0,0,0,0,0,0,0,0,0,0,0,0,0,0,0,0,0,0]
["Dishwasher",{"$nulls":3},"Per Sq. Ft.",{"$nulls":3},0,0,0,0,0,0,0,0,0,0,0,0,0,0,0,0,0,0,0,0,0,0,0]
["Microwave",{"$nulls":3},"Per Sq. Ft.",{"$nulls":3},0,0,0,0,0,0,0,0,0,0,0,0,0,0,0,0,0,0,0,0,0,0,0]
["Washing Machines",{"$nulls":3},"Per Sq. Ft.",{"$nulls":3},0,0,0,0,0,0,0,0,0,0,0,0,0,0,0,0,0,0,0,0,0,0,0]
["Dryers",{"$nulls":3},"Per Sq. Ft.",{"$nulls":3},0,0,0,0,0,0,0,0,0,0,0,0,0,0,0,0,0,0,0,0,0,0,0]
["Call-for-Aid Systems",{"$nulls":7},0,0,0,0,0,0,0,0,0,0,0,0,0,0,0,0,0,0,0,0,0,0,0]
["Stairs and Handrails",{"$nulls":7},0,0,0,0,0,0,0,0,0,0,0,0,0,0,0,0,0,0,0,0,0,0,0]
["Other (Specify)",{"$nulls":7},0,0,0,0,0,0,0,0,0,0,0,0,0,0,0,0,0,0,0,0,0,0,0]
["Other (Specify)",{"$nulls":7},0,0,0,0,0,0,0,0,0,0,0,0,0,0,0,0,0,0,0,0,0,0,0]
["Unit Interior Subtotals",{"$nulls":7},{"$f":"SUM(I123:I143)","v":0},0,0,0,0,0,0,0,0,0,0,0,0,0,0,0,0,0,0,0,0,0,0]
["(4.13) Mechanical",{"$nulls":12},"Years 1-5",{"$f":"SUM(K161:O161)","v":0},{"$nulls":3},"Years 6-10",{"$f":"SUM(P161:T161)","v":0},{"$nulls":3},"Years 11-15",{"$f":"SUM(U161:Y161)","v":0},{"$nulls":3},"Years 16-20",{"$f":"SUM(Z161:AD161)","v":0}]
["Water Distribution",{"$nulls":3},"Per Sq. Ft.",{"$nulls":3},{"$f":"ROUNDUP(+G146*H146,-2)","v":0},{"$f":"SUM(K146:AD146)","v":0},{"$f":"ROUNDUP(IF(OR(($D146+$F$6)=K$62,($C146+$D146+$F$6)=K$62,($C146*2+$D146+$F$6)=K$62,($C146*3+$D146+$F$6)=K$62,($C146*4+$D146+$F$6)=K$62,($C146*5+$D146+$F$6)=K$62,($C146*6+$D146+$F$6)=K$62,($C146*7+$D146+$F$6)=K$62,($C146*8+$D146+$F$6)=K$62),$F146*$H146*((1+$J$52)^(K$62-$F$6)),0),-2)","v":0},0,0,0,0,0,0,0,0,0,{"$f":"ROUNDUP(IF(OR(($D146+$F$6)=U$62,($C146+$D146+$F$6)=U$62,($C146*2+$D146+$F$6)=U$62,($C146*3+$D146+$F$6)=U$62,($C146*4+$D146+$F$6)=U$62,($C146*5+$D146+$F$6)=U$62,($C146*6+$D146+$F$6)=U$62,($C146*7+$D146+$F$6)=U$62,($C146*8+$D146+$F$6)=U$62),$F146*$H146*((1+$J$52)^(U$62-$F$6)),0),-2)","v":0},0,0,0,0,0,0,0,0,0,{"$f":"SUM(K146:AD146)-J146","v":0}]
["Heating Equipt/System",{"$nulls":3},"Per Sq. Ft.",{"$nulls":3},0,0,0,0,0,0,0,0,0,0,0,0,0,0,0,0,0,0,0,0,0,0,0]
["Electric Disribution",{"$nulls":3},"Per Sq. Ft.",{"$nulls":3},0,0,0,0,0,0,0,0,0,0,0,0,0,0,0,0,0,0,0,0,0,0,0]
["Hot Water Heaters",{"$nulls":3},"Per Sq. Ft.",{"$nulls":3},0,0,0,0,0,0,0,0,0,0,0,0,0,0,0,0,0,0,0,0,0,0,0]
["Unit Sub-panels",{"$nulls":3},"Per Sq. Ft.",{"$nulls":3},0,0,0,0,0,0,0,0,0,0,0,0,0,0,0,0,0,0,0,0,0,0,0]
["Trash Compactor",{"$nulls":3},"Per Sq. Ft.",{"$nulls":3},0,0,0,0,0,0,0,0,0,0,0,0,0,0,0,0,0,0,0,0,0,0,0]
["Cooling Equipt/Systems",{"$nulls":3},"Per Sq. Ft.",{"$nulls":3},0,0,0,0,0,0,0,0,0,0,0,0,0,0,0,0,0,0,0,0,0,0,0]
["Smoke/Fire Detection",{"$nulls":3},"Per Sq. Ft.",{"$nulls":3},0,0,0,0,0,0,0,0,0,0,0,0,0,0,0,0,0,0,0,0,0,0,0]
["Unit Reconfiguration",{"$nulls":3},"Per Sq. Ft.",{"$nulls":3},0,0,0,0,0,0,0,0,0,0,0,0,0,0,0,0,0,0,0,0,0,0,0]
["Security/Fire Alarm",{"$nulls":3},"Per Sq. Ft.",{"$nulls":3},0,0,0,0,0,0,0,0,0,0,0,0,0,0,0,0,0,0,0,0,0,0,0]
["Fire Suspression System",{"$nulls":3},"Per Sq. Ft.",{"$nulls":3},0,0,0,0,0,0,0,0,0,0,0,0,0,0,0,0,0,0,0,0,0,0,0]
["Generator",{"$nulls":3},"Per Sq. Ft.",{"$nulls":3},0,0,0,0,0,0,0,0,0,0,0,0,0,0,0,0,0,0,0,0,0,0,0]
["Elevator",{"$nulls":3},"Per Sq. Ft.",{"$nulls":3},0,0,0,0,0,0,0,0,0,0,0,0,0,0,0,0,0,0,0,0,0,0,0]
["Other (Specify) ",{"$nulls":7},0,0,0,0,0,0,0,0,0,0,0,0,0,0,0,0,0,0,0,0,0,0,0]
["Other (Specify)",{"$nulls":7},0,0,0,0,0,0,0,0,0,0,0,0,0,0,0,0,0,0,0,0,0,0,0]
["Mechanical Subtotals",{"$nulls":7},{"$f":"SUM(I146:I160)","v":0},0,0,0,0,0,0,0,0,0,0,0,0,0,0,0,0,0,0,0,0,0,0]
["(4.14) Other",{"$nulls":12},"Years 1-5",{"$f":"SUM(K170:O170)","v":0},{"$nulls":3},"Years 6-10",{"$f":"SUM(P170:T170)","v":0},{"$nulls":3},"Years 11-15",{"$f":"SUM(U170:Y170)","v":0},{"$nulls":3},"Years 16-20",{"$f":"SUM(Z170:AD170)","v":0}]
["Site Acquisition",{"$nulls":3},"Per Sq. Ft.",{"$nulls":3},{"$f":"ROUNDUP(+G163*H163,-2)","v":0},{"$f":"SUM(K163:AD163)","v":0},{"$f":"ROUNDUP(IF(OR(($D163+$F$6)=K$62,($C163+$D163+$F$6)=K$62,($C163*2+$D163+$F$6)=K$62,($C163*3+$D163+$F$6)=K$62,($C163*4+$D163+$F$6)=K$62,($C163*5+$D163+$F$6)=K$62,($C163*6+$D163+$F$6)=K$62,($C163*7+$D163+$F$6)=K$62,($C163*8+$D163+$F$6)=K$62),$F163*$H163*((1+$J$52)^(K$62-$F$6)),0),-2)","v":0},0,0,0,0,0,0,0,0,0,{"$f":"ROUNDUP(IF(OR(($D163+$F$6)=U$62,($C163+$D163+$F$6)=U$62,($C163*2+$D163+$F$6)=U$62,($C163*3+$D163+$F$6)=U$62,($C163*4+$D163+$F$6)=U$62,($C163*5+$D163+$F$6)=U$62,($C163*6+$D163+$F$6)=U$62,($C163*7+$D163+$F$6)=U$62,($C163*8+$D163+$F$6)=U$62),$F163*$H163*((1+$J$52)^(U$62-$F$6)),0),-2)","v":0},0,0,0,0,0,0,0,0,0,{"$f":"SUM(K163:AD163)-J163","v":0}]
["Other Fees and Costs",{"$nulls":3},"Per Sq. Ft.",{"$nulls":3},0,0,0,0,0,0,0,0,0,0,0,0,0,0,0,0,0,0,0,0,0,0,0]
["Demolition",{"$nulls":3},"Per Sq. Ft.",{"$nulls":3},0,0,0,0,0,0,0,0,0,0,0,0,0,0,0,0,0,0,0,0,0,0,0]
["Dwelling Unit Conversion",{"$nulls":3},"Per Sq. Ft.",{"$nulls":3},0,0,0,0,0,0,0,0,0,0,0,0,0,0,0,0,0,0,0,0,0,0,{"$f":"SUM(K166:AD166)-J166","v":0}]
["Contingency",{"$nulls":3},"Per Sq. Ft.",{"$nulls":3},0,0,{"$f":"ROUNDUP(IF(OR(($D167+$F$6)=K$62,($C167+$D167+$F$6)=K$62,($C167*2+$D167+$F$6)=K$62,($C167*3+$D167+$F$6)=K$62,($C167*4+$D167+$F$6)=K$62,($C167*5+$D167+$F$6)=K$62,($C167*6+$D167+$F$6)=K$62,($C167*7+$D167+$F$6)=K$62,($C167*8+$D167+$F$6)=K$62),$F167*$H167*((1+$J$52)^(K$62-$F$6)),0),-2)","v":0},0,0,0,0,0,0,0,0,0,{"$f":"ROUNDUP(IF(OR(($D167+$F$6)=U$62,($C167+$D167+$F$6)=U$62,($C167*2+$D167+$F$6)=U$62,($C167*3+$D167+$F$6)=U$62,($C167*4+$D167+$F$6)=U$62,($C167*5+$D167+$F$6)=U$62,($C167*6+$D167+$F$6)=U$62,($C167*7+$D167+$F$6)=U$62,($C167*8+$D167+$F$6)=U$62),$F167*$H167*((1+$J$52)^(U$62-$F$6)),0),-2)","v":0},0,0,0,0,0,0,0,0,0,0]
["Other (Specify) ",{"$nulls":7},0,0,0,0,0,0,0,0,0,0,0,0,0,0,0,0,0,0,0,0,0,0,0]
["Other (Specify)",{"$nulls":7},0,0,0,0,0,0,0,0,0,0,0,0,0,0,0,0,0,0,0,0,0,0,0]
["Other Subtotals",{"$nulls":7},{"$f":"SUM(I163:I169)","v":0},0,0,0,0,0,0,0,0,0,0,0,0,0,0,0,0,0,0,0,0,0,0]
["GRAND TOTAL",{"$nulls":7},{"$f":"I170+I161+I144+I82+I98","v":0},{"$f":"J170+J161+J144+J121+J98+J82","v":0},0,0,0,0,0,0,0,0,0,0,0,0,0,0,0,0,0,0,0,0,0]
["(4.15) Special Categories"]
["Amount of PNA Relating to Lead Paint/Asbestos Compliance",{"$nulls":3},"Per Sq. Ft.",{"$nulls":3},{"$f":"ROUNDUP(+G173*H173,-2)","v":0}]
["Amount of PNA Relating to Section 504, ADA, and Fair Housing Act (if applicable) Compliance",{"$nulls":3},"Per Sq. Ft.",{"$nulls":3},{"$f":"ROUNDUP(+G174*H174,-2)","v":0}]
[]
["(4.16) New Construction"]
["Dwelling Units",{"$nulls":3},"Per Sq. Ft.",{"$nulls":3},{"$f":"ROUNDUP(+G177*H177,-2)","v":0}]
["Administrative Building",{"$nulls":3},"Per Sq. Ft.",{"$nulls":3},0]
["Community Building or Facility",{"$nulls":3},"Per Sq. Ft.",{"$nulls":3},0]
["Shop",{"$nulls":3},"Per Sq. Ft.",{"$nulls":3},0]
["Storage Area",{"$nulls":3},"Per Sq. Ft.",{"$nulls":3},0]
["Family Investment Center",{"$nulls":3},"Per Sq. Ft.",{"$nulls":3},0]
["Day Care Center",{"$nulls":3},"Per Sq. Ft.",{"$nulls":3},0]
["Laundry Areas(s)",{"$nulls":3},"Per Sq. Ft.",{"$nulls":3},0]
["Other (Specify) ",{"$nulls":3},"Per Sq. Ft.",{"$nulls":3},0]
["Other (Specify)",{"$nulls":3},"Per Sq. Ft.",{"$nulls":3},0]
["Other (Specify)",{"$nulls":7},0]
["New Construction Subtotals",{"$nulls":7},{"$f":"SUM(I177:I187)","v":0}]

{"sheet":"Tab 3","index":4,"n_rows":188,"n_cols":31,"rows_kept":188,"merged":[[4,2,4,3],[5,2,5,3],[7,0,7,8],[9,1,9,2],[10,1,10,2],[20,3,20,9],[27,0,27,8],[29,8,29,9],[30,8,30,9],[31,8,31,9],[33,6,35,6],[37,4,37,9],[44,0,44,8],[46,0,46,1],[47,0,47,1],[48,0,48,1],[49,0,49,1],[50,0,50,1],[51,0,51,1],[52,0,52,1],[53,0,53,1],[54,0,54,1],[55,0,55,1],[56,0,56,1],[59,0,59,8],[61,0,61,1],[62,0,62,1],[81,0,81,1],[97,0,97,1],[120,0,120,1],[143,0,143,1],[160,0,160,1],[169,0,169,1],[170,0,170,1],[187,0,187,1]]}
["Physical Needs Assessment",{"$nulls":3},"U.S. Department of Housing",{"$nulls":4}," OMB Approval No. 2577-0157"]
["Capital Fund Financing Program/",{"$nulls":3},"and Urban Development",{"$nulls":4}," (exp. 1/31/2017)"]
["Operating Fund Financing Program",{"$nulls":3},"Office of Public and Indian Housing"]
[]
["HA Name",null,"HA Number",null,null,"FY of Assessment",null," Original  ","Date Prepared:"]
[{"$f":"'Tab 1'!A6","v":0},null,{"$f":"'Tab 1'!C6:D6","v":0},{"$nulls":4},"Revision  ","Date Revised:"]
[]
["(1.0) Project Data"]
[]
["(1.1) Management Office Address",{"$nulls":5},"(1.3) Development No.",null,"(1.4) DOFA Date"]
["(1.2) Project Name"]
[{"$nulls":4},"Family"]
[{"$nulls":3},"(1.9)","Elderly",null,null,"(1.10)","S-F Detached"]
["(1.5) Year of Last Substantial Mod",null,null,"Occupancy","Family & Disabled",null,null,"Structure","Semi-Detached"]
["(1.6) Occupancy Rate ",{"$f":"B20/(+B18-B26)","v":{"$error":"#DIV/0!"}},null,"Type(s)","Elderly & Disabled",null,null,"Type(s)","Row or Townhome"]
["        (Rentable Units Only)",null,null,"(Check)","Not Applicable",null,null,"(Check","M-F/Walkup"]
["(1.7) Latest PASS REAC Score",null,null,"all that apply)","Official Designation: Elderly",null,null,"all that","Elevator"]
["Total Units",{"$f":"+B20+B21","v":0},null,null,"Official Designation: Disabled",null,null,"apply)","Non-Dwelling"]
["(1.8) Total Buildings",{"$nulls":3},"Official Designation: Mixed"]
["Occupied Units",{"$f":"SUM(E23:J23)","v":0}]
["Vacant/Rentable Units",{"$f":"SUM(E24:J24)","v":0},null,"(1.11) Bedroom Distribution"]
[{"$nulls":4},"Eff","1BR","2BR","3BR","4BR","5BR+"]
[{"$nulls":3},"(1.11a) Occupied"]
[{"$nulls":3},"(1.11b) Vacant"]
[{"$nulls":3},"Total Units",{"$f":"SUM(E23:E24)","v":0},0,0,0,0,0]
[{"$nulls":3},"Avg Bedrooms per Unit",null,{"$f":"(+E23*1+F23*1+G23*2+H23*3+I23*4+J23*5)/SUM(E23:J23)","v":{"$error":"#DIV/0!"}}]
[]
["(2.0) Physical Needs Assessment Summary Data"]
[]
["(2.1) PNA Conducted By: (PHA/ 3rd Party)",null,"PHA Internally",null,null,"(2.5) Inspector Contact Name: "]
[null,null,"3rd Pary Independent",null,null,"(2.6) Company Name or PHA Title:"]
["(2.2) First Year Covered by PNA",{"$nulls":4},"(2.7) Inspector Contact Phone:"]
["(2.3) Length of PNA (in years)"]
["(2.4) Unit Interiors Inspected (#)",null,{"$f":"SUM(E40:J40)","v":0},{"$nulls":3},"(2.8) Data Source(s) for PNA",null,"Annual Inspections"]
["Units Inspected as % of Total",null,{"$f":"C34/B18","v":{"$error":"#DIV/0!"}},{"$nulls":5},"Contractor"]
["(2.9) Total Residential Buildings",{"$nulls":7},"REAC Inspections"]
["(2.10) Number of Building Exteriors Inspected"]
["(2.11) Total Off-Street Parking Spaces",{"$nulls":3},"(2.14) Units Inspected by Bedroom Size"]
["(2.12) Site Acreage",null,null,"acres","Eff","1BR","2BR","3BR","4BR","5BR+"]
["(2.13) Parking Area (in square feet)",null,null,"SF"]
[]
["(2.15) Physical Improvements Will Result in Structural/System Soundness at a Reasonable Cost",{"$nulls":5},"Yes","No"]
["(2.16) Development Has Long-Term Physical and Social Viability",{"$nulls":5},"Yes","No"]
[]
["(3.0) Total Physical Needs Summary"]
[]
["Major Category",null,"Immediate","Years                       1-5","Years                    6-10","Years                    11-15","Years                   16-20","Total Needs"]
["Site",null,{"$f":"+I82","v":0},{"$f":"$O$63","v":0},{"$f":"$T$63","v":0},{"$f":"$Y$63","v":0},{"$f":"$AD$63","v":0},{"$f":"SUM(C48:G48)","v":0}]
["Common Buildings",null,{"$f":"$I$98","v":0},{"$f":"$O$83","v":0},{"$f":"$T$83","v":0},{"$f":"$Y$83","v":0},{"$f":"$AD$83","v":0},0]
["Unit Exteriors",null,{"$f":"$I$121","v":0},{"$f":"$O$99","v":0},{"$f":"$T$99","v":0},{"$f":"$Y$99","v":0},{"$f":"$AD$99","v":0},0]
["Unit Interiors",null,{"$f":"$I$144","v":0},{"$f":"O122","v":0},{"$f":"T122","v":0},{"$f":"Y122","v":0},{"$f":"AD122","v":0},0]
["Mechanical",null,{"$f":"I161","v":0},{"$f":"O145","v":0},{"$f":"T145","v":0},{"$f":"Y145","v":0},{"$f":"AD145","v":0},0]
["Other",null,{"$f":"I170","v":0},{"$f":"O162","v":0},{"$f":"T162","v":0},{"$f":"Y162","v":0},{"$f":"AD162","v":0},0]
["Totals",null,{"$f":"SUM(C48:C53)","v":0},0,0,0,0,0]
["Amount of PNA relating to Lead Paint/Asbestos",null,{"$f":"I173","v":0},{"$nulls":4},{"$f":"C55","v":0}]
["Amount of PNA relating to Section 504, ADA, and Fair Housing Act (if applicable) Compliance",null,{"$f":"I174","v":0},{"$nulls":4},{"$f":"C56","v":0}]
["New Construction",{"$nulls":6},{"$f":"I188","v":0}]
[{"$nulls":5},"TOTAL PHYSICAL NEEDS",null,{"$f":"H57+H54","v":0}]
[]
["(4.0) Physical Needs Cost Estimate"]
[]
["(4.1) Category",null,"(4.2) Estimated Useful Life","(4.3)                Useful Life Remaining","(4.4)             Method","(4.5)                   Total          Quantity","(4.6)             Current Needs Quantity","(4.7)                Cost per      Quantity","(4.8)         Immediate Repairs Needed","Total Long Term Needs",{"$f":"+F6+1","v":1},{"$f":"1+K62","v":2},{"$f":"1+L62","v":3},{"$f":"1+M62","v":4},{"$f":"1+N62","v":5},{"$f":"1+O62","v":6},7,8,9,10,11,12,13,14,15,16,17,18,19,20]
["(4.9) Site",null,"(in yrs)","(in yrs)",{"$nulls":9},"Years 1-5",{"$f":"SUM(K82:O82)","v":0},{"$nulls":3},"Years 6-10",{"$f":"SUM(P82:T82)","v":0},{"$nulls":3},"Years 11-15",{"$f":"SUM(U82:Y82)","v":0},{"$nulls":3},"Years 16-20",{"$f":"SUM(Z82:AD82)","v":0}]
["Asphalt/Concrete",{"$nulls":3},"Per Sq. Ft.",{"$nulls":3},{"$f":"ROUNDUP(+G64*H64,-2)","v":0},{"$f":"SUM(K64:AD64)","v":0},{"$f":"ROUNDUP(IF(OR(($D64+$F$6)=K$62,($C64+$D64+$F$6)=K$62,($C64*2+$D64+$F$6)=K$62,($C64*3+$D64+$F$6)=K$62,($C64*4+$D64+$F$6)=K$62,($C64*5+$D64+$F$6)=K$62,($C64*6+$D64+$F$6)=K$62,($C64*7+$D64+$F$6)=K$62,($C64*8+$D64+$F$6)=K$62),$F64*$H64*((1+$J$52)^(K$62-$F$6)),0),-2)","v":0},0,0,0,0,0,0,0,0,0,0,0,0,0,0,0,{"$f":"ROUNDUP(IF(OR(($D64+$F$6)=AA$62,($C64+$D64+$F$6)=AA$62,($C64*2+$D64+$F$6)=AA$62,($C64*3+$D64+$F$6)=AA$62,($C64*4+$D64+$F$6)=AA$62,($C64*5+$D64+$F$6)=AA$62,($C64*6+$D64+$F$6)=AA$62,($C64*7+$D64+$F$6)=AA$62,($C64*8+$D64+$F$6)=AA$62),$F64*$H64*((1+$J$52)^(AA$62-$F$6)),0),-2)","v":0},0,0,0,{"$f":"SUM(K64:AD64)-J64","v":0}]
["Seal Coat",{"$nulls":3},"Per Sq. Ft.",{"$nulls":3},{"$f":"ROUNDUP(+G65*H65,-2)","v":0},{"$f":"SUM(K65:AD65)","v":0},0,0,0,0,0,0,0,0,0,0,0,0,0,0,0,0,0,0,0,0,{"$f":"SUM(K65:AD65)-J65","v":0}]
["Striping",{"$nulls":3},"Per Sq. Ft.",{"$nulls":3},{"$f":"ROUNDUP(+G66*H66,-2)","v":0},0,0,0,0,0,0,0,0,0,0,0,0,0,0,0,0,0,0,0,0,0,0]
["Curb & Gutter",{"$nulls":3},"Per Sq. Ft.",{"$nulls":3},0,0,0,0,0,0,0,0,0,0,0,0,0,0,0,0,0,0,0,0,0,0,0]
["Pedestrian paving",{"$nulls":3},"Per Sq. Ft.",{"$nulls":3},0,0,0,0,0,0,0,0,0,0,0,0,0,0,0,0,0,0,0,0,0,0,0]
["Signage",{"$nulls":3},"Per Sq. Ft.",{"$nulls":3},0,0,0,0,0,0,0,0,0,0,0,0,0,0,0,0,0,0,0,0,0,0,0]
["Water Lines/Mains",{"$nulls":3},"Per Sq. Ft.",{"$nulls":3},0,0,0,0,0,0,0,0,0,0,0,0,0,0,0,0,0,0,0,0,0,0,0]
["Sewer Lines/Mains",{"$nulls":3},"Per Sq. Ft.",{"$nulls":3},0,0,0,0,0,0,0,0,0,0,0,0,0,0,0,0,0,0,0,0,0,0,0]
["Lighting",{"$nulls":3},"Per Sq. Ft.",{"$nulls":3},0,0,0,0,0,0,0,0,0,0,0,0,0,0,0,0,0,0,0,0,0,0,0]
["Storm Drainage",{"$nulls":3},"Per Sq. Ft.",{"$nulls":3},0,0,0,0,0,0,0,0,0,0,0,0,0,0,0,0,0,0,0,0,0,0,0]
["Landscape",{"$nulls":3},"Per Sq. Ft.",{"$nulls":3},0,0,0,0,0,0,0,0,0,0,0,0,0,0,0,0,0,0,0,0,0,0,0]
["Fencing",{"$nulls":3},"Per Sq. Ft.",{"$nulls":3},0,0,0,0,0,0,0,0,0,0,0,0,0,0,0,0,0,0,0,0,0,0,0]
["Fence Painting",{"$nulls":3},"Per Sq. Ft.",{"$nulls":3},0,0,0,0,0,0,0,0,0,0,0,0,0,0,0,0,0,0,0,0,0,0,0]
["Dumpsters & Enclosures",{"$nulls":3},"Per Sq. Ft.",{"$nulls":3},0,0,0,0,0,0,0,0,0,0,0,0,0,0,0,0,0,0,0,0,0,0,0]
["Electric Distribution",{"$nulls":3},"Per Sq. Ft.",{"$nulls":3},0,0,0,0,0,0,0,0,0,0,0,0,0,0,0,0,0,0,0,0,0,0,0]
["Playground Areas/Equipment",{"$nulls":3},"Per Sq. Ft.",{"$nulls":3},0,0,0,0,0,0,0,0,0,0,0,0,0,0,0,0,0,0,0,0,0,0,0]
["Other (Specify)",{"$nulls":7},0,{"$f":"SUM(K80:AD80)","v":0},{"$f":"ROUNDUP(IF(OR(($D80+$F$6)=K$62,($C80+$D80+$F$6)=K$62,($C80*2+$D80+$F$6)=K$62,($C80*3+$D80+$F$6)=K$62,($C80*4+$D80+$F$6)=K$62,($C80*5+$D80+$F$6)=K$62,($C80*6+$D80+$F$6)=K$62,($C80*7+$D80+$F$6)=K$62,($C80*8+$D80+$F$6)=K$62),$F80*$H80*((1+$J$52)^(K$62-$F$6)),0),-2)","v":0},0,0,0,0,0,0,0,0,0,{"$f":"ROUNDUP(IF(OR(($D80+$F$6)=U$62,($C80+$D80+$F$6)=U$62,($C80*2+$D80+$F$6)=U$62,($C80*3+$D80+$F$6)=U$62,($C80*4+$D80+$F$6)=U$62,($C80*5+$D80+$F$6)=U$62,($C80*6+$D80+$F$6)=U$62,($C80*7+$D80+$F$6)=U$62,($C80*8+$D80+$F$6)=U$62),$F80*$H80*((1+$J$52)^(U$62-$F$6)),0),-2)","v":0},0,0,0,0,0,0,0,0,0,0]
["Other (Specify)",{"$nulls":7},0,{"$f":"SUM(K81:AD81)","v":0},0,0,0,0,0,0,0,0,0,0,0,0,0,0,0,0,0,0,0,0,0]
["Site Subtotals",{"$nulls":7},{"$f":"SUM(I64:I81)","v":0},{"$f":"SUM(J64:J81)","v":0},{"$f":"SUM(K64:K81)","v":0},0,0,0,0,0,0,0,0,0,0,0,0,0,0,0,0,0,0,0,0]
["(4.10) Common Buildings--Rehab Only",{"$nulls":12},"Years 1-5",{"$f":"SUM(K98:O98)","v":0},{"$nulls":3},"Years 6-10",{"$f":"SUM(P98:T98)","v":0},{"$nulls":3},"Years 11-15",{"$f":"SUM(T98:X98)","v":0},{"$nulls":3},"Years 16-20",{"$f":"SUM(Y98:AC98)","v":0}]
["Administrative Building",{"$nulls":3},"Other",{"$nulls":3},{"$f":"ROUNDUP(+G84*H84,-2)","v":0},{"$f":"SUM(K84:AD84)","v":0},{"$f":"ROUNDUP(IF(OR(($D84+$F$6)=K$62,($C84+$D84+$F$6)=K$62,($C84*2+$D84+$F$6)=K$62,($C84*3+$D84+$F$6)=K$62,($C84*4+$D84+$F$6)=K$62,($C84*5+$D84+$F$6)=K$62,($C84*6+$D84+$F$6)=K$62,($C84*7+$D84+$F$6)=K$62,($C84*8+$D84+$F$6)=K$62),$F84*$H84*((1+$J$52)^(K$62-$F$6)),0),-2)","v":0},0,0,0,0,0,0,0,0,0,0,0,0,0,0,0,{"$f":"ROUNDUP(IF(OR(($D84+$F$6)=AA$62,($C84+$D84+$F$6)=AA$62,($C84*2+$D84+$F$6)=AA$62,($C84*3+$D84+$F$6)=AA$62,($C84*4+$D84+$F$6)=AA$62,($C84*5+$D84+$F$6)=AA$62,($C84*6+$D84+$F$6)=AA$62,($C84*7+$D84+$F$6)=AA$62,($C84*8+$D84+$F$6)=AA$62),$F84*$H84*((1+$J$52)^(AA$62-$F$6)),0),-2)","v":0},0,0,0,0]
["Community Building",{"$nulls":3},"Other",{"$nulls":3},0,0,0,0,0,0,0,0,0,0,0,0,0,0,0,0,0,0,0,0,0,0,0]
["Shop",{"$nulls":3},"Other",{"$nulls":3},0,0,0,0,0,0,0,0,0,0,0,0,0,0,0,0,0,0,0,0,0,0,0]
["Storage Area",{"$nulls":3},"Other",{"$nulls":3},0,0,0,0,0,0,0,0,0,0,0,0,0,0,0,0,0,0,0,0,0,0,0]
["Central Boiler",{"$nulls":3},"Other",{"$nulls":3},0,0,0,0,0,0,0,0,0,0,0,0,0,0,0,0,0,0,0,0,0,0,0]
["Central Chiller",{"$nulls":3},"Other",{"$nulls":3},0,0,0,0,0,0,0,0,0,0,0,0,0,0,0,0,0,0,0,0,0,0,0]
["Family Invesment Center",{"$nulls":3},"Other",{"$nulls":3},0,0,0,0,0,0,0,0,0,0,0,0,0,0,0,0,0,0,0,0,0,0,0]
["Day Care Center",{"$nulls":3},"Other",{"$nulls":3},0,0,0,0,0,0,0,0,0,0,0,0,0,0,0,0,0,0,0,0,0,0,0]
["Laundry Areas",{"$nulls":3},"Other",{"$nulls":3},0,0,0,0,0,0,0,0,0,0,0,0,0,0,0,0,0,0,0,0,0,0,0]
["Common Area Washers",{"$nulls":3},"Other",{"$nulls":3},0,0,0,0,0,0,0,0,0,0,0,0,0,0,0,0,0,0,0,0,0,0,0]
["Common Area Dryers",{"$nulls":3},"Other",{"$nulls":3},0,0,0,0,0,0,0,0,0,0,0,0,0,0,0,0,0,0,0,0,0,0,0]
["Common Area Finishes",{"$nulls":3},"Other",{"$nulls":3},0,0,0,0,0,0,0,0,0,0,0,0,0,0,0,0,0,0,0,0,0,0,0]
["Other (Specify)",{"$nulls":3},"Other",{"$nulls":3},0,0,0,0,0,0,0,0,0,0,0,0,0,0,0,0,0,0,0,0,0,0,0]
["Other (Specify)",{"$nulls":7},0,0,0,0,0,0,0,0,0,0,0,0,0,0,0,0,0,0,0,0,0,0,0]
["Common Subtotals",{"$nulls":7},{"$f":"SUM(I84:I97)","v":0},0,0,0,0,0,0,{"$f":"SUM(P84:P97)","v":0},0,0,0,0,0,0,0,0,0,0,0,0,0,0,0]
["(4.11) Unit Exteriors",{"$nulls":12},"Years 1-5",{"$f":"SUM(K121:O121)","v":0},{"$nulls":3},"Years 6-10",{"$f":"SUM(P121:T121)","v":0},{"$nulls":3},"Years 11-15",{"$f":"SUM(U121:Y121)","v":0},{"$nulls":3},"Years 16-20",{"$f":"SUM(Z121:AD121)","v":0}]
["Carports/Surface Garage",{"$nulls":3},"Other",{"$nulls":3},{"$f":"ROUNDUP(+G100*H100,-2)","v":0},{"$f":"SUM(K100:AD100)","v":0},{"$f":"ROUNDUP(IF(OR(($D100+$F$6)=K$62,($C100+$D100+$F$6)=K$62,($C100*2+$D100+$F$6)=K$62,($C100*3+$D100+$F$6)=K$62,($C100*4+$D100+$F$6)=K$62,($C100*5+$D100+$F$6)=K$62,($C100*6+$D100+$F$6)=K$62,($C100*7+$D100+$F$6)=K$62,($C100*8+$D100+$F$6)=K$62),$F100*$H100*((1+$J$52)^(K$62-$F$6)),0),-2)","v":0},0,0,0,0,0,0,0,0,0,0,0,0,0,0,0,{"$f":"ROUNDUP(IF(OR(($D100+$F$6)=AA$62,($C100+$D100+$F$6)=AA$62,($C100*2+$D100+$F$6)=AA$62,($C100*3+$D100+$F$6)=AA$62,($C100*4+$D100+$F$6)=AA$62,($C100*5+$D100+$F$6)=AA$62,($C100*6+$D100+$F$6)=AA$62,($C100*7+$D100+$F$6)=AA$62,($C100*8+$D100+$F$6)=AA$62),$F100*$H100*((1+$J$52)^(AA$62-$F$6)),0),-2)","v":0},0,0,0,0]
["Foundation",{"$nulls":3},"Other",{"$nulls":3},0,0,0,0,0,0,0,0,0,0,0,0,0,0,0,0,0,0,0,0,0,0,0]
["Building Slab",{"$nulls":3},"Other",{"$nulls":3},0,0,0,0,0,0,0,0,0,0,0,0,0,0,0,0,0,0,0,0,0,0,0]
["Roofs",{"$nulls":3},"Other",{"$nulls":3},0,0,0,0,0,0,0,0,0,0,0,0,0,0,0,0,0,0,0,0,0,0,0]
["Canopies",{"$nulls":3},"Other",{"$nulls":3},0,0,0,0,0,0,0,0,0,0,0,0,0,0,0,0,0,0,0,0,0,0,0]
["Tuck-Pointing",{"$nulls":3},"Other",{"$nulls":3},0,0,0,0,0,0,0,0,0,0,0,0,0,0,0,0,0,0,0,0,0,0,0]
["Exterior Paint & Caulking",{"$nulls":3},"Other",{"$nulls":3},0,0,0,0,0,0,0,0,0,0,0,0,0,0,0,0,0,0,0,0,0,0,0]
["Soffits",{"$nulls":3},"Other",{"$nulls":3},0,0,0,0,0,0,0,0,0,0,0,0,0,0,0,0,0,0,0,0,0,0,0]
["Siding",{"$nulls":3},"Other",{"$nulls":3},0,0,0,0,0,0,0,0,0,0,0,0,0,0,0,0,0,0,0,0,0,0,0]
["Exterior Stairwells/Fire Escapes",{"$nulls":3},"Other",{"$nulls":3},0,0,0,0,0,0,0,0,0,0,0,0,0,0,0,0,0,0,0,0,0,0,0]
["Landings & Railings",{"$nulls":3},"Other",{"$nulls":3},0,0,0,0,0,0,0,0,0,0,0,0,0,0,0,0,0,0,0,0,0,0,0]
["Balconies & Railings",{"$nulls":3},"Other",{"$nulls":3},0,0,0,0,0,0,0,0,0,0,0,0,0,0,0,0,0,0,0,0,0,0,0]
["Mail Facilities",{"$nulls":3},"Other",{"$nulls":3},0,0,0,0,0,0,0,0,0,0,0,0,0,0,0,0,0,0,0,0,0,0,0]
["Exterior Doors",{"$nulls":3},"Other",{"$nulls":3},0,0,0,0,0,0,0,0,0,0,0,0,0,0,0,0,0,0,0,0,0,0,0]
["Windows",{"$nulls":3},"Other",{"$nulls":3},0,0,0,0,0,0,0,0,0,0,0,0,0,0,0,0,0,0,0,0,0,0,0]
["Gutters/Downspouts",{"$nulls":3},"Other",{"$nulls":3},0,0,0,0,0,0,0,0,0,0,0,0,0,0,0,0,0,0,0,0,0,0,0]
["Columns & Porches",{"$nulls":3},"Other",{"$nulls":3},0,0,{"$f":"ROUNDUP(IF(OR(($D116+$F$6)=K$62,($C116+$D116+$F$6)=K$62,($C116*2+$D116+$F$6)=K$62,($C116*3+$D116+$F$6)=K$62,($C116*4+$D116+$F$6)=K$62,($C116*5+$D116+$F$6)=K$62,($C116*6+$D116+$F$6)=K$62,($C116*7+$D116+$F$6)=K$62,($C116*8+$D116+$F$6)=K$62),$F116*$H116*((1+$J$52)^(K$62-$F$6)),0),-2)","v":0},0,0,0,0,0,0,0,0,0,{"$f":"ROUNDUP(IF(OR(($D116+$F$6)=U$62,($C116+$D116+$F$6)=U$62,($C116*2+$D116+$F$6)=U$62,($C116*3+$D116+$F$6)=U$62,($C116*4+$D116+$F$6)=U$62,($C116*5+$D116+$F$6)=U$62,($C116*6+$D116+$F$6)=U$62,($C116*7+$D116+$F$6)=U$62,($C116*8+$D116+$F$6)=U$62),$F116*$H116*((1+$J$52)^(U$62-$F$6)),0),-2)","v":0},0,0,0,0,0,0,0,0,0,0]
["Decks & Patios",{"$nulls":3},"Other",{"$nulls":3},0,0,0,0,0,0,0,0,0,0,0,0,0,0,0,0,0,0,0,0,0,0,0]
["Exterior Lighting",{"$nulls":3},"Other",{"$nulls":3},{"$f":"ROUNDUP(+G118*H118,-2)","v":0},{"$f":"SUM(K118:AD118)","v":0},0,0,0,0,0,0,0,0,0,0,0,0,0,0,0,0,0,0,0,0,{"$f":"SUM(K118:AD118)-J118","v":0}]
["Other (Specify)",{"$nulls":7},{"$f":"ROUNDUP(+G119*H119,-2)","v":0},{"$f":"SUM(K119:AD119)","v":0},0,0,0,0,0,0,0,0,0,0,0,0,0,0,0,0,0,0,0,0,0]
["Other (Specify)",{"$nulls":7},{"$f":"ROUNDUP(+G120*H120,-2)","v":0},{"$f":"SUM(K120:AD120)","v":0},0,0,0,0,0,0,0,0,0,0,0,0,0,0,0,0,0,0,0,0,0]
["Unit Exterior Subtotals",{"$nulls":7},{"$f":"SUM(I100:I120)","v":0},{"$f":"SUM(J100:J120)","v":0},{"$f":"SUM(K100:K120)","v":0},{"$f":"SUM(L100:L120)","v":0},0,0,0,0,0,0,0,0,0,0,0,0,0,0,0,0,0,0,0]
["(4.12) Unit Interiors",{"$nulls":12},"Years 1-5",{"$f":"SUM(K144:O144)","v":0},{"$nulls":3},"Years 6-10",{"$f":"SUM(P144:T144)","v":0},{"$nulls":3},"Years 11-15",{"$f":"SUM(U144:Y144)","v":0},{"$nulls":3},"Years 16-20",{"$f":"SUM(Z144:AD144)","v":0}]
["Interior Painting (non routine)",{"$nulls":3},"Other",{"$nulls":3},{"$f":"ROUNDUP(+G123*H123,-2)","v":0},{"$f":"SUM(K123:AD123)","v":0},{"$f":"ROUNDUP(IF(OR(($D123+$F$6)=K$62,($C123+$D123+$F$6)=K$62,($C123*2+$D123+$F$6)=K$62,($C123*3+$D123+$F$6)=K$62,($C123*4+$D123+$F$6)=K$62,($C123*5+$D123+$F$6)=K$62,($C123*6+$D123+$F$6)=K$62,($C123*7+$D123+$F$6)=K$62,($C123*8+$D123+$F$6)=K$62),$F123*$H123*((1+$J$52)^(K$62-$F$6)),0),-2)","v":0},0,0,0,0,0,0,0,0,0,0,0,0,0,0,0,{"$f":"ROUNDUP(IF(OR(($D123+$F$6)=AA$62,($C123+$D123+$F$6)=AA$62,($C123*2+$D123+$F$6)=AA$62,($C123*3+$D123+$F$6)=AA$62,($C123*4+$D123+$F$6)=AA$62,($C123*5+$D123+$F$6)=AA$62,($C123*6+$D123+$F$6)=AA$62,($C123*7+$D123+$F$6)=AA$62,($C123*8+$D123+$F$6)=AA$62),$F123*$H123*((1+$J$52)^(AA$62-$F$6)),0),-2)","v":0},0,0,0,0]
["Interior Doors",{"$nulls":3},"Other",{"$nulls":3},0,0,0,0,0,0,0,0,0,0,0,0,0,0,0,0,0,0,0,0,0,0,0]
["Flooring (non routine)",{"$nulls":3},"Other",{"$nulls":3},0,0,0,0,0,0,0,0,0,0,0,0,0,0,0,0,0,0,0,0,0,0,0]
["Shower/Tub Surrounds",{"$nulls":3},"Other",{"$nulls":3},0,0,0,0,0,0,0,0,0,0,0,0,0,0,0,0,0,0,0,0,0,0,0]
["Commodes",{"$nulls":3},"Other",{"$nulls":3},0,0,0,0,0,0,0,0,0,0,0,0,0,0,0,0,0,0,0,0,0,0,0]
["Vanities",{"$nulls":3},"Other",{"$nulls":3},0,0,0,0,0,0,0,0,0,0,0,0,0,0,0,0,0,0,0,0,0,0,0]
["Faucets",{"$nulls":3},"Other",{"$nulls":3},{"$f":"ROUNDUP(+G129*H129,-2)","v":0},{"$f":"SUM(K129:AD129)","v":0},0,0,0,0,0,0,0,0,0,0,0,0,0,0,0,0,0,0,0,0,{"$f":"SUM(K129:AD129)-J129","v":0}]
["Bathroom Flooring (non cyclical)",{"$nulls":3},"Other",{"$nulls":3},0,0,0,0,0,0,0,0,0,0,0,0,0,0,0,0,0,0,0,0,0,0,{"$f":"SUM(K130:AD130)-J130","v":0}]
["Kitchen Cabinets",{"$nulls":3},"Other",{"$nulls":3},0,0,0,0,0,0,0,0,0,0,0,0,0,0,0,0,0,0,0,0,0,0,0]
["Ranges",{"$nulls":3},"Other",{"$nulls":3},0,0,0,0,0,0,0,0,0,0,0,0,0,0,0,0,0,0,0,0,0,0,0]
["Range Hoods",{"$nulls":3},"Other",{"$nulls":3},0,0,0,0,0,0,0,0,0,0,0,0,0,0,0,0,0,0,0,0,0,0,0]
["Refrigerators",{"$nulls":3},"Other",{"$nulls":3},0,0,0,0,0,0,0,0,0,0,0,0,0,0,0,0,0,0,0,0,0,0,0]
["Counters and Sinks",{"$nulls":3},"Other",{"$nulls":3},0,0,0,0,0,0,0,0,0,0,0,0,0,0,0,0,0,0,0,0,0,0,0]
["Dishwasher",{"$nulls":3},"Other",{"$nulls":3},0,0,0,0,0,0,0,0,0,0,0,0,0,0,0,0,0,0,0,0,0,0,0]
["Microwave",{"$nulls":3},"Other",{"$nulls":3},0,0,0,0,0,0,0,0,0,0,0,0,0,0,0,0,0,0,0,0,0,0,0]
["Washing Machines",{"$nulls":3},"Other",{"$nulls":3},0,0,0,0,0,0,0,0,0,0,0,0,0,0,0,0,0,0,0,0,0,0,0]
["Dryers",{"$nulls":3},"Other",{"$nulls":3},0,0,{"$f":"ROUNDUP(IF(OR(($D139+$F$6)=K$62,($C139+$D139+$F$6)=K$62,($C139*2+$D139+$F$6)=K$62,($C139*3+$D139+$F$6)=K$62,($C139*4+$D139+$F$6)=K$62,($C139*5+$D139+$F$6)=K$62,($C139*6+$D139+$F$6)=K$62,($C139*7+$D139+$F$6)=K$62,($C139*8+$D139+$F$6)=K$62),$F139*$H139*((1+$J$52)^(K$62-$F$6)),0),-2)","v":0},0,0,0,0,0,0,0,0,0,{"$f":"ROUNDUP(IF(OR(($D139+$F$6)=U$62,($C139+$D139+$F$6)=U$62,($C139*2+$D139+$F$6)=U$62,($C139*3+$D139+$F$6)=U$62,($C139*4+$D139+$F$6)=U$62,($C139*5+$D139+$F$6)=U$62,($C139*6+$D139+$F$6)=U$62,($C139*7+$D139+$F$6)=U$62,($C139*8+$D139+$F$6)=U$62),$F139*$H139*((1+$J$52)^(U$62-$F$6)),0),-2)","v":0},0,0,0,0,0,0,0,0,0,0]
["Call-for-Aid Systems",{"$nulls":3},"Other",{"$nulls":3},{"$f":"ROUNDUP(+G140*H140,-2)","v":0},{"$f":"SUM(K140:AD140)","v":0},0,0,0,0,0,0,0,0,0,0,0,0,0,0,0,0,0,0,0,0,{"$f":"SUM(K140:AD140)-J140","v":0}]
["Stairs and Handrails",{"$nulls":7},0,0,0,0,0,0,0,0,0,0,0,0,0,0,0,0,0,0,0,0,0,0,0]
["Other (Specify)",{"$nulls":7},0,0,{"$f":"ROUNDUP(IF(OR(($D142+$F$6)=K$62,($C142+$D142+$F$6)=K$62,($C142*2+$D142+$F$6)=K$62,($C142*3+$D142+$F$6)=K$62,($C142*4+$D142+$F$6)=K$62,($C142*5+$D142+$F$6)=K$62,($C142*6+$D142+$F$6)=K$62,($C142*7+$D142+$F$6)=K$62,($C142*8+$D142+$F$6)=K$62),$F142*$H142*((1+$J$52)^(K$62-$F$6)),0),-2)","v":0},0,0,0,0,0,0,0,0,0,{"$f":"ROUNDUP(IF(OR(($D142+$F$6)=U$62,($C142+$D142+$F$6)=U$62,($C142*2+$D142+$F$6)=U$62,($C142*3+$D142+$F$6)=U$62,($C142*4+$D142+$F$6)=U$62,($C142*5+$D142+$F$6)=U$62,($C142*6+$D142+$F$6)=U$62,($C142*7+$D142+$F$6)=U$62,($C142*8+$D142+$F$6)=U$62),$F142*$H142*((1+$J$52)^(U$62-$F$6)),0),-2)","v":0},0,0,0,0,0,0,0,0,0,0]
["Other (Specify)",{"$nulls":7},{"$f":"ROUNDUP(+G143*H143,-2)","v":0},{"$f":"SUM(K143:AD143)","v":0},0,0,0,0,0,0,0,0,0,0,0,0,0,0,0,0,0,0,0,0,0]
["Unit Interior Subtotals",{"$nulls":7},{"$f":"SUM(I123:I143)","v":0},{"$f":"SUM(J123:J143)","v":0},{"$f":"SUM(K123:K143)","v":0},0,0,0,0,0,0,0,0,0,0,0,0,0,0,0,0,0,0,0,0]
["(4.13) Mechanical",{"$nulls":12},"Years 1-5",{"$f":"SUM(K161:O161)","v":0},{"$nulls":3},"Years 6-10",{"$f":"SUM(P161:T161)","v":0},{"$nulls":3},"Years 11-15",{"$f":"SUM(U161:Y161)","v":0},{"$nulls":3},"Years 16-20",{"$f":"SUM(Z161:AD161)","v":0}]
["Water Distribution",{"$nulls":3},"Other",{"$nulls":3},{"$f":"ROUNDUP(+G146*H146,-2)","v":0},{"$f":"SUM(K146:AD146)","v":0},{"$f":"ROUNDUP(IF(OR(($D146+$F$6)=K$62,($C146+$D146+$F$6)=K$62,($C146*2+$D146+$F$6)=K$62,($C146*3+$D146+$F$6)=K$62,($C146*4+$D146+$F$6)=K$62,($C146*5+$D146+$F$6)=K$62,($C146*6+$D146+$F$6)=K$62,($C146*7+$D146+$F$6)=K$62,($C146*8+$D146+$F$6)=K$62),$F146*$H146*((1+$J$52)^(K$62-$F$6)),0),-2)","v":0},0,0,0,0,0,0,0,0,0,0,0,0,0,0,0,{"$f":"ROUNDUP(IF(OR(($D146+$F$6)=AA$62,($C146+$D146+$F$6)=AA$62,($C146*2+$D146+$F$6)=AA$62,($C146*3+$D146+$F$6)=AA$62,($C146*4+$D146+$F$6)=AA$62,($C146*5+$D146+$F$6)=AA$62,($C146*6+$D146+$F$6)=AA$62,($C146*7+$D146+$F$6)=AA$62,($C146*8+$D146+$F$6)=AA$62),$F146*$H146*((1+$J$52)^(AA$62-$F$6)),0),-2)","v":0},0,0,0,0]
["Heating Equipt/System",{"$nulls":3},"Other",{"$nulls":3},0,0,0,0,0,0,0,0,0,0,0,0,0,0,0,0,0,0,0,0,0,0,0]
["Electric Disribution",{"$nulls":3},"Other",{"$nulls":3},0,0,0,0,0,0,0,0,0,0,0,0,0,0,0,0,0,0,0,0,0,0,0]
["Hot Water Heaters",{"$nulls":3},"Other",{"$nulls":3},0,0,0,0,0,0,0,0,0,0,0,0,0,0,0,0,0,0,0,0,0,0,0]
["Unit Sub-panels",{"$nulls":3},"Other",{"$nulls":3},0,0,0,0,0,0,0,0,0,0,0,0,0,0,0,0,0,0,0,0,0,0,0]
["Trash Compactor",{"$nulls":3},"Other",{"$nulls":3},0,0,0,0,0,0,0,0,0,0,0,0,0,0,0,0,0,0,0,0,0,0,0]
["Cooling Equipt/Systems",{"$nulls":3},"Other",{"$nulls":3},0,0,0,0,0,0,0,0,0,0,0,0,0,0,0,0,0,0,0,0,0,0,0]
["Smoke/Fire Detection",{"$nulls":3},"Other",{"$nulls":3},0,0,0,0,0,0,0,0,0,0,0,0,0,0,0,0,0,0,0,0,0,0,0]
["Unit Reconfiguration",{"$nulls":3},"Other",{"$nulls":3},0,0,0,0,0,0,0,0,0,0,0,0,0,0,0,0,0,0,0,0,0,0,0]
["Security/Fire Alarm",{"$nulls":3},"Other",{"$nulls":3},0,0,0,0,0,0,0,0,0,0,0,0,0,0,0,0,0,0,0,0,0,0,0]
["Fire Suspression System",{"$nulls":3},"Other",{"$nulls":3},0,0,0,0,0,0,0,0,0,0,0,0,0,0,0,0,0,0,0,0,0,0,0]
["Generator",{"$nulls":3},"Other",{"$nulls":3},0,0,0,0,0,0,0,0,0,0,0,0,0,0,0,0,0,0,0,0,0,0,0]
["Elevator",{"$nulls":3},"Other",{"$nulls":3},0,0,0,0,0,0,0,0,0,0,0,0,0,0,0,0,0,0,0,0,0,0,0]
["Other (Specify) ",{"$nulls":3},"Other",{"$nulls":3},{"$f":"ROUNDUP(+G159*H159,-2)","v":0},0,0,0,0,0,0,0,0,0,0,0,0,0,0,0,0,0,0,0,0,0,0]
["Other (Specify)",{"$nulls":7},{"$f":"ROUNDUP(+G160*H160,-2)","v":0},0,0,0,0,0,0,0,0,0,0,0,0,0,0,0,0,0,0,0,0,0,0]
["Mechanical Subtotals",{"$nulls":7},{"$f":"SUM(I146:I160)","v":0},{"$f":"SUM(J146:J160)","v":0},{"$f":"SUM(K146:K160)","v":0},0,0,0,0,0,0,0,0,0,0,0,0,0,0,0,0,0,0,0,0]
["(4.14) Other",{"$nulls":12},"Years 1-5",{"$f":"SUM(K170:O170)","v":0},{"$nulls":3},"Years 6-10",{"$f":"SUM(P170:T170)","v":0},{"$nulls":3},"Years 11-15",{"$f":"SUM(U170:Y170)","v":0},{"$nulls":3},"Years 16-20",{"$f":"SUM(Z170:AD170)","v":0}]
["Site Acquisition",{"$nulls":3},"Other",{"$nulls":3},{"$f":"ROUNDUP(+G163*H163,-2)","v":0},{"$f":"SUM(K163:AD163)","v":0},{"$f":"ROUNDUP(IF(OR(($D163+$F$6)=K$62,($C163+$D163+$F$6)=K$62,($C163*2+$D163+$F$6)=K$62,($C163*3+$D163+$F$6)=K$62,($C163*4+$D163+$F$6)=K$62,($C163*5+$D163+$F$6)=K$62,($C163*6+$D163+$F$6)=K$62,($C163*7+$D163+$F$6)=K$62,($C163*8+$D163+$F$6)=K$62),$F163*$H163*((1+$J$52)^(K$62-$F$6)),0),-2)","v":0},0,0,0,0,0,0,0,0,0,0,0,0,0,0,0,{"$f":"ROUNDUP(IF(OR(($D163+$F$6)=AA$62,($C163+$D163+$F$6)=AA$62,($C163*2+$D163+$F$6)=AA$62,($C163*3+$D163+$F$6)=AA$62,($C163*4+$D163+$F$6)=AA$62,($C163*5+$D163+$F$6)=AA$62,($C163*6+$D163+$F$6)=AA$62,($C163*7+$D163+$F$6)=AA$62,($C163*8+$D163+$F$6)=AA$62),$F163*$H163*((1+$J$52)^(AA$62-$F$6)),0),-2)","v":0},0,0,0,0]
["Other Fees and Costs",{"$nulls":3},"Other",{"$nulls":3},0,0,0,0,0,0,0,0,0,0,0,0,0,0,0,0,0,0,0,0,0,0,0]
["Demolition",{"$nulls":3},"Other",{"$nulls":3},0,0,0,0,0,0,0,0,0,0,0,0,0,0,0,0,0,0,0,0,0,0,0]
["Dwelling Unit Conversion",{"$nulls":3},"Other",{"$nulls":3},0,0,0,0,0,0,0,0,0,0,0,0,0,0,0,0,0,0,0,0,0,0,{"$f":"SUM(K166:AD166)-J166","v":0}]
["Contingency",{"$nulls":3},"Other",{"$nulls":3},0,0,{"$f":"ROUNDUP(IF(OR(($D167+$F$6)=K$62,($C167+$D167+$F$6)=K$62,($C167*2+$D167+$F$6)=K$62,($C167*3+$D167+$F$6)=K$62,($C167*4+$D167+$F$6)=K$62,($C167*5+$D167+$F$6)=K$62,($C167*6+$D167+$F$6)=K$62,($C167*7+$D167+$F$6)=K$62,($C167*8+$D167+$F$6)=K$62),$F167*$H167*((1+$J$52)^(K$62-$F$6)),0),-2)","v":0},0,0,0,0,0,0,0,0,0,0,0,0,0,0,0,{"$f":"ROUNDUP(IF(OR(($D167+$F$6)=AA$62,($C167+$D167+$F$6)=AA$62,($C167*2+$D167+$F$6)=AA$62,($C167*3+$D167+$F$6)=AA$62,($C167*4+$D167+$F$6)=AA$62,($C167*5+$D167+$F$6)=AA$62,($C167*6+$D167+$F$6)=AA$62,($C167*7+$D167+$F$6)=AA$62,($C167*8+$D167+$F$6)=AA$62),$F167*$H167*((1+$J$52)^(AA$62-$F$6)),0),-2)","v":0},0,0,0,0]
["Other (Specify) ",{"$nulls":7},0,0,0,0,0,0,0,0,0,0,0,0,0,0,0,0,0,0,0,0,0,0,0]
["Other (Specify)",{"$nulls":7},0,0,0,0,0,0,0,0,0,0,0,0,0,0,0,0,0,0,0,0,0,0,0]
["Other Subtotals",{"$nulls":7},{"$f":"SUM(I163:I169)","v":0},{"$f":"SUM(J163:J169)","v":0},{"$f":"SUM(K163:K169)","v":0},{"$f":"SUM(L163:L169)","v":0},0,0,0,0,0,0,0,0,0,0,0,0,0,0,0,0,0,0,0]
["GRAND TOTAL",{"$nulls":7},{"$f":"I170+I161+I144+I82+I98","v":0},{"$f":"J170+J161+J144+J121+J98+J82","v":0},0,0,0,0,0,0,0,0,0,0,0,0,0,0,0,0,0,0,0,0,0]
["(4.15) Special Categories"]
["Amount of PNA Relating to Lead Paint/Asbestos Compliance",{"$nulls":3},"Other",{"$nulls":3},{"$f":"ROUNDUP(+G173*H173,-2)","v":0}]
["Amount of PNA Relating to Section 504, ADA, and Fair Housing Act (if applicable) Compliance",{"$nulls":3},"Other",{"$nulls":3},{"$f":"ROUNDUP(+G174*H174,-2)","v":0}]
[]
["(4.16) New Construction"]
["Dwelling Units",{"$nulls":3},"Other",{"$nulls":3},{"$f":"ROUNDUP(+G177*H177,-2)","v":0}]
["Administrative Building",{"$nulls":3},"Other",{"$nulls":3},0]
["Community Building or Facility",{"$nulls":3},"Other",{"$nulls":3},0]
["Shop",{"$nulls":3},"Other",{"$nulls":3},0]
["Storage Area",{"$nulls":3},"Other",{"$nulls":3},0]
["Family Investment Center",{"$nulls":3},"Other",{"$nulls":3},0]
["Day Care Center",{"$nulls":3},"Other",{"$nulls":3},0]
["Laundry Areas(s)",{"$nulls":3},"Other",{"$nulls":3},0]
["Other (Specify) ",{"$nulls":3},"Other",{"$nulls":3},0]
["Other (Specify)",{"$nulls":3},"Other",{"$nulls":3},0]
["Other (Specify)",{"$nulls":7},0]
["New Construction Subtotals",{"$nulls":7},{"$f":"SUM(I177:I187)","v":0}]

{"sheet":"Tab 4","index":5,"n_rows":188,"n_cols":31,"rows_kept":188,"merged":[[4,2,4,3],[5,2,5,3],[7,0,7,8],[9,1,9,2],[10,1,10,2],[20,3,20,9],[27,0,27,8],[29,8,29,9],[30,8,30,9],[31,8,31,9],[33,6,35,6],[37,4,37,9],[44,0,44,8],[46,0,46,1],[47,0,47,1],[48,0,48,1],[49,0,49,1],[50,0,50,1],[51,0,51,1],[52,0,52,1],[53,0,53,1],[54,0,54,1],[55,0,55,1],[56,0,56,1],[59,0,59,8],[61,0,61,1],[62,0,62,1],[81,0,81,1],[97,0,97,1],[120,0,120,1],[143,0,143,1],[160,0,160,1],[169,0,169,1],[170,0,170,1],[187,0,187,1]]}
["Physical Needs Assessment",{"$nulls":3},"U.S. Department of Housing",{"$nulls":4}," OMB Approval No. 2577-0157"]
["Capital Fund Financing Program/",{"$nulls":3},"and Urban Development",{"$nulls":4}," (exp. 1/31/2017)"]
["Operating Fund Financing Program",{"$nulls":3},"Office of Public and Indian Housing"]
[]
["HA Name",null,"HA Number",null,null,"FY of Assessment",null," Original  ","Date Prepared:"]
[{"$f":"'Tab 1'!A6","v":0},null,{"$f":"'Tab 1'!C6:D6","v":0},{"$nulls":4},"Revision  ","Date Revised:"]
[]
["(1.0) Project Data"]
[]
["(1.1) Management Office Address",{"$nulls":5},"(1.3) Development No.",null,"(1.4) DOFA Date"]
["(1.2) Project Name"]
[{"$nulls":4},"Family"]
[{"$nulls":3},"(1.9)","Elderly",null,null,"(1.10)","S-F Detached"]
["(1.5) Year of Last Substantial Mod",null,null,"Occupancy","Family & Disabled",null,null,"Structure","Semi-Detached"]
["(1.6) Occupancy Rate ",{"$f":"B20/(+B18-B26)","v":{"$error":"#DIV/0!"}},null,"Type(s)","Elderly & Disabled",null,null,"Type(s)","Row or Townhome"]
["        (Rentable Units Only)",null,null,"(Check)","Not Applicable",null,null,"(Check","M-F/Walkup"]
["(1.7) Latest PASS REAC Score",null,null,"all that apply)","Official Designation: Elderly",null,null,"all that","Elevator"]
["Total Units",{"$f":"+B20+B21","v":0},null,null,"Official Designation: Disabled",null,null,"apply)","Non-Dwelling"]
["(1.8) Total Buildings",{"$nulls":3},"Official Designation: Mixed"]
["Occupied Units",{"$f":"SUM(E23:J23)","v":0}]
["Vacant/Rentable Units",{"$f":"SUM(E24:J24)","v":0},null,"(1.11) Bedroom Distribution"]
[{"$nulls":4},"Eff","1BR","2BR","3BR","4BR","5BR+"]
[{"$nulls":3},"(1.11a) Occupied"]
[{"$nulls":3},"(1.11b) Vacant"]
[{"$nulls":3},"Total Units",{"$f":"SUM(E23:E24)","v":0},0,0,0,0,0]
[{"$nulls":3},"Avg Bedrooms per Unit",null,{"$f":"(+E23*1+F23*1+G23*2+H23*3+I23*4+J23*5)/SUM(E23:J23)","v":{"$error":"#DIV/0!"}}]
[]
["(2.0) Physical Needs Assessment Summary Data"]
[]
["(2.1) PNA Conducted By: (PHA/ 3rd Party)",null,"PHA Internally",null,null,"(2.5) Inspector Contact Name: "]
[null,null,"3rd Pary Independent",null,null,"(2.6) Company Name or PHA Title:"]
["(2.2) First Year Covered by PNA",{"$nulls":4},"(2.7) Inspector Contact Phone:"]
["(2.3) Length of PNA (in years)"]
["(2.4) Unit Interiors Inspected (#)",null,{"$f":"SUM(E40:J40)","v":0},{"$nulls":3},"(2.8) Data Source(s) for PNA",null,"Annual Inspections"]
["Units Inspected as % of Total",null,{"$f":"C34/B18","v":{"$error":"#DIV/0!"}},{"$nulls":5},"Contractor"]
["(2.9) Total Residential Buildings",{"$nulls":7},"REAC Inspections"]
["(2.10) Number of Building Exteriors Inspected"]
["(2.11) Total Off-Street Parking Spaces",{"$nulls":3},"(2.14) Units Inspected by Bedroom Size"]
["(2.12) Site Acreage",null,null,"acres","Eff","1BR","2BR","3BR","4BR","5BR+"]
["(2.13) Parking Area (in square feet)",null,null,"SF"]
[]
["(2.15) Physical Improvements Will Result in Structural/System Soundness at a Reasonable Cost",{"$nulls":5},"Yes","No"]
["(2.16) Development Has Long-Term Physical and Social Viability",{"$nulls":5},"Yes","No"]
[]
["(3.0) Total Physical Needs Summary"]
[]
["Major Category",null,"Immediate","Years                       1-5","Years                    6-10","Years                    11-15","Years                   16-20","Total Needs"]
["Site",null,{"$f":"+I82","v":0},{"$f":"$O$63","v":0},{"$f":"$T$63","v":0},{"$f":"$Y$63","v":0},{"$f":"$AD$63","v":0},{"$f":"SUM(C48:G48)","v":0}]
["Common Buildings",null,{"$f":"$I$98","v":0},{"$f":"$O$83","v":0},{"$f":"$T$83","v":0},{"$f":"$Y$83","v":0},{"$f":"$AD$83","v":0},0]
["Unit Exteriors",null,{"$f":"$I$121","v":0},{"$f":"$O$99","v":0},{"$f":"$T$99","v":0},{"$f":"$Y$99","v":0},{"$f":"$AD$99","v":0},0]
["Unit Interiors",null,{"$f":"$I$144","v":0},{"$f":"O122","v":0},{"$f":"T122","v":0},{"$f":"Y122","v":0},{"$f":"AD122","v":0},0]
["Mechanical",null,{"$f":"I161","v":0},{"$f":"O145","v":0},{"$f":"T145","v":0},{"$f":"Y145","v":0},{"$f":"AD145","v":0},0]
["Other",null,{"$f":"I170","v":0},{"$f":"O162","v":0},{"$f":"T162","v":0},{"$f":"Y162","v":0},{"$f":"AD162","v":0},0]
["Totals",null,{"$f":"SUM(C48:C53)","v":0},0,0,0,0,0]
["Amount of PNA relating to Lead Paint/Asbestos",null,{"$f":"I173","v":0},{"$nulls":4},{"$f":"C55","v":0}]
["Amount of PNA relating to Section 504, ADA, and Fair Housing Act (if applicable) Compliance",null,{"$f":"I174","v":0},{"$nulls":4},{"$f":"C56","v":0}]
["New Construction",{"$nulls":6},{"$f":"I188","v":0}]
[{"$nulls":5},"TOTAL PHYSICAL NEEDS",null,{"$f":"H57+H54","v":0}]
[]
["(4.0)Physical Needs Cost Estimate"]
[]
["(4.1) Category",null,"(4.2) Estimated Useful Life","(4.3)                Useful Life Remaining","(4.4)             Method","(4.5)                   Total          Quantity","(4.6)             Current Needs Quantity","(4.7)                Cost per      Quantity","(4.8)         Immediate Repairs Needed","Total Long Term Needs",{"$f":"+F6+1","v":1},{"$f":"1+K62","v":2},3,4,5,6,7,8,9,10,11,12,13,14,15,16,17,18,19,20]
["(4.9) Site",null,"(in yrs)","(in yrs)",{"$nulls":9},"Years 1-5",{"$f":"SUM(K82:O82)","v":0},{"$nulls":3},"Years 6-10",{"$f":"SUM(P82:T82)","v":0},{"$nulls":3},"Years 11-15",{"$f":"SUM(U82:Y82)","v":0},{"$nulls":3},"Years 16-20",{"$f":"SUM(Z82:AD82)","v":0}]
["Asphalt/Concrete",{"$nulls":3},"Per Sq. Ft.",{"$nulls":3},{"$f":"ROUNDUP(+G64*H64,-2)","v":0},{"$f":"SUM(K64:AD64)","v":0},{"$f":"ROUNDUP(IF(OR(($D64+$F$6)=K$62,($C64+$D64+$F$6)=K$62,($C64*2+$D64+$F$6)=K$62,($C64*3+$D64+$F$6)=K$62,($C64*4+$D64+$F$6)=K$62,($C64*5+$D64+$F$6)=K$62,($C64*6+$D64+$F$6)=K$62,($C64*7+$D64+$F$6)=K$62,($C64*8+$D64+$F$6)=K$62),$F64*$H64*((1+$J$52)^(K$62-$F$6)),0),-2)","v":0},0,0,0,0,0,0,0,0,0,{"$f":"ROUNDUP(IF(OR(($D64+$F$6)=U$62,($C64+$D64+$F$6)=U$62,($C64*2+$D64+$F$6)=U$62,($C64*3+$D64+$F$6)=U$62,($C64*4+$D64+$F$6)=U$62,($C64*5+$D64+$F$6)=U$62,($C64*6+$D64+$F$6)=U$62,($C64*7+$D64+$F$6)=U$62,($C64*8+$D64+$F$6)=U$62),$F64*$H64*((1+$J$52)^(U$62-$F$6)),0),-2)","v":0},0,0,0,0,0,0,0,0,0,{"$f":"SUM(K64:AD64)-J64","v":0}]
["Seal Coat",{"$nulls":3},"Per Sq. Ft.",{"$nulls":3},0,0,0,0,0,0,0,0,0,0,0,0,0,0,0,0,0,0,0,0,0,0,0]
["Striping",{"$nulls":3},"Per Sq. Ft.",{"$nulls":3},0,0,0,0,0,0,0,0,0,0,0,0,0,0,0,0,0,0,0,0,0,0,0]
["Curb & Gutter",{"$nulls":3},"Per Sq. Ft.",{"$nulls":3},0,0,0,0,0,0,0,0,0,0,0,0,0,0,0,0,0,0,0,0,0,0,0]
["Pedestrian paving",{"$nulls":3},"Per Sq. Ft.",{"$nulls":3},0,0,0,0,0,0,0,0,0,0,0,0,0,0,0,0,0,0,0,0,0,0,0]
["Signage",{"$nulls":3},"Per Sq. Ft.",{"$nulls":3},0,0,0,0,0,0,0,0,0,0,0,0,0,0,0,0,0,0,0,0,0,0,0]
["Water Lines/Mains",{"$nulls":3},"Per Sq. Ft.",{"$nulls":3},0,0,0,0,0,0,0,0,0,0,0,0,0,0,0,0,0,0,0,0,0,0,0]
["Sewer Lines/Mains",{"$nulls":3},"Per Sq. Ft.",{"$nulls":3},0,0,0,0,0,0,0,0,0,0,0,0,0,0,0,0,0,0,0,0,0,0,0]
["Lighting",{"$nulls":3},"Per Sq. Ft.",{"$nulls":3},0,0,0,0,0,0,0,0,0,0,0,0,0,0,0,0,0,0,0,0,0,0,0]
["Storm Drainage",{"$nulls":3},"Per Sq. Ft.",{"$nulls":3},0,0,0,0,0,0,0,0,0,0,0,0,0,0,0,0,0,0,0,0,0,0,0]
["Landscape",{"$nulls":3},"Per Sq. Ft.",{"$nulls":3},0,0,{"$f":"ROUNDUP(IF(OR(($D74+$F$6)=K$62,($C74+$D74+$F$6)=K$62,($C74*2+$D74+$F$6)=K$62,($C74*3+$D74+$F$6)=K$62,($C74*4+$D74+$F$6)=K$62,($C74*5+$D74+$F$6)=K$62,($C74*6+$D74+$F$6)=K$62,($C74*7+$D74+$F$6)=K$62,($C74*8+$D74+$F$6)=K$62),$F74*$H74*((1+$J$52)^(K$62-$F$6)),0),-2)","v":0},0,0,0,0,0,0,0,0,0,{"$f":"ROUNDUP(IF(OR(($D74+$F$6)=U$62,($C74+$D74+$F$6)=U$62,($C74*2+$D74+$F$6)=U$62,($C74*3+$D74+$F$6)=U$62,($C74*4+$D74+$F$6)=U$62,($C74*5+$D74+$F$6)=U$62,($C74*6+$D74+$F$6)=U$62,($C74*7+$D74+$F$6)=U$62,($C74*8+$D74+$F$6)=U$62),$F74*$H74*((1+$J$52)^(U$62-$F$6)),0),-2)","v":0},0,0,0,0,0,0,0,0,0,0]
["Fencing",{"$nulls":3},"Per Sq. Ft.",{"$nulls":3},0,0,0,0,0,0,0,0,0,0,0,0,0,0,0,0,0,0,0,0,0,0,0]
["Fence Painting",{"$nulls":3},"Per Sq. Ft.",{"$nulls":3},0,0,0,0,0,0,0,0,0,0,0,0,0,0,0,0,0,0,0,0,0,0,0]
["Dumpsters & Enclosures",{"$nulls":3},"Per Sq. Ft.",{"$nulls":3},0,0,0,0,0,0,0,0,0,0,0,0,0,0,0,0,0,0,0,0,0,0,0]
["Electric Distribution",{"$nulls":3},"Per Sq. Ft.",{"$nulls":3},0,0,0,0,0,0,0,0,0,0,0,0,0,0,0,0,0,0,0,0,0,0,0]
["Playground Areas/Equipment",{"$nulls":3},"Per Sq. Ft.",{"$nulls":3},0,0,0,0,0,0,0,0,0,0,0,0,0,0,0,0,0,0,0,0,0,0,0]
["Other (Specify)",{"$nulls":7},0,0,0,0,0,0,0,0,0,0,0,0,0,0,0,0,0,0,0,0,0,0,0]
["Other (Specify)",{"$nulls":7},0,0,0,0,0,0,0,0,0,0,0,0,0,0,0,0,0,0,0,0,0,0,0]
["Site Subtotals",{"$nulls":7},{"$f":"SUM(I64:I81)","v":0},0,0,0,0,0,0,0,0,0,0,0,0,0,0,0,0,0,0,0,0,0,0]
["(4.10) Common Buildings--Rehab Only",{"$nulls":12},"Years 1-5",{"$f":"SUM(K98:O98)","v":0},{"$nulls":3},"Years 6-10",{"$f":"SUM(P98:T98)","v":0},{"$nulls":3},"Years 11-15",{"$f":"SUM(T98:X98)","v":0},{"$nulls":3},"Years 16-20",{"$f":"SUM(Y98:AC98)","v":0}]
["Administrative Building",{"$nulls":3},"Per Sq. Ft.",{"$nulls":3},{"$f":"ROUNDUP(+G84*H84,-2)","v":0},{"$f":"SUM(K84:AD84)","v":0},{"$f":"ROUNDUP(IF(OR(($D84+$F$6)=K$62,($C84+$D84+$F$6)=K$62,($C84*2+$D84+$F$6)=K$62,($C84*3+$D84+$F$6)=K$62,($C84*4+$D84+$F$6)=K$62,($C84*5+$D84+$F$6)=K$62,($C84*6+$D84+$F$6)=K$62,($C84*7+$D84+$F$6)=K$62,($C84*8+$D84+$F$6)=K$62),$F84*$H84*((1+$J$52)^(K$62-$F$6)),0),-2)","v":0},0,0,0,0,0,0,0,0,0,{"$f":"ROUNDUP(IF(OR(($D84+$F$6)=U$62,($C84+$D84+$F$6)=U$62,($C84*2+$D84+$F$6)=U$62,($C84*3+$D84+$F$6)=U$62,($C84*4+$D84+$F$6)=U$62,($C84*5+$D84+$F$6)=U$62,($C84*6+$D84+$F$6)=U$62,($C84*7+$D84+$F$6)=U$62,($C84*8+$D84+$F$6)=U$62),$F84*$H84*((1+$J$52)^(U$62-$F$6)),0),-2)","v":0},0,0,0,0,0,0,0,0,0,{"$f":"SUM(K84:AD84)-J84","v":0}]
["Community Building",{"$nulls":3},"Per Sq. Ft.",{"$nulls":3},0,0,0,0,0,0,0,0,0,0,0,0,0,0,0,0,0,0,0,0,0,0,0]
["Shop",{"$nulls":3},"Per Sq. Ft.",{"$nulls":3},0,0,0,0,0,0,0,0,0,0,0,0,0,0,0,0,0,0,0,0,0,0,0]
["Storage Area",{"$nulls":3},"Per Sq. Ft.",{"$nulls":3},0,0,0,0,0,0,0,0,0,0,0,0,0,0,0,0,0,0,0,0,0,0,0]
["Central Boiler",{"$nulls":3},"Per Sq. Ft.",{"$nulls":3},0,0,0,0,0,0,0,0,0,0,0,0,0,0,0,0,0,0,0,0,0,0,0]
["Central Chiller",{"$nulls":3},"Per Sq. Ft.",{"$nulls":3},0,0,0,0,0,0,0,0,0,0,0,0,0,0,0,0,0,0,0,0,0,0,0]
["Family Invesment Center",{"$nulls":3},"Per Sq. Ft.",{"$nulls":3},0,0,0,0,0,0,0,0,0,0,0,0,0,0,0,0,0,0,0,0,0,0,0]
["Day Care Center",{"$nulls":3},"Per Sq. Ft.",{"$nulls":3},0,0,0,0,0,0,0,0,0,0,0,0,0,0,0,0,0,0,0,0,0,0,0]
["Laundry Areas",{"$nulls":3},"Per Sq. Ft.",{"$nulls":3},0,0,{"$f":"ROUNDUP(IF(OR(($D92+$F$6)=K$62,($C92+$D92+$F$6)=K$62,($C92*2+$D92+$F$6)=K$62,($C92*3+$D92+$F$6)=K$62,($C92*4+$D92+$F$6)=K$62,($C92*5+$D92+$F$6)=K$62,($C92*6+$D92+$F$6)=K$62,($C92*7+$D92+$F$6)=K$62,($C92*8+$D92+$F$6)=K$62),$F92*$H92*((1+$J$52)^(K$62-$F$6)),0),-2)","v":0},0,0,0,0,0,0,0,0,0,{"$f":"ROUNDUP(IF(OR(($D92+$F$6)=U$62,($C92+$D92+$F$6)=U$62,($C92*2+$D92+$F$6)=U$62,($C92*3+$D92+$F$6)=U$62,($C92*4+$D92+$F$6)=U$62,($C92*5+$D92+$F$6)=U$62,($C92*6+$D92+$F$6)=U$62,($C92*7+$D92+$F$6)=U$62,($C92*8+$D92+$F$6)=U$62),$F92*$H92*((1+$J$52)^(U$62-$F$6)),0),-2)","v":0},0,0,0,0,0,0,0,0,0,0]
["Common Area Washers",{"$nulls":3},"Per Sq. Ft.",{"$nulls":3},0,0,0,0,0,0,0,0,0,0,0,0,0,0,0,0,0,0,0,0,0,0,0]
["Common Area Dryers",{"$nulls":3},"Per Sq. Ft.",{"$nulls":3},0,0,0,0,0,0,0,0,0,0,0,0,0,0,0,0,0,0,0,0,0,0,0]
["Common Area Finishes",{"$nulls":3},"Per Sq. Ft.",{"$nulls":3},0,0,0,0,0,0,0,0,0,0,0,0,0,0,0,0,0,0,0,0,0,0,0]
["Other (Specify)",{"$nulls":7},0,0,0,0,0,0,0,0,0,0,0,0,0,0,0,0,0,0,0,0,0,0,0]
["Other (Specify)",{"$nulls":7},0,0,0,0,0,0,0,0,0,0,0,0,0,0,0,0,0,0,0,0,0,0,0]
["Common Subtotals",{"$nulls":7},{"$f":"SUM(I84:I97)","v":0},0,0,0,0,0,0,0,0,0,0,0,0,0,0,0,0,0,0,0,0,0,0]
["(4.11) Unit Exteriors",{"$nulls":12},"Years 1-5",{"$f":"SUM(K121:O121)","v":0},{"$nulls":3},"Years 6-10",{"$f":"SUM(P121:T121)","v":0},{"$nulls":3},"Years 11-15",{"$f":"SUM(U121:Y121)","v":0},{"$nulls":3},"Years 16-20",{"$f":"SUM(Z121:AD121)","v":0}]
["Carports/Surface Garage",{"$nulls":3},"Per Sq. Ft.",{"$nulls":3},{"$f":"ROUNDUP(+G100*H100,-2)","v":0},{"$f":"SUM(K100:AD100)","v":0},{"$f":"ROUNDUP(IF(OR(($D100+$F$6)=K$62,($C100+$D100+$F$6)=K$62,($C100*2+$D100+$F$6)=K$62,($C100*3+$D100+$F$6)=K$62,($C100*4+$D100+$F$6)=K$62,($C100*5+$D100+$F$6)=K$62,($C100*6+$D100+$F$6)=K$62,($C100*7+$D100+$F$6)=K$62,($C100*8+$D100+$F$6)=K$62),$F100*$H100*((1+$J$52)^(K$62-$F$6)),0),-2)","v":0},0,0,0,0,0,0,0,0,0,{"$f":"ROUNDUP(IF(OR(($D100+$F$6)=U$62,($C100+$D100+$F$6)=U$62,($C100*2+$D100+$F$6)=U$62,($C100*3+$D100+$F$6)=U$62,($C100*4+$D100+$F$6)=U$62,($C100*5+$D100+$F$6)=U$62,($C100*6+$D100+$F$6)=U$62,($C100*7+$D100+$F$6)=U$62,($C100*8+$D100+$F$6)=U$62),$F100*$H100*((1+$J$52)^(U$62-$F$6)),0),-2)","v":0},0,0,0,0,0,0,0,0,0,{"$f":"SUM(K100:AD100)-J100","v":0}]
["Foundation",{"$nulls":3},"Per Sq. Ft.",{"$nulls":3},0,0,0,0,0,0,0,0,0,0,0,0,0,0,0,0,0,0,0,0,0,0,0]
["Building Slab",{"$nulls":3},"Per Sq. Ft.",{"$nulls":3},0,0,0,0,0,0,0,0,0,0,0,0,0,0,0,0,0,0,0,0,0,0,0]
["Roofs",{"$nulls":3},"Per Sq. Ft.",{"$nulls":3},0,0,0,0,0,0,0,0,0,0,0,0,0,0,0,0,0,0,0,0,0,0,0]
["Canopies",{"$nulls":3},"Per Sq. Ft.",{"$nulls":3},0,0,0,0,0,0,0,0,0,0,0,0,0,0,0,0,0,0,0,0,0,0,0]
["Tuck-Pointing",{"$nulls":3},"Per Sq. Ft.",{"$nulls":3},0,0,0,0,0,0,0,0,0,0,0,0,0,0,0,0,0,0,0,0,0,0,0]
["Exterior Paint & Caulking",{"$nulls":3},"Per Sq. Ft.",{"$nulls":3},0,0,0,0,0,0,0,0,0,0,0,0,0,0,0,0,0,0,0,0,0,0,0]
["Soffits",{"$nulls":3},"Per Sq. Ft.",{"$nulls":3},0,0,0,0,0,0,0,0,0,0,0,0,0,0,0,0,0,0,0,0,0,0,0]
["Siding",{"$nulls":3},"Per Sq. Ft.",{"$nulls":3},0,0,0,0,0,0,0,0,0,0,0,0,0,0,0,0,0,0,0,0,0,0,0]
["Exterior Stairwells/Fire Escapes",{"$nulls":3},"Per Sq. Ft.",{"$nulls":3},0,0,0,0,0,0,0,0,0,0,0,0,0,0,0,0,0,0,0,0,0,0,0]
["Landings & Railings",{"$nulls":3},"Per Sq. Ft.",{"$nulls":3},0,0,{"$f":"ROUNDUP(IF(OR(($D110+$F$6)=K$62,($C110+$D110+$F$6)=K$62,($C110*2+$D110+$F$6)=K$62,($C110*3+$D110+$F$6)=K$62,($C110*4+$D110+$F$6)=K$62,($C110*5+$D110+$F$6)=K$62,($C110*6+$D110+$F$6)=K$62,($C110*7+$D110+$F$6)=K$62,($C110*8+$D110+$F$6)=K$62),$F110*$H110*((1+$J$52)^(K$62-$F$6)),0),-2)","v":0},0,0,0,0,0,0,0,0,0,{"$f":"ROUNDUP(IF(OR(($D110+$F$6)=U$62,($C110+$D110+$F$6)=U$62,($C110*2+$D110+$F$6)=U$62,($C110*3+$D110+$F$6)=U$62,($C110*4+$D110+$F$6)=U$62,($C110*5+$D110+$F$6)=U$62,($C110*6+$D110+$F$6)=U$62,($C110*7+$D110+$F$6)=U$62,($C110*8+$D110+$F$6)=U$62),$F110*$H110*((1+$J$52)^(U$62-$F$6)),0),-2)","v":0},0,0,0,0,0,0,0,0,0,0]
["Balconies & Railings",{"$nulls":3},"Per Sq. Ft.",{"$nulls":3},0,0,0,0,0,0,0,0,0,0,0,0,0,0,0,0,0,0,0,0,0,0,0]
["Mail Facilities",{"$nulls":3},"Per Sq. Ft.",{"$nulls":3},0,0,0,0,0,0,0,0,0,0,0,0,0,0,0,0,0,0,0,0,0,0,0]
["Exterior Doors",{"$nulls":3},"Per Sq. Ft.",{"$nulls":3},0,0,0,0,0,0,0,0,0,0,0,0,0,0,0,0,0,0,0,0,0,0,0]
["Windows",{"$nulls":3},"Per Sq. Ft.",{"$nulls":3},0,0,0,0,0,0,0,0,0,0,0,0,0,0,0,0,0,0,0,0,0,0,0]
["Gutters/Downspouts",{"$nulls":3},"Per Sq. Ft.",{"$nulls":3},0,0,0,0,0,0,0,0,0,0,0,0,0,0,0,0,0,0,0,0,0,0,0]
["Columns & Porches",{"$nulls":3},"Per Sq. Ft.",{"$nulls":3},0,0,0,0,0,0,0,0,0,0,0,0,0,0,0,0,0,0,0,0,0,0,0]
["Decks & Patios",{"$nulls":3},"Per Sq. Ft.",{"$nulls":3},0,0,0,0,0,0,0,0,0,0,0,0,0,0,0,0,0,0,0,0,0,0,0]
["Exterior Lighting",{"$nulls":3},"Per Sq. Ft.",{"$nulls":3},0,0,0,0,0,0,0,0,0,0,0,0,0,0,0,0,0,0,0,0,0,0,0]
["Other (Specify)",{"$nulls":7},0,0,0,0,0,0,0,0,0,0,0,0,0,0,0,0,0,0,0,0,0,0,0]
["Other (Specify)",{"$nulls":7},0,0,0,0,0,0,0,0,0,0,0,0,0,0,0,0,0,0,0,0,0,0,0]
["Unit Exterior Subtotals",{"$nulls":7},{"$f":"SUM(I100:I120)","v":0},0,0,0,0,0,0,0,0,0,0,0,0,0,0,0,0,0,0,0,0,0,0]
["(4.12) Unit Interiors",{"$nulls":12},"Years 1-5",{"$f":"SUM(K144:O144)","v":0},{"$nulls":3},"Years 6-10",{"$f":"SUM(P144:T144)","v":0},{"$nulls":3},"Years 11-15",{"$f":"SUM(U144:Y144)","v":0},{"$nulls":3},"Years 16-20",{"$f":"SUM(Z144:AD144)","v":0}]
["Interior Painting (non routine)",{"$nulls":3},"Per Sq. Ft.",{"$nulls":3},{"$f":"ROUNDUP(+G123*H123,-2)","v":0},{"$f":"SUM(K123:AD123)","v":0},{"$f":"ROUNDUP(IF(OR(($D123+$F$6)=K$62,($C123+$D123+$F$6)=K$62,($C123*2+$D123+$F$6)=K$62,($C123*3+$D123+$F$6)=K$62,($C123*4+$D123+$F$6)=K$62,($C123*5+$D123+$F$6)=K$62,($C123*6+$D123+$F$6)=K$62,($C123*7+$D123+$F$6)=K$62,($C123*8+$D123+$F$6)=K$62),$F123*$H123*((1+$J$52)^(K$62-$F$6)),0),-2)","v":0},0,0,0,0,0,0,0,0,0,{"$f":"ROUNDUP(IF(OR(($D123+$F$6)=U$62,($C123+$D123+$F$6)=U$62,($C123*2+$D123+$F$6)=U$62,($C123*3+$D123+$F$6)=U$62,($C123*4+$D123+$F$6)=U$62,($C123*5+$D123+$F$6)=U$62,($C123*6+$D123+$F$6)=U$62,($C123*7+$D123+$F$6)=U$62,($C123*8+$D123+$F$6)=U$62),$F123*$H123*((1+$J$52)^(U$62-$F$6)),0),-2)","v":0},0,0,0,0,0,0,0,0,0,{"$f":"SUM(K123:AD123)-J123","v":0}]
["Interior Doors",{"$nulls":3},"Per Sq. Ft.",{"$nulls":3},0,0,0,0,0,0,0,0,0,0,0,0,0,0,0,0,0,0,0,0,0,0,0]
["Flooring (non routine)",{"$nulls":3},"Per Sq. Ft.",{"$nulls":3},0,0,0,0,0,0,0,0,0,0,0,0,0,0,0,0,0,0,0,0,0,0,0]
["Shower/Tub Surrounds",{"$nulls":3},"Per Sq. Ft.",{"$nulls":3},0,0,0,0,0,0,0,0,0,0,0,0,0,0,0,0,0,0,0,0,0,0,0]
["Commodes",{"$nulls":3},"Per Sq. Ft.",{"$nulls":3},0,0,0,0,0,0,0,0,0,0,0,0,0,0,0,0,0,0,0,0,0,0,0]
["Vanities",{"$nulls":3},"Per Sq. Ft.",{"$nulls":3},0,0,0,0,0,0,0,0,0,0,0,0,0,0,0,0,0,0,0,0,0,0,0]
["Faucets",{"$nulls":3},"Per Sq. Ft.",{"$nulls":3},0,0,0,0,0,0,0,0,0,0,0,0,0,0,0,0,0,0,0,0,0,0,0]
["Bathroom Flooring (non cyclical)",{"$nulls":3},"Per Sq. Ft.",{"$nulls":3},0,0,0,0,0,0,0,0,0,0,0,0,0,0,0,0,0,0,0,0,0,0,0]
["Kitchen Cabinets",{"$nulls":3},"Per Sq. Ft.",{"$nulls":3},0,0,0,0,0,0,0,0,0,0,0,0,0,0,0,0,0,0,0,0,0,0,0]
["Ranges",{"$nulls":3},"Per Sq. Ft.",{"$nulls":3},0,0,0,0,0,0,0,0,0,0,0,0,0,0,0,0,0,0,0,0,0,0,0]
["Range Hoods",{"$nulls":3},"Per Sq. Ft.",{"$nulls":3},0,0,{"$f":"ROUNDUP(IF(OR(($D133+$F$6)=K$62,($C133+$D133+$F$6)=K$62,($C133*2+$D133+$F$6)=K$62,($C133*3+$D133+$F$6)=K$62,($C133*4+$D133+$F$6)=K$62,($C133*5+$D133+$F$6)=K$62,($C133*6+$D133+$F$6)=K$62,($C133*7+$D133+$F$6)=K$62,($C133*8+$D133+$F$6)=K$62),$F133*$H133*((1+$J$52)^(K$62-$F$6)),0),-2)","v":0},0,0,0,0,0,0,0,0,0,{"$f":"ROUNDUP(IF(OR(($D133+$F$6)=U$62,($C133+$D133+$F$6)=U$62,($C133*2+$D133+$F$6)=U$62,($C133*3+$D133+$F$6)=U$62,($C133*4+$D133+$F$6)=U$62,($C133*5+$D133+$F$6)=U$62,($C133*6+$D133+$F$6)=U$62,($C133*7+$D133+$F$6)=U$62,($C133*8+$D133+$F$6)=U$62),$F133*$H133*((1+$J$52)^(U$62-$F$6)),0),-2)","v":0},0,0,0,0,0,0,0,0,0,0]
["Refrigerators",{"$nulls":3},"Per Sq. Ft.",{"$nulls":3},0,0,0,0,0,0,0,0,0,0,0,0,0,0,0,0,0,0,0,0,0,0,0]
["Counters and Sinks",{"$nulls":3},"Per Sq. Ft.",{"$nulls":3},0,0,0,0,0,0,0,0,0,0,0,0,0,0,0,0,0,0,0,0,0,0,0]
["Dishwasher",{"$nulls":3},"Per Sq. Ft.",{"$nulls":3},0,0,0,0,0,0,0,0,0,0,0,0,0,0,0,0,0,0,0,0,0,0,0]
["Microwave",{"$nulls":3},"Per Sq. Ft.",{"$nulls":3},0,0,0,0,0,0,0,0,0,0,0,0,0,0,0,0,0,0,0,0,0,0,0]
["Washing Machines",{"$nulls":3},"Per Sq. Ft.",{"$nulls":3},0,0,0,0,0,0,0,0,0,0,0,0,0,0,0,0,0,0,0,0,0,0,0]
["Dryers",{"$nulls":3},"Per Sq. Ft.",{"$nulls":3},0,0,0,0,0,0,0,0,0,0,0,0,0,0,0,0,0,0,0,0,0,0,0]
["Call-for-Aid Systems",{"$nulls":7},0,0,0,0,0,0,0,0,0,0,0,0,0,0,0,0,0,0,0,0,0,0,0]
["Stairs and Handrails",{"$nulls":7},0,0,0,0,0,0,0,0,0,0,0,0,0,0,0,0,0,0,0,0,0,0,0]
["Other (Specify)",{"$nulls":7},0,0,0,0,0,0,0,0,0,0,0,0,0,0,0,0,0,0,0,0,0,0,0]
["Other (Specify)",{"$nulls":7},0,0,0,0,0,0,0,0,0,0,0,0,0,0,0,0,0,0,0,0,0,0,0]
["Unit Interior Subtotals",{"$nulls":7},{"$f":"SUM(I123:I143)","v":0},0,0,0,0,0,0,0,0,0,0,0,0,0,0,0,0,0,0,0,0,0,0]
["(4.13) Mechanical",{"$nulls":12},"Years 1-5",{"$f":"SUM(K161:O161)","v":0},{"$nulls":3},"Years 6-10",{"$f":"SUM(P161:T161)","v":0},{"$nulls":3},"Years 11-15",{"$f":"SUM(U161:Y161)","v":0},{"$nulls":3},"Years 16-20",{"$f":"SUM(Z161:AD161)","v":0}]
["Water Distribution",{"$nulls":3},"Per Sq. Ft.",{"$nulls":3},{"$f":"ROUNDUP(+G146*H146,-2)","v":0},{"$f":"SUM(K146:AD146)","v":0},{"$f":"ROUNDUP(IF(OR(($D146+$F$6)=K$62,($C146+$D146+$F$6)=K$62,($C146*2+$D146+$F$6)=K$62,($C146*3+$D146+$F$6)=K$62,($C146*4+$D146+$F$6)=K$62,($C146*5+$D146+$F$6)=K$62,($C146*6+$D146+$F$6)=K$62,($C146*7+$D146+$F$6)=K$62,($C146*8+$D146+$F$6)=K$62),$F146*$H146*((1+$J$52)^(K$62-$F$6)),0),-2)","v":0},0,0,0,0,0,0,0,0,0,{"$f":"ROUNDUP(IF(OR(($D146+$F$6)=U$62,($C146+$D146+$F$6)=U$62,($C146*2+$D146+$F$6)=U$62,($C146*3+$D146+$F$6)=U$62,($C146*4+$D146+$F$6)=U$62,($C146*5+$D146+$F$6)=U$62,($C146*6+$D146+$F$6)=U$62,($C146*7+$D146+$F$6)=U$62,($C146*8+$D146+$F$6)=U$62),$F146*$H146*((1+$J$52)^(U$62-$F$6)),0),-2)","v":0},0,0,0,0,0,0,0,0,0,{"$f":"SUM(K146:AD146)-J146","v":0}]
["Heating Equipt/System",{"$nulls":3},"Per Sq. Ft.",{"$nulls":3},0,0,0,0,0,0,0,0,0,0,0,0,0,0,0,0,0,0,0,0,0,0,0]
["Electric Disribution",{"$nulls":3},"Per Sq. Ft.",{"$nulls":3},0,0,0,0,0,0,0,0,0,0,0,0,0,0,0,0,0,0,0,0,0,0,0]
["Hot Water Heaters",{"$nulls":3},"Per Sq. Ft.",{"$nulls":3},0,0,0,0,0,0,0,0,0,0,0,0,0,0,0,0,0,0,0,0,0,0,0]
["Unit Sub-panels",{"$nulls":3},"Per Sq. Ft.",{"$nulls":3},0,0,0,0,0,0,0,0,0,0,0,0,0,0,0,0,0,0,0,0,0,0,0]
["Trash Compactor",{"$nulls":3},"Per Sq. Ft.",{"$nulls":3},0,0,0,0,0,0,0,0,0,0,0,0,0,0,0,0,0,0,0,0,0,0,0]
["Cooling Equipt/Systems",{"$nulls":3},"Per Sq. Ft.",{"$nulls":3},0,0,0,0,0,0,0,0,0,0,0,0,0,0,0,0,0,0,0,0,0,0,0]
["Smoke/Fire Detection",{"$nulls":3},"Per Sq. Ft.",{"$nulls":3},0,0,0,0,0,0,0,0,0,0,0,0,0,0,0,0,0,0,0,0,0,0,0]
["Unit Reconfiguration",{"$nulls":3},"Per Sq. Ft.",{"$nulls":3},0,0,0,0,0,0,0,0,0,0,0,0,0,0,0,0,0,0,0,0,0,0,0]
["Security/Fire Alarm",{"$nulls":3},"Per Sq. Ft.",{"$nulls":3},0,0,0,0,0,0,0,0,0,0,0,0,0,0,0,0,0,0,0,0,0,0,0]
["Fire Suspression System",{"$nulls":3},"Per Sq. Ft.",{"$nulls":3},0,0,0,0,0,0,0,0,0,0,0,0,0,0,0,0,0,0,0,0,0,0,0]
["Generator",{"$nulls":3},"Per Sq. Ft.",{"$nulls":3},0,0,0,0,0,0,0,0,0,0,0,0,0,0,0,0,0,0,0,0,0,0,0]
["Elevator",{"$nulls":3},"Per Sq. Ft.",{"$nulls":3},0,0,0,0,0,0,0,0,0,0,0,0,0,0,0,0,0,0,0,0,0,0,0]
["Other (Specify) ",{"$nulls":7},0,0,0,0,0,0,0,0,0,0,0,0,0,0,0,0,0,0,0,0,0,0,0]
["Other (Specify)",{"$nulls":7},0,0,0,0,0,0,0,0,0,0,0,0,0,0,0,0,0,0,0,0,0,0,0]
["Mechanical Subtotals",{"$nulls":7},{"$f":"SUM(I146:I160)","v":0},0,0,0,0,0,0,0,0,0,0,0,0,0,0,0,0,0,0,0,0,0,0]
["(4.14) Other",{"$nulls":12},"Years 1-5",{"$f":"SUM(K170:O170)","v":0},{"$nulls":3},"Years 6-10",{"$f":"SUM(P170:T170)","v":0},{"$nulls":3},"Years 11-15",{"$f":"SUM(U170:Y170)","v":0},{"$nulls":3},"Years 16-20",{"$f":"SUM(Z170:AD170)","v":0}]
["Site Acquisition",{"$nulls":3},"Per Sq. Ft.",{"$nulls":3},{"$f":"ROUNDUP(+G163*H163,-2)","v":0},{"$f":"SUM(K163:AD163)","v":0},{"$f":"ROUNDUP(IF(OR(($D163+$F$6)=K$62,($C163+$D163+$F$6)=K$62,($C163*2+$D163+$F$6)=K$62,($C163*3+$D163+$F$6)=K$62,($C163*4+$D163+$F$6)=K$62,($C163*5+$D163+$F$6)=K$62,($C163*6+$D163+$F$6)=K$62,($C163*7+$D163+$F$6)=K$62,($C163*8+$D163+$F$6)=K$62),$F163*$H163*((1+$J$52)^(K$62-$F$6)),0),-2)","v":0},0,0,0,0,0,0,0,0,0,{"$f":"ROUNDUP(IF(OR(($D163+$F$6)=U$62,($C163+$D163+$F$6)=U$62,($C163*2+$D163+$F$6)=U$62,($C163*3+$D163+$F$6)=U$62,($C163*4+$D163+$F$6)=U$62,($C163*5+$D163+$F$6)=U$62,($C163*6+$D163+$F$6)=U$62,($C163*7+$D163+$F$6)=U$62,($C163*8+$D163+$F$6)=U$62),$F163*$H163*((1+$J$52)^(U$62-$F$6)),0),-2)","v":0},0,0,0,0,0,0,0,0,0,{"$f":"SUM(K163:AD163)-J163","v":0}]
["Other Fees and Costs",{"$nulls":3},"Per Sq. Ft.",{"$nulls":3},0,0,0,0,0,0,0,0,0,0,0,0,0,0,0,0,0,0,0,0,0,0,0]
["Demolition",{"$nulls":3},"Per Sq. Ft.",{"$nulls":3},0,0,0,0,0,0,0,0,0,0,0,0,0,0,0,0,0,0,0,0,0,0,0]
["Dwelling Unit Conversion",{"$nulls":3},"Per Sq. Ft.",{"$nulls":3},0,0,0,0,0,0,0,0,0,0,0,0,0,0,0,0,0,0,0,0,0,0,{"$f":"SUM(K166:AD166)-J166","v":0}]
["Contingency",{"$nulls":3},"Per Sq. Ft.",{"$nulls":3},0,0,{"$f":"ROUNDUP(IF(OR(($D167+$F$6)=K$62,($C167+$D167+$F$6)=K$62,($C167*2+$D167+$F$6)=K$62,($C167*3+$D167+$F$6)=K$62,($C167*4+$D167+$F$6)=K$62,($C167*5+$D167+$F$6)=K$62,($C167*6+$D167+$F$6)=K$62,($C167*7+$D167+$F$6)=K$62,($C167*8+$D167+$F$6)=K$62),$F167*$H167*((1+$J$52)^(K$62-$F$6)),0),-2)","v":0},0,0,0,0,0,0,0,0,0,{"$f":"ROUNDUP(IF(OR(($D167+$F$6)=U$62,($C167+$D167+$F$6)=U$62,($C167*2+$D167+$F$6)=U$62,($C167*3+$D167+$F$6)=U$62,($C167*4+$D167+$F$6)=U$62,($C167*5+$D167+$F$6)=U$62,($C167*6+$D167+$F$6)=U$62,($C167*7+$D167+$F$6)=U$62,($C167*8+$D167+$F$6)=U$62),$F167*$H167*((1+$J$52)^(U$62-$F$6)),0),-2)","v":0},0,0,0,0,0,0,0,0,0,0]
["Other (Specify) ",{"$nulls":7},0,0,0,0,0,0,0,0,0,0,0,0,0,0,0,0,0,0,0,0,0,0,0]
["Other (Specify)",{"$nulls":7},0,0,0,0,0,0,0,0,0,0,0,0,0,0,0,0,0,0,0,0,0,0,0]
["Other Subtotals",{"$nulls":7},{"$f":"SUM(I163:I169)","v":0},0,0,0,0,0,0,0,0,0,0,0,0,0,0,0,0,0,0,0,0,0,0]
["GRAND TOTAL",{"$nulls":7},{"$f":"I170+I161+I144+I82+I98","v":0},{"$f":"J170+J161+J144+J121+J98+J82","v":0},0,0,0,0,0,0,0,0,0,0,0,0,0,0,0,0,0,0,0,0,0]
["(4.15) Special Categories"]
["Amount of PNA Relating to Lead Paint/Asbestos Compliance",{"$nulls":3},"Per Sq. Ft.",{"$nulls":3},{"$f":"ROUNDUP(+G173*H173,-2)","v":0}]
["Amount of PNA Relating to Section 504, ADA, and Fair Housing Act (if applicable) Compliance",{"$nulls":3},"Per Sq. Ft.",{"$nulls":3},{"$f":"ROUNDUP(+G174*H174,-2)","v":0}]
[]
["(4.16) New Construction"]
["Dwelling Units",{"$nulls":3},"Per Sq. Ft.",{"$nulls":3},{"$f":"ROUNDUP(+G177*H177,-2)","v":0}]
["Administrative Building",{"$nulls":3},"Per Sq. Ft.",{"$nulls":3},0]
["Community Building or Facility",{"$nulls":3},"Per Sq. Ft.",{"$nulls":3},0]
["Shop",{"$nulls":3},"Per Sq. Ft.",{"$nulls":3},0]
["Storage Area",{"$nulls":3},"Per Sq. Ft.",{"$nulls":3},0]
["Family Investment Center",{"$nulls":3},"Per Sq. Ft.",{"$nulls":3},0]
["Day Care Center",{"$nulls":3},"Per Sq. Ft.",{"$nulls":3},0]
["Laundry Areas(s)",{"$nulls":3},"Per Sq. Ft.",{"$nulls":3},0]
["Other (Specify) ",{"$nulls":3},"Per Sq. Ft.",{"$nulls":3},0]
["Other (Specify)",{"$nulls":3},"Per Sq. Ft.",{"$nulls":3},0]
["Other (Specify)",{"$nulls":7},0]
["New Construction Subtotals",{"$nulls":7},{"$f":"SUM(I177:I187)","v":0}]

{"sheet":"Tab 5","index":6,"n_rows":188,"n_cols":31,"rows_kept":188,"merged":[[4,2,4,3],[5,2,5,3],[7,0,7,8],[9,1,9,2],[10,1,10,2],[20,3,20,9],[27,0,27,8],[29,8,29,9],[30,8,30,9],[31,8,31,9],[33,6,35,6],[37,4,37,9],[44,0,44,8],[46,0,46,1],[47,0,47,1],[48,0,48,1],[49,0,49,1],[50,0,50,1],[51,0,51,1],[52,0,52,1],[53,0,53,1],[54,0,54,1],[55,0,55,1],[56,0,56,1],[59,0,59,8],[61,0,61,1],[62,0,62,1],[81,0,81,1],[97,0,97,1],[120,0,120,1],[143,0,143,1],[160,0,160,1],[169,0,169,1],[170,0,170,1],[187,0,187,1]]}
["Physical Needs Assessment",{"$nulls":3},"U.S. Department of Housing",{"$nulls":4}," OMB Approval No. 2577-0157"]
["Capital Fund Financing Program/",{"$nulls":3},"and Urban Development",{"$nulls":4}," (exp. 1/31/2017)"]
["Operating Fund Financing Program",{"$nulls":3},"Office of Public and Indian Housing"]
[]
["HA Name",null,"HA Number",null,null,"FY of Assessment",null," Original  ","Date Prepared:"]
[{"$f":"'Tab 1'!A6","v":0},null,{"$f":"'Tab 4'!C6:D6","v":0},{"$nulls":4},"Revision  ","Date Revised:"]
[]
["(1.0) Project Data"]
[]
["(1.1) Management Office Address",{"$nulls":5},"(1.3) Development No.",null,"(1.4) DOFA Date"]
["(1.2) Project Name"]
[{"$nulls":4},"Family"]
[{"$nulls":3},"(1.9)","Elderly",null,null,"(1.10)","S-F Detached"]
["(1.5) Year of Last Substantial Mod",null,null,"Occupancy","Family & Disabled",null,null,"Structure","Semi-Detached"]
["(1.6) Occupancy Rate ",{"$f":"B20/(+B18-B26)","v":{"$error":"#DIV/0!"}},null,"Type(s)","Elderly & Disabled",null,null,"Type(s)","Row or Townhome"]
["        (Rentable Units Only)",null,null,"(Check)","Not Applicable",null,null,"(Check","M-F/Walkup"]
["(1.7) Latest PASS REAC Score",null,null,"all that apply)","Official Designation: Elderly",null,null,"all that","Elevator"]
["Total Units",{"$f":"+B20+B21","v":0},null,null,"Official Designation: Disabled",null,null,"apply)","Non-Dwelling"]
["(1.8) Total Buildings",{"$nulls":3},"Official Designation: Mixed"]
["Occupied Units",{"$f":"SUM(E23:J23)","v":0}]
["Vacant/Rentable Units",{"$f":"SUM(E24:J24)","v":0},null,"(1.11) Bedroom Distribution"]
[{"$nulls":4},"Eff","1BR","2BR","3BR","4BR","5BR+"]
[{"$nulls":3},"(1.11a) Occupied"]
[{"$nulls":3},"(1.11b) Vacant"]
[{"$nulls":3},"Total Units",{"$f":"SUM(E23:E24)","v":0},0,0,0,0,0]
[{"$nulls":3},"Avg Bedrooms per Unit",null,{"$f":"(+E23*1+F23*1+G23*2+H23*3+I23*4+J23*5)/SUM(E23:J23)","v":{"$error":"#DIV/0!"}}]
[]
["(2.0) Physical Needs Assessment Summary Data"]
[]
["(2.1) PNA Conducted By: (PHA/ 3rd Party)",null,"PHA Internally",null,null,"(2.5) Inspector Contact Name: "]
[null,null,"3rd Pary Independent",null,null,"(2.6) Company Name or PHA Title:"]
["(2.2) First Year Covered by PNA",{"$nulls":4},"(2.7) Inspector Contact Phone:"]
["(2.3) Length of PNA (in years)"]
["(2.4) Unit Interiors Inspected (#)",null,{"$f":"SUM(E40:J40)","v":0},{"$nulls":3},"(2.8) Data Source(s) for PNA",null,"Annual Inspections"]
["Units Inspected as % of Total",null,{"$f":"C34/B18","v":{"$error":"#DIV/0!"}},{"$nulls":5},"Contractor"]
["(2.9) Total Residential Buildings",{"$nulls":7},"REAC Inspections"]
["(2.10) Number of Building Exteriors Inspected"]
["(2.11) Total Off-Street Parking Spaces",{"$nulls":3},"(2.14) Units Inspected by Bedroom Size"]
["(2.12) Site Acreage",null,null,"acres","Eff","1BR","2BR","3BR","4BR","5BR+"]
["(2.13) Parking Area (in square feet)",null,null,"SF"]
[]
["(2.15) Physical Improvements Will Result in Structural/System Soundness at a Reasonable Cost",{"$nulls":5},"Yes","No"]
["(2.16) Development Has Long-Term Physical and Social Viability",{"$nulls":5},"Yes","No"]
[]
["(3.0) Total Physical Needs Summary"]
[]
["Major Category",null,"Immediate","Years                       1-5","Years                    6-10","Years                    11-15","Years                   16-20","Total Needs"]
["Site",null,{"$f":"+I82","v":0},{"$f":"$O$63","v":0},{"$f":"$T$63","v":0},{"$f":"$Y$63","v":0},{"$f":"$AD$63","v":0},{"$f":"SUM(C48:G48)","v":0}]
["Common Buildings",null,{"$f":"$I$98","v":0},{"$f":"$O$83","v":0},{"$f":"$T$83","v":0},{"$f":"$Y$83","v":0},{"$f":"$AD$83","v":0},0]
["Unit Exteriors",null,{"$f":"$I$121","v":0},{"$f":"$O$99","v":0},{"$f":"$T$99","v":0},{"$f":"$Y$99","v":0},{"$f":"$AD$99","v":0},0]
["Unit Interiors",null,{"$f":"$I$144","v":0},{"$f":"O122","v":0},{"$f":"T122","v":0},{"$f":"Y122","v":0},{"$f":"AD122","v":0},0]
["Mechanical",null,{"$f":"I161","v":0},{"$f":"O145","v":0},{"$f":"T145","v":0},{"$f":"Y145","v":0},{"$f":"AD145","v":0},0]
["Other",null,{"$f":"I170","v":0},{"$f":"O162","v":0},{"$f":"T162","v":0},{"$f":"Y162","v":0},{"$f":"AD162","v":0},0]
["Totals",null,{"$f":"SUM(C48:C53)","v":0},0,0,0,0,0]
["Amount of PNA relating to Lead Paint/Asbestos",null,{"$f":"I173","v":0},{"$nulls":4},{"$f":"C55","v":0}]
["Amount of PNA relating to Section 504, ADA, and Fair Housing Act (if applicable) Compliance",null,{"$f":"I174","v":0},{"$nulls":4},{"$f":"C56","v":0}]
["New Construction",{"$nulls":6},{"$f":"I188","v":0}]
[{"$nulls":5},"TOTAL PHYSICAL NEEDS",null,{"$f":"H57+H54","v":0}]
[]
["(4.0)Physical Needs Cost Estimate"]
[]
["(4.1) Category",null,"(4.2) Estimated Useful Life","(4.3)                Useful Life Remaining","(4.4)             Method","(4.5)                   Total          Quantity","(4.6)             Current Needs Quantity","(4.7)                Cost per      Quantity","(4.8)         Immediate Repairs Needed","Total Long Term Needs",{"$f":"+F6+1","v":1},{"$f":"1+K62","v":2},3,4,5,6,7,8,9,10,11,12,13,14,15,16,17,18,19,20]
["(4.9) Site",null,"(in yrs)","(in yrs)",{"$nulls":9},"Years 1-5",{"$f":"SUM(K82:O82)","v":0},{"$nulls":3},"Years 6-10",{"$f":"SUM(P82:T82)","v":0},{"$nulls":3},"Years 11-15",{"$f":"SUM(U82:Y82)","v":0},{"$nulls":3},"Years 16-20",{"$f":"SUM(Z82:AD82)","v":0}]
["Asphalt/Concrete",{"$nulls":3},"Per Sq. Ft.",{"$nulls":3},{"$f":"ROUNDUP(+G64*H64,-2)","v":0},{"$f":"SUM(K64:AD64)","v":0},{"$f":"ROUNDUP(IF(OR(($D64+$F$6)=K$62,($C64+$D64+$F$6)=K$62,($C64*2+$D64+$F$6)=K$62,($C64*3+$D64+$F$6)=K$62,($C64*4+$D64+$F$6)=K$62,($C64*5+$D64+$F$6)=K$62,($C64*6+$D64+$F$6)=K$62,($C64*7+$D64+$F$6)=K$62,($C64*8+$D64+$F$6)=K$62),$F64*$H64*((1+$J$52)^(K$62-$F$6)),0),-2)","v":0},0,0,0,0,0,0,0,0,0,{"$f":"ROUNDUP(IF(OR(($D64+$F$6)=U$62,($C64+$D64+$F$6)=U$62,($C64*2+$D64+$F$6)=U$62,($C64*3+$D64+$F$6)=U$62,($C64*4+$D64+$F$6)=U$62,($C64*5+$D64+$F$6)=U$62,($C64*6+$D64+$F$6)=U$62,($C64*7+$D64+$F$6)=U$62,($C64*8+$D64+$F$6)=U$62),$F64*$H64*((1+$J$52)^(U$62-$F$6)),0),-2)","v":0},0,0,0,0,0,0,0,0,0,{"$f":"SUM(K64:AD64)-J64","v":0}]
["Seal Coat",{"$nulls":3},"Per Sq. Ft.",{"$nulls":3},0,0,0,0,0,0,0,0,0,0,0,0,0,0,0,0,0,0,0,0,0,0,0]
["Striping",{"$nulls":3},"Per Sq. Ft.",{"$nulls":3},0,0,0,0,0,0,0,0,0,0,0,0,0,0,0,0,0,0,0,0,0,0,0]
["Curb & Gutter",{"$nulls":3},"Per Sq. Ft.",{"$nulls":3},0,0,0,0,0,0,0,0,0,0,0,0,0,0,0,0,0,0,0,0,0,0,0]
["Pedestrian paving",{"$nulls":3},"Per Sq. Ft.",{"$nulls":3},0,0,0,0,0,0,0,0,0,0,0,0,0,0,0,0,0,0,0,0,0,0,0]
["Signage",{"$nulls":3},"Per Sq. Ft.",{"$nulls":3},0,0,0,0,0,0,0,0,0,0,0,0,0,0,0,0,0,0,0,0,0,0,0]
["Water Lines/Mains",{"$nulls":3},"Per Sq. Ft.",{"$nulls":3},0,0,0,0,0,0,0,0,0,0,0,0,0,0,0,0,0,0,0,0,0,0,0]
["Sewer Lines/Mains",{"$nulls":3},"Per Sq. Ft.",{"$nulls":3},0,0,0,0,0,0,0,0,0,0,0,0,0,0,0,0,0,0,0,0,0,0,0]
["Lighting",{"$nulls":3},"Per Sq. Ft.",{"$nulls":3},0,0,0,0,0,0,0,0,0,0,0,0,0,0,0,0,0,0,0,0,0,0,0]
["Storm Drainage",{"$nulls":3},"Per Sq. Ft.",{"$nulls":3},0,0,0,0,0,0,0,0,0,0,0,0,0,0,0,0,0,0,0,0,0,0,0]
["Landscape",{"$nulls":3},"Per Sq. Ft.",{"$nulls":3},0,0,{"$f":"ROUNDUP(IF(OR(($D74+$F$6)=K$62,($C74+$D74+$F$6)=K$62,($C74*2+$D74+$F$6)=K$62,($C74*3+$D74+$F$6)=K$62,($C74*4+$D74+$F$6)=K$62,($C74*5+$D74+$F$6)=K$62,($C74*6+$D74+$F$6)=K$62,($C74*7+$D74+$F$6)=K$62,($C74*8+$D74+$F$6)=K$62),$F74*$H74*((1+$J$52)^(K$62-$F$6)),0),-2)","v":0},0,0,0,0,0,0,0,0,0,{"$f":"ROUNDUP(IF(OR(($D74+$F$6)=U$62,($C74+$D74+$F$6)=U$62,($C74*2+$D74+$F$6)=U$62,($C74*3+$D74+$F$6)=U$62,($C74*4+$D74+$F$6)=U$62,($C74*5+$D74+$F$6)=U$62,($C74*6+$D74+$F$6)=U$62,($C74*7+$D74+$F$6)=U$62,($C74*8+$D74+$F$6)=U$62),$F74*$H74*((1+$J$52)^(U$62-$F$6)),0),-2)","v":0},0,0,0,0,0,0,0,0,0,0]
["Fencing",{"$nulls":3},"Per Sq. Ft.",{"$nulls":3},0,0,0,0,0,0,0,0,0,0,0,0,0,0,0,0,0,0,0,0,0,0,0]
["Fence Painting",{"$nulls":3},"Per Sq. Ft.",{"$nulls":3},0,0,0,0,0,0,0,0,0,0,0,0,0,0,0,0,0,0,0,0,0,0,0]
["Dumpsters & Enclosures",{"$nulls":3},"Per Sq. Ft.",{"$nulls":3},0,0,0,0,0,0,0,0,0,0,0,0,0,0,0,0,0,0,0,0,0,0,0]
["Electric Distribution",{"$nulls":3},"Per Sq. Ft.",{"$nulls":3},0,0,0,0,0,0,0,0,0,0,0,0,0,0,0,0,0,0,0,0,0,0,0]
["Playground Areas/Equipment",{"$nulls":3},"Per Sq. Ft.",{"$nulls":3},0,0,0,0,0,0,0,0,0,0,0,0,0,0,0,0,0,0,0,0,0,0,0]
["Other (Specify)",{"$nulls":7},0,0,0,0,0,0,0,0,0,0,0,0,0,0,0,0,0,0,0,0,0,0,0]
["Other (Specify)",{"$nulls":7},0,0,0,0,0,0,0,0,0,0,0,0,0,0,0,0,0,0,0,0,0,0,0]
["Site Subtotals",{"$nulls":7},{"$f":"SUM(I64:I81)","v":0},0,0,0,0,0,0,0,0,0,0,0,0,0,0,0,0,0,0,0,0,0,0]
["(4.10) Common Buildings--Rehab Only",{"$nulls":12},"Years 1-5",{"$f":"SUM(K98:O98)","v":0},{"$nulls":3},"Years 6-10",{"$f":"SUM(P98:T98)","v":0},{"$nulls":3},"Years 11-15",{"$f":"SUM(T98:X98)","v":0},{"$nulls":3},"Years 16-20",{"$f":"SUM(Y98:AC98)","v":0}]
["Administrative Building",{"$nulls":3},"Per Sq. Ft.",{"$nulls":3},{"$f":"ROUNDUP(+G84*H84,-2)","v":0},{"$f":"SUM(K84:AD84)","v":0},{"$f":"ROUNDUP(IF(OR(($D84+$F$6)=K$62,($C84+$D84+$F$6)=K$62,($C84*2+$D84+$F$6)=K$62,($C84*3+$D84+$F$6)=K$62,($C84*4+$D84+$F$6)=K$62,($C84*5+$D84+$F$6)=K$62,($C84*6+$D84+$F$6)=K$62,($C84*7+$D84+$F$6)=K$62,($C84*8+$D84+$F$6)=K$62),$F84*$H84*((1+$J$52)^(K$62-$F$6)),0),-2)","v":0},0,0,0,0,0,0,0,0,0,{"$f":"ROUNDUP(IF(OR(($D84+$F$6)=U$62,($C84+$D84+$F$6)=U$62,($C84*2+$D84+$F$6)=U$62,($C84*3+$D84+$F$6)=U$62,($C84*4+$D84+$F$6)=U$62,($C84*5+$D84+$F$6)=U$62,($C84*6+$D84+$F$6)=U$62,($C84*7+$D84+$F$6)=U$62,($C84*8+$D84+$F$6)=U$62),$F84*$H84*((1+$J$52)^(U$62-$F$6)),0),-2)","v":0},0,0,0,0,0,0,0,0,0,{"$f":"SUM(K84:AD84)-J84","v":0}]
["Community Building",{"$nulls":3},"Per Sq. Ft.",{"$nulls":3},0,0,0,0,0,0,0,0,0,0,0,0,0,0,0,0,0,0,0,0,0,0,0]
["Shop",{"$nulls":3},"Per Sq. Ft.",{"$nulls":3},0,0,0,0,0,0,0,0,0,0,0,0,0,0,0,0,0,0,0,0,0,0,0]
["Storage Area",{"$nulls":3},"Per Sq. Ft.",{"$nulls":3},0,0,0,0,0,0,0,0,0,0,0,0,0,0,0,0,0,0,0,0,0,0,0]
["Central Boiler",{"$nulls":3},"Per Sq. Ft.",{"$nulls":3},0,0,0,0,0,0,0,0,0,0,0,0,0,0,0,0,0,0,0,0,0,0,0]
["Central Chiller",{"$nulls":3},"Per Sq. Ft.",{"$nulls":3},0,0,0,0,0,0,0,0,0,0,0,0,0,0,0,0,0,0,0,0,0,0,0]
["Family Invesment Center",{"$nulls":3},"Per Sq. Ft.",{"$nulls":3},0,0,0,0,0,0,0,0,0,0,0,0,0,0,0,0,0,0,0,0,0,0,0]
["Day Care Center",{"$nulls":3},"Per Sq. Ft.",{"$nulls":3},0,0,0,0,0,0,0,0,0,0,0,0,0,0,0,0,0,0,0,0,0,0,0]
["Laundry Areas",{"$nulls":3},"Per Sq. Ft.",{"$nulls":3},0,0,{"$f":"ROUNDUP(IF(OR(($D92+$F$6)=K$62,($C92+$D92+$F$6)=K$62,($C92*2+$D92+$F$6)=K$62,($C92*3+$D92+$F$6)=K$62,($C92*4+$D92+$F$6)=K$62,($C92*5+$D92+$F$6)=K$62,($C92*6+$D92+$F$6)=K$62,($C92*7+$D92+$F$6)=K$62,($C92*8+$D92+$F$6)=K$62),$F92*$H92*((1+$J$52)^(K$62-$F$6)),0),-2)","v":0},0,0,0,0,0,0,0,0,0,{"$f":"ROUNDUP(IF(OR(($D92+$F$6)=U$62,($C92+$D92+$F$6)=U$62,($C92*2+$D92+$F$6)=U$62,($C92*3+$D92+$F$6)=U$62,($C92*4+$D92+$F$6)=U$62,($C92*5+$D92+$F$6)=U$62,($C92*6+$D92+$F$6)=U$62,($C92*7+$D92+$F$6)=U$62,($C92*8+$D92+$F$6)=U$62),$F92*$H92*((1+$J$52)^(U$62-$F$6)),0),-2)","v":0},0,0,0,0,0,0,0,0,0,0]
["Common Area Washers",{"$nulls":3},"Per Sq. Ft.",{"$nulls":3},0,0,0,0,0,0,0,0,0,0,0,0,0,0,0,0,0,0,0,0,0,0,0]
["Common Area Dryers",{"$nulls":3},"Per Sq. Ft.",{"$nulls":3},0,0,0,0,0,0,0,0,0,0,0,0,0,0,0,0,0,0,0,0,0,0,0]
["Common Area Finishes",{"$nulls":3},"Per Sq. Ft.",{"$nulls":3},0,0,0,0,0,0,0,0,0,0,0,0,0,0,0,0,0,0,0,0,0,0,0]
["Other (Specify)",{"$nulls":7},0,0,0,0,0,0,0,0,0,0,0,0,0,0,0,0,0,0,0,0,0,0,0]
["Other (Specify)",{"$nulls":7},0,0,0,0,0,0,0,0,0,0,0,0,0,0,0,0,0,0,0,0,0,0,0]
["Common Subtotals",{"$nulls":7},{"$f":"SUM(I84:I97)","v":0},0,0,0,0,0,0,0,0,0,0,0,0,0,0,0,0,0,0,0,0,0,0]
["(4.11) Unit Exteriors",{"$nulls":12},"Years 1-5",{"$f":"SUM(K121:O121)","v":0},{"$nulls":3},"Years 6-10",{"$f":"SUM(P121:T121)","v":0},{"$nulls":3},"Years 11-15",{"$f":"SUM(U121:Y121)","v":0},{"$nulls":3},"Years 16-20",{"$f":"SUM(Z121:AD121)","v":0}]
["Carports/Surface Garage",{"$nulls":3},"Per Sq. Ft.",{"$nulls":3},{"$f":"ROUNDUP(+G100*H100,-2)","v":0},{"$f":"SUM(K100:AD100)","v":0},{"$f":"ROUNDUP(IF(OR(($D100+$F$6)=K$62,($C100+$D100+$F$6)=K$62,($C100*2+$D100+$F$6)=K$62,($C100*3+$D100+$F$6)=K$62,($C100*4+$D100+$F$6)=K$62,($C100*5+$D100+$F$6)=K$62,($C100*6+$D100+$F$6)=K$62,($C100*7+$D100+$F$6)=K$62,($C100*8+$D100+$F$6)=K$62),$F100*$H100*((1+$J$52)^(K$62-$F$6)),0),-2)","v":0},0,0,0,0,0,0,0,0,0,{"$f":"ROUNDUP(IF(OR(($D100+$F$6)=U$62,($C100+$D100+$F$6)=U$62,($C100*2+$D100+$F$6)=U$62,($C100*3+$D100+$F$6)=U$62,($C100*4+$D100+$F$6)=U$62,($C100*5+$D100+$F$6)=U$62,($C100*6+$D100+$F$6)=U$62,($C100*7+$D100+$F$6)=U$62,($C100*8+$D100+$F$6)=U$62),$F100*$H100*((1+$J$52)^(U$62-$F$6)),0),-2)","v":0},0,0,0,0,0,0,0,0,0,{"$f":"SUM(K100:AD100)-J100","v":0}]
["Foundation",{"$nulls":3},"Per Sq. Ft.",{"$nulls":3},0,0,0,0,0,0,0,0,0,0,0,0,0,0,0,0,0,0,0,0,0,0,0]
["Building Slab",{"$nulls":3},"Per Sq. Ft.",{"$nulls":3},0,0,0,0,0,0,0,0,0,0,0,0,0,0,0,0,0,0,0,0,0,0,0]
["Roofs",{"$nulls":3},"Per Sq. Ft.",{"$nulls":3},0,0,0,0,0,0,0,0,0,0,0,0,0,0,0,0,0,0,0,0,0,0,0]
["Canopies",{"$nulls":3},"Per Sq. Ft.",{"$nulls":3},0,0,0,0,0,0,0,0,0,0,0,0,0,0,0,0,0,0,0,0,0,0,0]
["Tuck-Pointing",{"$nulls":3},"Per Sq. Ft.",{"$nulls":3},0,0,0,0,0,0,0,0,0,0,0,0,0,0,0,0,0,0,0,0,0,0,0]
["Exterior Paint & Caulking",{"$nulls":3},"Per Sq. Ft.",{"$nulls":3},0,0,0,0,0,0,0,0,0,0,0,0,0,0,0,0,0,0,0,0,0,0,0]
["Soffits",{"$nulls":3},"Per Sq. Ft.",{"$nulls":3},0,0,0,0,0,0,0,0,0,0,0,0,0,0,0,0,0,0,0,0,0,0,0]
["Siding",{"$nulls":3},"Per Sq. Ft.",{"$nulls":3},0,0,0,0,0,0,0,0,0,0,0,0,0,0,0,0,0,0,0,0,0,0,0]
["Exterior Stairwells/Fire Escapes",{"$nulls":3},"Per Sq. Ft.",{"$nulls":3},0,0,0,0,0,0,0,0,0,0,0,0,0,0,0,0,0,0,0,0,0,0,0]
["Landings & Railings",{"$nulls":3},"Per Sq. Ft.",{"$nulls":3},0,0,{"$f":"ROUNDUP(IF(OR(($D110+$F$6)=K$62,($C110+$D110+$F$6)=K$62,($C110*2+$D110+$F$6)=K$62,($C110*3+$D110+$F$6)=K$62,($C110*4+$D110+$F$6)=K$62,($C110*5+$D110+$F$6)=K$62,($C110*6+$D110+$F$6)=K$62,($C110*7+$D110+$F$6)=K$62,($C110*8+$D110+$F$6)=K$62),$F110*$H110*((1+$J$52)^(K$62-$F$6)),0),-2)","v":0},0,0,0,0,0,0,0,0,0,{"$f":"ROUNDUP(IF(OR(($D110+$F$6)=U$62,($C110+$D110+$F$6)=U$62,($C110*2+$D110+$F$6)=U$62,($C110*3+$D110+$F$6)=U$62,($C110*4+$D110+$F$6)=U$62,($C110*5+$D110+$F$6)=U$62,($C110*6+$D110+$F$6)=U$62,($C110*7+$D110+$F$6)=U$62,($C110*8+$D110+$F$6)=U$62),$F110*$H110*((1+$J$52)^(U$62-$F$6)),0),-2)","v":0},0,0,0,0,0,0,0,0,0,0]
["Balconies & Railings",{"$nulls":3},"Per Sq. Ft.",{"$nulls":3},0,0,0,0,0,0,0,0,0,0,0,0,0,0,0,0,0,0,0,0,0,0,0]
["Mail Facilities",{"$nulls":3},"Per Sq. Ft.",{"$nulls":3},0,0,0,0,0,0,0,0,0,0,0,0,0,0,0,0,0,0,0,0,0,0,0]
["Exterior Doors",{"$nulls":3},"Per Sq. Ft.",{"$nulls":3},0,0,0,0,0,0,0,0,0,0,0,0,0,0,0,0,0,0,0,0,0,0,0]
["Windows",{"$nulls":3},"Per Sq. Ft.",{"$nulls":3},0,0,0,0,0,0,0,0,0,0,0,0,0,0,0,0,0,0,0,0,0,0,0]
["Gutters/Downspouts",{"$nulls":3},"Per Sq. Ft.",{"$nulls":3},0,0,0,0,0,0,0,0,0,0,0,0,0,0,0,0,0,0,0,0,0,0,0]
["Columns & Porches",{"$nulls":3},"Per Sq. Ft.",{"$nulls":3},0,0,0,0,0,0,0,0,0,0,0,0,0,0,0,0,0,0,0,0,0,0,0]
["Decks & Patios",{"$nulls":3},"Per Sq. Ft.",{"$nulls":3},0,0,0,0,0,0,0,0,0,0,0,0,0,0,0,0,0,0,0,0,0,0,0]
["Exterior Lighting",{"$nulls":3},"Per Sq. Ft.",{"$nulls":3},0,0,0,0,0,0,0,0,0,0,0,0,0,0,0,0,0,0,0,0,0,0,0]
["Other (Specify)",{"$nulls":7},0,0,0,0,0,0,0,0,0,0,0,0,0,0,0,0,0,0,0,0,0,0,0]
["Other (Specify)",{"$nulls":7},0,0,0,0,0,0,0,0,0,0,0,0,0,0,0,0,0,0,0,0,0,0,0]
["Unit Exterior Subtotals",{"$nulls":7},{"$f":"SUM(I100:I120)","v":0},0,0,0,0,0,0,0,0,0,0,0,0,0,0,0,0,0,0,0,0,0,0]
["(4.12) Unit Interiors",{"$nulls":12},"Years 1-5",{"$f":"SUM(K144:O144)","v":0},{"$nulls":3},"Years 6-10",{"$f":"SUM(P144:T144)","v":0},{"$nulls":3},"Years 11-15",{"$f":"SUM(U144:Y144)","v":0},{"$nulls":3},"Years 16-20",{"$f":"SUM(Z144:AD144)","v":0}]
["Interior Painting (non routine)",{"$nulls":3},"Per Sq. Ft.",{"$nulls":3},{"$f":"ROUNDUP(+G123*H123,-2)","v":0},{"$f":"SUM(K123:AD123)","v":0},{"$f":"ROUNDUP(IF(OR(($D123+$F$6)=K$62,($C123+$D123+$F$6)=K$62,($C123*2+$D123+$F$6)=K$62,($C123*3+$D123+$F$6)=K$62,($C123*4+$D123+$F$6)=K$62,($C123*5+$D123+$F$6)=K$62,($C123*6+$D123+$F$6)=K$62,($C123*7+$D123+$F$6)=K$62,($C123*8+$D123+$F$6)=K$62),$F123*$H123*((1+$J$52)^(K$62-$F$6)),0),-2)","v":0},0,0,0,0,0,0,0,0,0,{"$f":"ROUNDUP(IF(OR(($D123+$F$6)=U$62,($C123+$D123+$F$6)=U$62,($C123*2+$D123+$F$6)=U$62,($C123*3+$D123+$F$6)=U$62,($C123*4+$D123+$F$6)=U$62,($C123*5+$D123+$F$6)=U$62,($C123*6+$D123+$F$6)=U$62,($C123*7+$D123+$F$6)=U$62,($C123*8+$D123+$F$6)=U$62),$F123*$H123*((1+$J$52)^(U$62-$F$6)),0),-2)","v":0},0,0,0,0,0,0,0,0,0,{"$f":"SUM(K123:AD123)-J123","v":0}]
["Interior Doors",{"$nulls":3},"Per Sq. Ft.",{"$nulls":3},0,0,0,0,0,0,0,0,0,0,0,0,0,0,0,0,0,0,0,0,0,0,0]
["Flooring (non routine)",{"$nulls":3},"Per Sq. Ft.",{"$nulls":3},0,0,0,0,0,0,0,0,0,0,0,0,0,0,0,0,0,0,0,0,0,0,0]
["Shower/Tub Surrounds",{"$nulls":3},"Per Sq. Ft.",{"$nulls":3},0,0,0,0,0,0,0,0,0,0,0,0,0,0,0,0,0,0,0,0,0,0,0]
["Commodes",{"$nulls":3},"Per Sq. Ft.",{"$nulls":3},0,0,0,0,0,0,0,0,0,0,0,0,0,0,0,0,0,0,0,0,0,0,0]
["Vanities",{"$nulls":3},"Per Sq. Ft.",{"$nulls":3},0,0,0,0,0,0,0,0,0,0,0,0,0,0,0,0,0,0,0,0,0,0,0]
["Faucets",{"$nulls":3},"Per Sq. Ft.",{"$nulls":3},0,0,0,0,0,0,0,0,0,0,0,0,0,0,0,0,0,0,0,0,0,0,0]
["Bathroom Flooring (non cyclical)",{"$nulls":3},"Per Sq. Ft.",{"$nulls":3},0,0,0,0,0,0,0,0,0,0,0,0,0,0,0,0,0,0,0,0,0,0,0]
["Kitchen Cabinets",{"$nulls":3},"Per Sq. Ft.",{"$nulls":3},0,0,0,0,0,0,0,0,0,0,0,0,0,0,0,0,0,0,0,0,0,0,0]
["Ranges",{"$nulls":3},"Per Sq. Ft.",{"$nulls":3},0,0,0,0,0,0,0,0,0,0,0,0,0,0,0,0,0,0,0,0,0,0,0]
["Range Hoods",{"$nulls":3},"Per Sq. Ft.",{"$nulls":3},0,0,{"$f":"ROUNDUP(IF(OR(($D133+$F$6)=K$62,($C133+$D133+$F$6)=K$62,($C133*2+$D133+$F$6)=K$62,($C133*3+$D133+$F$6)=K$62,($C133*4+$D133+$F$6)=K$62,($C133*5+$D133+$F$6)=K$62,($C133*6+$D133+$F$6)=K$62,($C133*7+$D133+$F$6)=K$62,($C133*8+$D133+$F$6)=K$62),$F133*$H133*((1+$J$52)^(K$62-$F$6)),0),-2)","v":0},0,0,0,0,0,0,0,0,0,{"$f":"ROUNDUP(IF(OR(($D133+$F$6)=U$62,($C133+$D133+$F$6)=U$62,($C133*2+$D133+$F$6)=U$62,($C133*3+$D133+$F$6)=U$62,($C133*4+$D133+$F$6)=U$62,($C133*5+$D133+$F$6)=U$62,($C133*6+$D133+$F$6)=U$62,($C133*7+$D133+$F$6)=U$62,($C133*8+$D133+$F$6)=U$62),$F133*$H133*((1+$J$52)^(U$62-$F$6)),0),-2)","v":0},0,0,0,0,0,0,0,0,0,0]
["Refrigerators",{"$nulls":3},"Per Sq. Ft.",{"$nulls":3},0,0,0,0,0,0,0,0,0,0,0,0,0,0,0,0,0,0,0,0,0,0,0]
["Counters and Sinks",{"$nulls":3},"Per Sq. Ft.",{"$nulls":3},0,0,0,0,0,0,0,0,0,0,0,0,0,0,0,0,0,0,0,0,0,0,0]
["Dishwasher",{"$nulls":3},"Per Sq. Ft.",{"$nulls":3},0,0,0,0,0,0,0,0,0,0,0,0,0,0,0,0,0,0,0,0,0,0,0]
["Microwave",{"$nulls":3},"Per Sq. Ft.",{"$nulls":3},0,0,0,0,0,0,0,0,0,0,0,0,0,0,0,0,0,0,0,0,0,0,0]
["Washing Machines",{"$nulls":3},"Per Sq. Ft.",{"$nulls":3},0,0,0,0,0,0,0,0,0,0,0,0,0,0,0,0,0,0,0,0,0,0,0]
["Dryers",{"$nulls":3},"Per Sq. Ft.",{"$nulls":3},0,0,0,0,0,0,0,0,0,0,0,0,0,0,0,0,0,0,0,0,0,0,0]
["Call-for-Aid Systems",{"$nulls":7},0,0,0,0,0,0,0,0,0,0,0,0,0,0,0,0,0,0,0,0,0,0,0]
["Stairs and Handrails",{"$nulls":7},0,0,0,0,0,0,0,0,0,0,0,0,0,0,0,0,0,0,0,0,0,0,0]
["Other (Specify)",{"$nulls":7},0,0,0,0,0,0,0,0,0,0,0,0,0,0,0,0,0,0,0,0,0,0,0]
["Other (Specify)",{"$nulls":7},0,0,0,0,0,0,0,0,0,0,0,0,0,0,0,0,0,0,0,0,0,0,0]
["Unit Interior Subtotals",{"$nulls":7},{"$f":"SUM(I123:I143)","v":0},0,0,0,0,0,0,0,0,0,0,0,0,0,0,0,0,0,0,0,0,0,0]
["(4.13) Mechanical",{"$nulls":12},"Years 1-5",{"$f":"SUM(K161:O161)","v":0},{"$nulls":3},"Years 6-10",{"$f":"SUM(P161:T161)","v":0},{"$nulls":3},"Years 11-15",{"$f":"SUM(U161:Y161)","v":0},{"$nulls":3},"Years 16-20",{"$f":"SUM(Z161:AD161)","v":0}]
["Water Distribution",{"$nulls":3},"Per Sq. Ft.",{"$nulls":3},{"$f":"ROUNDUP(+G146*H146,-2)","v":0},{"$f":"SUM(K146:AD146)","v":0},{"$f":"ROUNDUP(IF(OR(($D146+$F$6)=K$62,($C146+$D146+$F$6)=K$62,($C146*2+$D146+$F$6)=K$62,($C146*3+$D146+$F$6)=K$62,($C146*4+$D146+$F$6)=K$62,($C146*5+$D146+$F$6)=K$62,($C146*6+$D146+$F$6)=K$62,($C146*7+$D146+$F$6)=K$62,($C146*8+$D146+$F$6)=K$62),$F146*$H146*((1+$J$52)^(K$62-$F$6)),0),-2)","v":0},0,0,0,0,0,0,0,0,0,{"$f":"ROUNDUP(IF(OR(($D146+$F$6)=U$62,($C146+$D146+$F$6)=U$62,($C146*2+$D146+$F$6)=U$62,($C146*3+$D146+$F$6)=U$62,($C146*4+$D146+$F$6)=U$62,($C146*5+$D146+$F$6)=U$62,($C146*6+$D146+$F$6)=U$62,($C146*7+$D146+$F$6)=U$62,($C146*8+$D146+$F$6)=U$62),$F146*$H146*((1+$J$52)^(U$62-$F$6)),0),-2)","v":0},0,0,0,0,0,0,0,0,0,{"$f":"SUM(K146:AD146)-J146","v":0}]
["Heating Equipt/System",{"$nulls":3},"Per Sq. Ft.",{"$nulls":3},0,0,0,0,0,0,0,0,0,0,0,0,0,0,0,0,0,0,0,0,0,0,0]
["Electric Disribution",{"$nulls":3},"Per Sq. Ft.",{"$nulls":3},0,0,0,0,0,0,0,0,0,0,0,0,0,0,0,0,0,0,0,0,0,0,0]
["Hot Water Heaters",{"$nulls":3},"Per Sq. Ft.",{"$nulls":3},0,0,0,0,0,0,0,0,0,0,0,0,0,0,0,0,0,0,0,0,0,0,0]
["Unit Sub-panels",{"$nulls":3},"Per Sq. Ft.",{"$nulls":3},0,0,0,0,0,0,0,0,0,0,0,0,0,0,0,0,0,0,0,0,0,0,0]
["Trash Compactor",{"$nulls":3},"Per Sq. Ft.",{"$nulls":3},0,0,0,0,0,0,0,0,0,0,0,0,0,0,0,0,0,0,0,0,0,0,0]
["Cooling Equipt/Systems",{"$nulls":3},"Per Sq. Ft.",{"$nulls":3},0,0,0,0,0,0,0,0,0,0,0,0,0,0,0,0,0,0,0,0,0,0,0]
["Smoke/Fire Detection",{"$nulls":3},"Per Sq. Ft.",{"$nulls":3},0,0,0,0,0,0,0,0,0,0,0,0,0,0,0,0,0,0,0,0,0,0,0]
["Unit Reconfiguration",{"$nulls":3},"Per Sq. Ft.",{"$nulls":3},0,0,0,0,0,0,0,0,0,0,0,0,0,0,0,0,0,0,0,0,0,0,0]
["Security/Fire Alarm",{"$nulls":3},"Per Sq. Ft.",{"$nulls":3},0,0,0,0,0,0,0,0,0,0,0,0,0,0,0,0,0,0,0,0,0,0,0]
["Fire Suspression System",{"$nulls":3},"Per Sq. Ft.",{"$nulls":3},0,0,0,0,0,0,0,0,0,0,0,0,0,0,0,0,0,0,0,0,0,0,0]
["Generator",{"$nulls":3},"Per Sq. Ft.",{"$nulls":3},0,0,0,0,0,0,0,0,0,0,0,0,0,0,0,0,0,0,0,0,0,0,0]
["Elevator",{"$nulls":3},"Per Sq. Ft.",{"$nulls":3},0,0,0,0,0,0,0,0,0,0,0,0,0,0,0,0,0,0,0,0,0,0,0]
["Other (Specify) ",{"$nulls":7},0,0,0,0,0,0,0,0,0,0,0,0,0,0,0,0,0,0,0,0,0,0,0]
["Other (Specify)",{"$nulls":7},0,0,0,0,0,0,0,0,0,0,0,0,0,0,0,0,0,0,0,0,0,0,0]
["Mechanical Subtotals",{"$nulls":7},{"$f":"SUM(I146:I160)","v":0},0,0,0,0,0,0,0,0,0,0,0,0,0,0,0,0,0,0,0,0,0,0]
["(4.14) Other",{"$nulls":12},"Years 1-5",{"$f":"SUM(K170:O170)","v":0},{"$nulls":3},"Years 6-10",{"$f":"SUM(P170:T170)","v":0},{"$nulls":3},"Years 11-15",{"$f":"SUM(U170:Y170)","v":0},{"$nulls":3},"Years 16-20",{"$f":"SUM(Z170:AD170)","v":0}]
["Site Acquisition",{"$nulls":3},"Per Sq. Ft.",{"$nulls":3},{"$f":"ROUNDUP(+G163*H163,-2)","v":0},{"$f":"SUM(K163:AD163)","v":0},{"$f":"ROUNDUP(IF(OR(($D163+$F$6)=K$62,($C163+$D163+$F$6)=K$62,($C163*2+$D163+$F$6)=K$62,($C163*3+$D163+$F$6)=K$62,($C163*4+$D163+$F$6)=K$62,($C163*5+$D163+$F$6)=K$62,($C163*6+$D163+$F$6)=K$62,($C163*7+$D163+$F$6)=K$62,($C163*8+$D163+$F$6)=K$62),$F163*$H163*((1+$J$52)^(K$62-$F$6)),0),-2)","v":0},0,0,0,0,0,0,0,0,0,{"$f":"ROUNDUP(IF(OR(($D163+$F$6)=U$62,($C163+$D163+$F$6)=U$62,($C163*2+$D163+$F$6)=U$62,($C163*3+$D163+$F$6)=U$62,($C163*4+$D163+$F$6)=U$62,($C163*5+$D163+$F$6)=U$62,($C163*6+$D163+$F$6)=U$62,($C163*7+$D163+$F$6)=U$62,($C163*8+$D163+$F$6)=U$62),$F163*$H163*((1+$J$52)^(U$62-$F$6)),0),-2)","v":0},0,0,0,0,0,0,0,0,0,{"$f":"SUM(K163:AD163)-J163","v":0}]
["Other Fees and Costs",{"$nulls":3},"Per Sq. Ft.",{"$nulls":3},0,{"$f":"SUM(K164:AD164)","v":0},0,0,0,0,0,0,0,0,0,0,0,0,0,0,0,0,0,0,0,0,0]
["Demolition",{"$nulls":3},"Per Sq. Ft.",{"$nulls":3},0,{"$f":"SUM(K165:AD165)","v":0},0,0,0,0,0,0,0,0,0,0,0,0,0,0,0,0,0,0,0,0,0]
["Dwelling Unit Conversion",{"$nulls":3},"Per Sq. Ft.",{"$nulls":3},0,{"$nulls":21},0]
["Contingency",{"$nulls":3},"Per Sq. Ft.",{"$nulls":3},0,{"$f":"SUM(K167:AD167)","v":0},{"$f":"ROUNDUP(IF(OR(($D167+$F$6)=K$62,($C167+$D167+$F$6)=K$62,($C167*2+$D167+$F$6)=K$62,($C167*3+$D167+$F$6)=K$62,($C167*4+$D167+$F$6)=K$62,($C167*5+$D167+$F$6)=K$62,($C167*6+$D167+$F$6)=K$62,($C167*7+$D167+$F$6)=K$62,($C167*8+$D167+$F$6)=K$62),$F167*$H167*((1+$J$52)^(K$62-$F$6)),0),-2)","v":0},0,0,0,0,0,0,0,0,0,{"$f":"ROUNDUP(IF(OR(($D167+$F$6)=U$62,($C167+$D167+$F$6)=U$62,($C167*2+$D167+$F$6)=U$62,($C167*3+$D167+$F$6)=U$62,($C167*4+$D167+$F$6)=U$62,($C167*5+$D167+$F$6)=U$62,($C167*6+$D167+$F$6)=U$62,($C167*7+$D167+$F$6)=U$62,($C167*8+$D167+$F$6)=U$62),$F167*$H167*((1+$J$52)^(U$62-$F$6)),0),-2)","v":0},0,0,0,0,0,0,0,0,0,0]
["Other (Specify) ",{"$nulls":7},0,{"$f":"SUM(K168:AD168)","v":0},0,0,0,0,0,0,0,0,0,0,0,0,0,0,0,0,0,0,0,0,0]
["Other (Specify)",{"$nulls":7},0,{"$f":"SUM(K169:AD169)","v":0},0,0,0,0,0,0,0,0,0,0,0,0,0,0,0,0,0,0,0,0,0]
["Other Subtotals",{"$nulls":7},{"$f":"SUM(I163:I169)","v":0},0,0,0,0,0,0,0,0,0,0,0,0,0,0,0,0,0,0,0,0,0,0]
["GRAND TOTAL",{"$nulls":7},{"$f":"I170+I161+I144+I82+I98","v":0},{"$f":"J170+J161+J144+J121+J98+J82","v":0},0,0,0,0,0,0,0,0,0,0,0,0,0,0,0,0,0,0,0,0,0]
["(4.15) Special Categories"]
["Amount of PNA Relating to Lead Paint/Asbestos Compliance",{"$nulls":3},"Per Sq. Ft.",{"$nulls":3},{"$f":"ROUNDUP(+G173*H173,-2)","v":0}]
["Amount of PNA Relating to Section 504, ADA, and Fair Housing Act (if applicable) Compliance",{"$nulls":3},"Per Sq. Ft.",{"$nulls":3},{"$f":"ROUNDUP(+G174*H174,-2)","v":0}]
[]
["(4.16) New Construction"]
["Dwelling Units",{"$nulls":3},"Per Sq. Ft.",{"$nulls":3},{"$f":"ROUNDUP(+G177*H177,-2)","v":0}]
["Administrative Building",{"$nulls":3},"Per Sq. Ft.",{"$nulls":3},0]
["Community Building or Facility",{"$nulls":3},"Per Sq. Ft.",{"$nulls":3},0]
["Shop",{"$nulls":3},"Per Sq. Ft.",{"$nulls":3},0]
["Storage Area",{"$nulls":3},"Per Sq. Ft.",{"$nulls":3},0]
["Family Investment Center",{"$nulls":3},"Per Sq. Ft.",{"$nulls":3},0]
["Day Care Center",{"$nulls":3},"Per Sq. Ft.",{"$nulls":3},0]
["Laundry Areas(s)",{"$nulls":3},"Per Sq. Ft.",{"$nulls":3},0]
["Other (Specify) ",{"$nulls":3},"Per Sq. Ft.",{"$nulls":3},0]
["Other (Specify)",{"$nulls":3},"Per Sq. Ft.",{"$nulls":3},0]
["Other (Specify)",{"$nulls":7},0]
["New Construction Subtotals",{"$nulls":7},{"$f":"SUM(I177:I187)","v":0}]

{"sheet":"Tab 6","index":7,"n_rows":188,"n_cols":31,"rows_kept":188,"merged":[[4,2,4,3],[5,2,5,3],[7,0,7,8],[9,1,9,2],[10,1,10,2],[20,3,20,9],[27,0,27,8],[29,8,29,9],[30,8,30,9],[31,8,31,9],[33,6,35,6],[37,4,37,9],[44,0,44,8],[46,0,46,1],[47,0,47,1],[48,0,48,1],[49,0,49,1],[50,0,50,1],[51,0,51,1],[52,0,52,1],[53,0,53,1],[54,0,54,1],[55,0,55,1],[56,0,56,1],[59,0,59,8],[61,0,61,1],[62,0,62,1],[81,0,81,1],[97,0,97,1],[120,0,120,1],[143,0,143,1],[160,0,160,1],[169,0,169,1],[170,0,170,1],[187,0,187,1]]}
["Physical Needs Assessment",{"$nulls":3},"U.S. Department of Housing",{"$nulls":4}," OMB Approval No. 2577-0157"]
["Capital Fund Financing Program/",{"$nulls":3},"and Urban Development",{"$nulls":4}," (exp. 1/31/2017)"]
["Operating Fund Financing Program",{"$nulls":3},"Office of Public and Indian Housing"]
[]
["HA Name",null,"HA Number",null,null,"FY of Assessment",null," Original  ","Date Prepared:"]
[{"$f":"'Tab 1'!A6","v":0},null,{"$f":"'Tab 5'!C6:D6","v":0},{"$nulls":4},"Revision  ","Date Revised:"]
[]
["(1.0) Project Data"]
[]
["(1.1) Management Office Address",{"$nulls":5},"(1.3) Development No.",null,"(1.4) DOFA Date"]
["(1.2) Project Name"]
[{"$nulls":4},"Family"]
[{"$nulls":3},"(1.9)","Elderly",null,null,"(1.10)","S-F Detached"]
["(1.5) Year of Last Substantial Mod",null,null,"Occupancy","Family & Disabled",null,null,"Structure","Semi-Detached"]
["(1.6) Occupancy Rate ",{"$f":"B20/(+B18-B26)","v":{"$error":"#DIV/0!"}},null,"Type(s)","Elderly & Disabled",null,null,"Type(s)","Row or Townhome"]
["        (Rentable Units Only)",null,null,"(Check)","Not Applicable",null,null,"(Check","M-F/Walkup"]
["(1.7) Latest PASS REAC Score",null,null,"all that apply)","Official Designation: Elderly",null,null,"all that","Elevator"]
["Total Units",{"$f":"+B20+B21","v":0},null,null,"Official Designation: Disabled",null,null,"apply)","Non-Dwelling"]
["(1.8) Total Buildings",{"$nulls":3},"Official Designation: Mixed"]
["Occupied Units",{"$f":"SUM(E23:J23)","v":0}]
["Vacant/Rentable Units",{"$f":"SUM(E24:J24)","v":0},null,"(1.11) Bedroom Distribution"]
[{"$nulls":4},"Eff","1BR","2BR","3BR","4BR","5BR+"]
[{"$nulls":3},"(1.11a) Occupied"]
[{"$nulls":3},"(1.11b) Vacant"]
[{"$nulls":3},"Total Units",{"$f":"SUM(E23:E24)","v":0},0,0,0,0,0]
[{"$nulls":3},"Avg Bedrooms per Unit",null,{"$f":"(+E23*1+F23*1+G23*2+H23*3+I23*4+J23*5)/SUM(E23:J23)","v":{"$error":"#DIV/0!"}}]
[]
["(2.0) Physical Needs Assessment Summary Data"]
[]
["(2.1) PNA Conducted By: (PHA/ 3rd Party)",null,"PHA Internally",null,null,"(2.5) Inspector Contact Name: "]
[null,null,"3rd Pary Independent",null,null,"(2.6) Company Name or PHA Title:"]
["(2.2) First Year Covered by PNA",{"$nulls":4},"(2.7) Inspector Contact Phone:"]
["(2.3) Length of PNA (in years)"]
["(2.4) Unit Interiors Inspected (#)",null,{"$f":"SUM(E40:J40)","v":0},{"$nulls":3},"(2.8) Data Source(s) for PNA",null,"Annual Inspections"]
["Units Inspected as % of Total",null,{"$f":"C34/B18","v":{"$error":"#DIV/0!"}},{"$nulls":5},"Contractor"]
["(2.9) Total Residential Buildings",{"$nulls":7},"REAC Inspections"]
["(2.10) Number of Building Exteriors Inspected"]
["(2.11) Total Off-Street Parking Spaces",{"$nulls":3},"(2.14) Units Inspected by Bedroom Size"]
["(2.12) Site Acreage",null,null,"acres","Eff","1BR","2BR","3BR","4BR","5BR+"]
["(2.13) Parking Area (in square feet)",null,null,"SF"]
[]
["(2.15) Physical Improvements Will Result in Structural/System Soundness at a Reasonable Cost",{"$nulls":5},"Yes","No"]
["(2.16) Development Has Long-Term Physical and Social Viability",{"$nulls":5},"Yes","No"]
[]
["(3.0) Total Physical Needs Summary"]
[]
["Major Category",null,"Immediate","Years                       1-5","Years                    6-10","Years                    11-15","Years                   16-20","Total Needs"]
["Site",null,{"$f":"+I82","v":0},{"$f":"$O$63","v":0},{"$f":"$T$63","v":0},{"$f":"$Y$63","v":0},{"$f":"$AD$63","v":0},{"$f":"SUM(C48:G48)","v":0}]
["Common Buildings",null,{"$f":"$I$98","v":0},{"$f":"$O$83","v":0},{"$f":"$T$83","v":0},{"$f":"$Y$83","v":0},{"$f":"$AD$83","v":0},0]
["Unit Exteriors",null,{"$f":"$I$121","v":0},{"$f":"$O$99","v":0},{"$f":"$T$99","v":0},{"$f":"$Y$99","v":0},{"$f":"$AD$99","v":0},0]
["Unit Interiors",null,{"$f":"$I$144","v":0},{"$f":"O122","v":0},{"$f":"T122","v":0},{"$f":"Y122","v":0},{"$f":"AD122","v":0},0]
["Mechanical",null,{"$f":"I161","v":0},{"$f":"O145","v":0},{"$f":"T145","v":0},{"$f":"Y145","v":0},{"$f":"AD145","v":0},0]
["Other",null,{"$f":"I170","v":0},{"$f":"O162","v":0},{"$f":"T162","v":0},{"$f":"Y162","v":0},{"$f":"AD162","v":0},0]
["Totals",null,{"$f":"SUM(C48:C53)","v":0},0,0,0,0,0]
["Amount of PNA relating to Lead Paint/Asbestos",null,{"$f":"I173","v":0},{"$nulls":4},{"$f":"C55","v":0}]
["Amount of PNA relating to Section 504, ADA, and Fair Housing Act (if applicable) Compliance",null,{"$f":"I174","v":0},{"$nulls":4},{"$f":"C56","v":0}]
["New Construction",{"$nulls":6},{"$f":"I188","v":0}]
[{"$nulls":5},"TOTAL PHYSICAL NEEDS",null,{"$f":"H57+H54","v":0}]
[]
["(4.0)Physical Needs Cost Estimate"]
[]
["(4.1) Category",null,"(4.2) Estimated Useful Life","(4.3)                Useful Life Remaining","(4.4)             Method","(4.5)                   Total          Quantity","(4.6)             Current Needs Quantity","(4.7)                Cost per      Quantity","(4.8)         Immediate Repairs Needed","Total Long Term Needs",{"$f":"+F6+1","v":1},{"$f":"1+K62","v":2},3,4,5,6,7,8,9,10,11,12,13,14,15,16,17,18,19,20]
["(4.9) Site",null,"(in yrs)","(in yrs)",{"$nulls":9},"Years 1-5",{"$f":"SUM(K82:O82)","v":0},{"$nulls":3},"Years 6-10",{"$f":"SUM(P82:T82)","v":0},{"$nulls":3},"Years 11-15",{"$f":"SUM(U82:Y82)","v":0},{"$nulls":3},"Years 16-20",{"$f":"SUM(Z82:AD82)","v":0}]
["Asphalt/Concrete",{"$nulls":3},"Per Sq. Ft.",{"$nulls":3},{"$f":"ROUNDUP(+G64*H64,-2)","v":0},{"$f":"SUM(K64:AD64)","v":0},{"$f":"ROUNDUP(IF(OR(($D64+$F$6)=K$62,($C64+$D64+$F$6)=K$62,($C64*2+$D64+$F$6)=K$62,($C64*3+$D64+$F$6)=K$62,($C64*4+$D64+$F$6)=K$62,($C64*5+$D64+$F$6)=K$62,($C64*6+$D64+$F$6)=K$62,($C64*7+$D64+$F$6)=K$62,($C64*8+$D64+$F$6)=K$62),$F64*$H64*((1+$J$52)^(K$62-$F$6)),0),-2)","v":0},0,0,0,0,0,0,0,0,0,{"$f":"ROUNDUP(IF(OR(($D64+$F$6)=U$62,($C64+$D64+$F$6)=U$62,($C64*2+$D64+$F$6)=U$62,($C64*3+$D64+$F$6)=U$62,($C64*4+$D64+$F$6)=U$62,($C64*5+$D64+$F$6)=U$62,($C64*6+$D64+$F$6)=U$62,($C64*7+$D64+$F$6)=U$62,($C64*8+$D64+$F$6)=U$62),$F64*$H64*((1+$J$52)^(U$62-$F$6)),0),-2)","v":0},0,0,0,0,0,0,0,0,0,{"$f":"SUM(K64:AD64)-J64","v":0}]
["Seal Coat",{"$nulls":3},"Per Sq. Ft.",{"$nulls":3},0,0,0,0,0,0,0,0,0,0,0,0,0,0,0,0,0,0,0,0,0,0,0]
["Striping",{"$nulls":3},"Per Sq. Ft.",{"$nulls":3},0,0,0,0,0,0,0,0,0,0,0,0,0,0,0,0,0,0,0,0,0,0,0]
["Curb & Gutter",{"$nulls":3},"Per Sq. Ft.",{"$nulls":3},0,0,0,0,0,0,0,0,0,0,0,0,0,0,0,0,0,0,0,0,0,0,0]
["Pedestrian paving",{"$nulls":3},"Per Sq. Ft.",{"$nulls":3},0,0,0,0,0,0,0,0,0,0,0,0,0,0,0,0,0,0,0,0,0,0,0]
["Signage",{"$nulls":3},"Per Sq. Ft.",{"$nulls":3},0,0,0,0,0,0,0,0,0,0,0,0,0,0,0,0,0,0,0,0,0,0,0]
["Water Lines/Mains",{"$nulls":3},"Per Sq. Ft.",{"$nulls":3},0,0,0,0,0,0,0,0,0,0,0,0,0,0,0,0,0,0,0,0,0,0,0]
["Sewer Lines/Mains",{"$nulls":3},"Per Sq. Ft.",{"$nulls":3},0,0,0,0,0,0,0,0,0,0,0,0,0,0,0,0,0,0,0,0,0,0,0]
["Lighting",{"$nulls":3},"Per Sq. Ft.",{"$nulls":3},0,0,0,0,0,0,0,0,0,0,0,0,0,0,0,0,0,0,0,0,0,0,0]
["Storm Drainage",{"$nulls":3},"Per Sq. Ft.",{"$nulls":3},0,0,0,0,0,0,0,0,0,0,0,0,0,0,0,0,0,0,0,0,0,0,0]
["Landscape",{"$nulls":3},"Per Sq. Ft.",{"$nulls":3},0,0,{"$f":"ROUNDUP(IF(OR(($D74+$F$6)=K$62,($C74+$D74+$F$6)=K$62,($C74*2+$D74+$F$6)=K$62,($C74*3+$D74+$F$6)=K$62,($C74*4+$D74+$F$6)=K$62,($C74*5+$D74+$F$6)=K$62,($C74*6+$D74+$F$6)=K$62,($C74*7+$D74+$F$6)=K$62,($C74*8+$D74+$F$6)=K$62),$F74*$H74*((1+$J$52)^(K$62-$F$6)),0),-2)","v":0},0,0,0,0,0,0,0,0,0,{"$f":"ROUNDUP(IF(OR(($D74+$F$6)=U$62,($C74+$D74+$F$6)=U$62,($C74*2+$D74+$F$6)=U$62,($C74*3+$D74+$F$6)=U$62,($C74*4+$D74+$F$6)=U$62,($C74*5+$D74+$F$6)=U$62,($C74*6+$D74+$F$6)=U$62,($C74*7+$D74+$F$6)=U$62,($C74*8+$D74+$F$6)=U$62),$F74*$H74*((1+$J$52)^(U$62-$F$6)),0),-2)","v":0},0,0,0,0,0,0,0,0,0,0]
["Fencing",{"$nulls":3},"Per Sq. Ft.",{"$nulls":3},0,0,0,0,0,0,0,0,0,0,0,0,0,0,0,0,0,0,0,0,0,0,0]
["Fence Painting",{"$nulls":3},"Per Sq. Ft.",{"$nulls":3},0,0,0,0,0,0,0,0,0,0,0,0,0,0,0,0,0,0,0,0,0,0,0]
["Dumpsters & Enclosures",{"$nulls":3},"Per Sq. Ft.",{"$nulls":3},0,0,0,0,0,0,0,0,0,0,0,0,0,0,0,0,0,0,0,0,0,0,0]
["Electric Distribution",{"$nulls":3},"Per Sq. Ft.",{"$nulls":3},0,0,0,0,0,0,0,0,0,0,0,0,0,0,0,0,0,0,0,0,0,0,0]
["Playground Areas/Equipment",{"$nulls":3},"Per Sq. Ft.",{"$nulls":3},0,0,0,0,0,0,0,0,0,0,0,0,0,0,0,0,0,0,0,0,0,0,0]
["Other (Specify)",{"$nulls":7},0,0,0,0,0,0,0,0,0,0,0,0,0,0,0,0,0,0,0,0,0,0,0]
["Other (Specify)",{"$nulls":7},0,0,0,0,0,0,0,0,0,0,0,0,0,0,0,0,0,0,0,0,0,0,0]
["Site Subtotals",{"$nulls":7},{"$f":"SUM(I64:I81)","v":0},0,0,0,0,0,0,0,0,0,0,0,0,0,0,0,0,0,0,0,0,0,0]
["(4.10) Common Buildings--Rehab Only",{"$nulls":12},"Years 1-5",{"$f":"SUM(K98:O98)","v":0},{"$nulls":3},"Years 6-10",{"$f":"SUM(P98:T98)","v":0},{"$nulls":3},"Years 11-15",{"$f":"SUM(T98:X98)","v":0},{"$nulls":3},"Years 16-20",{"$f":"SUM(Y98:AC98)","v":0}]
["Administrative Building",{"$nulls":3},"Per Sq. Ft.",{"$nulls":3},{"$f":"ROUNDUP(+G84*H84,-2)","v":0},{"$f":"SUM(K84:AD84)","v":0},{"$f":"ROUNDUP(IF(OR(($D84+$F$6)=K$62,($C84+$D84+$F$6)=K$62,($C84*2+$D84+$F$6)=K$62,($C84*3+$D84+$F$6)=K$62,($C84*4+$D84+$F$6)=K$62,($C84*5+$D84+$F$6)=K$62,($C84*6+$D84+$F$6)=K$62,($C84*7+$D84+$F$6)=K$62,($C84*8+$D84+$F$6)=K$62),$F84*$H84*((1+$J$52)^(K$62-$F$6)),0),-2)","v":0},0,0,0,0,0,0,0,0,0,{"$f":"ROUNDUP(IF(OR(($D84+$F$6)=U$62,($C84+$D84+$F$6)=U$62,($C84*2+$D84+$F$6)=U$62,($C84*3+$D84+$F$6)=U$62,($C84*4+$D84+$F$6)=U$62,($C84*5+$D84+$F$6)=U$62,($C84*6+$D84+$F$6)=U$62,($C84*7+$D84+$F$6)=U$62,($C84*8+$D84+$F$6)=U$62),$F84*$H84*((1+$J$52)^(U$62-$F$6)),0),-2)","v":0},0,0,0,0,0,0,0,0,0,{"$f":"SUM(K84:AD84)-J84","v":0}]
["Community Building",{"$nulls":3},"Per Sq. Ft.",{"$nulls":3},0,0,0,0,0,0,0,0,0,0,0,0,0,0,0,0,0,0,0,0,0,0,0]
["Shop",{"$nulls":3},"Per Sq. Ft.",{"$nulls":3},0,0,0,0,0,0,0,0,0,0,0,0,0,0,0,0,0,0,0,0,0,0,0]
["Storage Area",{"$nulls":3},"Per Sq. Ft.",{"$nulls":3},0,0,0,0,0,0,0,0,0,0,0,0,0,0,0,0,0,0,0,0,0,0,0]
["Central Boiler",{"$nulls":3},"Per Sq. Ft.",{"$nulls":3},0,0,0,0,0,0,0,0,0,0,0,0,0,0,0,0,0,0,0,0,0,0,0]
["Central Chiller",{"$nulls":3},"Per Sq. Ft.",{"$nulls":3},0,0,0,0,0,0,0,0,0,0,0,0,0,0,0,0,0,0,0,0,0,0,0]
["Family Invesment Center",{"$nulls":3},"Per Sq. Ft.",{"$nulls":3},0,0,0,0,0,0,0,0,0,0,0,0,0,0,0,0,0,0,0,0,0,0,0]
["Day Care Center",{"$nulls":3},"Per Sq. Ft.",{"$nulls":3},0,0,0,0,0,0,0,0,0,0,0,0,0,0,0,0,0,0,0,0,0,0,0]
["Laundry Areas",{"$nulls":3},"Per Sq. Ft.",{"$nulls":3},0,0,{"$f":"ROUNDUP(IF(OR(($D92+$F$6)=K$62,($C92+$D92+$F$6)=K$62,($C92*2+$D92+$F$6)=K$62,($C92*3+$D92+$F$6)=K$62,($C92*4+$D92+$F$6)=K$62,($C92*5+$D92+$F$6)=K$62,($C92*6+$D92+$F$6)=K$62,($C92*7+$D92+$F$6)=K$62,($C92*8+$D92+$F$6)=K$62),$F92*$H92*((1+$J$52)^(K$62-$F$6)),0),-2)","v":0},0,0,0,0,0,0,0,0,0,{"$f":"ROUNDUP(IF(OR(($D92+$F$6)=U$62,($C92+$D92+$F$6)=U$62,($C92*2+$D92+$F$6)=U$62,($C92*3+$D92+$F$6)=U$62,($C92*4+$D92+$F$6)=U$62,($C92*5+$D92+$F$6)=U$62,($C92*6+$D92+$F$6)=U$62,($C92*7+$D92+$F$6)=U$62,($C92*8+$D92+$F$6)=U$62),$F92*$H92*((1+$J$52)^(U$62-$F$6)),0),-2)","v":0},0,0,0,0,0,0,0,0,0,0]
["Common Area Washers",{"$nulls":3},"Per Sq. Ft.",{"$nulls":3},0,0,0,0,0,0,0,0,0,0,0,0,0,0,0,0,0,0,0,0,0,0,0]
["Common Area Dryers",{"$nulls":3},"Per Sq. Ft.",{"$nulls":3},0,0,0,0,0,0,0,0,0,0,0,0,0,0,0,0,0,0,0,0,0,0,0]
["Common Area Finishes",{"$nulls":3},"Per Sq. Ft.",{"$nulls":3},0,0,0,0,0,0,0,0,0,0,0,0,0,0,0,0,0,0,0,0,0,0,0]
["Other (Specify)",{"$nulls":7},0,0,0,0,0,0,0,0,0,0,0,0,0,0,0,0,0,0,0,0,0,0,0]
["Other (Specify)",{"$nulls":7},0,0,0,0,0,0,0,0,0,0,0,0,0,0,0,0,0,0,0,0,0,0,0]
["Common Subtotals",{"$nulls":7},{"$f":"SUM(I84:I97)","v":0},0,0,0,0,0,0,0,0,0,0,0,0,0,0,0,0,0,0,0,0,0,0]
["(4.11) Unit Exteriors",{"$nulls":12},"Years 1-5",{"$f":"SUM(K121:O121)","v":0},{"$nulls":3},"Years 6-10",{"$f":"SUM(P121:T121)","v":0},{"$nulls":3},"Years 11-15",{"$f":"SUM(U121:Y121)","v":0},{"$nulls":3},"Years 16-20",{"$f":"SUM(Z121:AD121)","v":0}]
["Carports/Surface Garage",{"$nulls":3},"Per Sq. Ft.",{"$nulls":3},{"$f":"ROUNDUP(+G100*H100,-2)","v":0},{"$f":"SUM(K100:AD100)","v":0},{"$f":"ROUNDUP(IF(OR(($D100+$F$6)=K$62,($C100+$D100+$F$6)=K$62,($C100*2+$D100+$F$6)=K$62,($C100*3+$D100+$F$6)=K$62,($C100*4+$D100+$F$6)=K$62,($C100*5+$D100+$F$6)=K$62,($C100*6+$D100+$F$6)=K$62,($C100*7+$D100+$F$6)=K$62,($C100*8+$D100+$F$6)=K$62),$F100*$H100*((1+$J$52)^(K$62-$F$6)),0),-2)","v":0},0,0,0,0,0,0,0,0,0,{"$f":"ROUNDUP(IF(OR(($D100+$F$6)=U$62,($C100+$D100+$F$6)=U$62,($C100*2+$D100+$F$6)=U$62,($C100*3+$D100+$F$6)=U$62,($C100*4+$D100+$F$6)=U$62,($C100*5+$D100+$F$6)=U$62,($C100*6+$D100+$F$6)=U$62,($C100*7+$D100+$F$6)=U$62,($C100*8+$D100+$F$6)=U$62),$F100*$H100*((1+$J$52)^(U$62-$F$6)),0),-2)","v":0},0,0,0,0,0,0,0,0,0,{"$f":"SUM(K100:AD100)-J100","v":0}]
["Foundation",{"$nulls":3},"Per Sq. Ft.",{"$nulls":3},0,0,0,0,0,0,0,0,0,0,0,0,0,0,0,0,0,0,0,0,0,0,0]
["Building Slab",{"$nulls":3},"Per Sq. Ft.",{"$nulls":3},0,0,0,0,0,0,0,0,0,0,0,0,0,0,0,0,0,0,0,0,0,0,0]
["Roofs",{"$nulls":3},"Per Sq. Ft.",{"$nulls":3},0,0,0,0,0,0,0,0,0,0,0,0,0,0,0,0,0,0,0,0,0,0,0]
["Canopies",{"$nulls":3},"Per Sq. Ft.",{"$nulls":3},0,0,0,0,0,0,0,0,0,0,0,0,0,0,0,0,0,0,0,0,0,0,0]
["Tuck-Pointing",{"$nulls":3},"Per Sq. Ft.",{"$nulls":3},0,0,0,0,0,0,0,0,0,0,0,0,0,0,0,0,0,0,0,0,0,0,0]
["Exterior Paint & Caulking",{"$nulls":3},"Per Sq. Ft.",{"$nulls":3},0,0,0,0,0,0,0,0,0,0,0,0,0,0,0,0,0,0,0,0,0,0,0]
["Soffits",{"$nulls":3},"Per Sq. Ft.",{"$nulls":3},0,0,0,0,0,0,0,0,0,0,0,0,0,0,0,0,0,0,0,0,0,0,0]
["Siding",{"$nulls":3},"Per Sq. Ft.",{"$nulls":3},0,0,0,0,0,0,0,0,0,0,0,0,0,0,0,0,0,0,0,0,0,0,0]
["Exterior Stairwells/Fire Escapes",{"$nulls":3},"Per Sq. Ft.",{"$nulls":3},0,0,0,0,0,0,0,0,0,0,0,0,0,0,0,0,0,0,0,0,0,0,0]
["Landings & Railings",{"$nulls":3},"Per Sq. Ft.",{"$nulls":3},0,0,{"$f":"ROUNDUP(IF(OR(($D110+$F$6)=K$62,($C110+$D110+$F$6)=K$62,($C110*2+$D110+$F$6)=K$62,($C110*3+$D110+$F$6)=K$62,($C110*4+$D110+$F$6)=K$62,($C110*5+$D110+$F$6)=K$62,($C110*6+$D110+$F$6)=K$62,($C110*7+$D110+$F$6)=K$62,($C110*8+$D110+$F$6)=K$62),$F110*$H110*((1+$J$52)^(K$62-$F$6)),0),-2)","v":0},0,0,0,0,0,0,0,0,0,{"$f":"ROUNDUP(IF(OR(($D110+$F$6)=U$62,($C110+$D110+$F$6)=U$62,($C110*2+$D110+$F$6)=U$62,($C110*3+$D110+$F$6)=U$62,($C110*4+$D110+$F$6)=U$62,($C110*5+$D110+$F$6)=U$62,($C110*6+$D110+$F$6)=U$62,($C110*7+$D110+$F$6)=U$62,($C110*8+$D110+$F$6)=U$62),$F110*$H110*((1+$J$52)^(U$62-$F$6)),0),-2)","v":0},0,0,0,0,0,0,0,0,0,0]
["Balconies & Railings",{"$nulls":3},"Per Sq. Ft.",{"$nulls":3},0,0,0,0,0,0,0,0,0,0,0,0,0,0,0,0,0,0,0,0,0,0,0]
["Mail Facilities",{"$nulls":3},"Per Sq. Ft.",{"$nulls":3},0,0,0,0,0,0,0,0,0,0,0,0,0,0,0,0,0,0,0,0,0,0,0]
["Exterior Doors",{"$nulls":3},"Per Sq. Ft.",{"$nulls":3},0,0,0,0,0,0,0,0,0,0,0,0,0,0,0,0,0,0,0,0,0,0,0]
["Windows",{"$nulls":3},"Per Sq. Ft.",{"$nulls":3},0,0,0,0,0,0,0,0,0,0,0,0,0,0,0,0,0,0,0,0,0,0,0]
["Gutters/Downspouts",{"$nulls":3},"Per Sq. Ft.",{"$nulls":3},0,0,0,0,0,0,0,0,0,0,0,0,0,0,0,0,0,0,0,0,0,0,0]
["Columns & Porches",{"$nulls":3},"Per Sq. Ft.",{"$nulls":3},0,0,0,0,0,0,0,0,0,0,0,0,0,0,0,0,0,0,0,0,0,0,0]
["Decks & Patios",{"$nulls":3},"Per Sq. Ft.",{"$nulls":3},0,0,0,0,0,0,0,0,0,0,0,0,0,0,0,0,0,0,0,0,0,0,0]
["Exterior Lighting",{"$nulls":3},"Per Sq. Ft.",{"$nulls":3},0,0,0,0,0,0,0,0,0,0,0,0,0,0,0,0,0,0,0,0,0,0,0]
["Other (Specify)",{"$nulls":7},0,0,0,0,0,0,0,0,0,0,0,0,0,0,0,0,0,0,0,0,0,0,0]
["Other (Specify)",{"$nulls":7},0,0,0,0,0,0,0,0,0,0,0,0,0,0,0,0,0,0,0,0,0,0,0]
["Unit Exterior Subtotals",{"$nulls":7},{"$f":"SUM(I100:I120)","v":0},0,0,0,0,0,0,0,0,0,0,0,0,0,0,0,0,0,0,0,0,0,0]
["(4.12) Unit Interiors",{"$nulls":12},"Years 1-5",{"$f":"SUM(K144:O144)","v":0},{"$nulls":3},"Years 6-10",{"$f":"SUM(P144:T144)","v":0},{"$nulls":3},"Years 11-15",{"$f":"SUM(U144:Y144)","v":0},{"$nulls":3},"Years 16-20",{"$f":"SUM(Z144:AD144)","v":0}]
["Interior Painting (non routine)",{"$nulls":3},"Per Sq. Ft.",{"$nulls":3},{"$f":"ROUNDUP(+G123*H123,-2)","v":0},{"$f":"SUM(K123:AD123)","v":0},{"$f":"ROUNDUP(IF(OR(($D123+$F$6)=K$62,($C123+$D123+$F$6)=K$62,($C123*2+$D123+$F$6)=K$62,($C123*3+$D123+$F$6)=K$62,($C123*4+$D123+$F$6)=K$62,($C123*5+$D123+$F$6)=K$62,($C123*6+$D123+$F$6)=K$62,($C123*7+$D123+$F$6)=K$62,($C123*8+$D123+$F$6)=K$62),$F123*$H123*((1+$J$52)^(K$62-$F$6)),0),-2)","v":0},0,0,0,0,0,0,0,0,0,{"$f":"ROUNDUP(IF(OR(($D123+$F$6)=U$62,($C123+$D123+$F$6)=U$62,($C123*2+$D123+$F$6)=U$62,($C123*3+$D123+$F$6)=U$62,($C123*4+$D123+$F$6)=U$62,($C123*5+$D123+$F$6)=U$62,($C123*6+$D123+$F$6)=U$62,($C123*7+$D123+$F$6)=U$62,($C123*8+$D123+$F$6)=U$62),$F123*$H123*((1+$J$52)^(U$62-$F$6)),0),-2)","v":0},0,0,0,0,0,0,0,0,0,{"$f":"SUM(K123:AD123)-J123","v":0}]
["Interior Doors",{"$nulls":3},"Per Sq. Ft.",{"$nulls":3},0,0,0,0,0,0,0,0,0,0,0,0,0,0,0,0,0,0,0,0,0,0,0]
["Flooring (non routine)",{"$nulls":3},"Per Sq. Ft.",{"$nulls":3},0,0,0,0,0,0,0,0,0,0,0,0,0,0,0,0,0,0,0,0,0,0,0]
["Shower/Tub Surrounds",{"$nulls":3},"Per Sq. Ft.",{"$nulls":3},0,0,0,0,0,0,0,0,0,0,0,0,0,0,0,0,0,0,0,0,0,0,0]
["Commodes",{"$nulls":3},"Per Sq. Ft.",{"$nulls":3},0,0,0,0,0,0,0,0,0,0,0,0,0,0,0,0,0,0,0,0,0,0,0]
["Vanities",{"$nulls":3},"Per Sq. Ft.",{"$nulls":3},0,0,0,0,0,0,0,0,0,0,0,0,0,0,0,0,0,0,0,0,0,0,0]
["Faucets",{"$nulls":3},"Per Sq. Ft.",{"$nulls":3},0,0,0,0,0,0,0,0,0,0,0,0,0,0,0,0,0,0,0,0,0,0,0]
["Bathroom Flooring (non cyclical)",{"$nulls":3},"Per Sq. Ft.",{"$nulls":3},0,0,0,0,0,0,0,0,0,0,0,0,0,0,0,0,0,0,0,0,0,0,0]
["Kitchen Cabinets",{"$nulls":3},"Per Sq. Ft.",{"$nulls":3},0,0,0,0,0,0,0,0,0,0,0,0,0,0,0,0,0,0,0,0,0,0,0]
["Ranges",{"$nulls":3},"Per Sq. Ft.",{"$nulls":3},0,0,0,0,0,0,0,0,0,0,0,0,0,0,0,0,0,0,0,0,0,0,0]
["Range Hoods",{"$nulls":3},"Per Sq. Ft.",{"$nulls":3},0,0,{"$f":"ROUNDUP(IF(OR(($D133+$F$6)=K$62,($C133+$D133+$F$6)=K$62,($C133*2+$D133+$F$6)=K$62,($C133*3+$D133+$F$6)=K$62,($C133*4+$D133+$F$6)=K$62,($C133*5+$D133+$F$6)=K$62,($C133*6+$D133+$F$6)=K$62,($C133*7+$D133+$F$6)=K$62,($C133*8+$D133+$F$6)=K$62),$F133*$H133*((1+$J$52)^(K$62-$F$6)),0),-2)","v":0},0,0,0,0,0,0,0,0,0,{"$f":"ROUNDUP(IF(OR(($D133+$F$6)=U$62,($C133+$D133+$F$6)=U$62,($C133*2+$D133+$F$6)=U$62,($C133*3+$D133+$F$6)=U$62,($C133*4+$D133+$F$6)=U$62,($C133*5+$D133+$F$6)=U$62,($C133*6+$D133+$F$6)=U$62,($C133*7+$D133+$F$6)=U$62,($C133*8+$D133+$F$6)=U$62),$F133*$H133*((1+$J$52)^(U$62-$F$6)),0),-2)","v":0},0,0,0,0,0,0,0,0,0,0]
["Refrigerators",{"$nulls":3},"Per Sq. Ft.",{"$nulls":3},0,0,0,0,0,0,0,0,0,0,0,0,0,0,0,0,0,0,0,0,0,0,0]
["Counters and Sinks",{"$nulls":3},"Per Sq. Ft.",{"$nulls":3},0,0,0,0,0,0,0,0,0,0,0,0,0,0,0,0,0,0,0,0,0,0,0]
["Dishwasher",{"$nulls":3},"Per Sq. Ft.",{"$nulls":3},0,0,0,0,0,0,0,0,0,0,0,0,0,0,0,0,0,0,0,0,0,0,0]
["Microwave",{"$nulls":3},"Per Sq. Ft.",{"$nulls":3},0,0,0,0,0,0,0,0,0,0,0,0,0,0,0,0,0,0,0,0,0,0,0]
["Washing Machines",{"$nulls":3},"Per Sq. Ft.",{"$nulls":3},0,0,0,0,0,0,0,0,0,0,0,0,0,0,0,0,0,0,0,0,0,0,0]
["Dryers",{"$nulls":3},"Per Sq. Ft.",{"$nulls":3},0,0,0,0,0,0,0,0,0,0,0,0,0,0,0,0,0,0,0,0,0,0,0]
["Call-for-Aid Systems",{"$nulls":7},0,0,0,0,0,0,0,0,0,0,0,0,0,0,0,0,0,0,0,0,0,0,0]
["Stairs and Handrails",{"$nulls":7},0,0,0,0,0,0,0,0,0,0,0,0,0,0,0,0,0,0,0,0,0,0,0]
["Other (Specify)",{"$nulls":7},0,0,0,0,0,0,0,0,0,0,0,0,0,0,0,0,0,0,0,0,0,0,0]
["Other (Specify)",{"$nulls":7},0,0,0,0,0,0,0,0,0,0,0,0,0,0,0,0,0,0,0,0,0,0,0]
["Unit Interior Subtotals",{"$nulls":7},{"$f":"SUM(I123:I143)","v":0},0,0,0,0,0,0,0,0,0,0,0,0,0,0,0,0,0,0,0,0,0,0]
["(4.13) Mechanical",{"$nulls":12},"Years 1-5",{"$f":"SUM(K161:O161)","v":0},{"$nulls":3},"Years 6-10",{"$f":"SUM(P161:T161)","v":0},{"$nulls":3},"Years 11-15",{"$f":"SUM(U161:Y161)","v":0},{"$nulls":3},"Years 16-20",{"$f":"SUM(Z161:AD161)","v":0}]
["Water Distribution",{"$nulls":3},"Per Sq. Ft.",{"$nulls":3},{"$f":"ROUNDUP(+G146*H146,-2)","v":0},{"$f":"SUM(K146:AD146)","v":0},{"$f":"ROUNDUP(IF(OR(($D146+$F$6)=K$62,($C146+$D146+$F$6)=K$62,($C146*2+$D146+$F$6)=K$62,($C146*3+$D146+$F$6)=K$62,($C146*4+$D146+$F$6)=K$62,($C146*5+$D146+$F$6)=K$62,($C146*6+$D146+$F$6)=K$62,($C146*7+$D146+$F$6)=K$62,($C146*8+$D146+$F$6)=K$62),$F146*$H146*((1+$J$52)^(K$62-$F$6)),0),-2)","v":0},0,0,0,0,0,0,0,0,0,{"$f":"ROUNDUP(IF(OR(($D146+$F$6)=U$62,($C146+$D146+$F$6)=U$62,($C146*2+$D146+$F$6)=U$62,($C146*3+$D146+$F$6)=U$62,($C146*4+$D146+$F$6)=U$62,($C146*5+$D146+$F$6)=U$62,($C146*6+$D146+$F$6)=U$62,($C146*7+$D146+$F$6)=U$62,($C146*8+$D146+$F$6)=U$62),$F146*$H146*((1+$J$52)^(U$62-$F$6)),0),-2)","v":0},0,0,0,0,0,0,0,0,0,{"$f":"SUM(K146:AD146)-J146","v":0}]
["Heating Equipt/System",{"$nulls":3},"Per Sq. Ft.",{"$nulls":3},0,0,0,0,0,0,0,0,0,0,0,0,0,0,0,0,0,0,0,0,0,0,0]
["Electric Disribution",{"$nulls":3},"Per Sq. Ft.",{"$nulls":3},0,0,0,0,0,0,0,0,0,0,0,0,0,0,0,0,0,0,0,0,0,0,0]
["Hot Water Heaters",{"$nulls":3},"Per Sq. Ft.",{"$nulls":3},0,0,0,0,0,0,0,0,0,0,0,0,0,0,0,0,0,0,0,0,0,0,0]
["Unit Sub-panels",{"$nulls":3},"Per Sq. Ft.",{"$nulls":3},0,0,0,0,0,0,0,0,0,0,0,0,0,0,0,0,0,0,0,0,0,0,0]
["Trash Compactor",{"$nulls":3},"Per Sq. Ft.",{"$nulls":3},0,0,0,0,0,0,0,0,0,0,0,0,0,0,0,0,0,0,0,0,0,0,0]
["Cooling Equipt/Systems",{"$nulls":3},"Per Sq. Ft.",{"$nulls":3},0,0,0,0,0,0,0,0,0,0,0,0,0,0,0,0,0,0,0,0,0,0,0]
["Smoke/Fire Detection",{"$nulls":3},"Per Sq. Ft.",{"$nulls":3},0,0,0,0,0,0,0,0,0,0,0,0,0,0,0,0,0,0,0,0,0,0,0]
["Unit Reconfiguration",{"$nulls":3},"Per Sq. Ft.",{"$nulls":3},0,0,0,0,0,0,0,0,0,0,0,0,0,0,0,0,0,0,0,0,0,0,0]
["Security/Fire Alarm",{"$nulls":3},"Per Sq. Ft.",{"$nulls":3},0,0,0,0,0,0,0,0,0,0,0,0,0,0,0,0,0,0,0,0,0,0,0]
["Fire Suspression System",{"$nulls":3},"Per Sq. Ft.",{"$nulls":3},0,0,0,0,0,0,0,0,0,0,0,0,0,0,0,0,0,0,0,0,0,0,0]
["Generator",{"$nulls":3},"Per Sq. Ft.",{"$nulls":3},0,0,0,0,0,0,0,0,0,0,0,0,0,0,0,0,0,0,0,0,0,0,0]
["Elevator",{"$nulls":3},"Per Sq. Ft.",{"$nulls":3},0,0,0,0,0,0,0,0,0,0,0,0,0,0,0,0,0,0,0,0,0,0,0]
["Other (Specify) ",{"$nulls":7},0,0,0,0,0,0,0,0,0,0,0,0,0,0,0,0,0,0,0,0,0,0,0]
["Other (Specify)",{"$nulls":7},0,0,0,0,0,0,0,0,0,0,0,0,0,0,0,0,0,0,0,0,0,0,0]
["Mechanical Subtotals",{"$nulls":7},{"$f":"SUM(I146:I160)","v":0},0,0,0,0,0,0,0,0,0,0,0,0,0,0,0,0,0,0,0,0,0,0]
["(4.14) Other",{"$nulls":12},"Years 1-5",{"$f":"SUM(K170:O170)","v":0},{"$nulls":3},"Years 6-10",{"$f":"SUM(P170:T170)","v":0},{"$nulls":3},"Years 11-15",{"$f":"SUM(U170:Y170)","v":0},{"$nulls":3},"Years 16-20",{"$f":"SUM(Z170:AD170)","v":0}]
["Site Acquisition",{"$nulls":3},"Per Sq. Ft.",{"$nulls":3},{"$f":"ROUNDUP(+G163*H163,-2)","v":0},{"$f":"SUM(K163:AD163)","v":0},{"$f":"ROUNDUP(IF(OR(($D163+$F$6)=K$62,($C163+$D163+$F$6)=K$62,($C163*2+$D163+$F$6)=K$62,($C163*3+$D163+$F$6)=K$62,($C163*4+$D163+$F$6)=K$62,($C163*5+$D163+$F$6)=K$62,($C163*6+$D163+$F$6)=K$62,($C163*7+$D163+$F$6)=K$62,($C163*8+$D163+$F$6)=K$62),$F163*$H163*((1+$J$52)^(K$62-$F$6)),0),-2)","v":0},0,0,0,0,0,0,0,0,0,{"$f":"ROUNDUP(IF(OR(($D163+$F$6)=U$62,($C163+$D163+$F$6)=U$62,($C163*2+$D163+$F$6)=U$62,($C163*3+$D163+$F$6)=U$62,($C163*4+$D163+$F$6)=U$62,($C163*5+$D163+$F$6)=U$62,($C163*6+$D163+$F$6)=U$62,($C163*7+$D163+$F$6)=U$62,($C163*8+$D163+$F$6)=U$62),$F163*$H163*((1+$J$52)^(U$62-$F$6)),0),-2)","v":0},0,0,0,0,0,0,0,0,0,{"$f":"SUM(K163:AD163)-J163","v":0}]
["Other Fees and Costs",{"$nulls":3},"Per Sq. Ft.",{"$nulls":3},0,0,0,0,0,0,0,0,0,0,0,0,0,0,0,0,0,0,0,0,0,0,0]
["Demolition",{"$nulls":3},"Per Sq. Ft.",{"$nulls":3},0,0,0,0,0,0,0,0,0,0,0,0,0,0,0,0,0,0,0,0,0,0,0]
["Dwelling Unit Conversion",{"$nulls":3},"Per Sq. Ft.",{"$nulls":3},0,0,0,0,0,0,0,0,0,0,0,0,0,0,0,0,0,0,0,0,0,0,0]
["Contingency",{"$nulls":3},"Per Sq. Ft.",{"$nulls":3},0,0,{"$f":"ROUNDUP(IF(OR(($D167+$F$6)=K$62,($C167+$D167+$F$6)=K$62,($C167*2+$D167+$F$6)=K$62,($C167*3+$D167+$F$6)=K$62,($C167*4+$D167+$F$6)=K$62,($C167*5+$D167+$F$6)=K$62,($C167*6+$D167+$F$6)=K$62,($C167*7+$D167+$F$6)=K$62,($C167*8+$D167+$F$6)=K$62),$F167*$H167*((1+$J$52)^(K$62-$F$6)),0),-2)","v":0},0,0,0,0,0,0,0,0,0,{"$f":"ROUNDUP(IF(OR(($D167+$F$6)=U$62,($C167+$D167+$F$6)=U$62,($C167*2+$D167+$F$6)=U$62,($C167*3+$D167+$F$6)=U$62,($C167*4+$D167+$F$6)=U$62,($C167*5+$D167+$F$6)=U$62,($C167*6+$D167+$F$6)=U$62,($C167*7+$D167+$F$6)=U$62,($C167*8+$D167+$F$6)=U$62),$F167*$H167*((1+$J$52)^(U$62-$F$6)),0),-2)","v":0},0,0,0,0,0,0,0,0,0,0]
["Other (Specify) ",{"$nulls":7},0,0,0,0,0,0,0,0,0,0,0,0,0,0,0,0,0,0,0,0,0,0,0]
["Other (Specify)",{"$nulls":7},0,0,0,0,0,0,0,0,0,0,0,0,0,0,0,0,0,0,0,0,0,0,0]
["Other Subtotals",{"$nulls":7},{"$f":"SUM(I163:I169)","v":0},0,0,0,0,0,0,0,0,0,0,0,0,0,0,0,0,0,0,0,0,0,0]
["GRAND TOTAL",{"$nulls":7},{"$f":"I170+I161+I144+I82+I98","v":0},{"$f":"J170+J161+J144+J121+J98+J82","v":0},0,0,0,0,0,0,0,0,0,0,0,0,0,0,0,0,0,0,0,0,0]
["(4.15) Special Categories"]
["Amount of PNA Relating to Lead Paint/Asbestos Compliance",{"$nulls":3},"Per Sq. Ft.",{"$nulls":3},{"$f":"ROUNDUP(+G173*H173,-2)","v":0}]
["Amount of PNA Relating to Section 504, ADA, and Fair Housing Act (if applicable) Compliance",{"$nulls":3},"Per Sq. Ft.",{"$nulls":3},{"$f":"ROUNDUP(+G174*H174,-2)","v":0}]
[]
["(4.16) New Construction"]
["Dwelling Units",{"$nulls":3},"Per Sq. Ft.",{"$nulls":3},{"$f":"ROUNDUP(+G177*H177,-2)","v":0}]
["Administrative Building",{"$nulls":3},"Per Sq. Ft.",{"$nulls":3},0]
["Community Building or Facility",{"$nulls":3},"Per Sq. Ft.",{"$nulls":3},0]
["Shop",{"$nulls":3},"Per Sq. Ft.",{"$nulls":3},0]
["Storage Area",{"$nulls":3},"Per Sq. Ft.",{"$nulls":3},0]
["Family Investment Center",{"$nulls":3},"Per Sq. Ft.",{"$nulls":3},0]
["Day Care Center",{"$nulls":3},"Per Sq. Ft.",{"$nulls":3},0]
["Laundry Areas(s)",{"$nulls":3},"Per Sq. Ft.",{"$nulls":3},0]
["Other (Specify) ",{"$nulls":3},"Per Sq. Ft.",{"$nulls":3},0]
["Other (Specify)",{"$nulls":3},"Per Sq. Ft.",{"$nulls":3},0]
["Other (Specify)",{"$nulls":7},0]
["New Construction Subtotals",{"$nulls":7},{"$f":"SUM(I177:I187)","v":0}]

{"sheet":"Tab 7","index":8,"n_rows":188,"n_cols":31,"rows_kept":188,"merged":[[4,2,4,3],[5,2,5,3],[7,0,7,8],[9,1,9,2],[10,1,10,2],[20,3,20,9],[27,0,27,8],[29,8,29,9],[30,8,30,9],[31,8,31,9],[33,6,35,6],[37,4,37,9],[44,0,44,8],[46,0,46,1],[47,0,47,1],[48,0,48,1],[49,0,49,1],[50,0,50,1],[51,0,51,1],[52,0,52,1],[53,0,53,1],[54,0,54,1],[55,0,55,1],[56,0,56,1],[59,0,59,8],[61,0,61,1],[62,0,62,1],[81,0,81,1],[97,0,97,1],[120,0,120,1],[143,0,143,1],[160,0,160,1],[169,0,169,1],[170,0,170,1],[187,0,187,1]]}
["Physical Needs Assessment",{"$nulls":3},"U.S. Department of Housing",{"$nulls":4}," OMB Approval No. 2577-0157"]
["Capital Fund Financing Program/",{"$nulls":3},"and Urban Development",{"$nulls":4}," (exp. 1/31/2017)"]
["Operating Fund Financing Program",{"$nulls":3},"Office of Public and Indian Housing"]
[]
["HA Name",null,"HA Number",null,null,"FY of Assessment",null," Original  ","Date Prepared:"]
[{"$f":"'Tab 1'!A6","v":0},null,{"$f":"'Tab 6'!C6:D6","v":0},{"$nulls":4},"Revision  ","Date Revised:"]
[]
["(1.0) Project Data"]
[]
["(1.1) Management Office Address",{"$nulls":5},"(1.3) Development No.",null,"(1.4) DOFA Date"]
["(1.2) Project Name"]
[{"$nulls":4},"Family"]
[{"$nulls":3},"(1.9)","Elderly",null,null,"(1.10)","S-F Detached"]
["(1.5) Year of Last Substantial Mod",null,null,"Occupancy","Family & Disabled",null,null,"Structure","Semi-Detached"]
["(1.6) Occupancy Rate ",{"$f":"B20/(+B18-B26)","v":{"$error":"#DIV/0!"}},null,"Type(s)","Elderly & Disabled",null,null,"Type(s)","Row or Townhome"]
["        (Rentable Units Only)",null,null,"(Check)","Not Applicable",null,null,"(Check","M-F/Walkup"]
["(1.7) Latest PASS REAC Score",null,null,"all that apply)","Official Designation: Elderly",null,null,"all that","Elevator"]
["Total Units",{"$f":"+B20+B21","v":0},null,null,"Official Designation: Disabled",null,null,"apply)","Non-Dwelling"]
["(1.8) Total Buildings",{"$nulls":3},"Official Designation: Mixed"]
["Occupied Units",{"$f":"SUM(E23:J23)","v":0}]
["Vacant/Rentable Units",{"$f":"SUM(E24:J24)","v":0},null,"(1.11) Bedroom Distribution"]
[{"$nulls":4},"Eff","1BR","2BR","3BR","4BR","5BR+"]
[{"$nulls":3},"(1.11a) Occupied"]
[{"$nulls":3},"(1.11b) Vacant"]
[{"$nulls":3},"Total Units",{"$f":"SUM(E23:E24)","v":0},0,0,0,0,0]
[{"$nulls":3},"Avg Bedrooms per Unit",null,{"$f":"(+E23*1+F23*1+G23*2+H23*3+I23*4+J23*5)/SUM(E23:J23)","v":{"$error":"#DIV/0!"}}]
[]
["(2.0) Physical Needs Assessment Summary Data"]
[]
["(2.1) PNA Conducted By: (PHA/ 3rd Party)",null,"PHA Internally",null,null,"(2.5) Inspector Contact Name: "]
[null,null,"3rd Pary Independent",null,null,"(2.6) Company Name or PHA Title:"]
["(2.2) First Year Covered by PNA",{"$nulls":4},"(2.7) Inspector Contact Phone:"]
["(2.3) Length of PNA (in years)"]
["(2.4) Unit Interiors Inspected (#)",null,{"$f":"SUM(E40:J40)","v":0},{"$nulls":3},"(2.8) Data Source(s) for PNA",null,"Annual Inspections"]
["Units Inspected as % of Total",null,{"$f":"C34/B18","v":{"$error":"#DIV/0!"}},{"$nulls":5},"Contractor"]
["(2.9) Total Residential Buildings",{"$nulls":7},"REAC Inspections"]
["(2.10) Number of Building Exteriors Inspected"]
["(2.11) Total Off-Street Parking Spaces",{"$nulls":3},"(2.14) Units Inspected by Bedroom Size"]
["(2.12) Site Acreage",null,null,"acres","Eff","1BR","2BR","3BR","4BR","5BR+"]
["(2.13) Parking Area (in square feet)",null,null,"SF"]
[]
["(2.15) Physical Improvements Will Result in Structural/System Soundness at a Reasonable Cost",{"$nulls":5},"Yes","No"]
["(2.16) Development Has Long-Term Physical and Social Viability",{"$nulls":5},"Yes","No"]
[]
["(3.0) Total Physical Needs Summary"]
[]
["Major Category",null,"Immediate","Years                       1-5","Years                    6-10","Years                    11-15","Years                   16-20","Total Needs"]
["Site",null,{"$f":"+I82","v":0},{"$f":"$O$63","v":0},{"$f":"$T$63","v":0},{"$f":"$Y$63","v":0},{"$f":"$AD$63","v":0},{"$f":"SUM(C48:G48)","v":0}]
["Common Buildings",null,{"$f":"$I$98","v":0},{"$f":"$O$83","v":0},{"$f":"$T$83","v":0},{"$f":"$Y$83","v":0},{"$f":"$AD$83","v":0},0]
["Unit Exteriors",null,{"$f":"$I$121","v":0},{"$f":"$O$99","v":0},{"$f":"$T$99","v":0},{"$f":"$Y$99","v":0},{"$f":"$AD$99","v":0},0]
["Unit Interiors",null,{"$f":"$I$144","v":0},{"$f":"O122","v":0},{"$f":"T122","v":0},{"$f":"Y122","v":0},{"$f":"AD122","v":0},0]
["Mechanical",null,{"$f":"I161","v":0},{"$f":"O145","v":0},{"$f":"T145","v":0},{"$f":"Y145","v":0},{"$f":"AD145","v":0},0]
["Other",null,{"$f":"I170","v":0},{"$f":"O162","v":0},{"$f":"T162","v":0},{"$f":"Y162","v":0},{"$f":"AD162","v":0},0]
["Totals",null,{"$f":"SUM(C48:C53)","v":0},0,0,0,0,0]
["Amount of PNA relating to Lead Paint/Asbestos",null,{"$f":"I173","v":0},{"$nulls":4},{"$f":"C55","v":0}]
["Amount of PNA relating to Section 504, ADA, and Fair Housing Act (if applicable) Compliance",null,{"$f":"I174","v":0},{"$nulls":4},{"$f":"C56","v":0}]
["New Construction",{"$nulls":6},{"$f":"I188","v":0}]
[{"$nulls":5},"TOTAL PHYSICAL NEEDS",null,{"$f":"H57+H54","v":0}]
[]
["(4.0)Physical Needs Cost Estimate"]
[]
["(4.1) Category",null,"(4.2) Estimated Useful Life","(4.3)                Useful Life Remaining","(4.4)             Method","(4.5)                   Total          Quantity","(4.6)             Current Needs Quantity","(4.7)                Cost per      Quantity","(4.8)         Immediate Repairs Needed","Total Long Term Needs",{"$f":"+F6+1","v":1},{"$f":"1+K62","v":2},3,4,5,6,7,8,9,10,11,12,13,14,15,16,17,18,19,20]
["(4.9) Site",null,"(in yrs)","(in yrs)",{"$nulls":9},"Years 1-5",{"$f":"SUM(K82:O82)","v":0},{"$nulls":3},"Years 6-10",{"$f":"SUM(P82:T82)","v":0},{"$nulls":3},"Years 11-15",{"$f":"SUM(U82:Y82)","v":0},{"$nulls":3},"Years 16-20",{"$f":"SUM(Z82:AD82)","v":0}]
["Asphalt/Concrete",{"$nulls":3},"Per Sq. Ft.",{"$nulls":3},{"$f":"ROUNDUP(+G64*H64,-2)","v":0},{"$f":"SUM(K64:AD64)","v":0},{"$f":"ROUNDUP(IF(OR(($D64+$F$6)=K$62,($C64+$D64+$F$6)=K$62,($C64*2+$D64+$F$6)=K$62,($C64*3+$D64+$F$6)=K$62,($C64*4+$D64+$F$6)=K$62,($C64*5+$D64+$F$6)=K$62,($C64*6+$D64+$F$6)=K$62,($C64*7+$D64+$F$6)=K$62,($C64*8+$D64+$F$6)=K$62),$F64*$H64*((1+$J$52)^(K$62-$F$6)),0),-2)","v":0},0,0,0,0,0,0,0,0,0,{"$f":"ROUNDUP(IF(OR(($D64+$F$6)=U$62,($C64+$D64+$F$6)=U$62,($C64*2+$D64+$F$6)=U$62,($C64*3+$D64+$F$6)=U$62,($C64*4+$D64+$F$6)=U$62,($C64*5+$D64+$F$6)=U$62,($C64*6+$D64+$F$6)=U$62,($C64*7+$D64+$F$6)=U$62,($C64*8+$D64+$F$6)=U$62),$F64*$H64*((1+$J$52)^(U$62-$F$6)),0),-2)","v":0},0,0,0,0,0,0,0,0,0,{"$f":"SUM(K64:AD64)-J64","v":0}]
["Seal Coat",{"$nulls":3},"Per Sq. Ft.",{"$nulls":3},0,0,0,0,0,0,0,0,0,0,0,0,0,0,0,0,0,0,0,0,0,0,0]
["Striping",{"$nulls":3},"Per Sq. Ft.",{"$nulls":3},0,0,0,0,0,0,0,0,0,0,0,0,0,0,0,0,0,0,0,0,0,0,0]
["Curb & Gutter",{"$nulls":3},"Per Sq. Ft.",{"$nulls":3},0,0,0,0,0,0,0,0,0,0,0,0,0,0,0,0,0,0,0,0,0,0,0]
["Pedestrian paving",{"$nulls":3},"Per Sq. Ft.",{"$nulls":3},0,0,0,0,0,0,0,0,0,0,0,0,0,0,0,0,0,0,0,0,0,0,0]
["Signage",{"$nulls":3},"Per Sq. Ft.",{"$nulls":3},0,0,0,0,0,0,0,0,0,0,0,0,0,0,0,0,0,0,0,0,0,0,0]
["Water Lines/Mains",{"$nulls":3},"Per Sq. Ft.",{"$nulls":3},0,0,0,0,0,0,0,0,0,0,0,0,0,0,0,0,0,0,0,0,0,0,0]
["Sewer Lines/Mains",{"$nulls":3},"Per Sq. Ft.",{"$nulls":3},0,0,0,0,0,0,0,0,0,0,0,0,0,0,0,0,0,0,0,0,0,0,0]
["Lighting",{"$nulls":3},"Per Sq. Ft.",{"$nulls":3},0,0,0,0,0,0,0,0,0,0,0,0,0,0,0,0,0,0,0,0,0,0,0]
["Storm Drainage",{"$nulls":3},"Per Sq. Ft.",{"$nulls":3},0,0,0,0,0,0,0,0,0,0,0,0,0,0,0,0,0,0,0,0,0,0,0]
["Landscape",{"$nulls":3},"Per Sq. Ft.",{"$nulls":3},0,0,{"$f":"ROUNDUP(IF(OR(($D74+$F$6)=K$62,($C74+$D74+$F$6)=K$62,($C74*2+$D74+$F$6)=K$62,($C74*3+$D74+$F$6)=K$62,($C74*4+$D74+$F$6)=K$62,($C74*5+$D74+$F$6)=K$62,($C74*6+$D74+$F$6)=K$62,($C74*7+$D74+$F$6)=K$62,($C74*8+$D74+$F$6)=K$62),$F74*$H74*((1+$J$52)^(K$62-$F$6)),0),-2)","v":0},0,0,0,0,0,0,0,0,0,{"$f":"ROUNDUP(IF(OR(($D74+$F$6)=U$62,($C74+$D74+$F$6)=U$62,($C74*2+$D74+$F$6)=U$62,($C74*3+$D74+$F$6)=U$62,($C74*4+$D74+$F$6)=U$62,($C74*5+$D74+$F$6)=U$62,($C74*6+$D74+$F$6)=U$62,($C74*7+$D74+$F$6)=U$62,($C74*8+$D74+$F$6)=U$62),$F74*$H74*((1+$J$52)^(U$62-$F$6)),0),-2)","v":0},0,0,0,0,0,0,0,0,0,0]
["Fencing",{"$nulls":3},"Per Sq. Ft.",{"$nulls":3},0,0,0,0,0,0,0,0,0,0,0,0,0,0,0,0,0,0,0,0,0,0,0]
["Fence Painting",{"$nulls":3},"Per Sq. Ft.",{"$nulls":3},0,0,0,0,0,0,0,0,0,0,0,0,0,0,0,0,0,0,0,0,0,0,0]
["Dumpsters & Enclosures",{"$nulls":3},"Per Sq. Ft.",{"$nulls":3},0,0,0,0,0,0,0,0,0,0,0,0,0,0,0,0,0,0,0,0,0,0,0]
["Electric Distribution",{"$nulls":3},"Per Sq. Ft.",{"$nulls":3},0,0,0,0,0,0,0,0,0,0,0,0,0,0,0,0,0,0,0,0,0,0,0]
["Playground Areas/Equipment",{"$nulls":3},"Per Sq. Ft.",{"$nulls":3},0,0,0,0,0,0,0,0,0,0,0,0,0,0,0,0,0,0,0,0,0,0,0]
["Other (Specify)",{"$nulls":7},0,0,0,0,0,0,0,0,0,0,0,0,0,0,0,0,0,0,0,0,0,0,0]
["Other (Specify)",{"$nulls":7},0,0,0,0,0,0,0,0,0,0,0,0,0,0,0,0,0,0,0,0,0,0,0]
["Site Subtotals",{"$nulls":7},{"$f":"SUM(I64:I81)","v":0},0,0,0,0,0,0,0,0,0,0,0,0,0,0,0,0,0,0,0,0,0,0]
["(4.10) Common Buildings--Rehab Only",{"$nulls":12},"Years 1-5",{"$f":"SUM(K98:O98)","v":0},{"$nulls":3},"Years 6-10",{"$f":"SUM(P98:T98)","v":0},{"$nulls":3},"Years 11-15",{"$f":"SUM(T98:X98)","v":0},{"$nulls":3},"Years 16-20",{"$f":"SUM(Y98:AC98)","v":0}]
["Administrative Building",{"$nulls":3},"Per Sq. Ft.",{"$nulls":3},{"$f":"ROUNDUP(+G84*H84,-2)","v":0},{"$f":"SUM(K84:AD84)","v":0},{"$f":"ROUNDUP(IF(OR(($D84+$F$6)=K$62,($C84+$D84+$F$6)=K$62,($C84*2+$D84+$F$6)=K$62,($C84*3+$D84+$F$6)=K$62,($C84*4+$D84+$F$6)=K$62,($C84*5+$D84+$F$6)=K$62,($C84*6+$D84+$F$6)=K$62,($C84*7+$D84+$F$6)=K$62,($C84*8+$D84+$F$6)=K$62),$F84*$H84*((1+$J$52)^(K$62-$F$6)),0),-2)","v":0},0,0,0,0,0,0,0,0,0,{"$f":"ROUNDUP(IF(OR(($D84+$F$6)=U$62,($C84+$D84+$F$6)=U$62,($C84*2+$D84+$F$6)=U$62,($C84*3+$D84+$F$6)=U$62,($C84*4+$D84+$F$6)=U$62,($C84*5+$D84+$F$6)=U$62,($C84*6+$D84+$F$6)=U$62,($C84*7+$D84+$F$6)=U$62,($C84*8+$D84+$F$6)=U$62),$F84*$H84*((1+$J$52)^(U$62-$F$6)),0),-2)","v":0},0,0,0,0,0,0,0,0,0,{"$f":"SUM(K84:AD84)-J84","v":0}]
["Community Building",{"$nulls":3},"Per Sq. Ft.",{"$nulls":3},0,0,0,0,0,0,0,0,0,0,0,0,0,0,0,0,0,0,0,0,0,0,0]
["Shop",{"$nulls":3},"Per Sq. Ft.",{"$nulls":3},0,0,0,0,0,0,0,0,0,0,0,0,0,0,0,0,0,0,0,0,0,0,0]
["Storage Area",{"$nulls":3},"Per Sq. Ft.",{"$nulls":3},0,0,0,0,0,0,0,0,0,0,0,0,0,0,0,0,0,0,0,0,0,0,0]
["Central Boiler",{"$nulls":3},"Per Sq. Ft.",{"$nulls":3},0,0,0,0,0,0,0,0,0,0,0,0,0,0,0,0,0,0,0,0,0,0,0]
["Central Chiller",{"$nulls":3},"Per Sq. Ft.",{"$nulls":3},0,0,0,0,0,0,0,0,0,0,0,0,0,0,0,0,0,0,0,0,0,0,0]
["Family Invesment Center",{"$nulls":3},"Per Sq. Ft.",{"$nulls":3},0,0,0,0,0,0,0,0,0,0,0,0,0,0,0,0,0,0,0,0,0,0,0]
["Day Care Center",{"$nulls":3},"Per Sq. Ft.",{"$nulls":3},0,0,0,0,0,0,0,0,0,0,0,0,0,0,0,0,0,0,0,0,0,0,0]
["Laundry Areas",{"$nulls":3},"Per Sq. Ft.",{"$nulls":3},0,0,{"$f":"ROUNDUP(IF(OR(($D92+$F$6)=K$62,($C92+$D92+$F$6)=K$62,($C92*2+$D92+$F$6)=K$62,($C92*3+$D92+$F$6)=K$62,($C92*4+$D92+$F$6)=K$62,($C92*5+$D92+$F$6)=K$62,($C92*6+$D92+$F$6)=K$62,($C92*7+$D92+$F$6)=K$62,($C92*8+$D92+$F$6)=K$62),$F92*$H92*((1+$J$52)^(K$62-$F$6)),0),-2)","v":0},0,0,0,0,0,0,0,0,0,{"$f":"ROUNDUP(IF(OR(($D92+$F$6)=U$62,($C92+$D92+$F$6)=U$62,($C92*2+$D92+$F$6)=U$62,($C92*3+$D92+$F$6)=U$62,($C92*4+$D92+$F$6)=U$62,($C92*5+$D92+$F$6)=U$62,($C92*6+$D92+$F$6)=U$62,($C92*7+$D92+$F$6)=U$62,($C92*8+$D92+$F$6)=U$62),$F92*$H92*((1+$J$52)^(U$62-$F$6)),0),-2)","v":0},0,0,0,0,0,0,0,0,0,0]
["Common Area Washers",{"$nulls":3},"Per Sq. Ft.",{"$nulls":3},0,0,0,0,0,0,0,0,0,0,0,0,0,0,0,0,0,0,0,0,0,0,0]
["Common Area Dryers",{"$nulls":3},"Per Sq. Ft.",{"$nulls":3},0,0,0,0,0,0,0,0,0,0,0,0,0,0,0,0,0,0,0,0,0,0,0]
["Common Area Finishes",{"$nulls":3},"Per Sq. Ft.",{"$nulls":3},0,0,0,0,0,0,0,0,0,0,0,0,0,0,0,0,0,0,0,0,0,0,0]
["Other (Specify)",{"$nulls":7},0,0,0,0,0,0,0,0,0,0,0,0,0,0,0,0,0,0,0,0,0,0,0]
["Other (Specify)",{"$nulls":7},0,0,0,0,0,0,0,0,0,0,0,0,0,0,0,0,0,0,0,0,0,0,0]
["Common Subtotals",{"$nulls":7},{"$f":"SUM(I84:I97)","v":0},0,0,0,0,0,0,0,0,0,0,0,0,0,0,0,0,0,0,0,0,0,0]
["(4.11) Unit Exteriors",{"$nulls":12},"Years 1-5",{"$f":"SUM(K121:O121)","v":0},{"$nulls":3},"Years 6-10",{"$f":"SUM(P121:T121)","v":0},{"$nulls":3},"Years 11-15",{"$f":"SUM(U121:Y121)","v":0},{"$nulls":3},"Years 16-20",{"$f":"SUM(Z121:AD121)","v":0}]
["Carports/Surface Garage",{"$nulls":3},"Per Sq. Ft.",{"$nulls":3},{"$f":"ROUNDUP(+G100*H100,-2)","v":0},{"$f":"SUM(K100:AD100)","v":0},{"$f":"ROUNDUP(IF(OR(($D100+$F$6)=K$62,($C100+$D100+$F$6)=K$62,($C100*2+$D100+$F$6)=K$62,($C100*3+$D100+$F$6)=K$62,($C100*4+$D100+$F$6)=K$62,($C100*5+$D100+$F$6)=K$62,($C100*6+$D100+$F$6)=K$62,($C100*7+$D100+$F$6)=K$62,($C100*8+$D100+$F$6)=K$62),$F100*$H100*((1+$J$52)^(K$62-$F$6)),0),-2)","v":0},0,0,0,0,0,0,0,0,0,{"$f":"ROUNDUP(IF(OR(($D100+$F$6)=U$62,($C100+$D100+$F$6)=U$62,($C100*2+$D100+$F$6)=U$62,($C100*3+$D100+$F$6)=U$62,($C100*4+$D100+$F$6)=U$62,($C100*5+$D100+$F$6)=U$62,($C100*6+$D100+$F$6)=U$62,($C100*7+$D100+$F$6)=U$62,($C100*8+$D100+$F$6)=U$62),$F100*$H100*((1+$J$52)^(U$62-$F$6)),0),-2)","v":0},0,0,0,0,0,0,0,0,0,{"$f":"SUM(K100:AD100)-J100","v":0}]
["Foundation",{"$nulls":3},"Per Sq. Ft.",{"$nulls":3},0,0,0,0,0,0,0,0,0,0,0,0,0,0,0,0,0,0,0,0,0,0,0]
["Building Slab",{"$nulls":3},"Per Sq. Ft.",{"$nulls":3},0,0,0,0,0,0,0,0,0,0,0,0,0,0,0,0,0,0,0,0,0,0,0]
["Roofs",{"$nulls":3},"Per Sq. Ft.",{"$nulls":3},0,0,0,0,0,0,0,0,0,0,0,0,0,0,0,0,0,0,0,0,0,0,0]
["Canopies",{"$nulls":3},"Per Sq. Ft.",{"$nulls":3},0,0,0,0,0,0,0,0,0,0,0,0,0,0,0,0,0,0,0,0,0,0,0]
["Tuck-Pointing",{"$nulls":3},"Per Sq. Ft.",{"$nulls":3},0,0,0,0,0,0,0,0,0,0,0,0,0,0,0,0,0,0,0,0,0,0,0]
["Exterior Paint & Caulking",{"$nulls":3},"Per Sq. Ft.",{"$nulls":3},0,0,0,0,0,0,0,0,0,0,0,0,0,0,0,0,0,0,0,0,0,0,0]
["Soffits",{"$nulls":3},"Per Sq. Ft.",{"$nulls":3},0,0,0,0,0,0,0,0,0,0,0,0,0,0,0,0,0,0,0,0,0,0,0]
["Siding",{"$nulls":3},"Per Sq. Ft.",{"$nulls":3},0,0,0,0,0,0,0,0,0,0,0,0,0,0,0,0,0,0,0,0,0,0,0]
["Exterior Stairwells/Fire Escapes",{"$nulls":3},"Per Sq. Ft.",{"$nulls":3},0,0,0,0,0,0,0,0,0,0,0,0,0,0,0,0,0,0,0,0,0,0,0]
["Landings & Railings",{"$nulls":3},"Per Sq. Ft.",{"$nulls":3},0,0,{"$f":"ROUNDUP(IF(OR(($D110+$F$6)=K$62,($C110+$D110+$F$6)=K$62,($C110*2+$D110+$F$6)=K$62,($C110*3+$D110+$F$6)=K$62,($C110*4+$D110+$F$6)=K$62,($C110*5+$D110+$F$6)=K$62,($C110*6+$D110+$F$6)=K$62,($C110*7+$D110+$F$6)=K$62,($C110*8+$D110+$F$6)=K$62),$F110*$H110*((1+$J$52)^(K$62-$F$6)),0),-2)","v":0},0,0,0,0,0,0,0,0,0,{"$f":"ROUNDUP(IF(OR(($D110+$F$6)=U$62,($C110+$D110+$F$6)=U$62,($C110*2+$D110+$F$6)=U$62,($C110*3+$D110+$F$6)=U$62,($C110*4+$D110+$F$6)=U$62,($C110*5+$D110+$F$6)=U$62,($C110*6+$D110+$F$6)=U$62,($C110*7+$D110+$F$6)=U$62,($C110*8+$D110+$F$6)=U$62),$F110*$H110*((1+$J$52)^(U$62-$F$6)),0),-2)","v":0},0,0,0,0,0,0,0,0,0,0]
["Balconies & Railings",{"$nulls":3},"Per Sq. Ft.",{"$nulls":3},0,0,0,0,0,0,0,0,0,0,0,0,0,0,0,0,0,0,0,0,0,0,0]
["Mail Facilities",{"$nulls":3},"Per Sq. Ft.",{"$nulls":3},0,0,0,0,0,0,0,0,0,0,0,0,0,0,0,0,0,0,0,0,0,0,0]
["Exterior Doors",{"$nulls":3},"Per Sq. Ft.",{"$nulls":3},0,0,0,0,0,0,0,0,0,0,0,0,0,0,0,0,0,0,0,0,0,0,0]
["Windows",{"$nulls":3},"Per Sq. Ft.",{"$nulls":3},0,0,0,0,0,0,0,0,0,0,0,0,0,0,0,0,0,0,0,0,0,0,0]
["Gutters/Downspouts",{"$nulls":3},"Per Sq. Ft.",{"$nulls":3},0,0,0,0,0,0,0,0,0,0,0,0,0,0,0,0,0,0,0,0,0,0,0]
["Columns & Porches",{"$nulls":3},"Per Sq. Ft.",{"$nulls":3},0,0,0,0,0,0,0,0,0,0,0,0,0,0,0,0,0,0,0,0,0,0,0]
["Decks & Patios",{"$nulls":3},"Per Sq. Ft.",{"$nulls":3},0,0,0,0,0,0,0,0,0,0,0,0,0,0,0,0,0,0,0,0,0,0,0]
["Exterior Lighting",{"$nulls":3},"Per Sq. Ft.",{"$nulls":3},0,0,0,0,0,0,0,0,0,0,0,0,0,0,0,0,0,0,0,0,0,0,0]
["Other (Specify)",{"$nulls":7},0,0,0,0,0,0,0,0,0,0,0,0,0,0,0,0,0,0,0,0,0,0,0]
["Other (Specify)",{"$nulls":7},0,0,0,0,0,0,0,0,0,0,0,0,0,0,0,0,0,0,0,0,0,0,0]
["Unit Exterior Subtotals",{"$nulls":7},{"$f":"SUM(I100:I120)","v":0},0,0,0,0,0,0,0,0,0,0,0,0,0,0,0,0,0,0,0,0,0,0]
["(4.12) Unit Interiors",{"$nulls":12},"Years 1-5",{"$f":"SUM(K144:O144)","v":0},{"$nulls":3},"Years 6-10",{"$f":"SUM(P144:T144)","v":0},{"$nulls":3},"Years 11-15",{"$f":"SUM(U144:Y144)","v":0},{"$nulls":3},"Years 16-20",{"$f":"SUM(Z144:AD144)","v":0}]
["Interior Painting (non routine)",{"$nulls":3},"Per Sq. Ft.",{"$nulls":3},{"$f":"ROUNDUP(+G123*H123,-2)","v":0},{"$f":"SUM(K123:AD123)","v":0},{"$f":"ROUNDUP(IF(OR(($D123+$F$6)=K$62,($C123+$D123+$F$6)=K$62,($C123*2+$D123+$F$6)=K$62,($C123*3+$D123+$F$6)=K$62,($C123*4+$D123+$F$6)=K$62,($C123*5+$D123+$F$6)=K$62,($C123*6+$D123+$F$6)=K$62,($C123*7+$D123+$F$6)=K$62,($C123*8+$D123+$F$6)=K$62),$F123*$H123*((1+$J$52)^(K$62-$F$6)),0),-2)","v":0},0,0,0,0,0,0,0,0,0,{"$f":"ROUNDUP(IF(OR(($D123+$F$6)=U$62,($C123+$D123+$F$6)=U$62,($C123*2+$D123+$F$6)=U$62,($C123*3+$D123+$F$6)=U$62,($C123*4+$D123+$F$6)=U$62,($C123*5+$D123+$F$6)=U$62,($C123*6+$D123+$F$6)=U$62,($C123*7+$D123+$F$6)=U$62,($C123*8+$D123+$F$6)=U$62),$F123*$H123*((1+$J$52)^(U$62-$F$6)),0),-2)","v":0},0,0,0,0,0,0,0,0,0,{"$f":"SUM(K123:AD123)-J123","v":0}]
["Interior Doors",{"$nulls":3},"Per Sq. Ft.",{"$nulls":3},0,0,0,0,0,0,0,0,0,0,0,0,0,0,0,0,0,0,0,0,0,0,0]
["Flooring (non routine)",{"$nulls":3},"Per Sq. Ft.",{"$nulls":3},0,0,0,0,0,0,0,0,0,0,0,0,0,0,0,0,0,0,0,0,0,0,0]
["Shower/Tub Surrounds",{"$nulls":3},"Per Sq. Ft.",{"$nulls":3},0,0,0,0,0,0,0,0,0,0,0,0,0,0,0,0,0,0,0,0,0,0,0]
["Commodes",{"$nulls":3},"Per Sq. Ft.",{"$nulls":3},0,0,0,0,0,0,0,0,0,0,0,0,0,0,0,0,0,0,0,0,0,0,0]
["Vanities",{"$nulls":3},"Per Sq. Ft.",{"$nulls":3},0,0,0,0,0,0,0,0,0,0,0,0,0,0,0,0,0,0,0,0,0,0,0]
["Faucets",{"$nulls":3},"Per Sq. Ft.",{"$nulls":3},0,0,0,0,0,0,0,0,0,0,0,0,0,0,0,0,0,0,0,0,0,0,0]
["Bathroom Flooring (non cyclical)",{"$nulls":3},"Per Sq. Ft.",{"$nulls":3},0,0,0,0,0,0,0,0,0,0,0,0,0,0,0,0,0,0,0,0,0,0,0]
["Kitchen Cabinets",{"$nulls":3},"Per Sq. Ft.",{"$nulls":3},0,0,0,0,0,0,0,0,0,0,0,0,0,0,0,0,0,0,0,0,0,0,0]
["Ranges",{"$nulls":3},"Per Sq. Ft.",{"$nulls":3},0,0,0,0,0,0,0,0,0,0,0,0,0,0,0,0,0,0,0,0,0,0,0]
["Range Hoods",{"$nulls":3},"Per Sq. Ft.",{"$nulls":3},0,0,{"$f":"ROUNDUP(IF(OR(($D133+$F$6)=K$62,($C133+$D133+$F$6)=K$62,($C133*2+$D133+$F$6)=K$62,($C133*3+$D133+$F$6)=K$62,($C133*4+$D133+$F$6)=K$62,($C133*5+$D133+$F$6)=K$62,($C133*6+$D133+$F$6)=K$62,($C133*7+$D133+$F$6)=K$62,($C133*8+$D133+$F$6)=K$62),$F133*$H133*((1+$J$52)^(K$62-$F$6)),0),-2)","v":0},0,0,0,0,0,0,0,0,0,{"$f":"ROUNDUP(IF(OR(($D133+$F$6)=U$62,($C133+$D133+$F$6)=U$62,($C133*2+$D133+$F$6)=U$62,($C133*3+$D133+$F$6)=U$62,($C133*4+$D133+$F$6)=U$62,($C133*5+$D133+$F$6)=U$62,($C133*6+$D133+$F$6)=U$62,($C133*7+$D133+$F$6)=U$62,($C133*8+$D133+$F$6)=U$62),$F133*$H133*((1+$J$52)^(U$62-$F$6)),0),-2)","v":0},0,0,0,0,0,0,0,0,0,0]
["Refrigerators",{"$nulls":3},"Per Sq. Ft.",{"$nulls":3},0,0,0,0,0,0,0,0,0,0,0,0,0,0,0,0,0,0,0,0,0,0,0]
["Counters and Sinks",{"$nulls":3},"Per Sq. Ft.",{"$nulls":3},0,0,0,0,0,0,0,0,0,0,0,0,0,0,0,0,0,0,0,0,0,0,0]
["Dishwasher",{"$nulls":3},"Per Sq. Ft.",{"$nulls":3},0,0,0,0,0,0,0,0,0,0,0,0,0,0,0,0,0,0,0,0,0,0,0]
["Microwave",{"$nulls":3},"Per Sq. Ft.",{"$nulls":3},0,0,0,0,0,0,0,0,0,0,0,0,0,0,0,0,0,0,0,0,0,0,0]
["Washing Machines",{"$nulls":3},"Per Sq. Ft.",{"$nulls":3},0,0,0,0,0,0,0,0,0,0,0,0,0,0,0,0,0,0,0,0,0,0,0]
["Dryers",{"$nulls":3},"Per Sq. Ft.",{"$nulls":3},0,0,0,0,0,0,0,0,0,0,0,0,0,0,0,0,0,0,0,0,0,0,0]
["Call-for-Aid Systems",{"$nulls":7},0,0,0,0,0,0,0,0,0,0,0,0,0,0,0,0,0,0,0,0,0,0,0]
["Stairs and Handrails",{"$nulls":7},0,0,0,0,0,0,0,0,0,0,0,0,0,0,0,0,0,0,0,0,0,0,0]
["Other (Specify)",{"$nulls":7},0,0,0,0,0,0,0,0,0,0,0,0,0,0,0,0,0,0,0,0,0,0,0]
["Other (Specify)",{"$nulls":7},0,0,0,0,0,0,0,0,0,0,0,0,0,0,0,0,0,0,0,0,0,0,0]
["Unit Interior Subtotals",{"$nulls":7},{"$f":"SUM(I123:I143)","v":0},0,0,0,0,0,0,0,0,0,0,0,0,0,0,0,0,0,0,0,0,0,0]
["(4.13) Mechanical",{"$nulls":12},"Years 1-5",{"$f":"SUM(K161:O161)","v":0},{"$nulls":3},"Years 6-10",{"$f":"SUM(P161:T161)","v":0},{"$nulls":3},"Years 11-15",{"$f":"SUM(U161:Y161)","v":0},{"$nulls":3},"Years 16-20",{"$f":"SUM(Z161:AD161)","v":0}]
["Water Distribution",{"$nulls":3},"Per Sq. Ft.",{"$nulls":3},{"$f":"ROUNDUP(+G146*H146,-2)","v":0},{"$f":"SUM(K146:AD146)","v":0},{"$f":"ROUNDUP(IF(OR(($D146+$F$6)=K$62,($C146+$D146+$F$6)=K$62,($C146*2+$D146+$F$6)=K$62,($C146*3+$D146+$F$6)=K$62,($C146*4+$D146+$F$6)=K$62,($C146*5+$D146+$F$6)=K$62,($C146*6+$D146+$F$6)=K$62,($C146*7+$D146+$F$6)=K$62,($C146*8+$D146+$F$6)=K$62),$F146*$H146*((1+$J$52)^(K$62-$F$6)),0),-2)","v":0},0,0,0,0,0,0,0,0,0,{"$f":"ROUNDUP(IF(OR(($D146+$F$6)=U$62,($C146+$D146+$F$6)=U$62,($C146*2+$D146+$F$6)=U$62,($C146*3+$D146+$F$6)=U$62,($C146*4+$D146+$F$6)=U$62,($C146*5+$D146+$F$6)=U$62,($C146*6+$D146+$F$6)=U$62,($C146*7+$D146+$F$6)=U$62,($C146*8+$D146+$F$6)=U$62),$F146*$H146*((1+$J$52)^(U$62-$F$6)),0),-2)","v":0},0,0,0,0,0,0,0,0,0,{"$f":"SUM(K146:AD146)-J146","v":0}]
["Heating Equipt/System",{"$nulls":3},"Per Sq. Ft.",{"$nulls":3},0,0,0,0,0,0,0,0,0,0,0,0,0,0,0,0,0,0,0,0,0,0,0]
["Electric Disribution",{"$nulls":3},"Per Sq. Ft.",{"$nulls":3},0,0,0,0,0,0,0,0,0,0,0,0,0,0,0,0,0,0,0,0,0,0,0]
["Hot Water Heaters",{"$nulls":3},"Per Sq. Ft.",{"$nulls":3},0,0,0,0,0,0,0,0,0,0,0,0,0,0,0,0,0,0,0,0,0,0,0]
["Unit Sub-panels",{"$nulls":3},"Per Sq. Ft.",{"$nulls":3},0,0,0,0,0,0,0,0,0,0,0,0,0,0,0,0,0,0,0,0,0,0,0]
["Trash Compactor",{"$nulls":3},"Per Sq. Ft.",{"$nulls":3},0,0,0,0,0,0,0,0,0,0,0,0,0,0,0,0,0,0,0,0,0,0,0]
["Cooling Equipt/Systems",{"$nulls":3},"Per Sq. Ft.",{"$nulls":3},0,0,0,0,0,0,0,0,0,0,0,0,0,0,0,0,0,0,0,0,0,0,0]
["Smoke/Fire Detection",{"$nulls":3},"Per Sq. Ft.",{"$nulls":3},0,0,0,0,0,0,0,0,0,0,0,0,0,0,0,0,0,0,0,0,0,0,0]
["Unit Reconfiguration",{"$nulls":3},"Per Sq. Ft.",{"$nulls":3},0,0,0,0,0,0,0,0,0,0,0,0,0,0,0,0,0,0,0,0,0,0,0]
["Security/Fire Alarm",{"$nulls":3},"Per Sq. Ft.",{"$nulls":3},0,0,0,0,0,0,0,0,0,0,0,0,0,0,0,0,0,0,0,0,0,0,0]
["Fire Suspression System",{"$nulls":3},"Per Sq. Ft.",{"$nulls":3},0,0,0,0,0,0,0,0,0,0,0,0,0,0,0,0,0,0,0,0,0,0,0]
["Generator",{"$nulls":3},"Per Sq. Ft.",{"$nulls":3},0,0,0,0,0,0,0,0,0,0,0,0,0,0,0,0,0,0,0,0,0,0,0]
["Elevator",{"$nulls":3},"Per Sq. Ft.",{"$nulls":3},0,0,0,0,0,0,0,0,0,0,0,0,0,0,0,0,0,0,0,0,0,0,0]
["Other (Specify) ",{"$nulls":7},0,0,0,0,0,0,0,0,0,0,0,0,0,0,0,0,0,0,0,0,0,0,0]
["Other (Specify)",{"$nulls":7},0,0,0,0,0,0,0,0,0,0,0,0,0,0,0,0,0,0,0,0,0,0,0]
["Mechanical Subtotals",{"$nulls":7},{"$f":"SUM(I146:I160)","v":0},0,0,0,0,0,0,0,0,0,0,0,0,0,0,0,0,0,0,0,0,0,0]
["(4.14) Other",{"$nulls":12},"Years 1-5",{"$f":"SUM(K170:O170)","v":0},{"$nulls":3},"Years 6-10",{"$f":"SUM(P170:T170)","v":0},{"$nulls":3},"Years 11-15",{"$f":"SUM(U170:Y170)","v":0},{"$nulls":3},"Years 16-20",{"$f":"SUM(Z170:AD170)","v":0}]
["Site Acquisition",{"$nulls":3},"Per Sq. Ft.",{"$nulls":3},{"$f":"ROUNDUP(+G163*H163,-2)","v":0},{"$f":"SUM(K163:AD163)","v":0},{"$f":"ROUNDUP(IF(OR(($D163+$F$6)=K$62,($C163+$D163+$F$6)=K$62,($C163*2+$D163+$F$6)=K$62,($C163*3+$D163+$F$6)=K$62,($C163*4+$D163+$F$6)=K$62,($C163*5+$D163+$F$6)=K$62,($C163*6+$D163+$F$6)=K$62,($C163*7+$D163+$F$6)=K$62,($C163*8+$D163+$F$6)=K$62),$F163*$H163*((1+$J$52)^(K$62-$F$6)),0),-2)","v":0},0,0,0,0,0,0,0,0,0,{"$f":"ROUNDUP(IF(OR(($D163+$F$6)=U$62,($C163+$D163+$F$6)=U$62,($C163*2+$D163+$F$6)=U$62,($C163*3+$D163+$F$6)=U$62,($C163*4+$D163+$F$6)=U$62,($C163*5+$D163+$F$6)=U$62,($C163*6+$D163+$F$6)=U$62,($C163*7+$D163+$F$6)=U$62,($C163*8+$D163+$F$6)=U$62),$F163*$H163*((1+$J$52)^(U$62-$F$6)),0),-2)","v":0},0,0,0,0,0,0,0,0,0,{"$f":"SUM(K163:AD163)-J163","v":0}]
["Other Fees and Costs",{"$nulls":3},"Per Sq. Ft.",{"$nulls":3},0,0,0,0,0,0,0,0,0,0,0,0,0,0,0,0,0,0,0,0,0,0,0]
["Demolition",{"$nulls":3},"Per Sq. Ft.",{"$nulls":3},0,0,0,0,0,0,0,0,0,0,0,0,0,0,0,0,0,0,0,0,0,0,0]
["Dwelling Unit Conversion",{"$nulls":3},"Per Sq. Ft.",{"$nulls":3},0,0,0,0,0,0,0,0,0,0,0,0,0,0,0,0,0,0,0,0,0,0,0]
["Contingency",{"$nulls":3},"Per Sq. Ft.",{"$nulls":3},0,0,{"$f":"ROUNDUP(IF(OR(($D167+$F$6)=K$62,($C167+$D167+$F$6)=K$62,($C167*2+$D167+$F$6)=K$62,($C167*3+$D167+$F$6)=K$62,($C167*4+$D167+$F$6)=K$62,($C167*5+$D167+$F$6)=K$62,($C167*6+$D167+$F$6)=K$62,($C167*7+$D167+$F$6)=K$62,($C167*8+$D167+$F$6)=K$62),$F167*$H167*((1+$J$52)^(K$62-$F$6)),0),-2)","v":0},0,0,0,0,0,0,0,0,0,{"$f":"ROUNDUP(IF(OR(($D167+$F$6)=U$62,($C167+$D167+$F$6)=U$62,($C167*2+$D167+$F$6)=U$62,($C167*3+$D167+$F$6)=U$62,($C167*4+$D167+$F$6)=U$62,($C167*5+$D167+$F$6)=U$62,($C167*6+$D167+$F$6)=U$62,($C167*7+$D167+$F$6)=U$62,($C167*8+$D167+$F$6)=U$62),$F167*$H167*((1+$J$52)^(U$62-$F$6)),0),-2)","v":0},0,0,0,0,0,0,0,0,0,0]
["Other (Specify) ",{"$nulls":7},0,0,0,0,0,0,0,0,0,0,0,0,0,0,0,0,0,0,0,0,0,0,0]
["Other (Specify)",{"$nulls":7},0,0,0,0,0,0,0,0,0,0,0,0,0,0,0,0,0,0,0,0,0,0,0]
["Other Subtotals",{"$nulls":7},{"$f":"SUM(I163:I169)","v":0},0,0,0,0,0,0,0,0,0,0,0,0,0,0,0,0,0,0,0,0,0,0]
["GRAND TOTAL",{"$nulls":7},{"$f":"I170+I161+I144+I82+I98","v":0},{"$f":"J170+J161+J144+J121+J98+J82","v":0},0,0,0,0,0,0,0,0,0,0,0,0,0,0,0,0,0,0,0,0,0]
["(4.15) Special Categories"]
["Amount of PNA Relating to Lead Paint/Asbestos Compliance",{"$nulls":3},"Per Sq. Ft.",{"$nulls":3},{"$f":"ROUNDUP(+G173*H173,-2)","v":0}]
["Amount of PNA Relating to Section 504, ADA, and Fair Housing Act (if applicable) Compliance",{"$nulls":3},"Per Sq. Ft.",{"$nulls":3},{"$f":"ROUNDUP(+G174*H174,-2)","v":0}]
[]
["(4.16) New Construction"]
["Dwelling Units",{"$nulls":3},"Per Sq. Ft.",{"$nulls":3},{"$f":"ROUNDUP(+G177*H177,-2)","v":0}]
["Administrative Building",{"$nulls":3},"Per Sq. Ft.",{"$nulls":3},0]
["Community Building or Facility",{"$nulls":3},"Per Sq. Ft.",{"$nulls":3},0]
["Shop",{"$nulls":3},"Per Sq. Ft.",{"$nulls":3},0]
["Storage Area",{"$nulls":3},"Per Sq. Ft.",{"$nulls":3},0]
["Family Investment Center",{"$nulls":3},"Per Sq. Ft.",{"$nulls":3},0]
["Day Care Center",{"$nulls":3},"Per Sq. Ft.",{"$nulls":3},0]
["Laundry Areas(s)",{"$nulls":3},"Per Sq. Ft.",{"$nulls":3},0]
["Other (Specify) ",{"$nulls":3},"Per Sq. Ft.",{"$nulls":3},0]
["Other (Specify)",{"$nulls":3},"Per Sq. Ft.",{"$nulls":3},0]
["Other (Specify)",{"$nulls":7},0]
["New Construction Subtotals",{"$nulls":7},{"$f":"SUM(I177:I187)","v":0}]

{"sheet":"Tab 8","index":9,"n_rows":188,"n_cols":31,"rows_kept":188,"merged":[[4,2,4,3],[5,2,5,3],[7,0,7,8],[9,1,9,2],[10,1,10,2],[20,3,20,9],[27,0,27,8],[29,8,29,9],[30,8,30,9],[31,8,31,9],[33,6,35,6],[37,4,37,9],[44,0,44,8],[46,0,46,1],[47,0,47,1],[48,0,48,1],[49,0,49,1],[50,0,50,1],[51,0,51,1],[52,0,52,1],[53,0,53,1],[54,0,54,1],[55,0,55,1],[56,0,56,1],[59,0,59,8],[61,0,61,1],[62,0,62,1],[81,0,81,1],[97,0,97,1],[120,0,120,1],[143,0,143,1],[160,0,160,1],[169,0,169,1],[170,0,170,1],[187,0,187,1]]}
["Physical Needs Assessment",{"$nulls":3},"U.S. Department of Housing",{"$nulls":4}," OMB Approval No. 2577-0157"]
["Capital Fund Financing Program/",{"$nulls":3},"and Urban Development",{"$nulls":4}," (exp. 1/31/2017)"]
["Operating Fund Financing Program",{"$nulls":3},"Office of Public and Indian Housing"]
[]
["HA Name",null,"HA Number",null,null,"FY of Assessment",null," Original  ","Date Prepared:"]
["Sample PHA",null,{"$f":"'Tab 6'!C6:D6","v":0},{"$nulls":4},"Revision  ","Date Revised:"]
[]
["(1.0) Project Data"]
[]
["(1.1) Management Office Address",{"$nulls":5},"(1.3) Development No.",null,"(1.4) DOFA Date"]
["(1.2) Project Name"]
[{"$nulls":4},"Family"]
[{"$nulls":3},"(1.9)","Elderly",null,null,"(1.10)","S-F Detached"]
["(1.5) Year of Last Substantial Mod",null,null,"Occupancy","Family & Disabled",null,null,"Structure","Semi-Detached"]
["(1.6) Occupancy Rate ",{"$f":"B20/(+B18-B26)","v":{"$error":"#DIV/0!"}},null,"Type(s)","Elderly & Disabled",null,null,"Type(s)","Row or Townhome"]
["        (Rentable Units Only)",null,null,"(Check)","Not Applicable",null,null,"(Check","M-F/Walkup"]
["(1.7) Latest PASS REAC Score",null,null,"all that apply)","Official Designation: Elderly",null,null,"all that","Elevator"]
["Total Units",{"$f":"+B20+B21","v":0},null,null,"Official Designation: Disabled",null,null,"apply)","Non-Dwelling"]
["(1.8) Total Buildings",{"$nulls":3},"Official Designation: Mixed"]
["Occupied Units",{"$f":"SUM(E23:J23)","v":0}]
["Vacant/Rentable Units",{"$f":"SUM(E24:J24)","v":0},null,"(1.11) Bedroom Distribution"]
[{"$nulls":4},"Eff","1BR","2BR","3BR","4BR","5BR+"]
[{"$nulls":3},"(1.11a) Occupied"]
[{"$nulls":3},"(1.11b) Vacant"]
[{"$nulls":3},"Total Units",{"$f":"SUM(E23:E24)","v":0},0,0,0,0,0]
[{"$nulls":3},"Avg Bedrooms per Unit",null,{"$f":"(+E23*1+F23*1+G23*2+H23*3+I23*4+J23*5)/SUM(E23:J23)","v":{"$error":"#DIV/0!"}}]
[]
["(2.0) Physical Needs Assessment Summary Data"]
[]
["(2.1) PNA Conducted By: (PHA/ 3rd Party)",null,"PHA Internally",null,null,"(2.5) Inspector Contact Name: "]
[null,null,"3rd Pary Independent",null,null,"(2.6) Company Name or PHA Title:"]
["(2.2) First Year Covered by PNA",{"$nulls":4},"(2.7) Inspector Contact Phone:"]
["(2.3) Length of PNA (in years)"]
["(2.4) Unit Interiors Inspected (#)",null,{"$f":"SUM(E40:J40)","v":0},{"$nulls":3},"(2.8) Data Source(s) for PNA",null,"Annual Inspections"]
["Units Inspected as % of Total",null,{"$f":"C34/B18","v":{"$error":"#DIV/0!"}},{"$nulls":5},"Contractor"]
["(2.9) Total Residential Buildings",{"$nulls":7},"REAC Inspections"]
["(2.10) Number of Building Exteriors Inspected"]
["(2.11) Total Off-Street Parking Spaces",{"$nulls":3},"(2.14) Units Inspected by Bedroom Size"]
["(2.12) Site Acreage",null,null,"acres","Eff","1BR","2BR","3BR","4BR","5BR+"]
["(2.13) Parking Area (in square feet)",null,null,"SF"]
[]
["(2.15) Physical Improvements Will Result in Structural/System Soundness at a Reasonable Cost",{"$nulls":5},"Yes","No"]
["(2.16) Development Has Long-Term Physical and Social Viability",{"$nulls":5},"Yes","No"]
[]
["(3.0) Total Physical Needs Summary"]
[]
["Major Category",null,"Immediate","Years                       1-5","Years                    6-10","Years                    11-15","Years                   16-20","Total Needs"]
["Site",null,{"$f":"+I82","v":0},{"$f":"$O$63","v":0},{"$f":"$T$63","v":0},{"$f":"$Y$63","v":0},{"$f":"$AD$63","v":0},{"$f":"SUM(C48:G48)","v":0}]
["Common Buildings",null,{"$f":"$I$98","v":0},{"$f":"$O$83","v":0},{"$f":"$T$83","v":0},{"$f":"$Y$83","v":0},{"$f":"$AD$83","v":0},0]
["Unit Exteriors",null,{"$f":"$I$121","v":0},{"$f":"$O$99","v":0},{"$f":"$T$99","v":0},{"$f":"$Y$99","v":0},{"$f":"$AD$99","v":0},0]
["Unit Interiors",null,{"$f":"$I$144","v":0},{"$f":"O122","v":0},{"$f":"T122","v":0},{"$f":"Y122","v":0},{"$f":"AD122","v":0},0]
["Mechanical",null,{"$f":"I161","v":0},{"$f":"O145","v":0},{"$f":"T145","v":0},{"$f":"Y145","v":0},{"$f":"AD145","v":0},0]
["Other",null,{"$f":"I170","v":0},{"$f":"O162","v":0},{"$f":"T162","v":0},{"$f":"Y162","v":0},{"$f":"AD162","v":0},0]
["Totals",null,{"$f":"SUM(C48:C53)","v":0},0,0,0,0,0]
["Amount of PNA relating to Lead Paint/Asbestos",null,{"$f":"I173","v":0},{"$nulls":4},{"$f":"C55","v":0}]
["Amount of PNA relating to Section 504, ADA, and Fair Housing Act (if applicable) Compliance",null,{"$f":"I174","v":0},{"$nulls":4},{"$f":"C56","v":0}]
["New Construction",{"$nulls":6},{"$f":"I188","v":0}]
[{"$nulls":5},"TOTAL PHYSICAL NEEDS",null,{"$f":"H57+H54","v":0}]
[]
["(4.0)Physical Needs Cost Estimate"]
[]
["(4.1) Category",null,"(4.2) Estimated Useful Life","(4.3)                Useful Life Remaining","(4.4)             Method","(4.5)                   Total          Quantity","(4.6)             Current Needs Quantity","(4.7)                Cost per      Quantity","(4.8)         Immediate Repairs Needed","Total Long Term Needs",{"$f":"+F6+1","v":1},{"$f":"1+K62","v":2},3,4,5,6,7,8,9,10,11,12,13,14,15,16,17,18,19,20]
["(4.9) Site",null,"(in yrs)","(in yrs)",{"$nulls":9},"Years 1-5",{"$f":"SUM(K82:O82)","v":0},{"$nulls":3},"Years 6-10",{"$f":"SUM(P82:T82)","v":0},{"$nulls":3},"Years 11-15",{"$f":"SUM(U82:Y82)","v":0},{"$nulls":3},"Years 16-20",{"$f":"SUM(Z82:AD82)","v":0}]
["Asphalt/Concrete",{"$nulls":3},"Per Sq. Ft.",{"$nulls":3},{"$f":"ROUNDUP(+G64*H64,-2)","v":0},{"$f":"SUM(K64:AD64)","v":0},{"$f":"ROUNDUP(IF(OR(($D64+$F$6)=K$62,($C64+$D64+$F$6)=K$62,($C64*2+$D64+$F$6)=K$62,($C64*3+$D64+$F$6)=K$62,($C64*4+$D64+$F$6)=K$62,($C64*5+$D64+$F$6)=K$62,($C64*6+$D64+$F$6)=K$62,($C64*7+$D64+$F$6)=K$62,($C64*8+$D64+$F$6)=K$62),$F64*$H64*((1+$J$52)^(K$62-$F$6)),0),-2)","v":0},0,0,0,0,0,0,0,0,0,{"$f":"ROUNDUP(IF(OR(($D64+$F$6)=U$62,($C64+$D64+$F$6)=U$62,($C64*2+$D64+$F$6)=U$62,($C64*3+$D64+$F$6)=U$62,($C64*4+$D64+$F$6)=U$62,($C64*5+$D64+$F$6)=U$62,($C64*6+$D64+$F$6)=U$62,($C64*7+$D64+$F$6)=U$62,($C64*8+$D64+$F$6)=U$62),$F64*$H64*((1+$J$52)^(U$62-$F$6)),0),-2)","v":0},0,0,0,0,0,0,0,0,0,{"$f":"SUM(K64:AD64)-J64","v":0}]
["Seal Coat",{"$nulls":3},"Per Sq. Ft.",{"$nulls":3},0,0,0,0,0,0,0,0,0,0,0,0,0,0,0,0,0,0,0,0,0,0,0]
["Striping",{"$nulls":3},"Per Sq. Ft.",{"$nulls":3},0,0,0,0,0,0,0,0,0,0,0,0,0,0,0,0,0,0,0,0,0,0,0]
["Curb & Gutter",{"$nulls":3},"Per Sq. Ft.",{"$nulls":3},0,0,0,0,0,0,0,0,0,0,0,0,0,0,0,0,0,0,0,0,0,0,0]
["Pedestrian paving",{"$nulls":3},"Per Sq. Ft.",{"$nulls":3},0,0,0,0,0,0,0,0,0,0,0,0,0,0,0,0,0,0,0,0,0,0,0]
["Signage",{"$nulls":3},"Per Sq. Ft.",{"$nulls":3},0,0,0,0,0,0,0,0,0,0,0,0,0,0,0,0,0,0,0,0,0,0,0]
["Water Lines/Mains",{"$nulls":3},"Per Sq. Ft.",{"$nulls":3},0,0,0,0,0,0,0,0,0,0,0,0,0,0,0,0,0,0,0,0,0,0,0]
["Sewer Lines/Mains",{"$nulls":3},"Per Sq. Ft.",{"$nulls":3},0,0,0,0,0,0,0,0,0,0,0,0,0,0,0,0,0,0,0,0,0,0,0]
["Lighting",{"$nulls":3},"Per Sq. Ft.",{"$nulls":3},0,0,0,0,0,0,0,0,0,0,0,0,0,0,0,0,0,0,0,0,0,0,0]
["Storm Drainage",{"$nulls":3},"Per Sq. Ft.",{"$nulls":3},0,0,0,0,0,0,0,0,0,0,0,0,0,0,0,0,0,0,0,0,0,0,0]
["Landscape",{"$nulls":3},"Per Sq. Ft.",{"$nulls":3},0,0,{"$f":"ROUNDUP(IF(OR(($D74+$F$6)=K$62,($C74+$D74+$F$6)=K$62,($C74*2+$D74+$F$6)=K$62,($C74*3+$D74+$F$6)=K$62,($C74*4+$D74+$F$6)=K$62,($C74*5+$D74+$F$6)=K$62,($C74*6+$D74+$F$6)=K$62,($C74*7+$D74+$F$6)=K$62,($C74*8+$D74+$F$6)=K$62),$F74*$H74*((1+$J$52)^(K$62-$F$6)),0),-2)","v":0},0,0,0,0,0,0,0,0,0,{"$f":"ROUNDUP(IF(OR(($D74+$F$6)=U$62,($C74+$D74+$F$6)=U$62,($C74*2+$D74+$F$6)=U$62,($C74*3+$D74+$F$6)=U$62,($C74*4+$D74+$F$6)=U$62,($C74*5+$D74+$F$6)=U$62,($C74*6+$D74+$F$6)=U$62,($C74*7+$D74+$F$6)=U$62,($C74*8+$D74+$F$6)=U$62),$F74*$H74*((1+$J$52)^(U$62-$F$6)),0),-2)","v":0},0,0,0,0,0,0,0,0,0,0]
["Fencing",{"$nulls":3},"Per Sq. Ft.",{"$nulls":3},0,0,0,0,0,0,0,0,0,0,0,0,0,0,0,0,0,0,0,0,0,0,0]
["Fence Painting",{"$nulls":3},"Per Sq. Ft.",{"$nulls":3},0,0,0,0,0,0,0,0,0,0,0,0,0,0,0,0,0,0,0,0,0,0,0]
["Dumpsters & Enclosures",{"$nulls":3},"Per Sq. Ft.",{"$nulls":3},0,0,0,0,0,0,0,0,0,0,0,0,0,0,0,0,0,0,0,0,0,0,0]
["Electric Distribution",{"$nulls":3},"Per Sq. Ft.",{"$nulls":3},0,0,0,0,0,0,0,0,0,0,0,0,0,0,0,0,0,0,0,0,0,0,0]
["Playground Areas/Equipment",{"$nulls":3},"Per Sq. Ft.",{"$nulls":3},0,0,0,0,0,0,0,0,0,0,0,0,0,0,0,0,0,0,0,0,0,0,0]
["Other (Specify)",{"$nulls":7},0,0,0,0,0,0,0,0,0,0,0,0,0,0,0,0,0,0,0,0,0,0,0]
["Other (Specify)",{"$nulls":7},0,0,0,0,0,0,0,0,0,0,0,0,0,0,0,0,0,0,0,0,0,0,0]
["Site Subtotals",{"$nulls":7},{"$f":"SUM(I64:I81)","v":0},0,0,0,0,0,0,0,0,0,0,0,0,0,0,0,0,0,0,0,0,0,0]
["(4.10) Common Buildings--Rehab Only",{"$nulls":12},"Years 1-5",{"$f":"SUM(K98:O98)","v":0},{"$nulls":3},"Years 6-10",{"$f":"SUM(P98:T98)","v":0},{"$nulls":3},"Years 11-15",{"$f":"SUM(T98:X98)","v":0},{"$nulls":3},"Years 16-20",{"$f":"SUM(Y98:AC98)","v":0}]
["Administrative Building",{"$nulls":3},"Per Sq. Ft.",{"$nulls":3},{"$f":"ROUNDUP(+G84*H84,-2)","v":0},{"$f":"SUM(K84:AD84)","v":0},{"$f":"ROUNDUP(IF(OR(($D84+$F$6)=K$62,($C84+$D84+$F$6)=K$62,($C84*2+$D84+$F$6)=K$62,($C84*3+$D84+$F$6)=K$62,($C84*4+$D84+$F$6)=K$62,($C84*5+$D84+$F$6)=K$62,($C84*6+$D84+$F$6)=K$62,($C84*7+$D84+$F$6)=K$62,($C84*8+$D84+$F$6)=K$62),$F84*$H84*((1+$J$52)^(K$62-$F$6)),0),-2)","v":0},0,0,0,0,0,0,0,0,0,{"$f":"ROUNDUP(IF(OR(($D84+$F$6)=U$62,($C84+$D84+$F$6)=U$62,($C84*2+$D84+$F$6)=U$62,($C84*3+$D84+$F$6)=U$62,($C84*4+$D84+$F$6)=U$62,($C84*5+$D84+$F$6)=U$62,($C84*6+$D84+$F$6)=U$62,($C84*7+$D84+$F$6)=U$62,($C84*8+$D84+$F$6)=U$62),$F84*$H84*((1+$J$52)^(U$62-$F$6)),0),-2)","v":0},0,0,0,0,0,0,0,0,0,{"$f":"SUM(K84:AD84)-J84","v":0}]
["Community Building",{"$nulls":3},"Per Sq. Ft.",{"$nulls":3},0,0,0,0,0,0,0,0,0,0,0,0,0,0,0,0,0,0,0,0,0,0,0]
["Shop",{"$nulls":3},"Per Sq. Ft.",{"$nulls":3},0,0,0,0,0,0,0,0,0,0,0,0,0,0,0,0,0,0,0,0,0,0,0]
["Storage Area",{"$nulls":3},"Per Sq. Ft.",{"$nulls":3},0,0,0,0,0,0,0,0,0,0,0,0,0,0,0,0,0,0,0,0,0,0,0]
["Central Boiler",{"$nulls":3},"Per Sq. Ft.",{"$nulls":3},0,0,0,0,0,0,0,0,0,0,0,0,0,0,0,0,0,0,0,0,0,0,0]
["Central Chiller",{"$nulls":3},"Per Sq. Ft.",{"$nulls":3},0,0,0,0,0,0,0,0,0,0,0,0,0,0,0,0,0,0,0,0,0,0,0]
["Family Invesment Center",{"$nulls":3},"Per Sq. Ft.",{"$nulls":3},0,0,0,0,0,0,0,0,0,0,0,0,0,0,0,0,0,0,0,0,0,0,0]
["Day Care Center",{"$nulls":3},"Per Sq. Ft.",{"$nulls":3},0,0,0,0,0,0,0,0,0,0,0,0,0,0,0,0,0,0,0,0,0,0,0]
["Laundry Areas",{"$nulls":3},"Per Sq. Ft.",{"$nulls":3},0,0,{"$f":"ROUNDUP(IF(OR(($D92+$F$6)=K$62,($C92+$D92+$F$6)=K$62,($C92*2+$D92+$F$6)=K$62,($C92*3+$D92+$F$6)=K$62,($C92*4+$D92+$F$6)=K$62,($C92*5+$D92+$F$6)=K$62,($C92*6+$D92+$F$6)=K$62,($C92*7+$D92+$F$6)=K$62,($C92*8+$D92+$F$6)=K$62),$F92*$H92*((1+$J$52)^(K$62-$F$6)),0),-2)","v":0},0,0,0,0,0,0,0,0,0,{"$f":"ROUNDUP(IF(OR(($D92+$F$6)=U$62,($C92+$D92+$F$6)=U$62,($C92*2+$D92+$F$6)=U$62,($C92*3+$D92+$F$6)=U$62,($C92*4+$D92+$F$6)=U$62,($C92*5+$D92+$F$6)=U$62,($C92*6+$D92+$F$6)=U$62,($C92*7+$D92+$F$6)=U$62,($C92*8+$D92+$F$6)=U$62),$F92*$H92*((1+$J$52)^(U$62-$F$6)),0),-2)","v":0},0,0,0,0,0,0,0,0,0,0]
["Common Area Washers",{"$nulls":3},"Per Sq. Ft.",{"$nulls":3},0,0,0,0,0,0,0,0,0,0,0,0,0,0,0,0,0,0,0,0,0,0,0]
["Common Area Dryers",{"$nulls":3},"Per Sq. Ft.",{"$nulls":3},0,0,0,0,0,0,0,0,0,0,0,0,0,0,0,0,0,0,0,0,0,0,0]
["Common Area Finishes",{"$nulls":3},"Per Sq. Ft.",{"$nulls":3},0,0,0,0,0,0,0,0,0,0,0,0,0,0,0,0,0,0,0,0,0,0,0]
["Other (Specify)",{"$nulls":7},0,0,0,0,0,0,0,0,0,0,0,0,0,0,0,0,0,0,0,0,0,0,0]
["Other (Specify)",{"$nulls":7},0,0,0,0,0,0,0,0,0,0,0,0,0,0,0,0,0,0,0,0,0,0,0]
["Common Subtotals",{"$nulls":7},{"$f":"SUM(I84:I97)","v":0},0,0,0,0,0,0,0,0,0,0,0,0,0,0,0,0,0,0,0,0,0,0]
["(4.11) Unit Exteriors",{"$nulls":12},"Years 1-5",{"$f":"SUM(K121:O121)","v":0},{"$nulls":3},"Years 6-10",{"$f":"SUM(P121:T121)","v":0},{"$nulls":3},"Years 11-15",{"$f":"SUM(U121:Y121)","v":0},{"$nulls":3},"Years 16-20",{"$f":"SUM(Z121:AD121)","v":0}]
["Carports/Surface Garage",{"$nulls":3},"Per Sq. Ft.",{"$nulls":3},{"$f":"ROUNDUP(+G100*H100,-2)","v":0},{"$f":"SUM(K100:AD100)","v":0},{"$f":"ROUNDUP(IF(OR(($D100+$F$6)=K$62,($C100+$D100+$F$6)=K$62,($C100*2+$D100+$F$6)=K$62,($C100*3+$D100+$F$6)=K$62,($C100*4+$D100+$F$6)=K$62,($C100*5+$D100+$F$6)=K$62,($C100*6+$D100+$F$6)=K$62,($C100*7+$D100+$F$6)=K$62,($C100*8+$D100+$F$6)=K$62),$F100*$H100*((1+$J$52)^(K$62-$F$6)),0),-2)","v":0},0,0,0,0,0,0,0,0,0,{"$f":"ROUNDUP(IF(OR(($D100+$F$6)=U$62,($C100+$D100+$F$6)=U$62,($C100*2+$D100+$F$6)=U$62,($C100*3+$D100+$F$6)=U$62,($C100*4+$D100+$F$6)=U$62,($C100*5+$D100+$F$6)=U$62,($C100*6+$D100+$F$6)=U$62,($C100*7+$D100+$F$6)=U$62,($C100*8+$D100+$F$6)=U$62),$F100*$H100*((1+$J$52)^(U$62-$F$6)),0),-2)","v":0},0,0,0,0,0,0,0,0,0,{"$f":"SUM(K100:AD100)-J100","v":0}]
["Foundation",{"$nulls":3},"Per Sq. Ft.",{"$nulls":3},0,0,0,0,0,0,0,0,0,0,0,0,0,0,0,0,0,0,0,0,0,0,0]
["Building Slab",{"$nulls":3},"Per Sq. Ft.",{"$nulls":3},0,0,0,0,0,0,0,0,0,0,0,0,0,0,0,0,0,0,0,0,0,0,0]
["Roofs",{"$nulls":3},"Per Sq. Ft.",{"$nulls":3},0,0,0,0,0,0,0,0,0,0,0,0,0,0,0,0,0,0,0,0,0,0,0]
["Canopies",{"$nulls":3},"Per Sq. Ft.",{"$nulls":3},0,0,0,0,0,0,0,0,0,0,0,0,0,0,0,0,0,0,0,0,0,0,0]
["Tuck-Pointing",{"$nulls":3},"Per Sq. Ft.",{"$nulls":3},0,0,0,0,0,0,0,0,0,0,0,0,0,0,0,0,0,0,0,0,0,0,0]
["Exterior Paint & Caulking",{"$nulls":3},"Per Sq. Ft.",{"$nulls":3},0,0,0,0,0,0,0,0,0,0,0,0,0,0,0,0,0,0,0,0,0,0,0]
["Soffits",{"$nulls":3},"Per Sq. Ft.",{"$nulls":3},0,0,0,0,0,0,0,0,0,0,0,0,0,0,0,0,0,0,0,0,0,0,0]
["Siding",{"$nulls":3},"Per Sq. Ft.",{"$nulls":3},0,0,0,0,0,0,0,0,0,0,0,0,0,0,0,0,0,0,0,0,0,0,0]
["Exterior Stairwells/Fire Escapes",{"$nulls":3},"Per Sq. Ft.",{"$nulls":3},0,0,0,0,0,0,0,0,0,0,0,0,0,0,0,0,0,0,0,0,0,0,0]
["Landings & Railings",{"$nulls":3},"Per Sq. Ft.",{"$nulls":3},0,0,{"$f":"ROUNDUP(IF(OR(($D110+$F$6)=K$62,($C110+$D110+$F$6)=K$62,($C110*2+$D110+$F$6)=K$62,($C110*3+$D110+$F$6)=K$62,($C110*4+$D110+$F$6)=K$62,($C110*5+$D110+$F$6)=K$62,($C110*6+$D110+$F$6)=K$62,($C110*7+$D110+$F$6)=K$62,($C110*8+$D110+$F$6)=K$62),$F110*$H110*((1+$J$52)^(K$62-$F$6)),0),-2)","v":0},0,0,0,0,0,0,0,0,0,{"$f":"ROUNDUP(IF(OR(($D110+$F$6)=U$62,($C110+$D110+$F$6)=U$62,($C110*2+$D110+$F$6)=U$62,($C110*3+$D110+$F$6)=U$62,($C110*4+$D110+$F$6)=U$62,($C110*5+$D110+$F$6)=U$62,($C110*6+$D110+$F$6)=U$62,($C110*7+$D110+$F$6)=U$62,($C110*8+$D110+$F$6)=U$62),$F110*$H110*((1+$J$52)^(U$62-$F$6)),0),-2)","v":0},0,0,0,0,0,0,0,0,0,0]
["Balconies & Railings",{"$nulls":3},"Per Sq. Ft.",{"$nulls":3},0,0,0,0,0,0,0,0,0,0,0,0,0,0,0,0,0,0,0,0,0,0,0]
["Mail Facilities",{"$nulls":3},"Per Sq. Ft.",{"$nulls":3},0,0,0,0,0,0,0,0,0,0,0,0,0,0,0,0,0,0,0,0,0,0,0]
["Exterior Doors",{"$nulls":3},"Per Sq. Ft.",{"$nulls":3},0,0,0,0,0,0,0,0,0,0,0,0,0,0,0,0,0,0,0,0,0,0,0]
["Windows",{"$nulls":3},"Per Sq. Ft.",{"$nulls":3},0,0,0,0,0,0,0,0,0,0,0,0,0,0,0,0,0,0,0,0,0,0,0]
["Gutters/Downspouts",{"$nulls":3},"Per Sq. Ft.",{"$nulls":3},0,0,0,0,0,0,0,0,0,0,0,0,0,0,0,0,0,0,0,0,0,0,0]
["Columns & Porches",{"$nulls":3},"Per Sq. Ft.",{"$nulls":3},0,0,0,0,0,0,0,0,0,0,0,0,0,0,0,0,0,0,0,0,0,0,0]
["Decks & Patios",{"$nulls":3},"Per Sq. Ft.",{"$nulls":3},0,0,0,0,0,0,0,0,0,0,0,0,0,0,0,0,0,0,0,0,0,0,0]
["Exterior Lighting",{"$nulls":3},"Per Sq. Ft.",{"$nulls":3},0,0,0,0,0,0,0,0,0,0,0,0,0,0,0,0,0,0,0,0,0,0,0]
["Other (Specify)",{"$nulls":7},0,0,0,0,0,0,0,0,0,0,0,0,0,0,0,0,0,0,0,0,0,0,0]
["Other (Specify)",{"$nulls":7},0,0,0,0,0,0,0,0,0,0,0,0,0,0,0,0,0,0,0,0,0,0,0]
["Unit Exterior Subtotals",{"$nulls":7},{"$f":"SUM(I100:I120)","v":0},0,0,0,0,0,0,0,0,0,0,0,0,0,0,0,0,0,0,0,0,0,0]
["(4.12) Unit Interiors",{"$nulls":12},"Years 1-5",{"$f":"SUM(K144:O144)","v":0},{"$nulls":3},"Years 6-10",{"$f":"SUM(P144:T144)","v":0},{"$nulls":3},"Years 11-15",{"$f":"SUM(U144:Y144)","v":0},{"$nulls":3},"Years 16-20",{"$f":"SUM(Z144:AD144)","v":0}]
["Interior Painting (non routine)",{"$nulls":3},"Per Sq. Ft.",{"$nulls":3},{"$f":"ROUNDUP(+G123*H123,-2)","v":0},{"$f":"SUM(K123:AD123)","v":0},{"$f":"ROUNDUP(IF(OR(($D123+$F$6)=K$62,($C123+$D123+$F$6)=K$62,($C123*2+$D123+$F$6)=K$62,($C123*3+$D123+$F$6)=K$62,($C123*4+$D123+$F$6)=K$62,($C123*5+$D123+$F$6)=K$62,($C123*6+$D123+$F$6)=K$62,($C123*7+$D123+$F$6)=K$62,($C123*8+$D123+$F$6)=K$62),$F123*$H123*((1+$J$52)^(K$62-$F$6)),0),-2)","v":0},0,0,0,0,0,0,0,0,0,{"$f":"ROUNDUP(IF(OR(($D123+$F$6)=U$62,($C123+$D123+$F$6)=U$62,($C123*2+$D123+$F$6)=U$62,($C123*3+$D123+$F$6)=U$62,($C123*4+$D123+$F$6)=U$62,($C123*5+$D123+$F$6)=U$62,($C123*6+$D123+$F$6)=U$62,($C123*7+$D123+$F$6)=U$62,($C123*8+$D123+$F$6)=U$62),$F123*$H123*((1+$J$52)^(U$62-$F$6)),0),-2)","v":0},0,0,0,0,0,0,0,0,0,{"$f":"SUM(K123:AD123)-J123","v":0}]
["Interior Doors",{"$nulls":3},"Per Sq. Ft.",{"$nulls":3},0,0,0,0,0,0,0,0,0,0,0,0,0,0,0,0,0,0,0,0,0,0,0]
["Flooring (non routine)",{"$nulls":3},"Per Sq. Ft.",{"$nulls":3},0,0,0,0,0,0,0,0,0,0,0,0,0,0,0,0,0,0,0,0,0,0,0]
["Shower/Tub Surrounds",{"$nulls":3},"Per Sq. Ft.",{"$nulls":3},0,0,0,0,0,0,0,0,0,0,0,0,0,0,0,0,0,0,0,0,0,0,0]
["Commodes",{"$nulls":3},"Per Sq. Ft.",{"$nulls":3},0,0,0,0,0,0,0,0,0,0,0,0,0,0,0,0,0,0,0,0,0,0,0]
["Vanities",{"$nulls":3},"Per Sq. Ft.",{"$nulls":3},0,0,0,0,0,0,0,0,0,0,0,0,0,0,0,0,0,0,0,0,0,0,0]
["Faucets",{"$nulls":3},"Per Sq. Ft.",{"$nulls":3},0,0,0,0,0,0,0,0,0,0,0,0,0,0,0,0,0,0,0,0,0,0,0]
["Bathroom Flooring (non cyclical)",{"$nulls":3},"Per Sq. Ft.",{"$nulls":3},0,0,0,0,0,0,0,0,0,0,0,0,0,0,0,0,0,0,0,0,0,0,0]
["Kitchen Cabinets",{"$nulls":3},"Per Sq. Ft.",{"$nulls":3},0,0,0,0,0,0,0,0,0,0,0,0,0,0,0,0,0,0,0,0,0,0,0]
["Ranges",{"$nulls":3},"Per Sq. Ft.",{"$nulls":3},0,0,0,0,0,0,0,0,0,0,0,0,0,0,0,0,0,0,0,0,0,0,0]
["Range Hoods",{"$nulls":3},"Per Sq. Ft.",{"$nulls":3},0,0,{"$f":"ROUNDUP(IF(OR(($D133+$F$6)=K$62,($C133+$D133+$F$6)=K$62,($C133*2+$D133+$F$6)=K$62,($C133*3+$D133+$F$6)=K$62,($C133*4+$D133+$F$6)=K$62,($C133*5+$D133+$F$6)=K$62,($C133*6+$D133+$F$6)=K$62,($C133*7+$D133+$F$6)=K$62,($C133*8+$D133+$F$6)=K$62),$F133*$H133*((1+$J$52)^(K$62-$F$6)),0),-2)","v":0},0,0,0,0,0,0,0,0,0,{"$f":"ROUNDUP(IF(OR(($D133+$F$6)=U$62,($C133+$D133+$F$6)=U$62,($C133*2+$D133+$F$6)=U$62,($C133*3+$D133+$F$6)=U$62,($C133*4+$D133+$F$6)=U$62,($C133*5+$D133+$F$6)=U$62,($C133*6+$D133+$F$6)=U$62,($C133*7+$D133+$F$6)=U$62,($C133*8+$D133+$F$6)=U$62),$F133*$H133*((1+$J$52)^(U$62-$F$6)),0),-2)","v":0},0,0,0,0,0,0,0,0,0,0]
["Refrigerators",{"$nulls":3},"Per Sq. Ft.",{"$nulls":3},0,0,0,0,0,0,0,0,0,0,0,0,0,0,0,0,0,0,0,0,0,0,0]
["Counters and Sinks",{"$nulls":3},"Per Sq. Ft.",{"$nulls":3},0,0,0,0,0,0,0,0,0,0,0,0,0,0,0,0,0,0,0,0,0,0,0]
["Dishwasher",{"$nulls":3},"Per Sq. Ft.",{"$nulls":3},0,0,0,0,0,0,0,0,0,0,0,0,0,0,0,0,0,0,0,0,0,0,0]
["Microwave",{"$nulls":3},"Per Sq. Ft.",{"$nulls":3},0,0,0,0,0,0,0,0,0,0,0,0,0,0,0,0,0,0,0,0,0,0,0]
["Washing Machines",{"$nulls":3},"Per Sq. Ft.",{"$nulls":3},0,0,0,0,0,0,0,0,0,0,0,0,0,0,0,0,0,0,0,0,0,0,0]
["Dryers",{"$nulls":3},"Per Sq. Ft.",{"$nulls":3},0,0,0,0,0,0,0,0,0,0,0,0,0,0,0,0,0,0,0,0,0,0,0]
["Call-for-Aid Systems",{"$nulls":7},0,0,0,0,0,0,0,0,0,0,0,0,0,0,0,0,0,0,0,0,0,0,0]
["Stairs and Handrails",{"$nulls":7},0,0,0,0,0,0,0,0,0,0,0,0,0,0,0,0,0,0,0,0,0,0,0]
["Other (Specify)",{"$nulls":7},0,0,0,0,0,0,0,0,0,0,0,0,0,0,0,0,0,0,0,0,0,0,0]
["Other (Specify)",{"$nulls":7},0,0,0,0,0,0,0,0,0,0,0,0,0,0,0,0,0,0,0,0,0,0,0]
["Unit Interior Subtotals",{"$nulls":7},{"$f":"SUM(I123:I143)","v":0},0,0,0,0,0,0,0,0,0,0,0,0,0,0,0,0,0,0,0,0,0,0]
["(4.13) Mechanical",{"$nulls":12},"Years 1-5",{"$f":"SUM(K161:O161)","v":0},{"$nulls":3},"Years 6-10",{"$f":"SUM(P161:T161)","v":0},{"$nulls":3},"Years 11-15",{"$f":"SUM(U161:Y161)","v":0},{"$nulls":3},"Years 16-20",{"$f":"SUM(Z161:AD161)","v":0}]
["Water Distribution",{"$nulls":3},"Per Sq. Ft.",{"$nulls":3},{"$f":"ROUNDUP(+G146*H146,-2)","v":0},{"$f":"SUM(K146:AD146)","v":0},{"$f":"ROUNDUP(IF(OR(($D146+$F$6)=K$62,($C146+$D146+$F$6)=K$62,($C146*2+$D146+$F$6)=K$62,($C146*3+$D146+$F$6)=K$62,($C146*4+$D146+$F$6)=K$62,($C146*5+$D146+$F$6)=K$62,($C146*6+$D146+$F$6)=K$62,($C146*7+$D146+$F$6)=K$62,($C146*8+$D146+$F$6)=K$62),$F146*$H146*((1+$J$52)^(K$62-$F$6)),0),-2)","v":0},0,0,0,0,0,0,0,0,0,{"$f":"ROUNDUP(IF(OR(($D146+$F$6)=U$62,($C146+$D146+$F$6)=U$62,($C146*2+$D146+$F$6)=U$62,($C146*3+$D146+$F$6)=U$62,($C146*4+$D146+$F$6)=U$62,($C146*5+$D146+$F$6)=U$62,($C146*6+$D146+$F$6)=U$62,($C146*7+$D146+$F$6)=U$62,($C146*8+$D146+$F$6)=U$62),$F146*$H146*((1+$J$52)^(U$62-$F$6)),0),-2)","v":0},0,0,0,0,0,0,0,0,0,{"$f":"SUM(K146:AD146)-J146","v":0}]
["Heating Equipt/System",{"$nulls":3},"Per Sq. Ft.",{"$nulls":3},0,0,0,0,0,0,0,0,0,0,0,0,0,0,0,0,0,0,0,0,0,0,0]
["Electric Disribution",{"$nulls":3},"Per Sq. Ft.",{"$nulls":3},0,0,0,0,0,0,0,0,0,0,0,0,0,0,0,0,0,0,0,0,0,0,0]
["Hot Water Heaters",{"$nulls":3},"Per Sq. Ft.",{"$nulls":3},0,0,0,0,0,0,0,0,0,0,0,0,0,0,0,0,0,0,0,0,0,0,0]
["Unit Sub-panels",{"$nulls":3},"Per Sq. Ft.",{"$nulls":3},0,0,0,0,0,0,0,0,0,0,0,0,0,0,0,0,0,0,0,0,0,0,0]
["Trash Compactor",{"$nulls":3},"Per Sq. Ft.",{"$nulls":3},0,0,0,0,0,0,0,0,0,0,0,0,0,0,0,0,0,0,0,0,0,0,0]
["Cooling Equipt/Systems",{"$nulls":3},"Per Sq. Ft.",{"$nulls":3},0,0,0,0,0,0,0,0,0,0,0,0,0,0,0,0,0,0,0,0,0,0,0]
["Smoke/Fire Detection",{"$nulls":3},"Per Sq. Ft.",{"$nulls":3},0,0,0,0,0,0,0,0,0,0,0,0,0,0,0,0,0,0,0,0,0,0,0]
["Unit Reconfiguration",{"$nulls":3},"Per Sq. Ft.",{"$nulls":3},0,0,0,0,0,0,0,0,0,0,0,0,0,0,0,0,0,0,0,0,0,0,0]
["Security/Fire Alarm",{"$nulls":3},"Per Sq. Ft.",{"$nulls":3},0,0,0,0,0,0,0,0,0,0,0,0,0,0,0,0,0,0,0,0,0,0,0]
["Fire Suspression System",{"$nulls":3},"Per Sq. Ft.",{"$nulls":3},0,0,0,0,0,0,0,0,0,0,0,0,0,0,0,0,0,0,0,0,0,0,0]
["Generator",{"$nulls":3},"Per Sq. Ft.",{"$nulls":3},0,0,0,0,0,0,0,0,0,0,0,0,0,0,0,0,0,0,0,0,0,0,0]
["Elevator",{"$nulls":3},"Per Sq. Ft.",{"$nulls":3},0,0,0,0,0,0,0,0,0,0,0,0,0,0,0,0,0,0,0,0,0,0,0]
["Other (Specify) ",{"$nulls":7},0,0,0,0,0,0,0,0,0,0,0,0,0,0,0,0,0,0,0,0,0,0,0]
["Other (Specify)",{"$nulls":7},0,0,0,0,0,0,0,0,0,0,0,0,0,0,0,0,0,0,0,0,0,0,0]
["Mechanical Subtotals",{"$nulls":7},{"$f":"SUM(I146:I160)","v":0},0,0,0,0,0,0,0,0,0,0,0,0,0,0,0,0,0,0,0,0,0,0]
["(4.14) Other",{"$nulls":12},"Years 1-5",{"$f":"SUM(K170:O170)","v":0},{"$nulls":3},"Years 6-10",{"$f":"SUM(P170:T170)","v":0},{"$nulls":3},"Years 11-15",{"$f":"SUM(U170:Y170)","v":0},{"$nulls":3},"Years 16-20",{"$f":"SUM(Z170:AD170)","v":0}]
["Site Acquisition",{"$nulls":3},"Per Sq. Ft.",{"$nulls":3},{"$f":"ROUNDUP(+G163*H163,-2)","v":0},{"$f":"SUM(K163:AD163)","v":0},{"$f":"ROUNDUP(IF(OR(($D163+$F$6)=K$62,($C163+$D163+$F$6)=K$62,($C163*2+$D163+$F$6)=K$62,($C163*3+$D163+$F$6)=K$62,($C163*4+$D163+$F$6)=K$62,($C163*5+$D163+$F$6)=K$62,($C163*6+$D163+$F$6)=K$62,($C163*7+$D163+$F$6)=K$62,($C163*8+$D163+$F$6)=K$62),$F163*$H163*((1+$J$52)^(K$62-$F$6)),0),-2)","v":0},0,0,0,0,0,0,0,0,0,{"$f":"ROUNDUP(IF(OR(($D163+$F$6)=U$62,($C163+$D163+$F$6)=U$62,($C163*2+$D163+$F$6)=U$62,($C163*3+$D163+$F$6)=U$62,($C163*4+$D163+$F$6)=U$62,($C163*5+$D163+$F$6)=U$62,($C163*6+$D163+$F$6)=U$62,($C163*7+$D163+$F$6)=U$62,($C163*8+$D163+$F$6)=U$62),$F163*$H163*((1+$J$52)^(U$62-$F$6)),0),-2)","v":0},0,0,0,0,0,0,0,0,0,{"$f":"SUM(K163:AD163)-J163","v":0}]
["Other Fees and Costs",{"$nulls":3},"Per Sq. Ft.",{"$nulls":3},0,0,0,0,0,0,0,0,0,0,0,0,0,0,0,0,0,0,0,0,0,0,0]
["Demolition",{"$nulls":3},"Per Sq. Ft.",{"$nulls":3},0,0,0,0,0,0,0,0,0,0,0,0,0,0,0,0,0,0,0,0,0,0,0]
["Dwelling Unit Conversion",{"$nulls":3},"Per Sq. Ft.",{"$nulls":3},0,0,0,0,0,0,0,0,0,0,0,0,0,0,0,0,0,0,0,0,0,0,{"$f":"SUM(K166:AD166)-J166","v":0}]
["Contingency",{"$nulls":3},"Per Sq. Ft.",{"$nulls":3},0,0,{"$f":"ROUNDUP(IF(OR(($D167+$F$6)=K$62,($C167+$D167+$F$6)=K$62,($C167*2+$D167+$F$6)=K$62,($C167*3+$D167+$F$6)=K$62,($C167*4+$D167+$F$6)=K$62,($C167*5+$D167+$F$6)=K$62,($C167*6+$D167+$F$6)=K$62,($C167*7+$D167+$F$6)=K$62,($C167*8+$D167+$F$6)=K$62),$F167*$H167*((1+$J$52)^(K$62-$F$6)),0),-2)","v":0},0,0,0,0,0,0,0,0,0,{"$f":"ROUNDUP(IF(OR(($D167+$F$6)=U$62,($C167+$D167+$F$6)=U$62,($C167*2+$D167+$F$6)=U$62,($C167*3+$D167+$F$6)=U$62,($C167*4+$D167+$F$6)=U$62,($C167*5+$D167+$F$6)=U$62,($C167*6+$D167+$F$6)=U$62,($C167*7+$D167+$F$6)=U$62,($C167*8+$D167+$F$6)=U$62),$F167*$H167*((1+$J$52)^(U$62-$F$6)),0),-2)","v":0},0,0,0,0,0,0,0,0,0,0]
["Other (Specify) ",{"$nulls":7},0,0,0,0,0,0,0,0,0,0,0,0,0,0,0,0,0,0,0,0,0,0,0]
["Other (Specify)",{"$nulls":7},0,0,0,0,0,0,0,0,0,0,0,0,0,0,0,0,0,0,0,0,0,0,0]
["Other Subtotals",{"$nulls":7},{"$f":"SUM(I163:I169)","v":0},0,0,0,0,0,0,0,0,0,0,0,0,0,0,0,0,0,0,0,0,0,0]
["GRAND TOTAL",{"$nulls":7},{"$f":"I170+I161+I144+I82+I98","v":0},{"$f":"J170+J161+J144+J121+J98+J82","v":0},0,0,0,0,0,0,0,0,0,0,0,0,0,0,0,0,0,0,0,0,0]
["(4.15) Special Categories"]
["Amount of PNA Relating to Lead Paint/Asbestos Compliance",{"$nulls":3},"Per Sq. Ft.",{"$nulls":3},{"$f":"ROUNDUP(+G173*H173,-2)","v":0}]
["Amount of PNA Relating to Section 504, ADA, and Fair Housing Act (if applicable) Compliance",{"$nulls":3},"Per Sq. Ft.",{"$nulls":3},{"$f":"ROUNDUP(+G174*H174,-2)","v":0}]
[]
["(4.16) New Construction"]
["Dwelling Units",{"$nulls":3},"Per Sq. Ft.",{"$nulls":3},{"$f":"ROUNDUP(+G177*H177,-2)","v":0}]
["Administrative Building",{"$nulls":3},"Per Sq. Ft.",{"$nulls":3},0]
["Community Building or Facility",{"$nulls":3},"Per Sq. Ft.",{"$nulls":3},0]
["Shop",{"$nulls":3},"Per Sq. Ft.",{"$nulls":3},0]
["Storage Area",{"$nulls":3},"Per Sq. Ft.",{"$nulls":3},0]
["Family Investment Center",{"$nulls":3},"Per Sq. Ft.",{"$nulls":3},0]
["Day Care Center",{"$nulls":3},"Per Sq. Ft.",{"$nulls":3},0]
["Laundry Areas(s)",{"$nulls":3},"Per Sq. Ft.",{"$nulls":3},0]
["Other (Specify) ",{"$nulls":3},"Per Sq. Ft.",{"$nulls":3},0]
["Other (Specify)",{"$nulls":3},"Per Sq. Ft.",{"$nulls":3},0]
["Other (Specify)",{"$nulls":7},0]
["New Construction Subtotals",{"$nulls":7},{"$f":"SUM(I177:I187)","v":0}]

{"sheet":"Tab 9","index":10,"n_rows":188,"n_cols":31,"rows_kept":188,"merged":[[4,2,4,3],[5,2,5,3],[7,0,7,8],[9,1,9,2],[10,1,10,2],[20,3,20,9],[27,0,27,8],[29,8,29,9],[30,8,30,9],[31,8,31,9],[33,6,35,6],[37,4,37,9],[44,0,44,8],[46,0,46,1],[47,0,47,1],[48,0,48,1],[49,0,49,1],[50,0,50,1],[51,0,51,1],[52,0,52,1],[53,0,53,1],[54,0,54,1],[55,0,55,1],[56,0,56,1],[59,0,59,8],[61,0,61,1],[62,0,62,1],[81,0,81,1],[97,0,97,1],[120,0,120,1],[143,0,143,1],[160,0,160,1],[169,0,169,1],[170,0,170,1],[187,0,187,1]]}
["Physical Needs Assessment",{"$nulls":3},"U.S. Department of Housing",{"$nulls":4}," OMB Approval No. 2577-0157"]
["Capital Fund Financing Program/",{"$nulls":3},"and Urban Development",{"$nulls":4}," (exp. 1/31/2017)"]
["Operating Fund Financing Program",{"$nulls":3},"Office of Public and Indian Housing"]
[]
["HA Name",null,"HA Number",null,null,"FY of Assessment",null," Original  ","Date Prepared:"]
["Sample PHA",null,{"$f":"'Tab 6'!C6:D6","v":0},{"$nulls":4},"Revision  ","Date Revised:"]
[]
["(1.0) Project Data"]
[]
["(1.1) Management Office Address",{"$nulls":5},"(1.3) Development No.",null,"(1.4) DOFA Date"]
["(1.2) Project Name"]
[{"$nulls":4},"Family"]
[{"$nulls":3},"(1.9)","Elderly",null,null,"(1.10)","S-F Detached"]
["(1.5) Year of Last Substantial Mod",null,null,"Occupancy","Family & Disabled",null,null,"Structure","Semi-Detached"]
["(1.6) Occupancy Rate ",{"$f":"B20/(+B18-B26)","v":{"$error":"#DIV/0!"}},null,"Type(s)","Elderly & Disabled",null,null,"Type(s)","Row or Townhome"]
["        (Rentable Units Only)",null,null,"(Check)","Not Applicable",null,null,"(Check","M-F/Walkup"]
["(1.7) Latest PASS REAC Score",null,null,"all that apply)","Official Designation: Elderly",null,null,"all that","Elevator"]
["Total Units",{"$f":"+B20+B21","v":0},null,null,"Official Designation: Disabled",null,null,"apply)","Non-Dwelling"]
["(1.8) Total Buildings",{"$nulls":3},"Official Designation: Mixed"]
["Occupied Units",{"$f":"SUM(E23:J23)","v":0}]
["Vacant/Rentable Units",{"$f":"SUM(E24:J24)","v":0},null,"(1.11) Bedroom Distribution"]
[{"$nulls":4},"Eff","1BR","2BR","3BR","4BR","5BR+"]
[{"$nulls":3},"(1.11a) Occupied"]
[{"$nulls":3},"(1.11b) Vacant"]
[{"$nulls":3},"Total Units",{"$f":"SUM(E23:E24)","v":0},0,0,0,0,0]
[{"$nulls":3},"Avg Bedrooms per Unit",null,{"$f":"(+E23*1+F23*1+G23*2+H23*3+I23*4+J23*5)/SUM(E23:J23)","v":{"$error":"#DIV/0!"}}]
[]
["(2.0) Physical Needs Assessment Summary Data"]
[]
["(2.1) PNA Conducted By: (PHA/ 3rd Party)",null,"PHA Internally",null,null,"(2.5) Inspector Contact Name: "]
[null,null,"3rd Pary Independent",null,null,"(2.6) Company Name or PHA Title:"]
["(2.2) First Year Covered by PNA",{"$nulls":4},"(2.7) Inspector Contact Phone:"]
["(2.3) Length of PNA (in years)"]
["(2.4) Unit Interiors Inspected (#)",null,{"$f":"SUM(E40:J40)","v":0},{"$nulls":3},"(2.8) Data Source(s) for PNA",null,"Annual Inspections"]
["Units Inspected as % of Total",null,{"$f":"C34/B18","v":{"$error":"#DIV/0!"}},{"$nulls":5},"Contractor"]
["(2.9) Total Residential Buildings",{"$nulls":7},"REAC Inspections"]
["(2.10) Number of Building Exteriors Inspected"]
["(2.11) Total Off-Street Parking Spaces",{"$nulls":3},"(2.14) Units Inspected by Bedroom Size"]
["(2.12) Site Acreage",null,null,"acres","Eff","1BR","2BR","3BR","4BR","5BR+"]
["(2.13) Parking Area (in square feet)",null,null,"SF"]
[]
["(2.15) Physical Improvements Will Result in Structural/System Soundness at a Reasonable Cost",{"$nulls":5},"Yes","No"]
["(2.16) Development Has Long-Term Physical and Social Viability",{"$nulls":5},"Yes","No"]
[]
["(3.0) Total Physical Needs Summary"]
[]
["Major Category",null,"Immediate","Years                       1-5","Years                    6-10","Years                    11-15","Years                   16-20","Total Needs"]
["Site",null,{"$f":"+I82","v":0},{"$f":"$O$63","v":0},{"$f":"$T$63","v":0},{"$f":"$Y$63","v":0},{"$f":"$AD$63","v":0},{"$f":"SUM(C48:G48)","v":0}]
["Common Buildings",null,{"$f":"$I$98","v":0},{"$f":"$O$83","v":0},{"$f":"$T$83","v":0},{"$f":"$Y$83","v":0},{"$f":"$AD$83","v":0},0]
["Unit Exteriors",null,{"$f":"$I$121","v":0},{"$f":"$O$99","v":0},{"$f":"$T$99","v":0},{"$f":"$Y$99","v":0},{"$f":"$AD$99","v":0},0]
["Unit Interiors",null,{"$f":"$I$144","v":0},{"$f":"O122","v":0},{"$f":"T122","v":0},{"$f":"Y122","v":0},{"$f":"AD122","v":0},0]
["Mechanical",null,{"$f":"I161","v":0},{"$f":"O145","v":0},{"$f":"T145","v":0},{"$f":"Y145","v":0},{"$f":"AD145","v":0},0]
["Other",null,{"$f":"I170","v":0},{"$f":"O162","v":0},{"$f":"T162","v":0},{"$f":"Y162","v":0},{"$f":"AD162","v":0},0]
["Totals",null,{"$f":"SUM(C48:C53)","v":0},0,0,0,0,0]
["Amount of PNA relating to Lead Paint/Asbestos",null,{"$f":"I173","v":0},{"$nulls":4},{"$f":"C55","v":0}]
["Amount of PNA relating to Section 504, ADA, and Fair Housing Act (if applicable) Compliance",null,{"$f":"I174","v":0},{"$nulls":4},{"$f":"C56","v":0}]
["New Construction",{"$nulls":6},{"$f":"I188","v":0}]
[{"$nulls":5},"TOTAL PHYSICAL NEEDS",null,{"$f":"H57+H54","v":0}]
[]
["(4.0)Physical Needs Cost Estimate"]
[]
["(4.1) Category",null,"(4.2) Estimated Useful Life","(4.3)                Useful Life Remaining","(4.4)             Method","(4.5)                   Total          Quantity","(4.6)             Current Needs Quantity","(4.7)                Cost per      Quantity","(4.8)         Immediate Repairs Needed","Total Long Term Needs",{"$f":"+F6+1","v":1},{"$f":"1+K62","v":2},3,4,5,6,7,8,9,10,11,12,13,14,15,16,17,18,19,20]
["(4.9) Site",null,"(in yrs)","(in yrs)",{"$nulls":9},"Years 1-5",{"$f":"SUM(K82:O82)","v":0},{"$nulls":3},"Years 6-10",{"$f":"SUM(P82:T82)","v":0},{"$nulls":3},"Years 11-15",{"$f":"SUM(U82:Y82)","v":0},{"$nulls":3},"Years 16-20",{"$f":"SUM(Z82:AD82)","v":0}]
["Asphalt/Concrete",{"$nulls":3},"Per Sq. Ft.",{"$nulls":3},{"$f":"ROUNDUP(+G64*H64,-2)","v":0},{"$f":"SUM(K64:AD64)","v":0},{"$f":"ROUNDUP(IF(OR(($D64+$F$6)=K$62,($C64+$D64+$F$6)=K$62,($C64*2+$D64+$F$6)=K$62,($C64*3+$D64+$F$6)=K$62,($C64*4+$D64+$F$6)=K$62,($C64*5+$D64+$F$6)=K$62,($C64*6+$D64+$F$6)=K$62,($C64*7+$D64+$F$6)=K$62,($C64*8+$D64+$F$6)=K$62),$F64*$H64*((1+$J$52)^(K$62-$F$6)),0),-2)","v":0},0,0,0,0,0,0,0,0,0,{"$f":"ROUNDUP(IF(OR(($D64+$F$6)=U$62,($C64+$D64+$F$6)=U$62,($C64*2+$D64+$F$6)=U$62,($C64*3+$D64+$F$6)=U$62,($C64*4+$D64+$F$6)=U$62,($C64*5+$D64+$F$6)=U$62,($C64*6+$D64+$F$6)=U$62,($C64*7+$D64+$F$6)=U$62,($C64*8+$D64+$F$6)=U$62),$F64*$H64*((1+$J$52)^(U$62-$F$6)),0),-2)","v":0},0,0,0,0,0,0,0,0,0,{"$f":"SUM(K64:AD64)-J64","v":0}]
["Seal Coat",{"$nulls":3},"Per Sq. Ft.",{"$nulls":3},0,0,0,0,0,0,0,0,0,0,0,0,0,0,0,0,0,0,0,0,0,0,0]
["Striping",{"$nulls":3},"Per Sq. Ft.",{"$nulls":3},0,0,0,0,0,0,0,0,0,0,0,0,0,0,0,0,0,0,0,0,0,0,0]
["Curb & Gutter",{"$nulls":3},"Per Sq. Ft.",{"$nulls":3},0,0,0,0,0,0,0,0,0,0,0,0,0,0,0,0,0,0,0,0,0,0,0]
["Pedestrian paving",{"$nulls":3},"Per Sq. Ft.",{"$nulls":3},0,0,0,0,0,0,0,0,0,0,0,0,0,0,0,0,0,0,0,0,0,0,0]
["Signage",{"$nulls":3},"Per Sq. Ft.",{"$nulls":3},0,0,0,0,0,0,0,0,0,0,0,0,0,0,0,0,0,0,0,0,0,0,0]
["Water Lines/Mains",{"$nulls":3},"Per Sq. Ft.",{"$nulls":3},0,0,0,0,0,0,0,0,0,0,0,0,0,0,0,0,0,0,0,0,0,0,0]
["Sewer Lines/Mains",{"$nulls":3},"Per Sq. Ft.",{"$nulls":3},0,0,0,0,0,0,0,0,0,0,0,0,0,0,0,0,0,0,0,0,0,0,0]
["Lighting",{"$nulls":3},"Per Sq. Ft.",{"$nulls":3},0,0,0,0,0,0,0,0,0,0,0,0,0,0,0,0,0,0,0,0,0,0,0]
["Storm Drainage",{"$nulls":3},"Per Sq. Ft.",{"$nulls":3},0,0,0,0,0,0,0,0,0,0,0,0,0,0,0,0,0,0,0,0,0,0,0]
["Landscape",{"$nulls":3},"Per Sq. Ft.",{"$nulls":3},0,0,{"$f":"ROUNDUP(IF(OR(($D74+$F$6)=K$62,($C74+$D74+$F$6)=K$62,($C74*2+$D74+$F$6)=K$62,($C74*3+$D74+$F$6)=K$62,($C74*4+$D74+$F$6)=K$62,($C74*5+$D74+$F$6)=K$62,($C74*6+$D74+$F$6)=K$62,($C74*7+$D74+$F$6)=K$62,($C74*8+$D74+$F$6)=K$62),$F74*$H74*((1+$J$52)^(K$62-$F$6)),0),-2)","v":0},0,0,0,0,0,0,0,0,0,{"$f":"ROUNDUP(IF(OR(($D74+$F$6)=U$62,($C74+$D74+$F$6)=U$62,($C74*2+$D74+$F$6)=U$62,($C74*3+$D74+$F$6)=U$62,($C74*4+$D74+$F$6)=U$62,($C74*5+$D74+$F$6)=U$62,($C74*6+$D74+$F$6)=U$62,($C74*7+$D74+$F$6)=U$62,($C74*8+$D74+$F$6)=U$62),$F74*$H74*((1+$J$52)^(U$62-$F$6)),0),-2)","v":0},0,0,0,0,0,0,0,0,0,0]
["Fencing",{"$nulls":3},"Per Sq. Ft.",{"$nulls":3},0,0,0,0,0,0,0,0,0,0,0,0,0,0,0,0,0,0,0,0,0,0,0]
["Fence Painting",{"$nulls":3},"Per Sq. Ft.",{"$nulls":3},0,0,0,0,0,0,0,0,0,0,0,0,0,0,0,0,0,0,0,0,0,0,0]
["Dumpsters & Enclosures",{"$nulls":3},"Per Sq. Ft.",{"$nulls":3},0,0,0,0,0,0,0,0,0,0,0,0,0,0,0,0,0,0,0,0,0,0,0]
["Electric Distribution",{"$nulls":3},"Per Sq. Ft.",{"$nulls":3},0,0,0,0,0,0,0,0,0,0,0,0,0,0,0,0,0,0,0,0,0,0,0]
["Playground Areas/Equipment",{"$nulls":3},"Per Sq. Ft.",{"$nulls":3},0,0,0,0,0,0,0,0,0,0,0,0,0,0,0,0,0,0,0,0,0,0,0]
["Other (Specify)",{"$nulls":7},0,0,0,0,0,0,0,0,0,0,0,0,0,0,0,0,0,0,0,0,0,0,0]
["Other (Specify)",{"$nulls":7},0,0,0,0,0,0,0,0,0,0,0,0,0,0,0,0,0,0,0,0,0,0,0]
["Site Subtotals",{"$nulls":7},{"$f":"SUM(I64:I81)","v":0},0,0,0,0,0,0,0,0,0,0,0,0,0,0,0,0,0,0,0,0,0,0]
["(4.10) Common Buildings--Rehab Only",{"$nulls":12},"Years 1-5",{"$f":"SUM(K98:O98)","v":0},{"$nulls":3},"Years 6-10",{"$f":"SUM(P98:T98)","v":0},{"$nulls":3},"Years 11-15",{"$f":"SUM(T98:X98)","v":0},{"$nulls":3},"Years 16-20",{"$f":"SUM(Y98:AC98)","v":0}]
["Administrative Building",{"$nulls":3},"Per Sq. Ft.",{"$nulls":3},{"$f":"ROUNDUP(+G84*H84,-2)","v":0},{"$f":"SUM(K84:AD84)","v":0},{"$f":"ROUNDUP(IF(OR(($D84+$F$6)=K$62,($C84+$D84+$F$6)=K$62,($C84*2+$D84+$F$6)=K$62,($C84*3+$D84+$F$6)=K$62,($C84*4+$D84+$F$6)=K$62,($C84*5+$D84+$F$6)=K$62,($C84*6+$D84+$F$6)=K$62,($C84*7+$D84+$F$6)=K$62,($C84*8+$D84+$F$6)=K$62),$F84*$H84*((1+$J$52)^(K$62-$F$6)),0),-2)","v":0},0,0,0,0,0,0,0,0,0,{"$f":"ROUNDUP(IF(OR(($D84+$F$6)=U$62,($C84+$D84+$F$6)=U$62,($C84*2+$D84+$F$6)=U$62,($C84*3+$D84+$F$6)=U$62,($C84*4+$D84+$F$6)=U$62,($C84*5+$D84+$F$6)=U$62,($C84*6+$D84+$F$6)=U$62,($C84*7+$D84+$F$6)=U$62,($C84*8+$D84+$F$6)=U$62),$F84*$H84*((1+$J$52)^(U$62-$F$6)),0),-2)","v":0},0,0,0,0,0,0,0,0,0,{"$f":"SUM(K84:AD84)-J84","v":0}]
["Community Building",{"$nulls":3},"Per Sq. Ft.",{"$nulls":3},0,0,0,0,0,0,0,0,0,0,0,0,0,0,0,0,0,0,0,0,0,0,0]
["Shop",{"$nulls":3},"Per Sq. Ft.",{"$nulls":3},0,0,0,0,0,0,0,0,0,0,0,0,0,0,0,0,0,0,0,0,0,0,0]
["Storage Area",{"$nulls":3},"Per Sq. Ft.",{"$nulls":3},0,0,0,0,0,0,0,0,0,0,0,0,0,0,0,0,0,0,0,0,0,0,0]
["Central Boiler",{"$nulls":3},"Per Sq. Ft.",{"$nulls":3},0,0,0,0,0,0,0,0,0,0,0,0,0,0,0,0,0,0,0,0,0,0,0]
["Central Chiller",{"$nulls":3},"Per Sq. Ft.",{"$nulls":3},0,0,0,0,0,0,0,0,0,0,0,0,0,0,0,0,0,0,0,0,0,0,0]
["Family Invesment Center",{"$nulls":3},"Per Sq. Ft.",{"$nulls":3},0,0,0,0,0,0,0,0,0,0,0,0,0,0,0,0,0,0,0,0,0,0,0]
["Day Care Center",{"$nulls":3},"Per Sq. Ft.",{"$nulls":3},0,0,0,0,0,0,0,0,0,0,0,0,0,0,0,0,0,0,0,0,0,0,0]
["Laundry Areas",{"$nulls":3},"Per Sq. Ft.",{"$nulls":3},0,0,{"$f":"ROUNDUP(IF(OR(($D92+$F$6)=K$62,($C92+$D92+$F$6)=K$62,($C92*2+$D92+$F$6)=K$62,($C92*3+$D92+$F$6)=K$62,($C92*4+$D92+$F$6)=K$62,($C92*5+$D92+$F$6)=K$62,($C92*6+$D92+$F$6)=K$62,($C92*7+$D92+$F$6)=K$62,($C92*8+$D92+$F$6)=K$62),$F92*$H92*((1+$J$52)^(K$62-$F$6)),0),-2)","v":0},0,0,0,0,0,0,0,0,0,{"$f":"ROUNDUP(IF(OR(($D92+$F$6)=U$62,($C92+$D92+$F$6)=U$62,($C92*2+$D92+$F$6)=U$62,($C92*3+$D92+$F$6)=U$62,($C92*4+$D92+$F$6)=U$62,($C92*5+$D92+$F$6)=U$62,($C92*6+$D92+$F$6)=U$62,($C92*7+$D92+$F$6)=U$62,($C92*8+$D92+$F$6)=U$62),$F92*$H92*((1+$J$52)^(U$62-$F$6)),0),-2)","v":0},0,0,0,0,0,0,0,0,0,0]
["Common Area Washers",{"$nulls":3},"Per Sq. Ft.",{"$nulls":3},0,0,0,0,0,0,0,0,0,0,0,0,0,0,0,0,0,0,0,0,0,0,0]
["Common Area Dryers",{"$nulls":3},"Per Sq. Ft.",{"$nulls":3},0,0,0,0,0,0,0,0,0,0,0,0,0,0,0,0,0,0,0,0,0,0,0]
["Common Area Finishes",{"$nulls":3},"Per Sq. Ft.",{"$nulls":3},0,0,0,0,0,0,0,0,0,0,0,0,0,0,0,0,0,0,0,0,0,0,0]
["Other (Specify)",{"$nulls":7},0,0,0,0,0,0,0,0,0,0,0,0,0,0,0,0,0,0,0,0,0,0,0]
["Other (Specify)",{"$nulls":7},0,0,0,0,0,0,0,0,0,0,0,0,0,0,0,0,0,0,0,0,0,0,0]
["Common Subtotals",{"$nulls":7},{"$f":"SUM(I84:I97)","v":0},0,0,0,0,0,0,0,0,0,0,0,0,0,0,0,0,0,0,0,0,0,0]
["(4.11) Unit Exteriors",{"$nulls":12},"Years 1-5",{"$f":"SUM(K121:O121)","v":0},{"$nulls":3},"Years 6-10",{"$f":"SUM(P121:T121)","v":0},{"$nulls":3},"Years 11-15",{"$f":"SUM(U121:Y121)","v":0},{"$nulls":3},"Years 16-20",{"$f":"SUM(Z121:AD121)","v":0}]
["Carports/Surface Garage",{"$nulls":3},"Per Sq. Ft.",{"$nulls":3},{"$f":"ROUNDUP(+G100*H100,-2)","v":0},{"$f":"SUM(K100:AD100)","v":0},{"$f":"ROUNDUP(IF(OR(($D100+$F$6)=K$62,($C100+$D100+$F$6)=K$62,($C100*2+$D100+$F$6)=K$62,($C100*3+$D100+$F$6)=K$62,($C100*4+$D100+$F$6)=K$62,($C100*5+$D100+$F$6)=K$62,($C100*6+$D100+$F$6)=K$62,($C100*7+$D100+$F$6)=K$62,($C100*8+$D100+$F$6)=K$62),$F100*$H100*((1+$J$52)^(K$62-$F$6)),0),-2)","v":0},0,0,0,0,0,0,0,0,0,{"$f":"ROUNDUP(IF(OR(($D100+$F$6)=U$62,($C100+$D100+$F$6)=U$62,($C100*2+$D100+$F$6)=U$62,($C100*3+$D100+$F$6)=U$62,($C100*4+$D100+$F$6)=U$62,($C100*5+$D100+$F$6)=U$62,($C100*6+$D100+$F$6)=U$62,($C100*7+$D100+$F$6)=U$62,($C100*8+$D100+$F$6)=U$62),$F100*$H100*((1+$J$52)^(U$62-$F$6)),0),-2)","v":0},0,0,0,0,0,0,0,0,0,{"$f":"SUM(K100:AD100)-J100","v":0}]
["Foundation",{"$nulls":3},"Per Sq. Ft.",{"$nulls":3},0,0,0,0,0,0,0,0,0,0,0,0,0,0,0,0,0,0,0,0,0,0,0]
["Building Slab",{"$nulls":3},"Per Sq. Ft.",{"$nulls":3},0,0,0,0,0,0,0,0,0,0,0,0,0,0,0,0,0,0,0,0,0,0,0]
["Roofs",{"$nulls":3},"Per Sq. Ft.",{"$nulls":3},0,0,0,0,0,0,0,0,0,0,0,0,0,0,0,0,0,0,0,0,0,0,0]
["Canopies",{"$nulls":3},"Per Sq. Ft.",{"$nulls":3},0,0,0,0,0,0,0,0,0,0,0,0,0,0,0,0,0,0,0,0,0,0,0]
["Tuck-Pointing",{"$nulls":3},"Per Sq. Ft.",{"$nulls":3},0,0,0,0,0,0,0,0,0,0,0,0,0,0,0,0,0,0,0,0,0,0,0]
["Exterior Paint & Caulking",{"$nulls":3},"Per Sq. Ft.",{"$nulls":3},0,0,0,0,0,0,0,0,0,0,0,0,0,0,0,0,0,0,0,0,0,0,0]
["Soffits",{"$nulls":3},"Per Sq. Ft.",{"$nulls":3},0,0,0,0,0,0,0,0,0,0,0,0,0,0,0,0,0,0,0,0,0,0,0]
["Siding",{"$nulls":3},"Per Sq. Ft.",{"$nulls":3},0,0,0,0,0,0,0,0,0,0,0,0,0,0,0,0,0,0,0,0,0,0,0]
["Exterior Stairwells/Fire Escapes",{"$nulls":3},"Per Sq. Ft.",{"$nulls":3},0,0,0,0,0,0,0,0,0,0,0,0,0,0,0,0,0,0,0,0,0,0,0]
["Landings & Railings",{"$nulls":3},"Per Sq. Ft.",{"$nulls":3},0,0,{"$f":"ROUNDUP(IF(OR(($D110+$F$6)=K$62,($C110+$D110+$F$6)=K$62,($C110*2+$D110+$F$6)=K$62,($C110*3+$D110+$F$6)=K$62,($C110*4+$D110+$F$6)=K$62,($C110*5+$D110+$F$6)=K$62,($C110*6+$D110+$F$6)=K$62,($C110*7+$D110+$F$6)=K$62,($C110*8+$D110+$F$6)=K$62),$F110*$H110*((1+$J$52)^(K$62-$F$6)),0),-2)","v":0},0,0,0,0,0,0,0,0,0,{"$f":"ROUNDUP(IF(OR(($D110+$F$6)=U$62,($C110+$D110+$F$6)=U$62,($C110*2+$D110+$F$6)=U$62,($C110*3+$D110+$F$6)=U$62,($C110*4+$D110+$F$6)=U$62,($C110*5+$D110+$F$6)=U$62,($C110*6+$D110+$F$6)=U$62,($C110*7+$D110+$F$6)=U$62,($C110*8+$D110+$F$6)=U$62),$F110*$H110*((1+$J$52)^(U$62-$F$6)),0),-2)","v":0},0,0,0,0,0,0,0,0,0,0]
["Balconies & Railings",{"$nulls":3},"Per Sq. Ft.",{"$nulls":3},0,0,0,0,0,0,0,0,0,0,0,0,0,0,0,0,0,0,0,0,0,0,0]
["Mail Facilities",{"$nulls":3},"Per Sq. Ft.",{"$nulls":3},0,0,0,0,0,0,0,0,0,0,0,0,0,0,0,0,0,0,0,0,0,0,0]
["Exterior Doors",{"$nulls":3},"Per Sq. Ft.",{"$nulls":3},0,0,0,0,0,0,0,0,0,0,0,0,0,0,0,0,0,0,0,0,0,0,0]
["Windows",{"$nulls":3},"Per Sq. Ft.",{"$nulls":3},0,0,0,0,0,0,0,0,0,0,0,0,0,0,0,0,0,0,0,0,0,0,0]
["Gutters/Downspouts",{"$nulls":3},"Per Sq. Ft.",{"$nulls":3},0,0,0,0,0,0,0,0,0,0,0,0,0,0,0,0,0,0,0,0,0,0,0]
["Columns & Porches",{"$nulls":3},"Per Sq. Ft.",{"$nulls":3},0,0,0,0,0,0,0,0,0,0,0,0,0,0,0,0,0,0,0,0,0,0,0]
["Decks & Patios",{"$nulls":3},"Per Sq. Ft.",{"$nulls":3},0,0,0,0,0,0,0,0,0,0,0,0,0,0,0,0,0,0,0,0,0,0,0]
["Exterior Lighting",{"$nulls":3},"Per Sq. Ft.",{"$nulls":3},0,0,0,0,0,0,0,0,0,0,0,0,0,0,0,0,0,0,0,0,0,0,0]
["Other (Specify)",{"$nulls":7},0,0,0,0,0,0,0,0,0,0,0,0,0,0,0,0,0,0,0,0,0,0,0]
["Other (Specify)",{"$nulls":7},0,0,0,0,0,0,0,0,0,0,0,0,0,0,0,0,0,0,0,0,0,0,0]
["Unit Exterior Subtotals",{"$nulls":7},{"$f":"SUM(I100:I120)","v":0},0,0,0,0,0,0,0,0,0,0,0,0,0,0,0,0,0,0,0,0,0,0]
["(4.12) Unit Interiors",{"$nulls":12},"Years 1-5",{"$f":"SUM(K144:O144)","v":0},{"$nulls":3},"Years 6-10",{"$f":"SUM(P144:T144)","v":0},{"$nulls":3},"Years 11-15",{"$f":"SUM(U144:Y144)","v":0},{"$nulls":3},"Years 16-20",{"$f":"SUM(Z144:AD144)","v":0}]
["Interior Painting (non routine)",{"$nulls":3},"Per Sq. Ft.",{"$nulls":3},{"$f":"ROUNDUP(+G123*H123,-2)","v":0},{"$f":"SUM(K123:AD123)","v":0},{"$f":"ROUNDUP(IF(OR(($D123+$F$6)=K$62,($C123+$D123+$F$6)=K$62,($C123*2+$D123+$F$6)=K$62,($C123*3+$D123+$F$6)=K$62,($C123*4+$D123+$F$6)=K$62,($C123*5+$D123+$F$6)=K$62,($C123*6+$D123+$F$6)=K$62,($C123*7+$D123+$F$6)=K$62,($C123*8+$D123+$F$6)=K$62),$F123*$H123*((1+$J$52)^(K$62-$F$6)),0),-2)","v":0},0,0,0,0,0,0,0,0,0,{"$f":"ROUNDUP(IF(OR(($D123+$F$6)=U$62,($C123+$D123+$F$6)=U$62,($C123*2+$D123+$F$6)=U$62,($C123*3+$D123+$F$6)=U$62,($C123*4+$D123+$F$6)=U$62,($C123*5+$D123+$F$6)=U$62,($C123*6+$D123+$F$6)=U$62,($C123*7+$D123+$F$6)=U$62,($C123*8+$D123+$F$6)=U$62),$F123*$H123*((1+$J$52)^(U$62-$F$6)),0),-2)","v":0},0,0,0,0,0,0,0,0,0,{"$f":"SUM(K123:AD123)-J123","v":0}]
["Interior Doors",{"$nulls":3},"Per Sq. Ft.",{"$nulls":3},0,0,0,0,0,0,0,0,0,0,0,0,0,0,0,0,0,0,0,0,0,0,0]
["Flooring (non routine)",{"$nulls":3},"Per Sq. Ft.",{"$nulls":3},0,0,0,0,0,0,0,0,0,0,0,0,0,0,0,0,0,0,0,0,0,0,0]
["Shower/Tub Surrounds",{"$nulls":3},"Per Sq. Ft.",{"$nulls":3},0,0,0,0,0,0,0,0,0,0,0,0,0,0,0,0,0,0,0,0,0,0,0]
["Commodes",{"$nulls":3},"Per Sq. Ft.",{"$nulls":3},0,0,0,0,0,0,0,0,0,0,0,0,0,0,0,0,0,0,0,0,0,0,0]
["Vanities",{"$nulls":3},"Per Sq. Ft.",{"$nulls":3},0,0,0,0,0,0,0,0,0,0,0,0,0,0,0,0,0,0,0,0,0,0,0]
["Faucets",{"$nulls":3},"Per Sq. Ft.",{"$nulls":3},0,0,0,0,0,0,0,0,0,0,0,0,0,0,0,0,0,0,0,0,0,0,0]
["Bathroom Flooring (non cyclical)",{"$nulls":3},"Per Sq. Ft.",{"$nulls":3},0,0,0,0,0,0,0,0,0,0,0,0,0,0,0,0,0,0,0,0,0,0,0]
["Kitchen Cabinets",{"$nulls":3},"Per Sq. Ft.",{"$nulls":3},0,0,0,0,0,0,0,0,0,0,0,0,0,0,0,0,0,0,0,0,0,0,0]
["Ranges",{"$nulls":3},"Per Sq. Ft.",{"$nulls":3},0,0,0,0,0,0,0,0,0,0,0,0,0,0,0,0,0,0,0,0,0,0,0]
["Range Hoods",{"$nulls":3},"Per Sq. Ft.",{"$nulls":3},0,0,{"$f":"ROUNDUP(IF(OR(($D133+$F$6)=K$62,($C133+$D133+$F$6)=K$62,($C133*2+$D133+$F$6)=K$62,($C133*3+$D133+$F$6)=K$62,($C133*4+$D133+$F$6)=K$62,($C133*5+$D133+$F$6)=K$62,($C133*6+$D133+$F$6)=K$62,($C133*7+$D133+$F$6)=K$62,($C133*8+$D133+$F$6)=K$62),$F133*$H133*((1+$J$52)^(K$62-$F$6)),0),-2)","v":0},0,0,0,0,0,0,0,0,0,{"$f":"ROUNDUP(IF(OR(($D133+$F$6)=U$62,($C133+$D133+$F$6)=U$62,($C133*2+$D133+$F$6)=U$62,($C133*3+$D133+$F$6)=U$62,($C133*4+$D133+$F$6)=U$62,($C133*5+$D133+$F$6)=U$62,($C133*6+$D133+$F$6)=U$62,($C133*7+$D133+$F$6)=U$62,($C133*8+$D133+$F$6)=U$62),$F133*$H133*((1+$J$52)^(U$62-$F$6)),0),-2)","v":0},0,0,0,0,0,0,0,0,0,0]
["Refrigerators",{"$nulls":3},"Per Sq. Ft.",{"$nulls":3},0,0,0,0,0,0,0,0,0,0,0,0,0,0,0,0,0,0,0,0,0,0,0]
["Counters and Sinks",{"$nulls":3},"Per Sq. Ft.",{"$nulls":3},0,0,0,0,0,0,0,0,0,0,0,0,0,0,0,0,0,0,0,0,0,0,0]
["Dishwasher",{"$nulls":3},"Per Sq. Ft.",{"$nulls":3},0,0,0,0,0,0,0,0,0,0,0,0,0,0,0,0,0,0,0,0,0,0,0]
["Microwave",{"$nulls":3},"Per Sq. Ft.",{"$nulls":3},0,0,0,0,0,0,0,0,0,0,0,0,0,0,0,0,0,0,0,0,0,0,0]
["Washing Machines",{"$nulls":3},"Per Sq. Ft.",{"$nulls":3},0,0,0,0,0,0,0,0,0,0,0,0,0,0,0,0,0,0,0,0,0,0,0]
["Dryers",{"$nulls":3},"Per Sq. Ft.",{"$nulls":3},0,0,0,0,0,0,0,0,0,0,0,0,0,0,0,0,0,0,0,0,0,0,0]
["Call-for-Aid Systems",{"$nulls":7},0,0,0,0,0,0,0,0,0,0,0,0,0,0,0,0,0,0,0,0,0,0,0]
["Stairs and Handrails",{"$nulls":7},0,0,0,0,0,0,0,0,0,0,0,0,0,0,0,0,0,0,0,0,0,0,0]
["Other (Specify)",{"$nulls":7},0,0,0,0,0,0,0,0,0,0,0,0,0,0,0,0,0,0,0,0,0,0,0]
["Other (Specify)",{"$nulls":7},0,0,0,0,0,0,0,0,0,0,0,0,0,0,0,0,0,0,0,0,0,0,0]
["Unit Interior Subtotals",{"$nulls":7},{"$f":"SUM(I123:I143)","v":0},0,0,0,0,0,0,0,0,0,0,0,0,0,0,0,0,0,0,0,0,0,0]
["(4.13) Mechanical",{"$nulls":12},"Years 1-5",{"$f":"SUM(K161:O161)","v":0},{"$nulls":3},"Years 6-10",{"$f":"SUM(P161:T161)","v":0},{"$nulls":3},"Years 11-15",{"$f":"SUM(U161:Y161)","v":0},{"$nulls":3},"Years 16-20",{"$f":"SUM(Z161:AD161)","v":0}]
["Water Distribution",{"$nulls":3},"Per Sq. Ft.",{"$nulls":3},{"$f":"ROUNDUP(+G146*H146,-2)","v":0},{"$f":"SUM(K146:AD146)","v":0},{"$f":"ROUNDUP(IF(OR(($D146+$F$6)=K$62,($C146+$D146+$F$6)=K$62,($C146*2+$D146+$F$6)=K$62,($C146*3+$D146+$F$6)=K$62,($C146*4+$D146+$F$6)=K$62,($C146*5+$D146+$F$6)=K$62,($C146*6+$D146+$F$6)=K$62,($C146*7+$D146+$F$6)=K$62,($C146*8+$D146+$F$6)=K$62),$F146*$H146*((1+$J$52)^(K$62-$F$6)),0),-2)","v":0},0,0,0,0,0,0,0,0,0,{"$f":"ROUNDUP(IF(OR(($D146+$F$6)=U$62,($C146+$D146+$F$6)=U$62,($C146*2+$D146+$F$6)=U$62,($C146*3+$D146+$F$6)=U$62,($C146*4+$D146+$F$6)=U$62,($C146*5+$D146+$F$6)=U$62,($C146*6+$D146+$F$6)=U$62,($C146*7+$D146+$F$6)=U$62,($C146*8+$D146+$F$6)=U$62),$F146*$H146*((1+$J$52)^(U$62-$F$6)),0),-2)","v":0},0,0,0,0,0,0,0,0,0,{"$f":"SUM(K146:AD146)-J146","v":0}]
["Heating Equipt/System",{"$nulls":3},"Per Sq. Ft.",{"$nulls":3},0,0,0,0,0,0,0,0,0,0,0,0,0,0,0,0,0,0,0,0,0,0,0]
["Electric Disribution",{"$nulls":3},"Per Sq. Ft.",{"$nulls":3},0,0,0,0,0,0,0,0,0,0,0,0,0,0,0,0,0,0,0,0,0,0,0]
["Hot Water Heaters",{"$nulls":3},"Per Sq. Ft.",{"$nulls":3},0,0,0,0,0,0,0,0,0,0,0,0,0,0,0,0,0,0,0,0,0,0,0]
["Unit Sub-panels",{"$nulls":3},"Per Sq. Ft.",{"$nulls":3},0,0,0,0,0,0,0,0,0,0,0,0,0,0,0,0,0,0,0,0,0,0,0]
["Trash Compactor",{"$nulls":3},"Per Sq. Ft.",{"$nulls":3},0,0,0,0,0,0,0,0,0,0,0,0,0,0,0,0,0,0,0,0,0,0,0]
["Cooling Equipt/Systems",{"$nulls":3},"Per Sq. Ft.",{"$nulls":3},0,0,0,0,0,0,0,0,0,0,0,0,0,0,0,0,0,0,0,0,0,0,0]
["Smoke/Fire Detection",{"$nulls":3},"Per Sq. Ft.",{"$nulls":3},0,0,0,0,0,0,0,0,0,0,0,0,0,0,0,0,0,0,0,0,0,0,0]
["Unit Reconfiguration",{"$nulls":3},"Per Sq. Ft.",{"$nulls":3},0,0,0,0,0,0,0,0,0,0,0,0,0,0,0,0,0,0,0,0,0,0,0]
["Security/Fire Alarm",{"$nulls":3},"Per Sq. Ft.",{"$nulls":3},0,0,0,0,0,0,0,0,0,0,0,0,0,0,0,0,0,0,0,0,0,0,0]
["Fire Suspression System",{"$nulls":3},"Per Sq. Ft.",{"$nulls":3},0,0,0,0,0,0,0,0,0,0,0,0,0,0,0,0,0,0,0,0,0,0,0]
["Generator",{"$nulls":3},"Per Sq. Ft.",{"$nulls":3},0,0,0,0,0,0,0,0,0,0,0,0,0,0,0,0,0,0,0,0,0,0,0]
["Elevator",{"$nulls":3},"Per Sq. Ft.",{"$nulls":3},0,0,0,0,0,0,0,0,0,0,0,0,0,0,0,0,0,0,0,0,0,0,0]
["Other (Specify) ",{"$nulls":7},0,0,0,0,0,0,0,0,0,0,0,0,0,0,0,0,0,0,0,0,0,0,0]
["Other (Specify)",{"$nulls":7},0,0,0,0,0,0,0,0,0,0,0,0,0,0,0,0,0,0,0,0,0,0,0]
["Mechanical Subtotals",{"$nulls":7},{"$f":"SUM(I146:I160)","v":0},0,0,0,0,0,0,0,0,0,0,0,0,0,0,0,0,0,0,0,0,0,0]
["(4.14) Other",{"$nulls":12},"Years 1-5",{"$f":"SUM(K170:O170)","v":0},{"$nulls":3},"Years 6-10",{"$f":"SUM(P170:T170)","v":0},{"$nulls":3},"Years 11-15",{"$f":"SUM(U170:Y170)","v":0},{"$nulls":3},"Years 16-20",{"$f":"SUM(Z170:AD170)","v":0}]
["Site Acquisition",{"$nulls":3},"Per Sq. Ft.",{"$nulls":3},{"$f":"ROUNDUP(+G163*H163,-2)","v":0},{"$f":"SUM(K163:AD163)","v":0},{"$f":"ROUNDUP(IF(OR(($D163+$F$6)=K$62,($C163+$D163+$F$6)=K$62,($C163*2+$D163+$F$6)=K$62,($C163*3+$D163+$F$6)=K$62,($C163*4+$D163+$F$6)=K$62,($C163*5+$D163+$F$6)=K$62,($C163*6+$D163+$F$6)=K$62,($C163*7+$D163+$F$6)=K$62,($C163*8+$D163+$F$6)=K$62),$F163*$H163*((1+$J$52)^(K$62-$F$6)),0),-2)","v":0},0,0,0,0,0,0,0,0,0,{"$f":"ROUNDUP(IF(OR(($D163+$F$6)=U$62,($C163+$D163+$F$6)=U$62,($C163*2+$D163+$F$6)=U$62,($C163*3+$D163+$F$6)=U$62,($C163*4+$D163+$F$6)=U$62,($C163*5+$D163+$F$6)=U$62,($C163*6+$D163+$F$6)=U$62,($C163*7+$D163+$F$6)=U$62,($C163*8+$D163+$F$6)=U$62),$F163*$H163*((1+$J$52)^(U$62-$F$6)),0),-2)","v":0},0,0,0,0,0,0,0,0,0,{"$f":"SUM(K163:AD163)-J163","v":0}]
["Other Fees and Costs",{"$nulls":3},"Per Sq. Ft.",{"$nulls":3},0,0,0,0,0,0,0,0,0,0,0,0,0,0,0,0,0,0,0,0,0,0,0]
["Demolition",{"$nulls":3},"Per Sq. Ft.",{"$nulls":3},0,0,0,0,0,0,0,0,0,0,0,0,0,0,0,0,0,0,0,0,0,0,0]
["Dwelling Unit Conversion",{"$nulls":3},"Per Sq. Ft.",{"$nulls":3},0,0,0,0,0,0,0,0,0,0,0,0,0,0,0,0,0,0,0,0,0,0,{"$f":"SUM(K166:AD166)-J166","v":0}]
["Contingency",{"$nulls":3},"Per Sq. Ft.",{"$nulls":3},0,0,{"$f":"ROUNDUP(IF(OR(($D167+$F$6)=K$62,($C167+$D167+$F$6)=K$62,($C167*2+$D167+$F$6)=K$62,($C167*3+$D167+$F$6)=K$62,($C167*4+$D167+$F$6)=K$62,($C167*5+$D167+$F$6)=K$62,($C167*6+$D167+$F$6)=K$62,($C167*7+$D167+$F$6)=K$62,($C167*8+$D167+$F$6)=K$62),$F167*$H167*((1+$J$52)^(K$62-$F$6)),0),-2)","v":0},0,0,0,0,0,0,0,0,0,{"$f":"ROUNDUP(IF(OR(($D167+$F$6)=U$62,($C167+$D167+$F$6)=U$62,($C167*2+$D167+$F$6)=U$62,($C167*3+$D167+$F$6)=U$62,($C167*4+$D167+$F$6)=U$62,($C167*5+$D167+$F$6)=U$62,($C167*6+$D167+$F$6)=U$62,($C167*7+$D167+$F$6)=U$62,($C167*8+$D167+$F$6)=U$62),$F167*$H167*((1+$J$52)^(U$62-$F$6)),0),-2)","v":0},0,0,0,0,0,0,0,0,0,0]
["Other (Specify) ",{"$nulls":7},0,0,0,0,0,0,0,0,0,0,0,0,0,0,0,0,0,0,0,0,0,0,0]
["Other (Specify)",{"$nulls":7},0,0,0,0,0,0,0,0,0,0,0,0,0,0,0,0,0,0,0,0,0,0,0]
["Other Subtotals",{"$nulls":7},{"$f":"SUM(I163:I169)","v":0},0,0,0,0,0,0,0,0,0,0,0,0,0,0,0,0,0,0,0,0,0,0]
["GRAND TOTAL",{"$nulls":7},{"$f":"I170+I161+I144+I82+I98","v":0},{"$f":"J170+J161+J144+J121+J98+J82","v":0},0,0,0,0,0,0,0,0,0,0,0,0,0,0,0,0,0,0,0,0,0]
["(4.15) Special Categories"]
["Amount of PNA Relating to Lead Paint/Asbestos Compliance",{"$nulls":3},"Per Sq. Ft.",{"$nulls":3},{"$f":"ROUNDUP(+G173*H173,-2)","v":0}]
["Amount of PNA Relating to Section 504, ADA, and Fair Housing Act (if applicable) Compliance",{"$nulls":3},"Per Sq. Ft.",{"$nulls":3},{"$f":"ROUNDUP(+G174*H174,-2)","v":0}]
[]
["(4.16) New Construction"]
["Dwelling Units",{"$nulls":3},"Per Sq. Ft.",{"$nulls":3},{"$f":"ROUNDUP(+G177*H177,-2)","v":0}]
["Administrative Building",{"$nulls":3},"Per Sq. Ft.",{"$nulls":3},0]
["Community Building or Facility",{"$nulls":3},"Per Sq. Ft.",{"$nulls":3},0]
["Shop",{"$nulls":3},"Per Sq. Ft.",{"$nulls":3},0]
["Storage Area",{"$nulls":3},"Per Sq. Ft.",{"$nulls":3},0]
["Family Investment Center",{"$nulls":3},"Per Sq. Ft.",{"$nulls":3},0]
["Day Care Center",{"$nulls":3},"Per Sq. Ft.",{"$nulls":3},0]
["Laundry Areas(s)",{"$nulls":3},"Per Sq. Ft.",{"$nulls":3},0]
["Other (Specify) ",{"$nulls":3},"Per Sq. Ft.",{"$nulls":3},0]
["Other (Specify)",{"$nulls":3},"Per Sq. Ft.",{"$nulls":3},0]
["Other (Specify)",{"$nulls":7},0]
["New Construction Subtotals",{"$nulls":7},{"$f":"SUM(I177:I187)","v":0}]

{"sheet":"Tab 10","index":11,"n_rows":188,"n_cols":31,"rows_kept":188,"merged":[[4,2,4,3],[5,2,5,3],[7,0,7,8],[9,1,9,2],[10,1,10,2],[20,3,20,9],[27,0,27,8],[29,8,29,9],[30,8,30,9],[31,8,31,9],[33,6,35,6],[37,4,37,9],[44,0,44,8],[46,0,46,1],[47,0,47,1],[48,0,48,1],[49,0,49,1],[50,0,50,1],[51,0,51,1],[52,0,52,1],[53,0,53,1],[54,0,54,1],[55,0,55,1],[56,0,56,1],[59,0,59,8],[61,0,61,1],[62,0,62,1],[81,0,81,1],[97,0,97,1],[120,0,120,1],[143,0,143,1],[160,0,160,1],[169,0,169,1],[170,0,170,1],[187,0,187,1]]}
["Physical Needs Assessment",{"$nulls":3},"U.S. Department of Housing",{"$nulls":4}," OMB Approval No. 2577-0157"]
["Capital Fund Financing Program/",{"$nulls":3},"and Urban Development",{"$nulls":4}," (exp. 1/31/2017)"]
["Operating Fund Financing Program",{"$nulls":3},"Office of Public and Indian Housing"]
[]
["HA Name",null,"HA Number",null,null,"FY of Assessment",null," Original  ","Date Prepared:"]
["Sample PHA",null,{"$f":"'Tab 6'!C6:D6","v":0},{"$nulls":4},"Revision  ","Date Revised:"]
[]
["(1.0) Project Data"]
[]
["(1.1) Management Office Address",{"$nulls":5},"(1.3) Development No.",null,"(1.4) DOFA Date"]
["(1.2) Project Name"]
[{"$nulls":4},"Family"]
[{"$nulls":3},"(1.9)","Elderly",null,null,"(1.10)","S-F Detached"]
["(1.5) Year of Last Substantial Mod",null,null,"Occupancy","Family & Disabled",null,null,"Structure","Semi-Detached"]
["(1.6) Occupancy Rate ",{"$f":"B20/(+B18-B26)","v":{"$error":"#DIV/0!"}},null,"Type(s)","Elderly & Disabled",null,null,"Type(s)","Row or Townhome"]
["        (Rentable Units Only)",null,null,"(Check)","Not Applicable",null,null,"(Check","M-F/Walkup"]
["(1.7) Latest PASS REAC Score",null,null,"all that apply)","Official Designation: Elderly",null,null,"all that","Elevator"]
["Total Units",{"$f":"+B20+B21","v":0},null,null,"Official Designation: Disabled",null,null,"apply)","Non-Dwelling"]
["(1.8) Total Buildings",{"$nulls":3},"Official Designation: Mixed"]
["Occupied Units",{"$f":"SUM(E23:J23)","v":0}]
["Vacant/Rentable Units",{"$f":"SUM(E24:J24)","v":0},null,"(1.11) Bedroom Distribution"]
[{"$nulls":4},"Eff","1BR","2BR","3BR","4BR","5BR+"]
[{"$nulls":3},"(1.11a) Occupied"]
[{"$nulls":3},"(1.11b) Vacant"]
[{"$nulls":3},"Total Units",{"$f":"SUM(E23:E24)","v":0},0,0,0,0,0]
[{"$nulls":3},"Avg Bedrooms per Unit",null,{"$f":"(+E23*1+F23*1+G23*2+H23*3+I23*4+J23*5)/SUM(E23:J23)","v":{"$error":"#DIV/0!"}}]
[]
["(2.0) Physical Needs Assessment Summary Data"]
[]
["(2.1) PNA Conducted By: (PHA/ 3rd Party)",null,"PHA Internally",null,null,"(2.5) Inspector Contact Name: "]
[null,null,"3rd Pary Independent",null,null,"(2.6) Company Name or PHA Title:"]
["(2.2) First Year Covered by PNA",{"$nulls":4},"(2.7) Inspector Contact Phone:"]
["(2.3) Length of PNA (in years)"]
["(2.4) Unit Interiors Inspected (#)",null,{"$f":"SUM(E40:J40)","v":0},{"$nulls":3},"(2.8) Data Source(s) for PNA",null,"Annual Inspections"]
["Units Inspected as % of Total",null,{"$f":"C34/B18","v":{"$error":"#DIV/0!"}},{"$nulls":5},"Contractor"]
["(2.9) Total Residential Buildings",{"$nulls":7},"REAC Inspections"]
["(2.10) Number of Building Exteriors Inspected"]
["(2.11) Total Off-Street Parking Spaces",{"$nulls":3},"(2.14) Units Inspected by Bedroom Size"]
["(2.12) Site Acreage",null,null,"acres","Eff","1BR","2BR","3BR","4BR","5BR+"]
["(2.13) Parking Area (in square feet)",null,null,"SF"]
[]
["(2.15) Physical Improvements Will Result in Structural/System Soundness at a Reasonable Cost",{"$nulls":5},"Yes","No"]
["(2.16) Development Has Long-Term Physical and Social Viability",{"$nulls":5},"Yes","No"]
[]
["(3.0) Total Physical Needs Summary"]
[]
["Major Category",null,"Immediate","Years                       1-5","Years                    6-10","Years                    11-15","Years                   16-20","Total Needs"]
["Site",null,{"$f":"+I82","v":0},{"$f":"$O$63","v":0},{"$f":"$T$63","v":0},{"$f":"$Y$63","v":0},{"$f":"$AD$63","v":0},{"$f":"SUM(C48:G48)","v":0}]
["Common Buildings",null,{"$f":"$I$98","v":0},{"$f":"$O$83","v":0},{"$f":"$T$83","v":0},{"$f":"$Y$83","v":0},{"$f":"$AD$83","v":0},0]
["Unit Exteriors",null,{"$f":"$I$121","v":0},{"$f":"$O$99","v":0},{"$f":"$T$99","v":0},{"$f":"$Y$99","v":0},{"$f":"$AD$99","v":0},0]
["Unit Interiors",null,{"$f":"$I$144","v":0},{"$f":"O122","v":0},{"$f":"T122","v":0},{"$f":"Y122","v":0},{"$f":"AD122","v":0},0]
["Mechanical",null,{"$f":"I161","v":0},{"$f":"O145","v":0},{"$f":"T145","v":0},{"$f":"Y145","v":0},{"$f":"AD145","v":0},0]
["Other",null,{"$f":"I170","v":0},{"$f":"O162","v":0},{"$f":"T162","v":0},{"$f":"Y162","v":0},{"$f":"AD162","v":0},0]
["Totals",null,{"$f":"SUM(C48:C53)","v":0},0,0,0,0,0]
["Amount of PNA relating to Lead Paint/Asbestos",null,{"$f":"I173","v":0},{"$nulls":4},{"$f":"C55","v":0}]
["Amount of PNA relating to Section 504, ADA, and Fair Housing Act (if applicable) Compliance",null,{"$f":"I174","v":0},{"$nulls":4},{"$f":"C56","v":0}]
["New Construction",{"$nulls":6},{"$f":"I188","v":0}]
[{"$nulls":5},"TOTAL PHYSICAL NEEDS",null,{"$f":"H57+H54","v":0}]
[]
["(4.0)Physical Needs Cost Estimate"]
[]
["(4.1) Category",null,"(4.2) Estimated Useful Life","(4.3)                Useful Life Remaining","(4.4)             Method","(4.5)                   Total          Quantity","(4.6)             Current Needs Quantity","(4.7)                Cost per      Quantity","(4.8)         Immediate Repairs Needed","Total Long Term Needs",{"$f":"+F6+1","v":1},{"$f":"1+K62","v":2},3,4,5,6,7,8,9,10,11,12,13,14,15,16,17,18,19,20]
["(4.9) Site",null,"(in yrs)","(in yrs)",{"$nulls":9},"Years 1-5",{"$f":"SUM(K82:O82)","v":0},{"$nulls":3},"Years 6-10",{"$f":"SUM(P82:T82)","v":0},{"$nulls":3},"Years 11-15",{"$f":"SUM(U82:Y82)","v":0},{"$nulls":3},"Years 16-20",{"$f":"SUM(Z82:AD82)","v":0}]
["Asphalt/Concrete",{"$nulls":3},"Per Sq. Ft.",{"$nulls":3},{"$f":"ROUNDUP(+G64*H64,-2)","v":0},{"$f":"SUM(K64:AD64)","v":0},{"$f":"ROUNDUP(IF(OR(($D64+$F$6)=K$62,($C64+$D64+$F$6)=K$62,($C64*2+$D64+$F$6)=K$62,($C64*3+$D64+$F$6)=K$62,($C64*4+$D64+$F$6)=K$62,($C64*5+$D64+$F$6)=K$62,($C64*6+$D64+$F$6)=K$62,($C64*7+$D64+$F$6)=K$62,($C64*8+$D64+$F$6)=K$62),$F64*$H64*((1+$J$52)^(K$62-$F$6)),0),-2)","v":0},0,0,0,0,0,0,0,0,0,{"$f":"ROUNDUP(IF(OR(($D64+$F$6)=U$62,($C64+$D64+$F$6)=U$62,($C64*2+$D64+$F$6)=U$62,($C64*3+$D64+$F$6)=U$62,($C64*4+$D64+$F$6)=U$62,($C64*5+$D64+$F$6)=U$62,($C64*6+$D64+$F$6)=U$62,($C64*7+$D64+$F$6)=U$62,($C64*8+$D64+$F$6)=U$62),$F64*$H64*((1+$J$52)^(U$62-$F$6)),0),-2)","v":0},0,0,0,0,0,0,0,0,0,{"$f":"SUM(K64:AD64)-J64","v":0}]
["Seal Coat",{"$nulls":3},"Per Sq. Ft.",{"$nulls":3},0,0,0,0,0,0,0,0,0,0,0,0,0,0,0,0,0,0,0,0,0,0,0]
["Striping",{"$nulls":3},"Per Sq. Ft.",{"$nulls":3},0,0,0,0,0,0,0,0,0,0,0,0,0,0,0,0,0,0,0,0,0,0,0]
["Curb & Gutter",{"$nulls":3},"Per Sq. Ft.",{"$nulls":3},0,0,0,0,0,0,0,0,0,0,0,0,0,0,0,0,0,0,0,0,0,0,0]
["Pedestrian paving",{"$nulls":3},"Per Sq. Ft.",{"$nulls":3},0,0,0,0,0,0,0,0,0,0,0,0,0,0,0,0,0,0,0,0,0,0,0]
["Signage",{"$nulls":3},"Per Sq. Ft.",{"$nulls":3},0,0,0,0,0,0,0,0,0,0,0,0,0,0,0,0,0,0,0,0,0,0,0]
["Water Lines/Mains",{"$nulls":3},"Per Sq. Ft.",{"$nulls":3},0,0,0,0,0,0,0,0,0,0,0,0,0,0,0,0,0,0,0,0,0,0,0]
["Sewer Lines/Mains",{"$nulls":3},"Per Sq. Ft.",{"$nulls":3},0,0,0,0,0,0,0,0,0,0,0,0,0,0,0,0,0,0,0,0,0,0,0]
["Lighting",{"$nulls":3},"Per Sq. Ft.",{"$nulls":3},0,0,0,0,0,0,0,0,0,0,0,0,0,0,0,0,0,0,0,0,0,0,0]
["Storm Drainage",{"$nulls":3},"Per Sq. Ft.",{"$nulls":3},0,0,0,0,0,0,0,0,0,0,0,0,0,0,0,0,0,0,0,0,0,0,0]
["Landscape",{"$nulls":3},"Per Sq. Ft.",{"$nulls":3},0,0,{"$f":"ROUNDUP(IF(OR(($D74+$F$6)=K$62,($C74+$D74+$F$6)=K$62,($C74*2+$D74+$F$6)=K$62,($C74*3+$D74+$F$6)=K$62,($C74*4+$D74+$F$6)=K$62,($C74*5+$D74+$F$6)=K$62,($C74*6+$D74+$F$6)=K$62,($C74*7+$D74+$F$6)=K$62,($C74*8+$D74+$F$6)=K$62),$F74*$H74*((1+$J$52)^(K$62-$F$6)),0),-2)","v":0},0,0,0,0,0,0,0,0,0,{"$f":"ROUNDUP(IF(OR(($D74+$F$6)=U$62,($C74+$D74+$F$6)=U$62,($C74*2+$D74+$F$6)=U$62,($C74*3+$D74+$F$6)=U$62,($C74*4+$D74+$F$6)=U$62,($C74*5+$D74+$F$6)=U$62,($C74*6+$D74+$F$6)=U$62,($C74*7+$D74+$F$6)=U$62,($C74*8+$D74+$F$6)=U$62),$F74*$H74*((1+$J$52)^(U$62-$F$6)),0),-2)","v":0},0,0,0,0,0,0,0,0,0,0]
["Fencing",{"$nulls":3},"Per Sq. Ft.",{"$nulls":3},0,0,0,0,0,0,0,0,0,0,0,0,0,0,0,0,0,0,0,0,0,0,0]
["Fence Painting",{"$nulls":3},"Per Sq. Ft.",{"$nulls":3},0,0,0,0,0,0,0,0,0,0,0,0,0,0,0,0,0,0,0,0,0,0,0]
["Dumpsters & Enclosures",{"$nulls":3},"Per Sq. Ft.",{"$nulls":3},0,0,0,0,0,0,0,0,0,0,0,0,0,0,0,0,0,0,0,0,0,0,0]
["Electric Distribution",{"$nulls":3},"Per Sq. Ft.",{"$nulls":3},0,0,0,0,0,0,0,0,0,0,0,0,0,0,0,0,0,0,0,0,0,0,0]
["Playground Areas/Equipment",{"$nulls":3},"Per Sq. Ft.",{"$nulls":3},0,0,0,0,0,0,0,0,0,0,0,0,0,0,0,0,0,0,0,0,0,0,0]
["Other (Specify)",{"$nulls":7},0,0,0,0,0,0,0,0,0,0,0,0,0,0,0,0,0,0,0,0,0,0,0]
["Other (Specify)",{"$nulls":7},0,0,0,0,0,0,0,0,0,0,0,0,0,0,0,0,0,0,0,0,0,0,0]
["Site Subtotals",{"$nulls":7},{"$f":"SUM(I64:I81)","v":0},0,0,0,0,0,0,0,0,0,0,0,0,0,0,0,0,0,0,0,0,0,0]
["(4.10) Common Buildings--Rehab Only",{"$nulls":12},"Years 1-5",{"$f":"SUM(K98:O98)","v":0},{"$nulls":3},"Years 6-10",{"$f":"SUM(P98:T98)","v":0},{"$nulls":3},"Years 11-15",{"$f":"SUM(T98:X98)","v":0},{"$nulls":3},"Years 16-20",{"$f":"SUM(Y98:AC98)","v":0}]
["Administrative Building",{"$nulls":3},"Per Sq. Ft.",{"$nulls":3},{"$f":"ROUNDUP(+G84*H84,-2)","v":0},{"$f":"SUM(K84:AD84)","v":0},{"$f":"ROUNDUP(IF(OR(($D84+$F$6)=K$62,($C84+$D84+$F$6)=K$62,($C84*2+$D84+$F$6)=K$62,($C84*3+$D84+$F$6)=K$62,($C84*4+$D84+$F$6)=K$62,($C84*5+$D84+$F$6)=K$62,($C84*6+$D84+$F$6)=K$62,($C84*7+$D84+$F$6)=K$62,($C84*8+$D84+$F$6)=K$62),$F84*$H84*((1+$J$52)^(K$62-$F$6)),0),-2)","v":0},0,0,0,0,0,0,0,0,0,{"$f":"ROUNDUP(IF(OR(($D84+$F$6)=U$62,($C84+$D84+$F$6)=U$62,($C84*2+$D84+$F$6)=U$62,($C84*3+$D84+$F$6)=U$62,($C84*4+$D84+$F$6)=U$62,($C84*5+$D84+$F$6)=U$62,($C84*6+$D84+$F$6)=U$62,($C84*7+$D84+$F$6)=U$62,($C84*8+$D84+$F$6)=U$62),$F84*$H84*((1+$J$52)^(U$62-$F$6)),0),-2)","v":0},0,0,0,0,0,0,0,0,0,{"$f":"SUM(K84:AD84)-J84","v":0}]
["Community Building",{"$nulls":3},"Per Sq. Ft.",{"$nulls":3},0,0,0,0,0,0,0,0,0,0,0,0,0,0,0,0,0,0,0,0,0,0,0]
["Shop",{"$nulls":3},"Per Sq. Ft.",{"$nulls":3},0,0,0,0,0,0,0,0,0,0,0,0,0,0,0,0,0,0,0,0,0,0,0]
["Storage Area",{"$nulls":3},"Per Sq. Ft.",{"$nulls":3},0,0,0,0,0,0,0,0,0,0,0,0,0,0,0,0,0,0,0,0,0,0,0]
["Central Boiler",{"$nulls":3},"Per Sq. Ft.",{"$nulls":3},0,0,0,0,0,0,0,0,0,0,0,0,0,0,0,0,0,0,0,0,0,0,0]
["Central Chiller",{"$nulls":3},"Per Sq. Ft.",{"$nulls":3},0,0,0,0,0,0,0,0,0,0,0,0,0,0,0,0,0,0,0,0,0,0,0]
["Family Invesment Center",{"$nulls":3},"Per Sq. Ft.",{"$nulls":3},0,0,0,0,0,0,0,0,0,0,0,0,0,0,0,0,0,0,0,0,0,0,0]
["Day Care Center",{"$nulls":3},"Per Sq. Ft.",{"$nulls":3},0,0,0,0,0,0,0,0,0,0,0,0,0,0,0,0,0,0,0,0,0,0,0]
["Laundry Areas",{"$nulls":3},"Per Sq. Ft.",{"$nulls":3},0,0,{"$f":"ROUNDUP(IF(OR(($D92+$F$6)=K$62,($C92+$D92+$F$6)=K$62,($C92*2+$D92+$F$6)=K$62,($C92*3+$D92+$F$6)=K$62,($C92*4+$D92+$F$6)=K$62,($C92*5+$D92+$F$6)=K$62,($C92*6+$D92+$F$6)=K$62,($C92*7+$D92+$F$6)=K$62,($C92*8+$D92+$F$6)=K$62),$F92*$H92*((1+$J$52)^(K$62-$F$6)),0),-2)","v":0},0,0,0,0,0,0,0,0,0,{"$f":"ROUNDUP(IF(OR(($D92+$F$6)=U$62,($C92+$D92+$F$6)=U$62,($C92*2+$D92+$F$6)=U$62,($C92*3+$D92+$F$6)=U$62,($C92*4+$D92+$F$6)=U$62,($C92*5+$D92+$F$6)=U$62,($C92*6+$D92+$F$6)=U$62,($C92*7+$D92+$F$6)=U$62,($C92*8+$D92+$F$6)=U$62),$F92*$H92*((1+$J$52)^(U$62-$F$6)),0),-2)","v":0},0,0,0,0,0,0,0,0,0,0]
["Common Area Washers",{"$nulls":3},"Per Sq. Ft.",{"$nulls":3},0,0,0,0,0,0,0,0,0,0,0,0,0,0,0,0,0,0,0,0,0,0,0]
["Common Area Dryers",{"$nulls":3},"Per Sq. Ft.",{"$nulls":3},0,0,0,0,0,0,0,0,0,0,0,0,0,0,0,0,0,0,0,0,0,0,0]
["Common Area Finishes",{"$nulls":3},"Per Sq. Ft.",{"$nulls":3},0,0,0,0,0,0,0,0,0,0,0,0,0,0,0,0,0,0,0,0,0,0,0]
["Other (Specify)",{"$nulls":7},0,0,0,0,0,0,0,0,0,0,0,0,0,0,0,0,0,0,0,0,0,0,0]
["Other (Specify)",{"$nulls":7},0,0,0,0,0,0,0,0,0,0,0,0,0,0,0,0,0,0,0,0,0,0,0]
["Common Subtotals",{"$nulls":7},{"$f":"SUM(I84:I97)","v":0},0,0,0,0,0,0,0,0,0,0,0,0,0,0,0,0,0,0,0,0,0,0]
["(4.11) Unit Exteriors",{"$nulls":12},"Years 1-5",{"$f":"SUM(K121:O121)","v":0},{"$nulls":3},"Years 6-10",{"$f":"SUM(P121:T121)","v":0},{"$nulls":3},"Years 11-15",{"$f":"SUM(U121:Y121)","v":0},{"$nulls":3},"Years 16-20",{"$f":"SUM(Z121:AD121)","v":0}]
["Carports/Surface Garage",{"$nulls":3},"Per Sq. Ft.",{"$nulls":3},{"$f":"ROUNDUP(+G100*H100,-2)","v":0},{"$f":"SUM(K100:AD100)","v":0},{"$f":"ROUNDUP(IF(OR(($D100+$F$6)=K$62,($C100+$D100+$F$6)=K$62,($C100*2+$D100+$F$6)=K$62,($C100*3+$D100+$F$6)=K$62,($C100*4+$D100+$F$6)=K$62,($C100*5+$D100+$F$6)=K$62,($C100*6+$D100+$F$6)=K$62,($C100*7+$D100+$F$6)=K$62,($C100*8+$D100+$F$6)=K$62),$F100*$H100*((1+$J$52)^(K$62-$F$6)),0),-2)","v":0},0,0,0,0,0,0,0,0,0,{"$f":"ROUNDUP(IF(OR(($D100+$F$6)=U$62,($C100+$D100+$F$6)=U$62,($C100*2+$D100+$F$6)=U$62,($C100*3+$D100+$F$6)=U$62,($C100*4+$D100+$F$6)=U$62,($C100*5+$D100+$F$6)=U$62,($C100*6+$D100+$F$6)=U$62,($C100*7+$D100+$F$6)=U$62,($C100*8+$D100+$F$6)=U$62),$F100*$H100*((1+$J$52)^(U$62-$F$6)),0),-2)","v":0},0,0,0,0,0,0,0,0,0,{"$f":"SUM(K100:AD100)-J100","v":0}]
["Foundation",{"$nulls":3},"Per Sq. Ft.",{"$nulls":3},0,0,0,0,0,0,0,0,0,0,0,0,0,0,0,0,0,0,0,0,0,0,0]
["Building Slab",{"$nulls":3},"Per Sq. Ft.",{"$nulls":3},0,0,0,0,0,0,0,0,0,0,0,0,0,0,0,0,0,0,0,0,0,0,0]
["Roofs",{"$nulls":3},"Per Sq. Ft.",{"$nulls":3},0,0,0,0,0,0,0,0,0,0,0,0,0,0,0,0,0,0,0,0,0,0,0]
["Canopies",{"$nulls":3},"Per Sq. Ft.",{"$nulls":3},0,0,0,0,0,0,0,0,0,0,0,0,0,0,0,0,0,0,0,0,0,0,0]
["Tuck-Pointing",{"$nulls":3},"Per Sq. Ft.",{"$nulls":3},0,0,0,0,0,0,0,0,0,0,0,0,0,0,0,0,0,0,0,0,0,0,0]
["Exterior Paint & Caulking",{"$nulls":3},"Per Sq. Ft.",{"$nulls":3},0,0,0,0,0,0,0,0,0,0,0,0,0,0,0,0,0,0,0,0,0,0,0]
["Soffits",{"$nulls":3},"Per Sq. Ft.",{"$nulls":3},0,0,0,0,0,0,0,0,0,0,0,0,0,0,0,0,0,0,0,0,0,0,0]
["Siding",{"$nulls":3},"Per Sq. Ft.",{"$nulls":3},0,0,0,0,0,0,0,0,0,0,0,0,0,0,0,0,0,0,0,0,0,0,0]
["Exterior Stairwells/Fire Escapes",{"$nulls":3},"Per Sq. Ft.",{"$nulls":3},0,0,0,0,0,0,0,0,0,0,0,0,0,0,0,0,0,0,0,0,0,0,0]
["Landings & Railings",{"$nulls":3},"Per Sq. Ft.",{"$nulls":3},0,0,{"$f":"ROUNDUP(IF(OR(($D110+$F$6)=K$62,($C110+$D110+$F$6)=K$62,($C110*2+$D110+$F$6)=K$62,($C110*3+$D110+$F$6)=K$62,($C110*4+$D110+$F$6)=K$62,($C110*5+$D110+$F$6)=K$62,($C110*6+$D110+$F$6)=K$62,($C110*7+$D110+$F$6)=K$62,($C110*8+$D110+$F$6)=K$62),$F110*$H110*((1+$J$52)^(K$62-$F$6)),0),-2)","v":0},0,0,0,0,0,0,0,0,0,{"$f":"ROUNDUP(IF(OR(($D110+$F$6)=U$62,($C110+$D110+$F$6)=U$62,($C110*2+$D110+$F$6)=U$62,($C110*3+$D110+$F$6)=U$62,($C110*4+$D110+$F$6)=U$62,($C110*5+$D110+$F$6)=U$62,($C110*6+$D110+$F$6)=U$62,($C110*7+$D110+$F$6)=U$62,($C110*8+$D110+$F$6)=U$62),$F110*$H110*((1+$J$52)^(U$62-$F$6)),0),-2)","v":0},0,0,0,0,0,0,0,0,0,0]
["Balconies & Railings",{"$nulls":3},"Per Sq. Ft.",{"$nulls":3},0,0,0,0,0,0,0,0,0,0,0,0,0,0,0,0,0,0,0,0,0,0,0]
["Mail Facilities",{"$nulls":3},"Per Sq. Ft.",{"$nulls":3},0,0,0,0,0,0,0,0,0,0,0,0,0,0,0,0,0,0,0,0,0,0,0]
["Exterior Doors",{"$nulls":3},"Per Sq. Ft.",{"$nulls":3},0,0,0,0,0,0,0,0,0,0,0,0,0,0,0,0,0,0,0,0,0,0,0]
["Windows",{"$nulls":3},"Per Sq. Ft.",{"$nulls":3},0,0,0,0,0,0,0,0,0,0,0,0,0,0,0,0,0,0,0,0,0,0,0]
["Gutters/Downspouts",{"$nulls":3},"Per Sq. Ft.",{"$nulls":3},0,0,0,0,0,0,0,0,0,0,0,0,0,0,0,0,0,0,0,0,0,0,0]
["Columns & Porches",{"$nulls":3},"Per Sq. Ft.",{"$nulls":3},0,0,0,0,0,0,0,0,0,0,0,0,0,0,0,0,0,0,0,0,0,0,0]
["Decks & Patios",{"$nulls":3},"Per Sq. Ft.",{"$nulls":3},0,0,0,0,0,0,0,0,0,0,0,0,0,0,0,0,0,0,0,0,0,0,0]
["Exterior Lighting",{"$nulls":3},"Per Sq. Ft.",{"$nulls":3},0,0,0,0,0,0,0,0,0,0,0,0,0,0,0,0,0,0,0,0,0,0,0]
["Other (Specify)",{"$nulls":7},0,0,0,0,0,0,0,0,0,0,0,0,0,0,0,0,0,0,0,0,0,0,0]
["Other (Specify)",{"$nulls":7},0,0,0,0,0,0,0,0,0,0,0,0,0,0,0,0,0,0,0,0,0,0,0]
["Unit Exterior Subtotals",{"$nulls":7},{"$f":"SUM(I100:I120)","v":0},0,0,0,0,0,0,0,0,0,0,0,0,0,0,0,0,0,0,0,0,0,0]
["(4.12) Unit Interiors",{"$nulls":12},"Years 1-5",{"$f":"SUM(K144:O144)","v":0},{"$nulls":3},"Years 6-10",{"$f":"SUM(P144:T144)","v":0},{"$nulls":3},"Years 11-15",{"$f":"SUM(U144:Y144)","v":0},{"$nulls":3},"Years 16-20",{"$f":"SUM(Z144:AD144)","v":0}]
["Interior Painting (non routine)",{"$nulls":3},"Per Sq. Ft.",{"$nulls":3},{"$f":"ROUNDUP(+G123*H123,-2)","v":0},{"$f":"SUM(K123:AD123)","v":0},{"$f":"ROUNDUP(IF(OR(($D123+$F$6)=K$62,($C123+$D123+$F$6)=K$62,($C123*2+$D123+$F$6)=K$62,($C123*3+$D123+$F$6)=K$62,($C123*4+$D123+$F$6)=K$62,($C123*5+$D123+$F$6)=K$62,($C123*6+$D123+$F$6)=K$62,($C123*7+$D123+$F$6)=K$62,($C123*8+$D123+$F$6)=K$62),$F123*$H123*((1+$J$52)^(K$62-$F$6)),0),-2)","v":0},0,0,0,0,0,0,0,0,0,{"$f":"ROUNDUP(IF(OR(($D123+$F$6)=U$62,($C123+$D123+$F$6)=U$62,($C123*2+$D123+$F$6)=U$62,($C123*3+$D123+$F$6)=U$62,($C123*4+$D123+$F$6)=U$62,($C123*5+$D123+$F$6)=U$62,($C123*6+$D123+$F$6)=U$62,($C123*7+$D123+$F$6)=U$62,($C123*8+$D123+$F$6)=U$62),$F123*$H123*((1+$J$52)^(U$62-$F$6)),0),-2)","v":0},0,0,0,0,0,0,0,0,0,{"$f":"SUM(K123:AD123)-J123","v":0}]
["Interior Doors",{"$nulls":3},"Per Sq. Ft.",{"$nulls":3},0,0,0,0,0,0,0,0,0,0,0,0,0,0,0,0,0,0,0,0,0,0,0]
["Flooring (non routine)",{"$nulls":3},"Per Sq. Ft.",{"$nulls":3},0,0,0,0,0,0,0,0,0,0,0,0,0,0,0,0,0,0,0,0,0,0,0]
["Shower/Tub Surrounds",{"$nulls":3},"Per Sq. Ft.",{"$nulls":3},0,0,0,0,0,0,0,0,0,0,0,0,0,0,0,0,0,0,0,0,0,0,0]
["Commodes",{"$nulls":3},"Per Sq. Ft.",{"$nulls":3},0,0,0,0,0,0,0,0,0,0,0,0,0,0,0,0,0,0,0,0,0,0,0]
["Vanities",{"$nulls":3},"Per Sq. Ft.",{"$nulls":3},0,0,0,0,0,0,0,0,0,0,0,0,0,0,0,0,0,0,0,0,0,0,0]
["Faucets",{"$nulls":3},"Per Sq. Ft.",{"$nulls":3},0,0,0,0,0,0,0,0,0,0,0,0,0,0,0,0,0,0,0,0,0,0,0]
["Bathroom Flooring (non cyclical)",{"$nulls":3},"Per Sq. Ft.",{"$nulls":3},0,0,0,0,0,0,0,0,0,0,0,0,0,0,0,0,0,0,0,0,0,0,0]
["Kitchen Cabinets",{"$nulls":3},"Per Sq. Ft.",{"$nulls":3},0,0,0,0,0,0,0,0,0,0,0,0,0,0,0,0,0,0,0,0,0,0,0]
["Ranges",{"$nulls":3},"Per Sq. Ft.",{"$nulls":3},0,0,0,0,0,0,0,0,0,0,0,0,0,0,0,0,0,0,0,0,0,0,0]
["Range Hoods",{"$nulls":3},"Per Sq. Ft.",{"$nulls":3},0,0,{"$f":"ROUNDUP(IF(OR(($D133+$F$6)=K$62,($C133+$D133+$F$6)=K$62,($C133*2+$D133+$F$6)=K$62,($C133*3+$D133+$F$6)=K$62,($C133*4+$D133+$F$6)=K$62,($C133*5+$D133+$F$6)=K$62,($C133*6+$D133+$F$6)=K$62,($C133*7+$D133+$F$6)=K$62,($C133*8+$D133+$F$6)=K$62),$F133*$H133*((1+$J$52)^(K$62-$F$6)),0),-2)","v":0},0,0,0,0,0,0,0,0,0,{"$f":"ROUNDUP(IF(OR(($D133+$F$6)=U$62,($C133+$D133+$F$6)=U$62,($C133*2+$D133+$F$6)=U$62,($C133*3+$D133+$F$6)=U$62,($C133*4+$D133+$F$6)=U$62,($C133*5+$D133+$F$6)=U$62,($C133*6+$D133+$F$6)=U$62,($C133*7+$D133+$F$6)=U$62,($C133*8+$D133+$F$6)=U$62),$F133*$H133*((1+$J$52)^(U$62-$F$6)),0),-2)","v":0},0,0,0,0,0,0,0,0,0,0]
["Refrigerators",{"$nulls":3},"Per Sq. Ft.",{"$nulls":3},0,0,0,0,0,0,0,0,0,0,0,0,0,0,0,0,0,0,0,0,0,0,0]
["Counters and Sinks",{"$nulls":3},"Per Sq. Ft.",{"$nulls":3},0,0,0,0,0,0,0,0,0,0,0,0,0,0,0,0,0,0,0,0,0,0,0]
["Dishwasher",{"$nulls":3},"Per Sq. Ft.",{"$nulls":3},0,0,0,0,0,0,0,0,0,0,0,0,0,0,0,0,0,0,0,0,0,0,0]
["Microwave",{"$nulls":3},"Per Sq. Ft.",{"$nulls":3},0,0,0,0,0,0,0,0,0,0,0,0,0,0,0,0,0,0,0,0,0,0,0]
["Washing Machines",{"$nulls":3},"Per Sq. Ft.",{"$nulls":3},0,0,0,0,0,0,0,0,0,0,0,0,0,0,0,0,0,0,0,0,0,0,0]
["Dryers",{"$nulls":3},"Per Sq. Ft.",{"$nulls":3},0,0,0,0,0,0,0,0,0,0,0,0,0,0,0,0,0,0,0,0,0,0,0]
["Call-for-Aid Systems",{"$nulls":7},0,0,0,0,0,0,0,0,0,0,0,0,0,0,0,0,0,0,0,0,0,0,0]
["Stairs and Handrails",{"$nulls":7},0,0,0,0,0,0,0,0,0,0,0,0,0,0,0,0,0,0,0,0,0,0,0]
["Other (Specify)",{"$nulls":7},0,0,0,0,0,0,0,0,0,0,0,0,0,0,0,0,0,0,0,0,0,0,0]
["Other (Specify)",{"$nulls":7},0,0,0,0,0,0,0,0,0,0,0,0,0,0,0,0,0,0,0,0,0,0,0]
["Unit Interior Subtotals",{"$nulls":7},{"$f":"SUM(I123:I143)","v":0},0,0,0,0,0,0,0,0,0,0,0,0,0,0,0,0,0,0,0,0,0,0]
["(4.13) Mechanical",{"$nulls":12},"Years 1-5",{"$f":"SUM(K161:O161)","v":0},{"$nulls":3},"Years 6-10",{"$f":"SUM(P161:T161)","v":0},{"$nulls":3},"Years 11-15",{"$f":"SUM(U161:Y161)","v":0},{"$nulls":3},"Years 16-20",{"$f":"SUM(Z161:AD161)","v":0}]
["Water Distribution",{"$nulls":3},"Per Sq. Ft.",{"$nulls":3},{"$f":"ROUNDUP(+G146*H146,-2)","v":0},{"$f":"SUM(K146:AD146)","v":0},{"$f":"ROUNDUP(IF(OR(($D146+$F$6)=K$62,($C146+$D146+$F$6)=K$62,($C146*2+$D146+$F$6)=K$62,($C146*3+$D146+$F$6)=K$62,($C146*4+$D146+$F$6)=K$62,($C146*5+$D146+$F$6)=K$62,($C146*6+$D146+$F$6)=K$62,($C146*7+$D146+$F$6)=K$62,($C146*8+$D146+$F$6)=K$62),$F146*$H146*((1+$J$52)^(K$62-$F$6)),0),-2)","v":0},0,0,0,0,0,0,0,0,0,{"$f":"ROUNDUP(IF(OR(($D146+$F$6)=U$62,($C146+$D146+$F$6)=U$62,($C146*2+$D146+$F$6)=U$62,($C146*3+$D146+$F$6)=U$62,($C146*4+$D146+$F$6)=U$62,($C146*5+$D146+$F$6)=U$62,($C146*6+$D146+$F$6)=U$62,($C146*7+$D146+$F$6)=U$62,($C146*8+$D146+$F$6)=U$62),$F146*$H146*((1+$J$52)^(U$62-$F$6)),0),-2)","v":0},0,0,0,0,0,0,0,0,0,{"$f":"SUM(K146:AD146)-J146","v":0}]
["Heating Equipt/System",{"$nulls":3},"Per Sq. Ft.",{"$nulls":3},0,0,0,0,0,0,0,0,0,0,0,0,0,0,0,0,0,0,0,0,0,0,0]
["Electric Disribution",{"$nulls":3},"Per Sq. Ft.",{"$nulls":3},0,0,0,0,0,0,0,0,0,0,0,0,0,0,0,0,0,0,0,0,0,0,0]
["Hot Water Heaters",{"$nulls":3},"Per Sq. Ft.",{"$nulls":3},0,0,0,0,0,0,0,0,0,0,0,0,0,0,0,0,0,0,0,0,0,0,0]
["Unit Sub-panels",{"$nulls":3},"Per Sq. Ft.",{"$nulls":3},0,0,0,0,0,0,0,0,0,0,0,0,0,0,0,0,0,0,0,0,0,0,0]
["Trash Compactor",{"$nulls":3},"Per Sq. Ft.",{"$nulls":3},0,0,0,0,0,0,0,0,0,0,0,0,0,0,0,0,0,0,0,0,0,0,0]
["Cooling Equipt/Systems",{"$nulls":3},"Per Sq. Ft.",{"$nulls":3},0,0,0,0,0,0,0,0,0,0,0,0,0,0,0,0,0,0,0,0,0,0,0]
["Smoke/Fire Detection",{"$nulls":3},"Per Sq. Ft.",{"$nulls":3},0,0,0,0,0,0,0,0,0,0,0,0,0,0,0,0,0,0,0,0,0,0,0]
["Unit Reconfiguration",{"$nulls":3},"Per Sq. Ft.",{"$nulls":3},0,0,0,0,0,0,0,0,0,0,0,0,0,0,0,0,0,0,0,0,0,0,0]
["Security/Fire Alarm",{"$nulls":3},"Per Sq. Ft.",{"$nulls":3},0,0,0,0,0,0,0,0,0,0,0,0,0,0,0,0,0,0,0,0,0,0,0]
["Fire Suspression System",{"$nulls":3},"Per Sq. Ft.",{"$nulls":3},0,0,0,0,0,0,0,0,0,0,0,0,0,0,0,0,0,0,0,0,0,0,0]
["Generator",{"$nulls":3},"Per Sq. Ft.",{"$nulls":3},0,0,0,0,0,0,0,0,0,0,0,0,0,0,0,0,0,0,0,0,0,0,0]
["Elevator",{"$nulls":3},"Per Sq. Ft.",{"$nulls":3},0,0,0,0,0,0,0,0,0,0,0,0,0,0,0,0,0,0,0,0,0,0,0]
["Other (Specify) ",{"$nulls":7},0,0,0,0,0,0,0,0,0,0,0,0,0,0,0,0,0,0,0,0,0,0,0]
["Other (Specify)",{"$nulls":7},0,0,0,0,0,0,0,0,0,0,0,0,0,0,0,0,0,0,0,0,0,0,0]
["Mechanical Subtotals",{"$nulls":7},{"$f":"SUM(I146:I160)","v":0},0,0,0,0,0,0,0,0,0,0,0,0,0,0,0,0,0,0,0,0,0,0]
["(4.14) Other",{"$nulls":12},"Years 1-5",{"$f":"SUM(K170:O170)","v":0},{"$nulls":3},"Years 6-10",{"$f":"SUM(P170:T170)","v":0},{"$nulls":3},"Years 11-15",{"$f":"SUM(U170:Y170)","v":0},{"$nulls":3},"Years 16-20",{"$f":"SUM(Z170:AD170)","v":0}]
["Site Acquisition",{"$nulls":3},"Per Sq. Ft.",{"$nulls":3},{"$f":"ROUNDUP(+G163*H163,-2)","v":0},{"$f":"SUM(K163:AD163)","v":0},{"$f":"ROUNDUP(IF(OR(($D163+$F$6)=K$62,($C163+$D163+$F$6)=K$62,($C163*2+$D163+$F$6)=K$62,($C163*3+$D163+$F$6)=K$62,($C163*4+$D163+$F$6)=K$62,($C163*5+$D163+$F$6)=K$62,($C163*6+$D163+$F$6)=K$62,($C163*7+$D163+$F$6)=K$62,($C163*8+$D163+$F$6)=K$62),$F163*$H163*((1+$J$52)^(K$62-$F$6)),0),-2)","v":0},0,0,0,0,0,0,0,0,0,{"$f":"ROUNDUP(IF(OR(($D163+$F$6)=U$62,($C163+$D163+$F$6)=U$62,($C163*2+$D163+$F$6)=U$62,($C163*3+$D163+$F$6)=U$62,($C163*4+$D163+$F$6)=U$62,($C163*5+$D163+$F$6)=U$62,($C163*6+$D163+$F$6)=U$62,($C163*7+$D163+$F$6)=U$62,($C163*8+$D163+$F$6)=U$62),$F163*$H163*((1+$J$52)^(U$62-$F$6)),0),-2)","v":0},0,0,0,0,0,0,0,0,0,{"$f":"SUM(K163:AD163)-J163","v":0}]
["Other Fees and Costs",{"$nulls":3},"Per Sq. Ft.",{"$nulls":3},0,0,0,0,0,0,0,0,0,0,0,0,0,0,0,0,0,0,0,0,0,0,0]
["Demolition",{"$nulls":3},"Per Sq. Ft.",{"$nulls":3},0,0,0,0,0,0,0,0,0,0,0,0,0,0,0,0,0,0,0,0,0,0,0]
["Dwelling Unit Conversion",{"$nulls":3},"Per Sq. Ft.",{"$nulls":3},0,0,0,0,0,0,0,0,0,0,0,0,0,0,0,0,0,0,0,0,0,0,{"$f":"SUM(K166:AD166)-J166","v":0}]
["Contingency",{"$nulls":3},"Per Sq. Ft.",{"$nulls":3},0,0,{"$f":"ROUNDUP(IF(OR(($D167+$F$6)=K$62,($C167+$D167+$F$6)=K$62,($C167*2+$D167+$F$6)=K$62,($C167*3+$D167+$F$6)=K$62,($C167*4+$D167+$F$6)=K$62,($C167*5+$D167+$F$6)=K$62,($C167*6+$D167+$F$6)=K$62,($C167*7+$D167+$F$6)=K$62,($C167*8+$D167+$F$6)=K$62),$F167*$H167*((1+$J$52)^(K$62-$F$6)),0),-2)","v":0},0,0,0,0,0,0,0,0,0,{"$f":"ROUNDUP(IF(OR(($D167+$F$6)=U$62,($C167+$D167+$F$6)=U$62,($C167*2+$D167+$F$6)=U$62,($C167*3+$D167+$F$6)=U$62,($C167*4+$D167+$F$6)=U$62,($C167*5+$D167+$F$6)=U$62,($C167*6+$D167+$F$6)=U$62,($C167*7+$D167+$F$6)=U$62,($C167*8+$D167+$F$6)=U$62),$F167*$H167*((1+$J$52)^(U$62-$F$6)),0),-2)","v":0},0,0,0,0,0,0,0,0,0,0]
["Other (Specify) ",{"$nulls":7},0,0,0,0,0,0,0,0,0,0,0,0,0,0,0,0,0,0,0,0,0,0,0]
["Other (Specify)",{"$nulls":7},0,0,0,0,0,0,0,0,0,0,0,0,0,0,0,0,0,0,0,0,0,0,0]
["Other Subtotals",{"$nulls":7},{"$f":"SUM(I163:I169)","v":0},0,0,0,0,0,0,0,0,0,0,0,0,0,0,0,0,0,0,0,0,0,0]
["GRAND TOTAL",{"$nulls":7},{"$f":"I170+I161+I144+I82+I98","v":0},{"$f":"J170+J161+J144+J121+J98+J82","v":0},0,0,0,0,0,0,0,0,0,0,0,0,0,0,0,0,0,0,0,0,0]
["(4.15) Special Categories"]
["Amount of PNA Relating to Lead Paint/Asbestos Compliance",{"$nulls":3},"Per Sq. Ft.",{"$nulls":3},{"$f":"ROUNDUP(+G173*H173,-2)","v":0}]
["Amount of PNA Relating to Section 504, ADA, and Fair Housing Act (if applicable) Compliance",{"$nulls":3},"Per Sq. Ft.",{"$nulls":3},{"$f":"ROUNDUP(+G174*H174,-2)","v":0}]
[]
["(4.16) New Construction"]
["Dwelling Units",{"$nulls":3},"Per Sq. Ft.",{"$nulls":3},{"$f":"ROUNDUP(+G177*H177,-2)","v":0}]
["Administrative Building",{"$nulls":3},"Per Sq. Ft.",{"$nulls":3},0]
["Community Building or Facility",{"$nulls":3},"Per Sq. Ft.",{"$nulls":3},0]
["Shop",{"$nulls":3},"Per Sq. Ft.",{"$nulls":3},0]
["Storage Area",{"$nulls":3},"Per Sq. Ft.",{"$nulls":3},0]
["Family Investment Center",{"$nulls":3},"Per Sq. Ft.",{"$nulls":3},0]
["Day Care Center",{"$nulls":3},"Per Sq. Ft.",{"$nulls":3},0]
["Laundry Areas(s)",{"$nulls":3},"Per Sq. Ft.",{"$nulls":3},0]
["Other (Specify) ",{"$nulls":3},"Per Sq. Ft.",{"$nulls":3},0]
["Other (Specify)",{"$nulls":3},"Per Sq. Ft.",{"$nulls":3},0]
["Other (Specify)",{"$nulls":7},0]
["New Construction Subtotals",{"$nulls":7},{"$f":"SUM(I177:I187)","v":0}]

{"sheet":"Tab 11","index":12,"n_rows":188,"n_cols":31,"rows_kept":188,"merged":[[4,2,4,3],[5,2,5,3],[7,0,7,8],[9,1,9,2],[10,1,10,2],[20,3,20,9],[27,0,27,8],[29,8,29,9],[30,8,30,9],[31,8,31,9],[33,6,35,6],[37,4,37,9],[44,0,44,8],[46,0,46,1],[47,0,47,1],[48,0,48,1],[49,0,49,1],[50,0,50,1],[51,0,51,1],[52,0,52,1],[53,0,53,1],[54,0,54,1],[55,0,55,1],[56,0,56,1],[59,0,59,8],[61,0,61,1],[62,0,62,1],[81,0,81,1],[97,0,97,1],[120,0,120,1],[143,0,143,1],[160,0,160,1],[169,0,169,1],[170,0,170,1],[187,0,187,1]]}
["Physical Needs Assessment",{"$nulls":3},"U.S. Department of Housing",{"$nulls":4}," OMB Approval No. 2577-0157"]
["Capital Fund Financing Program/",{"$nulls":3},"and Urban Development",{"$nulls":4}," (exp. 1/31/2017)"]
["Operating Fund Financing Program",{"$nulls":3},"Office of Public and Indian Housing"]
[]
["HA Name",null,"HA Number",null,null,"FY of Assessment",null," Original  ","Date Prepared:"]
[{"$f":"'Tab 1'!A6","v":0},null,{"$f":"'Tab 6'!C6:D6","v":0},{"$nulls":4},"Revision  ","Date Revised:"]
[]
["(1.0) Project Data"]
[]
["(1.1) Management Office Address",{"$nulls":5},"(1.3) Development No.",null,"(1.4) DOFA Date"]
["(1.2) Project Name"]
[{"$nulls":4},"Family"]
[{"$nulls":3},"(1.9)","Elderly",null,null,"(1.10)","S-F Detached"]
["(1.5) Year of Last Substantial Mod",null,null,"Occupancy","Family & Disabled",null,null,"Structure","Semi-Detached"]
["(1.6) Occupancy Rate ",{"$f":"B20/(+B18-B26)","v":{"$error":"#DIV/0!"}},null,"Type(s)","Elderly & Disabled",null,null,"Type(s)","Row or Townhome"]
["        (Rentable Units Only)",null,null,"(Check)","Not Applicable",null,null,"(Check","M-F/Walkup"]
["(1.7) Latest PASS REAC Score",null,null,"all that apply)","Official Designation: Elderly",null,null,"all that","Elevator"]
["Total Units",{"$f":"+B20+B21","v":0},null,null,"Official Designation: Disabled",null,null,"apply)","Non-Dwelling"]
["(1.8) Total Buildings",{"$nulls":3},"Official Designation: Mixed"]
["Occupied Units",{"$f":"SUM(E23:J23)","v":0}]
["Vacant/Rentable Units",{"$f":"SUM(E24:J24)","v":0},null,"(1.11) Bedroom Distribution"]
[{"$nulls":4},"Eff","1BR","2BR","3BR","4BR","5BR+"]
[{"$nulls":3},"(1.11a) Occupied"]
[{"$nulls":3},"(1.11b) Vacant"]
[{"$nulls":3},"Total Units",{"$f":"SUM(E23:E24)","v":0},0,0,0,0,0]
[{"$nulls":3},"Avg Bedrooms per Unit",null,{"$f":"(+E23*1+F23*1+G23*2+H23*3+I23*4+J23*5)/SUM(E23:J23)","v":{"$error":"#DIV/0!"}}]
[]
["(2.0) Physical Needs Assessment Summary Data"]
[]
["(2.1) PNA Conducted By: (PHA/ 3rd Party)",null,"PHA Internally",null,null,"(2.5) Inspector Contact Name: "]
[null,null,"3rd Pary Independent",null,null,"(2.6) Company Name or PHA Title:"]
["(2.2) First Year Covered by PNA",{"$nulls":4},"(2.7) Inspector Contact Phone:"]
["(2.3) Length of PNA (in years)"]
["(2.4) Unit Interiors Inspected (#)",null,{"$f":"SUM(E40:J40)","v":0},{"$nulls":3},"(2.8) Data Source(s) for PNA",null,"Annual Inspections"]
["Units Inspected as % of Total",null,{"$f":"C34/B18","v":{"$error":"#DIV/0!"}},{"$nulls":5},"Contractor"]
["(2.9) Total Residential Buildings",{"$nulls":7},"REAC Inspections"]
["(2.10) Number of Building Exteriors Inspected"]
["(2.11) Total Off-Street Parking Spaces",{"$nulls":3},"(2.14) Units Inspected by Bedroom Size"]
["(2.12) Site Acreage",null,null,"acres","Eff","1BR","2BR","3BR","4BR","5BR+"]
["(2.13) Parking Area (in square feet)",null,null,"SF"]
[]
["(2.15) Physical Improvements Will Result in Structural/System Soundness at a Reasonable Cost",{"$nulls":5},"Yes","No"]
["(2.16) Development Has Long-Term Physical and Social Viability",{"$nulls":5},"Yes","No"]
[]
["(3.0) Total Physical Needs Summary"]
[]
["Major Category",null,"Immediate","Years                       1-5","Years                    6-10","Years                    11-15","Years                   16-20","Total Needs"]
["Site",null,{"$f":"+I82","v":0},{"$f":"$O$63","v":0},{"$f":"$T$63","v":0},{"$f":"$Y$63","v":0},{"$f":"$AD$63","v":0},{"$f":"SUM(C48:G48)","v":0}]
["Common Buildings",null,{"$f":"$I$98","v":0},{"$f":"$O$83","v":0},{"$f":"$T$83","v":0},{"$f":"$Y$83","v":0},{"$f":"$AD$83","v":0},0]
["Unit Exteriors",null,{"$f":"$I$121","v":0},{"$f":"$O$99","v":0},{"$f":"$T$99","v":0},{"$f":"$Y$99","v":0},{"$f":"$AD$99","v":0},0]
["Unit Interiors",null,{"$f":"$I$144","v":0},{"$f":"O122","v":0},{"$f":"T122","v":0},{"$f":"Y122","v":0},{"$f":"AD122","v":0},0]
["Mechanical",null,{"$f":"I161","v":0},{"$f":"O145","v":0},{"$f":"T145","v":0},{"$f":"Y145","v":0},{"$f":"AD145","v":0},0]
["Other",null,{"$f":"I170","v":0},{"$f":"O162","v":0},{"$f":"T162","v":0},{"$f":"Y162","v":0},{"$f":"AD162","v":0},0]
["Totals",null,{"$f":"SUM(C48:C53)","v":0},0,0,0,0,0]
["Amount of PNA relating to Lead Paint/Asbestos",null,{"$f":"I173","v":0},{"$nulls":4},{"$f":"C55","v":0}]
["Amount of PNA relating to Section 504, ADA, and Fair Housing Act (if applicable) Compliance",null,{"$f":"I174","v":0},{"$nulls":4},{"$f":"C56","v":0}]
["New Construction",{"$nulls":6},{"$f":"I188","v":0}]
[{"$nulls":5},"TOTAL PHYSICAL NEEDS",null,{"$f":"H57+H54","v":0}]
[]
["(4.0)Physical Needs Cost Estimate"]
[]
["(4.1) Category",null,"(4.2) Estimated Useful Life","(4.3)                Useful Life Remaining","(4.4)             Method","(4.5)                   Total          Quantity","(4.6)             Current Needs Quantity","(4.7)                Cost per      Quantity","(4.8)         Immediate Repairs Needed","Total Long Term Needs",{"$f":"+F6+1","v":1},{"$f":"1+K62","v":2},3,4,5,6,7,8,9,10,11,12,13,14,15,16,17,18,19,20]
["(4.9) Site",null,"(in yrs)","(in yrs)",{"$nulls":9},"Years 1-5",{"$f":"SUM(K82:O82)","v":0},{"$nulls":3},"Years 6-10",{"$f":"SUM(P82:T82)","v":0},{"$nulls":3},"Years 11-15",{"$f":"SUM(U82:Y82)","v":0},{"$nulls":3},"Years 16-20",{"$f":"SUM(Z82:AD82)","v":0}]
["Asphalt/Concrete",{"$nulls":3},"Per Sq. Ft.",{"$nulls":3},{"$f":"ROUNDUP(+G64*H64,-2)","v":0},{"$f":"SUM(K64:AD64)","v":0},{"$f":"ROUNDUP(IF(OR(($D64+$F$6)=K$62,($C64+$D64+$F$6)=K$62,($C64*2+$D64+$F$6)=K$62,($C64*3+$D64+$F$6)=K$62,($C64*4+$D64+$F$6)=K$62,($C64*5+$D64+$F$6)=K$62,($C64*6+$D64+$F$6)=K$62,($C64*7+$D64+$F$6)=K$62,($C64*8+$D64+$F$6)=K$62),$F64*$H64*((1+$J$52)^(K$62-$F$6)),0),-2)","v":0},0,0,0,0,0,0,0,0,0,{"$f":"ROUNDUP(IF(OR(($D64+$F$6)=U$62,($C64+$D64+$F$6)=U$62,($C64*2+$D64+$F$6)=U$62,($C64*3+$D64+$F$6)=U$62,($C64*4+$D64+$F$6)=U$62,($C64*5+$D64+$F$6)=U$62,($C64*6+$D64+$F$6)=U$62,($C64*7+$D64+$F$6)=U$62,($C64*8+$D64+$F$6)=U$62),$F64*$H64*((1+$J$52)^(U$62-$F$6)),0),-2)","v":0},0,0,0,0,0,0,0,0,0,{"$f":"SUM(K64:AD64)-J64","v":0}]
["Seal Coat",{"$nulls":3},"Per Sq. Ft.",{"$nulls":3},0,0,0,0,0,0,0,0,0,0,0,0,0,0,0,0,0,0,0,0,0,0,0]
["Striping",{"$nulls":3},"Per Sq. Ft.",{"$nulls":3},0,0,0,0,0,0,0,0,0,0,0,0,0,0,0,0,0,0,0,0,0,0,0]
["Curb & Gutter",{"$nulls":3},"Per Sq. Ft.",{"$nulls":3},0,0,0,0,0,0,0,0,0,0,0,0,0,0,0,0,0,0,0,0,0,0,0]
["Pedestrian paving",{"$nulls":3},"Per Sq. Ft.",{"$nulls":3},0,0,0,0,0,0,0,0,0,0,0,0,0,0,0,0,0,0,0,0,0,0,0]
["Signage",{"$nulls":3},"Per Sq. Ft.",{"$nulls":3},0,0,0,0,0,0,0,0,0,0,0,0,0,0,0,0,0,0,0,0,0,0,0]
["Water Lines/Mains",{"$nulls":3},"Per Sq. Ft.",{"$nulls":3},0,0,0,0,0,0,0,0,0,0,0,0,0,0,0,0,0,0,0,0,0,0,0]
["Sewer Lines/Mains",{"$nulls":3},"Per Sq. Ft.",{"$nulls":3},0,0,0,0,0,0,0,0,0,0,0,0,0,0,0,0,0,0,0,0,0,0,0]
["Lighting",{"$nulls":3},"Per Sq. Ft.",{"$nulls":3},0,0,0,0,0,0,0,0,0,0,0,0,0,0,0,0,0,0,0,0,0,0,0]
["Storm Drainage",{"$nulls":3},"Per Sq. Ft.",{"$nulls":3},0,0,0,0,0,0,0,0,0,0,0,0,0,0,0,0,0,0,0,0,0,0,0]
["Landscape",{"$nulls":3},"Per Sq. Ft.",{"$nulls":3},0,0,{"$f":"ROUNDUP(IF(OR(($D74+$F$6)=K$62,($C74+$D74+$F$6)=K$62,($C74*2+$D74+$F$6)=K$62,($C74*3+$D74+$F$6)=K$62,($C74*4+$D74+$F$6)=K$62,($C74*5+$D74+$F$6)=K$62,($C74*6+$D74+$F$6)=K$62,($C74*7+$D74+$F$6)=K$62,($C74*8+$D74+$F$6)=K$62),$F74*$H74*((1+$J$52)^(K$62-$F$6)),0),-2)","v":0},0,0,0,0,0,0,0,0,0,{"$f":"ROUNDUP(IF(OR(($D74+$F$6)=U$62,($C74+$D74+$F$6)=U$62,($C74*2+$D74+$F$6)=U$62,($C74*3+$D74+$F$6)=U$62,($C74*4+$D74+$F$6)=U$62,($C74*5+$D74+$F$6)=U$62,($C74*6+$D74+$F$6)=U$62,($C74*7+$D74+$F$6)=U$62,($C74*8+$D74+$F$6)=U$62),$F74*$H74*((1+$J$52)^(U$62-$F$6)),0),-2)","v":0},0,0,0,0,0,0,0,0,0,0]
["Fencing",{"$nulls":3},"Per Sq. Ft.",{"$nulls":3},0,0,0,0,0,0,0,0,0,0,0,0,0,0,0,0,0,0,0,0,0,0,0]
["Fence Painting",{"$nulls":3},"Per Sq. Ft.",{"$nulls":3},0,0,0,0,0,0,0,0,0,0,0,0,0,0,0,0,0,0,0,0,0,0,0]
["Dumpsters & Enclosures",{"$nulls":3},"Per Sq. Ft.",{"$nulls":3},0,0,0,0,0,0,0,0,0,0,0,0,0,0,0,0,0,0,0,0,0,0,0]
["Electric Distribution",{"$nulls":3},"Per Sq. Ft.",{"$nulls":3},0,0,0,0,0,0,0,0,0,0,0,0,0,0,0,0,0,0,0,0,0,0,0]
["Playground Areas/Equipment",{"$nulls":3},"Per Sq. Ft.",{"$nulls":3},0,0,0,0,0,0,0,0,0,0,0,0,0,0,0,0,0,0,0,0,0,0,0]
["Other (Specify)",{"$nulls":7},0,0,0,0,0,0,0,0,0,0,0,0,0,0,0,0,0,0,0,0,0,0,0]
["Other (Specify)",{"$nulls":7},0,0,0,0,0,0,0,0,0,0,0,0,0,0,0,0,0,0,0,0,0,0,0]
["Site Subtotals",{"$nulls":7},{"$f":"SUM(I64:I81)","v":0},0,0,0,0,0,0,0,0,0,0,0,0,0,0,0,0,0,0,0,0,0,0]
["(4.10) Common Buildings--Rehab Only",{"$nulls":12},"Years 1-5",{"$f":"SUM(K98:O98)","v":0},{"$nulls":3},"Years 6-10",{"$f":"SUM(P98:T98)","v":0},{"$nulls":3},"Years 11-15",{"$f":"SUM(T98:X98)","v":0},{"$nulls":3},"Years 16-20",{"$f":"SUM(Y98:AC98)","v":0}]
["Administrative Building",{"$nulls":3},"Per Sq. Ft.",{"$nulls":3},{"$f":"ROUNDUP(+G84*H84,-2)","v":0},{"$f":"SUM(K84:AD84)","v":0},{"$f":"ROUNDUP(IF(OR(($D84+$F$6)=K$62,($C84+$D84+$F$6)=K$62,($C84*2+$D84+$F$6)=K$62,($C84*3+$D84+$F$6)=K$62,($C84*4+$D84+$F$6)=K$62,($C84*5+$D84+$F$6)=K$62,($C84*6+$D84+$F$6)=K$62,($C84*7+$D84+$F$6)=K$62,($C84*8+$D84+$F$6)=K$62),$F84*$H84*((1+$J$52)^(K$62-$F$6)),0),-2)","v":0},0,0,0,0,0,0,0,0,0,{"$f":"ROUNDUP(IF(OR(($D84+$F$6)=U$62,($C84+$D84+$F$6)=U$62,($C84*2+$D84+$F$6)=U$62,($C84*3+$D84+$F$6)=U$62,($C84*4+$D84+$F$6)=U$62,($C84*5+$D84+$F$6)=U$62,($C84*6+$D84+$F$6)=U$62,($C84*7+$D84+$F$6)=U$62,($C84*8+$D84+$F$6)=U$62),$F84*$H84*((1+$J$52)^(U$62-$F$6)),0),-2)","v":0},0,0,0,0,0,0,0,0,0,{"$f":"SUM(K84:AD84)-J84","v":0}]
["Community Building",{"$nulls":3},"Per Sq. Ft.",{"$nulls":3},0,0,0,0,0,0,0,0,0,0,0,0,0,0,0,0,0,0,0,0,0,0,0]
["Shop",{"$nulls":3},"Per Sq. Ft.",{"$nulls":3},0,0,0,0,0,0,0,0,0,0,0,0,0,0,0,0,0,0,0,0,0,0,0]
["Storage Area",{"$nulls":3},"Per Sq. Ft.",{"$nulls":3},0,0,0,0,0,0,0,0,0,0,0,0,0,0,0,0,0,0,0,0,0,0,0]
["Central Boiler",{"$nulls":3},"Per Sq. Ft.",{"$nulls":3},0,0,0,0,0,0,0,0,0,0,0,0,0,0,0,0,0,0,0,0,0,0,0]
["Central Chiller",{"$nulls":3},"Per Sq. Ft.",{"$nulls":3},0,0,0,0,0,0,0,0,0,0,0,0,0,0,0,0,0,0,0,0,0,0,0]
["Family Invesment Center",{"$nulls":3},"Per Sq. Ft.",{"$nulls":3},0,0,0,0,0,0,0,0,0,0,0,0,0,0,0,0,0,0,0,0,0,0,0]
["Day Care Center",{"$nulls":3},"Per Sq. Ft.",{"$nulls":3},0,0,0,0,0,0,0,0,0,0,0,0,0,0,0,0,0,0,0,0,0,0,0]
["Laundry Areas",{"$nulls":3},"Per Sq. Ft.",{"$nulls":3},0,0,{"$f":"ROUNDUP(IF(OR(($D92+$F$6)=K$62,($C92+$D92+$F$6)=K$62,($C92*2+$D92+$F$6)=K$62,($C92*3+$D92+$F$6)=K$62,($C92*4+$D92+$F$6)=K$62,($C92*5+$D92+$F$6)=K$62,($C92*6+$D92+$F$6)=K$62,($C92*7+$D92+$F$6)=K$62,($C92*8+$D92+$F$6)=K$62),$F92*$H92*((1+$J$52)^(K$62-$F$6)),0),-2)","v":0},0,0,0,0,0,0,0,0,0,{"$f":"ROUNDUP(IF(OR(($D92+$F$6)=U$62,($C92+$D92+$F$6)=U$62,($C92*2+$D92+$F$6)=U$62,($C92*3+$D92+$F$6)=U$62,($C92*4+$D92+$F$6)=U$62,($C92*5+$D92+$F$6)=U$62,($C92*6+$D92+$F$6)=U$62,($C92*7+$D92+$F$6)=U$62,($C92*8+$D92+$F$6)=U$62),$F92*$H92*((1+$J$52)^(U$62-$F$6)),0),-2)","v":0},0,0,0,0,0,0,0,0,0,0]
["Common Area Washers",{"$nulls":3},"Per Sq. Ft.",{"$nulls":3},0,0,0,0,0,0,0,0,0,0,0,0,0,0,0,0,0,0,0,0,0,0,0]
["Common Area Dryers",{"$nulls":3},"Per Sq. Ft.",{"$nulls":3},0,0,0,0,0,0,0,0,0,0,0,0,0,0,0,0,0,0,0,0,0,0,0]
["Common Area Finishes",{"$nulls":3},"Per Sq. Ft.",{"$nulls":3},0,0,0,0,0,0,0,0,0,0,0,0,0,0,0,0,0,0,0,0,0,0,0]
["Other (Specify)",{"$nulls":7},0,0,0,0,0,0,0,0,0,0,0,0,0,0,0,0,0,0,0,0,0,0,0]
["Other (Specify)",{"$nulls":7},0,0,0,0,0,0,0,0,0,0,0,0,0,0,0,0,0,0,0,0,0,0,0]
["Common Subtotals",{"$nulls":7},{"$f":"SUM(I84:I97)","v":0},0,0,0,0,0,0,0,0,0,0,0,0,0,0,0,0,0,0,0,0,0,0]
["(4.11) Unit Exteriors",{"$nulls":12},"Years 1-5",{"$f":"SUM(K121:O121)","v":0},{"$nulls":3},"Years 6-10",{"$f":"SUM(P121:T121)","v":0},{"$nulls":3},"Years 11-15",{"$f":"SUM(U121:Y121)","v":0},{"$nulls":3},"Years 16-20",{"$f":"SUM(Z121:AD121)","v":0}]
["Carports/Surface Garage",{"$nulls":3},"Per Sq. Ft.",{"$nulls":3},{"$f":"ROUNDUP(+G100*H100,-2)","v":0},{"$f":"SUM(K100:AD100)","v":0},{"$f":"ROUNDUP(IF(OR(($D100+$F$6)=K$62,($C100+$D100+$F$6)=K$62,($C100*2+$D100+$F$6)=K$62,($C100*3+$D100+$F$6)=K$62,($C100*4+$D100+$F$6)=K$62,($C100*5+$D100+$F$6)=K$62,($C100*6+$D100+$F$6)=K$62,($C100*7+$D100+$F$6)=K$62,($C100*8+$D100+$F$6)=K$62),$F100*$H100*((1+$J$52)^(K$62-$F$6)),0),-2)","v":0},0,0,0,0,0,0,0,0,0,{"$f":"ROUNDUP(IF(OR(($D100+$F$6)=U$62,($C100+$D100+$F$6)=U$62,($C100*2+$D100+$F$6)=U$62,($C100*3+$D100+$F$6)=U$62,($C100*4+$D100+$F$6)=U$62,($C100*5+$D100+$F$6)=U$62,($C100*6+$D100+$F$6)=U$62,($C100*7+$D100+$F$6)=U$62,($C100*8+$D100+$F$6)=U$62),$F100*$H100*((1+$J$52)^(U$62-$F$6)),0),-2)","v":0},0,0,0,0,0,0,0,0,0,{"$f":"SUM(K100:AD100)-J100","v":0}]
["Foundation",{"$nulls":3},"Per Sq. Ft.",{"$nulls":3},0,0,0,0,0,0,0,0,0,0,0,0,0,0,0,0,0,0,0,0,0,0,0]
["Building Slab",{"$nulls":3},"Per Sq. Ft.",{"$nulls":3},0,0,0,0,0,0,0,0,0,0,0,0,0,0,0,0,0,0,0,0,0,0,0]
["Roofs",{"$nulls":3},"Per Sq. Ft.",{"$nulls":3},0,0,0,0,0,0,0,0,0,0,0,0,0,0,0,0,0,0,0,0,0,0,0]
["Canopies",{"$nulls":3},"Per Sq. Ft.",{"$nulls":3},0,0,0,0,0,0,0,0,0,0,0,0,0,0,0,0,0,0,0,0,0,0,0]
["Tuck-Pointing",{"$nulls":3},"Per Sq. Ft.",{"$nulls":3},0,0,0,0,0,0,0,0,0,0,0,0,0,0,0,0,0,0,0,0,0,0,0]
["Exterior Paint & Caulking",{"$nulls":3},"Per Sq. Ft.",{"$nulls":3},0,0,0,0,0,0,0,0,0,0,0,0,0,0,0,0,0,0,0,0,0,0,0]
["Soffits",{"$nulls":3},"Per Sq. Ft.",{"$nulls":3},0,0,0,0,0,0,0,0,0,0,0,0,0,0,0,0,0,0,0,0,0,0,0]
["Siding",{"$nulls":3},"Per Sq. Ft.",{"$nulls":3},0,0,0,0,0,0,0,0,0,0,0,0,0,0,0,0,0,0,0,0,0,0,0]
["Exterior Stairwells/Fire Escapes",{"$nulls":3},"Per Sq. Ft.",{"$nulls":3},0,0,0,0,0,0,0,0,0,0,0,0,0,0,0,0,0,0,0,0,0,0,0]
["Landings & Railings",{"$nulls":3},"Per Sq. Ft.",{"$nulls":3},0,0,{"$f":"ROUNDUP(IF(OR(($D110+$F$6)=K$62,($C110+$D110+$F$6)=K$62,($C110*2+$D110+$F$6)=K$62,($C110*3+$D110+$F$6)=K$62,($C110*4+$D110+$F$6)=K$62,($C110*5+$D110+$F$6)=K$62,($C110*6+$D110+$F$6)=K$62,($C110*7+$D110+$F$6)=K$62,($C110*8+$D110+$F$6)=K$62),$F110*$H110*((1+$J$52)^(K$62-$F$6)),0),-2)","v":0},0,0,0,0,0,0,0,0,0,{"$f":"ROUNDUP(IF(OR(($D110+$F$6)=U$62,($C110+$D110+$F$6)=U$62,($C110*2+$D110+$F$6)=U$62,($C110*3+$D110+$F$6)=U$62,($C110*4+$D110+$F$6)=U$62,($C110*5+$D110+$F$6)=U$62,($C110*6+$D110+$F$6)=U$62,($C110*7+$D110+$F$6)=U$62,($C110*8+$D110+$F$6)=U$62),$F110*$H110*((1+$J$52)^(U$62-$F$6)),0),-2)","v":0},0,0,0,0,0,0,0,0,0,0]
["Balconies & Railings",{"$nulls":3},"Per Sq. Ft.",{"$nulls":3},0,0,0,0,0,0,0,0,0,0,0,0,0,0,0,0,0,0,0,0,0,0,0]
["Mail Facilities",{"$nulls":3},"Per Sq. Ft.",{"$nulls":3},0,0,0,0,0,0,0,0,0,0,0,0,0,0,0,0,0,0,0,0,0,0,0]
["Exterior Doors",{"$nulls":3},"Per Sq. Ft.",{"$nulls":3},0,0,0,0,0,0,0,0,0,0,0,0,0,0,0,0,0,0,0,0,0,0,0]
["Windows",{"$nulls":3},"Per Sq. Ft.",{"$nulls":3},0,0,0,0,0,0,0,0,0,0,0,0,0,0,0,0,0,0,0,0,0,0,0]
["Gutters/Downspouts",{"$nulls":3},"Per Sq. Ft.",{"$nulls":3},0,0,0,0,0,0,0,0,0,0,0,0,0,0,0,0,0,0,0,0,0,0,0]
["Columns & Porches",{"$nulls":3},"Per Sq. Ft.",{"$nulls":3},0,0,0,0,0,0,0,0,0,0,0,0,0,0,0,0,0,0,0,0,0,0,0]
["Decks & Patios",{"$nulls":3},"Per Sq. Ft.",{"$nulls":3},0,0,0,0,0,0,0,0,0,0,0,0,0,0,0,0,0,0,0,0,0,0,0]
["Exterior Lighting",{"$nulls":3},"Per Sq. Ft.",{"$nulls":3},0,0,0,0,0,0,0,0,0,0,0,0,0,0,0,0,0,0,0,0,0,0,0]
["Other (Specify)",{"$nulls":7},0,0,0,0,0,0,0,0,0,0,0,0,0,0,0,0,0,0,0,0,0,0,0]
["Other (Specify)",{"$nulls":7},0,0,0,0,0,0,0,0,0,0,0,0,0,0,0,0,0,0,0,0,0,0,0]
["Unit Exterior Subtotals",{"$nulls":7},{"$f":"SUM(I100:I120)","v":0},0,0,0,0,0,0,0,0,0,0,0,0,0,0,0,0,0,0,0,0,0,0]
["(4.12) Unit Interiors",{"$nulls":12},"Years 1-5",{"$f":"SUM(K144:O144)","v":0},{"$nulls":3},"Years 6-10",{"$f":"SUM(P144:T144)","v":0},{"$nulls":3},"Years 11-15",{"$f":"SUM(U144:Y144)","v":0},{"$nulls":3},"Years 16-20",{"$f":"SUM(Z144:AD144)","v":0}]
["Interior Painting (non routine)",{"$nulls":3},"Per Sq. Ft.",{"$nulls":3},{"$f":"ROUNDUP(+G123*H123,-2)","v":0},{"$f":"SUM(K123:AD123)","v":0},{"$f":"ROUNDUP(IF(OR(($D123+$F$6)=K$62,($C123+$D123+$F$6)=K$62,($C123*2+$D123+$F$6)=K$62,($C123*3+$D123+$F$6)=K$62,($C123*4+$D123+$F$6)=K$62,($C123*5+$D123+$F$6)=K$62,($C123*6+$D123+$F$6)=K$62,($C123*7+$D123+$F$6)=K$62,($C123*8+$D123+$F$6)=K$62),$F123*$H123*((1+$J$52)^(K$62-$F$6)),0),-2)","v":0},0,0,0,0,0,0,0,0,0,{"$f":"ROUNDUP(IF(OR(($D123+$F$6)=U$62,($C123+$D123+$F$6)=U$62,($C123*2+$D123+$F$6)=U$62,($C123*3+$D123+$F$6)=U$62,($C123*4+$D123+$F$6)=U$62,($C123*5+$D123+$F$6)=U$62,($C123*6+$D123+$F$6)=U$62,($C123*7+$D123+$F$6)=U$62,($C123*8+$D123+$F$6)=U$62),$F123*$H123*((1+$J$52)^(U$62-$F$6)),0),-2)","v":0},0,0,0,0,0,0,0,0,0,{"$f":"SUM(K123:AD123)-J123","v":0}]
["Interior Doors",{"$nulls":3},"Per Sq. Ft.",{"$nulls":3},0,0,0,0,0,0,0,0,0,0,0,0,0,0,0,0,0,0,0,0,0,0,0]
["Flooring (non routine)",{"$nulls":3},"Per Sq. Ft.",{"$nulls":3},0,0,0,0,0,0,0,0,0,0,0,0,0,0,0,0,0,0,0,0,0,0,0]
["Shower/Tub Surrounds",{"$nulls":3},"Per Sq. Ft.",{"$nulls":3},0,0,0,0,0,0,0,0,0,0,0,0,0,0,0,0,0,0,0,0,0,0,0]
["Commodes",{"$nulls":3},"Per Sq. Ft.",{"$nulls":3},0,0,0,0,0,0,0,0,0,0,0,0,0,0,0,0,0,0,0,0,0,0,0]
["Vanities",{"$nulls":3},"Per Sq. Ft.",{"$nulls":3},0,0,0,0,0,0,0,0,0,0,0,0,0,0,0,0,0,0,0,0,0,0,0]
["Faucets",{"$nulls":3},"Per Sq. Ft.",{"$nulls":3},0,0,0,0,0,0,0,0,0,0,0,0,0,0,0,0,0,0,0,0,0,0,0]
["Bathroom Flooring (non cyclical)",{"$nulls":3},"Per Sq. Ft.",{"$nulls":3},0,0,0,0,0,0,0,0,0,0,0,0,0,0,0,0,0,0,0,0,0,0,0]
["Kitchen Cabinets",{"$nulls":3},"Per Sq. Ft.",{"$nulls":3},0,0,0,0,0,0,0,0,0,0,0,0,0,0,0,0,0,0,0,0,0,0,0]
["Ranges",{"$nulls":3},"Per Sq. Ft.",{"$nulls":3},0,0,0,0,0,0,0,0,0,0,0,0,0,0,0,0,0,0,0,0,0,0,0]
["Range Hoods",{"$nulls":3},"Per Sq. Ft.",{"$nulls":3},0,0,{"$f":"ROUNDUP(IF(OR(($D133+$F$6)=K$62,($C133+$D133+$F$6)=K$62,($C133*2+$D133+$F$6)=K$62,($C133*3+$D133+$F$6)=K$62,($C133*4+$D133+$F$6)=K$62,($C133*5+$D133+$F$6)=K$62,($C133*6+$D133+$F$6)=K$62,($C133*7+$D133+$F$6)=K$62,($C133*8+$D133+$F$6)=K$62),$F133*$H133*((1+$J$52)^(K$62-$F$6)),0),-2)","v":0},0,0,0,0,0,0,0,0,0,{"$f":"ROUNDUP(IF(OR(($D133+$F$6)=U$62,($C133+$D133+$F$6)=U$62,($C133*2+$D133+$F$6)=U$62,($C133*3+$D133+$F$6)=U$62,($C133*4+$D133+$F$6)=U$62,($C133*5+$D133+$F$6)=U$62,($C133*6+$D133+$F$6)=U$62,($C133*7+$D133+$F$6)=U$62,($C133*8+$D133+$F$6)=U$62),$F133*$H133*((1+$J$52)^(U$62-$F$6)),0),-2)","v":0},0,0,0,0,0,0,0,0,0,0]
["Refrigerators",{"$nulls":3},"Per Sq. Ft.",{"$nulls":3},0,0,0,0,0,0,0,0,0,0,0,0,0,0,0,0,0,0,0,0,0,0,0]
["Counters and Sinks",{"$nulls":3},"Per Sq. Ft.",{"$nulls":3},0,0,0,0,0,0,0,0,0,0,0,0,0,0,0,0,0,0,0,0,0,0,0]
["Dishwasher",{"$nulls":3},"Per Sq. Ft.",{"$nulls":3},0,0,0,0,0,0,0,0,0,0,0,0,0,0,0,0,0,0,0,0,0,0,0]
["Microwave",{"$nulls":3},"Per Sq. Ft.",{"$nulls":3},0,0,0,0,0,0,0,0,0,0,0,0,0,0,0,0,0,0,0,0,0,0,0]
["Washing Machines",{"$nulls":3},"Per Sq. Ft.",{"$nulls":3},0,0,0,0,0,0,0,0,0,0,0,0,0,0,0,0,0,0,0,0,0,0,0]
["Dryers",{"$nulls":3},"Per Sq. Ft.",{"$nulls":3},0,0,0,0,0,0,0,0,0,0,0,0,0,0,0,0,0,0,0,0,0,0,0]
["Call-for-Aid Systems",{"$nulls":7},0,0,0,0,0,0,0,0,0,0,0,0,0,0,0,0,0,0,0,0,0,0,0]
["Stairs and Handrails",{"$nulls":7},0,0,0,0,0,0,0,0,0,0,0,0,0,0,0,0,0,0,0,0,0,0,0]
["Other (Specify)",{"$nulls":7},0,0,0,0,0,0,0,0,0,0,0,0,0,0,0,0,0,0,0,0,0,0,0]
["Other (Specify)",{"$nulls":7},0,0,0,0,0,0,0,0,0,0,0,0,0,0,0,0,0,0,0,0,0,0,0]
["Unit Interior Subtotals",{"$nulls":7},{"$f":"SUM(I123:I143)","v":0},0,0,0,0,0,0,0,0,0,0,0,0,0,0,0,0,0,0,0,0,0,0]
["(4.13) Mechanical",{"$nulls":12},"Years 1-5",{"$f":"SUM(K161:O161)","v":0},{"$nulls":3},"Years 6-10",{"$f":"SUM(P161:T161)","v":0},{"$nulls":3},"Years 11-15",{"$f":"SUM(U161:Y161)","v":0},{"$nulls":3},"Years 16-20",{"$f":"SUM(Z161:AD161)","v":0}]
["Water Distribution",{"$nulls":3},"Per Sq. Ft.",{"$nulls":3},{"$f":"ROUNDUP(+G146*H146,-2)","v":0},{"$f":"SUM(K146:AD146)","v":0},{"$f":"ROUNDUP(IF(OR(($D146+$F$6)=K$62,($C146+$D146+$F$6)=K$62,($C146*2+$D146+$F$6)=K$62,($C146*3+$D146+$F$6)=K$62,($C146*4+$D146+$F$6)=K$62,($C146*5+$D146+$F$6)=K$62,($C146*6+$D146+$F$6)=K$62,($C146*7+$D146+$F$6)=K$62,($C146*8+$D146+$F$6)=K$62),$F146*$H146*((1+$J$52)^(K$62-$F$6)),0),-2)","v":0},0,0,0,0,0,0,0,0,0,{"$f":"ROUNDUP(IF(OR(($D146+$F$6)=U$62,($C146+$D146+$F$6)=U$62,($C146*2+$D146+$F$6)=U$62,($C146*3+$D146+$F$6)=U$62,($C146*4+$D146+$F$6)=U$62,($C146*5+$D146+$F$6)=U$62,($C146*6+$D146+$F$6)=U$62,($C146*7+$D146+$F$6)=U$62,($C146*8+$D146+$F$6)=U$62),$F146*$H146*((1+$J$52)^(U$62-$F$6)),0),-2)","v":0},0,0,0,0,0,0,0,0,0,{"$f":"SUM(K146:AD146)-J146","v":0}]
["Heating Equipt/System",{"$nulls":3},"Per Sq. Ft.",{"$nulls":3},0,0,0,0,0,0,0,0,0,0,0,0,0,0,0,0,0,0,0,0,0,0,0]
["Electric Disribution",{"$nulls":3},"Per Sq. Ft.",{"$nulls":3},0,0,0,0,0,0,0,0,0,0,0,0,0,0,0,0,0,0,0,0,0,0,0]
["Hot Water Heaters",{"$nulls":3},"Per Sq. Ft.",{"$nulls":3},0,0,0,0,0,0,0,0,0,0,0,0,0,0,0,0,0,0,0,0,0,0,0]
["Unit Sub-panels",{"$nulls":3},"Per Sq. Ft.",{"$nulls":3},0,0,0,0,0,0,0,0,0,0,0,0,0,0,0,0,0,0,0,0,0,0,0]
["Trash Compactor",{"$nulls":3},"Per Sq. Ft.",{"$nulls":3},0,0,0,0,0,0,0,0,0,0,0,0,0,0,0,0,0,0,0,0,0,0,0]
["Cooling Equipt/Systems",{"$nulls":3},"Per Sq. Ft.",{"$nulls":3},0,0,0,0,0,0,0,0,0,0,0,0,0,0,0,0,0,0,0,0,0,0,0]
["Smoke/Fire Detection",{"$nulls":3},"Per Sq. Ft.",{"$nulls":3},0,0,0,0,0,0,0,0,0,0,0,0,0,0,0,0,0,0,0,0,0,0,0]
["Unit Reconfiguration",{"$nulls":3},"Per Sq. Ft.",{"$nulls":3},0,0,0,0,0,0,0,0,0,0,0,0,0,0,0,0,0,0,0,0,0,0,0]
["Security/Fire Alarm",{"$nulls":3},"Per Sq. Ft.",{"$nulls":3},0,0,0,0,0,0,0,0,0,0,0,0,0,0,0,0,0,0,0,0,0,0,0]
["Fire Suspression System",{"$nulls":3},"Per Sq. Ft.",{"$nulls":3},0,0,0,0,0,0,0,0,0,0,0,0,0,0,0,0,0,0,0,0,0,0,0]
["Generator",{"$nulls":3},"Per Sq. Ft.",{"$nulls":3},0,0,0,0,0,0,0,0,0,0,0,0,0,0,0,0,0,0,0,0,0,0,0]
["Elevator",{"$nulls":3},"Per Sq. Ft.",{"$nulls":3},0,0,0,0,0,0,0,0,0,0,0,0,0,0,0,0,0,0,0,0,0,0,0]
["Other (Specify) ",{"$nulls":7},0,0,0,0,0,0,0,0,0,0,0,0,0,0,0,0,0,0,0,0,0,0,0]
["Other (Specify)",{"$nulls":7},0,0,0,0,0,0,0,0,0,0,0,0,0,0,0,0,0,0,0,0,0,0,0]
["Mechanical Subtotals",{"$nulls":7},{"$f":"SUM(I146:I160)","v":0},0,0,0,0,0,0,0,0,0,0,0,0,0,0,0,0,0,0,0,0,0,0]
["(4.14) Other",{"$nulls":12},"Years 1-5",{"$f":"SUM(K170:O170)","v":0},{"$nulls":3},"Years 6-10",{"$f":"SUM(P170:T170)","v":0},{"$nulls":3},"Years 11-15",{"$f":"SUM(U170:Y170)","v":0},{"$nulls":3},"Years 16-20",{"$f":"SUM(Z170:AD170)","v":0}]
["Site Acquisition",{"$nulls":3},"Per Sq. Ft.",{"$nulls":3},{"$f":"ROUNDUP(+G163*H163,-2)","v":0},{"$f":"SUM(K163:AD163)","v":0},{"$f":"ROUNDUP(IF(OR(($D163+$F$6)=K$62,($C163+$D163+$F$6)=K$62,($C163*2+$D163+$F$6)=K$62,($C163*3+$D163+$F$6)=K$62,($C163*4+$D163+$F$6)=K$62,($C163*5+$D163+$F$6)=K$62,($C163*6+$D163+$F$6)=K$62,($C163*7+$D163+$F$6)=K$62,($C163*8+$D163+$F$6)=K$62),$F163*$H163*((1+$J$52)^(K$62-$F$6)),0),-2)","v":0},0,0,0,0,0,0,0,0,0,{"$f":"ROUNDUP(IF(OR(($D163+$F$6)=U$62,($C163+$D163+$F$6)=U$62,($C163*2+$D163+$F$6)=U$62,($C163*3+$D163+$F$6)=U$62,($C163*4+$D163+$F$6)=U$62,($C163*5+$D163+$F$6)=U$62,($C163*6+$D163+$F$6)=U$62,($C163*7+$D163+$F$6)=U$62,($C163*8+$D163+$F$6)=U$62),$F163*$H163*((1+$J$52)^(U$62-$F$6)),0),-2)","v":0},0,0,0,0,0,0,0,0,0,{"$f":"SUM(K163:AD163)-J163","v":0}]
["Other Fees and Costs",{"$nulls":3},"Per Sq. Ft.",{"$nulls":3},0,0,0,0,0,0,0,0,0,0,0,0,0,0,0,0,0,0,0,0,0,0,0]
["Demolition",{"$nulls":3},"Per Sq. Ft.",{"$nulls":3},0,0,0,0,0,0,0,0,0,0,0,0,0,0,0,0,0,0,0,0,0,0,0]
["Dwelling Unit Conversion",{"$nulls":3},"Per Sq. Ft.",{"$nulls":3},0,0,0,0,0,0,0,0,0,0,0,0,0,0,0,0,0,0,0,0,0,0,{"$f":"SUM(K166:AD166)-J166","v":0}]
["Contingency",{"$nulls":3},"Per Sq. Ft.",{"$nulls":3},0,0,{"$f":"ROUNDUP(IF(OR(($D167+$F$6)=K$62,($C167+$D167+$F$6)=K$62,($C167*2+$D167+$F$6)=K$62,($C167*3+$D167+$F$6)=K$62,($C167*4+$D167+$F$6)=K$62,($C167*5+$D167+$F$6)=K$62,($C167*6+$D167+$F$6)=K$62,($C167*7+$D167+$F$6)=K$62,($C167*8+$D167+$F$6)=K$62),$F167*$H167*((1+$J$52)^(K$62-$F$6)),0),-2)","v":0},0,0,0,0,0,0,0,0,0,{"$f":"ROUNDUP(IF(OR(($D167+$F$6)=U$62,($C167+$D167+$F$6)=U$62,($C167*2+$D167+$F$6)=U$62,($C167*3+$D167+$F$6)=U$62,($C167*4+$D167+$F$6)=U$62,($C167*5+$D167+$F$6)=U$62,($C167*6+$D167+$F$6)=U$62,($C167*7+$D167+$F$6)=U$62,($C167*8+$D167+$F$6)=U$62),$F167*$H167*((1+$J$52)^(U$62-$F$6)),0),-2)","v":0},0,0,0,0,0,0,0,0,0,0]
["Other (Specify) ",{"$nulls":7},0,0,0,0,0,0,0,0,0,0,0,0,0,0,0,0,0,0,0,0,0,0,0]
["Other (Specify)",{"$nulls":7},0,0,0,0,0,0,0,0,0,0,0,0,0,0,0,0,0,0,0,0,0,0,0]
["Other Subtotals",{"$nulls":7},{"$f":"SUM(I163:I169)","v":0},0,0,0,0,0,0,0,0,0,0,0,0,0,0,0,0,0,0,0,0,0,0]
["GRAND TOTAL",{"$nulls":7},{"$f":"I170+I161+I144+I82+I98","v":0},{"$f":"J170+J161+J144+J121+J98+J82","v":0},0,0,0,0,0,0,0,0,0,0,0,0,0,0,0,0,0,0,0,0,0]
["(4.15) Special Categories"]
["Amount of PNA Relating to Lead Paint/Asbestos Compliance",{"$nulls":3},"Per Sq. Ft.",{"$nulls":3},{"$f":"ROUNDUP(+G173*H173,-2)","v":0}]
["Amount of PNA Relating to Section 504, ADA, and Fair Housing Act (if applicable) Compliance",{"$nulls":3},"Per Sq. Ft.",{"$nulls":3},{"$f":"ROUNDUP(+G174*H174,-2)","v":0}]
[]
["(4.16) New Construction"]
["Dwelling Units",{"$nulls":3},"Per Sq. Ft.",{"$nulls":3},{"$f":"ROUNDUP(+G177*H177,-2)","v":0}]
["Administrative Building",{"$nulls":3},"Per Sq. Ft.",{"$nulls":3},0]
["Community Building or Facility",{"$nulls":3},"Per Sq. Ft.",{"$nulls":3},0]
["Shop",{"$nulls":3},"Per Sq. Ft.",{"$nulls":3},0]
["Storage Area",{"$nulls":3},"Per Sq. Ft.",{"$nulls":3},0]
["Family Investment Center",{"$nulls":3},"Per Sq. Ft.",{"$nulls":3},0]
["Day Care Center",{"$nulls":3},"Per Sq. Ft.",{"$nulls":3},0]
["Laundry Areas(s)",{"$nulls":3},"Per Sq. Ft.",{"$nulls":3},0]
["Other (Specify) ",{"$nulls":3},"Per Sq. Ft.",{"$nulls":3},0]
["Other (Specify)",{"$nulls":3},"Per Sq. Ft.",{"$nulls":3},0]
["Other (Specify)",{"$nulls":7},0]
["New Construction Subtotals",{"$nulls":7},{"$f":"SUM(I177:I187)","v":0}]

{"sheet":"Tab 12","index":13,"n_rows":188,"n_cols":31,"rows_kept":188,"merged":[[4,2,4,3],[5,2,5,3],[7,0,7,8],[9,1,9,2],[10,1,10,2],[20,3,20,9],[27,0,27,8],[29,8,29,9],[30,8,30,9],[31,8,31,9],[33,6,35,6],[37,4,37,9],[44,0,44,8],[46,0,46,1],[47,0,47,1],[48,0,48,1],[49,0,49,1],[50,0,50,1],[51,0,51,1],[52,0,52,1],[53,0,53,1],[54,0,54,1],[55,0,55,1],[56,0,56,1],[59,0,59,8],[61,0,61,1],[62,0,62,1],[81,0,81,1],[97,0,97,1],[120,0,120,1],[143,0,143,1],[160,0,160,1],[169,0,169,1],[170,0,170,1],[187,0,187,1]]}
["Physical Needs Assessment",{"$nulls":3},"U.S. Department of Housing",{"$nulls":4}," OMB Approval No. 2577-0157"]
["Capital Fund Financing Program/",{"$nulls":3},"and Urban Development",{"$nulls":4}," (exp. 1/31/2017)"]
["Operating Fund Financing Program",{"$nulls":3},"Office of Public and Indian Housing"]
[]
["HA Name",null,"HA Number",null,null,"FY of Assessment",null," Original  ","Date Prepared:"]
[{"$f":"'Tab 1'!A6","v":0},null,{"$f":"'Tab 6'!C6:D6","v":0},{"$nulls":4},"Revision  ","Date Revised:"]
[]
["(1.0) Project Data"]
[]
["(1.1) Management Office Address",{"$nulls":5},"(1.3) Development No.",null,"(1.4) DOFA Date"]
["(1.2) Project Name"]
[{"$nulls":4},"Family"]
[{"$nulls":3},"(1.9)","Elderly",null,null,"(1.10)","S-F Detached"]
["(1.5) Year of Last Substantial Mod",null,null,"Occupancy","Family & Disabled",null,null,"Structure","Semi-Detached"]
["(1.6) Occupancy Rate ",{"$f":"B20/(+B18-B26)","v":{"$error":"#DIV/0!"}},null,"Type(s)","Elderly & Disabled",null,null,"Type(s)","Row or Townhome"]
["        (Rentable Units Only)",null,null,"(Check)","Not Applicable",null,null,"(Check","M-F/Walkup"]
["(1.7) Latest PASS REAC Score",null,null,"all that apply)","Official Designation: Elderly",null,null,"all that","Elevator"]
["Total Units",{"$f":"+B20+B21","v":0},null,null,"Official Designation: Disabled",null,null,"apply)","Non-Dwelling"]
["(1.8) Total Buildings",{"$nulls":3},"Official Designation: Mixed"]
["Occupied Units",{"$f":"SUM(E23:J23)","v":0}]
["Vacant/Rentable Units",{"$f":"SUM(E24:J24)","v":0},null,"(1.11) Bedroom Distribution"]
[{"$nulls":4},"Eff","1BR","2BR","3BR","4BR","5BR+"]
[{"$nulls":3},"(1.11a) Occupied"]
[{"$nulls":3},"(1.11b) Vacant"]
[{"$nulls":3},"Total Units",{"$f":"SUM(E23:E24)","v":0},0,0,0,0,0]
[{"$nulls":3},"Avg Bedrooms per Unit",null,{"$f":"(+E23*1+F23*1+G23*2+H23*3+I23*4+J23*5)/SUM(E23:J23)","v":{"$error":"#DIV/0!"}}]
[]
["(2.0) Physical Needs Assessment Summary Data"]
[]
["(2.1) PNA Conducted By: (PHA/ 3rd Party)",null,"PHA Internally",null,null,"(2.5) Inspector Contact Name: "]
[null,null,"3rd Pary Independent",null,null,"(2.6) Company Name or PHA Title:"]
["(2.2) First Year Covered by PNA",{"$nulls":4},"(2.7) Inspector Contact Phone:"]
["(2.3) Length of PNA (in years)"]
["(2.4) Unit Interiors Inspected (#)",null,{"$f":"SUM(E40:J40)","v":0},{"$nulls":3},"(2.8) Data Source(s) for PNA",null,"Annual Inspections"]
["Units Inspected as % of Total",null,{"$f":"C34/B18","v":{"$error":"#DIV/0!"}},{"$nulls":5},"Contractor"]
["(2.9) Total Residential Buildings",{"$nulls":7},"REAC Inspections"]
["(2.10) Number of Building Exteriors Inspected"]
["(2.11) Total Off-Street Parking Spaces",{"$nulls":3},"(2.14) Units Inspected by Bedroom Size"]
["(2.12) Site Acreage",null,null,"acres","Eff","1BR","2BR","3BR","4BR","5BR+"]
["(2.13) Parking Area (in square feet)",null,null,"SF"]
[]
["(2.15) Physical Improvements Will Result in Structural/System Soundness at a Reasonable Cost",{"$nulls":5},"Yes","No"]
["(2.16) Development Has Long-Term Physical and Social Viability",{"$nulls":5},"Yes","No"]
[]
["(3.0) Total Physical Needs Summary"]
[]
["Major Category",null,"Immediate","Years                       1-5","Years                    6-10","Years                    11-15","Years                   16-20","Total Needs"]
["Site",null,{"$f":"+I82","v":0},{"$f":"$O$63","v":0},{"$f":"$T$63","v":0},{"$f":"$Y$63","v":0},{"$f":"$AD$63","v":0},{"$f":"SUM(C48:G48)","v":0}]
["Common Buildings",null,{"$f":"$I$98","v":0},{"$f":"$O$83","v":0},{"$f":"$T$83","v":0},{"$f":"$Y$83","v":0},{"$f":"$AD$83","v":0},0]
["Unit Exteriors",null,{"$f":"$I$121","v":0},{"$f":"$O$99","v":0},{"$f":"$T$99","v":0},{"$f":"$Y$99","v":0},{"$f":"$AD$99","v":0},0]
["Unit Interiors",null,{"$f":"$I$144","v":0},{"$f":"O122","v":0},{"$f":"T122","v":0},{"$f":"Y122","v":0},{"$f":"AD122","v":0},0]
["Mechanical",null,{"$f":"I161","v":0},{"$f":"O145","v":0},{"$f":"T145","v":0},{"$f":"Y145","v":0},{"$f":"AD145","v":0},0]
["Other",null,{"$f":"I170","v":0},{"$f":"O162","v":0},{"$f":"T162","v":0},{"$f":"Y162","v":0},{"$f":"AD162","v":0},0]
["Totals",null,{"$f":"SUM(C48:C53)","v":0},0,0,0,0,0]
["Amount of PNA relating to Lead Paint/Asbestos",null,{"$f":"I173","v":0},{"$nulls":4},{"$f":"C55","v":0}]
["Amount of PNA relating to Section 504, ADA, and Fair Housing Act (if applicable) Compliance",null,{"$f":"I174","v":0},{"$nulls":4},{"$f":"C56","v":0}]
["New Construction",{"$nulls":6},{"$f":"I188","v":0}]
[{"$nulls":5},"TOTAL PHYSICAL NEEDS",null,{"$f":"H57+H54","v":0}]
[]
["(4.0)Physical Needs Cost Estimate"]
[]
["(4.1) Category",null,"(4.2) Estimated Useful Life","(4.3)                Useful Life Remaining","(4.4)             Method","(4.5)                   Total          Quantity","(4.6)             Current Needs Quantity","(4.7)                Cost per      Quantity","(4.8)         Immediate Repairs Needed","Total Long Term Needs",{"$f":"+F6+1","v":1},{"$f":"1+K62","v":2},3,4,5,6,7,8,9,10,11,12,13,14,15,16,17,18,19,20]
["(4.9) Site",null,"(in yrs)","(in yrs)",{"$nulls":9},"Years 1-5",{"$f":"SUM(K82:O82)","v":0},{"$nulls":3},"Years 6-10",{"$f":"SUM(P82:T82)","v":0},{"$nulls":3},"Years 11-15",{"$f":"SUM(U82:Y82)","v":0},{"$nulls":3},"Years 16-20",{"$f":"SUM(Z82:AD82)","v":0}]
["Asphalt/Concrete",{"$nulls":3},"Per Sq. Ft.",{"$nulls":3},{"$f":"ROUNDUP(+G64*H64,-2)","v":0},{"$f":"SUM(K64:AD64)","v":0},{"$f":"ROUNDUP(IF(OR(($D64+$F$6)=K$62,($C64+$D64+$F$6)=K$62,($C64*2+$D64+$F$6)=K$62,($C64*3+$D64+$F$6)=K$62,($C64*4+$D64+$F$6)=K$62,($C64*5+$D64+$F$6)=K$62,($C64*6+$D64+$F$6)=K$62,($C64*7+$D64+$F$6)=K$62,($C64*8+$D64+$F$6)=K$62),$F64*$H64*((1+$J$52)^(K$62-$F$6)),0),-2)","v":0},0,0,0,0,0,0,0,0,0,{"$f":"ROUNDUP(IF(OR(($D64+$F$6)=U$62,($C64+$D64+$F$6)=U$62,($C64*2+$D64+$F$6)=U$62,($C64*3+$D64+$F$6)=U$62,($C64*4+$D64+$F$6)=U$62,($C64*5+$D64+$F$6)=U$62,($C64*6+$D64+$F$6)=U$62,($C64*7+$D64+$F$6)=U$62,($C64*8+$D64+$F$6)=U$62),$F64*$H64*((1+$J$52)^(U$62-$F$6)),0),-2)","v":0},0,0,0,0,0,0,0,0,0,{"$f":"SUM(K64:AD64)-J64","v":0}]
["Seal Coat",{"$nulls":3},"Per Sq. Ft.",{"$nulls":3},0,0,0,0,0,0,0,0,0,0,0,0,0,0,0,0,0,0,0,0,0,0,0]
["Striping",{"$nulls":3},"Per Sq. Ft.",{"$nulls":3},0,0,0,0,0,0,0,0,0,0,0,0,0,0,0,0,0,0,0,0,0,0,0]
["Curb & Gutter",{"$nulls":3},"Per Sq. Ft.",{"$nulls":3},0,0,0,0,0,0,0,0,0,0,0,0,0,0,0,0,0,0,0,0,0,0,0]
["Pedestrian paving",{"$nulls":3},"Per Sq. Ft.",{"$nulls":3},0,0,0,0,0,0,0,0,0,0,0,0,0,0,0,0,0,0,0,0,0,0,0]
["Signage",{"$nulls":3},"Per Sq. Ft.",{"$nulls":3},0,0,0,0,0,0,0,0,0,0,0,0,0,0,0,0,0,0,0,0,0,0,0]
["Water Lines/Mains",{"$nulls":3},"Per Sq. Ft.",{"$nulls":3},0,0,0,0,0,0,0,0,0,0,0,0,0,0,0,0,0,0,0,0,0,0,0]
["Sewer Lines/Mains",{"$nulls":3},"Per Sq. Ft.",{"$nulls":3},0,0,0,0,0,0,0,0,0,0,0,0,0,0,0,0,0,0,0,0,0,0,0]
["Lighting",{"$nulls":3},"Per Sq. Ft.",{"$nulls":3},0,0,0,0,0,0,0,0,0,0,0,0,0,0,0,0,0,0,0,0,0,0,0]
["Storm Drainage",{"$nulls":3},"Per Sq. Ft.",{"$nulls":3},0,0,0,0,0,0,0,0,0,0,0,0,0,0,0,0,0,0,0,0,0,0,0]
["Landscape",{"$nulls":3},"Per Sq. Ft.",{"$nulls":3},0,0,{"$f":"ROUNDUP(IF(OR(($D74+$F$6)=K$62,($C74+$D74+$F$6)=K$62,($C74*2+$D74+$F$6)=K$62,($C74*3+$D74+$F$6)=K$62,($C74*4+$D74+$F$6)=K$62,($C74*5+$D74+$F$6)=K$62,($C74*6+$D74+$F$6)=K$62,($C74*7+$D74+$F$6)=K$62,($C74*8+$D74+$F$6)=K$62),$F74*$H74*((1+$J$52)^(K$62-$F$6)),0),-2)","v":0},0,0,0,0,0,0,0,0,0,{"$f":"ROUNDUP(IF(OR(($D74+$F$6)=U$62,($C74+$D74+$F$6)=U$62,($C74*2+$D74+$F$6)=U$62,($C74*3+$D74+$F$6)=U$62,($C74*4+$D74+$F$6)=U$62,($C74*5+$D74+$F$6)=U$62,($C74*6+$D74+$F$6)=U$62,($C74*7+$D74+$F$6)=U$62,($C74*8+$D74+$F$6)=U$62),$F74*$H74*((1+$J$52)^(U$62-$F$6)),0),-2)","v":0},0,0,0,0,0,0,0,0,0,0]
["Fencing",{"$nulls":3},"Per Sq. Ft.",{"$nulls":3},0,0,0,0,0,0,0,0,0,0,0,0,0,0,0,0,0,0,0,0,0,0,0]
["Fence Painting",{"$nulls":3},"Per Sq. Ft.",{"$nulls":3},0,0,0,0,0,0,0,0,0,0,0,0,0,0,0,0,0,0,0,0,0,0,0]
["Dumpsters & Enclosures",{"$nulls":3},"Per Sq. Ft.",{"$nulls":3},0,0,0,0,0,0,0,0,0,0,0,0,0,0,0,0,0,0,0,0,0,0,0]
["Electric Distribution",{"$nulls":3},"Per Sq. Ft.",{"$nulls":3},0,0,0,0,0,0,0,0,0,0,0,0,0,0,0,0,0,0,0,0,0,0,0]
["Playground Areas/Equipment",{"$nulls":3},"Per Sq. Ft.",{"$nulls":3},0,0,0,0,0,0,0,0,0,0,0,0,0,0,0,0,0,0,0,0,0,0,0]
["Other (Specify)",{"$nulls":7},0,0,0,0,0,0,0,0,0,0,0,0,0,0,0,0,0,0,0,0,0,0,0]
["Other (Specify)",{"$nulls":7},0,0,0,0,0,0,0,0,0,0,0,0,0,0,0,0,0,0,0,0,0,0,0]
["Site Subtotals",{"$nulls":7},{"$f":"SUM(I64:I81)","v":0},0,0,0,0,0,0,0,0,0,0,0,0,0,0,0,0,0,0,0,0,0,0]
["(4.10) Common Buildings--Rehab Only",{"$nulls":12},"Years 1-5",{"$f":"SUM(K98:O98)","v":0},{"$nulls":3},"Years 6-10",{"$f":"SUM(P98:T98)","v":0},{"$nulls":3},"Years 11-15",{"$f":"SUM(T98:X98)","v":0},{"$nulls":3},"Years 16-20",{"$f":"SUM(Y98:AC98)","v":0}]
["Administrative Building",{"$nulls":3},"Per Sq. Ft.",{"$nulls":3},{"$f":"ROUNDUP(+G84*H84,-2)","v":0},{"$f":"SUM(K84:AD84)","v":0},{"$f":"ROUNDUP(IF(OR(($D84+$F$6)=K$62,($C84+$D84+$F$6)=K$62,($C84*2+$D84+$F$6)=K$62,($C84*3+$D84+$F$6)=K$62,($C84*4+$D84+$F$6)=K$62,($C84*5+$D84+$F$6)=K$62,($C84*6+$D84+$F$6)=K$62,($C84*7+$D84+$F$6)=K$62,($C84*8+$D84+$F$6)=K$62),$F84*$H84*((1+$J$52)^(K$62-$F$6)),0),-2)","v":0},0,0,0,0,0,0,0,0,0,{"$f":"ROUNDUP(IF(OR(($D84+$F$6)=U$62,($C84+$D84+$F$6)=U$62,($C84*2+$D84+$F$6)=U$62,($C84*3+$D84+$F$6)=U$62,($C84*4+$D84+$F$6)=U$62,($C84*5+$D84+$F$6)=U$62,($C84*6+$D84+$F$6)=U$62,($C84*7+$D84+$F$6)=U$62,($C84*8+$D84+$F$6)=U$62),$F84*$H84*((1+$J$52)^(U$62-$F$6)),0),-2)","v":0},0,0,0,0,0,0,0,0,0,{"$f":"SUM(K84:AD84)-J84","v":0}]
["Community Building",{"$nulls":3},"Per Sq. Ft.",{"$nulls":3},0,0,0,0,0,0,0,0,0,0,0,0,0,0,0,0,0,0,0,0,0,0,0]
["Shop",{"$nulls":3},"Per Sq. Ft.",{"$nulls":3},0,0,0,0,0,0,0,0,0,0,0,0,0,0,0,0,0,0,0,0,0,0,0]
["Storage Area",{"$nulls":3},"Per Sq. Ft.",{"$nulls":3},0,0,0,0,0,0,0,0,0,0,0,0,0,0,0,0,0,0,0,0,0,0,0]
["Central Boiler",{"$nulls":3},"Per Sq. Ft.",{"$nulls":3},0,0,0,0,0,0,0,0,0,0,0,0,0,0,0,0,0,0,0,0,0,0,0]
["Central Chiller",{"$nulls":3},"Per Sq. Ft.",{"$nulls":3},0,0,0,0,0,0,0,0,0,0,0,0,0,0,0,0,0,0,0,0,0,0,0]
["Family Invesment Center",{"$nulls":3},"Per Sq. Ft.",{"$nulls":3},0,0,0,0,0,0,0,0,0,0,0,0,0,0,0,0,0,0,0,0,0,0,0]
["Day Care Center",{"$nulls":3},"Per Sq. Ft.",{"$nulls":3},0,0,0,0,0,0,0,0,0,0,0,0,0,0,0,0,0,0,0,0,0,0,0]
["Laundry Areas",{"$nulls":3},"Per Sq. Ft.",{"$nulls":3},0,0,{"$f":"ROUNDUP(IF(OR(($D92+$F$6)=K$62,($C92+$D92+$F$6)=K$62,($C92*2+$D92+$F$6)=K$62,($C92*3+$D92+$F$6)=K$62,($C92*4+$D92+$F$6)=K$62,($C92*5+$D92+$F$6)=K$62,($C92*6+$D92+$F$6)=K$62,($C92*7+$D92+$F$6)=K$62,($C92*8+$D92+$F$6)=K$62),$F92*$H92*((1+$J$52)^(K$62-$F$6)),0),-2)","v":0},0,0,0,0,0,0,0,0,0,{"$f":"ROUNDUP(IF(OR(($D92+$F$6)=U$62,($C92+$D92+$F$6)=U$62,($C92*2+$D92+$F$6)=U$62,($C92*3+$D92+$F$6)=U$62,($C92*4+$D92+$F$6)=U$62,($C92*5+$D92+$F$6)=U$62,($C92*6+$D92+$F$6)=U$62,($C92*7+$D92+$F$6)=U$62,($C92*8+$D92+$F$6)=U$62),$F92*$H92*((1+$J$52)^(U$62-$F$6)),0),-2)","v":0},0,0,0,0,0,0,0,0,0,0]
["Common Area Washers",{"$nulls":3},"Per Sq. Ft.",{"$nulls":3},0,0,0,0,0,0,0,0,0,0,0,0,0,0,0,0,0,0,0,0,0,0,0]
["Common Area Dryers",{"$nulls":3},"Per Sq. Ft.",{"$nulls":3},0,0,0,0,0,0,0,0,0,0,0,0,0,0,0,0,0,0,0,0,0,0,0]
["Common Area Finishes",{"$nulls":3},"Per Sq. Ft.",{"$nulls":3},0,0,0,0,0,0,0,0,0,0,0,0,0,0,0,0,0,0,0,0,0,0,0]
["Other (Specify)",{"$nulls":7},0,0,0,0,0,0,0,0,0,0,0,0,0,0,0,0,0,0,0,0,0,0,0]
["Other (Specify)",{"$nulls":7},0,0,0,0,0,0,0,0,0,0,0,0,0,0,0,0,0,0,0,0,0,0,0]
["Common Subtotals",{"$nulls":7},{"$f":"SUM(I84:I97)","v":0},0,0,0,0,0,0,0,0,0,0,0,0,0,0,0,0,0,0,0,0,0,0]
["(4.11) Unit Exteriors",{"$nulls":12},"Years 1-5",{"$f":"SUM(K121:O121)","v":0},{"$nulls":3},"Years 6-10",{"$f":"SUM(P121:T121)","v":0},{"$nulls":3},"Years 11-15",{"$f":"SUM(U121:Y121)","v":0},{"$nulls":3},"Years 16-20",{"$f":"SUM(Z121:AD121)","v":0}]
["Carports/Surface Garage",{"$nulls":3},"Per Sq. Ft.",{"$nulls":3},{"$f":"ROUNDUP(+G100*H100,-2)","v":0},{"$f":"SUM(K100:AD100)","v":0},{"$f":"ROUNDUP(IF(OR(($D100+$F$6)=K$62,($C100+$D100+$F$6)=K$62,($C100*2+$D100+$F$6)=K$62,($C100*3+$D100+$F$6)=K$62,($C100*4+$D100+$F$6)=K$62,($C100*5+$D100+$F$6)=K$62,($C100*6+$D100+$F$6)=K$62,($C100*7+$D100+$F$6)=K$62,($C100*8+$D100+$F$6)=K$62),$F100*$H100*((1+$J$52)^(K$62-$F$6)),0),-2)","v":0},0,0,0,0,0,0,0,0,0,{"$f":"ROUNDUP(IF(OR(($D100+$F$6)=U$62,($C100+$D100+$F$6)=U$62,($C100*2+$D100+$F$6)=U$62,($C100*3+$D100+$F$6)=U$62,($C100*4+$D100+$F$6)=U$62,($C100*5+$D100+$F$6)=U$62,($C100*6+$D100+$F$6)=U$62,($C100*7+$D100+$F$6)=U$62,($C100*8+$D100+$F$6)=U$62),$F100*$H100*((1+$J$52)^(U$62-$F$6)),0),-2)","v":0},0,0,0,0,0,0,0,0,0,{"$f":"SUM(K100:AD100)-J100","v":0}]
["Foundation",{"$nulls":3},"Per Sq. Ft.",{"$nulls":3},0,0,0,0,0,0,0,0,0,0,0,0,0,0,0,0,0,0,0,0,0,0,0]
["Building Slab",{"$nulls":3},"Per Sq. Ft.",{"$nulls":3},0,0,0,0,0,0,0,0,0,0,0,0,0,0,0,0,0,0,0,0,0,0,0]
["Roofs",{"$nulls":3},"Per Sq. Ft.",{"$nulls":3},0,0,0,0,0,0,0,0,0,0,0,0,0,0,0,0,0,0,0,0,0,0,0]
["Canopies",{"$nulls":3},"Per Sq. Ft.",{"$nulls":3},0,0,0,0,0,0,0,0,0,0,0,0,0,0,0,0,0,0,0,0,0,0,0]
["Tuck-Pointing",{"$nulls":3},"Per Sq. Ft.",{"$nulls":3},0,0,0,0,0,0,0,0,0,0,0,0,0,0,0,0,0,0,0,0,0,0,0]
["Exterior Paint & Caulking",{"$nulls":3},"Per Sq. Ft.",{"$nulls":3},0,0,0,0,0,0,0,0,0,0,0,0,0,0,0,0,0,0,0,0,0,0,0]
["Soffits",{"$nulls":3},"Per Sq. Ft.",{"$nulls":3},0,0,0,0,0,0,0,0,0,0,0,0,0,0,0,0,0,0,0,0,0,0,0]
["Siding",{"$nulls":3},"Per Sq. Ft.",{"$nulls":3},0,0,0,0,0,0,0,0,0,0,0,0,0,0,0,0,0,0,0,0,0,0,0]
["Exterior Stairwells/Fire Escapes",{"$nulls":3},"Per Sq. Ft.",{"$nulls":3},0,0,0,0,0,0,0,0,0,0,0,0,0,0,0,0,0,0,0,0,0,0,0]
["Landings & Railings",{"$nulls":3},"Per Sq. Ft.",{"$nulls":3},0,0,{"$f":"ROUNDUP(IF(OR(($D110+$F$6)=K$62,($C110+$D110+$F$6)=K$62,($C110*2+$D110+$F$6)=K$62,($C110*3+$D110+$F$6)=K$62,($C110*4+$D110+$F$6)=K$62,($C110*5+$D110+$F$6)=K$62,($C110*6+$D110+$F$6)=K$62,($C110*7+$D110+$F$6)=K$62,($C110*8+$D110+$F$6)=K$62),$F110*$H110*((1+$J$52)^(K$62-$F$6)),0),-2)","v":0},0,0,0,0,0,0,0,0,0,{"$f":"ROUNDUP(IF(OR(($D110+$F$6)=U$62,($C110+$D110+$F$6)=U$62,($C110*2+$D110+$F$6)=U$62,($C110*3+$D110+$F$6)=U$62,($C110*4+$D110+$F$6)=U$62,($C110*5+$D110+$F$6)=U$62,($C110*6+$D110+$F$6)=U$62,($C110*7+$D110+$F$6)=U$62,($C110*8+$D110+$F$6)=U$62),$F110*$H110*((1+$J$52)^(U$62-$F$6)),0),-2)","v":0},0,0,0,0,0,0,0,0,0,0]
["Balconies & Railings",{"$nulls":3},"Per Sq. Ft.",{"$nulls":3},0,0,0,0,0,0,0,0,0,0,0,0,0,0,0,0,0,0,0,0,0,0,0]
["Mail Facilities",{"$nulls":3},"Per Sq. Ft.",{"$nulls":3},0,0,0,0,0,0,0,0,0,0,0,0,0,0,0,0,0,0,0,0,0,0,0]
["Exterior Doors",{"$nulls":3},"Per Sq. Ft.",{"$nulls":3},0,0,0,0,0,0,0,0,0,0,0,0,0,0,0,0,0,0,0,0,0,0,0]
["Windows",{"$nulls":3},"Per Sq. Ft.",{"$nulls":3},0,0,0,0,0,0,0,0,0,0,0,0,0,0,0,0,0,0,0,0,0,0,0]
["Gutters/Downspouts",{"$nulls":3},"Per Sq. Ft.",{"$nulls":3},0,0,0,0,0,0,0,0,0,0,0,0,0,0,0,0,0,0,0,0,0,0,0]
["Columns & Porches",{"$nulls":3},"Per Sq. Ft.",{"$nulls":3},0,0,0,0,0,0,0,0,0,0,0,0,0,0,0,0,0,0,0,0,0,0,0]
["Decks & Patios",{"$nulls":3},"Per Sq. Ft.",{"$nulls":3},0,0,0,0,0,0,0,0,0,0,0,0,0,0,0,0,0,0,0,0,0,0,0]
["Exterior Lighting",{"$nulls":3},"Per Sq. Ft.",{"$nulls":3},0,0,0,0,0,0,0,0,0,0,0,0,0,0,0,0,0,0,0,0,0,0,0]
["Other (Specify)",{"$nulls":7},0,0,0,0,0,0,0,0,0,0,0,0,0,0,0,0,0,0,0,0,0,0,0]
["Other (Specify)",{"$nulls":7},0,0,0,0,0,0,0,0,0,0,0,0,0,0,0,0,0,0,0,0,0,0,0]
["Unit Exterior Subtotals",{"$nulls":7},{"$f":"SUM(I100:I120)","v":0},0,0,0,0,0,0,0,0,0,0,0,0,0,0,0,0,0,0,0,0,0,0]
["(4.12) Unit Interiors",{"$nulls":12},"Years 1-5",{"$f":"SUM(K144:O144)","v":0},{"$nulls":3},"Years 6-10",{"$f":"SUM(P144:T144)","v":0},{"$nulls":3},"Years 11-15",{"$f":"SUM(U144:Y144)","v":0},{"$nulls":3},"Years 16-20",{"$f":"SUM(Z144:AD144)","v":0}]
["Interior Painting (non routine)",{"$nulls":3},"Per Sq. Ft.",{"$nulls":3},{"$f":"ROUNDUP(+G123*H123,-2)","v":0},{"$f":"SUM(K123:AD123)","v":0},{"$f":"ROUNDUP(IF(OR(($D123+$F$6)=K$62,($C123+$D123+$F$6)=K$62,($C123*2+$D123+$F$6)=K$62,($C123*3+$D123+$F$6)=K$62,($C123*4+$D123+$F$6)=K$62,($C123*5+$D123+$F$6)=K$62,($C123*6+$D123+$F$6)=K$62,($C123*7+$D123+$F$6)=K$62,($C123*8+$D123+$F$6)=K$62),$F123*$H123*((1+$J$52)^(K$62-$F$6)),0),-2)","v":0},0,0,0,0,0,0,0,0,0,{"$f":"ROUNDUP(IF(OR(($D123+$F$6)=U$62,($C123+$D123+$F$6)=U$62,($C123*2+$D123+$F$6)=U$62,($C123*3+$D123+$F$6)=U$62,($C123*4+$D123+$F$6)=U$62,($C123*5+$D123+$F$6)=U$62,($C123*6+$D123+$F$6)=U$62,($C123*7+$D123+$F$6)=U$62,($C123*8+$D123+$F$6)=U$62),$F123*$H123*((1+$J$52)^(U$62-$F$6)),0),-2)","v":0},0,0,0,0,0,0,0,0,0,{"$f":"SUM(K123:AD123)-J123","v":0}]
["Interior Doors",{"$nulls":3},"Per Sq. Ft.",{"$nulls":3},0,0,0,0,0,0,0,0,0,0,0,0,0,0,0,0,0,0,0,0,0,0,0]
["Flooring (non routine)",{"$nulls":3},"Per Sq. Ft.",{"$nulls":3},0,0,0,0,0,0,0,0,0,0,0,0,0,0,0,0,0,0,0,0,0,0,0]
["Shower/Tub Surrounds",{"$nulls":3},"Per Sq. Ft.",{"$nulls":3},0,0,0,0,0,0,0,0,0,0,0,0,0,0,0,0,0,0,0,0,0,0,0]
["Commodes",{"$nulls":3},"Per Sq. Ft.",{"$nulls":3},0,0,0,0,0,0,0,0,0,0,0,0,0,0,0,0,0,0,0,0,0,0,0]
["Vanities",{"$nulls":3},"Per Sq. Ft.",{"$nulls":3},0,0,0,0,0,0,0,0,0,0,0,0,0,0,0,0,0,0,0,0,0,0,0]
["Faucets",{"$nulls":3},"Per Sq. Ft.",{"$nulls":3},0,0,0,0,0,0,0,0,0,0,0,0,0,0,0,0,0,0,0,0,0,0,0]
["Bathroom Flooring (non cyclical)",{"$nulls":3},"Per Sq. Ft.",{"$nulls":3},0,0,0,0,0,0,0,0,0,0,0,0,0,0,0,0,0,0,0,0,0,0,0]
["Kitchen Cabinets",{"$nulls":3},"Per Sq. Ft.",{"$nulls":3},0,0,0,0,0,0,0,0,0,0,0,0,0,0,0,0,0,0,0,0,0,0,0]
["Ranges",{"$nulls":3},"Per Sq. Ft.",{"$nulls":3},0,0,0,0,0,0,0,0,0,0,0,0,0,0,0,0,0,0,0,0,0,0,0]
["Range Hoods",{"$nulls":3},"Per Sq. Ft.",{"$nulls":3},0,0,{"$f":"ROUNDUP(IF(OR(($D133+$F$6)=K$62,($C133+$D133+$F$6)=K$62,($C133*2+$D133+$F$6)=K$62,($C133*3+$D133+$F$6)=K$62,($C133*4+$D133+$F$6)=K$62,($C133*5+$D133+$F$6)=K$62,($C133*6+$D133+$F$6)=K$62,($C133*7+$D133+$F$6)=K$62,($C133*8+$D133+$F$6)=K$62),$F133*$H133*((1+$J$52)^(K$62-$F$6)),0),-2)","v":0},0,0,0,0,0,0,0,0,0,{"$f":"ROUNDUP(IF(OR(($D133+$F$6)=U$62,($C133+$D133+$F$6)=U$62,($C133*2+$D133+$F$6)=U$62,($C133*3+$D133+$F$6)=U$62,($C133*4+$D133+$F$6)=U$62,($C133*5+$D133+$F$6)=U$62,($C133*6+$D133+$F$6)=U$62,($C133*7+$D133+$F$6)=U$62,($C133*8+$D133+$F$6)=U$62),$F133*$H133*((1+$J$52)^(U$62-$F$6)),0),-2)","v":0},0,0,0,0,0,0,0,0,0,0]
["Refrigerators",{"$nulls":3},"Per Sq. Ft.",{"$nulls":3},0,0,0,0,0,0,0,0,0,0,0,0,0,0,0,0,0,0,0,0,0,0,0]
["Counters and Sinks",{"$nulls":3},"Per Sq. Ft.",{"$nulls":3},0,0,0,0,0,0,0,0,0,0,0,0,0,0,0,0,0,0,0,0,0,0,0]
["Dishwasher",{"$nulls":3},"Per Sq. Ft.",{"$nulls":3},0,0,0,0,0,0,0,0,0,0,0,0,0,0,0,0,0,0,0,0,0,0,0]
["Microwave",{"$nulls":3},"Per Sq. Ft.",{"$nulls":3},0,0,0,0,0,0,0,0,0,0,0,0,0,0,0,0,0,0,0,0,0,0,0]
["Washing Machines",{"$nulls":3},"Per Sq. Ft.",{"$nulls":3},0,0,0,0,0,0,0,0,0,0,0,0,0,0,0,0,0,0,0,0,0,0,0]
["Dryers",{"$nulls":3},"Per Sq. Ft.",{"$nulls":3},0,0,0,0,0,0,0,0,0,0,0,0,0,0,0,0,0,0,0,0,0,0,0]
["Call-for-Aid Systems",{"$nulls":7},0,0,0,0,0,0,0,0,0,0,0,0,0,0,0,0,0,0,0,0,0,0,0]
["Stairs and Handrails",{"$nulls":7},0,0,0,0,0,0,0,0,0,0,0,0,0,0,0,0,0,0,0,0,0,0,0]
["Other (Specify)",{"$nulls":7},0,0,0,0,0,0,0,0,0,0,0,0,0,0,0,0,0,0,0,0,0,0,0]
["Other (Specify)",{"$nulls":7},0,0,0,0,0,0,0,0,0,0,0,0,0,0,0,0,0,0,0,0,0,0,0]
["Unit Interior Subtotals",{"$nulls":7},{"$f":"SUM(I123:I143)","v":0},0,0,0,0,0,0,0,0,0,0,0,0,0,0,0,0,0,0,0,0,0,0]
["(4.13) Mechanical",{"$nulls":12},"Years 1-5",{"$f":"SUM(K161:O161)","v":0},{"$nulls":3},"Years 6-10",{"$f":"SUM(P161:T161)","v":0},{"$nulls":3},"Years 11-15",{"$f":"SUM(U161:Y161)","v":0},{"$nulls":3},"Years 16-20",{"$f":"SUM(Z161:AD161)","v":0}]
["Water Distribution",{"$nulls":3},"Per Sq. Ft.",{"$nulls":3},{"$f":"ROUNDUP(+G146*H146,-2)","v":0},{"$f":"SUM(K146:AD146)","v":0},{"$f":"ROUNDUP(IF(OR(($D146+$F$6)=K$62,($C146+$D146+$F$6)=K$62,($C146*2+$D146+$F$6)=K$62,($C146*3+$D146+$F$6)=K$62,($C146*4+$D146+$F$6)=K$62,($C146*5+$D146+$F$6)=K$62,($C146*6+$D146+$F$6)=K$62,($C146*7+$D146+$F$6)=K$62,($C146*8+$D146+$F$6)=K$62),$F146*$H146*((1+$J$52)^(K$62-$F$6)),0),-2)","v":0},0,0,0,0,0,0,0,0,0,{"$f":"ROUNDUP(IF(OR(($D146+$F$6)=U$62,($C146+$D146+$F$6)=U$62,($C146*2+$D146+$F$6)=U$62,($C146*3+$D146+$F$6)=U$62,($C146*4+$D146+$F$6)=U$62,($C146*5+$D146+$F$6)=U$62,($C146*6+$D146+$F$6)=U$62,($C146*7+$D146+$F$6)=U$62,($C146*8+$D146+$F$6)=U$62),$F146*$H146*((1+$J$52)^(U$62-$F$6)),0),-2)","v":0},0,0,0,0,0,0,0,0,0,{"$f":"SUM(K146:AD146)-J146","v":0}]
["Heating Equipt/System",{"$nulls":3},"Per Sq. Ft.",{"$nulls":3},0,0,0,0,0,0,0,0,0,0,0,0,0,0,0,0,0,0,0,0,0,0,0]
["Electric Disribution",{"$nulls":3},"Per Sq. Ft.",{"$nulls":3},0,0,0,0,0,0,0,0,0,0,0,0,0,0,0,0,0,0,0,0,0,0,0]
["Hot Water Heaters",{"$nulls":3},"Per Sq. Ft.",{"$nulls":3},0,0,0,0,0,0,0,0,0,0,0,0,0,0,0,0,0,0,0,0,0,0,0]
["Unit Sub-panels",{"$nulls":3},"Per Sq. Ft.",{"$nulls":3},0,0,0,0,0,0,0,0,0,0,0,0,0,0,0,0,0,0,0,0,0,0,0]
["Trash Compactor",{"$nulls":3},"Per Sq. Ft.",{"$nulls":3},0,0,0,0,0,0,0,0,0,0,0,0,0,0,0,0,0,0,0,0,0,0,0]
["Cooling Equipt/Systems",{"$nulls":3},"Per Sq. Ft.",{"$nulls":3},0,0,0,0,0,0,0,0,0,0,0,0,0,0,0,0,0,0,0,0,0,0,0]
["Smoke/Fire Detection",{"$nulls":3},"Per Sq. Ft.",{"$nulls":3},0,0,0,0,0,0,0,0,0,0,0,0,0,0,0,0,0,0,0,0,0,0,0]
["Unit Reconfiguration",{"$nulls":3},"Per Sq. Ft.",{"$nulls":3},0,0,0,0,0,0,0,0,0,0,0,0,0,0,0,0,0,0,0,0,0,0,0]
["Security/Fire Alarm",{"$nulls":3},"Per Sq. Ft.",{"$nulls":3},0,0,0,0,0,0,0,0,0,0,0,0,0,0,0,0,0,0,0,0,0,0,0]
["Fire Suspression System",{"$nulls":3},"Per Sq. Ft.",{"$nulls":3},0,0,0,0,0,0,0,0,0,0,0,0,0,0,0,0,0,0,0,0,0,0,0]
["Generator",{"$nulls":3},"Per Sq. Ft.",{"$nulls":3},0,0,0,0,0,0,0,0,0,0,0,0,0,0,0,0,0,0,0,0,0,0,0]
["Elevator",{"$nulls":3},"Per Sq. Ft.",{"$nulls":3},0,0,0,0,0,0,0,0,0,0,0,0,0,0,0,0,0,0,0,0,0,0,0]
["Other (Specify) ",{"$nulls":7},0,0,0,0,0,0,0,0,0,0,0,0,0,0,0,0,0,0,0,0,0,0,0]
["Other (Specify)",{"$nulls":7},0,0,0,0,0,0,0,0,0,0,0,0,0,0,0,0,0,0,0,0,0,0,0]
["Mechanical Subtotals",{"$nulls":7},{"$f":"SUM(I146:I160)","v":0},0,0,0,0,0,0,0,0,0,0,0,0,0,0,0,0,0,0,0,0,0,0]
["(4.14) Other",{"$nulls":12},"Years 1-5",{"$f":"SUM(K170:O170)","v":0},{"$nulls":3},"Years 6-10",{"$f":"SUM(P170:T170)","v":0},{"$nulls":3},"Years 11-15",{"$f":"SUM(U170:Y170)","v":0},{"$nulls":3},"Years 16-20",{"$f":"SUM(Z170:AD170)","v":0}]
["Site Acquisition",{"$nulls":3},"Per Sq. Ft.",{"$nulls":3},{"$f":"ROUNDUP(+G163*H163,-2)","v":0},{"$f":"SUM(K163:AD163)","v":0},{"$f":"ROUNDUP(IF(OR(($D163+$F$6)=K$62,($C163+$D163+$F$6)=K$62,($C163*2+$D163+$F$6)=K$62,($C163*3+$D163+$F$6)=K$62,($C163*4+$D163+$F$6)=K$62,($C163*5+$D163+$F$6)=K$62,($C163*6+$D163+$F$6)=K$62,($C163*7+$D163+$F$6)=K$62,($C163*8+$D163+$F$6)=K$62),$F163*$H163*((1+$J$52)^(K$62-$F$6)),0),-2)","v":0},0,0,0,0,0,0,0,0,0,{"$f":"ROUNDUP(IF(OR(($D163+$F$6)=U$62,($C163+$D163+$F$6)=U$62,($C163*2+$D163+$F$6)=U$62,($C163*3+$D163+$F$6)=U$62,($C163*4+$D163+$F$6)=U$62,($C163*5+$D163+$F$6)=U$62,($C163*6+$D163+$F$6)=U$62,($C163*7+$D163+$F$6)=U$62,($C163*8+$D163+$F$6)=U$62),$F163*$H163*((1+$J$52)^(U$62-$F$6)),0),-2)","v":0},0,0,0,0,0,0,0,0,0,{"$f":"SUM(K163:AD163)-J163","v":0}]
["Other Fees and Costs",{"$nulls":3},"Per Sq. Ft.",{"$nulls":3},0,0,0,0,0,0,0,0,0,0,0,0,0,0,0,0,0,0,0,0,0,0,0]
["Demolition",{"$nulls":3},"Per Sq. Ft.",{"$nulls":3},0,0,0,0,0,0,0,0,0,0,0,0,0,0,0,0,0,0,0,0,0,0,0]
["Dwelling Unit Conversion",{"$nulls":3},"Per Sq. Ft.",{"$nulls":3},0,0,0,0,0,0,0,0,0,0,0,0,0,0,0,0,0,0,0,0,0,0,{"$f":"SUM(K166:AD166)-J166","v":0}]
["Contingency",{"$nulls":3},"Per Sq. Ft.",{"$nulls":3},0,0,{"$f":"ROUNDUP(IF(OR(($D167+$F$6)=K$62,($C167+$D167+$F$6)=K$62,($C167*2+$D167+$F$6)=K$62,($C167*3+$D167+$F$6)=K$62,($C167*4+$D167+$F$6)=K$62,($C167*5+$D167+$F$6)=K$62,($C167*6+$D167+$F$6)=K$62,($C167*7+$D167+$F$6)=K$62,($C167*8+$D167+$F$6)=K$62),$F167*$H167*((1+$J$52)^(K$62-$F$6)),0),-2)","v":0},0,0,0,0,0,0,0,0,0,{"$f":"ROUNDUP(IF(OR(($D167+$F$6)=U$62,($C167+$D167+$F$6)=U$62,($C167*2+$D167+$F$6)=U$62,($C167*3+$D167+$F$6)=U$62,($C167*4+$D167+$F$6)=U$62,($C167*5+$D167+$F$6)=U$62,($C167*6+$D167+$F$6)=U$62,($C167*7+$D167+$F$6)=U$62,($C167*8+$D167+$F$6)=U$62),$F167*$H167*((1+$J$52)^(U$62-$F$6)),0),-2)","v":0},0,0,0,0,0,0,0,0,0,0]
["Other (Specify) ",{"$nulls":7},0,0,0,0,0,0,0,0,0,0,0,0,0,0,0,0,0,0,0,0,0,0,0]
["Other (Specify)",{"$nulls":7},0,0,0,0,0,0,0,0,0,0,0,0,0,0,0,0,0,0,0,0,0,0,0]
["Other Subtotals",{"$nulls":7},{"$f":"SUM(I163:I169)","v":0},0,0,0,0,0,0,0,0,0,0,0,0,0,0,0,0,0,0,0,0,0,0]
["GRAND TOTAL",{"$nulls":7},{"$f":"I170+I161+I144+I82+I98","v":0},{"$f":"J170+J161+J144+J121+J98+J82","v":0},0,0,0,0,0,0,0,0,0,0,0,0,0,0,0,0,0,0,0,0,0]
["(4.15) Special Categories"]
["Amount of PNA Relating to Lead Paint/Asbestos Compliance",{"$nulls":3},"Per Sq. Ft.",{"$nulls":3},{"$f":"ROUNDUP(+G173*H173,-2)","v":0}]
["Amount of PNA Relating to Section 504, ADA, and Fair Housing Act (if applicable) Compliance",{"$nulls":3},"Per Sq. Ft.",{"$nulls":3},{"$f":"ROUNDUP(+G174*H174,-2)","v":0}]
[]
["(4.16) New Construction"]
["Dwelling Units",{"$nulls":3},"Per Sq. Ft.",{"$nulls":3},{"$f":"ROUNDUP(+G177*H177,-2)","v":0}]
["Administrative Building",{"$nulls":3},"Per Sq. Ft.",{"$nulls":3},0]
["Community Building or Facility",{"$nulls":3},"Per Sq. Ft.",{"$nulls":3},0]
["Shop",{"$nulls":3},"Per Sq. Ft.",{"$nulls":3},0]
["Storage Area",{"$nulls":3},"Per Sq. Ft.",{"$nulls":3},0]
["Family Investment Center",{"$nulls":3},"Per Sq. Ft.",{"$nulls":3},0]
["Day Care Center",{"$nulls":3},"Per Sq. Ft.",{"$nulls":3},0]
["Laundry Areas(s)",{"$nulls":3},"Per Sq. Ft.",{"$nulls":3},0]
["Other (Specify) ",{"$nulls":3},"Per Sq. Ft.",{"$nulls":3},0]
["Other (Specify)",{"$nulls":3},"Per Sq. Ft.",{"$nulls":3},0]
["Other (Specify)",{"$nulls":7},0]
["New Construction Subtotals",{"$nulls":7},{"$f":"SUM(I177:I187)","v":0}]

{"sheet":"Tab 13","index":14,"n_rows":188,"n_cols":31,"rows_kept":188,"merged":[[4,2,4,3],[5,2,5,3],[7,0,7,8],[9,1,9,2],[10,1,10,2],[20,3,20,9],[27,0,27,8],[29,8,29,9],[30,8,30,9],[31,8,31,9],[33,6,35,6],[37,4,37,9],[44,0,44,8],[46,0,46,1],[47,0,47,1],[48,0,48,1],[49,0,49,1],[50,0,50,1],[51,0,51,1],[52,0,52,1],[53,0,53,1],[54,0,54,1],[55,0,55,1],[56,0,56,1],[59,0,59,8],[61,0,61,1],[62,0,62,1],[81,0,81,1],[97,0,97,1],[120,0,120,1],[143,0,143,1],[160,0,160,1],[169,0,169,1],[170,0,170,1],[187,0,187,1]]}
["Physical Needs Assessment",{"$nulls":3},"U.S. Department of Housing",{"$nulls":4}," OMB Approval No. 2577-0157"]
["Capital Fund Financing Program/",{"$nulls":3},"and Urban Development",{"$nulls":4}," (exp. 1/31/2017)"]
["Operating Fund Financing Program",{"$nulls":3},"Office of Public and Indian Housing"]
[]
["HA Name",null,"HA Number",null,null,"FY of Assessment",null," Original  ","Date Prepared:"]
[{"$f":"'Tab 1'!A6","v":0},null,{"$f":"'Tab 6'!C6:D6","v":0},{"$nulls":4},"Revision  ","Date Revised:"]
[]
["(1.0) Project Data"]
[]
["(1.1) Management Office Address",{"$nulls":5},"(1.3) Development No.",null,"(1.4) DOFA Date"]
["(1.2) Project Name"]
[{"$nulls":4},"Family"]
[{"$nulls":3},"(1.9)","Elderly",null,null,"(1.10)","S-F Detached"]
["(1.5) Year of Last Substantial Mod",null,null,"Occupancy","Family & Disabled",null,null,"Structure","Semi-Detached"]
["(1.6) Occupancy Rate ",{"$f":"B20/(+B18-B26)","v":{"$error":"#DIV/0!"}},null,"Type(s)","Elderly & Disabled",null,null,"Type(s)","Row or Townhome"]
["        (Rentable Units Only)",null,null,"(Check)","Not Applicable",null,null,"(Check","M-F/Walkup"]
["(1.7) Latest PASS REAC Score",null,null,"all that apply)","Official Designation: Elderly",null,null,"all that","Elevator"]
["Total Units",{"$f":"+B20+B21","v":0},null,null,"Official Designation: Disabled",null,null,"apply)","Non-Dwelling"]
["(1.8) Total Buildings",{"$nulls":3},"Official Designation: Mixed"]
["Occupied Units",{"$f":"SUM(E23:J23)","v":0}]
["Vacant/Rentable Units",{"$f":"SUM(E24:J24)","v":0},null,"(1.11) Bedroom Distribution"]
[{"$nulls":4},"Eff","1BR","2BR","3BR","4BR","5BR+"]
[{"$nulls":3},"(1.11a) Occupied"]
[{"$nulls":3},"(1.11b) Vacant"]
[{"$nulls":3},"Total Units",{"$f":"SUM(E23:E24)","v":0},0,0,0,0,0]
[{"$nulls":3},"Avg Bedrooms per Unit",null,{"$f":"(+E23*1+F23*1+G23*2+H23*3+I23*4+J23*5)/SUM(E23:J23)","v":{"$error":"#DIV/0!"}}]
[]
["(2.0) Physical Needs Assessment Summary Data"]
[]
["(2.1) PNA Conducted By: (PHA/ 3rd Party)",null,"PHA Internally",null,null,"(2.5) Inspector Contact Name: "]
[null,null,"3rd Pary Independent",null,null,"(2.6) Company Name or PHA Title:"]
["(2.2) First Year Covered by PNA",{"$nulls":4},"(2.7) Inspector Contact Phone:"]
["(2.3) Length of PNA (in years)"]
["(2.4) Unit Interiors Inspected (#)",null,{"$f":"SUM(E40:J40)","v":0},{"$nulls":3},"(2.8) Data Source(s) for PNA",null,"Annual Inspections"]
["Units Inspected as % of Total",null,{"$f":"C34/B18","v":{"$error":"#DIV/0!"}},{"$nulls":5},"Contractor"]
["(2.9) Total Residential Buildings",{"$nulls":7},"REAC Inspections"]
["(2.10) Number of Building Exteriors Inspected"]
["(2.11) Total Off-Street Parking Spaces",{"$nulls":3},"(2.14) Units Inspected by Bedroom Size"]
["(2.12) Site Acreage",null,null,"acres","Eff","1BR","2BR","3BR","4BR","5BR+"]
["(2.13) Parking Area (in square feet)",null,null,"SF"]
[]
["(2.15) Physical Improvements Will Result in Structural/System Soundness at a Reasonable Cost",{"$nulls":5},"Yes","No"]
["(2.16) Development Has Long-Term Physical and Social Viability",{"$nulls":5},"Yes","No"]
[]
["(3.0) Total Physical Needs Summary"]
[]
["Major Category",null,"Immediate","Years                       1-5","Years                    6-10","Years                    11-15","Years                   16-20","Total Needs"]
["Site",null,{"$f":"+I82","v":0},{"$f":"$O$63","v":0},{"$f":"$T$63","v":0},{"$f":"$Y$63","v":0},{"$f":"$AD$63","v":0},{"$f":"SUM(C48:G48)","v":0}]
["Common Buildings",null,{"$f":"$I$98","v":0},{"$f":"$O$83","v":0},{"$f":"$T$83","v":0},{"$f":"$Y$83","v":0},{"$f":"$AD$83","v":0},0]
["Unit Exteriors",null,{"$f":"$I$121","v":0},{"$f":"$O$99","v":0},{"$f":"$T$99","v":0},{"$f":"$Y$99","v":0},{"$f":"$AD$99","v":0},0]
["Unit Interiors",null,{"$f":"$I$144","v":0},{"$f":"O122","v":0},{"$f":"T122","v":0},{"$f":"Y122","v":0},{"$f":"AD122","v":0},0]
["Mechanical",null,{"$f":"I161","v":0},{"$f":"O145","v":0},{"$f":"T145","v":0},{"$f":"Y145","v":0},{"$f":"AD145","v":0},0]
["Other",null,{"$f":"I170","v":0},{"$f":"O162","v":0},{"$f":"T162","v":0},{"$f":"Y162","v":0},{"$f":"AD162","v":0},0]
["Totals",null,{"$f":"SUM(C48:C53)","v":0},0,0,0,0,0]
["Amount of PNA relating to Lead Paint/Asbestos",null,{"$f":"I173","v":0},{"$nulls":4},{"$f":"C55","v":0}]
["Amount of PNA relating to Section 504, ADA, and Fair Housing Act (if applicable) Compliance",null,{"$f":"I174","v":0},{"$nulls":4},{"$f":"C56","v":0}]
["New Construction",{"$nulls":6},{"$f":"I188","v":0}]
[{"$nulls":5},"TOTAL PHYSICAL NEEDS",null,{"$f":"H57+H54","v":0}]
[]
["(4.0)Physical Needs Cost Estimate"]
[]
["(4.1) Category",null,"(4.2) Estimated Useful Life","(4.3)                Useful Life Remaining","(4.4)             Method","(4.5)                   Total          Quantity","(4.6)             Current Needs Quantity","(4.7)                Cost per      Quantity","(4.8)         Immediate Repairs Needed","Total Long Term Needs",{"$f":"+F6+1","v":1},{"$f":"1+K62","v":2},3,4,5,6,7,8,9,10,11,12,13,14,15,16,17,18,19,20]
["(4.9) Site",null,"(in yrs)","(in yrs)",{"$nulls":9},"Years 1-5",{"$f":"SUM(K82:O82)","v":0},{"$nulls":3},"Years 6-10",{"$f":"SUM(P82:T82)","v":0},{"$nulls":3},"Years 11-15",{"$f":"SUM(U82:Y82)","v":0},{"$nulls":3},"Years 16-20",{"$f":"SUM(Z82:AD82)","v":0}]
["Asphalt/Concrete",{"$nulls":3},"Per Sq. Ft.",{"$nulls":3},{"$f":"ROUNDUP(+G64*H64,-2)","v":0},{"$f":"SUM(K64:AD64)","v":0},{"$f":"ROUNDUP(IF(OR(($D64+$F$6)=K$62,($C64+$D64+$F$6)=K$62,($C64*2+$D64+$F$6)=K$62,($C64*3+$D64+$F$6)=K$62,($C64*4+$D64+$F$6)=K$62,($C64*5+$D64+$F$6)=K$62,($C64*6+$D64+$F$6)=K$62,($C64*7+$D64+$F$6)=K$62,($C64*8+$D64+$F$6)=K$62),$F64*$H64*((1+$J$52)^(K$62-$F$6)),0),-2)","v":0},0,0,0,0,0,0,0,0,0,{"$f":"ROUNDUP(IF(OR(($D64+$F$6)=U$62,($C64+$D64+$F$6)=U$62,($C64*2+$D64+$F$6)=U$62,($C64*3+$D64+$F$6)=U$62,($C64*4+$D64+$F$6)=U$62,($C64*5+$D64+$F$6)=U$62,($C64*6+$D64+$F$6)=U$62,($C64*7+$D64+$F$6)=U$62,($C64*8+$D64+$F$6)=U$62),$F64*$H64*((1+$J$52)^(U$62-$F$6)),0),-2)","v":0},0,0,0,0,0,0,0,0,0,{"$f":"SUM(K64:AD64)-J64","v":0}]
["Seal Coat",{"$nulls":3},"Per Sq. Ft.",{"$nulls":3},0,0,0,0,0,0,0,0,0,0,0,0,0,0,0,0,0,0,0,0,0,0,0]
["Striping",{"$nulls":3},"Per Sq. Ft.",{"$nulls":3},0,0,0,0,0,0,0,0,0,0,0,0,0,0,0,0,0,0,0,0,0,0,0]
["Curb & Gutter",{"$nulls":3},"Per Sq. Ft.",{"$nulls":3},0,0,0,0,0,0,0,0,0,0,0,0,0,0,0,0,0,0,0,0,0,0,0]
["Pedestrian paving",{"$nulls":3},"Per Sq. Ft.",{"$nulls":3},0,0,0,0,0,0,0,0,0,0,0,0,0,0,0,0,0,0,0,0,0,0,0]
["Signage",{"$nulls":3},"Per Sq. Ft.",{"$nulls":3},0,0,0,0,0,0,0,0,0,0,0,0,0,0,0,0,0,0,0,0,0,0,0]
["Water Lines/Mains",{"$nulls":3},"Per Sq. Ft.",{"$nulls":3},0,0,0,0,0,0,0,0,0,0,0,0,0,0,0,0,0,0,0,0,0,0,0]
["Sewer Lines/Mains",{"$nulls":3},"Per Sq. Ft.",{"$nulls":3},0,0,0,0,0,0,0,0,0,0,0,0,0,0,0,0,0,0,0,0,0,0,0]
["Lighting",{"$nulls":3},"Per Sq. Ft.",{"$nulls":3},0,0,0,0,0,0,0,0,0,0,0,0,0,0,0,0,0,0,0,0,0,0,0]
["Storm Drainage",{"$nulls":3},"Per Sq. Ft.",{"$nulls":3},0,0,0,0,0,0,0,0,0,0,0,0,0,0,0,0,0,0,0,0,0,0,0]
["Landscape",{"$nulls":3},"Per Sq. Ft.",{"$nulls":3},0,0,{"$f":"ROUNDUP(IF(OR(($D74+$F$6)=K$62,($C74+$D74+$F$6)=K$62,($C74*2+$D74+$F$6)=K$62,($C74*3+$D74+$F$6)=K$62,($C74*4+$D74+$F$6)=K$62,($C74*5+$D74+$F$6)=K$62,($C74*6+$D74+$F$6)=K$62,($C74*7+$D74+$F$6)=K$62,($C74*8+$D74+$F$6)=K$62),$F74*$H74*((1+$J$52)^(K$62-$F$6)),0),-2)","v":0},0,0,0,0,0,0,0,0,0,{"$f":"ROUNDUP(IF(OR(($D74+$F$6)=U$62,($C74+$D74+$F$6)=U$62,($C74*2+$D74+$F$6)=U$62,($C74*3+$D74+$F$6)=U$62,($C74*4+$D74+$F$6)=U$62,($C74*5+$D74+$F$6)=U$62,($C74*6+$D74+$F$6)=U$62,($C74*7+$D74+$F$6)=U$62,($C74*8+$D74+$F$6)=U$62),$F74*$H74*((1+$J$52)^(U$62-$F$6)),0),-2)","v":0},0,0,0,0,0,0,0,0,0,0]
["Fencing",{"$nulls":3},"Per Sq. Ft.",{"$nulls":3},0,0,0,0,0,0,0,0,0,0,0,0,0,0,0,0,0,0,0,0,0,0,0]
["Fence Painting",{"$nulls":3},"Per Sq. Ft.",{"$nulls":3},0,0,0,0,0,0,0,0,0,0,0,0,0,0,0,0,0,0,0,0,0,0,0]
["Dumpsters & Enclosures",{"$nulls":3},"Per Sq. Ft.",{"$nulls":3},0,0,0,0,0,0,0,0,0,0,0,0,0,0,0,0,0,0,0,0,0,0,0]
["Electric Distribution",{"$nulls":3},"Per Sq. Ft.",{"$nulls":3},0,0,0,0,0,0,0,0,0,0,0,0,0,0,0,0,0,0,0,0,0,0,0]
["Playground Areas/Equipment",{"$nulls":3},"Per Sq. Ft.",{"$nulls":3},0,0,0,0,0,0,0,0,0,0,0,0,0,0,0,0,0,0,0,0,0,0,0]
["Other (Specify)",{"$nulls":7},0,0,0,0,0,0,0,0,0,0,0,0,0,0,0,0,0,0,0,0,0,0,0]
["Other (Specify)",{"$nulls":7},0,0,0,0,0,0,0,0,0,0,0,0,0,0,0,0,0,0,0,0,0,0,0]
["Site Subtotals",{"$nulls":7},{"$f":"SUM(I64:I81)","v":0},0,0,0,0,0,0,0,0,0,0,0,0,0,0,0,0,0,0,0,0,0,0]
["(4.10) Common Buildings--Rehab Only",{"$nulls":12},"Years 1-5",{"$f":"SUM(K98:O98)","v":0},{"$nulls":3},"Years 6-10",{"$f":"SUM(P98:T98)","v":0},{"$nulls":3},"Years 11-15",{"$f":"SUM(T98:X98)","v":0},{"$nulls":3},"Years 16-20",{"$f":"SUM(Y98:AC98)","v":0}]
["Administrative Building",{"$nulls":3},"Per Sq. Ft.",{"$nulls":3},{"$f":"ROUNDUP(+G84*H84,-2)","v":0},{"$f":"SUM(K84:AD84)","v":0},{"$f":"ROUNDUP(IF(OR(($D84+$F$6)=K$62,($C84+$D84+$F$6)=K$62,($C84*2+$D84+$F$6)=K$62,($C84*3+$D84+$F$6)=K$62,($C84*4+$D84+$F$6)=K$62,($C84*5+$D84+$F$6)=K$62,($C84*6+$D84+$F$6)=K$62,($C84*7+$D84+$F$6)=K$62,($C84*8+$D84+$F$6)=K$62),$F84*$H84*((1+$J$52)^(K$62-$F$6)),0),-2)","v":0},0,0,0,0,0,0,0,0,0,{"$f":"ROUNDUP(IF(OR(($D84+$F$6)=U$62,($C84+$D84+$F$6)=U$62,($C84*2+$D84+$F$6)=U$62,($C84*3+$D84+$F$6)=U$62,($C84*4+$D84+$F$6)=U$62,($C84*5+$D84+$F$6)=U$62,($C84*6+$D84+$F$6)=U$62,($C84*7+$D84+$F$6)=U$62,($C84*8+$D84+$F$6)=U$62),$F84*$H84*((1+$J$52)^(U$62-$F$6)),0),-2)","v":0},0,0,0,0,0,0,0,0,0,{"$f":"SUM(K84:AD84)-J84","v":0}]
["Community Building",{"$nulls":3},"Per Sq. Ft.",{"$nulls":3},0,0,0,0,0,0,0,0,0,0,0,0,0,0,0,0,0,0,0,0,0,0,0]
["Shop",{"$nulls":3},"Per Sq. Ft.",{"$nulls":3},0,0,0,0,0,0,0,0,0,0,0,0,0,0,0,0,0,0,0,0,0,0,0]
["Storage Area",{"$nulls":3},"Per Sq. Ft.",{"$nulls":3},0,0,0,0,0,0,0,0,0,0,0,0,0,0,0,0,0,0,0,0,0,0,0]
["Central Boiler",{"$nulls":3},"Per Sq. Ft.",{"$nulls":3},0,0,0,0,0,0,0,0,0,0,0,0,0,0,0,0,0,0,0,0,0,0,0]
["Central Chiller",{"$nulls":3},"Per Sq. Ft.",{"$nulls":3},0,0,0,0,0,0,0,0,0,0,0,0,0,0,0,0,0,0,0,0,0,0,0]
["Family Invesment Center",{"$nulls":3},"Per Sq. Ft.",{"$nulls":3},0,0,0,0,0,0,0,0,0,0,0,0,0,0,0,0,0,0,0,0,0,0,0]
["Day Care Center",{"$nulls":3},"Per Sq. Ft.",{"$nulls":3},0,0,0,0,0,0,0,0,0,0,0,0,0,0,0,0,0,0,0,0,0,0,0]
["Laundry Areas",{"$nulls":3},"Per Sq. Ft.",{"$nulls":3},0,0,{"$f":"ROUNDUP(IF(OR(($D92+$F$6)=K$62,($C92+$D92+$F$6)=K$62,($C92*2+$D92+$F$6)=K$62,($C92*3+$D92+$F$6)=K$62,($C92*4+$D92+$F$6)=K$62,($C92*5+$D92+$F$6)=K$62,($C92*6+$D92+$F$6)=K$62,($C92*7+$D92+$F$6)=K$62,($C92*8+$D92+$F$6)=K$62),$F92*$H92*((1+$J$52)^(K$62-$F$6)),0),-2)","v":0},0,0,0,0,0,0,0,0,0,{"$f":"ROUNDUP(IF(OR(($D92+$F$6)=U$62,($C92+$D92+$F$6)=U$62,($C92*2+$D92+$F$6)=U$62,($C92*3+$D92+$F$6)=U$62,($C92*4+$D92+$F$6)=U$62,($C92*5+$D92+$F$6)=U$62,($C92*6+$D92+$F$6)=U$62,($C92*7+$D92+$F$6)=U$62,($C92*8+$D92+$F$6)=U$62),$F92*$H92*((1+$J$52)^(U$62-$F$6)),0),-2)","v":0},0,0,0,0,0,0,0,0,0,0]
["Common Area Washers",{"$nulls":3},"Per Sq. Ft.",{"$nulls":3},0,0,0,0,0,0,0,0,0,0,0,0,0,0,0,0,0,0,0,0,0,0,0]
["Common Area Dryers",{"$nulls":3},"Per Sq. Ft.",{"$nulls":3},0,0,0,0,0,0,0,0,0,0,0,0,0,0,0,0,0,0,0,0,0,0,0]
["Common Area Finishes",{"$nulls":3},"Per Sq. Ft.",{"$nulls":3},0,0,0,0,0,0,0,0,0,0,0,0,0,0,0,0,0,0,0,0,0,0,0]
["Other (Specify)",{"$nulls":7},0,0,0,0,0,0,0,0,0,0,0,0,0,0,0,0,0,0,0,0,0,0,0]
["Other (Specify)",{"$nulls":7},0,0,0,0,0,0,0,0,0,0,0,0,0,0,0,0,0,0,0,0,0,0,0]
["Common Subtotals",{"$nulls":7},{"$f":"SUM(I84:I97)","v":0},0,0,0,0,0,0,0,0,0,0,0,0,0,0,0,0,0,0,0,0,0,0]
["(4.11) Unit Exteriors",{"$nulls":12},"Years 1-5",{"$f":"SUM(K121:O121)","v":0},{"$nulls":3},"Years 6-10",{"$f":"SUM(P121:T121)","v":0},{"$nulls":3},"Years 11-15",{"$f":"SUM(U121:Y121)","v":0},{"$nulls":3},"Years 16-20",{"$f":"SUM(Z121:AD121)","v":0}]
["Carports/Surface Garage",{"$nulls":3},"Per Sq. Ft.",{"$nulls":3},{"$f":"ROUNDUP(+G100*H100,-2)","v":0},{"$f":"SUM(K100:AD100)","v":0},{"$f":"ROUNDUP(IF(OR(($D100+$F$6)=K$62,($C100+$D100+$F$6)=K$62,($C100*2+$D100+$F$6)=K$62,($C100*3+$D100+$F$6)=K$62,($C100*4+$D100+$F$6)=K$62,($C100*5+$D100+$F$6)=K$62,($C100*6+$D100+$F$6)=K$62,($C100*7+$D100+$F$6)=K$62,($C100*8+$D100+$F$6)=K$62),$F100*$H100*((1+$J$52)^(K$62-$F$6)),0),-2)","v":0},0,0,0,0,0,0,0,0,0,{"$f":"ROUNDUP(IF(OR(($D100+$F$6)=U$62,($C100+$D100+$F$6)=U$62,($C100*2+$D100+$F$6)=U$62,($C100*3+$D100+$F$6)=U$62,($C100*4+$D100+$F$6)=U$62,($C100*5+$D100+$F$6)=U$62,($C100*6+$D100+$F$6)=U$62,($C100*7+$D100+$F$6)=U$62,($C100*8+$D100+$F$6)=U$62),$F100*$H100*((1+$J$52)^(U$62-$F$6)),0),-2)","v":0},0,0,0,0,0,0,0,0,0,{"$f":"SUM(K100:AD100)-J100","v":0}]
["Foundation",{"$nulls":3},"Per Sq. Ft.",{"$nulls":3},0,0,0,0,0,0,0,0,0,0,0,0,0,0,0,0,0,0,0,0,0,0,0]
["Building Slab",{"$nulls":3},"Per Sq. Ft.",{"$nulls":3},0,0,0,0,0,0,0,0,0,0,0,0,0,0,0,0,0,0,0,0,0,0,0]
["Roofs",{"$nulls":3},"Per Sq. Ft.",{"$nulls":3},0,0,0,0,0,0,0,0,0,0,0,0,0,0,0,0,0,0,0,0,0,0,0]
["Canopies",{"$nulls":3},"Per Sq. Ft.",{"$nulls":3},0,0,0,0,0,0,0,0,0,0,0,0,0,0,0,0,0,0,0,0,0,0,0]
["Tuck-Pointing",{"$nulls":3},"Per Sq. Ft.",{"$nulls":3},0,0,0,0,0,0,0,0,0,0,0,0,0,0,0,0,0,0,0,0,0,0,0]
["Exterior Paint & Caulking",{"$nulls":3},"Per Sq. Ft.",{"$nulls":3},0,0,0,0,0,0,0,0,0,0,0,0,0,0,0,0,0,0,0,0,0,0,0]
["Soffits",{"$nulls":3},"Per Sq. Ft.",{"$nulls":3},0,0,0,0,0,0,0,0,0,0,0,0,0,0,0,0,0,0,0,0,0,0,0]
["Siding",{"$nulls":3},"Per Sq. Ft.",{"$nulls":3},0,0,0,0,0,0,0,0,0,0,0,0,0,0,0,0,0,0,0,0,0,0,0]
["Exterior Stairwells/Fire Escapes",{"$nulls":3},"Per Sq. Ft.",{"$nulls":3},0,0,0,0,0,0,0,0,0,0,0,0,0,0,0,0,0,0,0,0,0,0,0]
["Landings & Railings",{"$nulls":3},"Per Sq. Ft.",{"$nulls":3},0,0,{"$f":"ROUNDUP(IF(OR(($D110+$F$6)=K$62,($C110+$D110+$F$6)=K$62,($C110*2+$D110+$F$6)=K$62,($C110*3+$D110+$F$6)=K$62,($C110*4+$D110+$F$6)=K$62,($C110*5+$D110+$F$6)=K$62,($C110*6+$D110+$F$6)=K$62,($C110*7+$D110+$F$6)=K$62,($C110*8+$D110+$F$6)=K$62),$F110*$H110*((1+$J$52)^(K$62-$F$6)),0),-2)","v":0},0,0,0,0,0,0,0,0,0,{"$f":"ROUNDUP(IF(OR(($D110+$F$6)=U$62,($C110+$D110+$F$6)=U$62,($C110*2+$D110+$F$6)=U$62,($C110*3+$D110+$F$6)=U$62,($C110*4+$D110+$F$6)=U$62,($C110*5+$D110+$F$6)=U$62,($C110*6+$D110+$F$6)=U$62,($C110*7+$D110+$F$6)=U$62,($C110*8+$D110+$F$6)=U$62),$F110*$H110*((1+$J$52)^(U$62-$F$6)),0),-2)","v":0},0,0,0,0,0,0,0,0,0,0]
["Balconies & Railings",{"$nulls":3},"Per Sq. Ft.",{"$nulls":3},0,0,0,0,0,0,0,0,0,0,0,0,0,0,0,0,0,0,0,0,0,0,0]
["Mail Facilities",{"$nulls":3},"Per Sq. Ft.",{"$nulls":3},0,0,0,0,0,0,0,0,0,0,0,0,0,0,0,0,0,0,0,0,0,0,0]
["Exterior Doors",{"$nulls":3},"Per Sq. Ft.",{"$nulls":3},0,0,0,0,0,0,0,0,0,0,0,0,0,0,0,0,0,0,0,0,0,0,0]
["Windows",{"$nulls":3},"Per Sq. Ft.",{"$nulls":3},0,0,0,0,0,0,0,0,0,0,0,0,0,0,0,0,0,0,0,0,0,0,0]
["Gutters/Downspouts",{"$nulls":3},"Per Sq. Ft.",{"$nulls":3},0,0,0,0,0,0,0,0,0,0,0,0,0,0,0,0,0,0,0,0,0,0,0]
["Columns & Porches",{"$nulls":3},"Per Sq. Ft.",{"$nulls":3},0,0,0,0,0,0,0,0,0,0,0,0,0,0,0,0,0,0,0,0,0,0,0]
["Decks & Patios",{"$nulls":3},"Per Sq. Ft.",{"$nulls":3},0,0,0,0,0,0,0,0,0,0,0,0,0,0,0,0,0,0,0,0,0,0,0]
["Exterior Lighting",{"$nulls":3},"Per Sq. Ft.",{"$nulls":3},0,0,0,0,0,0,0,0,0,0,0,0,0,0,0,0,0,0,0,0,0,0,0]
["Other (Specify)",{"$nulls":7},0,0,0,0,0,0,0,0,0,0,0,0,0,0,0,0,0,0,0,0,0,0,0]
["Other (Specify)",{"$nulls":7},0,0,0,0,0,0,0,0,0,0,0,0,0,0,0,0,0,0,0,0,0,0,0]
["Unit Exterior Subtotals",{"$nulls":7},{"$f":"SUM(I100:I120)","v":0},0,0,0,0,0,0,0,0,0,0,0,0,0,0,0,0,0,0,0,0,0,0]
["(4.12) Unit Interiors",{"$nulls":12},"Years 1-5",{"$f":"SUM(K144:O144)","v":0},{"$nulls":3},"Years 6-10",{"$f":"SUM(P144:T144)","v":0},{"$nulls":3},"Years 11-15",{"$f":"SUM(U144:Y144)","v":0},{"$nulls":3},"Years 16-20",{"$f":"SUM(Z144:AD144)","v":0}]
["Interior Painting (non routine)",{"$nulls":3},"Per Sq. Ft.",{"$nulls":3},{"$f":"ROUNDUP(+G123*H123,-2)","v":0},{"$f":"SUM(K123:AD123)","v":0},{"$f":"ROUNDUP(IF(OR(($D123+$F$6)=K$62,($C123+$D123+$F$6)=K$62,($C123*2+$D123+$F$6)=K$62,($C123*3+$D123+$F$6)=K$62,($C123*4+$D123+$F$6)=K$62,($C123*5+$D123+$F$6)=K$62,($C123*6+$D123+$F$6)=K$62,($C123*7+$D123+$F$6)=K$62,($C123*8+$D123+$F$6)=K$62),$F123*$H123*((1+$J$52)^(K$62-$F$6)),0),-2)","v":0},0,0,0,0,0,0,0,0,0,{"$f":"ROUNDUP(IF(OR(($D123+$F$6)=U$62,($C123+$D123+$F$6)=U$62,($C123*2+$D123+$F$6)=U$62,($C123*3+$D123+$F$6)=U$62,($C123*4+$D123+$F$6)=U$62,($C123*5+$D123+$F$6)=U$62,($C123*6+$D123+$F$6)=U$62,($C123*7+$D123+$F$6)=U$62,($C123*8+$D123+$F$6)=U$62),$F123*$H123*((1+$J$52)^(U$62-$F$6)),0),-2)","v":0},0,0,0,0,0,0,0,0,0,{"$f":"SUM(K123:AD123)-J123","v":0}]
["Interior Doors",{"$nulls":3},"Per Sq. Ft.",{"$nulls":3},0,0,0,0,0,0,0,0,0,0,0,0,0,0,0,0,0,0,0,0,0,0,0]
["Flooring (non routine)",{"$nulls":3},"Per Sq. Ft.",{"$nulls":3},0,0,0,0,0,0,0,0,0,0,0,0,0,0,0,0,0,0,0,0,0,0,0]
["Shower/Tub Surrounds",{"$nulls":3},"Per Sq. Ft.",{"$nulls":3},0,0,0,0,0,0,0,0,0,0,0,0,0,0,0,0,0,0,0,0,0,0,0]
["Commodes",{"$nulls":3},"Per Sq. Ft.",{"$nulls":3},0,0,0,0,0,0,0,0,0,0,0,0,0,0,0,0,0,0,0,0,0,0,0]
["Vanities",{"$nulls":3},"Per Sq. Ft.",{"$nulls":3},0,0,0,0,0,0,0,0,0,0,0,0,0,0,0,0,0,0,0,0,0,0,0]
["Faucets",{"$nulls":3},"Per Sq. Ft.",{"$nulls":3},0,0,0,0,0,0,0,0,0,0,0,0,0,0,0,0,0,0,0,0,0,0,0]
["Bathroom Flooring (non cyclical)",{"$nulls":3},"Per Sq. Ft.",{"$nulls":3},0,0,0,0,0,0,0,0,0,0,0,0,0,0,0,0,0,0,0,0,0,0,0]
["Kitchen Cabinets",{"$nulls":3},"Per Sq. Ft.",{"$nulls":3},0,0,0,0,0,0,0,0,0,0,0,0,0,0,0,0,0,0,0,0,0,0,0]
["Ranges",{"$nulls":3},"Per Sq. Ft.",{"$nulls":3},0,0,0,0,0,0,0,0,0,0,0,0,0,0,0,0,0,0,0,0,0,0,0]
["Range Hoods",{"$nulls":3},"Per Sq. Ft.",{"$nulls":3},0,0,{"$f":"ROUNDUP(IF(OR(($D133+$F$6)=K$62,($C133+$D133+$F$6)=K$62,($C133*2+$D133+$F$6)=K$62,($C133*3+$D133+$F$6)=K$62,($C133*4+$D133+$F$6)=K$62,($C133*5+$D133+$F$6)=K$62,($C133*6+$D133+$F$6)=K$62,($C133*7+$D133+$F$6)=K$62,($C133*8+$D133+$F$6)=K$62),$F133*$H133*((1+$J$52)^(K$62-$F$6)),0),-2)","v":0},0,0,0,0,0,0,0,0,0,{"$f":"ROUNDUP(IF(OR(($D133+$F$6)=U$62,($C133+$D133+$F$6)=U$62,($C133*2+$D133+$F$6)=U$62,($C133*3+$D133+$F$6)=U$62,($C133*4+$D133+$F$6)=U$62,($C133*5+$D133+$F$6)=U$62,($C133*6+$D133+$F$6)=U$62,($C133*7+$D133+$F$6)=U$62,($C133*8+$D133+$F$6)=U$62),$F133*$H133*((1+$J$52)^(U$62-$F$6)),0),-2)","v":0},0,0,0,0,0,0,0,0,0,0]
["Refrigerators",{"$nulls":3},"Per Sq. Ft.",{"$nulls":3},0,0,0,0,0,0,0,0,0,0,0,0,0,0,0,0,0,0,0,0,0,0,0]
["Counters and Sinks",{"$nulls":3},"Per Sq. Ft.",{"$nulls":3},0,0,0,0,0,0,0,0,0,0,0,0,0,0,0,0,0,0,0,0,0,0,0]
["Dishwasher",{"$nulls":3},"Per Sq. Ft.",{"$nulls":3},0,0,0,0,0,0,0,0,0,0,0,0,0,0,0,0,0,0,0,0,0,0,0]
["Microwave",{"$nulls":3},"Per Sq. Ft.",{"$nulls":3},0,0,0,0,0,0,0,0,0,0,0,0,0,0,0,0,0,0,0,0,0,0,0]
["Washing Machines",{"$nulls":3},"Per Sq. Ft.",{"$nulls":3},0,0,0,0,0,0,0,0,0,0,0,0,0,0,0,0,0,0,0,0,0,0,0]
["Dryers",{"$nulls":3},"Per Sq. Ft.",{"$nulls":3},0,0,0,0,0,0,0,0,0,0,0,0,0,0,0,0,0,0,0,0,0,0,0]
["Call-for-Aid Systems",{"$nulls":7},0,0,0,0,0,0,0,0,0,0,0,0,0,0,0,0,0,0,0,0,0,0,0]
["Stairs and Handrails",{"$nulls":7},0,0,0,0,0,0,0,0,0,0,0,0,0,0,0,0,0,0,0,0,0,0,0]
["Other (Specify)",{"$nulls":7},0,0,0,0,0,0,0,0,0,0,0,0,0,0,0,0,0,0,0,0,0,0,0]
["Other (Specify)",{"$nulls":7},0,0,0,0,0,0,0,0,0,0,0,0,0,0,0,0,0,0,0,0,0,0,0]
["Unit Interior Subtotals",{"$nulls":7},{"$f":"SUM(I123:I143)","v":0},0,0,0,0,0,0,0,0,0,0,0,0,0,0,0,0,0,0,0,0,0,0]
["(4.13) Mechanical",{"$nulls":12},"Years 1-5",{"$f":"SUM(K161:O161)","v":0},{"$nulls":3},"Years 6-10",{"$f":"SUM(P161:T161)","v":0},{"$nulls":3},"Years 11-15",{"$f":"SUM(U161:Y161)","v":0},{"$nulls":3},"Years 16-20",{"$f":"SUM(Z161:AD161)","v":0}]
["Water Distribution",{"$nulls":3},"Per Sq. Ft.",{"$nulls":3},{"$f":"ROUNDUP(+G146*H146,-2)","v":0},{"$f":"SUM(K146:AD146)","v":0},{"$f":"ROUNDUP(IF(OR(($D146+$F$6)=K$62,($C146+$D146+$F$6)=K$62,($C146*2+$D146+$F$6)=K$62,($C146*3+$D146+$F$6)=K$62,($C146*4+$D146+$F$6)=K$62,($C146*5+$D146+$F$6)=K$62,($C146*6+$D146+$F$6)=K$62,($C146*7+$D146+$F$6)=K$62,($C146*8+$D146+$F$6)=K$62),$F146*$H146*((1+$J$52)^(K$62-$F$6)),0),-2)","v":0},0,0,0,0,0,0,0,0,0,{"$f":"ROUNDUP(IF(OR(($D146+$F$6)=U$62,($C146+$D146+$F$6)=U$62,($C146*2+$D146+$F$6)=U$62,($C146*3+$D146+$F$6)=U$62,($C146*4+$D146+$F$6)=U$62,($C146*5+$D146+$F$6)=U$62,($C146*6+$D146+$F$6)=U$62,($C146*7+$D146+$F$6)=U$62,($C146*8+$D146+$F$6)=U$62),$F146*$H146*((1+$J$52)^(U$62-$F$6)),0),-2)","v":0},0,0,0,0,0,0,0,0,0,{"$f":"SUM(K146:AD146)-J146","v":0}]
["Heating Equipt/System",{"$nulls":3},"Per Sq. Ft.",{"$nulls":3},0,0,0,0,0,0,0,0,0,0,0,0,0,0,0,0,0,0,0,0,0,0,0]
["Electric Disribution",{"$nulls":3},"Per Sq. Ft.",{"$nulls":3},0,0,0,0,0,0,0,0,0,0,0,0,0,0,0,0,0,0,0,0,0,0,0]
["Hot Water Heaters",{"$nulls":3},"Per Sq. Ft.",{"$nulls":3},0,0,0,0,0,0,0,0,0,0,0,0,0,0,0,0,0,0,0,0,0,0,0]
["Unit Sub-panels",{"$nulls":3},"Per Sq. Ft.",{"$nulls":3},0,0,0,0,0,0,0,0,0,0,0,0,0,0,0,0,0,0,0,0,0,0,0]
["Trash Compactor",{"$nulls":3},"Per Sq. Ft.",{"$nulls":3},0,0,0,0,0,0,0,0,0,0,0,0,0,0,0,0,0,0,0,0,0,0,0]
["Cooling Equipt/Systems",{"$nulls":3},"Per Sq. Ft.",{"$nulls":3},0,0,0,0,0,0,0,0,0,0,0,0,0,0,0,0,0,0,0,0,0,0,0]
["Smoke/Fire Detection",{"$nulls":3},"Per Sq. Ft.",{"$nulls":3},0,0,0,0,0,0,0,0,0,0,0,0,0,0,0,0,0,0,0,0,0,0,0]
["Unit Reconfiguration",{"$nulls":3},"Per Sq. Ft.",{"$nulls":3},0,0,0,0,0,0,0,0,0,0,0,0,0,0,0,0,0,0,0,0,0,0,0]
["Security/Fire Alarm",{"$nulls":3},"Per Sq. Ft.",{"$nulls":3},0,0,0,0,0,0,0,0,0,0,0,0,0,0,0,0,0,0,0,0,0,0,0]
["Fire Suspression System",{"$nulls":3},"Per Sq. Ft.",{"$nulls":3},0,0,0,0,0,0,0,0,0,0,0,0,0,0,0,0,0,0,0,0,0,0,0]
["Generator",{"$nulls":3},"Per Sq. Ft.",{"$nulls":3},0,0,0,0,0,0,0,0,0,0,0,0,0,0,0,0,0,0,0,0,0,0,0]
["Elevator",{"$nulls":3},"Per Sq. Ft.",{"$nulls":3},0,0,0,0,0,0,0,0,0,0,0,0,0,0,0,0,0,0,0,0,0,0,0]
["Other (Specify) ",{"$nulls":7},0,0,0,0,0,0,0,0,0,0,0,0,0,0,0,0,0,0,0,0,0,0,0]
["Other (Specify)",{"$nulls":7},0,0,0,0,0,0,0,0,0,0,0,0,0,0,0,0,0,0,0,0,0,0,0]
["Mechanical Subtotals",{"$nulls":7},{"$f":"SUM(I146:I160)","v":0},0,0,0,0,0,0,0,0,0,0,0,0,0,0,0,0,0,0,0,0,0,0]
["(4.14) Other",{"$nulls":12},"Years 1-5",{"$f":"SUM(K170:O170)","v":0},{"$nulls":3},"Years 6-10",{"$f":"SUM(P170:T170)","v":0},{"$nulls":3},"Years 11-15",{"$f":"SUM(U170:Y170)","v":0},{"$nulls":3},"Years 16-20",{"$f":"SUM(Z170:AD170)","v":0}]
["Site Acquisition",{"$nulls":3},"Per Sq. Ft.",{"$nulls":3},{"$f":"ROUNDUP(+G163*H163,-2)","v":0},{"$f":"SUM(K163:AD163)","v":0},{"$f":"ROUNDUP(IF(OR(($D163+$F$6)=K$62,($C163+$D163+$F$6)=K$62,($C163*2+$D163+$F$6)=K$62,($C163*3+$D163+$F$6)=K$62,($C163*4+$D163+$F$6)=K$62,($C163*5+$D163+$F$6)=K$62,($C163*6+$D163+$F$6)=K$62,($C163*7+$D163+$F$6)=K$62,($C163*8+$D163+$F$6)=K$62),$F163*$H163*((1+$J$52)^(K$62-$F$6)),0),-2)","v":0},0,0,0,0,0,0,0,0,0,{"$f":"ROUNDUP(IF(OR(($D163+$F$6)=U$62,($C163+$D163+$F$6)=U$62,($C163*2+$D163+$F$6)=U$62,($C163*3+$D163+$F$6)=U$62,($C163*4+$D163+$F$6)=U$62,($C163*5+$D163+$F$6)=U$62,($C163*6+$D163+$F$6)=U$62,($C163*7+$D163+$F$6)=U$62,($C163*8+$D163+$F$6)=U$62),$F163*$H163*((1+$J$52)^(U$62-$F$6)),0),-2)","v":0},0,0,0,0,0,0,0,0,0,{"$f":"SUM(K163:AD163)-J163","v":0}]
["Other Fees and Costs",{"$nulls":3},"Per Sq. Ft.",{"$nulls":3},0,0,0,0,0,0,0,0,0,0,0,0,0,0,0,0,0,0,0,0,0,0,0]
["Demolition",{"$nulls":3},"Per Sq. Ft.",{"$nulls":3},0,0,0,0,0,0,0,0,0,0,0,0,0,0,0,0,0,0,0,0,0,0,0]
["Dwelling Unit Conversion",{"$nulls":3},"Per Sq. Ft.",{"$nulls":3},0,0,0,0,0,0,0,0,0,0,0,0,0,0,0,0,0,0,0,0,0,0,0]
["Contingency",{"$nulls":3},"Per Sq. Ft.",{"$nulls":3},0,0,{"$f":"ROUNDUP(IF(OR(($D167+$F$6)=K$62,($C167+$D167+$F$6)=K$62,($C167*2+$D167+$F$6)=K$62,($C167*3+$D167+$F$6)=K$62,($C167*4+$D167+$F$6)=K$62,($C167*5+$D167+$F$6)=K$62,($C167*6+$D167+$F$6)=K$62,($C167*7+$D167+$F$6)=K$62,($C167*8+$D167+$F$6)=K$62),$F167*$H167*((1+$J$52)^(K$62-$F$6)),0),-2)","v":0},0,0,0,0,0,0,0,0,0,{"$f":"ROUNDUP(IF(OR(($D167+$F$6)=U$62,($C167+$D167+$F$6)=U$62,($C167*2+$D167+$F$6)=U$62,($C167*3+$D167+$F$6)=U$62,($C167*4+$D167+$F$6)=U$62,($C167*5+$D167+$F$6)=U$62,($C167*6+$D167+$F$6)=U$62,($C167*7+$D167+$F$6)=U$62,($C167*8+$D167+$F$6)=U$62),$F167*$H167*((1+$J$52)^(U$62-$F$6)),0),-2)","v":0},0,0,0,0,0,0,0,0,0,0]
["Other (Specify) ",{"$nulls":7},0,0,0,0,0,0,0,0,0,0,0,0,0,0,0,0,0,0,0,0,0,0,0]
["Other (Specify)",{"$nulls":7},0,0,0,0,0,0,0,0,0,0,0,0,0,0,0,0,0,0,0,0,0,0,0]
["Other Subtotals",{"$nulls":7},{"$f":"SUM(I163:I169)","v":0},0,0,0,0,0,0,0,0,0,0,0,0,0,0,0,0,0,0,0,0,0,0]
["GRAND TOTAL",{"$nulls":7},{"$f":"I170+I161+I144+I82+I98","v":0},{"$f":"J170+J161+J144+J121+J98+J82","v":0},0,0,0,0,0,0,0,0,0,0,0,0,0,0,0,0,0,0,0,0,0]
["(4.15) Special Categories"]
["Amount of PNA Relating to Lead Paint/Asbestos Compliance",{"$nulls":3},"Per Sq. Ft.",{"$nulls":3},{"$f":"ROUNDUP(+G173*H173,-2)","v":0}]
["Amount of PNA Relating to Section 504, ADA, and Fair Housing Act (if applicable) Compliance",{"$nulls":3},"Per Sq. Ft.",{"$nulls":3},{"$f":"ROUNDUP(+G174*H174,-2)","v":0}]
[]
["(4.16) New Construction"]
["Dwelling Units",{"$nulls":3},"Per Sq. Ft.",{"$nulls":3},{"$f":"ROUNDUP(+G177*H177,-2)","v":0}]
["Administrative Building",{"$nulls":3},"Per Sq. Ft.",{"$nulls":3},0]
["Community Building or Facility",{"$nulls":3},"Per Sq. Ft.",{"$nulls":3},0]
["Shop",{"$nulls":3},"Per Sq. Ft.",{"$nulls":3},0]
["Storage Area",{"$nulls":3},"Per Sq. Ft.",{"$nulls":3},0]
["Family Investment Center",{"$nulls":3},"Per Sq. Ft.",{"$nulls":3},0]
["Day Care Center",{"$nulls":3},"Per Sq. Ft.",{"$nulls":3},0]
["Laundry Areas(s)",{"$nulls":3},"Per Sq. Ft.",{"$nulls":3},0]
["Other (Specify) ",{"$nulls":3},"Per Sq. Ft.",{"$nulls":3},0]
["Other (Specify)",{"$nulls":3},"Per Sq. Ft.",{"$nulls":3},0]
["Other (Specify)",{"$nulls":7},0]
["New Construction Subtotals",{"$nulls":7},{"$f":"SUM(I177:I187)","v":0}]

{"sheet":"Tab 14","index":15,"n_rows":188,"n_cols":31,"rows_kept":188,"merged":[[4,2,4,3],[5,2,5,3],[7,0,7,8],[9,1,9,2],[10,1,10,2],[20,3,20,9],[27,0,27,8],[29,8,29,9],[30,8,30,9],[31,8,31,9],[33,6,35,6],[37,4,37,9],[44,0,44,8],[46,0,46,1],[47,0,47,1],[48,0,48,1],[49,0,49,1],[50,0,50,1],[51,0,51,1],[52,0,52,1],[53,0,53,1],[54,0,54,1],[55,0,55,1],[56,0,56,1],[59,0,59,8],[61,0,61,1],[62,0,62,1],[81,0,81,1],[97,0,97,1],[120,0,120,1],[143,0,143,1],[160,0,160,1],[169,0,169,1],[170,0,170,1],[187,0,187,1]]}
["Physical Needs Assessment",{"$nulls":3},"U.S. Department of Housing",{"$nulls":4}," OMB Approval No. 2577-0157"]
["Capital Fund Financing Program/",{"$nulls":3},"and Urban Development",{"$nulls":4}," (exp. 1/31/2017)"]
["Operating Fund Financing Program",{"$nulls":3},"Office of Public and Indian Housing"]
[]
["HA Name",null,"HA Number",null,null,"FY of Assessment",null," Original  ","Date Prepared:"]
[{"$f":"'Tab 1'!A6","v":0},null,{"$f":"'Tab 6'!C6:D6","v":0},{"$nulls":4},"Revision  ","Date Revised:"]
[]
["(1.0) Project Data"]
[]
["(1.1) Management Office Address",{"$nulls":5},"(1.3) Development No.",null,"(1.4) DOFA Date"]
["(1.2) Project Name"]
[{"$nulls":4},"Family"]
[{"$nulls":3},"(1.9)","Elderly",null,null,"(1.10)","S-F Detached"]
["(1.5) Year of Last Substantial Mod",null,null,"Occupancy","Family & Disabled",null,null,"Structure","Semi-Detached"]
["(1.6) Occupancy Rate ",{"$f":"B20/(+B18-B26)","v":{"$error":"#DIV/0!"}},null,"Type(s)","Elderly & Disabled",null,null,"Type(s)","Row or Townhome"]
["        (Rentable Units Only)",null,null,"(Check)","Not Applicable",null,null,"(Check","M-F/Walkup"]
["(1.7) Latest PASS REAC Score",null,null,"all that apply)","Official Designation: Elderly",null,null,"all that","Elevator"]
["Total Units",{"$f":"+B20+B21","v":0},null,null,"Official Designation: Disabled",null,null,"apply)","Non-Dwelling"]
["(1.8) Total Buildings",{"$nulls":3},"Official Designation: Mixed"]
["Occupied Units",{"$f":"SUM(E23:J23)","v":0}]
["Vacant/Rentable Units",{"$f":"SUM(E24:J24)","v":0},null,"(1.11) Bedroom Distribution"]
[{"$nulls":4},"Eff","1BR","2BR","3BR","4BR","5BR+"]
[{"$nulls":3},"(1.11a) Occupied"]
[{"$nulls":3},"(1.11b) Vacant"]
[{"$nulls":3},"Total Units",{"$f":"SUM(E23:E24)","v":0},0,0,0,0,0]
[{"$nulls":3},"Avg Bedrooms per Unit",null,{"$f":"(+E23*1+F23*1+G23*2+H23*3+I23*4+J23*5)/SUM(E23:J23)","v":{"$error":"#DIV/0!"}}]
[]
["(2.0) Physical Needs Assessment Summary Data"]
[]
["(2.1) PNA Conducted By: (PHA/ 3rd Party)",null,"PHA Internally",null,null,"(2.5) Inspector Contact Name: "]
[null,null,"3rd Pary Independent",null,null,"(2.6) Company Name or PHA Title:"]
["(2.2) First Year Covered by PNA",{"$nulls":4},"(2.7) Inspector Contact Phone:"]
["(2.3) Length of PNA (in years)"]
["(2.4) Unit Interiors Inspected (#)",null,{"$f":"SUM(E40:J40)","v":0},{"$nulls":3},"(2.8) Data Source(s) for PNA",null,"Annual Inspections"]
["Units Inspected as % of Total",null,{"$f":"C34/B18","v":{"$error":"#DIV/0!"}},{"$nulls":5},"Contractor"]
["(2.9) Total Residential Buildings",{"$nulls":7},"REAC Inspections"]
["(2.10) Number of Building Exteriors Inspected"]
["(2.11) Total Off-Street Parking Spaces",{"$nulls":3},"(2.14) Units Inspected by Bedroom Size"]
["(2.12) Site Acreage",null,null,"acres","Eff","1BR","2BR","3BR","4BR","5BR+"]
["(2.13) Parking Area (in square feet)",null,null,"SF"]
[]
["(2.15) Physical Improvements Will Result in Structural/System Soundness at a Reasonable Cost",{"$nulls":5},"Yes","No"]
["(2.16) Development Has Long-Term Physical and Social Viability",{"$nulls":5},"Yes","No"]
[]
["(3.0) Total Physical Needs Summary"]
[]
["Major Category",null,"Immediate","Years                       1-5","Years                    6-10","Years                    11-15","Years                   16-20","Total Needs"]
["Site",null,{"$f":"+I82","v":0},{"$f":"$O$63","v":0},{"$f":"$T$63","v":0},{"$f":"$Y$63","v":0},{"$f":"$AD$63","v":0},{"$f":"SUM(C48:G48)","v":0}]
["Common Buildings",null,{"$f":"$I$98","v":0},{"$f":"$O$83","v":0},{"$f":"$T$83","v":0},{"$f":"$Y$83","v":0},{"$f":"$AD$83","v":0},0]
["Unit Exteriors",null,{"$f":"$I$121","v":0},{"$f":"$O$99","v":0},{"$f":"$T$99","v":0},{"$f":"$Y$99","v":0},{"$f":"$AD$99","v":0},0]
["Unit Interiors",null,{"$f":"$I$144","v":0},{"$f":"O122","v":0},{"$f":"T122","v":0},{"$f":"Y122","v":0},{"$f":"AD122","v":0},0]
["Mechanical",null,{"$f":"I161","v":0},{"$f":"O145","v":0},{"$f":"T145","v":0},{"$f":"Y145","v":0},{"$f":"AD145","v":0},0]
["Other",null,{"$f":"I170","v":0},{"$f":"O162","v":0},{"$f":"T162","v":0},{"$f":"Y162","v":0},{"$f":"AD162","v":0},0]
["Totals",null,{"$f":"SUM(C48:C53)","v":0},0,0,0,0,0]
["Amount of PNA relating to Lead Paint/Asbestos",null,{"$f":"I173","v":0},{"$nulls":4},{"$f":"C55","v":0}]
["Amount of PNA relating to Section 504, ADA, and Fair Housing Act (if applicable) Compliance",null,{"$f":"I174","v":0},{"$nulls":4},{"$f":"C56","v":0}]
["New Construction",{"$nulls":6},{"$f":"I188","v":0}]
[{"$nulls":5},"TOTAL PHYSICAL NEEDS",null,{"$f":"H57+H54","v":0}]
[]
["(4.0)Physical Needs Cost Estimate"]
[]
["(4.1) Category",null,"(4.2) Estimated Useful Life","(4.3)                Useful Life Remaining","(4.4)             Method","(4.5)                   Total          Quantity","(4.6)             Current Needs Quantity","(4.7)                Cost per      Quantity","(4.8)         Immediate Repairs Needed","Total Long Term Needs",{"$f":"+F6+1","v":1},{"$f":"1+K62","v":2},3,4,5,6,7,8,9,10,11,12,13,14,15,16,17,18,19,20]
["(4.9) Site",null,"(in yrs)","(in yrs)",{"$nulls":9},"Years 1-5",{"$f":"SUM(K82:O82)","v":0},{"$nulls":3},"Years 6-10",{"$f":"SUM(P82:T82)","v":0},{"$nulls":3},"Years 11-15",{"$f":"SUM(U82:Y82)","v":0},{"$nulls":3},"Years 16-20",{"$f":"SUM(Z82:AD82)","v":0}]
["Asphalt/Concrete",{"$nulls":3},"Per Sq. Ft.",{"$nulls":3},{"$f":"ROUNDUP(+G64*H64,-2)","v":0},{"$f":"SUM(K64:AD64)","v":0},{"$f":"ROUNDUP(IF(OR(($D64+$F$6)=K$62,($C64+$D64+$F$6)=K$62,($C64*2+$D64+$F$6)=K$62,($C64*3+$D64+$F$6)=K$62,($C64*4+$D64+$F$6)=K$62,($C64*5+$D64+$F$6)=K$62,($C64*6+$D64+$F$6)=K$62,($C64*7+$D64+$F$6)=K$62,($C64*8+$D64+$F$6)=K$62),$F64*$H64*((1+$J$52)^(K$62-$F$6)),0),-2)","v":0},0,0,0,0,0,0,0,0,0,{"$f":"ROUNDUP(IF(OR(($D64+$F$6)=U$62,($C64+$D64+$F$6)=U$62,($C64*2+$D64+$F$6)=U$62,($C64*3+$D64+$F$6)=U$62,($C64*4+$D64+$F$6)=U$62,($C64*5+$D64+$F$6)=U$62,($C64*6+$D64+$F$6)=U$62,($C64*7+$D64+$F$6)=U$62,($C64*8+$D64+$F$6)=U$62),$F64*$H64*((1+$J$52)^(U$62-$F$6)),0),-2)","v":0},0,0,0,0,0,0,0,0,0,{"$f":"SUM(K64:AD64)-J64","v":0}]
["Seal Coat",{"$nulls":3},"Per Sq. Ft.",{"$nulls":3},0,0,0,0,0,0,0,0,0,0,0,0,0,0,0,0,0,0,0,0,0,0,0]
["Striping",{"$nulls":3},"Per Sq. Ft.",{"$nulls":3},0,0,0,0,0,0,0,0,0,0,0,0,0,0,0,0,0,0,0,0,0,0,0]
["Curb & Gutter",{"$nulls":3},"Per Sq. Ft.",{"$nulls":3},0,0,0,0,0,0,0,0,0,0,0,0,0,0,0,0,0,0,0,0,0,0,0]
["Pedestrian paving",{"$nulls":3},"Per Sq. Ft.",{"$nulls":3},0,0,0,0,0,0,0,0,0,0,0,0,0,0,0,0,0,0,0,0,0,0,0]
["Signage",{"$nulls":3},"Per Sq. Ft.",{"$nulls":3},0,0,0,0,0,0,0,0,0,0,0,0,0,0,0,0,0,0,0,0,0,0,0]
["Water Lines/Mains",{"$nulls":3},"Per Sq. Ft.",{"$nulls":3},0,0,0,0,0,0,0,0,0,0,0,0,0,0,0,0,0,0,0,0,0,0,0]
["Sewer Lines/Mains",{"$nulls":3},"Per Sq. Ft.",{"$nulls":3},0,0,0,0,0,0,0,0,0,0,0,0,0,0,0,0,0,0,0,0,0,0,0]
["Lighting",{"$nulls":3},"Per Sq. Ft.",{"$nulls":3},0,0,0,0,0,0,0,0,0,0,0,0,0,0,0,0,0,0,0,0,0,0,0]
["Storm Drainage",{"$nulls":3},"Per Sq. Ft.",{"$nulls":3},0,0,0,0,0,0,0,0,0,0,0,0,0,0,0,0,0,0,0,0,0,0,0]
["Landscape",{"$nulls":3},"Per Sq. Ft.",{"$nulls":3},0,0,{"$f":"ROUNDUP(IF(OR(($D74+$F$6)=K$62,($C74+$D74+$F$6)=K$62,($C74*2+$D74+$F$6)=K$62,($C74*3+$D74+$F$6)=K$62,($C74*4+$D74+$F$6)=K$62,($C74*5+$D74+$F$6)=K$62,($C74*6+$D74+$F$6)=K$62,($C74*7+$D74+$F$6)=K$62,($C74*8+$D74+$F$6)=K$62),$F74*$H74*((1+$J$52)^(K$62-$F$6)),0),-2)","v":0},0,0,0,0,0,0,0,0,0,{"$f":"ROUNDUP(IF(OR(($D74+$F$6)=U$62,($C74+$D74+$F$6)=U$62,($C74*2+$D74+$F$6)=U$62,($C74*3+$D74+$F$6)=U$62,($C74*4+$D74+$F$6)=U$62,($C74*5+$D74+$F$6)=U$62,($C74*6+$D74+$F$6)=U$62,($C74*7+$D74+$F$6)=U$62,($C74*8+$D74+$F$6)=U$62),$F74*$H74*((1+$J$52)^(U$62-$F$6)),0),-2)","v":0},0,0,0,0,0,0,0,0,0,0]
["Fencing",{"$nulls":3},"Per Sq. Ft.",{"$nulls":3},0,0,0,0,0,0,0,0,0,0,0,0,0,0,0,0,0,0,0,0,0,0,0]
["Fence Painting",{"$nulls":3},"Per Sq. Ft.",{"$nulls":3},0,0,0,0,0,0,0,0,0,0,0,0,0,0,0,0,0,0,0,0,0,0,0]
["Dumpsters & Enclosures",{"$nulls":3},"Per Sq. Ft.",{"$nulls":3},0,0,0,0,0,0,0,0,0,0,0,0,0,0,0,0,0,0,0,0,0,0,0]
["Electric Distribution",{"$nulls":3},"Per Sq. Ft.",{"$nulls":3},0,0,0,0,0,0,0,0,0,0,0,0,0,0,0,0,0,0,0,0,0,0,0]
["Playground Areas/Equipment",{"$nulls":3},"Per Sq. Ft.",{"$nulls":3},0,0,0,0,0,0,0,0,0,0,0,0,0,0,0,0,0,0,0,0,0,0,0]
["Other (Specify)",{"$nulls":7},0,0,0,0,0,0,0,0,0,0,0,0,0,0,0,0,0,0,0,0,0,0,0]
["Other (Specify)",{"$nulls":7},0,0,0,0,0,0,0,0,0,0,0,0,0,0,0,0,0,0,0,0,0,0,0]
["Site Subtotals",{"$nulls":7},{"$f":"SUM(I64:I81)","v":0},0,0,0,0,0,0,0,0,0,0,0,0,0,0,0,0,0,0,0,0,0,0]
["(4.10) Common Buildings--Rehab Only",{"$nulls":12},"Years 1-5",{"$f":"SUM(K98:O98)","v":0},{"$nulls":3},"Years 6-10",{"$f":"SUM(P98:T98)","v":0},{"$nulls":3},"Years 11-15",{"$f":"SUM(T98:X98)","v":0},{"$nulls":3},"Years 16-20",{"$f":"SUM(Y98:AC98)","v":0}]
["Administrative Building",{"$nulls":3},"Per Sq. Ft.",{"$nulls":3},{"$f":"ROUNDUP(+G84*H84,-2)","v":0},{"$f":"SUM(K84:AD84)","v":0},{"$f":"ROUNDUP(IF(OR(($D84+$F$6)=K$62,($C84+$D84+$F$6)=K$62,($C84*2+$D84+$F$6)=K$62,($C84*3+$D84+$F$6)=K$62,($C84*4+$D84+$F$6)=K$62,($C84*5+$D84+$F$6)=K$62,($C84*6+$D84+$F$6)=K$62,($C84*7+$D84+$F$6)=K$62,($C84*8+$D84+$F$6)=K$62),$F84*$H84*((1+$J$52)^(K$62-$F$6)),0),-2)","v":0},0,0,0,0,0,0,0,0,0,{"$f":"ROUNDUP(IF(OR(($D84+$F$6)=U$62,($C84+$D84+$F$6)=U$62,($C84*2+$D84+$F$6)=U$62,($C84*3+$D84+$F$6)=U$62,($C84*4+$D84+$F$6)=U$62,($C84*5+$D84+$F$6)=U$62,($C84*6+$D84+$F$6)=U$62,($C84*7+$D84+$F$6)=U$62,($C84*8+$D84+$F$6)=U$62),$F84*$H84*((1+$J$52)^(U$62-$F$6)),0),-2)","v":0},0,0,0,0,0,0,0,0,0,{"$f":"SUM(K84:AD84)-J84","v":0}]
["Community Building",{"$nulls":3},"Per Sq. Ft.",{"$nulls":3},0,0,0,0,0,0,0,0,0,0,0,0,0,0,0,0,0,0,0,0,0,0,0]
["Shop",{"$nulls":3},"Per Sq. Ft.",{"$nulls":3},0,0,0,0,0,0,0,0,0,0,0,0,0,0,0,0,0,0,0,0,0,0,0]
["Storage Area",{"$nulls":3},"Per Sq. Ft.",{"$nulls":3},0,0,0,0,0,0,0,0,0,0,0,0,0,0,0,0,0,0,0,0,0,0,0]
["Central Boiler",{"$nulls":3},"Per Sq. Ft.",{"$nulls":3},0,0,0,0,0,0,0,0,0,0,0,0,0,0,0,0,0,0,0,0,0,0,0]
["Central Chiller",{"$nulls":3},"Per Sq. Ft.",{"$nulls":3},0,0,0,0,0,0,0,0,0,0,0,0,0,0,0,0,0,0,0,0,0,0,0]
["Family Invesment Center",{"$nulls":3},"Per Sq. Ft.",{"$nulls":3},0,0,0,0,0,0,0,0,0,0,0,0,0,0,0,0,0,0,0,0,0,0,0]
["Day Care Center",{"$nulls":3},"Per Sq. Ft.",{"$nulls":3},0,0,0,0,0,0,0,0,0,0,0,0,0,0,0,0,0,0,0,0,0,0,0]
["Laundry Areas",{"$nulls":3},"Per Sq. Ft.",{"$nulls":3},0,0,{"$f":"ROUNDUP(IF(OR(($D92+$F$6)=K$62,($C92+$D92+$F$6)=K$62,($C92*2+$D92+$F$6)=K$62,($C92*3+$D92+$F$6)=K$62,($C92*4+$D92+$F$6)=K$62,($C92*5+$D92+$F$6)=K$62,($C92*6+$D92+$F$6)=K$62,($C92*7+$D92+$F$6)=K$62,($C92*8+$D92+$F$6)=K$62),$F92*$H92*((1+$J$52)^(K$62-$F$6)),0),-2)","v":0},0,0,0,0,0,0,0,0,0,{"$f":"ROUNDUP(IF(OR(($D92+$F$6)=U$62,($C92+$D92+$F$6)=U$62,($C92*2+$D92+$F$6)=U$62,($C92*3+$D92+$F$6)=U$62,($C92*4+$D92+$F$6)=U$62,($C92*5+$D92+$F$6)=U$62,($C92*6+$D92+$F$6)=U$62,($C92*7+$D92+$F$6)=U$62,($C92*8+$D92+$F$6)=U$62),$F92*$H92*((1+$J$52)^(U$62-$F$6)),0),-2)","v":0},0,0,0,0,0,0,0,0,0,0]
["Common Area Washers",{"$nulls":3},"Per Sq. Ft.",{"$nulls":3},0,0,0,0,0,0,0,0,0,0,0,0,0,0,0,0,0,0,0,0,0,0,0]
["Common Area Dryers",{"$nulls":3},"Per Sq. Ft.",{"$nulls":3},0,0,0,0,0,0,0,0,0,0,0,0,0,0,0,0,0,0,0,0,0,0,0]
["Common Area Finishes",{"$nulls":3},"Per Sq. Ft.",{"$nulls":3},0,0,0,0,0,0,0,0,0,0,0,0,0,0,0,0,0,0,0,0,0,0,0]
["Other (Specify)",{"$nulls":7},0,0,0,0,0,0,0,0,0,0,0,0,0,0,0,0,0,0,0,0,0,0,0]
["Other (Specify)",{"$nulls":7},0,0,0,0,0,0,0,0,0,0,0,0,0,0,0,0,0,0,0,0,0,0,0]
["Common Subtotals",{"$nulls":7},{"$f":"SUM(I84:I97)","v":0},0,0,0,0,0,0,0,0,0,0,0,0,0,0,0,0,0,0,0,0,0,0]
["(4.11) Unit Exteriors",{"$nulls":12},"Years 1-5",{"$f":"SUM(K121:O121)","v":0},{"$nulls":3},"Years 6-10",{"$f":"SUM(P121:T121)","v":0},{"$nulls":3},"Years 11-15",{"$f":"SUM(U121:Y121)","v":0},{"$nulls":3},"Years 16-20",{"$f":"SUM(Z121:AD121)","v":0}]
["Carports/Surface Garage",{"$nulls":3},"Per Sq. Ft.",{"$nulls":3},{"$f":"ROUNDUP(+G100*H100,-2)","v":0},{"$f":"SUM(K100:AD100)","v":0},{"$f":"ROUNDUP(IF(OR(($D100+$F$6)=K$62,($C100+$D100+$F$6)=K$62,($C100*2+$D100+$F$6)=K$62,($C100*3+$D100+$F$6)=K$62,($C100*4+$D100+$F$6)=K$62,($C100*5+$D100+$F$6)=K$62,($C100*6+$D100+$F$6)=K$62,($C100*7+$D100+$F$6)=K$62,($C100*8+$D100+$F$6)=K$62),$F100*$H100*((1+$J$52)^(K$62-$F$6)),0),-2)","v":0},0,0,0,0,0,0,0,0,0,{"$f":"ROUNDUP(IF(OR(($D100+$F$6)=U$62,($C100+$D100+$F$6)=U$62,($C100*2+$D100+$F$6)=U$62,($C100*3+$D100+$F$6)=U$62,($C100*4+$D100+$F$6)=U$62,($C100*5+$D100+$F$6)=U$62,($C100*6+$D100+$F$6)=U$62,($C100*7+$D100+$F$6)=U$62,($C100*8+$D100+$F$6)=U$62),$F100*$H100*((1+$J$52)^(U$62-$F$6)),0),-2)","v":0},0,0,0,0,0,0,0,0,0,{"$f":"SUM(K100:AD100)-J100","v":0}]
["Foundation",{"$nulls":3},"Per Sq. Ft.",{"$nulls":3},0,0,0,0,0,0,0,0,0,0,0,0,0,0,0,0,0,0,0,0,0,0,0]
["Building Slab",{"$nulls":3},"Per Sq. Ft.",{"$nulls":3},0,0,0,0,0,0,0,0,0,0,0,0,0,0,0,0,0,0,0,0,0,0,0]
["Roofs",{"$nulls":3},"Per Sq. Ft.",{"$nulls":3},0,0,0,0,0,0,0,0,0,0,0,0,0,0,0,0,0,0,0,0,0,0,0]
["Canopies",{"$nulls":3},"Per Sq. Ft.",{"$nulls":3},0,0,0,0,0,0,0,0,0,0,0,0,0,0,0,0,0,0,0,0,0,0,0]
["Tuck-Pointing",{"$nulls":3},"Per Sq. Ft.",{"$nulls":3},0,0,0,0,0,0,0,0,0,0,0,0,0,0,0,0,0,0,0,0,0,0,0]
["Exterior Paint & Caulking",{"$nulls":3},"Per Sq. Ft.",{"$nulls":3},0,0,0,0,0,0,0,0,0,0,0,0,0,0,0,0,0,0,0,0,0,0,0]
["Soffits",{"$nulls":3},"Per Sq. Ft.",{"$nulls":3},0,0,0,0,0,0,0,0,0,0,0,0,0,0,0,0,0,0,0,0,0,0,0]
["Siding",{"$nulls":3},"Per Sq. Ft.",{"$nulls":3},0,0,0,0,0,0,0,0,0,0,0,0,0,0,0,0,0,0,0,0,0,0,0]
["Exterior Stairwells/Fire Escapes",{"$nulls":3},"Per Sq. Ft.",{"$nulls":3},0,0,0,0,0,0,0,0,0,0,0,0,0,0,0,0,0,0,0,0,0,0,0]
["Landings & Railings",{"$nulls":3},"Per Sq. Ft.",{"$nulls":3},0,0,{"$f":"ROUNDUP(IF(OR(($D110+$F$6)=K$62,($C110+$D110+$F$6)=K$62,($C110*2+$D110+$F$6)=K$62,($C110*3+$D110+$F$6)=K$62,($C110*4+$D110+$F$6)=K$62,($C110*5+$D110+$F$6)=K$62,($C110*6+$D110+$F$6)=K$62,($C110*7+$D110+$F$6)=K$62,($C110*8+$D110+$F$6)=K$62),$F110*$H110*((1+$J$52)^(K$62-$F$6)),0),-2)","v":0},0,0,0,0,0,0,0,0,0,{"$f":"ROUNDUP(IF(OR(($D110+$F$6)=U$62,($C110+$D110+$F$6)=U$62,($C110*2+$D110+$F$6)=U$62,($C110*3+$D110+$F$6)=U$62,($C110*4+$D110+$F$6)=U$62,($C110*5+$D110+$F$6)=U$62,($C110*6+$D110+$F$6)=U$62,($C110*7+$D110+$F$6)=U$62,($C110*8+$D110+$F$6)=U$62),$F110*$H110*((1+$J$52)^(U$62-$F$6)),0),-2)","v":0},0,0,0,0,0,0,0,0,0,0]
["Balconies & Railings",{"$nulls":3},"Per Sq. Ft.",{"$nulls":3},0,0,0,0,0,0,0,0,0,0,0,0,0,0,0,0,0,0,0,0,0,0,0]
["Mail Facilities",{"$nulls":3},"Per Sq. Ft.",{"$nulls":3},0,0,0,0,0,0,0,0,0,0,0,0,0,0,0,0,0,0,0,0,0,0,0]
["Exterior Doors",{"$nulls":3},"Per Sq. Ft.",{"$nulls":3},0,0,0,0,0,0,0,0,0,0,0,0,0,0,0,0,0,0,0,0,0,0,0]
["Windows",{"$nulls":3},"Per Sq. Ft.",{"$nulls":3},0,0,0,0,0,0,0,0,0,0,0,0,0,0,0,0,0,0,0,0,0,0,0]
["Gutters/Downspouts",{"$nulls":3},"Per Sq. Ft.",{"$nulls":3},0,0,0,0,0,0,0,0,0,0,0,0,0,0,0,0,0,0,0,0,0,0,0]
["Columns & Porches",{"$nulls":3},"Per Sq. Ft.",{"$nulls":3},0,0,0,0,0,0,0,0,0,0,0,0,0,0,0,0,0,0,0,0,0,0,0]
["Decks & Patios",{"$nulls":3},"Per Sq. Ft.",{"$nulls":3},0,0,0,0,0,0,0,0,0,0,0,0,0,0,0,0,0,0,0,0,0,0,0]
["Exterior Lighting",{"$nulls":3},"Per Sq. Ft.",{"$nulls":3},0,0,0,0,0,0,0,0,0,0,0,0,0,0,0,0,0,0,0,0,0,0,0]
["Other (Specify)",{"$nulls":7},0,0,0,0,0,0,0,0,0,0,0,0,0,0,0,0,0,0,0,0,0,0,0]
["Other (Specify)",{"$nulls":7},0,0,0,0,0,0,0,0,0,0,0,0,0,0,0,0,0,0,0,0,0,0,0]
["Unit Exterior Subtotals",{"$nulls":7},{"$f":"SUM(I100:I120)","v":0},0,0,0,0,0,0,0,0,0,0,0,0,0,0,0,0,0,0,0,0,0,0]
["(4.12) Unit Interiors",{"$nulls":12},"Years 1-5",{"$f":"SUM(K144:O144)","v":0},{"$nulls":3},"Years 6-10",{"$f":"SUM(P144:T144)","v":0},{"$nulls":3},"Years 11-15",{"$f":"SUM(U144:Y144)","v":0},{"$nulls":3},"Years 16-20",{"$f":"SUM(Z144:AD144)","v":0}]
["Interior Painting (non routine)",{"$nulls":3},"Per Sq. Ft.",{"$nulls":3},{"$f":"ROUNDUP(+G123*H123,-2)","v":0},{"$f":"SUM(K123:AD123)","v":0},{"$f":"ROUNDUP(IF(OR(($D123+$F$6)=K$62,($C123+$D123+$F$6)=K$62,($C123*2+$D123+$F$6)=K$62,($C123*3+$D123+$F$6)=K$62,($C123*4+$D123+$F$6)=K$62,($C123*5+$D123+$F$6)=K$62,($C123*6+$D123+$F$6)=K$62,($C123*7+$D123+$F$6)=K$62,($C123*8+$D123+$F$6)=K$62),$F123*$H123*((1+$J$52)^(K$62-$F$6)),0),-2)","v":0},0,0,0,0,0,0,0,0,0,{"$f":"ROUNDUP(IF(OR(($D123+$F$6)=U$62,($C123+$D123+$F$6)=U$62,($C123*2+$D123+$F$6)=U$62,($C123*3+$D123+$F$6)=U$62,($C123*4+$D123+$F$6)=U$62,($C123*5+$D123+$F$6)=U$62,($C123*6+$D123+$F$6)=U$62,($C123*7+$D123+$F$6)=U$62,($C123*8+$D123+$F$6)=U$62),$F123*$H123*((1+$J$52)^(U$62-$F$6)),0),-2)","v":0},0,0,0,0,0,0,0,0,0,{"$f":"SUM(K123:AD123)-J123","v":0}]
["Interior Doors",{"$nulls":3},"Per Sq. Ft.",{"$nulls":3},0,0,0,0,0,0,0,0,0,0,0,0,0,0,0,0,0,0,0,0,0,0,0]
["Flooring (non routine)",{"$nulls":3},"Per Sq. Ft.",{"$nulls":3},0,0,0,0,0,0,0,0,0,0,0,0,0,0,0,0,0,0,0,0,0,0,0]
["Shower/Tub Surrounds",{"$nulls":3},"Per Sq. Ft.",{"$nulls":3},0,0,0,0,0,0,0,0,0,0,0,0,0,0,0,0,0,0,0,0,0,0,0]
["Commodes",{"$nulls":3},"Per Sq. Ft.",{"$nulls":3},0,0,0,0,0,0,0,0,0,0,0,0,0,0,0,0,0,0,0,0,0,0,0]
["Vanities",{"$nulls":3},"Per Sq. Ft.",{"$nulls":3},0,0,0,0,0,0,0,0,0,0,0,0,0,0,0,0,0,0,0,0,0,0,0]
["Faucets",{"$nulls":3},"Per Sq. Ft.",{"$nulls":3},0,0,0,0,0,0,0,0,0,0,0,0,0,0,0,0,0,0,0,0,0,0,0]
["Bathroom Flooring (non cyclical)",{"$nulls":3},"Per Sq. Ft.",{"$nulls":3},0,0,0,0,0,0,0,0,0,0,0,0,0,0,0,0,0,0,0,0,0,0,0]
["Kitchen Cabinets",{"$nulls":3},"Per Sq. Ft.",{"$nulls":3},0,0,0,0,0,0,0,0,0,0,0,0,0,0,0,0,0,0,0,0,0,0,0]
["Ranges",{"$nulls":3},"Per Sq. Ft.",{"$nulls":3},0,0,0,0,0,0,0,0,0,0,0,0,0,0,0,0,0,0,0,0,0,0,0]
["Range Hoods",{"$nulls":3},"Per Sq. Ft.",{"$nulls":3},0,0,{"$f":"ROUNDUP(IF(OR(($D133+$F$6)=K$62,($C133+$D133+$F$6)=K$62,($C133*2+$D133+$F$6)=K$62,($C133*3+$D133+$F$6)=K$62,($C133*4+$D133+$F$6)=K$62,($C133*5+$D133+$F$6)=K$62,($C133*6+$D133+$F$6)=K$62,($C133*7+$D133+$F$6)=K$62,($C133*8+$D133+$F$6)=K$62),$F133*$H133*((1+$J$52)^(K$62-$F$6)),0),-2)","v":0},0,0,0,0,0,0,0,0,0,{"$f":"ROUNDUP(IF(OR(($D133+$F$6)=U$62,($C133+$D133+$F$6)=U$62,($C133*2+$D133+$F$6)=U$62,($C133*3+$D133+$F$6)=U$62,($C133*4+$D133+$F$6)=U$62,($C133*5+$D133+$F$6)=U$62,($C133*6+$D133+$F$6)=U$62,($C133*7+$D133+$F$6)=U$62,($C133*8+$D133+$F$6)=U$62),$F133*$H133*((1+$J$52)^(U$62-$F$6)),0),-2)","v":0},0,0,0,0,0,0,0,0,0,0]
["Refrigerators",{"$nulls":3},"Per Sq. Ft.",{"$nulls":3},0,0,0,0,0,0,0,0,0,0,0,0,0,0,0,0,0,0,0,0,0,0,0]
["Counters and Sinks",{"$nulls":3},"Per Sq. Ft.",{"$nulls":3},0,0,0,0,0,0,0,0,0,0,0,0,0,0,0,0,0,0,0,0,0,0,0]
["Dishwasher",{"$nulls":3},"Per Sq. Ft.",{"$nulls":3},0,0,0,0,0,0,0,0,0,0,0,0,0,0,0,0,0,0,0,0,0,0,0]
["Microwave",{"$nulls":3},"Per Sq. Ft.",{"$nulls":3},0,0,0,0,0,0,0,0,0,0,0,0,0,0,0,0,0,0,0,0,0,0,0]
["Washing Machines",{"$nulls":3},"Per Sq. Ft.",{"$nulls":3},0,0,0,0,0,0,0,0,0,0,0,0,0,0,0,0,0,0,0,0,0,0,0]
["Dryers",{"$nulls":3},"Per Sq. Ft.",{"$nulls":3},0,0,0,0,0,0,0,0,0,0,0,0,0,0,0,0,0,0,0,0,0,0,0]
["Call-for-Aid Systems",{"$nulls":7},0,0,0,0,0,0,0,0,0,0,0,0,0,0,0,0,0,0,0,0,0,0,0]
["Stairs and Handrails",{"$nulls":7},0,0,0,0,0,0,0,0,0,0,0,0,0,0,0,0,0,0,0,0,0,0,0]
["Other (Specify)",{"$nulls":7},0,0,0,0,0,0,0,0,0,0,0,0,0,0,0,0,0,0,0,0,0,0,0]
["Other (Specify)",{"$nulls":7},0,0,0,0,0,0,0,0,0,0,0,0,0,0,0,0,0,0,0,0,0,0,0]
["Unit Interior Subtotals",{"$nulls":7},{"$f":"SUM(I123:I143)","v":0},0,0,0,0,0,0,0,0,0,0,0,0,0,0,0,0,0,0,0,0,0,0]
["(4.13) Mechanical",{"$nulls":12},"Years 1-5",{"$f":"SUM(K161:O161)","v":0},{"$nulls":3},"Years 6-10",{"$f":"SUM(P161:T161)","v":0},{"$nulls":3},"Years 11-15",{"$f":"SUM(U161:Y161)","v":0},{"$nulls":3},"Years 16-20",{"$f":"SUM(Z161:AD161)","v":0}]
["Water Distribution",{"$nulls":3},"Per Sq. Ft.",{"$nulls":3},{"$f":"ROUNDUP(+G146*H146,-2)","v":0},{"$f":"SUM(K146:AD146)","v":0},{"$f":"ROUNDUP(IF(OR(($D146+$F$6)=K$62,($C146+$D146+$F$6)=K$62,($C146*2+$D146+$F$6)=K$62,($C146*3+$D146+$F$6)=K$62,($C146*4+$D146+$F$6)=K$62,($C146*5+$D146+$F$6)=K$62,($C146*6+$D146+$F$6)=K$62,($C146*7+$D146+$F$6)=K$62,($C146*8+$D146+$F$6)=K$62),$F146*$H146*((1+$J$52)^(K$62-$F$6)),0),-2)","v":0},0,0,0,0,0,0,0,0,0,{"$f":"ROUNDUP(IF(OR(($D146+$F$6)=U$62,($C146+$D146+$F$6)=U$62,($C146*2+$D146+$F$6)=U$62,($C146*3+$D146+$F$6)=U$62,($C146*4+$D146+$F$6)=U$62,($C146*5+$D146+$F$6)=U$62,($C146*6+$D146+$F$6)=U$62,($C146*7+$D146+$F$6)=U$62,($C146*8+$D146+$F$6)=U$62),$F146*$H146*((1+$J$52)^(U$62-$F$6)),0),-2)","v":0},0,0,0,0,0,0,0,0,0,{"$f":"SUM(K146:AD146)-J146","v":0}]
["Heating Equipt/System",{"$nulls":3},"Per Sq. Ft.",{"$nulls":3},0,0,0,0,0,0,0,0,0,0,0,0,0,0,0,0,0,0,0,0,0,0,0]
["Electric Disribution",{"$nulls":3},"Per Sq. Ft.",{"$nulls":3},0,0,0,0,0,0,0,0,0,0,0,0,0,0,0,0,0,0,0,0,0,0,0]
["Hot Water Heaters",{"$nulls":3},"Per Sq. Ft.",{"$nulls":3},0,0,0,0,0,0,0,0,0,0,0,0,0,0,0,0,0,0,0,0,0,0,0]
["Unit Sub-panels",{"$nulls":3},"Per Sq. Ft.",{"$nulls":3},0,0,0,0,0,0,0,0,0,0,0,0,0,0,0,0,0,0,0,0,0,0,0]
["Trash Compactor",{"$nulls":3},"Per Sq. Ft.",{"$nulls":3},0,0,0,0,0,0,0,0,0,0,0,0,0,0,0,0,0,0,0,0,0,0,0]
["Cooling Equipt/Systems",{"$nulls":3},"Per Sq. Ft.",{"$nulls":3},0,0,0,0,0,0,0,0,0,0,0,0,0,0,0,0,0,0,0,0,0,0,0]
["Smoke/Fire Detection",{"$nulls":3},"Per Sq. Ft.",{"$nulls":3},0,0,0,0,0,0,0,0,0,0,0,0,0,0,0,0,0,0,0,0,0,0,0]
["Unit Reconfiguration",{"$nulls":3},"Per Sq. Ft.",{"$nulls":3},0,0,0,0,0,0,0,0,0,0,0,0,0,0,0,0,0,0,0,0,0,0,0]
["Security/Fire Alarm",{"$nulls":3},"Per Sq. Ft.",{"$nulls":3},0,0,0,0,0,0,0,0,0,0,0,0,0,0,0,0,0,0,0,0,0,0,0]
["Fire Suspression System",{"$nulls":3},"Per Sq. Ft.",{"$nulls":3},0,0,0,0,0,0,0,0,0,0,0,0,0,0,0,0,0,0,0,0,0,0,0]
["Generator",{"$nulls":3},"Per Sq. Ft.",{"$nulls":3},0,0,0,0,0,0,0,0,0,0,0,0,0,0,0,0,0,0,0,0,0,0,0]
["Elevator",{"$nulls":3},"Per Sq. Ft.",{"$nulls":3},0,0,0,0,0,0,0,0,0,0,0,0,0,0,0,0,0,0,0,0,0,0,0]
["Other (Specify) ",{"$nulls":7},0,0,0,0,0,0,0,0,0,0,0,0,0,0,0,0,0,0,0,0,0,0,0]
["Other (Specify)",{"$nulls":7},0,0,0,0,0,0,0,0,0,0,0,0,0,0,0,0,0,0,0,0,0,0,0]
["Mechanical Subtotals",{"$nulls":7},{"$f":"SUM(I146:I160)","v":0},0,0,0,0,0,0,0,0,0,0,0,0,0,0,0,0,0,0,0,0,0,0]
["(4.14) Other",{"$nulls":12},"Years 1-5",{"$f":"SUM(K170:O170)","v":0},{"$nulls":3},"Years 6-10",{"$f":"SUM(P170:T170)","v":0},{"$nulls":3},"Years 11-15",{"$f":"SUM(U170:Y170)","v":0},{"$nulls":3},"Years 16-20",{"$f":"SUM(Z170:AD170)","v":0}]
["Site Acquisition",{"$nulls":3},"Per Sq. Ft.",{"$nulls":3},{"$f":"ROUNDUP(+G163*H163,-2)","v":0},{"$f":"SUM(K163:AD163)","v":0},{"$f":"ROUNDUP(IF(OR(($D163+$F$6)=K$62,($C163+$D163+$F$6)=K$62,($C163*2+$D163+$F$6)=K$62,($C163*3+$D163+$F$6)=K$62,($C163*4+$D163+$F$6)=K$62,($C163*5+$D163+$F$6)=K$62,($C163*6+$D163+$F$6)=K$62,($C163*7+$D163+$F$6)=K$62,($C163*8+$D163+$F$6)=K$62),$F163*$H163*((1+$J$52)^(K$62-$F$6)),0),-2)","v":0},0,0,0,0,0,0,0,0,0,{"$f":"ROUNDUP(IF(OR(($D163+$F$6)=U$62,($C163+$D163+$F$6)=U$62,($C163*2+$D163+$F$6)=U$62,($C163*3+$D163+$F$6)=U$62,($C163*4+$D163+$F$6)=U$62,($C163*5+$D163+$F$6)=U$62,($C163*6+$D163+$F$6)=U$62,($C163*7+$D163+$F$6)=U$62,($C163*8+$D163+$F$6)=U$62),$F163*$H163*((1+$J$52)^(U$62-$F$6)),0),-2)","v":0},0,0,0,0,0,0,0,0,0,{"$f":"SUM(K163:AD163)-J163","v":0}]
["Other Fees and Costs",{"$nulls":3},"Per Sq. Ft.",{"$nulls":3},0,0,0,0,0,0,0,0,0,0,0,0,0,0,0,0,0,0,0,0,0,0,0]
["Demolition",{"$nulls":3},"Per Sq. Ft.",{"$nulls":3},0,0,0,0,0,0,0,0,0,0,0,0,0,0,0,0,0,0,0,0,0,0,0]
["Dwelling Unit Conversion",{"$nulls":3},"Per Sq. Ft.",{"$nulls":3},0,0,0,0,0,0,0,0,0,0,0,0,0,0,0,0,0,0,0,0,0,0,0]
["Contingency",{"$nulls":3},"Per Sq. Ft.",{"$nulls":3},0,0,{"$f":"ROUNDUP(IF(OR(($D167+$F$6)=K$62,($C167+$D167+$F$6)=K$62,($C167*2+$D167+$F$6)=K$62,($C167*3+$D167+$F$6)=K$62,($C167*4+$D167+$F$6)=K$62,($C167*5+$D167+$F$6)=K$62,($C167*6+$D167+$F$6)=K$62,($C167*7+$D167+$F$6)=K$62,($C167*8+$D167+$F$6)=K$62),$F167*$H167*((1+$J$52)^(K$62-$F$6)),0),-2)","v":0},0,0,0,0,0,0,0,0,0,{"$f":"ROUNDUP(IF(OR(($D167+$F$6)=U$62,($C167+$D167+$F$6)=U$62,($C167*2+$D167+$F$6)=U$62,($C167*3+$D167+$F$6)=U$62,($C167*4+$D167+$F$6)=U$62,($C167*5+$D167+$F$6)=U$62,($C167*6+$D167+$F$6)=U$62,($C167*7+$D167+$F$6)=U$62,($C167*8+$D167+$F$6)=U$62),$F167*$H167*((1+$J$52)^(U$62-$F$6)),0),-2)","v":0},0,0,0,0,0,0,0,0,0,0]
["Other (Specify) ",{"$nulls":7},0,0,0,0,0,0,0,0,0,0,0,0,0,0,0,0,0,0,0,0,0,0,0]
["Other (Specify)",{"$nulls":7},0,0,0,0,0,0,0,0,0,0,0,0,0,0,0,0,0,0,0,0,0,0,0]
["Other Subtotals",{"$nulls":7},{"$f":"SUM(I163:I169)","v":0},0,0,0,0,0,0,0,0,0,0,0,0,0,0,0,0,0,0,0,0,0,0]
["GRAND TOTAL",{"$nulls":7},{"$f":"I170+I161+I144+I82+I98","v":0},{"$f":"J170+J161+J144+J121+J98+J82","v":0},0,0,0,0,0,0,0,0,0,0,0,0,0,0,0,0,0,0,0,0,0]
["(4.15) Special Categories"]
["Amount of PNA Relating to Lead Paint/Asbestos Compliance",{"$nulls":3},"Per Sq. Ft.",{"$nulls":3},{"$f":"ROUNDUP(+G173*H173,-2)","v":0}]
["Amount of PNA Relating to Section 504, ADA, and Fair Housing Act (if applicable) Compliance",{"$nulls":3},"Per Sq. Ft.",{"$nulls":3},{"$f":"ROUNDUP(+G174*H174,-2)","v":0}]
[]
["(4.16) New Construction"]
["Dwelling Units",{"$nulls":3},"Per Sq. Ft.",{"$nulls":3},{"$f":"ROUNDUP(+G177*H177,-2)","v":0}]
["Administrative Building",{"$nulls":3},"Per Sq. Ft.",{"$nulls":3},0]
["Community Building or Facility",{"$nulls":3},"Per Sq. Ft.",{"$nulls":3},0]
["Shop",{"$nulls":3},"Per Sq. Ft.",{"$nulls":3},0]
["Storage Area",{"$nulls":3},"Per Sq. Ft.",{"$nulls":3},0]
["Family Investment Center",{"$nulls":3},"Per Sq. Ft.",{"$nulls":3},0]
["Day Care Center",{"$nulls":3},"Per Sq. Ft.",{"$nulls":3},0]
["Laundry Areas(s)",{"$nulls":3},"Per Sq. Ft.",{"$nulls":3},0]
["Other (Specify) ",{"$nulls":3},"Per Sq. Ft.",{"$nulls":3},0]
["Other (Specify)",{"$nulls":3},"Per Sq. Ft.",{"$nulls":3},0]
["Other (Specify)",{"$nulls":7},0]
["New Construction Subtotals",{"$nulls":7},{"$f":"SUM(I177:I187)","v":0}]

{"sheet":"Tab 15","index":16,"n_rows":188,"n_cols":31,"rows_kept":188,"merged":[[4,2,4,3],[5,2,5,3],[7,0,7,8],[9,1,9,2],[10,1,10,2],[20,3,20,9],[27,0,27,8],[29,8,29,9],[30,8,30,9],[31,8,31,9],[33,6,35,6],[37,4,37,9],[44,0,44,8],[46,0,46,1],[47,0,47,1],[48,0,48,1],[49,0,49,1],[50,0,50,1],[51,0,51,1],[52,0,52,1],[53,0,53,1],[54,0,54,1],[55,0,55,1],[56,0,56,1],[59,0,59,8],[61,0,61,1],[62,0,62,1],[81,0,81,1],[97,0,97,1],[120,0,120,1],[143,0,143,1],[160,0,160,1],[169,0,169,1],[170,0,170,1],[187,0,187,1]]}
["Physical Needs Assessment",{"$nulls":3},"U.S. Department of Housing",{"$nulls":4}," OMB Approval No. 2577-0157"]
["Capital Fund Financing Program/",{"$nulls":3},"and Urban Development",{"$nulls":4}," (exp. 1/31/2017)"]
["Operating Fund Financing Program",{"$nulls":3},"Office of Public and Indian Housing"]
[]
["HA Name",null,"HA Number",null,null,"FY of Assessment",null," Original  ","Date Prepared:"]
[{"$f":"'Tab 1'!A6","v":0},null,{"$f":"'Tab 6'!C6:D6","v":0},{"$nulls":4},"Revision  ","Date Revised:"]
[]
["(1.0) Project Data"]
[]
["(1.1) Management Office Address",{"$nulls":5},"(1.3) Development No.",null,"(1.4) DOFA Date"]
["(1.2) Project Name"]
[{"$nulls":4},"Family"]
[{"$nulls":3},"(1.9)","Elderly",null,null,"(1.10)","S-F Detached"]
["(1.5) Year of Last Substantial Mod",null,null,"Occupancy","Family & Disabled",null,null,"Structure","Semi-Detached"]
["(1.6) Occupancy Rate ",{"$f":"B20/(+B18-B26)","v":{"$error":"#DIV/0!"}},null,"Type(s)","Elderly & Disabled",null,null,"Type(s)","Row or Townhome"]
["        (Rentable Units Only)",null,null,"(Check)","Not Applicable",null,null,"(Check","M-F/Walkup"]
["(1.7) Latest PASS REAC Score",null,null,"all that apply)","Official Designation: Elderly",null,null,"all that","Elevator"]
["Total Units",{"$f":"+B20+B21","v":0},null,null,"Official Designation: Disabled",null,null,"apply)","Non-Dwelling"]
["(1.8) Total Buildings",{"$nulls":3},"Official Designation: Mixed"]
["Occupied Units",{"$f":"SUM(E23:J23)","v":0}]
["Vacant/Rentable Units",{"$f":"SUM(E24:J24)","v":0},null,"(1.11) Bedroom Distribution"]
[{"$nulls":4},"Eff","1BR","2BR","3BR","4BR","5BR+"]
[{"$nulls":3},"(1.11a) Occupied"]
[{"$nulls":3},"(1.11b) Vacant"]
[{"$nulls":3},"Total Units",{"$f":"SUM(E23:E24)","v":0},0,0,0,0,0]
[{"$nulls":3},"Avg Bedrooms per Unit",null,{"$f":"(+E23*1+F23*1+G23*2+H23*3+I23*4+J23*5)/SUM(E23:J23)","v":{"$error":"#DIV/0!"}}]
[]
["(2.0) Physical Needs Assessment Summary Data"]
[]
["(2.1) PNA Conducted By: (PHA/ 3rd Party)",null,"PHA Internally",null,null,"(2.5) Inspector Contact Name: "]
[null,null,"3rd Pary Independent",null,null,"(2.6) Company Name or PHA Title:"]
["(2.2) First Year Covered by PNA",{"$nulls":4},"(2.7) Inspector Contact Phone:"]
["(2.3) Length of PNA (in years)"]
["(2.4) Unit Interiors Inspected (#)",null,{"$f":"SUM(E40:J40)","v":0},{"$nulls":3},"(2.8) Data Source(s) for PNA",null,"Annual Inspections"]
["Units Inspected as % of Total",null,{"$f":"C34/B18","v":{"$error":"#DIV/0!"}},{"$nulls":5},"Contractor"]
["(2.9) Total Residential Buildings",{"$nulls":7},"REAC Inspections"]
["(2.10) Number of Building Exteriors Inspected"]
["(2.11) Total Off-Street Parking Spaces",{"$nulls":3},"(2.14) Units Inspected by Bedroom Size"]
["(2.12) Site Acreage",null,null,"acres","Eff","1BR","2BR","3BR","4BR","5BR+"]
["(2.13) Parking Area (in square feet)",null,null,"SF"]
[]
["(2.15) Physical Improvements Will Result in Structural/System Soundness at a Reasonable Cost",{"$nulls":5},"Yes","No"]
["(2.16) Development Has Long-Term Physical and Social Viability",{"$nulls":5},"Yes","No"]
[]
["(3.0) Total Physical Needs Summary"]
[]
["Major Category",null,"Immediate","Years                       1-5","Years                    6-10","Years                    11-15","Years                   16-20","Total Needs"]
["Site",null,{"$f":"+I82","v":0},{"$f":"$O$63","v":0},{"$f":"$T$63","v":0},{"$f":"$Y$63","v":0},{"$f":"$AD$63","v":0},{"$f":"SUM(C48:G48)","v":0}]
["Common Buildings",null,{"$f":"$I$98","v":0},{"$f":"$O$83","v":0},{"$f":"$T$83","v":0},{"$f":"$Y$83","v":0},{"$f":"$AD$83","v":0},0]
["Unit Exteriors",null,{"$f":"$I$121","v":0},{"$f":"$O$99","v":0},{"$f":"$T$99","v":0},{"$f":"$Y$99","v":0},{"$f":"$AD$99","v":0},0]
["Unit Interiors",null,{"$f":"$I$144","v":0},{"$f":"O122","v":0},{"$f":"T122","v":0},{"$f":"Y122","v":0},{"$f":"AD122","v":0},0]
["Mechanical",null,{"$f":"I161","v":0},{"$f":"O145","v":0},{"$f":"T145","v":0},{"$f":"Y145","v":0},{"$f":"AD145","v":0},0]
["Other",null,{"$f":"I170","v":0},{"$f":"O162","v":0},{"$f":"T162","v":0},{"$f":"Y162","v":0},{"$f":"AD162","v":0},0]
["Totals",null,{"$f":"SUM(C48:C53)","v":0},0,0,0,0,0]
["Amount of PNA relating to Lead Paint/Asbestos",null,{"$f":"I173","v":0},{"$nulls":4},{"$f":"C55","v":0}]
["Amount of PNA relating to Section 504, ADA, and Fair Housing Act (if applicable) Compliance",null,{"$f":"I174","v":0},{"$nulls":4},{"$f":"C56","v":0}]
["New Construction",{"$nulls":6},{"$f":"I188","v":0}]
[{"$nulls":5},"TOTAL PHYSICAL NEEDS",null,{"$f":"H57+H54","v":0}]
[]
["(4.0)Physical Needs Cost Estimate"]
[]
["(4.1) Category",null,"(4.2) Estimated Useful Life","(4.3)                Useful Life Remaining","(4.4)             Method","(4.5)                   Total          Quantity","(4.6)             Current Needs Quantity","(4.7)                Cost per      Quantity","(4.8)         Immediate Repairs Needed","Total Long Term Needs",{"$f":"+F6+1","v":1},{"$f":"1+K62","v":2},3,4,5,6,7,8,9,10,11,12,13,14,15,16,17,18,19,20]
["(4.9) Site",null,"(in yrs)","(in yrs)",{"$nulls":9},"Years 1-5",{"$f":"SUM(K82:O82)","v":0},{"$nulls":3},"Years 6-10",{"$f":"SUM(P82:T82)","v":0},{"$nulls":3},"Years 11-15",{"$f":"SUM(U82:Y82)","v":0},{"$nulls":3},"Years 16-20",{"$f":"SUM(Z82:AD82)","v":0}]
["Asphalt/Concrete",{"$nulls":3},"Per Sq. Ft.",{"$nulls":3},{"$f":"ROUNDUP(+G64*H64,-2)","v":0},{"$f":"SUM(K64:AD64)","v":0},{"$f":"ROUNDUP(IF(OR(($D64+$F$6)=K$62,($C64+$D64+$F$6)=K$62,($C64*2+$D64+$F$6)=K$62,($C64*3+$D64+$F$6)=K$62,($C64*4+$D64+$F$6)=K$62,($C64*5+$D64+$F$6)=K$62,($C64*6+$D64+$F$6)=K$62,($C64*7+$D64+$F$6)=K$62,($C64*8+$D64+$F$6)=K$62),$F64*$H64*((1+$J$52)^(K$62-$F$6)),0),-2)","v":0},0,0,0,0,0,0,0,0,0,{"$f":"ROUNDUP(IF(OR(($D64+$F$6)=U$62,($C64+$D64+$F$6)=U$62,($C64*2+$D64+$F$6)=U$62,($C64*3+$D64+$F$6)=U$62,($C64*4+$D64+$F$6)=U$62,($C64*5+$D64+$F$6)=U$62,($C64*6+$D64+$F$6)=U$62,($C64*7+$D64+$F$6)=U$62,($C64*8+$D64+$F$6)=U$62),$F64*$H64*((1+$J$52)^(U$62-$F$6)),0),-2)","v":0},0,0,0,0,0,0,0,0,0,{"$f":"SUM(K64:AD64)-J64","v":0}]
["Seal Coat",{"$nulls":3},"Per Sq. Ft.",{"$nulls":3},0,0,0,0,0,0,0,0,0,0,0,0,0,0,0,0,0,0,0,0,0,0,0]
["Striping",{"$nulls":3},"Per Sq. Ft.",{"$nulls":3},0,0,0,0,0,0,0,0,0,0,0,0,0,0,0,0,0,0,0,0,0,0,0]
["Curb & Gutter",{"$nulls":3},"Per Sq. Ft.",{"$nulls":3},0,0,0,0,0,0,0,0,0,0,0,0,0,0,0,0,0,0,0,0,0,0,0]
["Pedestrian paving",{"$nulls":3},"Per Sq. Ft.",{"$nulls":3},0,0,0,0,0,0,0,0,0,0,0,0,0,0,0,0,0,0,0,0,0,0,0]
["Signage",{"$nulls":3},"Per Sq. Ft.",{"$nulls":3},0,0,0,0,0,0,0,0,0,0,0,0,0,0,0,0,0,0,0,0,0,0,0]
["Water Lines/Mains",{"$nulls":3},"Per Sq. Ft.",{"$nulls":3},0,0,0,0,0,0,0,0,0,0,0,0,0,0,0,0,0,0,0,0,0,0,0]
["Sewer Lines/Mains",{"$nulls":3},"Per Sq. Ft.",{"$nulls":3},0,0,0,0,0,0,0,0,0,0,0,0,0,0,0,0,0,0,0,0,0,0,0]
["Lighting",{"$nulls":3},"Per Sq. Ft.",{"$nulls":3},0,0,0,0,0,0,0,0,0,0,0,0,0,0,0,0,0,0,0,0,0,0,0]
["Storm Drainage",{"$nulls":3},"Per Sq. Ft.",{"$nulls":3},0,0,0,0,0,0,0,0,0,0,0,0,0,0,0,0,0,0,0,0,0,0,0]
["Landscape",{"$nulls":3},"Per Sq. Ft.",{"$nulls":3},0,0,{"$f":"ROUNDUP(IF(OR(($D74+$F$6)=K$62,($C74+$D74+$F$6)=K$62,($C74*2+$D74+$F$6)=K$62,($C74*3+$D74+$F$6)=K$62,($C74*4+$D74+$F$6)=K$62,($C74*5+$D74+$F$6)=K$62,($C74*6+$D74+$F$6)=K$62,($C74*7+$D74+$F$6)=K$62,($C74*8+$D74+$F$6)=K$62),$F74*$H74*((1+$J$52)^(K$62-$F$6)),0),-2)","v":0},0,0,0,0,0,0,0,0,0,{"$f":"ROUNDUP(IF(OR(($D74+$F$6)=U$62,($C74+$D74+$F$6)=U$62,($C74*2+$D74+$F$6)=U$62,($C74*3+$D74+$F$6)=U$62,($C74*4+$D74+$F$6)=U$62,($C74*5+$D74+$F$6)=U$62,($C74*6+$D74+$F$6)=U$62,($C74*7+$D74+$F$6)=U$62,($C74*8+$D74+$F$6)=U$62),$F74*$H74*((1+$J$52)^(U$62-$F$6)),0),-2)","v":0},0,0,0,0,0,0,0,0,0,0]
["Fencing",{"$nulls":3},"Per Sq. Ft.",{"$nulls":3},0,0,0,0,0,0,0,0,0,0,0,0,0,0,0,0,0,0,0,0,0,0,0]
["Fence Painting",{"$nulls":3},"Per Sq. Ft.",{"$nulls":3},0,0,0,0,0,0,0,0,0,0,0,0,0,0,0,0,0,0,0,0,0,0,0]
["Dumpsters & Enclosures",{"$nulls":3},"Per Sq. Ft.",{"$nulls":3},0,0,0,0,0,0,0,0,0,0,0,0,0,0,0,0,0,0,0,0,0,0,0]
["Electric Distribution",{"$nulls":3},"Per Sq. Ft.",{"$nulls":3},0,0,0,0,0,0,0,0,0,0,0,0,0,0,0,0,0,0,0,0,0,0,0]
["Playground Areas/Equipment",{"$nulls":3},"Per Sq. Ft.",{"$nulls":3},0,0,0,0,0,0,0,0,0,0,0,0,0,0,0,0,0,0,0,0,0,0,0]
["Other (Specify)",{"$nulls":7},0,0,0,0,0,0,0,0,0,0,0,0,0,0,0,0,0,0,0,0,0,0,0]
["Other (Specify)",{"$nulls":7},0,0,0,0,0,0,0,0,0,0,0,0,0,0,0,0,0,0,0,0,0,0,0]
["Site Subtotals",{"$nulls":7},{"$f":"SUM(I64:I81)","v":0},0,0,0,0,0,0,0,0,0,0,0,0,0,0,0,0,0,0,0,0,0,0]
["(4.10) Common Buildings--Rehab Only",{"$nulls":12},"Years 1-5",{"$f":"SUM(K98:O98)","v":0},{"$nulls":3},"Years 6-10",{"$f":"SUM(P98:T98)","v":0},{"$nulls":3},"Years 11-15",{"$f":"SUM(T98:X98)","v":0},{"$nulls":3},"Years 16-20",{"$f":"SUM(Y98:AC98)","v":0}]
["Administrative Building",{"$nulls":3},"Per Sq. Ft.",{"$nulls":3},{"$f":"ROUNDUP(+G84*H84,-2)","v":0},{"$f":"SUM(K84:AD84)","v":0},{"$f":"ROUNDUP(IF(OR(($D84+$F$6)=K$62,($C84+$D84+$F$6)=K$62,($C84*2+$D84+$F$6)=K$62,($C84*3+$D84+$F$6)=K$62,($C84*4+$D84+$F$6)=K$62,($C84*5+$D84+$F$6)=K$62,($C84*6+$D84+$F$6)=K$62,($C84*7+$D84+$F$6)=K$62,($C84*8+$D84+$F$6)=K$62),$F84*$H84*((1+$J$52)^(K$62-$F$6)),0),-2)","v":0},0,0,0,0,0,0,0,0,0,{"$f":"ROUNDUP(IF(OR(($D84+$F$6)=U$62,($C84+$D84+$F$6)=U$62,($C84*2+$D84+$F$6)=U$62,($C84*3+$D84+$F$6)=U$62,($C84*4+$D84+$F$6)=U$62,($C84*5+$D84+$F$6)=U$62,($C84*6+$D84+$F$6)=U$62,($C84*7+$D84+$F$6)=U$62,($C84*8+$D84+$F$6)=U$62),$F84*$H84*((1+$J$52)^(U$62-$F$6)),0),-2)","v":0},0,0,0,0,0,0,0,0,0,{"$f":"SUM(K84:AD84)-J84","v":0}]
["Community Building",{"$nulls":3},"Per Sq. Ft.",{"$nulls":3},0,0,0,0,0,0,0,0,0,0,0,0,0,0,0,0,0,0,0,0,0,0,0]
["Shop",{"$nulls":3},"Per Sq. Ft.",{"$nulls":3},0,0,0,0,0,0,0,0,0,0,0,0,0,0,0,0,0,0,0,0,0,0,0]
["Storage Area",{"$nulls":3},"Per Sq. Ft.",{"$nulls":3},0,0,0,0,0,0,0,0,0,0,0,0,0,0,0,0,0,0,0,0,0,0,0]
["Central Boiler",{"$nulls":3},"Per Sq. Ft.",{"$nulls":3},0,0,0,0,0,0,0,0,0,0,0,0,0,0,0,0,0,0,0,0,0,0,0]
["Central Chiller",{"$nulls":3},"Per Sq. Ft.",{"$nulls":3},0,0,0,0,0,0,0,0,0,0,0,0,0,0,0,0,0,0,0,0,0,0,0]
["Family Invesment Center",{"$nulls":3},"Per Sq. Ft.",{"$nulls":3},0,0,0,0,0,0,0,0,0,0,0,0,0,0,0,0,0,0,0,0,0,0,0]
["Day Care Center",{"$nulls":3},"Per Sq. Ft.",{"$nulls":3},0,0,0,0,0,0,0,0,0,0,0,0,0,0,0,0,0,0,0,0,0,0,0]
["Laundry Areas",{"$nulls":3},"Per Sq. Ft.",{"$nulls":3},0,0,{"$f":"ROUNDUP(IF(OR(($D92+$F$6)=K$62,($C92+$D92+$F$6)=K$62,($C92*2+$D92+$F$6)=K$62,($C92*3+$D92+$F$6)=K$62,($C92*4+$D92+$F$6)=K$62,($C92*5+$D92+$F$6)=K$62,($C92*6+$D92+$F$6)=K$62,($C92*7+$D92+$F$6)=K$62,($C92*8+$D92+$F$6)=K$62),$F92*$H92*((1+$J$52)^(K$62-$F$6)),0),-2)","v":0},0,0,0,0,0,0,0,0,0,{"$f":"ROUNDUP(IF(OR(($D92+$F$6)=U$62,($C92+$D92+$F$6)=U$62,($C92*2+$D92+$F$6)=U$62,($C92*3+$D92+$F$6)=U$62,($C92*4+$D92+$F$6)=U$62,($C92*5+$D92+$F$6)=U$62,($C92*6+$D92+$F$6)=U$62,($C92*7+$D92+$F$6)=U$62,($C92*8+$D92+$F$6)=U$62),$F92*$H92*((1+$J$52)^(U$62-$F$6)),0),-2)","v":0},0,0,0,0,0,0,0,0,0,0]
["Common Area Washers",{"$nulls":3},"Per Sq. Ft.",{"$nulls":3},0,0,0,0,0,0,0,0,0,0,0,0,0,0,0,0,0,0,0,0,0,0,0]
["Common Area Dryers",{"$nulls":3},"Per Sq. Ft.",{"$nulls":3},0,0,0,0,0,0,0,0,0,0,0,0,0,0,0,0,0,0,0,0,0,0,0]
["Common Area Finishes",{"$nulls":3},"Per Sq. Ft.",{"$nulls":3},0,0,0,0,0,0,0,0,0,0,0,0,0,0,0,0,0,0,0,0,0,0,0]
["Other (Specify)",{"$nulls":7},0,0,0,0,0,0,0,0,0,0,0,0,0,0,0,0,0,0,0,0,0,0,0]
["Other (Specify)",{"$nulls":7},0,0,0,0,0,0,0,0,0,0,0,0,0,0,0,0,0,0,0,0,0,0,0]
["Common Subtotals",{"$nulls":7},{"$f":"SUM(I84:I97)","v":0},0,0,0,0,0,0,0,0,0,0,0,0,0,0,0,0,0,0,0,0,0,0]
["(4.11) Unit Exteriors",{"$nulls":12},"Years 1-5",{"$f":"SUM(K121:O121)","v":0},{"$nulls":3},"Years 6-10",{"$f":"SUM(P121:T121)","v":0},{"$nulls":3},"Years 11-15",{"$f":"SUM(U121:Y121)","v":0},{"$nulls":3},"Years 16-20",{"$f":"SUM(Z121:AD121)","v":0}]
["Carports/Surface Garage",{"$nulls":3},"Per Sq. Ft.",{"$nulls":3},{"$f":"ROUNDUP(+G100*H100,-2)","v":0},{"$f":"SUM(K100:AD100)","v":0},{"$f":"ROUNDUP(IF(OR(($D100+$F$6)=K$62,($C100+$D100+$F$6)=K$62,($C100*2+$D100+$F$6)=K$62,($C100*3+$D100+$F$6)=K$62,($C100*4+$D100+$F$6)=K$62,($C100*5+$D100+$F$6)=K$62,($C100*6+$D100+$F$6)=K$62,($C100*7+$D100+$F$6)=K$62,($C100*8+$D100+$F$6)=K$62),$F100*$H100*((1+$J$52)^(K$62-$F$6)),0),-2)","v":0},0,0,0,0,0,0,0,0,0,{"$f":"ROUNDUP(IF(OR(($D100+$F$6)=U$62,($C100+$D100+$F$6)=U$62,($C100*2+$D100+$F$6)=U$62,($C100*3+$D100+$F$6)=U$62,($C100*4+$D100+$F$6)=U$62,($C100*5+$D100+$F$6)=U$62,($C100*6+$D100+$F$6)=U$62,($C100*7+$D100+$F$6)=U$62,($C100*8+$D100+$F$6)=U$62),$F100*$H100*((1+$J$52)^(U$62-$F$6)),0),-2)","v":0},0,0,0,0,0,0,0,0,0,{"$f":"SUM(K100:AD100)-J100","v":0}]
["Foundation",{"$nulls":3},"Per Sq. Ft.",{"$nulls":3},0,0,0,0,0,0,0,0,0,0,0,0,0,0,0,0,0,0,0,0,0,0,0]
["Building Slab",{"$nulls":3},"Per Sq. Ft.",{"$nulls":3},0,0,0,0,0,0,0,0,0,0,0,0,0,0,0,0,0,0,0,0,0,0,0]
["Roofs",{"$nulls":3},"Per Sq. Ft.",{"$nulls":3},0,0,0,0,0,0,0,0,0,0,0,0,0,0,0,0,0,0,0,0,0,0,0]
["Canopies",{"$nulls":3},"Per Sq. Ft.",{"$nulls":3},0,0,0,0,0,0,0,0,0,0,0,0,0,0,0,0,0,0,0,0,0,0,0]
["Tuck-Pointing",{"$nulls":3},"Per Sq. Ft.",{"$nulls":3},0,0,0,0,0,0,0,0,0,0,0,0,0,0,0,0,0,0,0,0,0,0,0]
["Exterior Paint & Caulking",{"$nulls":3},"Per Sq. Ft.",{"$nulls":3},0,0,0,0,0,0,0,0,0,0,0,0,0,0,0,0,0,0,0,0,0,0,0]
["Soffits",{"$nulls":3},"Per Sq. Ft.",{"$nulls":3},0,0,0,0,0,0,0,0,0,0,0,0,0,0,0,0,0,0,0,0,0,0,0]
["Siding",{"$nulls":3},"Per Sq. Ft.",{"$nulls":3},0,0,0,0,0,0,0,0,0,0,0,0,0,0,0,0,0,0,0,0,0,0,0]
["Exterior Stairwells/Fire Escapes",{"$nulls":3},"Per Sq. Ft.",{"$nulls":3},0,0,0,0,0,0,0,0,0,0,0,0,0,0,0,0,0,0,0,0,0,0,0]
["Landings & Railings",{"$nulls":3},"Per Sq. Ft.",{"$nulls":3},0,0,{"$f":"ROUNDUP(IF(OR(($D110+$F$6)=K$62,($C110+$D110+$F$6)=K$62,($C110*2+$D110+$F$6)=K$62,($C110*3+$D110+$F$6)=K$62,($C110*4+$D110+$F$6)=K$62,($C110*5+$D110+$F$6)=K$62,($C110*6+$D110+$F$6)=K$62,($C110*7+$D110+$F$6)=K$62,($C110*8+$D110+$F$6)=K$62),$F110*$H110*((1+$J$52)^(K$62-$F$6)),0),-2)","v":0},0,0,0,0,0,0,0,0,0,{"$f":"ROUNDUP(IF(OR(($D110+$F$6)=U$62,($C110+$D110+$F$6)=U$62,($C110*2+$D110+$F$6)=U$62,($C110*3+$D110+$F$6)=U$62,($C110*4+$D110+$F$6)=U$62,($C110*5+$D110+$F$6)=U$62,($C110*6+$D110+$F$6)=U$62,($C110*7+$D110+$F$6)=U$62,($C110*8+$D110+$F$6)=U$62),$F110*$H110*((1+$J$52)^(U$62-$F$6)),0),-2)","v":0},0,0,0,0,0,0,0,0,0,0]
["Balconies & Railings",{"$nulls":3},"Per Sq. Ft.",{"$nulls":3},0,0,0,0,0,0,0,0,0,0,0,0,0,0,0,0,0,0,0,0,0,0,0]
["Mail Facilities",{"$nulls":3},"Per Sq. Ft.",{"$nulls":3},0,0,0,0,0,0,0,0,0,0,0,0,0,0,0,0,0,0,0,0,0,0,0]
["Exterior Doors",{"$nulls":3},"Per Sq. Ft.",{"$nulls":3},0,0,0,0,0,0,0,0,0,0,0,0,0,0,0,0,0,0,0,0,0,0,0]
["Windows",{"$nulls":3},"Per Sq. Ft.",{"$nulls":3},0,0,0,0,0,0,0,0,0,0,0,0,0,0,0,0,0,0,0,0,0,0,0]
["Gutters/Downspouts",{"$nulls":3},"Per Sq. Ft.",{"$nulls":3},0,0,0,0,0,0,0,0,0,0,0,0,0,0,0,0,0,0,0,0,0,0,0]
["Columns & Porches",{"$nulls":3},"Per Sq. Ft.",{"$nulls":3},0,0,0,0,0,0,0,0,0,0,0,0,0,0,0,0,0,0,0,0,0,0,0]
["Decks & Patios",{"$nulls":3},"Per Sq. Ft.",{"$nulls":3},0,0,0,0,0,0,0,0,0,0,0,0,0,0,0,0,0,0,0,0,0,0,0]
["Exterior Lighting",{"$nulls":3},"Per Sq. Ft.",{"$nulls":3},0,0,0,0,0,0,0,0,0,0,0,0,0,0,0,0,0,0,0,0,0,0,0]
["Other (Specify)",{"$nulls":7},0,0,0,0,0,0,0,0,0,0,0,0,0,0,0,0,0,0,0,0,0,0,0]
["Other (Specify)",{"$nulls":7},0,0,0,0,0,0,0,0,0,0,0,0,0,0,0,0,0,0,0,0,0,0,0]
["Unit Exterior Subtotals",{"$nulls":7},{"$f":"SUM(I100:I120)","v":0},0,0,0,0,0,0,0,0,0,0,0,0,0,0,0,0,0,0,0,0,0,0]
["(4.12) Unit Interiors",{"$nulls":12},"Years 1-5",{"$f":"SUM(K144:O144)","v":0},{"$nulls":3},"Years 6-10",{"$f":"SUM(P144:T144)","v":0},{"$nulls":3},"Years 11-15",{"$f":"SUM(U144:Y144)","v":0},{"$nulls":3},"Years 16-20",{"$f":"SUM(Z144:AD144)","v":0}]
["Interior Painting (non routine)",{"$nulls":3},"Per Sq. Ft.",{"$nulls":3},{"$f":"ROUNDUP(+G123*H123,-2)","v":0},{"$f":"SUM(K123:AD123)","v":0},{"$f":"ROUNDUP(IF(OR(($D123+$F$6)=K$62,($C123+$D123+$F$6)=K$62,($C123*2+$D123+$F$6)=K$62,($C123*3+$D123+$F$6)=K$62,($C123*4+$D123+$F$6)=K$62,($C123*5+$D123+$F$6)=K$62,($C123*6+$D123+$F$6)=K$62,($C123*7+$D123+$F$6)=K$62,($C123*8+$D123+$F$6)=K$62),$F123*$H123*((1+$J$52)^(K$62-$F$6)),0),-2)","v":0},0,0,0,0,0,0,0,0,0,{"$f":"ROUNDUP(IF(OR(($D123+$F$6)=U$62,($C123+$D123+$F$6)=U$62,($C123*2+$D123+$F$6)=U$62,($C123*3+$D123+$F$6)=U$62,($C123*4+$D123+$F$6)=U$62,($C123*5+$D123+$F$6)=U$62,($C123*6+$D123+$F$6)=U$62,($C123*7+$D123+$F$6)=U$62,($C123*8+$D123+$F$6)=U$62),$F123*$H123*((1+$J$52)^(U$62-$F$6)),0),-2)","v":0},0,0,0,0,0,0,0,0,0,{"$f":"SUM(K123:AD123)-J123","v":0}]
["Interior Doors",{"$nulls":3},"Per Sq. Ft.",{"$nulls":3},0,0,0,0,0,0,0,0,0,0,0,0,0,0,0,0,0,0,0,0,0,0,0]
["Flooring (non routine)",{"$nulls":3},"Per Sq. Ft.",{"$nulls":3},0,0,0,0,0,0,0,0,0,0,0,0,0,0,0,0,0,0,0,0,0,0,0]
["Shower/Tub Surrounds",{"$nulls":3},"Per Sq. Ft.",{"$nulls":3},0,0,0,0,0,0,0,0,0,0,0,0,0,0,0,0,0,0,0,0,0,0,0]
["Commodes",{"$nulls":3},"Per Sq. Ft.",{"$nulls":3},0,0,0,0,0,0,0,0,0,0,0,0,0,0,0,0,0,0,0,0,0,0,0]
["Vanities",{"$nulls":3},"Per Sq. Ft.",{"$nulls":3},0,0,0,0,0,0,0,0,0,0,0,0,0,0,0,0,0,0,0,0,0,0,0]
["Faucets",{"$nulls":3},"Per Sq. Ft.",{"$nulls":3},0,0,0,0,0,0,0,0,0,0,0,0,0,0,0,0,0,0,0,0,0,0,0]
["Bathroom Flooring (non cyclical)",{"$nulls":3},"Per Sq. Ft.",{"$nulls":3},0,0,0,0,0,0,0,0,0,0,0,0,0,0,0,0,0,0,0,0,0,0,0]
["Kitchen Cabinets",{"$nulls":3},"Per Sq. Ft.",{"$nulls":3},0,0,0,0,0,0,0,0,0,0,0,0,0,0,0,0,0,0,0,0,0,0,0]
["Ranges",{"$nulls":3},"Per Sq. Ft.",{"$nulls":3},0,0,0,0,0,0,0,0,0,0,0,0,0,0,0,0,0,0,0,0,0,0,0]
["Range Hoods",{"$nulls":3},"Per Sq. Ft.",{"$nulls":3},0,0,{"$f":"ROUNDUP(IF(OR(($D133+$F$6)=K$62,($C133+$D133+$F$6)=K$62,($C133*2+$D133+$F$6)=K$62,($C133*3+$D133+$F$6)=K$62,($C133*4+$D133+$F$6)=K$62,($C133*5+$D133+$F$6)=K$62,($C133*6+$D133+$F$6)=K$62,($C133*7+$D133+$F$6)=K$62,($C133*8+$D133+$F$6)=K$62),$F133*$H133*((1+$J$52)^(K$62-$F$6)),0),-2)","v":0},0,0,0,0,0,0,0,0,0,{"$f":"ROUNDUP(IF(OR(($D133+$F$6)=U$62,($C133+$D133+$F$6)=U$62,($C133*2+$D133+$F$6)=U$62,($C133*3+$D133+$F$6)=U$62,($C133*4+$D133+$F$6)=U$62,($C133*5+$D133+$F$6)=U$62,($C133*6+$D133+$F$6)=U$62,($C133*7+$D133+$F$6)=U$62,($C133*8+$D133+$F$6)=U$62),$F133*$H133*((1+$J$52)^(U$62-$F$6)),0),-2)","v":0},0,0,0,0,0,0,0,0,0,0]
["Refrigerators",{"$nulls":3},"Per Sq. Ft.",{"$nulls":3},0,0,0,0,0,0,0,0,0,0,0,0,0,0,0,0,0,0,0,0,0,0,0]
["Counters and Sinks",{"$nulls":3},"Per Sq. Ft.",{"$nulls":3},0,0,0,0,0,0,0,0,0,0,0,0,0,0,0,0,0,0,0,0,0,0,0]
["Dishwasher",{"$nulls":3},"Per Sq. Ft.",{"$nulls":3},0,0,0,0,0,0,0,0,0,0,0,0,0,0,0,0,0,0,0,0,0,0,0]
["Microwave",{"$nulls":3},"Per Sq. Ft.",{"$nulls":3},0,0,0,0,0,0,0,0,0,0,0,0,0,0,0,0,0,0,0,0,0,0,0]
["Washing Machines",{"$nulls":3},"Per Sq. Ft.",{"$nulls":3},0,0,0,0,0,0,0,0,0,0,0,0,0,0,0,0,0,0,0,0,0,0,0]
["Dryers",{"$nulls":3},"Per Sq. Ft.",{"$nulls":3},0,0,0,0,0,0,0,0,0,0,0,0,0,0,0,0,0,0,0,0,0,0,0]
["Call-for-Aid Systems",{"$nulls":7},0,0,0,0,0,0,0,0,0,0,0,0,0,0,0,0,0,0,0,0,0,0,0]
["Stairs and Handrails",{"$nulls":7},0,0,0,0,0,0,0,0,0,0,0,0,0,0,0,0,0,0,0,0,0,0,0]
["Other (Specify)",{"$nulls":7},0,0,0,0,0,0,0,0,0,0,0,0,0,0,0,0,0,0,0,0,0,0,0]
["Other (Specify)",{"$nulls":7},0,0,0,0,0,0,0,0,0,0,0,0,0,0,0,0,0,0,0,0,0,0,0]
["Unit Interior Subtotals",{"$nulls":7},{"$f":"SUM(I123:I143)","v":0},0,0,0,0,0,0,0,0,0,0,0,0,0,0,0,0,0,0,0,0,0,0]
["(4.13) Mechanical",{"$nulls":12},"Years 1-5",{"$f":"SUM(K161:O161)","v":0},{"$nulls":3},"Years 6-10",{"$f":"SUM(P161:T161)","v":0},{"$nulls":3},"Years 11-15",{"$f":"SUM(U161:Y161)","v":0},{"$nulls":3},"Years 16-20",{"$f":"SUM(Z161:AD161)","v":0}]
["Water Distribution",{"$nulls":3},"Per Sq. Ft.",{"$nulls":3},{"$f":"ROUNDUP(+G146*H146,-2)","v":0},{"$f":"SUM(K146:AD146)","v":0},{"$f":"ROUNDUP(IF(OR(($D146+$F$6)=K$62,($C146+$D146+$F$6)=K$62,($C146*2+$D146+$F$6)=K$62,($C146*3+$D146+$F$6)=K$62,($C146*4+$D146+$F$6)=K$62,($C146*5+$D146+$F$6)=K$62,($C146*6+$D146+$F$6)=K$62,($C146*7+$D146+$F$6)=K$62,($C146*8+$D146+$F$6)=K$62),$F146*$H146*((1+$J$52)^(K$62-$F$6)),0),-2)","v":0},0,0,0,0,0,0,0,0,0,{"$f":"ROUNDUP(IF(OR(($D146+$F$6)=U$62,($C146+$D146+$F$6)=U$62,($C146*2+$D146+$F$6)=U$62,($C146*3+$D146+$F$6)=U$62,($C146*4+$D146+$F$6)=U$62,($C146*5+$D146+$F$6)=U$62,($C146*6+$D146+$F$6)=U$62,($C146*7+$D146+$F$6)=U$62,($C146*8+$D146+$F$6)=U$62),$F146*$H146*((1+$J$52)^(U$62-$F$6)),0),-2)","v":0},0,0,0,0,0,0,0,0,0,{"$f":"SUM(K146:AD146)-J146","v":0}]
["Heating Equipt/System",{"$nulls":3},"Per Sq. Ft.",{"$nulls":3},0,0,0,0,0,0,0,0,0,0,0,0,0,0,0,0,0,0,0,0,0,0,0]
["Electric Disribution",{"$nulls":3},"Per Sq. Ft.",{"$nulls":3},0,0,0,0,0,0,0,0,0,0,0,0,0,0,0,0,0,0,0,0,0,0,0]
["Hot Water Heaters",{"$nulls":3},"Per Sq. Ft.",{"$nulls":3},0,0,0,0,0,0,0,0,0,0,0,0,0,0,0,0,0,0,0,0,0,0,0]
["Unit Sub-panels",{"$nulls":3},"Per Sq. Ft.",{"$nulls":3},0,0,0,0,0,0,0,0,0,0,0,0,0,0,0,0,0,0,0,0,0,0,0]
["Trash Compactor",{"$nulls":3},"Per Sq. Ft.",{"$nulls":3},0,0,0,0,0,0,0,0,0,0,0,0,0,0,0,0,0,0,0,0,0,0,0]
["Cooling Equipt/Systems",{"$nulls":3},"Per Sq. Ft.",{"$nulls":3},0,0,0,0,0,0,0,0,0,0,0,0,0,0,0,0,0,0,0,0,0,0,0]
["Smoke/Fire Detection",{"$nulls":3},"Per Sq. Ft.",{"$nulls":3},0,0,0,0,0,0,0,0,0,0,0,0,0,0,0,0,0,0,0,0,0,0,0]
["Unit Reconfiguration",{"$nulls":3},"Per Sq. Ft.",{"$nulls":3},0,0,0,0,0,0,0,0,0,0,0,0,0,0,0,0,0,0,0,0,0,0,0]
["Security/Fire Alarm",{"$nulls":3},"Per Sq. Ft.",{"$nulls":3},0,0,0,0,0,0,0,0,0,0,0,0,0,0,0,0,0,0,0,0,0,0,0]
["Fire Suspression System",{"$nulls":3},"Per Sq. Ft.",{"$nulls":3},0,0,0,0,0,0,0,0,0,0,0,0,0,0,0,0,0,0,0,0,0,0,0]
["Generator",{"$nulls":3},"Per Sq. Ft.",{"$nulls":3},0,0,0,0,0,0,0,0,0,0,0,0,0,0,0,0,0,0,0,0,0,0,0]
["Elevator",{"$nulls":3},"Per Sq. Ft.",{"$nulls":3},0,0,0,0,0,0,0,0,0,0,0,0,0,0,0,0,0,0,0,0,0,0,0]
["Other (Specify) ",{"$nulls":7},0,0,0,0,0,0,0,0,0,0,0,0,0,0,0,0,0,0,0,0,0,0,0]
["Other (Specify)",{"$nulls":7},0,0,0,0,0,0,0,0,0,0,0,0,0,0,0,0,0,0,0,0,0,0,0]
["Mechanical Subtotals",{"$nulls":7},{"$f":"SUM(I146:I160)","v":0},0,0,0,0,0,0,0,0,0,0,0,0,0,0,0,0,0,0,0,0,0,0]
["(4.14) Other",{"$nulls":12},"Years 1-5",{"$f":"SUM(K170:O170)","v":0},{"$nulls":3},"Years 6-10",{"$f":"SUM(P170:T170)","v":0},{"$nulls":3},"Years 11-15",{"$f":"SUM(U170:Y170)","v":0},{"$nulls":3},"Years 16-20",{"$f":"SUM(Z170:AD170)","v":0}]
["Site Acquisition",{"$nulls":3},"Per Sq. Ft.",{"$nulls":3},{"$f":"ROUNDUP(+G163*H163,-2)","v":0},{"$f":"SUM(K163:AD163)","v":0},{"$f":"ROUNDUP(IF(OR(($D163+$F$6)=K$62,($C163+$D163+$F$6)=K$62,($C163*2+$D163+$F$6)=K$62,($C163*3+$D163+$F$6)=K$62,($C163*4+$D163+$F$6)=K$62,($C163*5+$D163+$F$6)=K$62,($C163*6+$D163+$F$6)=K$62,($C163*7+$D163+$F$6)=K$62,($C163*8+$D163+$F$6)=K$62),$F163*$H163*((1+$J$52)^(K$62-$F$6)),0),-2)","v":0},0,0,0,0,0,0,0,0,0,{"$f":"ROUNDUP(IF(OR(($D163+$F$6)=U$62,($C163+$D163+$F$6)=U$62,($C163*2+$D163+$F$6)=U$62,($C163*3+$D163+$F$6)=U$62,($C163*4+$D163+$F$6)=U$62,($C163*5+$D163+$F$6)=U$62,($C163*6+$D163+$F$6)=U$62,($C163*7+$D163+$F$6)=U$62,($C163*8+$D163+$F$6)=U$62),$F163*$H163*((1+$J$52)^(U$62-$F$6)),0),-2)","v":0},0,0,0,0,0,0,0,0,0,{"$f":"SUM(K163:AD163)-J163","v":0}]
["Other Fees and Costs",{"$nulls":3},"Per Sq. Ft.",{"$nulls":3},0,0,0,0,0,0,0,0,0,0,0,0,0,0,0,0,0,0,0,0,0,0,0]
["Demolition",{"$nulls":3},"Per Sq. Ft.",{"$nulls":3},0,0,0,0,0,0,0,0,0,0,0,0,0,0,0,0,0,0,0,0,0,0,0]
["Dwelling Unit Conversion",{"$nulls":3},"Per Sq. Ft.",{"$nulls":3},0,0,0,0,0,0,0,0,0,0,0,0,0,0,0,0,0,0,0,0,0,0,0]
["Contingency",{"$nulls":3},"Per Sq. Ft.",{"$nulls":3},0,0,{"$f":"ROUNDUP(IF(OR(($D167+$F$6)=K$62,($C167+$D167+$F$6)=K$62,($C167*2+$D167+$F$6)=K$62,($C167*3+$D167+$F$6)=K$62,($C167*4+$D167+$F$6)=K$62,($C167*5+$D167+$F$6)=K$62,($C167*6+$D167+$F$6)=K$62,($C167*7+$D167+$F$6)=K$62,($C167*8+$D167+$F$6)=K$62),$F167*$H167*((1+$J$52)^(K$62-$F$6)),0),-2)","v":0},0,0,0,0,0,0,0,0,0,{"$f":"ROUNDUP(IF(OR(($D167+$F$6)=U$62,($C167+$D167+$F$6)=U$62,($C167*2+$D167+$F$6)=U$62,($C167*3+$D167+$F$6)=U$62,($C167*4+$D167+$F$6)=U$62,($C167*5+$D167+$F$6)=U$62,($C167*6+$D167+$F$6)=U$62,($C167*7+$D167+$F$6)=U$62,($C167*8+$D167+$F$6)=U$62),$F167*$H167*((1+$J$52)^(U$62-$F$6)),0),-2)","v":0},0,0,0,0,0,0,0,0,0,0]
["Other (Specify) ",{"$nulls":7},0,0,0,0,0,0,0,0,0,0,0,0,0,0,0,0,0,0,0,0,0,0,0]
["Other (Specify)",{"$nulls":7},0,0,0,0,0,0,0,0,0,0,0,0,0,0,0,0,0,0,0,0,0,0,0]
["Other Subtotals",{"$nulls":7},{"$f":"SUM(I163:I169)","v":0},0,0,0,0,0,0,0,0,0,0,0,0,0,0,0,0,0,0,0,0,0,0]
["GRAND TOTAL",{"$nulls":7},{"$f":"I170+I161+I144+I82+I98","v":0},{"$f":"J170+J161+J144+J121+J98+J82","v":0},0,0,0,0,0,0,0,0,0,0,0,0,0,0,0,0,0,0,0,0,0]
["(4.15) Special Categories"]
["Amount of PNA Relating to Lead Paint/Asbestos Compliance",{"$nulls":3},"Per Sq. Ft.",{"$nulls":3},{"$f":"ROUNDUP(+G173*H173,-2)","v":0}]
["Amount of PNA Relating to Section 504, ADA, and Fair Housing Act (if applicable) Compliance",{"$nulls":3},"Per Sq. Ft.",{"$nulls":3},{"$f":"ROUNDUP(+G174*H174,-2)","v":0}]
[]
["(4.16) New Construction"]
["Dwelling Units",{"$nulls":3},"Per Sq. Ft.",{"$nulls":3},{"$f":"ROUNDUP(+G177*H177,-2)","v":0}]
["Administrative Building",{"$nulls":3},"Per Sq. Ft.",{"$nulls":3},0]
["Community Building or Facility",{"$nulls":3},"Per Sq. Ft.",{"$nulls":3},0]
["Shop",{"$nulls":3},"Per Sq. Ft.",{"$nulls":3},0]
["Storage Area",{"$nulls":3},"Per Sq. Ft.",{"$nulls":3},0]
["Family Investment Center",{"$nulls":3},"Per Sq. Ft.",{"$nulls":3},0]
["Day Care Center",{"$nulls":3},"Per Sq. Ft.",{"$nulls":3},0]
["Laundry Areas(s)",{"$nulls":3},"Per Sq. Ft.",{"$nulls":3},0]
["Other (Specify) ",{"$nulls":3},"Per Sq. Ft.",{"$nulls":3},0]
["Other (Specify)",{"$nulls":3},"Per Sq. Ft.",{"$nulls":3},0]
["Other (Specify)",{"$nulls":7},0]
["New Construction Subtotals",{"$nulls":7},{"$f":"SUM(I177:I187)","v":0}]

{"sheet":"Tab 16","index":17,"n_rows":188,"n_cols":31,"rows_kept":188,"merged":[[4,2,4,3],[5,2,5,3],[7,0,7,8],[9,1,9,2],[10,1,10,2],[20,3,20,9],[27,0,27,8],[29,8,29,9],[30,8,30,9],[31,8,31,9],[33,6,35,6],[37,4,37,9],[44,0,44,8],[46,0,46,1],[47,0,47,1],[48,0,48,1],[49,0,49,1],[50,0,50,1],[51,0,51,1],[52,0,52,1],[53,0,53,1],[54,0,54,1],[55,0,55,1],[56,0,56,1],[59,0,59,8],[61,0,61,1],[62,0,62,1],[81,0,81,1],[97,0,97,1],[120,0,120,1],[143,0,143,1],[160,0,160,1],[169,0,169,1],[170,0,170,1],[187,0,187,1]]}
["Physical Needs Assessment",{"$nulls":3},"U.S. Department of Housing",{"$nulls":4}," OMB Approval No. 2577-0157"]
["Capital Fund Financing Program/",{"$nulls":3},"and Urban Development",{"$nulls":4}," (exp. 1/31/2017)"]
["Operating Fund Financing Program",{"$nulls":3},"Office of Public and Indian Housing"]
[]
["HA Name",null,"HA Number",null,null,"FY of Assessment",null," Original  ","Date Prepared:"]
[{"$f":"'Tab 1'!A6","v":0},null,{"$f":"'Tab 6'!C6:D6","v":0},{"$nulls":4},"Revision  ","Date Revised:"]
[]
["(1.0) Project Data"]
[]
["(1.1) Management Office Address",{"$nulls":5},"(1.3) Development No.",null,"(1.4) DOFA Date"]
["(1.2) Project Name"]
[{"$nulls":4},"Family"]
[{"$nulls":3},"(1.9)","Elderly",null,null,"(1.10)","S-F Detached"]
["(1.5) Year of Last Substantial Mod",null,null,"Occupancy","Family & Disabled",null,null,"Structure","Semi-Detached"]
["(1.6) Occupancy Rate ",{"$f":"B20/(+B18-B26)","v":{"$error":"#DIV/0!"}},null,"Type(s)","Elderly & Disabled",null,null,"Type(s)","Row or Townhome"]
["        (Rentable Units Only)",null,null,"(Check)","Not Applicable",null,null,"(Check","M-F/Walkup"]
["(1.7) Latest PASS REAC Score",null,null,"all that apply)","Official Designation: Elderly",null,null,"all that","Elevator"]
["Total Units",{"$f":"+B20+B21","v":0},null,null,"Official Designation: Disabled",null,null,"apply)","Non-Dwelling"]
["(1.8) Total Buildings",{"$nulls":3},"Official Designation: Mixed"]
["Occupied Units",{"$f":"SUM(E23:J23)","v":0}]
["Vacant/Rentable Units",{"$f":"SUM(E24:J24)","v":0},null,"(1.11) Bedroom Distribution"]
[{"$nulls":4},"Eff","1BR","2BR","3BR","4BR","5BR+"]
[{"$nulls":3},"(1.11a) Occupied"]
[{"$nulls":3},"(1.11b) Vacant"]
[{"$nulls":3},"Total Units",{"$f":"SUM(E23:E24)","v":0},0,0,0,0,0]
[{"$nulls":3},"Avg Bedrooms per Unit",null,{"$f":"(+E23*1+F23*1+G23*2+H23*3+I23*4+J23*5)/SUM(E23:J23)","v":{"$error":"#DIV/0!"}}]
[]
["(2.0) Physical Needs Assessment Summary Data"]
[]
["(2.1) PNA Conducted By: (PHA/ 3rd Party)",null,"PHA Internally",null,null,"(2.5) Inspector Contact Name: "]
[null,null,"3rd Pary Independent",null,null,"(2.6) Company Name or PHA Title:"]
["(2.2) First Year Covered by PNA",{"$nulls":4},"(2.7) Inspector Contact Phone:"]
["(2.3) Length of PNA (in years)"]
["(2.4) Unit Interiors Inspected (#)",null,{"$f":"SUM(E40:J40)","v":0},{"$nulls":3},"(2.8) Data Source(s) for PNA",null,"Annual Inspections"]
["Units Inspected as % of Total",null,{"$f":"C34/B18","v":{"$error":"#DIV/0!"}},{"$nulls":5},"Contractor"]
["(2.9) Total Residential Buildings",{"$nulls":7},"REAC Inspections"]
["(2.10) Number of Building Exteriors Inspected"]
["(2.11) Total Off-Street Parking Spaces",{"$nulls":3},"(2.14) Units Inspected by Bedroom Size"]
["(2.12) Site Acreage",null,null,"acres","Eff","1BR","2BR","3BR","4BR","5BR+"]
["(2.13) Parking Area (in square feet)",null,null,"SF"]
[]
["(2.15) Physical Improvements Will Result in Structural/System Soundness at a Reasonable Cost",{"$nulls":5},"Yes","No"]
["(2.16) Development Has Long-Term Physical and Social Viability",{"$nulls":5},"Yes","No"]
[]
["(3.0) Total Physical Needs Summary"]
[]
["Major Category",null,"Immediate","Years                       1-5","Years                    6-10","Years                    11-15","Years                   16-20","Total Needs"]
["Site",null,{"$f":"+I82","v":0},{"$f":"$O$63","v":0},{"$f":"$T$63","v":0},{"$f":"$Y$63","v":0},{"$f":"$AD$63","v":0},{"$f":"SUM(C48:G48)","v":0}]
["Common Buildings",null,{"$f":"$I$98","v":0},{"$f":"$O$83","v":0},{"$f":"$T$83","v":0},{"$f":"$Y$83","v":0},{"$f":"$AD$83","v":0},0]
["Unit Exteriors",null,{"$f":"$I$121","v":0},{"$f":"$O$99","v":0},{"$f":"$T$99","v":0},{"$f":"$Y$99","v":0},{"$f":"$AD$99","v":0},0]
["Unit Interiors",null,{"$f":"$I$144","v":0},{"$f":"O122","v":0},{"$f":"T122","v":0},{"$f":"Y122","v":0},{"$f":"AD122","v":0},0]
["Mechanical",null,{"$f":"I161","v":0},{"$f":"O145","v":0},{"$f":"T145","v":0},{"$f":"Y145","v":0},{"$f":"AD145","v":0},0]
["Other",null,{"$f":"I170","v":0},{"$f":"O162","v":0},{"$f":"T162","v":0},{"$f":"Y162","v":0},{"$f":"AD162","v":0},0]
["Totals",null,{"$f":"SUM(C48:C53)","v":0},0,0,0,0,0]
["Amount of PNA relating to Lead Paint/Asbestos",null,{"$f":"I173","v":0},{"$nulls":4},{"$f":"C55","v":0}]
["Amount of PNA relating to Section 504, ADA, and Fair Housing Act (if applicable) Compliance",null,{"$f":"I174","v":0},{"$nulls":4},{"$f":"C56","v":0}]
["New Construction",{"$nulls":6},{"$f":"I188","v":0}]
[{"$nulls":5},"TOTAL PHYSICAL NEEDS",null,{"$f":"H57+H54","v":0}]
[]
["(4.0)Physical Needs Cost Estimate"]
[]
["(4.1) Category",null,"(4.2) Estimated Useful Life","(4.3)                Useful Life Remaining","(4.4)             Method","(4.5)                   Total          Quantity","(4.6)             Current Needs Quantity","(4.7)                Cost per      Quantity","(4.8)         Immediate Repairs Needed","Total Long Term Needs",{"$f":"+F6+1","v":1},{"$f":"1+K62","v":2},3,4,5,6,7,8,9,10,11,12,13,14,15,16,17,18,19,20]
["(4.9) Site",null,"(in yrs)","(in yrs)",{"$nulls":9},"Years 1-5",{"$f":"SUM(K82:O82)","v":0},{"$nulls":3},"Years 6-10",{"$f":"SUM(P82:T82)","v":0},{"$nulls":3},"Years 11-15",{"$f":"SUM(U82:Y82)","v":0},{"$nulls":3},"Years 16-20",{"$f":"SUM(Z82:AD82)","v":0}]
["Asphalt/Concrete",{"$nulls":3},"Per Sq. Ft.",{"$nulls":3},{"$f":"ROUNDUP(+G64*H64,-2)","v":0},{"$f":"SUM(K64:AD64)","v":0},{"$f":"ROUNDUP(IF(OR(($D64+$F$6)=K$62,($C64+$D64+$F$6)=K$62,($C64*2+$D64+$F$6)=K$62,($C64*3+$D64+$F$6)=K$62,($C64*4+$D64+$F$6)=K$62,($C64*5+$D64+$F$6)=K$62,($C64*6+$D64+$F$6)=K$62,($C64*7+$D64+$F$6)=K$62,($C64*8+$D64+$F$6)=K$62),$F64*$H64*((1+$J$52)^(K$62-$F$6)),0),-2)","v":0},0,0,0,0,0,0,0,0,0,{"$f":"ROUNDUP(IF(OR(($D64+$F$6)=U$62,($C64+$D64+$F$6)=U$62,($C64*2+$D64+$F$6)=U$62,($C64*3+$D64+$F$6)=U$62,($C64*4+$D64+$F$6)=U$62,($C64*5+$D64+$F$6)=U$62,($C64*6+$D64+$F$6)=U$62,($C64*7+$D64+$F$6)=U$62,($C64*8+$D64+$F$6)=U$62),$F64*$H64*((1+$J$52)^(U$62-$F$6)),0),-2)","v":0},0,0,0,0,0,0,0,0,0,{"$f":"SUM(K64:AD64)-J64","v":0}]
["Seal Coat",{"$nulls":3},"Per Sq. Ft.",{"$nulls":3},0,0,0,0,0,0,0,0,0,0,0,0,0,0,0,0,0,0,0,0,0,0,0]
["Striping",{"$nulls":3},"Per Sq. Ft.",{"$nulls":3},0,0,0,0,0,0,0,0,0,0,0,0,0,0,0,0,0,0,0,0,0,0,0]
["Curb & Gutter",{"$nulls":3},"Per Sq. Ft.",{"$nulls":3},0,0,0,0,0,0,0,0,0,0,0,0,0,0,0,0,0,0,0,0,0,0,0]
["Pedestrian paving",{"$nulls":3},"Per Sq. Ft.",{"$nulls":3},0,0,0,0,0,0,0,0,0,0,0,0,0,0,0,0,0,0,0,0,0,0,0]
["Signage",{"$nulls":3},"Per Sq. Ft.",{"$nulls":3},0,0,0,0,0,0,0,0,0,0,0,0,0,0,0,0,0,0,0,0,0,0,0]
["Water Lines/Mains",{"$nulls":3},"Per Sq. Ft.",{"$nulls":3},0,0,0,0,0,0,0,0,0,0,0,0,0,0,0,0,0,0,0,0,0,0,0]
["Sewer Lines/Mains",{"$nulls":3},"Per Sq. Ft.",{"$nulls":3},0,0,0,0,0,0,0,0,0,0,0,0,0,0,0,0,0,0,0,0,0,0,0]
["Lighting",{"$nulls":3},"Per Sq. Ft.",{"$nulls":3},0,0,0,0,0,0,0,0,0,0,0,0,0,0,0,0,0,0,0,0,0,0,0]
["Storm Drainage",{"$nulls":3},"Per Sq. Ft.",{"$nulls":3},0,0,0,0,0,0,0,0,0,0,0,0,0,0,0,0,0,0,0,0,0,0,0]
["Landscape",{"$nulls":3},"Per Sq. Ft.",{"$nulls":3},0,0,{"$f":"ROUNDUP(IF(OR(($D74+$F$6)=K$62,($C74+$D74+$F$6)=K$62,($C74*2+$D74+$F$6)=K$62,($C74*3+$D74+$F$6)=K$62,($C74*4+$D74+$F$6)=K$62,($C74*5+$D74+$F$6)=K$62,($C74*6+$D74+$F$6)=K$62,($C74*7+$D74+$F$6)=K$62,($C74*8+$D74+$F$6)=K$62),$F74*$H74*((1+$J$52)^(K$62-$F$6)),0),-2)","v":0},0,0,0,0,0,0,0,0,0,{"$f":"ROUNDUP(IF(OR(($D74+$F$6)=U$62,($C74+$D74+$F$6)=U$62,($C74*2+$D74+$F$6)=U$62,($C74*3+$D74+$F$6)=U$62,($C74*4+$D74+$F$6)=U$62,($C74*5+$D74+$F$6)=U$62,($C74*6+$D74+$F$6)=U$62,($C74*7+$D74+$F$6)=U$62,($C74*8+$D74+$F$6)=U$62),$F74*$H74*((1+$J$52)^(U$62-$F$6)),0),-2)","v":0},0,0,0,0,0,0,0,0,0,0]
["Fencing",{"$nulls":3},"Per Sq. Ft.",{"$nulls":3},0,0,0,0,0,0,0,0,0,0,0,0,0,0,0,0,0,0,0,0,0,0,0]
["Fence Painting",{"$nulls":3},"Per Sq. Ft.",{"$nulls":3},0,0,0,0,0,0,0,0,0,0,0,0,0,0,0,0,0,0,0,0,0,0,0]
["Dumpsters & Enclosures",{"$nulls":3},"Per Sq. Ft.",{"$nulls":3},0,0,0,0,0,0,0,0,0,0,0,0,0,0,0,0,0,0,0,0,0,0,0]
["Electric Distribution",{"$nulls":3},"Per Sq. Ft.",{"$nulls":3},0,0,0,0,0,0,0,0,0,0,0,0,0,0,0,0,0,0,0,0,0,0,0]
["Playground Areas/Equipment",{"$nulls":3},"Per Sq. Ft.",{"$nulls":3},0,0,0,0,0,0,0,0,0,0,0,0,0,0,0,0,0,0,0,0,0,0,0]
["Other (Specify)",{"$nulls":7},0,0,0,0,0,0,0,0,0,0,0,0,0,0,0,0,0,0,0,0,0,0,0]
["Other (Specify)",{"$nulls":7},0,0,0,0,0,0,0,0,0,0,0,0,0,0,0,0,0,0,0,0,0,0,0]
["Site Subtotals",{"$nulls":7},{"$f":"SUM(I64:I81)","v":0},0,0,0,0,0,0,0,0,0,0,0,0,0,0,0,0,0,0,0,0,0,0]
["(4.10) Common Buildings--Rehab Only",{"$nulls":12},"Years 1-5",{"$f":"SUM(K98:O98)","v":0},{"$nulls":3},"Years 6-10",{"$f":"SUM(P98:T98)","v":0},{"$nulls":3},"Years 11-15",{"$f":"SUM(T98:X98)","v":0},{"$nulls":3},"Years 16-20",{"$f":"SUM(Y98:AC98)","v":0}]
["Administrative Building",{"$nulls":3},"Per Sq. Ft.",{"$nulls":3},{"$f":"ROUNDUP(+G84*H84,-2)","v":0},{"$f":"SUM(K84:AD84)","v":0},{"$f":"ROUNDUP(IF(OR(($D84+$F$6)=K$62,($C84+$D84+$F$6)=K$62,($C84*2+$D84+$F$6)=K$62,($C84*3+$D84+$F$6)=K$62,($C84*4+$D84+$F$6)=K$62,($C84*5+$D84+$F$6)=K$62,($C84*6+$D84+$F$6)=K$62,($C84*7+$D84+$F$6)=K$62,($C84*8+$D84+$F$6)=K$62),$F84*$H84*((1+$J$52)^(K$62-$F$6)),0),-2)","v":0},0,0,0,0,0,0,0,0,0,{"$f":"ROUNDUP(IF(OR(($D84+$F$6)=U$62,($C84+$D84+$F$6)=U$62,($C84*2+$D84+$F$6)=U$62,($C84*3+$D84+$F$6)=U$62,($C84*4+$D84+$F$6)=U$62,($C84*5+$D84+$F$6)=U$62,($C84*6+$D84+$F$6)=U$62,($C84*7+$D84+$F$6)=U$62,($C84*8+$D84+$F$6)=U$62),$F84*$H84*((1+$J$52)^(U$62-$F$6)),0),-2)","v":0},0,0,0,0,0,0,0,0,0,{"$f":"SUM(K84:AD84)-J84","v":0}]
["Community Building",{"$nulls":3},"Per Sq. Ft.",{"$nulls":3},0,0,0,0,0,0,0,0,0,0,0,0,0,0,0,0,0,0,0,0,0,0,0]
["Shop",{"$nulls":3},"Per Sq. Ft.",{"$nulls":3},0,0,0,0,0,0,0,0,0,0,0,0,0,0,0,0,0,0,0,0,0,0,0]
["Storage Area",{"$nulls":3},"Per Sq. Ft.",{"$nulls":3},0,0,0,0,0,0,0,0,0,0,0,0,0,0,0,0,0,0,0,0,0,0,0]
["Central Boiler",{"$nulls":3},"Per Sq. Ft.",{"$nulls":3},0,0,0,0,0,0,0,0,0,0,0,0,0,0,0,0,0,0,0,0,0,0,0]
["Central Chiller",{"$nulls":3},"Per Sq. Ft.",{"$nulls":3},0,0,0,0,0,0,0,0,0,0,0,0,0,0,0,0,0,0,0,0,0,0,0]
["Family Invesment Center",{"$nulls":3},"Per Sq. Ft.",{"$nulls":3},0,0,0,0,0,0,0,0,0,0,0,0,0,0,0,0,0,0,0,0,0,0,0]
["Day Care Center",{"$nulls":3},"Per Sq. Ft.",{"$nulls":3},0,0,0,0,0,0,0,0,0,0,0,0,0,0,0,0,0,0,0,0,0,0,0]
["Laundry Areas",{"$nulls":3},"Per Sq. Ft.",{"$nulls":3},0,0,{"$f":"ROUNDUP(IF(OR(($D92+$F$6)=K$62,($C92+$D92+$F$6)=K$62,($C92*2+$D92+$F$6)=K$62,($C92*3+$D92+$F$6)=K$62,($C92*4+$D92+$F$6)=K$62,($C92*5+$D92+$F$6)=K$62,($C92*6+$D92+$F$6)=K$62,($C92*7+$D92+$F$6)=K$62,($C92*8+$D92+$F$6)=K$62),$F92*$H92*((1+$J$52)^(K$62-$F$6)),0),-2)","v":0},0,0,0,0,0,0,0,0,0,{"$f":"ROUNDUP(IF(OR(($D92+$F$6)=U$62,($C92+$D92+$F$6)=U$62,($C92*2+$D92+$F$6)=U$62,($C92*3+$D92+$F$6)=U$62,($C92*4+$D92+$F$6)=U$62,($C92*5+$D92+$F$6)=U$62,($C92*6+$D92+$F$6)=U$62,($C92*7+$D92+$F$6)=U$62,($C92*8+$D92+$F$6)=U$62),$F92*$H92*((1+$J$52)^(U$62-$F$6)),0),-2)","v":0},0,0,0,0,0,0,0,0,0,0]
["Common Area Washers",{"$nulls":3},"Per Sq. Ft.",{"$nulls":3},0,0,0,0,0,0,0,0,0,0,0,0,0,0,0,0,0,0,0,0,0,0,0]
["Common Area Dryers",{"$nulls":3},"Per Sq. Ft.",{"$nulls":3},0,0,0,0,0,0,0,0,0,0,0,0,0,0,0,0,0,0,0,0,0,0,0]
["Common Area Finishes",{"$nulls":3},"Per Sq. Ft.",{"$nulls":3},0,0,0,0,0,0,0,0,0,0,0,0,0,0,0,0,0,0,0,0,0,0,0]
["Other (Specify)",{"$nulls":7},0,0,0,0,0,0,0,0,0,0,0,0,0,0,0,0,0,0,0,0,0,0,0]
["Other (Specify)",{"$nulls":7},0,0,0,0,0,0,0,0,0,0,0,0,0,0,0,0,0,0,0,0,0,0,0]
["Common Subtotals",{"$nulls":7},{"$f":"SUM(I84:I97)","v":0},0,0,0,0,0,0,0,0,0,0,0,0,0,0,0,0,0,0,0,0,0,0]
["(4.11) Unit Exteriors",{"$nulls":12},"Years 1-5",{"$f":"SUM(K121:O121)","v":0},{"$nulls":3},"Years 6-10",{"$f":"SUM(P121:T121)","v":0},{"$nulls":3},"Years 11-15",{"$f":"SUM(U121:Y121)","v":0},{"$nulls":3},"Years 16-20",{"$f":"SUM(Z121:AD121)","v":0}]
["Carports/Surface Garage",{"$nulls":3},"Per Sq. Ft.",{"$nulls":3},{"$f":"ROUNDUP(+G100*H100,-2)","v":0},{"$f":"SUM(K100:AD100)","v":0},{"$f":"ROUNDUP(IF(OR(($D100+$F$6)=K$62,($C100+$D100+$F$6)=K$62,($C100*2+$D100+$F$6)=K$62,($C100*3+$D100+$F$6)=K$62,($C100*4+$D100+$F$6)=K$62,($C100*5+$D100+$F$6)=K$62,($C100*6+$D100+$F$6)=K$62,($C100*7+$D100+$F$6)=K$62,($C100*8+$D100+$F$6)=K$62),$F100*$H100*((1+$J$52)^(K$62-$F$6)),0),-2)","v":0},0,0,0,0,0,0,0,0,0,{"$f":"ROUNDUP(IF(OR(($D100+$F$6)=U$62,($C100+$D100+$F$6)=U$62,($C100*2+$D100+$F$6)=U$62,($C100*3+$D100+$F$6)=U$62,($C100*4+$D100+$F$6)=U$62,($C100*5+$D100+$F$6)=U$62,($C100*6+$D100+$F$6)=U$62,($C100*7+$D100+$F$6)=U$62,($C100*8+$D100+$F$6)=U$62),$F100*$H100*((1+$J$52)^(U$62-$F$6)),0),-2)","v":0},0,0,0,0,0,0,0,0,0,{"$f":"SUM(K100:AD100)-J100","v":0}]
["Foundation",{"$nulls":3},"Per Sq. Ft.",{"$nulls":3},0,0,0,0,0,0,0,0,0,0,0,0,0,0,0,0,0,0,0,0,0,0,0]
["Building Slab",{"$nulls":3},"Per Sq. Ft.",{"$nulls":3},0,0,0,0,0,0,0,0,0,0,0,0,0,0,0,0,0,0,0,0,0,0,0]
["Roofs",{"$nulls":3},"Per Sq. Ft.",{"$nulls":3},0,0,0,0,0,0,0,0,0,0,0,0,0,0,0,0,0,0,0,0,0,0,0]
["Canopies",{"$nulls":3},"Per Sq. Ft.",{"$nulls":3},0,0,0,0,0,0,0,0,0,0,0,0,0,0,0,0,0,0,0,0,0,0,0]
["Tuck-Pointing",{"$nulls":3},"Per Sq. Ft.",{"$nulls":3},0,0,0,0,0,0,0,0,0,0,0,0,0,0,0,0,0,0,0,0,0,0,0]
["Exterior Paint & Caulking",{"$nulls":3},"Per Sq. Ft.",{"$nulls":3},0,0,0,0,0,0,0,0,0,0,0,0,0,0,0,0,0,0,0,0,0,0,0]
["Soffits",{"$nulls":3},"Per Sq. Ft.",{"$nulls":3},0,0,0,0,0,0,0,0,0,0,0,0,0,0,0,0,0,0,0,0,0,0,0]
["Siding",{"$nulls":3},"Per Sq. Ft.",{"$nulls":3},0,0,0,0,0,0,0,0,0,0,0,0,0,0,0,0,0,0,0,0,0,0,0]
["Exterior Stairwells/Fire Escapes",{"$nulls":3},"Per Sq. Ft.",{"$nulls":3},0,0,0,0,0,0,0,0,0,0,0,0,0,0,0,0,0,0,0,0,0,0,0]
["Landings & Railings",{"$nulls":3},"Per Sq. Ft.",{"$nulls":3},0,0,{"$f":"ROUNDUP(IF(OR(($D110+$F$6)=K$62,($C110+$D110+$F$6)=K$62,($C110*2+$D110+$F$6)=K$62,($C110*3+$D110+$F$6)=K$62,($C110*4+$D110+$F$6)=K$62,($C110*5+$D110+$F$6)=K$62,($C110*6+$D110+$F$6)=K$62,($C110*7+$D110+$F$6)=K$62,($C110*8+$D110+$F$6)=K$62),$F110*$H110*((1+$J$52)^(K$62-$F$6)),0),-2)","v":0},0,0,0,0,0,0,0,0,0,{"$f":"ROUNDUP(IF(OR(($D110+$F$6)=U$62,($C110+$D110+$F$6)=U$62,($C110*2+$D110+$F$6)=U$62,($C110*3+$D110+$F$6)=U$62,($C110*4+$D110+$F$6)=U$62,($C110*5+$D110+$F$6)=U$62,($C110*6+$D110+$F$6)=U$62,($C110*7+$D110+$F$6)=U$62,($C110*8+$D110+$F$6)=U$62),$F110*$H110*((1+$J$52)^(U$62-$F$6)),0),-2)","v":0},0,0,0,0,0,0,0,0,0,0]
["Balconies & Railings",{"$nulls":3},"Per Sq. Ft.",{"$nulls":3},0,0,0,0,0,0,0,0,0,0,0,0,0,0,0,0,0,0,0,0,0,0,0]
["Mail Facilities",{"$nulls":3},"Per Sq. Ft.",{"$nulls":3},0,0,0,0,0,0,0,0,0,0,0,0,0,0,0,0,0,0,0,0,0,0,0]
["Exterior Doors",{"$nulls":3},"Per Sq. Ft.",{"$nulls":3},0,0,0,0,0,0,0,0,0,0,0,0,0,0,0,0,0,0,0,0,0,0,0]
["Windows",{"$nulls":3},"Per Sq. Ft.",{"$nulls":3},0,0,0,0,0,0,0,0,0,0,0,0,0,0,0,0,0,0,0,0,0,0,0]
["Gutters/Downspouts",{"$nulls":3},"Per Sq. Ft.",{"$nulls":3},0,0,0,0,0,0,0,0,0,0,0,0,0,0,0,0,0,0,0,0,0,0,0]
["Columns & Porches",{"$nulls":3},"Per Sq. Ft.",{"$nulls":3},0,0,0,0,0,0,0,0,0,0,0,0,0,0,0,0,0,0,0,0,0,0,0]
["Decks & Patios",{"$nulls":3},"Per Sq. Ft.",{"$nulls":3},0,0,0,0,0,0,0,0,0,0,0,0,0,0,0,0,0,0,0,0,0,0,0]
["Exterior Lighting",{"$nulls":3},"Per Sq. Ft.",{"$nulls":3},0,0,0,0,0,0,0,0,0,0,0,0,0,0,0,0,0,0,0,0,0,0,0]
["Other (Specify)",{"$nulls":7},0,0,0,0,0,0,0,0,0,0,0,0,0,0,0,0,0,0,0,0,0,0,0]
["Other (Specify)",{"$nulls":7},0,0,0,0,0,0,0,0,0,0,0,0,0,0,0,0,0,0,0,0,0,0,0]
["Unit Exterior Subtotals",{"$nulls":7},{"$f":"SUM(I100:I120)","v":0},0,0,0,0,0,0,0,0,0,0,0,0,0,0,0,0,0,0,0,0,0,0]
["(4.12) Unit Interiors",{"$nulls":12},"Years 1-5",{"$f":"SUM(K144:O144)","v":0},{"$nulls":3},"Years 6-10",{"$f":"SUM(P144:T144)","v":0},{"$nulls":3},"Years 11-15",{"$f":"SUM(U144:Y144)","v":0},{"$nulls":3},"Years 16-20",{"$f":"SUM(Z144:AD144)","v":0}]
["Interior Painting (non routine)",{"$nulls":3},"Per Sq. Ft.",{"$nulls":3},{"$f":"ROUNDUP(+G123*H123,-2)","v":0},{"$f":"SUM(K123:AD123)","v":0},{"$f":"ROUNDUP(IF(OR(($D123+$F$6)=K$62,($C123+$D123+$F$6)=K$62,($C123*2+$D123+$F$6)=K$62,($C123*3+$D123+$F$6)=K$62,($C123*4+$D123+$F$6)=K$62,($C123*5+$D123+$F$6)=K$62,($C123*6+$D123+$F$6)=K$62,($C123*7+$D123+$F$6)=K$62,($C123*8+$D123+$F$6)=K$62),$F123*$H123*((1+$J$52)^(K$62-$F$6)),0),-2)","v":0},0,0,0,0,0,0,0,0,0,{"$f":"ROUNDUP(IF(OR(($D123+$F$6)=U$62,($C123+$D123+$F$6)=U$62,($C123*2+$D123+$F$6)=U$62,($C123*3+$D123+$F$6)=U$62,($C123*4+$D123+$F$6)=U$62,($C123*5+$D123+$F$6)=U$62,($C123*6+$D123+$F$6)=U$62,($C123*7+$D123+$F$6)=U$62,($C123*8+$D123+$F$6)=U$62),$F123*$H123*((1+$J$52)^(U$62-$F$6)),0),-2)","v":0},0,0,0,0,0,0,0,0,0,{"$f":"SUM(K123:AD123)-J123","v":0}]
["Interior Doors",{"$nulls":3},"Per Sq. Ft.",{"$nulls":3},0,0,0,0,0,0,0,0,0,0,0,0,0,0,0,0,0,0,0,0,0,0,0]
["Flooring (non routine)",{"$nulls":3},"Per Sq. Ft.",{"$nulls":3},0,0,0,0,0,0,0,0,0,0,0,0,0,0,0,0,0,0,0,0,0,0,0]
["Shower/Tub Surrounds",{"$nulls":3},"Per Sq. Ft.",{"$nulls":3},0,0,0,0,0,0,0,0,0,0,0,0,0,0,0,0,0,0,0,0,0,0,0]
["Commodes",{"$nulls":3},"Per Sq. Ft.",{"$nulls":3},0,0,0,0,0,0,0,0,0,0,0,0,0,0,0,0,0,0,0,0,0,0,0]
["Vanities",{"$nulls":3},"Per Sq. Ft.",{"$nulls":3},0,0,0,0,0,0,0,0,0,0,0,0,0,0,0,0,0,0,0,0,0,0,0]
["Faucets",{"$nulls":3},"Per Sq. Ft.",{"$nulls":3},0,0,0,0,0,0,0,0,0,0,0,0,0,0,0,0,0,0,0,0,0,0,0]
["Bathroom Flooring (non cyclical)",{"$nulls":3},"Per Sq. Ft.",{"$nulls":3},0,0,0,0,0,0,0,0,0,0,0,0,0,0,0,0,0,0,0,0,0,0,0]
["Kitchen Cabinets",{"$nulls":3},"Per Sq. Ft.",{"$nulls":3},0,0,0,0,0,0,0,0,0,0,0,0,0,0,0,0,0,0,0,0,0,0,0]
["Ranges",{"$nulls":3},"Per Sq. Ft.",{"$nulls":3},0,0,0,0,0,0,0,0,0,0,0,0,0,0,0,0,0,0,0,0,0,0,0]
["Range Hoods",{"$nulls":3},"Per Sq. Ft.",{"$nulls":3},0,0,{"$f":"ROUNDUP(IF(OR(($D133+$F$6)=K$62,($C133+$D133+$F$6)=K$62,($C133*2+$D133+$F$6)=K$62,($C133*3+$D133+$F$6)=K$62,($C133*4+$D133+$F$6)=K$62,($C133*5+$D133+$F$6)=K$62,($C133*6+$D133+$F$6)=K$62,($C133*7+$D133+$F$6)=K$62,($C133*8+$D133+$F$6)=K$62),$F133*$H133*((1+$J$52)^(K$62-$F$6)),0),-2)","v":0},0,0,0,0,0,0,0,0,0,{"$f":"ROUNDUP(IF(OR(($D133+$F$6)=U$62,($C133+$D133+$F$6)=U$62,($C133*2+$D133+$F$6)=U$62,($C133*3+$D133+$F$6)=U$62,($C133*4+$D133+$F$6)=U$62,($C133*5+$D133+$F$6)=U$62,($C133*6+$D133+$F$6)=U$62,($C133*7+$D133+$F$6)=U$62,($C133*8+$D133+$F$6)=U$62),$F133*$H133*((1+$J$52)^(U$62-$F$6)),0),-2)","v":0},0,0,0,0,0,0,0,0,0,0]
["Refrigerators",{"$nulls":3},"Per Sq. Ft.",{"$nulls":3},0,0,0,0,0,0,0,0,0,0,0,0,0,0,0,0,0,0,0,0,0,0,0]
["Counters and Sinks",{"$nulls":3},"Per Sq. Ft.",{"$nulls":3},0,0,0,0,0,0,0,0,0,0,0,0,0,0,0,0,0,0,0,0,0,0,0]
["Dishwasher",{"$nulls":3},"Per Sq. Ft.",{"$nulls":3},0,0,0,0,0,0,0,0,0,0,0,0,0,0,0,0,0,0,0,0,0,0,0]
["Microwave",{"$nulls":3},"Per Sq. Ft.",{"$nulls":3},0,0,0,0,0,0,0,0,0,0,0,0,0,0,0,0,0,0,0,0,0,0,0]
["Washing Machines",{"$nulls":3},"Per Sq. Ft.",{"$nulls":3},0,0,0,0,0,0,0,0,0,0,0,0,0,0,0,0,0,0,0,0,0,0,0]
["Dryers",{"$nulls":3},"Per Sq. Ft.",{"$nulls":3},0,0,0,0,0,0,0,0,0,0,0,0,0,0,0,0,0,0,0,0,0,0,0]
["Call-for-Aid Systems",{"$nulls":7},0,0,0,0,0,0,0,0,0,0,0,0,0,0,0,0,0,0,0,0,0,0,0]
["Stairs and Handrails",{"$nulls":7},0,0,0,0,0,0,0,0,0,0,0,0,0,0,0,0,0,0,0,0,0,0,0]
["Other (Specify)",{"$nulls":7},0,0,0,0,0,0,0,0,0,0,0,0,0,0,0,0,0,0,0,0,0,0,0]
["Other (Specify)",{"$nulls":7},0,0,0,0,0,0,0,0,0,0,0,0,0,0,0,0,0,0,0,0,0,0,0]
["Unit Interior Subtotals",{"$nulls":7},{"$f":"SUM(I123:I143)","v":0},0,0,0,0,0,0,0,0,0,0,0,0,0,0,0,0,0,0,0,0,0,0]
["(4.13) Mechanical",{"$nulls":12},"Years 1-5",{"$f":"SUM(K161:O161)","v":0},{"$nulls":3},"Years 6-10",{"$f":"SUM(P161:T161)","v":0},{"$nulls":3},"Years 11-15",{"$f":"SUM(U161:Y161)","v":0},{"$nulls":3},"Years 16-20",{"$f":"SUM(Z161:AD161)","v":0}]
["Water Distribution",{"$nulls":3},"Per Sq. Ft.",{"$nulls":3},{"$f":"ROUNDUP(+G146*H146,-2)","v":0},{"$f":"SUM(K146:AD146)","v":0},{"$f":"ROUNDUP(IF(OR(($D146+$F$6)=K$62,($C146+$D146+$F$6)=K$62,($C146*2+$D146+$F$6)=K$62,($C146*3+$D146+$F$6)=K$62,($C146*4+$D146+$F$6)=K$62,($C146*5+$D146+$F$6)=K$62,($C146*6+$D146+$F$6)=K$62,($C146*7+$D146+$F$6)=K$62,($C146*8+$D146+$F$6)=K$62),$F146*$H146*((1+$J$52)^(K$62-$F$6)),0),-2)","v":0},0,0,0,0,0,0,0,0,0,{"$f":"ROUNDUP(IF(OR(($D146+$F$6)=U$62,($C146+$D146+$F$6)=U$62,($C146*2+$D146+$F$6)=U$62,($C146*3+$D146+$F$6)=U$62,($C146*4+$D146+$F$6)=U$62,($C146*5+$D146+$F$6)=U$62,($C146*6+$D146+$F$6)=U$62,($C146*7+$D146+$F$6)=U$62,($C146*8+$D146+$F$6)=U$62),$F146*$H146*((1+$J$52)^(U$62-$F$6)),0),-2)","v":0},0,0,0,0,0,0,0,0,0,{"$f":"SUM(K146:AD146)-J146","v":0}]
["Heating Equipt/System",{"$nulls":3},"Per Sq. Ft.",{"$nulls":3},0,0,0,0,0,0,0,0,0,0,0,0,0,0,0,0,0,0,0,0,0,0,0]
["Electric Disribution",{"$nulls":3},"Per Sq. Ft.",{"$nulls":3},0,0,0,0,0,0,0,0,0,0,0,0,0,0,0,0,0,0,0,0,0,0,0]
["Hot Water Heaters",{"$nulls":3},"Per Sq. Ft.",{"$nulls":3},0,0,0,0,0,0,0,0,0,0,0,0,0,0,0,0,0,0,0,0,0,0,0]
["Unit Sub-panels",{"$nulls":3},"Per Sq. Ft.",{"$nulls":3},0,0,0,0,0,0,0,0,0,0,0,0,0,0,0,0,0,0,0,0,0,0,0]
["Trash Compactor",{"$nulls":3},"Per Sq. Ft.",{"$nulls":3},0,0,0,0,0,0,0,0,0,0,0,0,0,0,0,0,0,0,0,0,0,0,0]
["Cooling Equipt/Systems",{"$nulls":3},"Per Sq. Ft.",{"$nulls":3},0,0,0,0,0,0,0,0,0,0,0,0,0,0,0,0,0,0,0,0,0,0,0]
["Smoke/Fire Detection",{"$nulls":3},"Per Sq. Ft.",{"$nulls":3},0,0,0,0,0,0,0,0,0,0,0,0,0,0,0,0,0,0,0,0,0,0,0]
["Unit Reconfiguration",{"$nulls":3},"Per Sq. Ft.",{"$nulls":3},0,0,0,0,0,0,0,0,0,0,0,0,0,0,0,0,0,0,0,0,0,0,0]
["Security/Fire Alarm",{"$nulls":3},"Per Sq. Ft.",{"$nulls":3},0,0,0,0,0,0,0,0,0,0,0,0,0,0,0,0,0,0,0,0,0,0,0]
["Fire Suspression System",{"$nulls":3},"Per Sq. Ft.",{"$nulls":3},0,0,0,0,0,0,0,0,0,0,0,0,0,0,0,0,0,0,0,0,0,0,0]
["Generator",{"$nulls":3},"Per Sq. Ft.",{"$nulls":3},0,0,0,0,0,0,0,0,0,0,0,0,0,0,0,0,0,0,0,0,0,0,0]
["Elevator",{"$nulls":3},"Per Sq. Ft.",{"$nulls":3},0,0,0,0,0,0,0,0,0,0,0,0,0,0,0,0,0,0,0,0,0,0,0]
["Other (Specify) ",{"$nulls":7},0,0,0,0,0,0,0,0,0,0,0,0,0,0,0,0,0,0,0,0,0,0,0]
["Other (Specify)",{"$nulls":7},0,0,0,0,0,0,0,0,0,0,0,0,0,0,0,0,0,0,0,0,0,0,0]
["Mechanical Subtotals",{"$nulls":7},{"$f":"SUM(I146:I160)","v":0},0,0,0,0,0,0,0,0,0,0,0,0,0,0,0,0,0,0,0,0,0,0]
["(4.14) Other",{"$nulls":12},"Years 1-5",{"$f":"SUM(K170:O170)","v":0},{"$nulls":3},"Years 6-10",{"$f":"SUM(P170:T170)","v":0},{"$nulls":3},"Years 11-15",{"$f":"SUM(U170:Y170)","v":0},{"$nulls":3},"Years 16-20",{"$f":"SUM(Z170:AD170)","v":0}]
["Site Acquisition",{"$nulls":3},"Per Sq. Ft.",{"$nulls":3},{"$f":"ROUNDUP(+G163*H163,-2)","v":0},{"$f":"SUM(K163:AD163)","v":0},{"$f":"ROUNDUP(IF(OR(($D163+$F$6)=K$62,($C163+$D163+$F$6)=K$62,($C163*2+$D163+$F$6)=K$62,($C163*3+$D163+$F$6)=K$62,($C163*4+$D163+$F$6)=K$62,($C163*5+$D163+$F$6)=K$62,($C163*6+$D163+$F$6)=K$62,($C163*7+$D163+$F$6)=K$62,($C163*8+$D163+$F$6)=K$62),$F163*$H163*((1+$J$52)^(K$62-$F$6)),0),-2)","v":0},0,0,0,0,0,0,0,0,0,{"$f":"ROUNDUP(IF(OR(($D163+$F$6)=U$62,($C163+$D163+$F$6)=U$62,($C163*2+$D163+$F$6)=U$62,($C163*3+$D163+$F$6)=U$62,($C163*4+$D163+$F$6)=U$62,($C163*5+$D163+$F$6)=U$62,($C163*6+$D163+$F$6)=U$62,($C163*7+$D163+$F$6)=U$62,($C163*8+$D163+$F$6)=U$62),$F163*$H163*((1+$J$52)^(U$62-$F$6)),0),-2)","v":0},0,0,0,0,0,0,0,0,0,{"$f":"SUM(K163:AD163)-J163","v":0}]
["Other Fees and Costs",{"$nulls":3},"Per Sq. Ft.",{"$nulls":3},0,0,0,0,0,0,0,0,0,0,0,0,0,0,0,0,0,0,0,0,0,0,0]
["Demolition",{"$nulls":3},"Per Sq. Ft.",{"$nulls":3},0,0,0,0,0,0,0,0,0,0,0,0,0,0,0,0,0,0,0,0,0,0,0]
["Dwelling Unit Conversion",{"$nulls":3},"Per Sq. Ft.",{"$nulls":3},0,0,0,0,0,0,0,0,0,0,0,0,0,0,0,0,0,0,0,0,0,0,0]
["Contingency",{"$nulls":3},"Per Sq. Ft.",{"$nulls":3},0,0,{"$f":"ROUNDUP(IF(OR(($D167+$F$6)=K$62,($C167+$D167+$F$6)=K$62,($C167*2+$D167+$F$6)=K$62,($C167*3+$D167+$F$6)=K$62,($C167*4+$D167+$F$6)=K$62,($C167*5+$D167+$F$6)=K$62,($C167*6+$D167+$F$6)=K$62,($C167*7+$D167+$F$6)=K$62,($C167*8+$D167+$F$6)=K$62),$F167*$H167*((1+$J$52)^(K$62-$F$6)),0),-2)","v":0},0,0,0,0,0,0,0,0,0,{"$f":"ROUNDUP(IF(OR(($D167+$F$6)=U$62,($C167+$D167+$F$6)=U$62,($C167*2+$D167+$F$6)=U$62,($C167*3+$D167+$F$6)=U$62,($C167*4+$D167+$F$6)=U$62,($C167*5+$D167+$F$6)=U$62,($C167*6+$D167+$F$6)=U$62,($C167*7+$D167+$F$6)=U$62,($C167*8+$D167+$F$6)=U$62),$F167*$H167*((1+$J$52)^(U$62-$F$6)),0),-2)","v":0},0,0,0,0,0,0,0,0,0,0]
["Other (Specify) ",{"$nulls":7},0,0,0,0,0,0,0,0,0,0,0,0,0,0,0,0,0,0,0,0,0,0,0]
["Other (Specify)",{"$nulls":7},0,0,0,0,0,0,0,0,0,0,0,0,0,0,0,0,0,0,0,0,0,0,0]
["Other Subtotals",{"$nulls":7},{"$f":"SUM(I163:I169)","v":0},0,0,0,0,0,0,0,0,0,0,0,0,0,0,0,0,0,0,0,0,0,0]
["GRAND TOTAL",{"$nulls":7},{"$f":"I170+I161+I144+I82+I98","v":0},{"$f":"J170+J161+J144+J121+J98+J82","v":0},0,0,0,0,0,0,0,0,0,0,0,0,0,0,0,0,0,0,0,0,0]
["(4.15) Special Categories"]
["Amount of PNA Relating to Lead Paint/Asbestos Compliance",{"$nulls":3},"Per Sq. Ft.",{"$nulls":3},{"$f":"ROUNDUP(+G173*H173,-2)","v":0}]
["Amount of PNA Relating to Section 504, ADA, and Fair Housing Act (if applicable) Compliance",{"$nulls":3},"Per Sq. Ft.",{"$nulls":3},{"$f":"ROUNDUP(+G174*H174,-2)","v":0}]
[]
["(4.16) New Construction"]
["Dwelling Units",{"$nulls":3},"Per Sq. Ft.",{"$nulls":3},{"$f":"ROUNDUP(+G177*H177,-2)","v":0}]
["Administrative Building",{"$nulls":3},"Per Sq. Ft.",{"$nulls":3},0]
["Community Building or Facility",{"$nulls":3},"Per Sq. Ft.",{"$nulls":3},0]
["Shop",{"$nulls":3},"Per Sq. Ft.",{"$nulls":3},0]
["Storage Area",{"$nulls":3},"Per Sq. Ft.",{"$nulls":3},0]
["Family Investment Center",{"$nulls":3},"Per Sq. Ft.",{"$nulls":3},0]
["Day Care Center",{"$nulls":3},"Per Sq. Ft.",{"$nulls":3},0]
["Laundry Areas(s)",{"$nulls":3},"Per Sq. Ft.",{"$nulls":3},0]
["Other (Specify) ",{"$nulls":3},"Per Sq. Ft.",{"$nulls":3},0]
["Other (Specify)",{"$nulls":3},"Per Sq. Ft.",{"$nulls":3},0]
["Other (Specify)",{"$nulls":7},0]
["New Construction Subtotals",{"$nulls":7},{"$f":"SUM(I177:I187)","v":0}]

{"sheet":"Tab 17","index":18,"n_rows":188,"n_cols":31,"rows_kept":188,"merged":[[4,2,4,3],[5,2,5,3],[7,0,7,8],[9,1,9,2],[10,1,10,2],[20,3,20,9],[27,0,27,8],[29,8,29,9],[30,8,30,9],[31,8,31,9],[33,6,35,6],[37,4,37,9],[44,0,44,8],[46,0,46,1],[47,0,47,1],[48,0,48,1],[49,0,49,1],[50,0,50,1],[51,0,51,1],[52,0,52,1],[53,0,53,1],[54,0,54,1],[55,0,55,1],[56,0,56,1],[59,0,59,8],[61,0,61,1],[62,0,62,1],[81,0,81,1],[97,0,97,1],[120,0,120,1],[143,0,143,1],[160,0,160,1],[169,0,169,1],[170,0,170,1],[187,0,187,1]]}
["Physical Needs Assessment",{"$nulls":3},"U.S. Department of Housing",{"$nulls":4}," OMB Approval No. 2577-0157"]
["Capital Fund Financing Program/",{"$nulls":3},"and Urban Development",{"$nulls":4}," (exp. 1/31/2017)"]
["Operating Fund Financing Program",{"$nulls":3},"Office of Public and Indian Housing"]
[]
["HA Name",null,"HA Number",null,null,"FY of Assessment",null," Original  ","Date Prepared:"]
[{"$f":"'Tab 1'!A6","v":0},null,{"$f":"'Tab 6'!C6:D6","v":0},{"$nulls":4},"Revision  ","Date Revised:"]
[]
["(1.0) Project Data"]
[]
["(1.1) Management Office Address",{"$nulls":5},"(1.3) Development No.",null,"(1.4) DOFA Date"]
["(1.2) Project Name"]
[{"$nulls":4},"Family"]
[{"$nulls":3},"(1.9)","Elderly",null,null,"(1.10)","S-F Detached"]
["(1.5) Year of Last Substantial Mod",null,null,"Occupancy","Family & Disabled",null,null,"Structure","Semi-Detached"]
["(1.6) Occupancy Rate ",{"$f":"B20/(+B18-B26)","v":{"$error":"#DIV/0!"}},null,"Type(s)","Elderly & Disabled",null,null,"Type(s)","Row or Townhome"]
["        (Rentable Units Only)",null,null,"(Check)","Not Applicable",null,null,"(Check","M-F/Walkup"]
["(1.7) Latest PASS REAC Score",null,null,"all that apply)","Official Designation: Elderly",null,null,"all that","Elevator"]
["Total Units",{"$f":"+B20+B21","v":0},null,null,"Official Designation: Disabled",null,null,"apply)","Non-Dwelling"]
["(1.8) Total Buildings",{"$nulls":3},"Official Designation: Mixed"]
["Occupied Units",{"$f":"SUM(E23:J23)","v":0}]
["Vacant/Rentable Units",{"$f":"SUM(E24:J24)","v":0},null,"(1.11) Bedroom Distribution"]
[{"$nulls":4},"Eff","1BR","2BR","3BR","4BR","5BR+"]
[{"$nulls":3},"(1.11a) Occupied"]
[{"$nulls":3},"(1.11b) Vacant"]
[{"$nulls":3},"Total Units",{"$f":"SUM(E23:E24)","v":0},0,0,0,0,0]
[{"$nulls":3},"Avg Bedrooms per Unit",null,{"$f":"(+E23*1+F23*1+G23*2+H23*3+I23*4+J23*5)/SUM(E23:J23)","v":{"$error":"#DIV/0!"}}]
[]
["(2.0) Physical Needs Assessment Summary Data"]
[]
["(2.1) PNA Conducted By: (PHA/ 3rd Party)",null,"PHA Internally",null,null,"(2.5) Inspector Contact Name: "]
[null,null,"3rd Pary Independent",null,null,"(2.6) Company Name or PHA Title:"]
["(2.2) First Year Covered by PNA",{"$nulls":4},"(2.7) Inspector Contact Phone:"]
["(2.3) Length of PNA (in years)"]
["(2.4) Unit Interiors Inspected (#)",null,{"$f":"SUM(E40:J40)","v":0},{"$nulls":3},"(2.8) Data Source(s) for PNA",null,"Annual Inspections"]
["Units Inspected as % of Total",null,{"$f":"C34/B18","v":{"$error":"#DIV/0!"}},{"$nulls":5},"Contractor"]
["(2.9) Total Residential Buildings",{"$nulls":7},"REAC Inspections"]
["(2.10) Number of Building Exteriors Inspected"]
["(2.11) Total Off-Street Parking Spaces",{"$nulls":3},"(2.14) Units Inspected by Bedroom Size"]
["(2.12) Site Acreage",null,null,"acres","Eff","1BR","2BR","3BR","4BR","5BR+"]
["(2.13) Parking Area (in square feet)",null,null,"SF"]
[]
["(2.15) Physical Improvements Will Result in Structural/System Soundness at a Reasonable Cost",{"$nulls":5},"Yes","No"]
["(2.16) Development Has Long-Term Physical and Social Viability",{"$nulls":5},"Yes","No"]
[]
["(3.0) Total Physical Needs Summary"]
[]
["Major Category",null,"Immediate","Years                       1-5","Years                    6-10","Years                    11-15","Years                   16-20","Total Needs"]
["Site",null,{"$f":"+I82","v":0},{"$f":"$O$63","v":0},{"$f":"$T$63","v":0},{"$f":"$Y$63","v":0},{"$f":"$AD$63","v":0},{"$f":"SUM(C48:G48)","v":0}]
["Common Buildings",null,{"$f":"$I$98","v":0},{"$f":"$O$83","v":0},{"$f":"$T$83","v":0},{"$f":"$Y$83","v":0},{"$f":"$AD$83","v":0},0]
["Unit Exteriors",null,{"$f":"$I$121","v":0},{"$f":"$O$99","v":0},{"$f":"$T$99","v":0},{"$f":"$Y$99","v":0},{"$f":"$AD$99","v":0},0]
["Unit Interiors",null,{"$f":"$I$144","v":0},{"$f":"O122","v":0},{"$f":"T122","v":0},{"$f":"Y122","v":0},{"$f":"AD122","v":0},0]
["Mechanical",null,{"$f":"I161","v":0},{"$f":"O145","v":0},{"$f":"T145","v":0},{"$f":"Y145","v":0},{"$f":"AD145","v":0},0]
["Other",null,{"$f":"I170","v":0},{"$f":"O162","v":0},{"$f":"T162","v":0},{"$f":"Y162","v":0},{"$f":"AD162","v":0},0]
["Totals",null,{"$f":"SUM(C48:C53)","v":0},0,0,0,0,0]
["Amount of PNA relating to Lead Paint/Asbestos",null,{"$f":"I173","v":0},{"$nulls":4},{"$f":"C55","v":0}]
["Amount of PNA relating to Section 504, ADA, and Fair Housing Act (if applicable) Compliance",null,{"$f":"I174","v":0},{"$nulls":4},{"$f":"C56","v":0}]
["New Construction",{"$nulls":6},{"$f":"I188","v":0}]
[{"$nulls":5},"TOTAL PHYSICAL NEEDS",null,{"$f":"H57+H54","v":0}]
[]
["(4.0)Physical Needs Cost Estimate"]
[]
["(4.1) Category",null,"(4.2) Estimated Useful Life","(4.3)                Useful Life Remaining","(4.4)             Method","(4.5)                   Total          Quantity","(4.6)             Current Needs Quantity","(4.7)                Cost per      Quantity","(4.8)         Immediate Repairs Needed","Total Long Term Needs",{"$f":"+F6+1","v":1},{"$f":"1+K62","v":2},3,4,5,6,7,8,9,10,11,12,13,14,15,16,17,18,19,20]
["(4.9) Site",null,"(in yrs)","(in yrs)",{"$nulls":9},"Years 1-5",{"$f":"SUM(K82:O82)","v":0},{"$nulls":3},"Years 6-10",{"$f":"SUM(P82:T82)","v":0},{"$nulls":3},"Years 11-15",{"$f":"SUM(U82:Y82)","v":0},{"$nulls":3},"Years 16-20",{"$f":"SUM(Z82:AD82)","v":0}]
["Asphalt/Concrete",{"$nulls":3},"Per Sq. Ft.",{"$nulls":3},{"$f":"ROUNDUP(+G64*H64,-2)","v":0},{"$f":"SUM(K64:AD64)","v":0},{"$f":"ROUNDUP(IF(OR(($D64+$F$6)=K$62,($C64+$D64+$F$6)=K$62,($C64*2+$D64+$F$6)=K$62,($C64*3+$D64+$F$6)=K$62,($C64*4+$D64+$F$6)=K$62,($C64*5+$D64+$F$6)=K$62,($C64*6+$D64+$F$6)=K$62,($C64*7+$D64+$F$6)=K$62,($C64*8+$D64+$F$6)=K$62),$F64*$H64*((1+$J$52)^(K$62-$F$6)),0),-2)","v":0},0,0,0,0,0,0,0,0,0,{"$f":"ROUNDUP(IF(OR(($D64+$F$6)=U$62,($C64+$D64+$F$6)=U$62,($C64*2+$D64+$F$6)=U$62,($C64*3+$D64+$F$6)=U$62,($C64*4+$D64+$F$6)=U$62,($C64*5+$D64+$F$6)=U$62,($C64*6+$D64+$F$6)=U$62,($C64*7+$D64+$F$6)=U$62,($C64*8+$D64+$F$6)=U$62),$F64*$H64*((1+$J$52)^(U$62-$F$6)),0),-2)","v":0},0,0,0,0,0,0,0,0,0,{"$f":"SUM(K64:AD64)-J64","v":0}]
["Seal Coat",{"$nulls":3},"Per Sq. Ft.",{"$nulls":3},0,0,0,0,0,0,0,0,0,0,0,0,0,0,0,0,0,0,0,0,0,0,0]
["Striping",{"$nulls":3},"Per Sq. Ft.",{"$nulls":3},0,0,0,0,0,0,0,0,0,0,0,0,0,0,0,0,0,0,0,0,0,0,0]
["Curb & Gutter",{"$nulls":3},"Per Sq. Ft.",{"$nulls":3},0,0,0,0,0,0,0,0,0,0,0,0,0,0,0,0,0,0,0,0,0,0,0]
["Pedestrian paving",{"$nulls":3},"Per Sq. Ft.",{"$nulls":3},0,0,0,0,0,0,0,0,0,0,0,0,0,0,0,0,0,0,0,0,0,0,0]
["Signage",{"$nulls":3},"Per Sq. Ft.",{"$nulls":3},0,0,0,0,0,0,0,0,0,0,0,0,0,0,0,0,0,0,0,0,0,0,0]
["Water Lines/Mains",{"$nulls":3},"Per Sq. Ft.",{"$nulls":3},0,0,0,0,0,0,0,0,0,0,0,0,0,0,0,0,0,0,0,0,0,0,0]
["Sewer Lines/Mains",{"$nulls":3},"Per Sq. Ft.",{"$nulls":3},0,0,0,0,0,0,0,0,0,0,0,0,0,0,0,0,0,0,0,0,0,0,0]
["Lighting",{"$nulls":3},"Per Sq. Ft.",{"$nulls":3},0,0,0,0,0,0,0,0,0,0,0,0,0,0,0,0,0,0,0,0,0,0,0]
["Storm Drainage",{"$nulls":3},"Per Sq. Ft.",{"$nulls":3},0,0,0,0,0,0,0,0,0,0,0,0,0,0,0,0,0,0,0,0,0,0,0]
["Landscape",{"$nulls":3},"Per Sq. Ft.",{"$nulls":3},0,0,{"$f":"ROUNDUP(IF(OR(($D74+$F$6)=K$62,($C74+$D74+$F$6)=K$62,($C74*2+$D74+$F$6)=K$62,($C74*3+$D74+$F$6)=K$62,($C74*4+$D74+$F$6)=K$62,($C74*5+$D74+$F$6)=K$62,($C74*6+$D74+$F$6)=K$62,($C74*7+$D74+$F$6)=K$62,($C74*8+$D74+$F$6)=K$62),$F74*$H74*((1+$J$52)^(K$62-$F$6)),0),-2)","v":0},0,0,0,0,0,0,0,0,0,{"$f":"ROUNDUP(IF(OR(($D74+$F$6)=U$62,($C74+$D74+$F$6)=U$62,($C74*2+$D74+$F$6)=U$62,($C74*3+$D74+$F$6)=U$62,($C74*4+$D74+$F$6)=U$62,($C74*5+$D74+$F$6)=U$62,($C74*6+$D74+$F$6)=U$62,($C74*7+$D74+$F$6)=U$62,($C74*8+$D74+$F$6)=U$62),$F74*$H74*((1+$J$52)^(U$62-$F$6)),0),-2)","v":0},0,0,0,0,0,0,0,0,0,0]
["Fencing",{"$nulls":3},"Per Sq. Ft.",{"$nulls":3},0,0,0,0,0,0,0,0,0,0,0,0,0,0,0,0,0,0,0,0,0,0,0]
["Fence Painting",{"$nulls":3},"Per Sq. Ft.",{"$nulls":3},0,0,0,0,0,0,0,0,0,0,0,0,0,0,0,0,0,0,0,0,0,0,0]
["Dumpsters & Enclosures",{"$nulls":3},"Per Sq. Ft.",{"$nulls":3},0,0,0,0,0,0,0,0,0,0,0,0,0,0,0,0,0,0,0,0,0,0,0]
["Electric Distribution",{"$nulls":3},"Per Sq. Ft.",{"$nulls":3},0,0,0,0,0,0,0,0,0,0,0,0,0,0,0,0,0,0,0,0,0,0,0]
["Playground Areas/Equipment",{"$nulls":3},"Per Sq. Ft.",{"$nulls":3},0,0,0,0,0,0,0,0,0,0,0,0,0,0,0,0,0,0,0,0,0,0,0]
["Other (Specify)",{"$nulls":7},0,0,0,0,0,0,0,0,0,0,0,0,0,0,0,0,0,0,0,0,0,0,0]
["Other (Specify)",{"$nulls":7},0,0,0,0,0,0,0,0,0,0,0,0,0,0,0,0,0,0,0,0,0,0,0]
["Site Subtotals",{"$nulls":7},{"$f":"SUM(I64:I81)","v":0},0,0,0,0,0,0,0,0,0,0,0,0,0,0,0,0,0,0,0,0,0,0]
["(4.10) Common Buildings--Rehab Only",{"$nulls":12},"Years 1-5",{"$f":"SUM(K98:O98)","v":0},{"$nulls":3},"Years 6-10",{"$f":"SUM(P98:T98)","v":0},{"$nulls":3},"Years 11-15",{"$f":"SUM(T98:X98)","v":0},{"$nulls":3},"Years 16-20",{"$f":"SUM(Y98:AC98)","v":0}]
["Administrative Building",{"$nulls":3},"Per Sq. Ft.",{"$nulls":3},{"$f":"ROUNDUP(+G84*H84,-2)","v":0},{"$f":"SUM(K84:AD84)","v":0},{"$f":"ROUNDUP(IF(OR(($D84+$F$6)=K$62,($C84+$D84+$F$6)=K$62,($C84*2+$D84+$F$6)=K$62,($C84*3+$D84+$F$6)=K$62,($C84*4+$D84+$F$6)=K$62,($C84*5+$D84+$F$6)=K$62,($C84*6+$D84+$F$6)=K$62,($C84*7+$D84+$F$6)=K$62,($C84*8+$D84+$F$6)=K$62),$F84*$H84*((1+$J$52)^(K$62-$F$6)),0),-2)","v":0},0,0,0,0,0,0,0,0,0,{"$f":"ROUNDUP(IF(OR(($D84+$F$6)=U$62,($C84+$D84+$F$6)=U$62,($C84*2+$D84+$F$6)=U$62,($C84*3+$D84+$F$6)=U$62,($C84*4+$D84+$F$6)=U$62,($C84*5+$D84+$F$6)=U$62,($C84*6+$D84+$F$6)=U$62,($C84*7+$D84+$F$6)=U$62,($C84*8+$D84+$F$6)=U$62),$F84*$H84*((1+$J$52)^(U$62-$F$6)),0),-2)","v":0},0,0,0,0,0,0,0,0,0,{"$f":"SUM(K84:AD84)-J84","v":0}]
["Community Building",{"$nulls":3},"Per Sq. Ft.",{"$nulls":3},0,0,0,0,0,0,0,0,0,0,0,0,0,0,0,0,0,0,0,0,0,0,0]
["Shop",{"$nulls":3},"Per Sq. Ft.",{"$nulls":3},0,0,0,0,0,0,0,0,0,0,0,0,0,0,0,0,0,0,0,0,0,0,0]
["Storage Area",{"$nulls":3},"Per Sq. Ft.",{"$nulls":3},0,0,0,0,0,0,0,0,0,0,0,0,0,0,0,0,0,0,0,0,0,0,0]
["Central Boiler",{"$nulls":3},"Per Sq. Ft.",{"$nulls":3},0,0,0,0,0,0,0,0,0,0,0,0,0,0,0,0,0,0,0,0,0,0,0]
["Central Chiller",{"$nulls":3},"Per Sq. Ft.",{"$nulls":3},0,0,0,0,0,0,0,0,0,0,0,0,0,0,0,0,0,0,0,0,0,0,0]
["Family Invesment Center",{"$nulls":3},"Per Sq. Ft.",{"$nulls":3},0,0,0,0,0,0,0,0,0,0,0,0,0,0,0,0,0,0,0,0,0,0,0]
["Day Care Center",{"$nulls":3},"Per Sq. Ft.",{"$nulls":3},0,0,0,0,0,0,0,0,0,0,0,0,0,0,0,0,0,0,0,0,0,0,0]
["Laundry Areas",{"$nulls":3},"Per Sq. Ft.",{"$nulls":3},0,0,{"$f":"ROUNDUP(IF(OR(($D92+$F$6)=K$62,($C92+$D92+$F$6)=K$62,($C92*2+$D92+$F$6)=K$62,($C92*3+$D92+$F$6)=K$62,($C92*4+$D92+$F$6)=K$62,($C92*5+$D92+$F$6)=K$62,($C92*6+$D92+$F$6)=K$62,($C92*7+$D92+$F$6)=K$62,($C92*8+$D92+$F$6)=K$62),$F92*$H92*((1+$J$52)^(K$62-$F$6)),0),-2)","v":0},0,0,0,0,0,0,0,0,0,{"$f":"ROUNDUP(IF(OR(($D92+$F$6)=U$62,($C92+$D92+$F$6)=U$62,($C92*2+$D92+$F$6)=U$62,($C92*3+$D92+$F$6)=U$62,($C92*4+$D92+$F$6)=U$62,($C92*5+$D92+$F$6)=U$62,($C92*6+$D92+$F$6)=U$62,($C92*7+$D92+$F$6)=U$62,($C92*8+$D92+$F$6)=U$62),$F92*$H92*((1+$J$52)^(U$62-$F$6)),0),-2)","v":0},0,0,0,0,0,0,0,0,0,0]
["Common Area Washers",{"$nulls":3},"Per Sq. Ft.",{"$nulls":3},0,0,0,0,0,0,0,0,0,0,0,0,0,0,0,0,0,0,0,0,0,0,0]
["Common Area Dryers",{"$nulls":3},"Per Sq. Ft.",{"$nulls":3},0,0,0,0,0,0,0,0,0,0,0,0,0,0,0,0,0,0,0,0,0,0,0]
["Common Area Finishes",{"$nulls":3},"Per Sq. Ft.",{"$nulls":3},0,0,0,0,0,0,0,0,0,0,0,0,0,0,0,0,0,0,0,0,0,0,0]
["Other (Specify)",{"$nulls":7},0,0,0,0,0,0,0,0,0,0,0,0,0,0,0,0,0,0,0,0,0,0,0]
["Other (Specify)",{"$nulls":7},0,0,0,0,0,0,0,0,0,0,0,0,0,0,0,0,0,0,0,0,0,0,0]
["Common Subtotals",{"$nulls":7},{"$f":"SUM(I84:I97)","v":0},0,0,0,0,0,0,0,0,0,0,0,0,0,0,0,0,0,0,0,0,0,0]
["(4.11) Unit Exteriors",{"$nulls":12},"Years 1-5",{"$f":"SUM(K121:O121)","v":0},{"$nulls":3},"Years 6-10",{"$f":"SUM(P121:T121)","v":0},{"$nulls":3},"Years 11-15",{"$f":"SUM(U121:Y121)","v":0},{"$nulls":3},"Years 16-20",{"$f":"SUM(Z121:AD121)","v":0}]
["Carports/Surface Garage",{"$nulls":3},"Per Sq. Ft.",{"$nulls":3},{"$f":"ROUNDUP(+G100*H100,-2)","v":0},{"$f":"SUM(K100:AD100)","v":0},{"$f":"ROUNDUP(IF(OR(($D100+$F$6)=K$62,($C100+$D100+$F$6)=K$62,($C100*2+$D100+$F$6)=K$62,($C100*3+$D100+$F$6)=K$62,($C100*4+$D100+$F$6)=K$62,($C100*5+$D100+$F$6)=K$62,($C100*6+$D100+$F$6)=K$62,($C100*7+$D100+$F$6)=K$62,($C100*8+$D100+$F$6)=K$62),$F100*$H100*((1+$J$52)^(K$62-$F$6)),0),-2)","v":0},0,0,0,0,0,0,0,0,0,{"$f":"ROUNDUP(IF(OR(($D100+$F$6)=U$62,($C100+$D100+$F$6)=U$62,($C100*2+$D100+$F$6)=U$62,($C100*3+$D100+$F$6)=U$62,($C100*4+$D100+$F$6)=U$62,($C100*5+$D100+$F$6)=U$62,($C100*6+$D100+$F$6)=U$62,($C100*7+$D100+$F$6)=U$62,($C100*8+$D100+$F$6)=U$62),$F100*$H100*((1+$J$52)^(U$62-$F$6)),0),-2)","v":0},0,0,0,0,0,0,0,0,0,{"$f":"SUM(K100:AD100)-J100","v":0}]
["Foundation",{"$nulls":3},"Per Sq. Ft.",{"$nulls":3},0,0,0,0,0,0,0,0,0,0,0,0,0,0,0,0,0,0,0,0,0,0,0]
["Building Slab",{"$nulls":3},"Per Sq. Ft.",{"$nulls":3},0,0,0,0,0,0,0,0,0,0,0,0,0,0,0,0,0,0,0,0,0,0,0]
["Roofs",{"$nulls":3},"Per Sq. Ft.",{"$nulls":3},0,0,0,0,0,0,0,0,0,0,0,0,0,0,0,0,0,0,0,0,0,0,0]
["Canopies",{"$nulls":3},"Per Sq. Ft.",{"$nulls":3},0,0,0,0,0,0,0,0,0,0,0,0,0,0,0,0,0,0,0,0,0,0,0]
["Tuck-Pointing",{"$nulls":3},"Per Sq. Ft.",{"$nulls":3},0,0,0,0,0,0,0,0,0,0,0,0,0,0,0,0,0,0,0,0,0,0,0]
["Exterior Paint & Caulking",{"$nulls":3},"Per Sq. Ft.",{"$nulls":3},0,0,0,0,0,0,0,0,0,0,0,0,0,0,0,0,0,0,0,0,0,0,0]
["Soffits",{"$nulls":3},"Per Sq. Ft.",{"$nulls":3},0,0,0,0,0,0,0,0,0,0,0,0,0,0,0,0,0,0,0,0,0,0,0]
["Siding",{"$nulls":3},"Per Sq. Ft.",{"$nulls":3},0,0,0,0,0,0,0,0,0,0,0,0,0,0,0,0,0,0,0,0,0,0,0]
["Exterior Stairwells/Fire Escapes",{"$nulls":3},"Per Sq. Ft.",{"$nulls":3},0,0,0,0,0,0,0,0,0,0,0,0,0,0,0,0,0,0,0,0,0,0,0]
["Landings & Railings",{"$nulls":3},"Per Sq. Ft.",{"$nulls":3},0,0,{"$f":"ROUNDUP(IF(OR(($D110+$F$6)=K$62,($C110+$D110+$F$6)=K$62,($C110*2+$D110+$F$6)=K$62,($C110*3+$D110+$F$6)=K$62,($C110*4+$D110+$F$6)=K$62,($C110*5+$D110+$F$6)=K$62,($C110*6+$D110+$F$6)=K$62,($C110*7+$D110+$F$6)=K$62,($C110*8+$D110+$F$6)=K$62),$F110*$H110*((1+$J$52)^(K$62-$F$6)),0),-2)","v":0},0,0,0,0,0,0,0,0,0,{"$f":"ROUNDUP(IF(OR(($D110+$F$6)=U$62,($C110+$D110+$F$6)=U$62,($C110*2+$D110+$F$6)=U$62,($C110*3+$D110+$F$6)=U$62,($C110*4+$D110+$F$6)=U$62,($C110*5+$D110+$F$6)=U$62,($C110*6+$D110+$F$6)=U$62,($C110*7+$D110+$F$6)=U$62,($C110*8+$D110+$F$6)=U$62),$F110*$H110*((1+$J$52)^(U$62-$F$6)),0),-2)","v":0},0,0,0,0,0,0,0,0,0,0]
["Balconies & Railings",{"$nulls":3},"Per Sq. Ft.",{"$nulls":3},0,0,0,0,0,0,0,0,0,0,0,0,0,0,0,0,0,0,0,0,0,0,0]
["Mail Facilities",{"$nulls":3},"Per Sq. Ft.",{"$nulls":3},0,0,0,0,0,0,0,0,0,0,0,0,0,0,0,0,0,0,0,0,0,0,0]
["Exterior Doors",{"$nulls":3},"Per Sq. Ft.",{"$nulls":3},0,0,0,0,0,0,0,0,0,0,0,0,0,0,0,0,0,0,0,0,0,0,0]
["Windows",{"$nulls":3},"Per Sq. Ft.",{"$nulls":3},0,0,0,0,0,0,0,0,0,0,0,0,0,0,0,0,0,0,0,0,0,0,0]
["Gutters/Downspouts",{"$nulls":3},"Per Sq. Ft.",{"$nulls":3},0,0,0,0,0,0,0,0,0,0,0,0,0,0,0,0,0,0,0,0,0,0,0]
["Columns & Porches",{"$nulls":3},"Per Sq. Ft.",{"$nulls":3},0,0,0,0,0,0,0,0,0,0,0,0,0,0,0,0,0,0,0,0,0,0,0]
["Decks & Patios",{"$nulls":3},"Per Sq. Ft.",{"$nulls":3},0,0,0,0,0,0,0,0,0,0,0,0,0,0,0,0,0,0,0,0,0,0,0]
["Exterior Lighting",{"$nulls":3},"Per Sq. Ft.",{"$nulls":3},0,0,0,0,0,0,0,0,0,0,0,0,0,0,0,0,0,0,0,0,0,0,0]
["Other (Specify)",{"$nulls":7},0,0,0,0,0,0,0,0,0,0,0,0,0,0,0,0,0,0,0,0,0,0,0]
["Other (Specify)",{"$nulls":7},0,0,0,0,0,0,0,0,0,0,0,0,0,0,0,0,0,0,0,0,0,0,0]
["Unit Exterior Subtotals",{"$nulls":7},{"$f":"SUM(I100:I120)","v":0},0,0,0,0,0,0,0,0,0,0,0,0,0,0,0,0,0,0,0,0,0,0]
["(4.12) Unit Interiors",{"$nulls":12},"Years 1-5",{"$f":"SUM(K144:O144)","v":0},{"$nulls":3},"Years 6-10",{"$f":"SUM(P144:T144)","v":0},{"$nulls":3},"Years 11-15",{"$f":"SUM(U144:Y144)","v":0},{"$nulls":3},"Years 16-20",{"$f":"SUM(Z144:AD144)","v":0}]
["Interior Painting (non routine)",{"$nulls":3},"Per Sq. Ft.",{"$nulls":3},{"$f":"ROUNDUP(+G123*H123,-2)","v":0},{"$f":"SUM(K123:AD123)","v":0},{"$f":"ROUNDUP(IF(OR(($D123+$F$6)=K$62,($C123+$D123+$F$6)=K$62,($C123*2+$D123+$F$6)=K$62,($C123*3+$D123+$F$6)=K$62,($C123*4+$D123+$F$6)=K$62,($C123*5+$D123+$F$6)=K$62,($C123*6+$D123+$F$6)=K$62,($C123*7+$D123+$F$6)=K$62,($C123*8+$D123+$F$6)=K$62),$F123*$H123*((1+$J$52)^(K$62-$F$6)),0),-2)","v":0},0,0,0,0,0,0,0,0,0,{"$f":"ROUNDUP(IF(OR(($D123+$F$6)=U$62,($C123+$D123+$F$6)=U$62,($C123*2+$D123+$F$6)=U$62,($C123*3+$D123+$F$6)=U$62,($C123*4+$D123+$F$6)=U$62,($C123*5+$D123+$F$6)=U$62,($C123*6+$D123+$F$6)=U$62,($C123*7+$D123+$F$6)=U$62,($C123*8+$D123+$F$6)=U$62),$F123*$H123*((1+$J$52)^(U$62-$F$6)),0),-2)","v":0},0,0,0,0,0,0,0,0,0,{"$f":"SUM(K123:AD123)-J123","v":0}]
["Interior Doors",{"$nulls":3},"Per Sq. Ft.",{"$nulls":3},0,0,0,0,0,0,0,0,0,0,0,0,0,0,0,0,0,0,0,0,0,0,0]
["Flooring (non routine)",{"$nulls":3},"Per Sq. Ft.",{"$nulls":3},0,0,0,0,0,0,0,0,0,0,0,0,0,0,0,0,0,0,0,0,0,0,0]
["Shower/Tub Surrounds",{"$nulls":3},"Per Sq. Ft.",{"$nulls":3},0,0,0,0,0,0,0,0,0,0,0,0,0,0,0,0,0,0,0,0,0,0,0]
["Commodes",{"$nulls":3},"Per Sq. Ft.",{"$nulls":3},0,0,0,0,0,0,0,0,0,0,0,0,0,0,0,0,0,0,0,0,0,0,0]
["Vanities",{"$nulls":3},"Per Sq. Ft.",{"$nulls":3},0,0,0,0,0,0,0,0,0,0,0,0,0,0,0,0,0,0,0,0,0,0,0]
["Faucets",{"$nulls":3},"Per Sq. Ft.",{"$nulls":3},0,0,0,0,0,0,0,0,0,0,0,0,0,0,0,0,0,0,0,0,0,0,0]
["Bathroom Flooring (non cyclical)",{"$nulls":3},"Per Sq. Ft.",{"$nulls":3},0,0,0,0,0,0,0,0,0,0,0,0,0,0,0,0,0,0,0,0,0,0,0]
["Kitchen Cabinets",{"$nulls":3},"Per Sq. Ft.",{"$nulls":3},0,0,0,0,0,0,0,0,0,0,0,0,0,0,0,0,0,0,0,0,0,0,0]
["Ranges",{"$nulls":3},"Per Sq. Ft.",{"$nulls":3},0,0,0,0,0,0,0,0,0,0,0,0,0,0,0,0,0,0,0,0,0,0,0]
["Range Hoods",{"$nulls":3},"Per Sq. Ft.",{"$nulls":3},0,0,{"$f":"ROUNDUP(IF(OR(($D133+$F$6)=K$62,($C133+$D133+$F$6)=K$62,($C133*2+$D133+$F$6)=K$62,($C133*3+$D133+$F$6)=K$62,($C133*4+$D133+$F$6)=K$62,($C133*5+$D133+$F$6)=K$62,($C133*6+$D133+$F$6)=K$62,($C133*7+$D133+$F$6)=K$62,($C133*8+$D133+$F$6)=K$62),$F133*$H133*((1+$J$52)^(K$62-$F$6)),0),-2)","v":0},0,0,0,0,0,0,0,0,0,{"$f":"ROUNDUP(IF(OR(($D133+$F$6)=U$62,($C133+$D133+$F$6)=U$62,($C133*2+$D133+$F$6)=U$62,($C133*3+$D133+$F$6)=U$62,($C133*4+$D133+$F$6)=U$62,($C133*5+$D133+$F$6)=U$62,($C133*6+$D133+$F$6)=U$62,($C133*7+$D133+$F$6)=U$62,($C133*8+$D133+$F$6)=U$62),$F133*$H133*((1+$J$52)^(U$62-$F$6)),0),-2)","v":0},0,0,0,0,0,0,0,0,0,0]
["Refrigerators",{"$nulls":3},"Per Sq. Ft.",{"$nulls":3},0,0,0,0,0,0,0,0,0,0,0,0,0,0,0,0,0,0,0,0,0,0,0]
["Counters and Sinks",{"$nulls":3},"Per Sq. Ft.",{"$nulls":3},0,0,0,0,0,0,0,0,0,0,0,0,0,0,0,0,0,0,0,0,0,0,0]
["Dishwasher",{"$nulls":3},"Per Sq. Ft.",{"$nulls":3},0,0,0,0,0,0,0,0,0,0,0,0,0,0,0,0,0,0,0,0,0,0,0]
["Microwave",{"$nulls":3},"Per Sq. Ft.",{"$nulls":3},0,0,0,0,0,0,0,0,0,0,0,0,0,0,0,0,0,0,0,0,0,0,0]
["Washing Machines",{"$nulls":3},"Per Sq. Ft.",{"$nulls":3},0,0,0,0,0,0,0,0,0,0,0,0,0,0,0,0,0,0,0,0,0,0,0]
["Dryers",{"$nulls":3},"Per Sq. Ft.",{"$nulls":3},0,0,0,0,0,0,0,0,0,0,0,0,0,0,0,0,0,0,0,0,0,0,0]
["Call-for-Aid Systems",{"$nulls":7},0,0,0,0,0,0,0,0,0,0,0,0,0,0,0,0,0,0,0,0,0,0,0]
["Stairs and Handrails",{"$nulls":7},0,0,0,0,0,0,0,0,0,0,0,0,0,0,0,0,0,0,0,0,0,0,0]
["Other (Specify)",{"$nulls":7},0,0,0,0,0,0,0,0,0,0,0,0,0,0,0,0,0,0,0,0,0,0,0]
["Other (Specify)",{"$nulls":7},0,0,0,0,0,0,0,0,0,0,0,0,0,0,0,0,0,0,0,0,0,0,0]
["Unit Interior Subtotals",{"$nulls":7},{"$f":"SUM(I123:I143)","v":0},0,0,0,0,0,0,0,0,0,0,0,0,0,0,0,0,0,0,0,0,0,0]
["(4.13) Mechanical",{"$nulls":12},"Years 1-5",{"$f":"SUM(K161:O161)","v":0},{"$nulls":3},"Years 6-10",{"$f":"SUM(P161:T161)","v":0},{"$nulls":3},"Years 11-15",{"$f":"SUM(U161:Y161)","v":0},{"$nulls":3},"Years 16-20",{"$f":"SUM(Z161:AD161)","v":0}]
["Water Distribution",{"$nulls":3},"Per Sq. Ft.",{"$nulls":3},{"$f":"ROUNDUP(+G146*H146,-2)","v":0},{"$f":"SUM(K146:AD146)","v":0},{"$f":"ROUNDUP(IF(OR(($D146+$F$6)=K$62,($C146+$D146+$F$6)=K$62,($C146*2+$D146+$F$6)=K$62,($C146*3+$D146+$F$6)=K$62,($C146*4+$D146+$F$6)=K$62,($C146*5+$D146+$F$6)=K$62,($C146*6+$D146+$F$6)=K$62,($C146*7+$D146+$F$6)=K$62,($C146*8+$D146+$F$6)=K$62),$F146*$H146*((1+$J$52)^(K$62-$F$6)),0),-2)","v":0},0,0,0,0,0,0,0,0,0,{"$f":"ROUNDUP(IF(OR(($D146+$F$6)=U$62,($C146+$D146+$F$6)=U$62,($C146*2+$D146+$F$6)=U$62,($C146*3+$D146+$F$6)=U$62,($C146*4+$D146+$F$6)=U$62,($C146*5+$D146+$F$6)=U$62,($C146*6+$D146+$F$6)=U$62,($C146*7+$D146+$F$6)=U$62,($C146*8+$D146+$F$6)=U$62),$F146*$H146*((1+$J$52)^(U$62-$F$6)),0),-2)","v":0},0,0,0,0,0,0,0,0,0,{"$f":"SUM(K146:AD146)-J146","v":0}]
["Heating Equipt/System",{"$nulls":3},"Per Sq. Ft.",{"$nulls":3},0,0,0,0,0,0,0,0,0,0,0,0,0,0,0,0,0,0,0,0,0,0,0]
["Electric Disribution",{"$nulls":3},"Per Sq. Ft.",{"$nulls":3},0,0,0,0,0,0,0,0,0,0,0,0,0,0,0,0,0,0,0,0,0,0,0]
["Hot Water Heaters",{"$nulls":3},"Per Sq. Ft.",{"$nulls":3},0,0,0,0,0,0,0,0,0,0,0,0,0,0,0,0,0,0,0,0,0,0,0]
["Unit Sub-panels",{"$nulls":3},"Per Sq. Ft.",{"$nulls":3},0,0,0,0,0,0,0,0,0,0,0,0,0,0,0,0,0,0,0,0,0,0,0]
["Trash Compactor",{"$nulls":3},"Per Sq. Ft.",{"$nulls":3},0,0,0,0,0,0,0,0,0,0,0,0,0,0,0,0,0,0,0,0,0,0,0]
["Cooling Equipt/Systems",{"$nulls":3},"Per Sq. Ft.",{"$nulls":3},0,0,0,0,0,0,0,0,0,0,0,0,0,0,0,0,0,0,0,0,0,0,0]
["Smoke/Fire Detection",{"$nulls":3},"Per Sq. Ft.",{"$nulls":3},0,0,0,0,0,0,0,0,0,0,0,0,0,0,0,0,0,0,0,0,0,0,0]
["Unit Reconfiguration",{"$nulls":3},"Per Sq. Ft.",{"$nulls":3},0,0,0,0,0,0,0,0,0,0,0,0,0,0,0,0,0,0,0,0,0,0,0]
["Security/Fire Alarm",{"$nulls":3},"Per Sq. Ft.",{"$nulls":3},0,0,0,0,0,0,0,0,0,0,0,0,0,0,0,0,0,0,0,0,0,0,0]
["Fire Suspression System",{"$nulls":3},"Per Sq. Ft.",{"$nulls":3},0,0,0,0,0,0,0,0,0,0,0,0,0,0,0,0,0,0,0,0,0,0,0]
["Generator",{"$nulls":3},"Per Sq. Ft.",{"$nulls":3},0,0,0,0,0,0,0,0,0,0,0,0,0,0,0,0,0,0,0,0,0,0,0]
["Elevator",{"$nulls":3},"Per Sq. Ft.",{"$nulls":3},0,0,0,0,0,0,0,0,0,0,0,0,0,0,0,0,0,0,0,0,0,0,0]
["Other (Specify) ",{"$nulls":7},0,0,0,0,0,0,0,0,0,0,0,0,0,0,0,0,0,0,0,0,0,0,0]
["Other (Specify)",{"$nulls":7},0,0,0,0,0,0,0,0,0,0,0,0,0,0,0,0,0,0,0,0,0,0,0]
["Mechanical Subtotals",{"$nulls":7},{"$f":"SUM(I146:I160)","v":0},0,0,0,0,0,0,0,0,0,0,0,0,0,0,0,0,0,0,0,0,0,0]
["(4.14) Other",{"$nulls":12},"Years 1-5",{"$f":"SUM(K170:O170)","v":0},{"$nulls":3},"Years 6-10",{"$f":"SUM(P170:T170)","v":0},{"$nulls":3},"Years 11-15",{"$f":"SUM(U170:Y170)","v":0},{"$nulls":3},"Years 16-20",{"$f":"SUM(Z170:AD170)","v":0}]
["Site Acquisition",{"$nulls":3},"Per Sq. Ft.",{"$nulls":3},{"$f":"ROUNDUP(+G163*H163,-2)","v":0},{"$f":"SUM(K163:AD163)","v":0},{"$f":"ROUNDUP(IF(OR(($D163+$F$6)=K$62,($C163+$D163+$F$6)=K$62,($C163*2+$D163+$F$6)=K$62,($C163*3+$D163+$F$6)=K$62,($C163*4+$D163+$F$6)=K$62,($C163*5+$D163+$F$6)=K$62,($C163*6+$D163+$F$6)=K$62,($C163*7+$D163+$F$6)=K$62,($C163*8+$D163+$F$6)=K$62),$F163*$H163*((1+$J$52)^(K$62-$F$6)),0),-2)","v":0},0,0,0,0,0,0,0,0,0,{"$f":"ROUNDUP(IF(OR(($D163+$F$6)=U$62,($C163+$D163+$F$6)=U$62,($C163*2+$D163+$F$6)=U$62,($C163*3+$D163+$F$6)=U$62,($C163*4+$D163+$F$6)=U$62,($C163*5+$D163+$F$6)=U$62,($C163*6+$D163+$F$6)=U$62,($C163*7+$D163+$F$6)=U$62,($C163*8+$D163+$F$6)=U$62),$F163*$H163*((1+$J$52)^(U$62-$F$6)),0),-2)","v":0},0,0,0,0,0,0,0,0,0,{"$f":"SUM(K163:AD163)-J163","v":0}]
["Other Fees and Costs",{"$nulls":3},"Per Sq. Ft.",{"$nulls":3},0,0,0,0,0,0,0,0,0,0,0,0,0,0,0,0,0,0,0,0,0,0,0]
["Demolition",{"$nulls":3},"Per Sq. Ft.",{"$nulls":3},0,0,0,0,0,0,0,0,0,0,0,0,0,0,0,0,0,0,0,0,0,0,0]
["Dwelling Unit Conversion",{"$nulls":3},"Per Sq. Ft.",{"$nulls":3},0,0,0,0,0,0,0,0,0,0,0,0,0,0,0,0,0,0,0,0,0,0,0]
["Contingency",{"$nulls":3},"Per Sq. Ft.",{"$nulls":3},0,0,{"$f":"ROUNDUP(IF(OR(($D167+$F$6)=K$62,($C167+$D167+$F$6)=K$62,($C167*2+$D167+$F$6)=K$62,($C167*3+$D167+$F$6)=K$62,($C167*4+$D167+$F$6)=K$62,($C167*5+$D167+$F$6)=K$62,($C167*6+$D167+$F$6)=K$62,($C167*7+$D167+$F$6)=K$62,($C167*8+$D167+$F$6)=K$62),$F167*$H167*((1+$J$52)^(K$62-$F$6)),0),-2)","v":0},0,0,0,0,0,0,0,0,0,{"$f":"ROUNDUP(IF(OR(($D167+$F$6)=U$62,($C167+$D167+$F$6)=U$62,($C167*2+$D167+$F$6)=U$62,($C167*3+$D167+$F$6)=U$62,($C167*4+$D167+$F$6)=U$62,($C167*5+$D167+$F$6)=U$62,($C167*6+$D167+$F$6)=U$62,($C167*7+$D167+$F$6)=U$62,($C167*8+$D167+$F$6)=U$62),$F167*$H167*((1+$J$52)^(U$62-$F$6)),0),-2)","v":0},0,0,0,0,0,0,0,0,0,0]
["Other (Specify) ",{"$nulls":7},0,0,0,0,0,0,0,0,0,0,0,0,0,0,0,0,0,0,0,0,0,0,0]
["Other (Specify)",{"$nulls":7},0,0,0,0,0,0,0,0,0,0,0,0,0,0,0,0,0,0,0,0,0,0,0]
["Other Subtotals",{"$nulls":7},{"$f":"SUM(I163:I169)","v":0},0,0,0,0,0,0,0,0,0,0,0,0,0,0,0,0,0,0,0,0,0,0]
["GRAND TOTAL",{"$nulls":7},{"$f":"I170+I161+I144+I82+I98","v":0},{"$f":"J170+J161+J144+J121+J98+J82","v":0},0,0,0,0,0,0,0,0,0,0,0,0,0,0,0,0,0,0,0,0,0]
["(4.15) Special Categories"]
["Amount of PNA Relating to Lead Paint/Asbestos Compliance",{"$nulls":3},"Per Sq. Ft.",{"$nulls":3},{"$f":"ROUNDUP(+G173*H173,-2)","v":0}]
["Amount of PNA Relating to Section 504, ADA, and Fair Housing Act (if applicable) Compliance",{"$nulls":3},"Per Sq. Ft.",{"$nulls":3},{"$f":"ROUNDUP(+G174*H174,-2)","v":0}]
[]
["(4.16) New Construction"]
["Dwelling Units",{"$nulls":3},"Per Sq. Ft.",{"$nulls":3},{"$f":"ROUNDUP(+G177*H177,-2)","v":0}]
["Administrative Building",{"$nulls":3},"Per Sq. Ft.",{"$nulls":3},0]
["Community Building or Facility",{"$nulls":3},"Per Sq. Ft.",{"$nulls":3},0]
["Shop",{"$nulls":3},"Per Sq. Ft.",{"$nulls":3},0]
["Storage Area",{"$nulls":3},"Per Sq. Ft.",{"$nulls":3},0]
["Family Investment Center",{"$nulls":3},"Per Sq. Ft.",{"$nulls":3},0]
["Day Care Center",{"$nulls":3},"Per Sq. Ft.",{"$nulls":3},0]
["Laundry Areas(s)",{"$nulls":3},"Per Sq. Ft.",{"$nulls":3},0]
["Other (Specify) ",{"$nulls":3},"Per Sq. Ft.",{"$nulls":3},0]
["Other (Specify)",{"$nulls":3},"Per Sq. Ft.",{"$nulls":3},0]
["Other (Specify)",{"$nulls":7},0]
["New Construction Subtotals",{"$nulls":7},{"$f":"SUM(I177:I187)","v":0}]

{"sheet":"Tab 18","index":19,"n_rows":188,"n_cols":31,"rows_kept":188,"merged":[[4,2,4,3],[5,2,5,3],[7,0,7,8],[9,1,9,2],[10,1,10,2],[20,3,20,9],[27,0,27,8],[29,8,29,9],[30,8,30,9],[31,8,31,9],[33,6,35,6],[37,4,37,9],[44,0,44,8],[46,0,46,1],[47,0,47,1],[48,0,48,1],[49,0,49,1],[50,0,50,1],[51,0,51,1],[52,0,52,1],[53,0,53,1],[54,0,54,1],[55,0,55,1],[56,0,56,1],[59,0,59,8],[61,0,61,1],[62,0,62,1],[81,0,81,1],[97,0,97,1],[120,0,120,1],[143,0,143,1],[160,0,160,1],[169,0,169,1],[170,0,170,1],[187,0,187,1]]}
["Physical Needs Assessment",{"$nulls":3},"U.S. Department of Housing",{"$nulls":4}," OMB Approval No. 2577-0157"]
["Capital Fund Financing Program/",{"$nulls":3},"and Urban Development",{"$nulls":4}," (exp. 1/31/2017)"]
["Operating Fund Financing Program",{"$nulls":3},"Office of Public and Indian Housing"]
[]
["HA Name",null,"HA Number",null,null,"FY of Assessment",null," Original  ","Date Prepared:"]
[{"$f":"'Tab 1'!A6","v":0},null,{"$f":"'Tab 6'!C6:D6","v":0},{"$nulls":4},"Revision  ","Date Revised:"]
[]
["(1.0) Project Data"]
[]
["(1.1) Management Office Address",{"$nulls":5},"(1.3) Development No.",null,"(1.4) DOFA Date"]
["(1.2) Project Name"]
[{"$nulls":4},"Family"]
[{"$nulls":3},"(1.9)","Elderly",null,null,"(1.10)","S-F Detached"]
["(1.5) Year of Last Substantial Mod",null,null,"Occupancy","Family & Disabled",null,null,"Structure","Semi-Detached"]
["(1.6) Occupancy Rate ",{"$f":"B20/(+B18-B26)","v":{"$error":"#DIV/0!"}},null,"Type(s)","Elderly & Disabled",null,null,"Type(s)","Row or Townhome"]
["        (Rentable Units Only)",null,null,"(Check)","Not Applicable",null,null,"(Check","M-F/Walkup"]
["(1.7) Latest PASS REAC Score",null,null,"all that apply)","Official Designation: Elderly",null,null,"all that","Elevator"]
["Total Units",{"$f":"+B20+B21","v":0},null,null,"Official Designation: Disabled",null,null,"apply)","Non-Dwelling"]
["(1.8) Total Buildings",{"$nulls":3},"Official Designation: Mixed"]
["Occupied Units",{"$f":"SUM(E23:J23)","v":0}]
["Vacant/Rentable Units",{"$f":"SUM(E24:J24)","v":0},null,"(1.11) Bedroom Distribution"]
[{"$nulls":4},"Eff","1BR","2BR","3BR","4BR","5BR+"]
[{"$nulls":3},"(1.11a) Occupied"]
[{"$nulls":3},"(1.11b) Vacant"]
[{"$nulls":3},"Total Units",{"$f":"SUM(E23:E24)","v":0},0,0,0,0,0]
[{"$nulls":3},"Avg Bedrooms per Unit",null,{"$f":"(+E23*1+F23*1+G23*2+H23*3+I23*4+J23*5)/SUM(E23:J23)","v":{"$error":"#DIV/0!"}}]
[]
["(2.0) Physical Needs Assessment Summary Data"]
[]
["(2.1) PNA Conducted By: (PHA/ 3rd Party)",null,"PHA Internally",null,null,"(2.5) Inspector Contact Name: "]
[null,null,"3rd Pary Independent",null,null,"(2.6) Company Name or PHA Title:"]
["(2.2) First Year Covered by PNA",{"$nulls":4},"(2.7) Inspector Contact Phone:"]
["(2.3) Length of PNA (in years)"]
["(2.4) Unit Interiors Inspected (#)",null,{"$f":"SUM(E40:J40)","v":0},{"$nulls":3},"(2.8) Data Source(s) for PNA",null,"Annual Inspections"]
["Units Inspected as % of Total",null,{"$f":"C34/B18","v":{"$error":"#DIV/0!"}},{"$nulls":5},"Contractor"]
["(2.9) Total Residential Buildings",{"$nulls":7},"REAC Inspections"]
["(2.10) Number of Building Exteriors Inspected"]
["(2.11) Total Off-Street Parking Spaces",{"$nulls":3},"(2.14) Units Inspected by Bedroom Size"]
["(2.12) Site Acreage",null,null,"acres","Eff","1BR","2BR","3BR","4BR","5BR+"]
["(2.13) Parking Area (in square feet)",null,null,"SF"]
[]
["(2.15) Physical Improvements Will Result in Structural/System Soundness at a Reasonable Cost",{"$nulls":5},"Yes","No"]
["(2.16) Development Has Long-Term Physical and Social Viability",{"$nulls":5},"Yes","No"]
[]
["(3.0) Total Physical Needs Summary"]
[]
["Major Category",null,"Immediate","Years                       1-5","Years                    6-10","Years                    11-15","Years                   16-20","Total Needs"]
["Site",null,{"$f":"+I82","v":0},{"$f":"$O$63","v":0},{"$f":"$T$63","v":0},{"$f":"$Y$63","v":0},{"$f":"$AD$63","v":0},{"$f":"SUM(C48:G48)","v":0}]
["Common Buildings",null,{"$f":"$I$98","v":0},{"$f":"$O$83","v":0},{"$f":"$T$83","v":0},{"$f":"$Y$83","v":0},{"$f":"$AD$83","v":0},0]
["Unit Exteriors",null,{"$f":"$I$121","v":0},{"$f":"$O$99","v":0},{"$f":"$T$99","v":0},{"$f":"$Y$99","v":0},{"$f":"$AD$99","v":0},0]
["Unit Interiors",null,{"$f":"$I$144","v":0},{"$f":"O122","v":0},{"$f":"T122","v":0},{"$f":"Y122","v":0},{"$f":"AD122","v":0},0]
["Mechanical",null,{"$f":"I161","v":0},{"$f":"O145","v":0},{"$f":"T145","v":0},{"$f":"Y145","v":0},{"$f":"AD145","v":0},0]
["Other",null,{"$f":"I170","v":0},{"$f":"O162","v":0},{"$f":"T162","v":0},{"$f":"Y162","v":0},{"$f":"AD162","v":0},0]
["Totals",null,{"$f":"SUM(C48:C53)","v":0},0,0,0,0,0]
["Amount of PNA relating to Lead Paint/Asbestos",null,{"$f":"I173","v":0},{"$nulls":4},{"$f":"C55","v":0}]
["Amount of PNA relating to Section 504, ADA, and Fair Housing Act (if applicable) Compliance",null,{"$f":"I174","v":0},{"$nulls":4},{"$f":"C56","v":0}]
["New Construction",{"$nulls":6},{"$f":"I188","v":0}]
[{"$nulls":5},"TOTAL PHYSICAL NEEDS",null,{"$f":"H57+H54","v":0}]
[]
["(4.0)Physical Needs Cost Estimate"]
[]
["(4.1) Category",null,"(4.2) Estimated Useful Life","(4.3)                Useful Life Remaining","(4.4)             Method","(4.5)                   Total          Quantity","(4.6)             Current Needs Quantity","(4.7)                Cost per      Quantity","(4.8)         Immediate Repairs Needed","Total Long Term Needs",{"$f":"+F6+1","v":1},{"$f":"1+K62","v":2},3,4,5,6,7,8,9,10,11,12,13,14,15,16,17,18,19,20]
["(4.9) Site",null,"(in yrs)","(in yrs)",{"$nulls":9},"Years 1-5",{"$f":"SUM(K82:O82)","v":0},{"$nulls":3},"Years 6-10",{"$f":"SUM(P82:T82)","v":0},{"$nulls":3},"Years 11-15",{"$f":"SUM(U82:Y82)","v":0},{"$nulls":3},"Years 16-20",{"$f":"SUM(Z82:AD82)","v":0}]
["Asphalt/Concrete",{"$nulls":3},"Per Sq. Ft.",{"$nulls":3},{"$f":"ROUNDUP(+G64*H64,-2)","v":0},{"$f":"SUM(K64:AD64)","v":0},{"$f":"ROUNDUP(IF(OR(($D64+$F$6)=K$62,($C64+$D64+$F$6)=K$62,($C64*2+$D64+$F$6)=K$62,($C64*3+$D64+$F$6)=K$62,($C64*4+$D64+$F$6)=K$62,($C64*5+$D64+$F$6)=K$62,($C64*6+$D64+$F$6)=K$62,($C64*7+$D64+$F$6)=K$62,($C64*8+$D64+$F$6)=K$62),$F64*$H64*((1+$J$52)^(K$62-$F$6)),0),-2)","v":0},0,0,0,0,0,0,0,0,0,{"$f":"ROUNDUP(IF(OR(($D64+$F$6)=U$62,($C64+$D64+$F$6)=U$62,($C64*2+$D64+$F$6)=U$62,($C64*3+$D64+$F$6)=U$62,($C64*4+$D64+$F$6)=U$62,($C64*5+$D64+$F$6)=U$62,($C64*6+$D64+$F$6)=U$62,($C64*7+$D64+$F$6)=U$62,($C64*8+$D64+$F$6)=U$62),$F64*$H64*((1+$J$52)^(U$62-$F$6)),0),-2)","v":0},0,0,0,0,0,0,0,0,0,{"$f":"SUM(K64:AD64)-J64","v":0}]
["Seal Coat",{"$nulls":3},"Per Sq. Ft.",{"$nulls":3},0,0,0,0,0,0,0,0,0,0,0,0,0,0,0,0,0,0,0,0,0,0,0]
["Striping",{"$nulls":3},"Per Sq. Ft.",{"$nulls":3},0,0,0,0,0,0,0,0,0,0,0,0,0,0,0,0,0,0,0,0,0,0,0]
["Curb & Gutter",{"$nulls":3},"Per Sq. Ft.",{"$nulls":3},0,0,0,0,0,0,0,0,0,0,0,0,0,0,0,0,0,0,0,0,0,0,0]
["Pedestrian paving",{"$nulls":3},"Per Sq. Ft.",{"$nulls":3},0,0,0,0,0,0,0,0,0,0,0,0,0,0,0,0,0,0,0,0,0,0,0]
["Signage",{"$nulls":3},"Per Sq. Ft.",{"$nulls":3},0,0,0,0,0,0,0,0,0,0,0,0,0,0,0,0,0,0,0,0,0,0,0]
["Water Lines/Mains",{"$nulls":3},"Per Sq. Ft.",{"$nulls":3},0,0,0,0,0,0,0,0,0,0,0,0,0,0,0,0,0,0,0,0,0,0,0]
["Sewer Lines/Mains",{"$nulls":3},"Per Sq. Ft.",{"$nulls":3},0,0,0,0,0,0,0,0,0,0,0,0,0,0,0,0,0,0,0,0,0,0,0]
["Lighting",{"$nulls":3},"Per Sq. Ft.",{"$nulls":3},0,0,0,0,0,0,0,0,0,0,0,0,0,0,0,0,0,0,0,0,0,0,0]
["Storm Drainage",{"$nulls":3},"Per Sq. Ft.",{"$nulls":3},0,0,0,0,0,0,0,0,0,0,0,0,0,0,0,0,0,0,0,0,0,0,0]
["Landscape",{"$nulls":3},"Per Sq. Ft.",{"$nulls":3},0,0,{"$f":"ROUNDUP(IF(OR(($D74+$F$6)=K$62,($C74+$D74+$F$6)=K$62,($C74*2+$D74+$F$6)=K$62,($C74*3+$D74+$F$6)=K$62,($C74*4+$D74+$F$6)=K$62,($C74*5+$D74+$F$6)=K$62,($C74*6+$D74+$F$6)=K$62,($C74*7+$D74+$F$6)=K$62,($C74*8+$D74+$F$6)=K$62),$F74*$H74*((1+$J$52)^(K$62-$F$6)),0),-2)","v":0},0,0,0,0,0,0,0,0,0,{"$f":"ROUNDUP(IF(OR(($D74+$F$6)=U$62,($C74+$D74+$F$6)=U$62,($C74*2+$D74+$F$6)=U$62,($C74*3+$D74+$F$6)=U$62,($C74*4+$D74+$F$6)=U$62,($C74*5+$D74+$F$6)=U$62,($C74*6+$D74+$F$6)=U$62,($C74*7+$D74+$F$6)=U$62,($C74*8+$D74+$F$6)=U$62),$F74*$H74*((1+$J$52)^(U$62-$F$6)),0),-2)","v":0},0,0,0,0,0,0,0,0,0,0]
["Fencing",{"$nulls":3},"Per Sq. Ft.",{"$nulls":3},0,0,0,0,0,0,0,0,0,0,0,0,0,0,0,0,0,0,0,0,0,0,0]
["Fence Painting",{"$nulls":3},"Per Sq. Ft.",{"$nulls":3},0,0,0,0,0,0,0,0,0,0,0,0,0,0,0,0,0,0,0,0,0,0,0]
["Dumpsters & Enclosures",{"$nulls":3},"Per Sq. Ft.",{"$nulls":3},0,0,0,0,0,0,0,0,0,0,0,0,0,0,0,0,0,0,0,0,0,0,0]
["Electric Distribution",{"$nulls":3},"Per Sq. Ft.",{"$nulls":3},0,0,0,0,0,0,0,0,0,0,0,0,0,0,0,0,0,0,0,0,0,0,0]
["Playground Areas/Equipment",{"$nulls":3},"Per Sq. Ft.",{"$nulls":3},0,0,0,0,0,0,0,0,0,0,0,0,0,0,0,0,0,0,0,0,0,0,0]
["Other (Specify)",{"$nulls":7},0,0,0,0,0,0,0,0,0,0,0,0,0,0,0,0,0,0,0,0,0,0,0]
["Other (Specify)",{"$nulls":7},0,0,0,0,0,0,0,0,0,0,0,0,0,0,0,0,0,0,0,0,0,0,0]
["Site Subtotals",{"$nulls":7},{"$f":"SUM(I64:I81)","v":0},0,0,0,0,0,0,0,0,0,0,0,0,0,0,0,0,0,0,0,0,0,0]
["(4.10) Common Buildings--Rehab Only",{"$nulls":12},"Years 1-5",{"$f":"SUM(K98:O98)","v":0},{"$nulls":3},"Years 6-10",{"$f":"SUM(P98:T98)","v":0},{"$nulls":3},"Years 11-15",{"$f":"SUM(T98:X98)","v":0},{"$nulls":3},"Years 16-20",{"$f":"SUM(Y98:AC98)","v":0}]
["Administrative Building",{"$nulls":3},"Per Sq. Ft.",{"$nulls":3},{"$f":"ROUNDUP(+G84*H84,-2)","v":0},{"$f":"SUM(K84:AD84)","v":0},{"$f":"ROUNDUP(IF(OR(($D84+$F$6)=K$62,($C84+$D84+$F$6)=K$62,($C84*2+$D84+$F$6)=K$62,($C84*3+$D84+$F$6)=K$62,($C84*4+$D84+$F$6)=K$62,($C84*5+$D84+$F$6)=K$62,($C84*6+$D84+$F$6)=K$62,($C84*7+$D84+$F$6)=K$62,($C84*8+$D84+$F$6)=K$62),$F84*$H84*((1+$J$52)^(K$62-$F$6)),0),-2)","v":0},0,0,0,0,0,0,0,0,0,{"$f":"ROUNDUP(IF(OR(($D84+$F$6)=U$62,($C84+$D84+$F$6)=U$62,($C84*2+$D84+$F$6)=U$62,($C84*3+$D84+$F$6)=U$62,($C84*4+$D84+$F$6)=U$62,($C84*5+$D84+$F$6)=U$62,($C84*6+$D84+$F$6)=U$62,($C84*7+$D84+$F$6)=U$62,($C84*8+$D84+$F$6)=U$62),$F84*$H84*((1+$J$52)^(U$62-$F$6)),0),-2)","v":0},0,0,0,0,0,0,0,0,0,{"$f":"SUM(K84:AD84)-J84","v":0}]
["Community Building",{"$nulls":3},"Per Sq. Ft.",{"$nulls":3},0,0,0,0,0,0,0,0,0,0,0,0,0,0,0,0,0,0,0,0,0,0,0]
["Shop",{"$nulls":3},"Per Sq. Ft.",{"$nulls":3},0,0,0,0,0,0,0,0,0,0,0,0,0,0,0,0,0,0,0,0,0,0,0]
["Storage Area",{"$nulls":3},"Per Sq. Ft.",{"$nulls":3},0,0,0,0,0,0,0,0,0,0,0,0,0,0,0,0,0,0,0,0,0,0,0]
["Central Boiler",{"$nulls":3},"Per Sq. Ft.",{"$nulls":3},0,0,0,0,0,0,0,0,0,0,0,0,0,0,0,0,0,0,0,0,0,0,0]
["Central Chiller",{"$nulls":3},"Per Sq. Ft.",{"$nulls":3},0,0,0,0,0,0,0,0,0,0,0,0,0,0,0,0,0,0,0,0,0,0,0]
["Family Invesment Center",{"$nulls":3},"Per Sq. Ft.",{"$nulls":3},0,0,0,0,0,0,0,0,0,0,0,0,0,0,0,0,0,0,0,0,0,0,0]
["Day Care Center",{"$nulls":3},"Per Sq. Ft.",{"$nulls":3},0,0,0,0,0,0,0,0,0,0,0,0,0,0,0,0,0,0,0,0,0,0,0]
["Laundry Areas",{"$nulls":3},"Per Sq. Ft.",{"$nulls":3},0,0,{"$f":"ROUNDUP(IF(OR(($D92+$F$6)=K$62,($C92+$D92+$F$6)=K$62,($C92*2+$D92+$F$6)=K$62,($C92*3+$D92+$F$6)=K$62,($C92*4+$D92+$F$6)=K$62,($C92*5+$D92+$F$6)=K$62,($C92*6+$D92+$F$6)=K$62,($C92*7+$D92+$F$6)=K$62,($C92*8+$D92+$F$6)=K$62),$F92*$H92*((1+$J$52)^(K$62-$F$6)),0),-2)","v":0},0,0,0,0,0,0,0,0,0,{"$f":"ROUNDUP(IF(OR(($D92+$F$6)=U$62,($C92+$D92+$F$6)=U$62,($C92*2+$D92+$F$6)=U$62,($C92*3+$D92+$F$6)=U$62,($C92*4+$D92+$F$6)=U$62,($C92*5+$D92+$F$6)=U$62,($C92*6+$D92+$F$6)=U$62,($C92*7+$D92+$F$6)=U$62,($C92*8+$D92+$F$6)=U$62),$F92*$H92*((1+$J$52)^(U$62-$F$6)),0),-2)","v":0},0,0,0,0,0,0,0,0,0,0]
["Common Area Washers",{"$nulls":3},"Per Sq. Ft.",{"$nulls":3},0,0,0,0,0,0,0,0,0,0,0,0,0,0,0,0,0,0,0,0,0,0,0]
["Common Area Dryers",{"$nulls":3},"Per Sq. Ft.",{"$nulls":3},0,0,0,0,0,0,0,0,0,0,0,0,0,0,0,0,0,0,0,0,0,0,0]
["Common Area Finishes",{"$nulls":3},"Per Sq. Ft.",{"$nulls":3},0,0,0,0,0,0,0,0,0,0,0,0,0,0,0,0,0,0,0,0,0,0,0]
["Other (Specify)",{"$nulls":7},0,0,0,0,0,0,0,0,0,0,0,0,0,0,0,0,0,0,0,0,0,0,0]
["Other (Specify)",{"$nulls":7},0,0,0,0,0,0,0,0,0,0,0,0,0,0,0,0,0,0,0,0,0,0,0]
["Common Subtotals",{"$nulls":7},{"$f":"SUM(I84:I97)","v":0},0,0,0,0,0,0,0,0,0,0,0,0,0,0,0,0,0,0,0,0,0,0]
["(4.11) Unit Exteriors",{"$nulls":12},"Years 1-5",{"$f":"SUM(K121:O121)","v":0},{"$nulls":3},"Years 6-10",{"$f":"SUM(P121:T121)","v":0},{"$nulls":3},"Years 11-15",{"$f":"SUM(U121:Y121)","v":0},{"$nulls":3},"Years 16-20",{"$f":"SUM(Z121:AD121)","v":0}]
["Carports/Surface Garage",{"$nulls":3},"Per Sq. Ft.",{"$nulls":3},{"$f":"ROUNDUP(+G100*H100,-2)","v":0},{"$f":"SUM(K100:AD100)","v":0},{"$f":"ROUNDUP(IF(OR(($D100+$F$6)=K$62,($C100+$D100+$F$6)=K$62,($C100*2+$D100+$F$6)=K$62,($C100*3+$D100+$F$6)=K$62,($C100*4+$D100+$F$6)=K$62,($C100*5+$D100+$F$6)=K$62,($C100*6+$D100+$F$6)=K$62,($C100*7+$D100+$F$6)=K$62,($C100*8+$D100+$F$6)=K$62),$F100*$H100*((1+$J$52)^(K$62-$F$6)),0),-2)","v":0},0,0,0,0,0,0,0,0,0,{"$f":"ROUNDUP(IF(OR(($D100+$F$6)=U$62,($C100+$D100+$F$6)=U$62,($C100*2+$D100+$F$6)=U$62,($C100*3+$D100+$F$6)=U$62,($C100*4+$D100+$F$6)=U$62,($C100*5+$D100+$F$6)=U$62,($C100*6+$D100+$F$6)=U$62,($C100*7+$D100+$F$6)=U$62,($C100*8+$D100+$F$6)=U$62),$F100*$H100*((1+$J$52)^(U$62-$F$6)),0),-2)","v":0},0,0,0,0,0,0,0,0,0,{"$f":"SUM(K100:AD100)-J100","v":0}]
["Foundation",{"$nulls":3},"Per Sq. Ft.",{"$nulls":3},0,0,0,0,0,0,0,0,0,0,0,0,0,0,0,0,0,0,0,0,0,0,0]
["Building Slab",{"$nulls":3},"Per Sq. Ft.",{"$nulls":3},0,0,0,0,0,0,0,0,0,0,0,0,0,0,0,0,0,0,0,0,0,0,0]
["Roofs",{"$nulls":3},"Per Sq. Ft.",{"$nulls":3},0,0,0,0,0,0,0,0,0,0,0,0,0,0,0,0,0,0,0,0,0,0,0]
["Canopies",{"$nulls":3},"Per Sq. Ft.",{"$nulls":3},0,0,0,0,0,0,0,0,0,0,0,0,0,0,0,0,0,0,0,0,0,0,0]
["Tuck-Pointing",{"$nulls":3},"Per Sq. Ft.",{"$nulls":3},0,0,0,0,0,0,0,0,0,0,0,0,0,0,0,0,0,0,0,0,0,0,0]
["Exterior Paint & Caulking",{"$nulls":3},"Per Sq. Ft.",{"$nulls":3},0,0,0,0,0,0,0,0,0,0,0,0,0,0,0,0,0,0,0,0,0,0,0]
["Soffits",{"$nulls":3},"Per Sq. Ft.",{"$nulls":3},0,0,0,0,0,0,0,0,0,0,0,0,0,0,0,0,0,0,0,0,0,0,0]
["Siding",{"$nulls":3},"Per Sq. Ft.",{"$nulls":3},0,0,0,0,0,0,0,0,0,0,0,0,0,0,0,0,0,0,0,0,0,0,0]
["Exterior Stairwells/Fire Escapes",{"$nulls":3},"Per Sq. Ft.",{"$nulls":3},0,0,0,0,0,0,0,0,0,0,0,0,0,0,0,0,0,0,0,0,0,0,0]
["Landings & Railings",{"$nulls":3},"Per Sq. Ft.",{"$nulls":3},0,0,{"$f":"ROUNDUP(IF(OR(($D110+$F$6)=K$62,($C110+$D110+$F$6)=K$62,($C110*2+$D110+$F$6)=K$62,($C110*3+$D110+$F$6)=K$62,($C110*4+$D110+$F$6)=K$62,($C110*5+$D110+$F$6)=K$62,($C110*6+$D110+$F$6)=K$62,($C110*7+$D110+$F$6)=K$62,($C110*8+$D110+$F$6)=K$62),$F110*$H110*((1+$J$52)^(K$62-$F$6)),0),-2)","v":0},0,0,0,0,0,0,0,0,0,{"$f":"ROUNDUP(IF(OR(($D110+$F$6)=U$62,($C110+$D110+$F$6)=U$62,($C110*2+$D110+$F$6)=U$62,($C110*3+$D110+$F$6)=U$62,($C110*4+$D110+$F$6)=U$62,($C110*5+$D110+$F$6)=U$62,($C110*6+$D110+$F$6)=U$62,($C110*7+$D110+$F$6)=U$62,($C110*8+$D110+$F$6)=U$62),$F110*$H110*((1+$J$52)^(U$62-$F$6)),0),-2)","v":0},0,0,0,0,0,0,0,0,0,0]
["Balconies & Railings",{"$nulls":3},"Per Sq. Ft.",{"$nulls":3},0,0,0,0,0,0,0,0,0,0,0,0,0,0,0,0,0,0,0,0,0,0,0]
["Mail Facilities",{"$nulls":3},"Per Sq. Ft.",{"$nulls":3},0,0,0,0,0,0,0,0,0,0,0,0,0,0,0,0,0,0,0,0,0,0,0]
["Exterior Doors",{"$nulls":3},"Per Sq. Ft.",{"$nulls":3},0,0,0,0,0,0,0,0,0,0,0,0,0,0,0,0,0,0,0,0,0,0,0]
["Windows",{"$nulls":3},"Per Sq. Ft.",{"$nulls":3},0,0,0,0,0,0,0,0,0,0,0,0,0,0,0,0,0,0,0,0,0,0,0]
["Gutters/Downspouts",{"$nulls":3},"Per Sq. Ft.",{"$nulls":3},0,0,0,0,0,0,0,0,0,0,0,0,0,0,0,0,0,0,0,0,0,0,0]
["Columns & Porches",{"$nulls":3},"Per Sq. Ft.",{"$nulls":3},0,0,0,0,0,0,0,0,0,0,0,0,0,0,0,0,0,0,0,0,0,0,0]
["Decks & Patios",{"$nulls":3},"Per Sq. Ft.",{"$nulls":3},0,0,0,0,0,0,0,0,0,0,0,0,0,0,0,0,0,0,0,0,0,0,0]
["Exterior Lighting",{"$nulls":3},"Per Sq. Ft.",{"$nulls":3},0,0,0,0,0,0,0,0,0,0,0,0,0,0,0,0,0,0,0,0,0,0,0]
["Other (Specify)",{"$nulls":7},0,0,0,0,0,0,0,0,0,0,0,0,0,0,0,0,0,0,0,0,0,0,0]
["Other (Specify)",{"$nulls":7},0,0,0,0,0,0,0,0,0,0,0,0,0,0,0,0,0,0,0,0,0,0,0]
["Unit Exterior Subtotals",{"$nulls":7},{"$f":"SUM(I100:I120)","v":0},0,0,0,0,0,0,0,0,0,0,0,0,0,0,0,0,0,0,0,0,0,0]
["(4.12) Unit Interiors",{"$nulls":12},"Years 1-5",{"$f":"SUM(K144:O144)","v":0},{"$nulls":3},"Years 6-10",{"$f":"SUM(P144:T144)","v":0},{"$nulls":3},"Years 11-15",{"$f":"SUM(U144:Y144)","v":0},{"$nulls":3},"Years 16-20",{"$f":"SUM(Z144:AD144)","v":0}]
["Interior Painting (non routine)",{"$nulls":3},"Per Sq. Ft.",{"$nulls":3},{"$f":"ROUNDUP(+G123*H123,-2)","v":0},{"$f":"SUM(K123:AD123)","v":0},{"$f":"ROUNDUP(IF(OR(($D123+$F$6)=K$62,($C123+$D123+$F$6)=K$62,($C123*2+$D123+$F$6)=K$62,($C123*3+$D123+$F$6)=K$62,($C123*4+$D123+$F$6)=K$62,($C123*5+$D123+$F$6)=K$62,($C123*6+$D123+$F$6)=K$62,($C123*7+$D123+$F$6)=K$62,($C123*8+$D123+$F$6)=K$62),$F123*$H123*((1+$J$52)^(K$62-$F$6)),0),-2)","v":0},0,0,0,0,0,0,0,0,0,{"$f":"ROUNDUP(IF(OR(($D123+$F$6)=U$62,($C123+$D123+$F$6)=U$62,($C123*2+$D123+$F$6)=U$62,($C123*3+$D123+$F$6)=U$62,($C123*4+$D123+$F$6)=U$62,($C123*5+$D123+$F$6)=U$62,($C123*6+$D123+$F$6)=U$62,($C123*7+$D123+$F$6)=U$62,($C123*8+$D123+$F$6)=U$62),$F123*$H123*((1+$J$52)^(U$62-$F$6)),0),-2)","v":0},0,0,0,0,0,0,0,0,0,{"$f":"SUM(K123:AD123)-J123","v":0}]
["Interior Doors",{"$nulls":3},"Per Sq. Ft.",{"$nulls":3},0,0,0,0,0,0,0,0,0,0,0,0,0,0,0,0,0,0,0,0,0,0,0]
["Flooring (non routine)",{"$nulls":3},"Per Sq. Ft.",{"$nulls":3},0,0,0,0,0,0,0,0,0,0,0,0,0,0,0,0,0,0,0,0,0,0,0]
["Shower/Tub Surrounds",{"$nulls":3},"Per Sq. Ft.",{"$nulls":3},0,0,0,0,0,0,0,0,0,0,0,0,0,0,0,0,0,0,0,0,0,0,0]
["Commodes",{"$nulls":3},"Per Sq. Ft.",{"$nulls":3},0,0,0,0,0,0,0,0,0,0,0,0,0,0,0,0,0,0,0,0,0,0,0]
["Vanities",{"$nulls":3},"Per Sq. Ft.",{"$nulls":3},0,0,0,0,0,0,0,0,0,0,0,0,0,0,0,0,0,0,0,0,0,0,0]
["Faucets",{"$nulls":3},"Per Sq. Ft.",{"$nulls":3},0,0,0,0,0,0,0,0,0,0,0,0,0,0,0,0,0,0,0,0,0,0,0]
["Bathroom Flooring (non cyclical)",{"$nulls":3},"Per Sq. Ft.",{"$nulls":3},0,0,0,0,0,0,0,0,0,0,0,0,0,0,0,0,0,0,0,0,0,0,0]
["Kitchen Cabinets",{"$nulls":3},"Per Sq. Ft.",{"$nulls":3},0,0,0,0,0,0,0,0,0,0,0,0,0,0,0,0,0,0,0,0,0,0,0]
["Ranges",{"$nulls":3},"Per Sq. Ft.",{"$nulls":3},0,0,0,0,0,0,0,0,0,0,0,0,0,0,0,0,0,0,0,0,0,0,0]
["Range Hoods",{"$nulls":3},"Per Sq. Ft.",{"$nulls":3},0,0,{"$f":"ROUNDUP(IF(OR(($D133+$F$6)=K$62,($C133+$D133+$F$6)=K$62,($C133*2+$D133+$F$6)=K$62,($C133*3+$D133+$F$6)=K$62,($C133*4+$D133+$F$6)=K$62,($C133*5+$D133+$F$6)=K$62,($C133*6+$D133+$F$6)=K$62,($C133*7+$D133+$F$6)=K$62,($C133*8+$D133+$F$6)=K$62),$F133*$H133*((1+$J$52)^(K$62-$F$6)),0),-2)","v":0},0,0,0,0,0,0,0,0,0,{"$f":"ROUNDUP(IF(OR(($D133+$F$6)=U$62,($C133+$D133+$F$6)=U$62,($C133*2+$D133+$F$6)=U$62,($C133*3+$D133+$F$6)=U$62,($C133*4+$D133+$F$6)=U$62,($C133*5+$D133+$F$6)=U$62,($C133*6+$D133+$F$6)=U$62,($C133*7+$D133+$F$6)=U$62,($C133*8+$D133+$F$6)=U$62),$F133*$H133*((1+$J$52)^(U$62-$F$6)),0),-2)","v":0},0,0,0,0,0,0,0,0,0,0]
["Refrigerators",{"$nulls":3},"Per Sq. Ft.",{"$nulls":3},0,0,0,0,0,0,0,0,0,0,0,0,0,0,0,0,0,0,0,0,0,0,0]
["Counters and Sinks",{"$nulls":3},"Per Sq. Ft.",{"$nulls":3},0,0,0,0,0,0,0,0,0,0,0,0,0,0,0,0,0,0,0,0,0,0,0]
["Dishwasher",{"$nulls":3},"Per Sq. Ft.",{"$nulls":3},0,0,0,0,0,0,0,0,0,0,0,0,0,0,0,0,0,0,0,0,0,0,0]
["Microwave",{"$nulls":3},"Per Sq. Ft.",{"$nulls":3},0,0,0,0,0,0,0,0,0,0,0,0,0,0,0,0,0,0,0,0,0,0,0]
["Washing Machines",{"$nulls":3},"Per Sq. Ft.",{"$nulls":3},0,0,0,0,0,0,0,0,0,0,0,0,0,0,0,0,0,0,0,0,0,0,0]
["Dryers",{"$nulls":3},"Per Sq. Ft.",{"$nulls":3},0,0,0,0,0,0,0,0,0,0,0,0,0,0,0,0,0,0,0,0,0,0,0]
["Call-for-Aid Systems",{"$nulls":7},0,0,0,0,0,0,0,0,0,0,0,0,0,0,0,0,0,0,0,0,0,0,0]
["Stairs and Handrails",{"$nulls":7},0,0,0,0,0,0,0,0,0,0,0,0,0,0,0,0,0,0,0,0,0,0,0]
["Other (Specify)",{"$nulls":7},0,0,0,0,0,0,0,0,0,0,0,0,0,0,0,0,0,0,0,0,0,0,0]
["Other (Specify)",{"$nulls":7},0,0,0,0,0,0,0,0,0,0,0,0,0,0,0,0,0,0,0,0,0,0,0]
["Unit Interior Subtotals",{"$nulls":7},{"$f":"SUM(I123:I143)","v":0},0,0,0,0,0,0,0,0,0,0,0,0,0,0,0,0,0,0,0,0,0,0]
["(4.13) Mechanical",{"$nulls":12},"Years 1-5",{"$f":"SUM(K161:O161)","v":0},{"$nulls":3},"Years 6-10",{"$f":"SUM(P161:T161)","v":0},{"$nulls":3},"Years 11-15",{"$f":"SUM(U161:Y161)","v":0},{"$nulls":3},"Years 16-20",{"$f":"SUM(Z161:AD161)","v":0}]
["Water Distribution",{"$nulls":3},"Per Sq. Ft.",{"$nulls":3},{"$f":"ROUNDUP(+G146*H146,-2)","v":0},{"$f":"SUM(K146:AD146)","v":0},{"$f":"ROUNDUP(IF(OR(($D146+$F$6)=K$62,($C146+$D146+$F$6)=K$62,($C146*2+$D146+$F$6)=K$62,($C146*3+$D146+$F$6)=K$62,($C146*4+$D146+$F$6)=K$62,($C146*5+$D146+$F$6)=K$62,($C146*6+$D146+$F$6)=K$62,($C146*7+$D146+$F$6)=K$62,($C146*8+$D146+$F$6)=K$62),$F146*$H146*((1+$J$52)^(K$62-$F$6)),0),-2)","v":0},0,0,0,0,0,0,0,0,0,{"$f":"ROUNDUP(IF(OR(($D146+$F$6)=U$62,($C146+$D146+$F$6)=U$62,($C146*2+$D146+$F$6)=U$62,($C146*3+$D146+$F$6)=U$62,($C146*4+$D146+$F$6)=U$62,($C146*5+$D146+$F$6)=U$62,($C146*6+$D146+$F$6)=U$62,($C146*7+$D146+$F$6)=U$62,($C146*8+$D146+$F$6)=U$62),$F146*$H146*((1+$J$52)^(U$62-$F$6)),0),-2)","v":0},0,0,0,0,0,0,0,0,0,{"$f":"SUM(K146:AD146)-J146","v":0}]
["Heating Equipt/System",{"$nulls":3},"Per Sq. Ft.",{"$nulls":3},0,0,0,0,0,0,0,0,0,0,0,0,0,0,0,0,0,0,0,0,0,0,0]
["Electric Disribution",{"$nulls":3},"Per Sq. Ft.",{"$nulls":3},0,0,0,0,0,0,0,0,0,0,0,0,0,0,0,0,0,0,0,0,0,0,0]
["Hot Water Heaters",{"$nulls":3},"Per Sq. Ft.",{"$nulls":3},0,0,0,0,0,0,0,0,0,0,0,0,0,0,0,0,0,0,0,0,0,0,0]
["Unit Sub-panels",{"$nulls":3},"Per Sq. Ft.",{"$nulls":3},0,0,0,0,0,0,0,0,0,0,0,0,0,0,0,0,0,0,0,0,0,0,0]
["Trash Compactor",{"$nulls":3},"Per Sq. Ft.",{"$nulls":3},0,0,0,0,0,0,0,0,0,0,0,0,0,0,0,0,0,0,0,0,0,0,0]
["Cooling Equipt/Systems",{"$nulls":3},"Per Sq. Ft.",{"$nulls":3},0,0,0,0,0,0,0,0,0,0,0,0,0,0,0,0,0,0,0,0,0,0,0]
["Smoke/Fire Detection",{"$nulls":3},"Per Sq. Ft.",{"$nulls":3},0,0,0,0,0,0,0,0,0,0,0,0,0,0,0,0,0,0,0,0,0,0,0]
["Unit Reconfiguration",{"$nulls":3},"Per Sq. Ft.",{"$nulls":3},0,0,0,0,0,0,0,0,0,0,0,0,0,0,0,0,0,0,0,0,0,0,0]
["Security/Fire Alarm",{"$nulls":3},"Per Sq. Ft.",{"$nulls":3},0,0,0,0,0,0,0,0,0,0,0,0,0,0,0,0,0,0,0,0,0,0,0]
["Fire Suspression System",{"$nulls":3},"Per Sq. Ft.",{"$nulls":3},0,0,0,0,0,0,0,0,0,0,0,0,0,0,0,0,0,0,0,0,0,0,0]
["Generator",{"$nulls":3},"Per Sq. Ft.",{"$nulls":3},0,0,0,0,0,0,0,0,0,0,0,0,0,0,0,0,0,0,0,0,0,0,0]
["Elevator",{"$nulls":3},"Per Sq. Ft.",{"$nulls":3},0,0,0,0,0,0,0,0,0,0,0,0,0,0,0,0,0,0,0,0,0,0,0]
["Other (Specify) ",{"$nulls":7},0,0,0,0,0,0,0,0,0,0,0,0,0,0,0,0,0,0,0,0,0,0,0]
["Other (Specify)",{"$nulls":7},0,0,0,0,0,0,0,0,0,0,0,0,0,0,0,0,0,0,0,0,0,0,0]
["Mechanical Subtotals",{"$nulls":7},{"$f":"SUM(I146:I160)","v":0},0,0,0,0,0,0,0,0,0,0,0,0,0,0,0,0,0,0,0,0,0,0]
["(4.14) Other",{"$nulls":12},"Years 1-5",{"$f":"SUM(K170:O170)","v":0},{"$nulls":3},"Years 6-10",{"$f":"SUM(P170:T170)","v":0},{"$nulls":3},"Years 11-15",{"$f":"SUM(U170:Y170)","v":0},{"$nulls":3},"Years 16-20",{"$f":"SUM(Z170:AD170)","v":0}]
["Site Acquisition",{"$nulls":3},"Per Sq. Ft.",{"$nulls":3},{"$f":"ROUNDUP(+G163*H163,-2)","v":0},{"$f":"SUM(K163:AD163)","v":0},{"$f":"ROUNDUP(IF(OR(($D163+$F$6)=K$62,($C163+$D163+$F$6)=K$62,($C163*2+$D163+$F$6)=K$62,($C163*3+$D163+$F$6)=K$62,($C163*4+$D163+$F$6)=K$62,($C163*5+$D163+$F$6)=K$62,($C163*6+$D163+$F$6)=K$62,($C163*7+$D163+$F$6)=K$62,($C163*8+$D163+$F$6)=K$62),$F163*$H163*((1+$J$52)^(K$62-$F$6)),0),-2)","v":0},0,0,0,0,0,0,0,0,0,{"$f":"ROUNDUP(IF(OR(($D163+$F$6)=U$62,($C163+$D163+$F$6)=U$62,($C163*2+$D163+$F$6)=U$62,($C163*3+$D163+$F$6)=U$62,($C163*4+$D163+$F$6)=U$62,($C163*5+$D163+$F$6)=U$62,($C163*6+$D163+$F$6)=U$62,($C163*7+$D163+$F$6)=U$62,($C163*8+$D163+$F$6)=U$62),$F163*$H163*((1+$J$52)^(U$62-$F$6)),0),-2)","v":0},0,0,0,0,0,0,0,0,0,{"$f":"SUM(K163:AD163)-J163","v":0}]
["Other Fees and Costs",{"$nulls":3},"Per Sq. Ft.",{"$nulls":3},0,0,0,0,0,0,0,0,0,0,0,0,0,0,0,0,0,0,0,0,0,0,0]
["Demolition",{"$nulls":3},"Per Sq. Ft.",{"$nulls":3},0,0,0,0,0,0,0,0,0,0,0,0,0,0,0,0,0,0,0,0,0,0,0]
["Dwelling Unit Conversion",{"$nulls":3},"Per Sq. Ft.",{"$nulls":3},0,0,0,0,0,0,0,0,0,0,0,0,0,0,0,0,0,0,0,0,0,0,0]
["Contingency",{"$nulls":3},"Per Sq. Ft.",{"$nulls":3},0,0,{"$f":"ROUNDUP(IF(OR(($D167+$F$6)=K$62,($C167+$D167+$F$6)=K$62,($C167*2+$D167+$F$6)=K$62,($C167*3+$D167+$F$6)=K$62,($C167*4+$D167+$F$6)=K$62,($C167*5+$D167+$F$6)=K$62,($C167*6+$D167+$F$6)=K$62,($C167*7+$D167+$F$6)=K$62,($C167*8+$D167+$F$6)=K$62),$F167*$H167*((1+$J$52)^(K$62-$F$6)),0),-2)","v":0},0,0,0,0,0,0,0,0,0,{"$f":"ROUNDUP(IF(OR(($D167+$F$6)=U$62,($C167+$D167+$F$6)=U$62,($C167*2+$D167+$F$6)=U$62,($C167*3+$D167+$F$6)=U$62,($C167*4+$D167+$F$6)=U$62,($C167*5+$D167+$F$6)=U$62,($C167*6+$D167+$F$6)=U$62,($C167*7+$D167+$F$6)=U$62,($C167*8+$D167+$F$6)=U$62),$F167*$H167*((1+$J$52)^(U$62-$F$6)),0),-2)","v":0},0,0,0,0,0,0,0,0,0,0]
["Other (Specify) ",{"$nulls":7},0,0,0,0,0,0,0,0,0,0,0,0,0,0,0,0,0,0,0,0,0,0,0]
["Other (Specify)",{"$nulls":7},0,0,0,0,0,0,0,0,0,0,0,0,0,0,0,0,0,0,0,0,0,0,0]
["Other Subtotals",{"$nulls":7},{"$f":"SUM(I163:I169)","v":0},0,0,0,0,0,0,0,0,0,0,0,0,0,0,0,0,0,0,0,0,0,0]
["GRAND TOTAL",{"$nulls":7},{"$f":"I170+I161+I144+I82+I98","v":0},{"$f":"J170+J161+J144+J121+J98+J82","v":0},0,0,0,0,0,0,0,0,0,0,0,0,0,0,0,0,0,0,0,0,0]
["(4.15) Special Categories"]
["Amount of PNA Relating to Lead Paint/Asbestos Compliance",{"$nulls":3},"Per Sq. Ft.",{"$nulls":3},{"$f":"ROUNDUP(+G173*H173,-2)","v":0}]
["Amount of PNA Relating to Section 504, ADA, and Fair Housing Act (if applicable) Compliance",{"$nulls":3},"Per Sq. Ft.",{"$nulls":3},{"$f":"ROUNDUP(+G174*H174,-2)","v":0}]
[]
["(4.16) New Construction"]
["Dwelling Units",{"$nulls":3},"Per Sq. Ft.",{"$nulls":3},{"$f":"ROUNDUP(+G177*H177,-2)","v":0}]
["Administrative Building",{"$nulls":3},"Per Sq. Ft.",{"$nulls":3},0]
["Community Building or Facility",{"$nulls":3},"Per Sq. Ft.",{"$nulls":3},0]
["Shop",{"$nulls":3},"Per Sq. Ft.",{"$nulls":3},0]
["Storage Area",{"$nulls":3},"Per Sq. Ft.",{"$nulls":3},0]
["Family Investment Center",{"$nulls":3},"Per Sq. Ft.",{"$nulls":3},0]
["Day Care Center",{"$nulls":3},"Per Sq. Ft.",{"$nulls":3},0]
["Laundry Areas(s)",{"$nulls":3},"Per Sq. Ft.",{"$nulls":3},0]
["Other (Specify) ",{"$nulls":3},"Per Sq. Ft.",{"$nulls":3},0]
["Other (Specify)",{"$nulls":3},"Per Sq. Ft.",{"$nulls":3},0]
["Other (Specify)",{"$nulls":7},0]
["New Construction Subtotals",{"$nulls":7},{"$f":"SUM(I177:I187)","v":0}]

{"sheet":"Tab 19","index":20,"n_rows":188,"n_cols":31,"rows_kept":188,"merged":[[4,2,4,3],[5,2,5,3],[7,0,7,8],[9,1,9,2],[10,1,10,2],[20,3,20,9],[27,0,27,8],[29,8,29,9],[30,8,30,9],[31,8,31,9],[33,6,35,6],[37,4,37,9],[44,0,44,8],[46,0,46,1],[47,0,47,1],[48,0,48,1],[49,0,49,1],[50,0,50,1],[51,0,51,1],[52,0,52,1],[53,0,53,1],[54,0,54,1],[55,0,55,1],[56,0,56,1],[59,0,59,8],[61,0,61,1],[62,0,62,1],[81,0,81,1],[97,0,97,1],[120,0,120,1],[143,0,143,1],[160,0,160,1],[169,0,169,1],[170,0,170,1],[187,0,187,1]]}
["Physical Needs Assessment",{"$nulls":3},"U.S. Department of Housing",{"$nulls":4}," OMB Approval No. 2577-0157"]
["Capital Fund Financing Program/",{"$nulls":3},"and Urban Development",{"$nulls":4}," (exp. 1/31/2017)"]
["Operating Fund Financing Program",{"$nulls":3},"Office of Public and Indian Housing"]
[]
["HA Name",null,"HA Number",null,null,"FY of Assessment",null," Original  ","Date Prepared:"]
[{"$f":"'Tab 1'!A6","v":0},null,{"$f":"'Tab 6'!C6:D6","v":0},{"$nulls":4},"Revision  ","Date Revised:"]
[]
["(1.0) Project Data"]
[]
["(1.1) Management Office Address",{"$nulls":5},"(1.3) Development No.",null,"(1.4) DOFA Date"]
["(1.2) Project Name"]
[{"$nulls":4},"Family"]
[{"$nulls":3},"(1.9)","Elderly",null,null,"(1.10)","S-F Detached"]
["(1.5) Year of Last Substantial Mod",null,null,"Occupancy","Family & Disabled",null,null,"Structure","Semi-Detached"]
["(1.6) Occupancy Rate ",{"$f":"B20/(+B18-B26)","v":{"$error":"#DIV/0!"}},null,"Type(s)","Elderly & Disabled",null,null,"Type(s)","Row or Townhome"]
["        (Rentable Units Only)",null,null,"(Check)","Not Applicable",null,null,"(Check","M-F/Walkup"]
["(1.7) Latest PASS REAC Score",null,null,"all that apply)","Official Designation: Elderly",null,null,"all that","Elevator"]
["Total Units",{"$f":"+B20+B21","v":0},null,null,"Official Designation: Disabled",null,null,"apply)","Non-Dwelling"]
["(1.8) Total Buildings",{"$nulls":3},"Official Designation: Mixed"]
["Occupied Units",{"$f":"SUM(E23:J23)","v":0}]
["Vacant/Rentable Units",{"$f":"SUM(E24:J24)","v":0},null,"(1.11) Bedroom Distribution"]
[{"$nulls":4},"Eff","1BR","2BR","3BR","4BR","5BR+"]
[{"$nulls":3},"(1.11a) Occupied"]
[{"$nulls":3},"(1.11b) Vacant"]
[{"$nulls":3},"Total Units",{"$f":"SUM(E23:E24)","v":0},0,0,0,0,0]
[{"$nulls":3},"Avg Bedrooms per Unit",null,{"$f":"(+E23*1+F23*1+G23*2+H23*3+I23*4+J23*5)/SUM(E23:J23)","v":{"$error":"#DIV/0!"}}]
[]
["(2.0) Physical Needs Assessment Summary Data"]
[]
["(2.1) PNA Conducted By: (PHA/ 3rd Party)",null,"PHA Internally",null,null,"(2.5) Inspector Contact Name: "]
[null,null,"3rd Pary Independent",null,null,"(2.6) Company Name or PHA Title:"]
["(2.2) First Year Covered by PNA",{"$nulls":4},"(2.7) Inspector Contact Phone:"]
["(2.3) Length of PNA (in years)"]
["(2.4) Unit Interiors Inspected (#)",null,{"$f":"SUM(E40:J40)","v":0},{"$nulls":3},"(2.8) Data Source(s) for PNA",null,"Annual Inspections"]
["Units Inspected as % of Total",null,{"$f":"C34/B18","v":{"$error":"#DIV/0!"}},{"$nulls":5},"Contractor"]
["(2.9) Total Residential Buildings",{"$nulls":7},"REAC Inspections"]
["(2.10) Number of Building Exteriors Inspected"]
["(2.11) Total Off-Street Parking Spaces",{"$nulls":3},"(2.14) Units Inspected by Bedroom Size"]
["(2.12) Site Acreage",null,null,"acres","Eff","1BR","2BR","3BR","4BR","5BR+"]
["(2.13) Parking Area (in square feet)",null,null,"SF"]
[]
["(2.15) Physical Improvements Will Result in Structural/System Soundness at a Reasonable Cost",{"$nulls":5},"Yes","No"]
["(2.16) Development Has Long-Term Physical and Social Viability",{"$nulls":5},"Yes","No"]
[]
["(3.0) Total Physical Needs Summary"]
[]
["Major Category",null,"Immediate","Years                       1-5","Years                    6-10","Years                    11-15","Years                   16-20","Total Needs"]
["Site",null,{"$f":"+I82","v":0},{"$f":"$O$63","v":0},{"$f":"$T$63","v":0},{"$f":"$Y$63","v":0},{"$f":"$AD$63","v":0},{"$f":"SUM(C48:G48)","v":0}]
["Common Buildings",null,{"$f":"$I$98","v":0},{"$f":"$O$83","v":0},{"$f":"$T$83","v":0},{"$f":"$Y$83","v":0},{"$f":"$AD$83","v":0},0]
["Unit Exteriors",null,{"$f":"$I$121","v":0},{"$f":"$O$99","v":0},{"$f":"$T$99","v":0},{"$f":"$Y$99","v":0},{"$f":"$AD$99","v":0},0]
["Unit Interiors",null,{"$f":"$I$144","v":0},{"$f":"O122","v":0},{"$f":"T122","v":0},{"$f":"Y122","v":0},{"$f":"AD122","v":0},0]
["Mechanical",null,{"$f":"I161","v":0},{"$f":"O145","v":0},{"$f":"T145","v":0},{"$f":"Y145","v":0},{"$f":"AD145","v":0},0]
["Other",null,{"$f":"I170","v":0},{"$f":"O162","v":0},{"$f":"T162","v":0},{"$f":"Y162","v":0},{"$f":"AD162","v":0},0]
["Totals",null,{"$f":"SUM(C48:C53)","v":0},0,0,0,0,0]
["Amount of PNA relating to Lead Paint/Asbestos",null,{"$f":"I173","v":0},{"$nulls":4},{"$f":"C55","v":0}]
["Amount of PNA relating to Section 504, ADA, and Fair Housing Act (if applicable) Compliance",null,{"$f":"I174","v":0},{"$nulls":4},{"$f":"C56","v":0}]
["New Construction",{"$nulls":6},{"$f":"I188","v":0}]
[{"$nulls":5},"TOTAL PHYSICAL NEEDS",null,{"$f":"H57+H54","v":0}]
[]
["(4.0)Physical Needs Cost Estimate"]
[]
["(4.1) Category",null,"(4.2) Estimated Useful Life","(4.3)                Useful Life Remaining","(4.4)             Method","(4.5)                   Total          Quantity","(4.6)             Current Needs Quantity","(4.7)                Cost per      Quantity","(4.8)         Immediate Repairs Needed","Total Long Term Needs",{"$f":"+F6+1","v":1},{"$f":"1+K62","v":2},3,4,5,6,7,8,9,10,11,12,13,14,15,16,17,18,19,20]
["(4.9) Site",null,"(in yrs)","(in yrs)",{"$nulls":9},"Years 1-5",{"$f":"SUM(K82:O82)","v":0},{"$nulls":3},"Years 6-10",{"$f":"SUM(P82:T82)","v":0},{"$nulls":3},"Years 11-15",{"$f":"SUM(U82:Y82)","v":0},{"$nulls":3},"Years 16-20",{"$f":"SUM(Z82:AD82)","v":0}]
["Asphalt/Concrete",{"$nulls":3},"Per Sq. Ft.",{"$nulls":3},{"$f":"ROUNDUP(+G64*H64,-2)","v":0},{"$f":"SUM(K64:AD64)","v":0},{"$f":"ROUNDUP(IF(OR(($D64+$F$6)=K$62,($C64+$D64+$F$6)=K$62,($C64*2+$D64+$F$6)=K$62,($C64*3+$D64+$F$6)=K$62,($C64*4+$D64+$F$6)=K$62,($C64*5+$D64+$F$6)=K$62,($C64*6+$D64+$F$6)=K$62,($C64*7+$D64+$F$6)=K$62,($C64*8+$D64+$F$6)=K$62),$F64*$H64*((1+$J$52)^(K$62-$F$6)),0),-2)","v":0},0,0,0,0,0,0,0,0,0,{"$f":"ROUNDUP(IF(OR(($D64+$F$6)=U$62,($C64+$D64+$F$6)=U$62,($C64*2+$D64+$F$6)=U$62,($C64*3+$D64+$F$6)=U$62,($C64*4+$D64+$F$6)=U$62,($C64*5+$D64+$F$6)=U$62,($C64*6+$D64+$F$6)=U$62,($C64*7+$D64+$F$6)=U$62,($C64*8+$D64+$F$6)=U$62),$F64*$H64*((1+$J$52)^(U$62-$F$6)),0),-2)","v":0},0,0,0,0,0,0,0,0,0,{"$f":"SUM(K64:AD64)-J64","v":0}]
["Seal Coat",{"$nulls":3},"Per Sq. Ft.",{"$nulls":3},0,0,0,0,0,0,0,0,0,0,0,0,0,0,0,0,0,0,0,0,0,0,0]
["Striping",{"$nulls":3},"Per Sq. Ft.",{"$nulls":3},0,0,0,0,0,0,0,0,0,0,0,0,0,0,0,0,0,0,0,0,0,0,0]
["Curb & Gutter",{"$nulls":3},"Per Sq. Ft.",{"$nulls":3},0,0,0,0,0,0,0,0,0,0,0,0,0,0,0,0,0,0,0,0,0,0,0]
["Pedestrian paving",{"$nulls":3},"Per Sq. Ft.",{"$nulls":3},0,0,0,0,0,0,0,0,0,0,0,0,0,0,0,0,0,0,0,0,0,0,0]
["Signage",{"$nulls":3},"Per Sq. Ft.",{"$nulls":3},0,0,0,0,0,0,0,0,0,0,0,0,0,0,0,0,0,0,0,0,0,0,0]
["Water Lines/Mains",{"$nulls":3},"Per Sq. Ft.",{"$nulls":3},0,0,0,0,0,0,0,0,0,0,0,0,0,0,0,0,0,0,0,0,0,0,0]
["Sewer Lines/Mains",{"$nulls":3},"Per Sq. Ft.",{"$nulls":3},0,0,0,0,0,0,0,0,0,0,0,0,0,0,0,0,0,0,0,0,0,0,0]
["Lighting",{"$nulls":3},"Per Sq. Ft.",{"$nulls":3},0,0,0,0,0,0,0,0,0,0,0,0,0,0,0,0,0,0,0,0,0,0,0]
["Storm Drainage",{"$nulls":3},"Per Sq. Ft.",{"$nulls":3},0,0,0,0,0,0,0,0,0,0,0,0,0,0,0,0,0,0,0,0,0,0,0]
["Landscape",{"$nulls":3},"Per Sq. Ft.",{"$nulls":3},0,0,{"$f":"ROUNDUP(IF(OR(($D74+$F$6)=K$62,($C74+$D74+$F$6)=K$62,($C74*2+$D74+$F$6)=K$62,($C74*3+$D74+$F$6)=K$62,($C74*4+$D74+$F$6)=K$62,($C74*5+$D74+$F$6)=K$62,($C74*6+$D74+$F$6)=K$62,($C74*7+$D74+$F$6)=K$62,($C74*8+$D74+$F$6)=K$62),$F74*$H74*((1+$J$52)^(K$62-$F$6)),0),-2)","v":0},0,0,0,0,0,0,0,0,0,{"$f":"ROUNDUP(IF(OR(($D74+$F$6)=U$62,($C74+$D74+$F$6)=U$62,($C74*2+$D74+$F$6)=U$62,($C74*3+$D74+$F$6)=U$62,($C74*4+$D74+$F$6)=U$62,($C74*5+$D74+$F$6)=U$62,($C74*6+$D74+$F$6)=U$62,($C74*7+$D74+$F$6)=U$62,($C74*8+$D74+$F$6)=U$62),$F74*$H74*((1+$J$52)^(U$62-$F$6)),0),-2)","v":0},0,0,0,0,0,0,0,0,0,0]
["Fencing",{"$nulls":3},"Per Sq. Ft.",{"$nulls":3},0,0,0,0,0,0,0,0,0,0,0,0,0,0,0,0,0,0,0,0,0,0,0]
["Fence Painting",{"$nulls":3},"Per Sq. Ft.",{"$nulls":3},0,0,0,0,0,0,0,0,0,0,0,0,0,0,0,0,0,0,0,0,0,0,0]
["Dumpsters & Enclosures",{"$nulls":3},"Per Sq. Ft.",{"$nulls":3},0,0,0,0,0,0,0,0,0,0,0,0,0,0,0,0,0,0,0,0,0,0,0]
["Electric Distribution",{"$nulls":3},"Per Sq. Ft.",{"$nulls":3},0,0,0,0,0,0,0,0,0,0,0,0,0,0,0,0,0,0,0,0,0,0,0]
["Playground Areas/Equipment",{"$nulls":3},"Per Sq. Ft.",{"$nulls":3},0,0,0,0,0,0,0,0,0,0,0,0,0,0,0,0,0,0,0,0,0,0,0]
["Other (Specify)",{"$nulls":7},0,0,0,0,0,0,0,0,0,0,0,0,0,0,0,0,0,0,0,0,0,0,0]
["Other (Specify)",{"$nulls":7},0,0,0,0,0,0,0,0,0,0,0,0,0,0,0,0,0,0,0,0,0,0,0]
["Site Subtotals",{"$nulls":7},{"$f":"SUM(I64:I81)","v":0},0,0,0,0,0,0,0,0,0,0,0,0,0,0,0,0,0,0,0,0,0,0]
["(4.10) Common Buildings--Rehab Only",{"$nulls":12},"Years 1-5",{"$f":"SUM(K98:O98)","v":0},{"$nulls":3},"Years 6-10",{"$f":"SUM(P98:T98)","v":0},{"$nulls":3},"Years 11-15",{"$f":"SUM(T98:X98)","v":0},{"$nulls":3},"Years 16-20",{"$f":"SUM(Y98:AC98)","v":0}]
["Administrative Building",{"$nulls":3},"Per Sq. Ft.",{"$nulls":3},{"$f":"ROUNDUP(+G84*H84,-2)","v":0},{"$f":"SUM(K84:AD84)","v":0},{"$f":"ROUNDUP(IF(OR(($D84+$F$6)=K$62,($C84+$D84+$F$6)=K$62,($C84*2+$D84+$F$6)=K$62,($C84*3+$D84+$F$6)=K$62,($C84*4+$D84+$F$6)=K$62,($C84*5+$D84+$F$6)=K$62,($C84*6+$D84+$F$6)=K$62,($C84*7+$D84+$F$6)=K$62,($C84*8+$D84+$F$6)=K$62),$F84*$H84*((1+$J$52)^(K$62-$F$6)),0),-2)","v":0},0,0,0,0,0,0,0,0,0,{"$f":"ROUNDUP(IF(OR(($D84+$F$6)=U$62,($C84+$D84+$F$6)=U$62,($C84*2+$D84+$F$6)=U$62,($C84*3+$D84+$F$6)=U$62,($C84*4+$D84+$F$6)=U$62,($C84*5+$D84+$F$6)=U$62,($C84*6+$D84+$F$6)=U$62,($C84*7+$D84+$F$6)=U$62,($C84*8+$D84+$F$6)=U$62),$F84*$H84*((1+$J$52)^(U$62-$F$6)),0),-2)","v":0},0,0,0,0,0,0,0,0,0,{"$f":"SUM(K84:AD84)-J84","v":0}]
["Community Building",{"$nulls":3},"Per Sq. Ft.",{"$nulls":3},0,0,0,0,0,0,0,0,0,0,0,0,0,0,0,0,0,0,0,0,0,0,0]
["Shop",{"$nulls":3},"Per Sq. Ft.",{"$nulls":3},0,0,0,0,0,0,0,0,0,0,0,0,0,0,0,0,0,0,0,0,0,0,0]
["Storage Area",{"$nulls":3},"Per Sq. Ft.",{"$nulls":3},0,0,0,0,0,0,0,0,0,0,0,0,0,0,0,0,0,0,0,0,0,0,0]
["Central Boiler",{"$nulls":3},"Per Sq. Ft.",{"$nulls":3},0,0,0,0,0,0,0,0,0,0,0,0,0,0,0,0,0,0,0,0,0,0,0]
["Central Chiller",{"$nulls":3},"Per Sq. Ft.",{"$nulls":3},0,0,0,0,0,0,0,0,0,0,0,0,0,0,0,0,0,0,0,0,0,0,0]
["Family Invesment Center",{"$nulls":3},"Per Sq. Ft.",{"$nulls":3},0,0,0,0,0,0,0,0,0,0,0,0,0,0,0,0,0,0,0,0,0,0,0]
["Day Care Center",{"$nulls":3},"Per Sq. Ft.",{"$nulls":3},0,0,0,0,0,0,0,0,0,0,0,0,0,0,0,0,0,0,0,0,0,0,0]
["Laundry Areas",{"$nulls":3},"Per Sq. Ft.",{"$nulls":3},0,0,{"$f":"ROUNDUP(IF(OR(($D92+$F$6)=K$62,($C92+$D92+$F$6)=K$62,($C92*2+$D92+$F$6)=K$62,($C92*3+$D92+$F$6)=K$62,($C92*4+$D92+$F$6)=K$62,($C92*5+$D92+$F$6)=K$62,($C92*6+$D92+$F$6)=K$62,($C92*7+$D92+$F$6)=K$62,($C92*8+$D92+$F$6)=K$62),$F92*$H92*((1+$J$52)^(K$62-$F$6)),0),-2)","v":0},0,0,0,0,0,0,0,0,0,{"$f":"ROUNDUP(IF(OR(($D92+$F$6)=U$62,($C92+$D92+$F$6)=U$62,($C92*2+$D92+$F$6)=U$62,($C92*3+$D92+$F$6)=U$62,($C92*4+$D92+$F$6)=U$62,($C92*5+$D92+$F$6)=U$62,($C92*6+$D92+$F$6)=U$62,($C92*7+$D92+$F$6)=U$62,($C92*8+$D92+$F$6)=U$62),$F92*$H92*((1+$J$52)^(U$62-$F$6)),0),-2)","v":0},0,0,0,0,0,0,0,0,0,0]
["Common Area Washers",{"$nulls":3},"Per Sq. Ft.",{"$nulls":3},0,0,0,0,0,0,0,0,0,0,0,0,0,0,0,0,0,0,0,0,0,0,0]
["Common Area Dryers",{"$nulls":3},"Per Sq. Ft.",{"$nulls":3},0,0,0,0,0,0,0,0,0,0,0,0,0,0,0,0,0,0,0,0,0,0,0]
["Common Area Finishes",{"$nulls":3},"Per Sq. Ft.",{"$nulls":3},0,0,0,0,0,0,0,0,0,0,0,0,0,0,0,0,0,0,0,0,0,0,0]
["Other (Specify)",{"$nulls":7},0,0,0,0,0,0,0,0,0,0,0,0,0,0,0,0,0,0,0,0,0,0,0]
["Other (Specify)",{"$nulls":7},0,0,0,0,0,0,0,0,0,0,0,0,0,0,0,0,0,0,0,0,0,0,0]
["Common Subtotals",{"$nulls":7},{"$f":"SUM(I84:I97)","v":0},0,0,0,0,0,0,0,0,0,0,0,0,0,0,0,0,0,0,0,0,0,0]
["(4.11) Unit Exteriors",{"$nulls":12},"Years 1-5",{"$f":"SUM(K121:O121)","v":0},{"$nulls":3},"Years 6-10",{"$f":"SUM(P121:T121)","v":0},{"$nulls":3},"Years 11-15",{"$f":"SUM(U121:Y121)","v":0},{"$nulls":3},"Years 16-20",{"$f":"SUM(Z121:AD121)","v":0}]
["Carports/Surface Garage",{"$nulls":3},"Per Sq. Ft.",{"$nulls":3},{"$f":"ROUNDUP(+G100*H100,-2)","v":0},{"$f":"SUM(K100:AD100)","v":0},{"$f":"ROUNDUP(IF(OR(($D100+$F$6)=K$62,($C100+$D100+$F$6)=K$62,($C100*2+$D100+$F$6)=K$62,($C100*3+$D100+$F$6)=K$62,($C100*4+$D100+$F$6)=K$62,($C100*5+$D100+$F$6)=K$62,($C100*6+$D100+$F$6)=K$62,($C100*7+$D100+$F$6)=K$62,($C100*8+$D100+$F$6)=K$62),$F100*$H100*((1+$J$52)^(K$62-$F$6)),0),-2)","v":0},0,0,0,0,0,0,0,0,0,{"$f":"ROUNDUP(IF(OR(($D100+$F$6)=U$62,($C100+$D100+$F$6)=U$62,($C100*2+$D100+$F$6)=U$62,($C100*3+$D100+$F$6)=U$62,($C100*4+$D100+$F$6)=U$62,($C100*5+$D100+$F$6)=U$62,($C100*6+$D100+$F$6)=U$62,($C100*7+$D100+$F$6)=U$62,($C100*8+$D100+$F$6)=U$62),$F100*$H100*((1+$J$52)^(U$62-$F$6)),0),-2)","v":0},0,0,0,0,0,0,0,0,0,{"$f":"SUM(K100:AD100)-J100","v":0}]
["Foundation",{"$nulls":3},"Per Sq. Ft.",{"$nulls":3},0,0,0,0,0,0,0,0,0,0,0,0,0,0,0,0,0,0,0,0,0,0,0]
["Building Slab",{"$nulls":3},"Per Sq. Ft.",{"$nulls":3},0,0,0,0,0,0,0,0,0,0,0,0,0,0,0,0,0,0,0,0,0,0,0]
["Roofs",{"$nulls":3},"Per Sq. Ft.",{"$nulls":3},0,0,0,0,0,0,0,0,0,0,0,0,0,0,0,0,0,0,0,0,0,0,0]
["Canopies",{"$nulls":3},"Per Sq. Ft.",{"$nulls":3},0,0,0,0,0,0,0,0,0,0,0,0,0,0,0,0,0,0,0,0,0,0,0]
["Tuck-Pointing",{"$nulls":3},"Per Sq. Ft.",{"$nulls":3},0,0,0,0,0,0,0,0,0,0,0,0,0,0,0,0,0,0,0,0,0,0,0]
["Exterior Paint & Caulking",{"$nulls":3},"Per Sq. Ft.",{"$nulls":3},0,0,0,0,0,0,0,0,0,0,0,0,0,0,0,0,0,0,0,0,0,0,0]
["Soffits",{"$nulls":3},"Per Sq. Ft.",{"$nulls":3},0,0,0,0,0,0,0,0,0,0,0,0,0,0,0,0,0,0,0,0,0,0,0]
["Siding",{"$nulls":3},"Per Sq. Ft.",{"$nulls":3},0,0,0,0,0,0,0,0,0,0,0,0,0,0,0,0,0,0,0,0,0,0,0]
["Exterior Stairwells/Fire Escapes",{"$nulls":3},"Per Sq. Ft.",{"$nulls":3},0,0,0,0,0,0,0,0,0,0,0,0,0,0,0,0,0,0,0,0,0,0,0]
["Landings & Railings",{"$nulls":3},"Per Sq. Ft.",{"$nulls":3},0,0,{"$f":"ROUNDUP(IF(OR(($D110+$F$6)=K$62,($C110+$D110+$F$6)=K$62,($C110*2+$D110+$F$6)=K$62,($C110*3+$D110+$F$6)=K$62,($C110*4+$D110+$F$6)=K$62,($C110*5+$D110+$F$6)=K$62,($C110*6+$D110+$F$6)=K$62,($C110*7+$D110+$F$6)=K$62,($C110*8+$D110+$F$6)=K$62),$F110*$H110*((1+$J$52)^(K$62-$F$6)),0),-2)","v":0},0,0,0,0,0,0,0,0,0,{"$f":"ROUNDUP(IF(OR(($D110+$F$6)=U$62,($C110+$D110+$F$6)=U$62,($C110*2+$D110+$F$6)=U$62,($C110*3+$D110+$F$6)=U$62,($C110*4+$D110+$F$6)=U$62,($C110*5+$D110+$F$6)=U$62,($C110*6+$D110+$F$6)=U$62,($C110*7+$D110+$F$6)=U$62,($C110*8+$D110+$F$6)=U$62),$F110*$H110*((1+$J$52)^(U$62-$F$6)),0),-2)","v":0},0,0,0,0,0,0,0,0,0,0]
["Balconies & Railings",{"$nulls":3},"Per Sq. Ft.",{"$nulls":3},0,0,0,0,0,0,0,0,0,0,0,0,0,0,0,0,0,0,0,0,0,0,0]
["Mail Facilities",{"$nulls":3},"Per Sq. Ft.",{"$nulls":3},0,0,0,0,0,0,0,0,0,0,0,0,0,0,0,0,0,0,0,0,0,0,0]
["Exterior Doors",{"$nulls":3},"Per Sq. Ft.",{"$nulls":3},0,0,0,0,0,0,0,0,0,0,0,0,0,0,0,0,0,0,0,0,0,0,0]
["Windows",{"$nulls":3},"Per Sq. Ft.",{"$nulls":3},0,0,0,0,0,0,0,0,0,0,0,0,0,0,0,0,0,0,0,0,0,0,0]
["Gutters/Downspouts",{"$nulls":3},"Per Sq. Ft.",{"$nulls":3},0,0,0,0,0,0,0,0,0,0,0,0,0,0,0,0,0,0,0,0,0,0,0]
["Columns & Porches",{"$nulls":3},"Per Sq. Ft.",{"$nulls":3},0,0,0,0,0,0,0,0,0,0,0,0,0,0,0,0,0,0,0,0,0,0,0]
["Decks & Patios",{"$nulls":3},"Per Sq. Ft.",{"$nulls":3},0,0,0,0,0,0,0,0,0,0,0,0,0,0,0,0,0,0,0,0,0,0,0]
["Exterior Lighting",{"$nulls":3},"Per Sq. Ft.",{"$nulls":3},0,0,0,0,0,0,0,0,0,0,0,0,0,0,0,0,0,0,0,0,0,0,0]
["Other (Specify)",{"$nulls":7},0,0,0,0,0,0,0,0,0,0,0,0,0,0,0,0,0,0,0,0,0,0,0]
["Other (Specify)",{"$nulls":7},0,0,0,0,0,0,0,0,0,0,0,0,0,0,0,0,0,0,0,0,0,0,0]
["Unit Exterior Subtotals",{"$nulls":7},{"$f":"SUM(I100:I120)","v":0},0,0,0,0,0,0,0,0,0,0,0,0,0,0,0,0,0,0,0,0,0,0]
["(4.12) Unit Interiors",{"$nulls":12},"Years 1-5",{"$f":"SUM(K144:O144)","v":0},{"$nulls":3},"Years 6-10",{"$f":"SUM(P144:T144)","v":0},{"$nulls":3},"Years 11-15",{"$f":"SUM(U144:Y144)","v":0},{"$nulls":3},"Years 16-20",{"$f":"SUM(Z144:AD144)","v":0}]
["Interior Painting (non routine)",{"$nulls":3},"Per Sq. Ft.",{"$nulls":3},{"$f":"ROUNDUP(+G123*H123,-2)","v":0},{"$f":"SUM(K123:AD123)","v":0},{"$f":"ROUNDUP(IF(OR(($D123+$F$6)=K$62,($C123+$D123+$F$6)=K$62,($C123*2+$D123+$F$6)=K$62,($C123*3+$D123+$F$6)=K$62,($C123*4+$D123+$F$6)=K$62,($C123*5+$D123+$F$6)=K$62,($C123*6+$D123+$F$6)=K$62,($C123*7+$D123+$F$6)=K$62,($C123*8+$D123+$F$6)=K$62),$F123*$H123*((1+$J$52)^(K$62-$F$6)),0),-2)","v":0},0,0,0,0,0,0,0,0,0,{"$f":"ROUNDUP(IF(OR(($D123+$F$6)=U$62,($C123+$D123+$F$6)=U$62,($C123*2+$D123+$F$6)=U$62,($C123*3+$D123+$F$6)=U$62,($C123*4+$D123+$F$6)=U$62,($C123*5+$D123+$F$6)=U$62,($C123*6+$D123+$F$6)=U$62,($C123*7+$D123+$F$6)=U$62,($C123*8+$D123+$F$6)=U$62),$F123*$H123*((1+$J$52)^(U$62-$F$6)),0),-2)","v":0},0,0,0,0,0,0,0,0,0,{"$f":"SUM(K123:AD123)-J123","v":0}]
["Interior Doors",{"$nulls":3},"Per Sq. Ft.",{"$nulls":3},0,0,0,0,0,0,0,0,0,0,0,0,0,0,0,0,0,0,0,0,0,0,0]
["Flooring (non routine)",{"$nulls":3},"Per Sq. Ft.",{"$nulls":3},0,0,0,0,0,0,0,0,0,0,0,0,0,0,0,0,0,0,0,0,0,0,0]
["Shower/Tub Surrounds",{"$nulls":3},"Per Sq. Ft.",{"$nulls":3},0,0,0,0,0,0,0,0,0,0,0,0,0,0,0,0,0,0,0,0,0,0,0]
["Commodes",{"$nulls":3},"Per Sq. Ft.",{"$nulls":3},0,0,0,0,0,0,0,0,0,0,0,0,0,0,0,0,0,0,0,0,0,0,0]
["Vanities",{"$nulls":3},"Per Sq. Ft.",{"$nulls":3},0,0,0,0,0,0,0,0,0,0,0,0,0,0,0,0,0,0,0,0,0,0,0]
["Faucets",{"$nulls":3},"Per Sq. Ft.",{"$nulls":3},0,0,0,0,0,0,0,0,0,0,0,0,0,0,0,0,0,0,0,0,0,0,0]
["Bathroom Flooring (non cyclical)",{"$nulls":3},"Per Sq. Ft.",{"$nulls":3},0,0,0,0,0,0,0,0,0,0,0,0,0,0,0,0,0,0,0,0,0,0,0]
["Kitchen Cabinets",{"$nulls":3},"Per Sq. Ft.",{"$nulls":3},0,0,0,0,0,0,0,0,0,0,0,0,0,0,0,0,0,0,0,0,0,0,0]
["Ranges",{"$nulls":3},"Per Sq. Ft.",{"$nulls":3},0,0,0,0,0,0,0,0,0,0,0,0,0,0,0,0,0,0,0,0,0,0,0]
["Range Hoods",{"$nulls":3},"Per Sq. Ft.",{"$nulls":3},0,0,{"$f":"ROUNDUP(IF(OR(($D133+$F$6)=K$62,($C133+$D133+$F$6)=K$62,($C133*2+$D133+$F$6)=K$62,($C133*3+$D133+$F$6)=K$62,($C133*4+$D133+$F$6)=K$62,($C133*5+$D133+$F$6)=K$62,($C133*6+$D133+$F$6)=K$62,($C133*7+$D133+$F$6)=K$62,($C133*8+$D133+$F$6)=K$62),$F133*$H133*((1+$J$52)^(K$62-$F$6)),0),-2)","v":0},0,0,0,0,0,0,0,0,0,{"$f":"ROUNDUP(IF(OR(($D133+$F$6)=U$62,($C133+$D133+$F$6)=U$62,($C133*2+$D133+$F$6)=U$62,($C133*3+$D133+$F$6)=U$62,($C133*4+$D133+$F$6)=U$62,($C133*5+$D133+$F$6)=U$62,($C133*6+$D133+$F$6)=U$62,($C133*7+$D133+$F$6)=U$62,($C133*8+$D133+$F$6)=U$62),$F133*$H133*((1+$J$52)^(U$62-$F$6)),0),-2)","v":0},0,0,0,0,0,0,0,0,0,0]
["Refrigerators",{"$nulls":3},"Per Sq. Ft.",{"$nulls":3},0,0,0,0,0,0,0,0,0,0,0,0,0,0,0,0,0,0,0,0,0,0,0]
["Counters and Sinks",{"$nulls":3},"Per Sq. Ft.",{"$nulls":3},0,0,0,0,0,0,0,0,0,0,0,0,0,0,0,0,0,0,0,0,0,0,0]
["Dishwasher",{"$nulls":3},"Per Sq. Ft.",{"$nulls":3},0,0,0,0,0,0,0,0,0,0,0,0,0,0,0,0,0,0,0,0,0,0,0]
["Microwave",{"$nulls":3},"Per Sq. Ft.",{"$nulls":3},0,0,0,0,0,0,0,0,0,0,0,0,0,0,0,0,0,0,0,0,0,0,0]
["Washing Machines",{"$nulls":3},"Per Sq. Ft.",{"$nulls":3},0,0,0,0,0,0,0,0,0,0,0,0,0,0,0,0,0,0,0,0,0,0,0]
["Dryers",{"$nulls":3},"Per Sq. Ft.",{"$nulls":3},0,0,0,0,0,0,0,0,0,0,0,0,0,0,0,0,0,0,0,0,0,0,0]
["Call-for-Aid Systems",{"$nulls":7},0,0,0,0,0,0,0,0,0,0,0,0,0,0,0,0,0,0,0,0,0,0,0]
["Stairs and Handrails",{"$nulls":7},0,0,0,0,0,0,0,0,0,0,0,0,0,0,0,0,0,0,0,0,0,0,0]
["Other (Specify)",{"$nulls":7},0,0,0,0,0,0,0,0,0,0,0,0,0,0,0,0,0,0,0,0,0,0,0]
["Other (Specify)",{"$nulls":7},0,0,0,0,0,0,0,0,0,0,0,0,0,0,0,0,0,0,0,0,0,0,0]
["Unit Interior Subtotals",{"$nulls":7},{"$f":"SUM(I123:I143)","v":0},0,0,0,0,0,0,0,0,0,0,0,0,0,0,0,0,0,0,0,0,0,0]
["(4.13) Mechanical",{"$nulls":12},"Years 1-5",{"$f":"SUM(K161:O161)","v":0},{"$nulls":3},"Years 6-10",{"$f":"SUM(P161:T161)","v":0},{"$nulls":3},"Years 11-15",{"$f":"SUM(U161:Y161)","v":0},{"$nulls":3},"Years 16-20",{"$f":"SUM(Z161:AD161)","v":0}]
["Water Distribution",{"$nulls":3},"Per Sq. Ft.",{"$nulls":3},{"$f":"ROUNDUP(+G146*H146,-2)","v":0},{"$f":"SUM(K146:AD146)","v":0},{"$f":"ROUNDUP(IF(OR(($D146+$F$6)=K$62,($C146+$D146+$F$6)=K$62,($C146*2+$D146+$F$6)=K$62,($C146*3+$D146+$F$6)=K$62,($C146*4+$D146+$F$6)=K$62,($C146*5+$D146+$F$6)=K$62,($C146*6+$D146+$F$6)=K$62,($C146*7+$D146+$F$6)=K$62,($C146*8+$D146+$F$6)=K$62),$F146*$H146*((1+$J$52)^(K$62-$F$6)),0),-2)","v":0},0,0,0,0,0,0,0,0,0,{"$f":"ROUNDUP(IF(OR(($D146+$F$6)=U$62,($C146+$D146+$F$6)=U$62,($C146*2+$D146+$F$6)=U$62,($C146*3+$D146+$F$6)=U$62,($C146*4+$D146+$F$6)=U$62,($C146*5+$D146+$F$6)=U$62,($C146*6+$D146+$F$6)=U$62,($C146*7+$D146+$F$6)=U$62,($C146*8+$D146+$F$6)=U$62),$F146*$H146*((1+$J$52)^(U$62-$F$6)),0),-2)","v":0},0,0,0,0,0,0,0,0,0,{"$f":"SUM(K146:AD146)-J146","v":0}]
["Heating Equipt/System",{"$nulls":3},"Per Sq. Ft.",{"$nulls":3},0,0,0,0,0,0,0,0,0,0,0,0,0,0,0,0,0,0,0,0,0,0,0]
["Electric Disribution",{"$nulls":3},"Per Sq. Ft.",{"$nulls":3},0,0,0,0,0,0,0,0,0,0,0,0,0,0,0,0,0,0,0,0,0,0,0]
["Hot Water Heaters",{"$nulls":3},"Per Sq. Ft.",{"$nulls":3},0,0,0,0,0,0,0,0,0,0,0,0,0,0,0,0,0,0,0,0,0,0,0]
["Unit Sub-panels",{"$nulls":3},"Per Sq. Ft.",{"$nulls":3},0,0,0,0,0,0,0,0,0,0,0,0,0,0,0,0,0,0,0,0,0,0,0]
["Trash Compactor",{"$nulls":3},"Per Sq. Ft.",{"$nulls":3},0,0,0,0,0,0,0,0,0,0,0,0,0,0,0,0,0,0,0,0,0,0,0]
["Cooling Equipt/Systems",{"$nulls":3},"Per Sq. Ft.",{"$nulls":3},0,0,0,0,0,0,0,0,0,0,0,0,0,0,0,0,0,0,0,0,0,0,0]
["Smoke/Fire Detection",{"$nulls":3},"Per Sq. Ft.",{"$nulls":3},0,0,0,0,0,0,0,0,0,0,0,0,0,0,0,0,0,0,0,0,0,0,0]
["Unit Reconfiguration",{"$nulls":3},"Per Sq. Ft.",{"$nulls":3},0,0,0,0,0,0,0,0,0,0,0,0,0,0,0,0,0,0,0,0,0,0,0]
["Security/Fire Alarm",{"$nulls":3},"Per Sq. Ft.",{"$nulls":3},0,0,0,0,0,0,0,0,0,0,0,0,0,0,0,0,0,0,0,0,0,0,0]
["Fire Suspression System",{"$nulls":3},"Per Sq. Ft.",{"$nulls":3},0,0,0,0,0,0,0,0,0,0,0,0,0,0,0,0,0,0,0,0,0,0,0]
["Generator",{"$nulls":3},"Per Sq. Ft.",{"$nulls":3},0,0,0,0,0,0,0,0,0,0,0,0,0,0,0,0,0,0,0,0,0,0,0]
["Elevator",{"$nulls":3},"Per Sq. Ft.",{"$nulls":3},0,0,0,0,0,0,0,0,0,0,0,0,0,0,0,0,0,0,0,0,0,0,0]
["Other (Specify) ",{"$nulls":7},0,0,0,0,0,0,0,0,0,0,0,0,0,0,0,0,0,0,0,0,0,0,0]
["Other (Specify)",{"$nulls":7},0,0,0,0,0,0,0,0,0,0,0,0,0,0,0,0,0,0,0,0,0,0,0]
["Mechanical Subtotals",{"$nulls":7},{"$f":"SUM(I146:I160)","v":0},0,0,0,0,0,0,0,0,0,0,0,0,0,0,0,0,0,0,0,0,0,0]
["(4.14) Other",{"$nulls":12},"Years 1-5",{"$f":"SUM(K170:O170)","v":0},{"$nulls":3},"Years 6-10",{"$f":"SUM(P170:T170)","v":0},{"$nulls":3},"Years 11-15",{"$f":"SUM(U170:Y170)","v":0},{"$nulls":3},"Years 16-20",{"$f":"SUM(Z170:AD170)","v":0}]
["Site Acquisition",{"$nulls":3},"Per Sq. Ft.",{"$nulls":3},{"$f":"ROUNDUP(+G163*H163,-2)","v":0},{"$f":"SUM(K163:AD163)","v":0},{"$f":"ROUNDUP(IF(OR(($D163+$F$6)=K$62,($C163+$D163+$F$6)=K$62,($C163*2+$D163+$F$6)=K$62,($C163*3+$D163+$F$6)=K$62,($C163*4+$D163+$F$6)=K$62,($C163*5+$D163+$F$6)=K$62,($C163*6+$D163+$F$6)=K$62,($C163*7+$D163+$F$6)=K$62,($C163*8+$D163+$F$6)=K$62),$F163*$H163*((1+$J$52)^(K$62-$F$6)),0),-2)","v":0},0,0,0,0,0,0,0,0,0,{"$f":"ROUNDUP(IF(OR(($D163+$F$6)=U$62,($C163+$D163+$F$6)=U$62,($C163*2+$D163+$F$6)=U$62,($C163*3+$D163+$F$6)=U$62,($C163*4+$D163+$F$6)=U$62,($C163*5+$D163+$F$6)=U$62,($C163*6+$D163+$F$6)=U$62,($C163*7+$D163+$F$6)=U$62,($C163*8+$D163+$F$6)=U$62),$F163*$H163*((1+$J$52)^(U$62-$F$6)),0),-2)","v":0},0,0,0,0,0,0,0,0,0,{"$f":"SUM(K163:AD163)-J163","v":0}]
["Other Fees and Costs",{"$nulls":3},"Per Sq. Ft.",{"$nulls":3},0,0,0,0,0,0,0,0,0,0,0,0,0,0,0,0,0,0,0,0,0,0,0]
["Demolition",{"$nulls":3},"Per Sq. Ft.",{"$nulls":3},0,0,0,0,0,0,0,0,0,0,0,0,0,0,0,0,0,0,0,0,0,0,0]
["Dwelling Unit Conversion",{"$nulls":3},"Per Sq. Ft.",{"$nulls":3},0,0,0,0,0,0,0,0,0,0,0,0,0,0,0,0,0,0,0,0,0,0,0]
["Contingency",{"$nulls":3},"Per Sq. Ft.",{"$nulls":3},0,0,{"$f":"ROUNDUP(IF(OR(($D167+$F$6)=K$62,($C167+$D167+$F$6)=K$62,($C167*2+$D167+$F$6)=K$62,($C167*3+$D167+$F$6)=K$62,($C167*4+$D167+$F$6)=K$62,($C167*5+$D167+$F$6)=K$62,($C167*6+$D167+$F$6)=K$62,($C167*7+$D167+$F$6)=K$62,($C167*8+$D167+$F$6)=K$62),$F167*$H167*((1+$J$52)^(K$62-$F$6)),0),-2)","v":0},0,0,0,0,0,0,0,0,0,{"$f":"ROUNDUP(IF(OR(($D167+$F$6)=U$62,($C167+$D167+$F$6)=U$62,($C167*2+$D167+$F$6)=U$62,($C167*3+$D167+$F$6)=U$62,($C167*4+$D167+$F$6)=U$62,($C167*5+$D167+$F$6)=U$62,($C167*6+$D167+$F$6)=U$62,($C167*7+$D167+$F$6)=U$62,($C167*8+$D167+$F$6)=U$62),$F167*$H167*((1+$J$52)^(U$62-$F$6)),0),-2)","v":0},0,0,0,0,0,0,0,0,0,0]
["Other (Specify) ",{"$nulls":7},0,0,0,0,0,0,0,0,0,0,0,0,0,0,0,0,0,0,0,0,0,0,0]
["Other (Specify)",{"$nulls":7},0,0,0,0,0,0,0,0,0,0,0,0,0,0,0,0,0,0,0,0,0,0,0]
["Other Subtotals",{"$nulls":7},{"$f":"SUM(I163:I169)","v":0},0,0,0,0,0,0,0,0,0,0,0,0,0,0,0,0,0,0,0,0,0,0]
["GRAND TOTAL",{"$nulls":7},{"$f":"I170+I161+I144+I82+I98","v":0},{"$f":"J170+J161+J144+J121+J98+J82","v":0},0,0,0,0,0,0,0,0,0,0,0,0,0,0,0,0,0,0,0,0,0]
["(4.15) Special Categories"]
["Amount of PNA Relating to Lead Paint/Asbestos Compliance",{"$nulls":3},"Per Sq. Ft.",{"$nulls":3},{"$f":"ROUNDUP(+G173*H173,-2)","v":0}]
["Amount of PNA Relating to Section 504, ADA, and Fair Housing Act (if applicable) Compliance",{"$nulls":3},"Per Sq. Ft.",{"$nulls":3},{"$f":"ROUNDUP(+G174*H174,-2)","v":0}]
[]
["(4.16) New Construction"]
["Dwelling Units",{"$nulls":3},"Per Sq. Ft.",{"$nulls":3},{"$f":"ROUNDUP(+G177*H177,-2)","v":0}]
["Administrative Building",{"$nulls":3},"Per Sq. Ft.",{"$nulls":3},0]
["Community Building or Facility",{"$nulls":3},"Per Sq. Ft.",{"$nulls":3},0]
["Shop",{"$nulls":3},"Per Sq. Ft.",{"$nulls":3},0]
["Storage Area",{"$nulls":3},"Per Sq. Ft.",{"$nulls":3},0]
["Family Investment Center",{"$nulls":3},"Per Sq. Ft.",{"$nulls":3},0]
["Day Care Center",{"$nulls":3},"Per Sq. Ft.",{"$nulls":3},0]
["Laundry Areas(s)",{"$nulls":3},"Per Sq. Ft.",{"$nulls":3},0]
["Other (Specify) ",{"$nulls":3},"Per Sq. Ft.",{"$nulls":3},0]
["Other (Specify)",{"$nulls":3},"Per Sq. Ft.",{"$nulls":3},0]
["Other (Specify)",{"$nulls":7},0]
["New Construction Subtotals",{"$nulls":7},{"$f":"SUM(I177:I187)","v":0}]

{"sheet":"Tab 20","index":21,"n_rows":188,"n_cols":31,"rows_kept":188,"merged":[[4,2,4,3],[5,2,5,3],[7,0,7,8],[9,1,9,2],[10,1,10,2],[20,3,20,9],[27,0,27,8],[29,8,29,9],[30,8,30,9],[31,8,31,9],[33,6,35,6],[37,4,37,9],[44,0,44,8],[46,0,46,1],[47,0,47,1],[48,0,48,1],[49,0,49,1],[50,0,50,1],[51,0,51,1],[52,0,52,1],[53,0,53,1],[54,0,54,1],[55,0,55,1],[56,0,56,1],[59,0,59,8],[61,0,61,1],[62,0,62,1],[81,0,81,1],[97,0,97,1],[120,0,120,1],[143,0,143,1],[160,0,160,1],[169,0,169,1],[170,0,170,1],[187,0,187,1]]}
["Physical Needs Assessment",{"$nulls":3},"U.S. Department of Housing",{"$nulls":4}," OMB Approval No. 2577-0157"]
["Capital Fund Financing Program/",{"$nulls":3},"and Urban Development",{"$nulls":4}," (exp. 1/31/2017)"]
["Operating Fund Financing Program",{"$nulls":3},"Office of Public and Indian Housing"]
[]
["HA Name",null,"HA Number",null,null,"FY of Assessment",null," Original  ","Date Prepared:"]
[{"$f":"'Tab 1'!A6","v":0},null,{"$f":"'Tab 6'!C6:D6","v":0},{"$nulls":4},"Revision  ","Date Revised:"]
[]
["(1.0) Project Data"]
[]
["(1.1) Management Office Address",{"$nulls":5},"(1.3) Development No.",null,"(1.4) DOFA Date"]
["(1.2) Project Name"]
[{"$nulls":4},"Family"]
[{"$nulls":3},"(1.9)","Elderly",null,null,"(1.10)","S-F Detached"]
["(1.5) Year of Last Substantial Mod",null,null,"Occupancy","Family & Disabled",null,null,"Structure","Semi-Detached"]
["(1.6) Occupancy Rate ",{"$f":"B20/(+B18-B26)","v":{"$error":"#DIV/0!"}},null,"Type(s)","Elderly & Disabled",null,null,"Type(s)","Row or Townhome"]
["        (Rentable Units Only)",null,null,"(Check)","Not Applicable",null,null,"(Check","M-F/Walkup"]
["(1.7) Latest PASS REAC Score",null,null,"all that apply)","Official Designation: Elderly",null,null,"all that","Elevator"]
["Total Units",{"$f":"+B20+B21","v":0},null,null,"Official Designation: Disabled",null,null,"apply)","Non-Dwelling"]
["(1.8) Total Buildings",{"$nulls":3},"Official Designation: Mixed"]
["Occupied Units",{"$f":"SUM(E23:J23)","v":0}]
["Vacant/Rentable Units",{"$f":"SUM(E24:J24)","v":0},null,"(1.11) Bedroom Distribution"]
[{"$nulls":4},"Eff","1BR","2BR","3BR","4BR","5BR+"]
[{"$nulls":3},"(1.11a) Occupied"]
[{"$nulls":3},"(1.11b) Vacant"]
[{"$nulls":3},"Total Units",{"$f":"SUM(E23:E24)","v":0},0,0,0,0,0]
[{"$nulls":3},"Avg Bedrooms per Unit",null,{"$f":"(+E23*1+F23*1+G23*2+H23*3+I23*4+J23*5)/SUM(E23:J23)","v":{"$error":"#DIV/0!"}}]
[]
["(2.0) Physical Needs Assessment Summary Data"]
[]
["(2.1) PNA Conducted By: (PHA/ 3rd Party)",null,"PHA Internally",null,null,"(2.5) Inspector Contact Name: "]
[null,null,"3rd Pary Independent",null,null,"(2.6) Company Name or PHA Title:"]
["(2.2) First Year Covered by PNA",{"$nulls":4},"(2.7) Inspector Contact Phone:"]
["(2.3) Length of PNA (in years)"]
["(2.4) Unit Interiors Inspected (#)",null,{"$f":"SUM(E40:J40)","v":0},{"$nulls":3},"(2.8) Data Source(s) for PNA",null,"Annual Inspections"]
["Units Inspected as % of Total",null,{"$f":"C34/B18","v":{"$error":"#DIV/0!"}},{"$nulls":5},"Contractor"]
["(2.9) Total Residential Buildings",{"$nulls":7},"REAC Inspections"]
["(2.10) Number of Building Exteriors Inspected"]
["(2.11) Total Off-Street Parking Spaces",{"$nulls":3},"(2.14) Units Inspected by Bedroom Size"]
["(2.12) Site Acreage",null,null,"acres","Eff","1BR","2BR","3BR","4BR","5BR+"]
["(2.13) Parking Area (in square feet)",null,null,"SF"]
[]
["(2.15) Physical Improvements Will Result in Structural/System Soundness at a Reasonable Cost",{"$nulls":5},"Yes","No"]
["(2.16) Development Has Long-Term Physical and Social Viability",{"$nulls":5},"Yes","No"]
[]
["(3.0) Total Physical Needs Summary"]
[]
["Major Category",null,"Immediate","Years                       1-5","Years                    6-10","Years                    11-15","Years                   16-20","Total Needs"]
["Site",null,{"$f":"+I82","v":0},{"$f":"$O$63","v":0},{"$f":"$T$63","v":0},{"$f":"$Y$63","v":0},{"$f":"$AD$63","v":0},{"$f":"SUM(C48:G48)","v":0}]
["Common Buildings",null,{"$f":"$I$98","v":0},{"$f":"$O$83","v":0},{"$f":"$T$83","v":0},{"$f":"$Y$83","v":0},{"$f":"$AD$83","v":0},0]
["Unit Exteriors",null,{"$f":"$I$121","v":0},{"$f":"$O$99","v":0},{"$f":"$T$99","v":0},{"$f":"$Y$99","v":0},{"$f":"$AD$99","v":0},0]
["Unit Interiors",null,{"$f":"$I$144","v":0},{"$f":"O122","v":0},{"$f":"T122","v":0},{"$f":"Y122","v":0},{"$f":"AD122","v":0},0]
["Mechanical",null,{"$f":"I161","v":0},{"$f":"O145","v":0},{"$f":"T145","v":0},{"$f":"Y145","v":0},{"$f":"AD145","v":0},0]
["Other",null,{"$f":"I170","v":0},{"$f":"O162","v":0},{"$f":"T162","v":0},{"$f":"Y162","v":0},{"$f":"AD162","v":0},0]
["Totals",null,{"$f":"SUM(C48:C53)","v":0},0,0,0,0,0]
["Amount of PNA relating to Lead Paint/Asbestos",null,{"$f":"I173","v":0},{"$nulls":4},{"$f":"C55","v":0}]
["Amount of PNA relating to Section 504, ADA, and Fair Housing Act (if applicable) Compliance",null,{"$f":"I174","v":0},{"$nulls":4},{"$f":"C56","v":0}]
["New Construction",{"$nulls":6},{"$f":"I188","v":0}]
[{"$nulls":5},"TOTAL PHYSICAL NEEDS",null,{"$f":"H57+H54","v":0}]
[]
["(4.0)Physical Needs Cost Estimate"]
[]
["(4.1) Category",null,"(4.2) Estimated Useful Life","(4.3)                Useful Life Remaining","(4.4)             Method","(4.5)                   Total          Quantity","(4.6)             Current Needs Quantity","(4.7)                Cost per      Quantity","(4.8)         Immediate Repairs Needed","Total Long Term Needs",{"$f":"+F6+1","v":1},{"$f":"1+K62","v":2},3,4,5,6,7,8,9,10,11,12,13,14,15,16,17,18,19,20]
["(4.9) Site",null,"(in yrs)","(in yrs)",{"$nulls":9},"Years 1-5",{"$f":"SUM(K82:O82)","v":0},{"$nulls":3},"Years 6-10",{"$f":"SUM(P82:T82)","v":0},{"$nulls":3},"Years 11-15",{"$f":"SUM(U82:Y82)","v":0},{"$nulls":3},"Years 16-20",{"$f":"SUM(Z82:AD82)","v":0}]
["Asphalt/Concrete",{"$nulls":3},"Per Sq. Ft.",{"$nulls":3},{"$f":"ROUNDUP(+G64*H64,-2)","v":0},{"$f":"SUM(K64:AD64)","v":0},{"$f":"ROUNDUP(IF(OR(($D64+$F$6)=K$62,($C64+$D64+$F$6)=K$62,($C64*2+$D64+$F$6)=K$62,($C64*3+$D64+$F$6)=K$62,($C64*4+$D64+$F$6)=K$62,($C64*5+$D64+$F$6)=K$62,($C64*6+$D64+$F$6)=K$62,($C64*7+$D64+$F$6)=K$62,($C64*8+$D64+$F$6)=K$62),$F64*$H64*((1+$J$52)^(K$62-$F$6)),0),-2)","v":0},0,0,0,0,0,0,0,0,0,{"$f":"ROUNDUP(IF(OR(($D64+$F$6)=U$62,($C64+$D64+$F$6)=U$62,($C64*2+$D64+$F$6)=U$62,($C64*3+$D64+$F$6)=U$62,($C64*4+$D64+$F$6)=U$62,($C64*5+$D64+$F$6)=U$62,($C64*6+$D64+$F$6)=U$62,($C64*7+$D64+$F$6)=U$62,($C64*8+$D64+$F$6)=U$62),$F64*$H64*((1+$J$52)^(U$62-$F$6)),0),-2)","v":0},0,0,0,0,0,0,0,0,0,{"$f":"SUM(K64:AD64)-J64","v":0}]
["Seal Coat",{"$nulls":3},"Per Sq. Ft.",{"$nulls":3},0,0,0,0,0,0,0,0,0,0,0,0,0,0,0,0,0,0,0,0,0,0,0]
["Striping",{"$nulls":3},"Per Sq. Ft.",{"$nulls":3},0,0,0,0,0,0,0,0,0,0,0,0,0,0,0,0,0,0,0,0,0,0,0]
["Curb & Gutter",{"$nulls":3},"Per Sq. Ft.",{"$nulls":3},0,0,0,0,0,0,0,0,0,0,0,0,0,0,0,0,0,0,0,0,0,0,0]
["Pedestrian paving",{"$nulls":3},"Per Sq. Ft.",{"$nulls":3},0,0,0,0,0,0,0,0,0,0,0,0,0,0,0,0,0,0,0,0,0,0,0]
["Signage",{"$nulls":3},"Per Sq. Ft.",{"$nulls":3},0,0,0,0,0,0,0,0,0,0,0,0,0,0,0,0,0,0,0,0,0,0,0]
["Water Lines/Mains",{"$nulls":3},"Per Sq. Ft.",{"$nulls":3},0,0,0,0,0,0,0,0,0,0,0,0,0,0,0,0,0,0,0,0,0,0,0]
["Sewer Lines/Mains",{"$nulls":3},"Per Sq. Ft.",{"$nulls":3},0,0,0,0,0,0,0,0,0,0,0,0,0,0,0,0,0,0,0,0,0,0,0]
["Lighting",{"$nulls":3},"Per Sq. Ft.",{"$nulls":3},0,0,0,0,0,0,0,0,0,0,0,0,0,0,0,0,0,0,0,0,0,0,0]
["Storm Drainage",{"$nulls":3},"Per Sq. Ft.",{"$nulls":3},0,0,0,0,0,0,0,0,0,0,0,0,0,0,0,0,0,0,0,0,0,0,0]
["Landscape",{"$nulls":3},"Per Sq. Ft.",{"$nulls":3},0,0,{"$f":"ROUNDUP(IF(OR(($D74+$F$6)=K$62,($C74+$D74+$F$6)=K$62,($C74*2+$D74+$F$6)=K$62,($C74*3+$D74+$F$6)=K$62,($C74*4+$D74+$F$6)=K$62,($C74*5+$D74+$F$6)=K$62,($C74*6+$D74+$F$6)=K$62,($C74*7+$D74+$F$6)=K$62,($C74*8+$D74+$F$6)=K$62),$F74*$H74*((1+$J$52)^(K$62-$F$6)),0),-2)","v":0},0,0,0,0,0,0,0,0,0,{"$f":"ROUNDUP(IF(OR(($D74+$F$6)=U$62,($C74+$D74+$F$6)=U$62,($C74*2+$D74+$F$6)=U$62,($C74*3+$D74+$F$6)=U$62,($C74*4+$D74+$F$6)=U$62,($C74*5+$D74+$F$6)=U$62,($C74*6+$D74+$F$6)=U$62,($C74*7+$D74+$F$6)=U$62,($C74*8+$D74+$F$6)=U$62),$F74*$H74*((1+$J$52)^(U$62-$F$6)),0),-2)","v":0},0,0,0,0,0,0,0,0,0,0]
["Fencing",{"$nulls":3},"Per Sq. Ft.",{"$nulls":3},0,0,0,0,0,0,0,0,0,0,0,0,0,0,0,0,0,0,0,0,0,0,0]
["Fence Painting",{"$nulls":3},"Per Sq. Ft.",{"$nulls":3},0,0,0,0,0,0,0,0,0,0,0,0,0,0,0,0,0,0,0,0,0,0,0]
["Dumpsters & Enclosures",{"$nulls":3},"Per Sq. Ft.",{"$nulls":3},0,0,0,0,0,0,0,0,0,0,0,0,0,0,0,0,0,0,0,0,0,0,0]
["Electric Distribution",{"$nulls":3},"Per Sq. Ft.",{"$nulls":3},0,0,0,0,0,0,0,0,0,0,0,0,0,0,0,0,0,0,0,0,0,0,0]
["Playground Areas/Equipment",{"$nulls":3},"Per Sq. Ft.",{"$nulls":3},0,0,0,0,0,0,0,0,0,0,0,0,0,0,0,0,0,0,0,0,0,0,0]
["Other (Specify)",{"$nulls":7},0,0,0,0,0,0,0,0,0,0,0,0,0,0,0,0,0,0,0,0,0,0,0]
["Other (Specify)",{"$nulls":7},0,0,0,0,0,0,0,0,0,0,0,0,0,0,0,0,0,0,0,0,0,0,0]
["Site Subtotals",{"$nulls":7},{"$f":"SUM(I64:I81)","v":0},0,0,0,0,0,0,0,0,0,0,0,0,0,0,0,0,0,0,0,0,0,0]
["(4.10) Common Buildings--Rehab Only",{"$nulls":12},"Years 1-5",{"$f":"SUM(K98:O98)","v":0},{"$nulls":3},"Years 6-10",{"$f":"SUM(P98:T98)","v":0},{"$nulls":3},"Years 11-15",{"$f":"SUM(T98:X98)","v":0},{"$nulls":3},"Years 16-20",{"$f":"SUM(Y98:AC98)","v":0}]
["Administrative Building",{"$nulls":3},"Per Sq. Ft.",{"$nulls":3},{"$f":"ROUNDUP(+G84*H84,-2)","v":0},{"$f":"SUM(K84:AD84)","v":0},{"$f":"ROUNDUP(IF(OR(($D84+$F$6)=K$62,($C84+$D84+$F$6)=K$62,($C84*2+$D84+$F$6)=K$62,($C84*3+$D84+$F$6)=K$62,($C84*4+$D84+$F$6)=K$62,($C84*5+$D84+$F$6)=K$62,($C84*6+$D84+$F$6)=K$62,($C84*7+$D84+$F$6)=K$62,($C84*8+$D84+$F$6)=K$62),$F84*$H84*((1+$J$52)^(K$62-$F$6)),0),-2)","v":0},0,0,0,0,0,0,0,0,0,{"$f":"ROUNDUP(IF(OR(($D84+$F$6)=U$62,($C84+$D84+$F$6)=U$62,($C84*2+$D84+$F$6)=U$62,($C84*3+$D84+$F$6)=U$62,($C84*4+$D84+$F$6)=U$62,($C84*5+$D84+$F$6)=U$62,($C84*6+$D84+$F$6)=U$62,($C84*7+$D84+$F$6)=U$62,($C84*8+$D84+$F$6)=U$62),$F84*$H84*((1+$J$52)^(U$62-$F$6)),0),-2)","v":0},0,0,0,0,0,0,0,0,0,{"$f":"SUM(K84:AD84)-J84","v":0}]
["Community Building",{"$nulls":3},"Per Sq. Ft.",{"$nulls":3},0,0,0,0,0,0,0,0,0,0,0,0,0,0,0,0,0,0,0,0,0,0,0]
["Shop",{"$nulls":3},"Per Sq. Ft.",{"$nulls":3},0,0,0,0,0,0,0,0,0,0,0,0,0,0,0,0,0,0,0,0,0,0,0]
["Storage Area",{"$nulls":3},"Per Sq. Ft.",{"$nulls":3},0,0,0,0,0,0,0,0,0,0,0,0,0,0,0,0,0,0,0,0,0,0,0]
["Central Boiler",{"$nulls":3},"Per Sq. Ft.",{"$nulls":3},0,0,0,0,0,0,0,0,0,0,0,0,0,0,0,0,0,0,0,0,0,0,0]
["Central Chiller",{"$nulls":3},"Per Sq. Ft.",{"$nulls":3},0,0,0,0,0,0,0,0,0,0,0,0,0,0,0,0,0,0,0,0,0,0,0]
["Family Invesment Center",{"$nulls":3},"Per Sq. Ft.",{"$nulls":3},0,0,0,0,0,0,0,0,0,0,0,0,0,0,0,0,0,0,0,0,0,0,0]
["Day Care Center",{"$nulls":3},"Per Sq. Ft.",{"$nulls":3},0,0,0,0,0,0,0,0,0,0,0,0,0,0,0,0,0,0,0,0,0,0,0]
["Laundry Areas",{"$nulls":3},"Per Sq. Ft.",{"$nulls":3},0,0,{"$f":"ROUNDUP(IF(OR(($D92+$F$6)=K$62,($C92+$D92+$F$6)=K$62,($C92*2+$D92+$F$6)=K$62,($C92*3+$D92+$F$6)=K$62,($C92*4+$D92+$F$6)=K$62,($C92*5+$D92+$F$6)=K$62,($C92*6+$D92+$F$6)=K$62,($C92*7+$D92+$F$6)=K$62,($C92*8+$D92+$F$6)=K$62),$F92*$H92*((1+$J$52)^(K$62-$F$6)),0),-2)","v":0},0,0,0,0,0,0,0,0,0,{"$f":"ROUNDUP(IF(OR(($D92+$F$6)=U$62,($C92+$D92+$F$6)=U$62,($C92*2+$D92+$F$6)=U$62,($C92*3+$D92+$F$6)=U$62,($C92*4+$D92+$F$6)=U$62,($C92*5+$D92+$F$6)=U$62,($C92*6+$D92+$F$6)=U$62,($C92*7+$D92+$F$6)=U$62,($C92*8+$D92+$F$6)=U$62),$F92*$H92*((1+$J$52)^(U$62-$F$6)),0),-2)","v":0},0,0,0,0,0,0,0,0,0,0]
["Common Area Washers",{"$nulls":3},"Per Sq. Ft.",{"$nulls":3},0,0,0,0,0,0,0,0,0,0,0,0,0,0,0,0,0,0,0,0,0,0,0]
["Common Area Dryers",{"$nulls":3},"Per Sq. Ft.",{"$nulls":3},0,0,0,0,0,0,0,0,0,0,0,0,0,0,0,0,0,0,0,0,0,0,0]
["Common Area Finishes",{"$nulls":3},"Per Sq. Ft.",{"$nulls":3},0,0,0,0,0,0,0,0,0,0,0,0,0,0,0,0,0,0,0,0,0,0,0]
["Other (Specify)",{"$nulls":7},0,0,0,0,0,0,0,0,0,0,0,0,0,0,0,0,0,0,0,0,0,0,0]
["Other (Specify)",{"$nulls":7},0,0,0,0,0,0,0,0,0,0,0,0,0,0,0,0,0,0,0,0,0,0,0]
["Common Subtotals",{"$nulls":7},{"$f":"SUM(I84:I97)","v":0},0,0,0,0,0,0,0,0,0,0,0,0,0,0,0,0,0,0,0,0,0,0]
["(4.11) Unit Exteriors",{"$nulls":12},"Years 1-5",{"$f":"SUM(K121:O121)","v":0},{"$nulls":3},"Years 6-10",{"$f":"SUM(P121:T121)","v":0},{"$nulls":3},"Years 11-15",{"$f":"SUM(U121:Y121)","v":0},{"$nulls":3},"Years 16-20",{"$f":"SUM(Z121:AD121)","v":0}]
["Carports/Surface Garage",{"$nulls":3},"Per Sq. Ft.",{"$nulls":3},{"$f":"ROUNDUP(+G100*H100,-2)","v":0},{"$f":"SUM(K100:AD100)","v":0},{"$f":"ROUNDUP(IF(OR(($D100+$F$6)=K$62,($C100+$D100+$F$6)=K$62,($C100*2+$D100+$F$6)=K$62,($C100*3+$D100+$F$6)=K$62,($C100*4+$D100+$F$6)=K$62,($C100*5+$D100+$F$6)=K$62,($C100*6+$D100+$F$6)=K$62,($C100*7+$D100+$F$6)=K$62,($C100*8+$D100+$F$6)=K$62),$F100*$H100*((1+$J$52)^(K$62-$F$6)),0),-2)","v":0},0,0,0,0,0,0,0,0,0,{"$f":"ROUNDUP(IF(OR(($D100+$F$6)=U$62,($C100+$D100+$F$6)=U$62,($C100*2+$D100+$F$6)=U$62,($C100*3+$D100+$F$6)=U$62,($C100*4+$D100+$F$6)=U$62,($C100*5+$D100+$F$6)=U$62,($C100*6+$D100+$F$6)=U$62,($C100*7+$D100+$F$6)=U$62,($C100*8+$D100+$F$6)=U$62),$F100*$H100*((1+$J$52)^(U$62-$F$6)),0),-2)","v":0},0,0,0,0,0,0,0,0,0,{"$f":"SUM(K100:AD100)-J100","v":0}]
["Foundation",{"$nulls":3},"Per Sq. Ft.",{"$nulls":3},0,0,0,0,0,0,0,0,0,0,0,0,0,0,0,0,0,0,0,0,0,0,0]
["Building Slab",{"$nulls":3},"Per Sq. Ft.",{"$nulls":3},0,0,0,0,0,0,0,0,0,0,0,0,0,0,0,0,0,0,0,0,0,0,0]
["Roofs",{"$nulls":3},"Per Sq. Ft.",{"$nulls":3},0,0,0,0,0,0,0,0,0,0,0,0,0,0,0,0,0,0,0,0,0,0,0]
["Canopies",{"$nulls":3},"Per Sq. Ft.",{"$nulls":3},0,0,0,0,0,0,0,0,0,0,0,0,0,0,0,0,0,0,0,0,0,0,0]
["Tuck-Pointing",{"$nulls":3},"Per Sq. Ft.",{"$nulls":3},0,0,0,0,0,0,0,0,0,0,0,0,0,0,0,0,0,0,0,0,0,0,0]
["Exterior Paint & Caulking",{"$nulls":3},"Per Sq. Ft.",{"$nulls":3},0,0,0,0,0,0,0,0,0,0,0,0,0,0,0,0,0,0,0,0,0,0,0]
["Soffits",{"$nulls":3},"Per Sq. Ft.",{"$nulls":3},0,0,0,0,0,0,0,0,0,0,0,0,0,0,0,0,0,0,0,0,0,0,0]
["Siding",{"$nulls":3},"Per Sq. Ft.",{"$nulls":3},0,0,0,0,0,0,0,0,0,0,0,0,0,0,0,0,0,0,0,0,0,0,0]
["Exterior Stairwells/Fire Escapes",{"$nulls":3},"Per Sq. Ft.",{"$nulls":3},0,0,0,0,0,0,0,0,0,0,0,0,0,0,0,0,0,0,0,0,0,0,0]
["Landings & Railings",{"$nulls":3},"Per Sq. Ft.",{"$nulls":3},0,0,{"$f":"ROUNDUP(IF(OR(($D110+$F$6)=K$62,($C110+$D110+$F$6)=K$62,($C110*2+$D110+$F$6)=K$62,($C110*3+$D110+$F$6)=K$62,($C110*4+$D110+$F$6)=K$62,($C110*5+$D110+$F$6)=K$62,($C110*6+$D110+$F$6)=K$62,($C110*7+$D110+$F$6)=K$62,($C110*8+$D110+$F$6)=K$62),$F110*$H110*((1+$J$52)^(K$62-$F$6)),0),-2)","v":0},0,0,0,0,0,0,0,0,0,{"$f":"ROUNDUP(IF(OR(($D110+$F$6)=U$62,($C110+$D110+$F$6)=U$62,($C110*2+$D110+$F$6)=U$62,($C110*3+$D110+$F$6)=U$62,($C110*4+$D110+$F$6)=U$62,($C110*5+$D110+$F$6)=U$62,($C110*6+$D110+$F$6)=U$62,($C110*7+$D110+$F$6)=U$62,($C110*8+$D110+$F$6)=U$62),$F110*$H110*((1+$J$52)^(U$62-$F$6)),0),-2)","v":0},0,0,0,0,0,0,0,0,0,0]
["Balconies & Railings",{"$nulls":3},"Per Sq. Ft.",{"$nulls":3},0,0,0,0,0,0,0,0,0,0,0,0,0,0,0,0,0,0,0,0,0,0,0]
["Mail Facilities",{"$nulls":3},"Per Sq. Ft.",{"$nulls":3},0,0,0,0,0,0,0,0,0,0,0,0,0,0,0,0,0,0,0,0,0,0,0]
["Exterior Doors",{"$nulls":3},"Per Sq. Ft.",{"$nulls":3},0,0,0,0,0,0,0,0,0,0,0,0,0,0,0,0,0,0,0,0,0,0,0]
["Windows",{"$nulls":3},"Per Sq. Ft.",{"$nulls":3},0,0,0,0,0,0,0,0,0,0,0,0,0,0,0,0,0,0,0,0,0,0,0]
["Gutters/Downspouts",{"$nulls":3},"Per Sq. Ft.",{"$nulls":3},0,0,0,0,0,0,0,0,0,0,0,0,0,0,0,0,0,0,0,0,0,0,0]
["Columns & Porches",{"$nulls":3},"Per Sq. Ft.",{"$nulls":3},0,0,0,0,0,0,0,0,0,0,0,0,0,0,0,0,0,0,0,0,0,0,0]
["Decks & Patios",{"$nulls":3},"Per Sq. Ft.",{"$nulls":3},0,0,0,0,0,0,0,0,0,0,0,0,0,0,0,0,0,0,0,0,0,0,0]
["Exterior Lighting",{"$nulls":3},"Per Sq. Ft.",{"$nulls":3},0,0,0,0,0,0,0,0,0,0,0,0,0,0,0,0,0,0,0,0,0,0,0]
["Other (Specify)",{"$nulls":7},0,0,0,0,0,0,0,0,0,0,0,0,0,0,0,0,0,0,0,0,0,0,0]
["Other (Specify)",{"$nulls":7},0,0,0,0,0,0,0,0,0,0,0,0,0,0,0,0,0,0,0,0,0,0,0]
["Unit Exterior Subtotals",{"$nulls":7},{"$f":"SUM(I100:I120)","v":0},0,0,0,0,0,0,0,0,0,0,0,0,0,0,0,0,0,0,0,0,0,0]
["(4.12) Unit Interiors",{"$nulls":12},"Years 1-5",{"$f":"SUM(K144:O144)","v":0},{"$nulls":3},"Years 6-10",{"$f":"SUM(P144:T144)","v":0},{"$nulls":3},"Years 11-15",{"$f":"SUM(U144:Y144)","v":0},{"$nulls":3},"Years 16-20",{"$f":"SUM(Z144:AD144)","v":0}]
["Interior Painting (non routine)",{"$nulls":3},"Per Sq. Ft.",{"$nulls":3},{"$f":"ROUNDUP(+G123*H123,-2)","v":0},{"$f":"SUM(K123:AD123)","v":0},{"$f":"ROUNDUP(IF(OR(($D123+$F$6)=K$62,($C123+$D123+$F$6)=K$62,($C123*2+$D123+$F$6)=K$62,($C123*3+$D123+$F$6)=K$62,($C123*4+$D123+$F$6)=K$62,($C123*5+$D123+$F$6)=K$62,($C123*6+$D123+$F$6)=K$62,($C123*7+$D123+$F$6)=K$62,($C123*8+$D123+$F$6)=K$62),$F123*$H123*((1+$J$52)^(K$62-$F$6)),0),-2)","v":0},0,0,0,0,0,0,0,0,0,{"$f":"ROUNDUP(IF(OR(($D123+$F$6)=U$62,($C123+$D123+$F$6)=U$62,($C123*2+$D123+$F$6)=U$62,($C123*3+$D123+$F$6)=U$62,($C123*4+$D123+$F$6)=U$62,($C123*5+$D123+$F$6)=U$62,($C123*6+$D123+$F$6)=U$62,($C123*7+$D123+$F$6)=U$62,($C123*8+$D123+$F$6)=U$62),$F123*$H123*((1+$J$52)^(U$62-$F$6)),0),-2)","v":0},0,0,0,0,0,0,0,0,0,{"$f":"SUM(K123:AD123)-J123","v":0}]
["Interior Doors",{"$nulls":3},"Per Sq. Ft.",{"$nulls":3},0,0,0,0,0,0,0,0,0,0,0,0,0,0,0,0,0,0,0,0,0,0,0]
["Flooring (non routine)",{"$nulls":3},"Per Sq. Ft.",{"$nulls":3},0,0,0,0,0,0,0,0,0,0,0,0,0,0,0,0,0,0,0,0,0,0,0]
["Shower/Tub Surrounds",{"$nulls":3},"Per Sq. Ft.",{"$nulls":3},0,0,0,0,0,0,0,0,0,0,0,0,0,0,0,0,0,0,0,0,0,0,0]
["Commodes",{"$nulls":3},"Per Sq. Ft.",{"$nulls":3},0,0,0,0,0,0,0,0,0,0,0,0,0,0,0,0,0,0,0,0,0,0,0]
["Vanities",{"$nulls":3},"Per Sq. Ft.",{"$nulls":3},0,0,0,0,0,0,0,0,0,0,0,0,0,0,0,0,0,0,0,0,0,0,0]
["Faucets",{"$nulls":3},"Per Sq. Ft.",{"$nulls":3},0,0,0,0,0,0,0,0,0,0,0,0,0,0,0,0,0,0,0,0,0,0,0]
["Bathroom Flooring (non cyclical)",{"$nulls":3},"Per Sq. Ft.",{"$nulls":3},0,0,0,0,0,0,0,0,0,0,0,0,0,0,0,0,0,0,0,0,0,0,0]
["Kitchen Cabinets",{"$nulls":3},"Per Sq. Ft.",{"$nulls":3},0,0,0,0,0,0,0,0,0,0,0,0,0,0,0,0,0,0,0,0,0,0,0]
["Ranges",{"$nulls":3},"Per Sq. Ft.",{"$nulls":3},0,0,0,0,0,0,0,0,0,0,0,0,0,0,0,0,0,0,0,0,0,0,0]
["Range Hoods",{"$nulls":3},"Per Sq. Ft.",{"$nulls":3},0,0,{"$f":"ROUNDUP(IF(OR(($D133+$F$6)=K$62,($C133+$D133+$F$6)=K$62,($C133*2+$D133+$F$6)=K$62,($C133*3+$D133+$F$6)=K$62,($C133*4+$D133+$F$6)=K$62,($C133*5+$D133+$F$6)=K$62,($C133*6+$D133+$F$6)=K$62,($C133*7+$D133+$F$6)=K$62,($C133*8+$D133+$F$6)=K$62),$F133*$H133*((1+$J$52)^(K$62-$F$6)),0),-2)","v":0},0,0,0,0,0,0,0,0,0,{"$f":"ROUNDUP(IF(OR(($D133+$F$6)=U$62,($C133+$D133+$F$6)=U$62,($C133*2+$D133+$F$6)=U$62,($C133*3+$D133+$F$6)=U$62,($C133*4+$D133+$F$6)=U$62,($C133*5+$D133+$F$6)=U$62,($C133*6+$D133+$F$6)=U$62,($C133*7+$D133+$F$6)=U$62,($C133*8+$D133+$F$6)=U$62),$F133*$H133*((1+$J$52)^(U$62-$F$6)),0),-2)","v":0},0,0,0,0,0,0,0,0,0,0]
["Refrigerators",{"$nulls":3},"Per Sq. Ft.",{"$nulls":3},0,0,0,0,0,0,0,0,0,0,0,0,0,0,0,0,0,0,0,0,0,0,0]
["Counters and Sinks",{"$nulls":3},"Per Sq. Ft.",{"$nulls":3},0,0,0,0,0,0,0,0,0,0,0,0,0,0,0,0,0,0,0,0,0,0,0]
["Dishwasher",{"$nulls":3},"Per Sq. Ft.",{"$nulls":3},0,0,0,0,0,0,0,0,0,0,0,0,0,0,0,0,0,0,0,0,0,0,0]
["Microwave",{"$nulls":3},"Per Sq. Ft.",{"$nulls":3},0,0,0,0,0,0,0,0,0,0,0,0,0,0,0,0,0,0,0,0,0,0,0]
["Washing Machines",{"$nulls":3},"Per Sq. Ft.",{"$nulls":3},0,0,0,0,0,0,0,0,0,0,0,0,0,0,0,0,0,0,0,0,0,0,0]
["Dryers",{"$nulls":3},"Per Sq. Ft.",{"$nulls":3},0,0,0,0,0,0,0,0,0,0,0,0,0,0,0,0,0,0,0,0,0,0,0]
["Call-for-Aid Systems",{"$nulls":7},0,0,0,0,0,0,0,0,0,0,0,0,0,0,0,0,0,0,0,0,0,0,0]
["Stairs and Handrails",{"$nulls":7},0,0,0,0,0,0,0,0,0,0,0,0,0,0,0,0,0,0,0,0,0,0,0]
["Other (Specify)",{"$nulls":7},0,0,0,0,0,0,0,0,0,0,0,0,0,0,0,0,0,0,0,0,0,0,0]
["Other (Specify)",{"$nulls":7},0,0,0,0,0,0,0,0,0,0,0,0,0,0,0,0,0,0,0,0,0,0,0]
["Unit Interior Subtotals",{"$nulls":7},{"$f":"SUM(I123:I143)","v":0},0,0,0,0,0,0,0,0,0,0,0,0,0,0,0,0,0,0,0,0,0,0]
["(4.13) Mechanical",{"$nulls":12},"Years 1-5",{"$f":"SUM(K161:O161)","v":0},{"$nulls":3},"Years 6-10",{"$f":"SUM(P161:T161)","v":0},{"$nulls":3},"Years 11-15",{"$f":"SUM(U161:Y161)","v":0},{"$nulls":3},"Years 16-20",{"$f":"SUM(Z161:AD161)","v":0}]
["Water Distribution",{"$nulls":3},"Per Sq. Ft.",{"$nulls":3},{"$f":"ROUNDUP(+G146*H146,-2)","v":0},{"$f":"SUM(K146:AD146)","v":0},{"$f":"ROUNDUP(IF(OR(($D146+$F$6)=K$62,($C146+$D146+$F$6)=K$62,($C146*2+$D146+$F$6)=K$62,($C146*3+$D146+$F$6)=K$62,($C146*4+$D146+$F$6)=K$62,($C146*5+$D146+$F$6)=K$62,($C146*6+$D146+$F$6)=K$62,($C146*7+$D146+$F$6)=K$62,($C146*8+$D146+$F$6)=K$62),$F146*$H146*((1+$J$52)^(K$62-$F$6)),0),-2)","v":0},0,0,0,0,0,0,0,0,0,{"$f":"ROUNDUP(IF(OR(($D146+$F$6)=U$62,($C146+$D146+$F$6)=U$62,($C146*2+$D146+$F$6)=U$62,($C146*3+$D146+$F$6)=U$62,($C146*4+$D146+$F$6)=U$62,($C146*5+$D146+$F$6)=U$62,($C146*6+$D146+$F$6)=U$62,($C146*7+$D146+$F$6)=U$62,($C146*8+$D146+$F$6)=U$62),$F146*$H146*((1+$J$52)^(U$62-$F$6)),0),-2)","v":0},0,0,0,0,0,0,0,0,0,{"$f":"SUM(K146:AD146)-J146","v":0}]
["Heating Equipt/System",{"$nulls":3},"Per Sq. Ft.",{"$nulls":3},0,0,0,0,0,0,0,0,0,0,0,0,0,0,0,0,0,0,0,0,0,0,0]
["Electric Disribution",{"$nulls":3},"Per Sq. Ft.",{"$nulls":3},0,0,0,0,0,0,0,0,0,0,0,0,0,0,0,0,0,0,0,0,0,0,0]
["Hot Water Heaters",{"$nulls":3},"Per Sq. Ft.",{"$nulls":3},0,0,0,0,0,0,0,0,0,0,0,0,0,0,0,0,0,0,0,0,0,0,0]
["Unit Sub-panels",{"$nulls":3},"Per Sq. Ft.",{"$nulls":3},0,0,0,0,0,0,0,0,0,0,0,0,0,0,0,0,0,0,0,0,0,0,0]
["Trash Compactor",{"$nulls":3},"Per Sq. Ft.",{"$nulls":3},0,0,0,0,0,0,0,0,0,0,0,0,0,0,0,0,0,0,0,0,0,0,0]
["Cooling Equipt/Systems",{"$nulls":3},"Per Sq. Ft.",{"$nulls":3},0,0,0,0,0,0,0,0,0,0,0,0,0,0,0,0,0,0,0,0,0,0,0]
["Smoke/Fire Detection",{"$nulls":3},"Per Sq. Ft.",{"$nulls":3},0,0,0,0,0,0,0,0,0,0,0,0,0,0,0,0,0,0,0,0,0,0,0]
["Unit Reconfiguration",{"$nulls":3},"Per Sq. Ft.",{"$nulls":3},0,0,0,0,0,0,0,0,0,0,0,0,0,0,0,0,0,0,0,0,0,0,0]
["Security/Fire Alarm",{"$nulls":3},"Per Sq. Ft.",{"$nulls":3},0,0,0,0,0,0,0,0,0,0,0,0,0,0,0,0,0,0,0,0,0,0,0]
["Fire Suspression System",{"$nulls":3},"Per Sq. Ft.",{"$nulls":3},0,0,0,0,0,0,0,0,0,0,0,0,0,0,0,0,0,0,0,0,0,0,0]
["Generator",{"$nulls":3},"Per Sq. Ft.",{"$nulls":3},0,0,0,0,0,0,0,0,0,0,0,0,0,0,0,0,0,0,0,0,0,0,0]
["Elevator",{"$nulls":3},"Per Sq. Ft.",{"$nulls":3},0,0,0,0,0,0,0,0,0,0,0,0,0,0,0,0,0,0,0,0,0,0,0]
["Other (Specify) ",{"$nulls":7},0,0,0,0,0,0,0,0,0,0,0,0,0,0,0,0,0,0,0,0,0,0,0]
["Other (Specify)",{"$nulls":7},0,0,0,0,0,0,0,0,0,0,0,0,0,0,0,0,0,0,0,0,0,0,0]
["Mechanical Subtotals",{"$nulls":7},{"$f":"SUM(I146:I160)","v":0},0,0,0,0,0,0,0,0,0,0,0,0,0,0,0,0,0,0,0,0,0,0]
["(4.14) Other",{"$nulls":12},"Years 1-5",{"$f":"SUM(K170:O170)","v":0},{"$nulls":3},"Years 6-10",{"$f":"SUM(P170:T170)","v":0},{"$nulls":3},"Years 11-15",{"$f":"SUM(U170:Y170)","v":0},{"$nulls":3},"Years 16-20",{"$f":"SUM(Z170:AD170)","v":0}]
["Site Acquisition",{"$nulls":3},"Per Sq. Ft.",{"$nulls":3},{"$f":"ROUNDUP(+G163*H163,-2)","v":0},{"$f":"SUM(K163:AD163)","v":0},{"$f":"ROUNDUP(IF(OR(($D163+$F$6)=K$62,($C163+$D163+$F$6)=K$62,($C163*2+$D163+$F$6)=K$62,($C163*3+$D163+$F$6)=K$62,($C163*4+$D163+$F$6)=K$62,($C163*5+$D163+$F$6)=K$62,($C163*6+$D163+$F$6)=K$62,($C163*7+$D163+$F$6)=K$62,($C163*8+$D163+$F$6)=K$62),$F163*$H163*((1+$J$52)^(K$62-$F$6)),0),-2)","v":0},0,0,0,0,0,0,0,0,0,{"$f":"ROUNDUP(IF(OR(($D163+$F$6)=U$62,($C163+$D163+$F$6)=U$62,($C163*2+$D163+$F$6)=U$62,($C163*3+$D163+$F$6)=U$62,($C163*4+$D163+$F$6)=U$62,($C163*5+$D163+$F$6)=U$62,($C163*6+$D163+$F$6)=U$62,($C163*7+$D163+$F$6)=U$62,($C163*8+$D163+$F$6)=U$62),$F163*$H163*((1+$J$52)^(U$62-$F$6)),0),-2)","v":0},0,0,0,0,0,0,0,0,0,{"$f":"SUM(K163:AD163)-J163","v":0}]
["Other Fees and Costs",{"$nulls":3},"Per Sq. Ft.",{"$nulls":3},0,{"$f":"SUM(K164:AD164)","v":0},0,0,0,0,0,0,0,0,0,0,0,0,0,0,0,0,0,0,0,0,0]
["Demolition",{"$nulls":3},"Per Sq. Ft.",{"$nulls":3},0,{"$f":"SUM(K165:AD165)","v":0},0,0,0,0,0,0,0,0,0,0,0,0,0,0,0,0,0,0,0,0,0]
["Dwelling Unit Conversion",{"$nulls":3},"Per Sq. Ft.",{"$nulls":3},0,0,0,0,0,0,0,0,0,0,0,0,0,0,0,0,0,0,0,0,0,0,0]
["Contingency",{"$nulls":3},"Per Sq. Ft.",{"$nulls":3},0,{"$f":"SUM(K167:AD167)","v":0},{"$f":"ROUNDUP(IF(OR(($D167+$F$6)=K$62,($C167+$D167+$F$6)=K$62,($C167*2+$D167+$F$6)=K$62,($C167*3+$D167+$F$6)=K$62,($C167*4+$D167+$F$6)=K$62,($C167*5+$D167+$F$6)=K$62,($C167*6+$D167+$F$6)=K$62,($C167*7+$D167+$F$6)=K$62,($C167*8+$D167+$F$6)=K$62),$F167*$H167*((1+$J$52)^(K$62-$F$6)),0),-2)","v":0},0,0,0,0,0,0,0,0,0,{"$f":"ROUNDUP(IF(OR(($D167+$F$6)=U$62,($C167+$D167+$F$6)=U$62,($C167*2+$D167+$F$6)=U$62,($C167*3+$D167+$F$6)=U$62,($C167*4+$D167+$F$6)=U$62,($C167*5+$D167+$F$6)=U$62,($C167*6+$D167+$F$6)=U$62,($C167*7+$D167+$F$6)=U$62,($C167*8+$D167+$F$6)=U$62),$F167*$H167*((1+$J$52)^(U$62-$F$6)),0),-2)","v":0},0,0,0,0,0,0,0,0,0,0]
["Other (Specify) ",{"$nulls":7},0,{"$f":"SUM(K168:AD168)","v":0},0,0,0,0,0,0,0,0,0,0,0,0,0,0,0,0,0,0,0,0,0]
["Other (Specify)",{"$nulls":7},0,{"$f":"SUM(K169:AD169)","v":0},0,0,0,0,0,0,0,0,0,0,0,0,0,0,0,0,0,0,0,0,0]
["Other Subtotals",{"$nulls":7},{"$f":"SUM(I163:I169)","v":0},0,0,0,0,0,0,0,0,0,0,0,0,0,0,0,0,0,0,0,0,0,0]
["GRAND TOTAL",{"$nulls":7},{"$f":"I170+I161+I144+I82+I98","v":0},{"$f":"J170+J161+J144+J121+J98+J82","v":0},0,0,0,0,0,0,0,0,0,0,0,0,0,0,0,0,0,0,0,0,0]
["(4.15) Special Categories"]
["Amount of PNA Relating to Lead Paint/Asbestos Compliance",{"$nulls":3},"Per Sq. Ft.",{"$nulls":3},{"$f":"ROUNDUP(+G173*H173,-2)","v":0}]
["Amount of PNA Relating to Section 504, ADA, and Fair Housing Act (if applicable) Compliance",{"$nulls":3},"Per Sq. Ft.",{"$nulls":3},{"$f":"ROUNDUP(+G174*H174,-2)","v":0}]
[]
["(4.16) New Construction"]
["Dwelling Units",{"$nulls":3},"Per Sq. Ft.",{"$nulls":3},{"$f":"ROUNDUP(+G177*H177,-2)","v":0}]
["Administrative Building",{"$nulls":3},"Per Sq. Ft.",{"$nulls":3},0]
["Community Building or Facility",{"$nulls":3},"Per Sq. Ft.",{"$nulls":3},0]
["Shop",{"$nulls":3},"Per Sq. Ft.",{"$nulls":3},0]
["Storage Area",{"$nulls":3},"Per Sq. Ft.",{"$nulls":3},0]
["Family Investment Center",{"$nulls":3},"Per Sq. Ft.",{"$nulls":3},0]
["Day Care Center",{"$nulls":3},"Per Sq. Ft.",{"$nulls":3},0]
["Laundry Areas(s)",{"$nulls":3},"Per Sq. Ft.",{"$nulls":3},0]
["Other (Specify) ",{"$nulls":3},"Per Sq. Ft.",{"$nulls":3},0]
["Other (Specify)",{"$nulls":3},"Per Sq. Ft.",{"$nulls":3},0]
["Other (Specify)",{"$nulls":7},0]
["New Construction Subtotals",{"$nulls":7},{"$f":"SUM(I177:I187)","v":0}]