{"text_format":"3","workbook":"xlsx","n_sheets":20,"sheets":["General Infomation","List of samples PS0720","Density","TC-AK","TC-IDMS","TG","HDL-DCM","HDL-LDL 2mL","HDL-LDL","Density Export","Export","Export TC AK","Export TC IDMS","Export TG","Export HDL_DCM","Export HDL_UC","Export LDL","Export for Old Template","Sheet2","CalPopUp"],"not_rendered":{"images":1,"macros":1,"defined_names":29},"read":"whole","date_system":"1900"}

{"sheet":"General Infomation","index":0,"n_rows":12,"n_cols":13,"rows_kept":12,"merged":[[1,1,1,2],[3,1,3,2],[4,1,4,2],[5,1,5,2]]}
[{"$nulls":12},"Unit of measure"]
[null,"CRMLN Network Survey General Information"]
[]
[null,"Please fill applicable white cells "]
[null,"Please click \"enable content\" button"]
[null,"Please submit data to cdclsp@cdc.gov"]
[]
[null,"Lab ID"]
[null,"Pool Series","PS0720",{"$nulls":9},"mg/dL"]
[null,"Submission Date (please use calendar)",{"$nulls":10},"mmol/L"]
[null,"Unit of Measure (please use drop down)","mg/dL"]
[null,"Comment"]

{"sheet":"List of samples PS0720","index":1,"n_rows":47,"n_cols":67,"rows_kept":47,"merged":[[1,1,1,12],[1,15,1,26],[1,29,1,40],[1,43,1,54],[1,57,1,68],[7,1,8,1],[7,2,8,2],[7,3,8,3],[7,6,8,12],[7,15,8,15],[7,16,8,16],[7,17,8,17],[7,20,8,26],[7,29,8,29],[7,30,8,30],[7,31,8,31],[7,34,8,40],[7,43,8,43],[7,44,8,44],[7,45,8,45],[7,48,8,52],[7,57,8,57],[7,58,8,58],[7,59,8,59],[7,62,8,66]]}
[]
[null,"CRMLN Survey: List of Samples",{"$nulls":13},"CRMLN Survey: List of Samples",{"$nulls":13},"CRMLN Survey: List of Samples",{"$nulls":13},"CRMLN Survey: List of Samples",{"$nulls":13},"CRMLN Survey: List of Samples"]
[]
[null,"Lab ID",{"$f":"'General Infomation'!$C$8","v":0},{"$nulls":12},"Lab ID",{"$f":"'General Infomation'!$C$8","v":0},{"$nulls":12},"Lab ID",{"$f":"'General Infomation'!$C$8","v":0},{"$nulls":12},"Lab ID",{"$f":"'General Infomation'!$C$8","v":0},{"$nulls":12},"Lab ID",{"$f":"'General Infomation'!$C$8","v":0}]
[null,"Survey ",{"$f":"'General Infomation'!$C$9","v":"PS0720"},{"$nulls":12},"Survey ",{"$f":"'General Infomation'!$C$9","v":"PS0720"},{"$nulls":12},"Survey ",{"$f":"'General Infomation'!$C$9","v":"PS0720"},{"$nulls":12},"Survey ",{"$f":"'General Infomation'!$C$9","v":"PS0720"},{"$nulls":12},"Survey ",{"$f":"'General Infomation'!$C$9","v":"PS0720"}]
[null,"Analyte(s)","TC TG HDL-DCM",{"$nulls":12},"Analyte(s)","TC-IDMS TG HDL-DCM",{"$nulls":12},"Analyte(s)","HDL UC ",{"$nulls":12},"Analyte(s)","HDL/LDL ",{"$nulls":12},"Analyte(s)","HDL/LDL "]
[]
[null,"Location #","Analyte","Sample Type*",{"$f":"CONCATENATE('General Infomation'!C8,\" \", 'General Infomation'!C9)","v":" PS0720"},null,{"$f":"CONCATENATE(E9,\" Box Orientation\")","v":"TC TG HDL-DCM Box Orientation"},{"$nulls":8},"Location #","Analyte","Sample Type*",{"$f":"E8","v":" PS0720"},null,{"$f":"CONCATENATE(S9,\" Box Orientation\")","v":"TC-IDMS TG HDL-DCM Box Orientation"},{"$nulls":8},"Location #","Analyte","Sample Type*",{"$f":"E8","v":" PS0720"},null,{"$f":"CONCATENATE(AG9,\" Box Orientation\")","v":"HDL UC  Box Orientation"},{"$nulls":8},"Location #","Analyte","Sample Type*",{"$f":"E8","v":" PS0720"},null,{"$f":"CONCATENATE(AU9,\" Box Orientation\")","v":"HDL/LDL  Box Orientation"},{"$nulls":8},"Location #","Analyte","Sample Type*",{"$f":"AU8","v":" PS0720"},null,{"$f":"CONCATENATE(BI9,\" Box Orientation\")","v":"HDL/LDL  Box Orientation"}]
[{"$nulls":4},{"$f":"C6","v":"TC TG HDL-DCM"},{"$nulls":13},{"$f":"Q6","v":"TC-IDMS TG HDL-DCM"},{"$nulls":13},{"$f":"AE6","v":"HDL UC "},{"$nulls":13},{"$f":"AS6","v":"HDL/LDL "},{"$nulls":13},{"$f":"BG6","v":"HDL/LDL "}]
[null,1,"TC","CS01",null,null,1,2,3,4,5,6,{"$nulls":3},1,"TC-IDMS","CS01",null,null,1,2,3,4,5,6,{"$nulls":3},1,"HDL UC","CS01",null,null,1,2,3,4,5,6,{"$nulls":3},1,{"$f":"$AU$9","v":"HDL/LDL "},"CS01",null,null,1,2,3,4,5,{"$nulls":4},1,{"$f":"$AU$9","v":"HDL/LDL "},"CS01","HDL/LDL 1",null,1,2,3,4,5]
[null,2,"TC","CS02",null,null,7,8,9,10,11,12,{"$nulls":3},2,"TC-IDMS","CS02",null,null,7,8,9,10,11,12,{"$nulls":3},2,"HDL UC","CS01",null,null,7,8,9,10,11,12,{"$nulls":3},2,{"$f":"$AS$10","v":"HDL/LDL "},"CS01",null,null,6,7,8,9,10,{"$nulls":4},2,{"$f":"$AS$10","v":"HDL/LDL "},"CS01","HDL/LDL 2",null,6,7,8,9,10]
[null,3,"TC","CS03",null,null,13,14,15,16,17,18,{"$nulls":3},3,"TC-IDMS","CS03",null,null,13,14,15,16,17,18,{"$nulls":3},3,"HDL UC","CS01",null,null,13,14,15,16,17,18,{"$nulls":3},3,"HDL/LDL ","CS01",null,null,11,12,13,14,15,{"$nulls":4},3,"HDL/LDL ","CS01","HDL/LDL 3",null,11,12,13,14,15]
[null,4,"TC","CS04",null,null,19,20,21,22,23,24,{"$nulls":3},4,"TC-IDMS","CS04",null,null,19,20,21,22,23,24,{"$nulls":3},4,"HDL UC","CS01",null,null,19,20,21,22,23,24,{"$nulls":3},4,"HDL/LDL ","CS01",null,null,16,17,18,19,20,{"$nulls":4},4,"HDL/LDL ","CS01","HDL/LDL 4",null,16,17,18]
[null,5,"TC","NS01",null,null,25,26,27,28,29,30,{"$nulls":3},5,"TC-IDMS","NS01",null,null,25,26,27,28,29,30,{"$nulls":3},5,"HDL UC","CS01",null,null,25,26,27,28,29,30,{"$nulls":3},5,"HDL/LDL ","CS02",{"$nulls":11},5,"HDL/LDL ","CS02","HDL/LDL 5"]
[null,6,"TC","NS02",null,null,31,32,33,34,35,36,{"$nulls":3},6,"TC-IDMS","NS02",null,null,31,32,33,34,35,36,{"$nulls":3},6,"HDL UC","CS01",null,null,31,32,33,34,35,36,{"$nulls":3},6,"HDL/LDL ","CS02",{"$nulls":11},6,"HDL/LDL ","CS02","HDL/LDL 6"]
[null,7,"TC","CS01",{"$nulls":11},7,"TC-IDMS","CS01",{"$nulls":11},7,"HDL UC","CS01",{"$nulls":11},7,"HDL/LDL ","CS02",{"$nulls":11},7,"HDL/LDL ","CS02","HDL/LDL 7"]
[null,8,"TC","CS02",{"$nulls":11},8,"TC-IDMS","CS02",{"$nulls":11},8,"HDL UC","CS01",{"$nulls":11},8,"HDL/LDL ","CS02",{"$nulls":11},8,"HDL/LDL ","CS02","HDL/LDL 8"]
[null,9,"TC","CS03",{"$nulls":11},9,"TC-IDMS","CS03",{"$nulls":11},9,"HDL UC","CS01",{"$nulls":11},9,"HDL/LDL ","CS03",{"$nulls":11},9,"HDL/LDL ","CS03","HDL/LDL 9"]
[null,10,"TC","CS04",{"$nulls":11},10,"TC-IDMS","CS04",{"$nulls":11},10,"HDL UC","CS01",{"$nulls":11},10,"HDL/LDL ","CS03",{"$nulls":11},10,"HDL/LDL ","CS03","HDL/LDL 10"]
[null,11,"TC","NS01",{"$nulls":11},11,"TC-IDMS","NS01",{"$nulls":11},11,"HDL UC","CS01",{"$nulls":11},11,"HDL/LDL ","CS03",{"$nulls":11},11,"HDL/LDL ","CS03","HDL/LDL 11"]
[null,12,"TC","NS02",{"$nulls":11},12,"TC-IDMS","NS02",{"$nulls":11},12,"HDL UC","CS01",{"$nulls":11},12,"HDL/LDL ","CS03",{"$nulls":11},12,"HDL/LDL ","CS03","HDL/LDL 12"]
[null,13,"TG","CS01",{"$nulls":11},13,"TG","CS01",{"$nulls":11},13,"HDL UC","NS01",{"$nulls":11},13,"HDL/LDL ","NS01",{"$nulls":11},13,"HDL/LDL ","NS01","HDL/LDL 13"]
[null,14,"TG","CS02",{"$nulls":11},14,"TG","CS02",{"$nulls":11},14,"HDL UC","NS01",{"$nulls":11},14,"HDL/LDL ","NS01",{"$nulls":11},14,"HDL/LDL ","NS01","HDL/LDL 14"]
[null,15,"TG","CS03",{"$nulls":11},15,"TG","CS03",{"$nulls":11},15,"HDL UC","NS01",{"$nulls":11},15,"HDL/LDL ","NS02",{"$nulls":11},15,"HDL/LDL ","NS01","HDL/LDL 15"]
[null,16,"TG","CS04",{"$nulls":11},16,"TG","CS04",{"$nulls":11},16,"HDL UC","NS01",{"$nulls":11},16,"HDL/LDL ","NS02",{"$nulls":11},16,"HDL/LDL ","NS01","HDL/LDL 16"]
[null,17,"TG","NS01",{"$nulls":11},17,"TG","NS01",{"$nulls":11},17,"HDL UC","NS01",{"$nulls":11},17,{"$nulls":13},17,"HDL/LDL ","NS02","HDL/LDL 17"]
[null,18,"TG","NS02",{"$nulls":11},18,"TG","NS02",{"$nulls":11},18,"HDL UC","NS01",{"$nulls":11},18,{"$nulls":13},18,"HDL/LDL ","NS02","HDL/LDL 18"]
[null,19,"TG","CS01",{"$nulls":11},19,"TG","CS01",{"$nulls":11},19,"HDL UC","NS01",{"$nulls":11},19]
[null,20,"TG","CS02",{"$nulls":11},20,"TG","CS02",{"$nulls":11},20,"HDL UC","NS01",{"$nulls":11},20,{"$nulls":13},"*CS: certification Sample, NS: Network Sample"]
[null,21,"TG","CS03",{"$nulls":11},21,"TG","CS03",{"$nulls":11},21,"HDL UC","NS01"]
[null,22,"TG","CS04",{"$nulls":11},22,"TG","CS04",{"$nulls":11},22,"HDL UC","NS01",{"$nulls":11},"*CS: certification Sample, NS: Network Sample"]
[null,23,"TG","NS01",{"$nulls":11},23,"TG","NS01",{"$nulls":11},23,"HDL UC","NS01"]
[null,24,"TG","NS02",{"$nulls":11},24,"TG","NS02",{"$nulls":11},24,"HDL UC","NS01"]
[null,25,"HDL-DCM","CS01",{"$nulls":11},25,"HDL-DCM","CS01",{"$nulls":11},25,"HDL UC","NS02"]
[null,26,"HDL-DCM","CS02",{"$nulls":11},26,"HDL-DCM","CS02",{"$nulls":11},26,"HDL UC","NS02"]
[null,27,"HDL-DCM","CS03",{"$nulls":11},27,"HDL-DCM","CS03",{"$nulls":11},27,"HDL UC","NS02"]
[null,28,"HDL-DCM","CS04",{"$nulls":11},28,"HDL-DCM","CS04",{"$nulls":11},28,"HDL UC","NS02"]
[null,29,{"$nulls":13},29,{"$nulls":13},29,"HDL UC","NS02"]
[null,30,{"$nulls":13},30,{"$nulls":13},30,"HDL UC","NS02"]
[null,31,"HDL-DCM","CS01",{"$nulls":11},31,"HDL-DCM","CS01",{"$nulls":11},31,"HDL UC","NS02"]
[null,32,"HDL-DCM","CS02",{"$nulls":11},32,"HDL-DCM","CS02",{"$nulls":11},32,"HDL UC","NS02"]
[null,33,"HDL-DCM","CS03",{"$nulls":11},33,"HDL-DCM","CS03",{"$nulls":11},33,"HDL UC","NS02"]
[null,34,"HDL-DCM","CS04",{"$nulls":11},34,"HDL-DCM","CS04",{"$nulls":11},34,"HDL UC","NS02"]
[null,35,{"$nulls":13},35,{"$nulls":13},35,"HDL UC","NS02"]
[null,36,{"$nulls":13},36,{"$nulls":13},36,"HDL UC","NS02"]
[]
[null,"*CS: certification Sample, NS: Network Sample",{"$nulls":13},"*CS: certification Sample, NS: Network Sample",{"$nulls":13},"*CS: certification Sample, NS: Network Sample"]

{"sheet":"Density","index":2,"n_rows":47,"n_cols":57,"rows_kept":47,"merged":[[0,9,1,10],[1,1,1,6],[2,9,3,10],[4,9,5,10],[7,1,8,1],[7,2,8,2],[7,3,8,3],[7,8,8,10],[7,13,8,13],[7,14,8,14],[7,15,8,15],[7,25,8,25],[7,26,8,26],[7,27,8,27],[7,37,8,37],[7,38,8,38],[7,39,8,39],[7,51,8,51],[7,52,8,52],[7,53,8,53]]}
[]
[null,"Serum Density"]
[]
[null,"Lab ID",{"$f":"'General Infomation'!$C$8","v":0},{"$nulls":10},"Lab ID",{"$f":"'General Infomation'!$C$8","v":0},{"$nulls":10},"Lab ID",{"$f":"'General Infomation'!$C$8","v":0},{"$nulls":10},"Lab ID",{"$f":"'General Infomation'!$C$8","v":0},{"$nulls":12},"Lab ID",{"$f":"'General Infomation'!$C$8","v":0}]
[null,"Survey ",{"$f":"'General Infomation'!$C$9","v":"PS0720"},{"$nulls":10},"Survey ",{"$f":"'General Infomation'!$C$9","v":"PS0720"},{"$nulls":10},"Survey ",{"$f":"'General Infomation'!$C$9","v":"PS0720"},{"$nulls":10},"Survey ",{"$f":"'General Infomation'!$C$9","v":"PS0720"},{"$nulls":12},"Survey ",{"$f":"'General Infomation'!$C$9","v":"PS0720"}]
[null,"Analyte(s)","TC TG HDL-DCM",{"$nulls":10},"Analyte(s)","TC-IDMS TG HDL-DCM",{"$nulls":10},"Analyte(s)","HDL UC ",{"$nulls":10},"Analyte(s)","HDL/LDL ",{"$nulls":12},"Analyte(s)","HDL/LDL "]
[]
[null,{"$f":"'List of samples PS0720'!B8","v":"Location #"},{"$f":"'List of samples PS0720'!C8","v":"Analyte"},{"$f":"'List of samples PS0720'!D8","v":"Sample Type*"},{"$f":"'List of samples PS0720'!E8","v":" PS0720"},{"$nulls":8},"Location #","Analyte","Sample Type*",{"$nulls":9},"Location #","Analyte","Sample Type*",{"$nulls":9},"Location #","Analyte","Sample Type*",{"$nulls":11},"Location #","Analyte","Sample Type*"]
[{"$nulls":4},{"$f":"'List of samples PS0720'!E9","v":"TC TG HDL-DCM"},"Density,  g/mL","Mesured or standard",{"$nulls":9},{"$f":"O6","v":"TC-IDMS TG HDL-DCM"},"Density,  g/mL","Mesured or standard",{"$nulls":9},{"$f":"AA6","v":"HDL UC "},"Density,  g/mL","Mesured or standard",{"$nulls":9},{"$f":"AM6","v":"HDL/LDL "},"Density,  g/mL","Mesured or standard",{"$nulls":11},{"$f":"BA6","v":"HDL/LDL "},"Density,  g/mL","Mesured or standard"]
[null,{"$f":"'List of samples PS0720'!B10","v":1},{"$f":"'List of samples PS0720'!C10","v":"TC"},{"$f":"'List of samples PS0720'!D10","v":"CS01"},{"$f":"'List of samples PS0720'!E10","v":0},{"$nulls":8},1,"TC-IDMS","CS01",{"$f":"'List of samples PS0720'!S10","v":0},{"$nulls":8},1,"HDL UC","CS01",{"$f":"'List of samples PS0720'!AG10","v":0},{"$nulls":8},1,{"$f":"$AO$9","v":"HDL/LDL "},"CS01",{"$f":"'List of samples PS0720'!AU10","v":0},{"$nulls":10},1,{"$f":"$AO$9","v":"HDL/LDL "},"CS01",{"$f":"'List of samples PS0720'!BI10","v":"HDL/LDL 1"}]
[null,{"$f":"'List of samples PS0720'!B11","v":2},{"$f":"'List of samples PS0720'!C11","v":"TC"},{"$f":"'List of samples PS0720'!D11","v":"CS02"},{"$f":"'List of samples PS0720'!E11","v":0},{"$nulls":8},2,"TC-IDMS","CS02",{"$f":"'List of samples PS0720'!S11","v":0},{"$nulls":8},2,"HDL UC","CS01",{"$f":"'List of samples PS0720'!AG11","v":0},{"$nulls":8},2,{"$f":"$AM$10","v":"HDL/LDL "},"CS01",{"$f":"'List of samples PS0720'!AU11","v":0},{"$nulls":10},2,{"$f":"$AM$10","v":"HDL/LDL "},"CS01",{"$f":"'List of samples PS0720'!BI11","v":"HDL/LDL 2"}]
[null,{"$f":"'List of samples PS0720'!B12","v":3},{"$f":"'List of samples PS0720'!C12","v":"TC"},{"$f":"'List of samples PS0720'!D12","v":"CS03"},{"$f":"'List of samples PS0720'!E12","v":0},{"$nulls":8},3,"TC-IDMS","CS03",{"$f":"'List of samples PS0720'!S12","v":0},{"$nulls":8},3,"HDL UC","CS01",{"$f":"'List of samples PS0720'!AG12","v":0},{"$nulls":8},3,"HDL/LDL ","CS01",{"$f":"'List of samples PS0720'!AU12","v":0},{"$nulls":10},3,"HDL/LDL ","CS01",{"$f":"'List of samples PS0720'!BI12","v":"HDL/LDL 3"}]
[null,{"$f":"'List of samples PS0720'!B13","v":4},{"$f":"'List of samples PS0720'!C13","v":"TC"},{"$f":"'List of samples PS0720'!D13","v":"CS04"},{"$f":"'List of samples PS0720'!E13","v":0},{"$nulls":8},4,"TC-IDMS","CS04",{"$f":"'List of samples PS0720'!S13","v":0},{"$nulls":8},4,"HDL UC","CS01",{"$f":"'List of samples PS0720'!AG13","v":0},{"$nulls":8},4,"HDL/LDL ","CS01",{"$f":"'List of samples PS0720'!AU13","v":0},{"$nulls":10},4,"HDL/LDL ","CS01",{"$f":"'List of samples PS0720'!BI13","v":"HDL/LDL 4"}]
[null,{"$f":"'List of samples PS0720'!B14","v":5},{"$f":"'List of samples PS0720'!C14","v":"TC"},{"$f":"'List of samples PS0720'!D14","v":"NS01"},{"$f":"'List of samples PS0720'!E14","v":0},{"$nulls":8},5,"TC-IDMS","NS01",{"$f":"'List of samples PS0720'!S14","v":0},{"$nulls":8},5,"HDL UC","CS01",{"$f":"'List of samples PS0720'!AG14","v":0},{"$nulls":8},5,"HDL/LDL ","CS02",{"$f":"'List of samples PS0720'!AU14","v":0},{"$nulls":10},5,"HDL/LDL ","CS02",{"$f":"'List of samples PS0720'!BI14","v":"HDL/LDL 5"}]
[null,{"$f":"'List of samples PS0720'!B15","v":6},{"$f":"'List of samples PS0720'!C15","v":"TC"},{"$f":"'List of samples PS0720'!D15","v":"NS02"},{"$f":"'List of samples PS0720'!E15","v":0},{"$nulls":8},6,"TC-IDMS","NS02",{"$f":"'List of samples PS0720'!S15","v":0},{"$nulls":8},6,"HDL UC","CS01",{"$f":"'List of samples PS0720'!AG15","v":0},{"$nulls":8},6,"HDL/LDL ","CS02",{"$f":"'List of samples PS0720'!AU15","v":0},{"$nulls":10},6,"HDL/LDL ","CS02",{"$f":"'List of samples PS0720'!BI15","v":"HDL/LDL 6"}]
[null,{"$f":"'List of samples PS0720'!B16","v":7},{"$f":"'List of samples PS0720'!C16","v":"TC"},{"$f":"'List of samples PS0720'!D16","v":"CS01"},{"$f":"'List of samples PS0720'!E16","v":0},{"$nulls":8},7,"TC-IDMS","CS01",{"$f":"'List of samples PS0720'!S16","v":0},{"$nulls":8},7,"HDL UC","CS01",{"$f":"'List of samples PS0720'!AG16","v":0},{"$nulls":8},7,"HDL/LDL ","CS02",{"$f":"'List of samples PS0720'!AU16","v":0},{"$nulls":10},7,"HDL/LDL ","CS02",{"$f":"'List of samples PS0720'!BI16","v":"HDL/LDL 7"}]
[null,{"$f":"'List of samples PS0720'!B17","v":8},{"$f":"'List of samples PS0720'!C17","v":"TC"},{"$f":"'List of samples PS0720'!D17","v":"CS02"},{"$f":"'List of samples PS0720'!E17","v":0},{"$nulls":8},8,"TC-IDMS","CS02",{"$f":"'List of samples PS0720'!S17","v":0},{"$nulls":8},8,"HDL UC","CS01",{"$f":"'List of samples PS0720'!AG17","v":0},{"$nulls":8},8,"HDL/LDL ","CS02",{"$f":"'List of samples PS0720'!AU17","v":0},{"$nulls":10},8,"HDL/LDL ","CS02",{"$f":"'List of samples PS0720'!BI17","v":"HDL/LDL 8"}]
[null,{"$f":"'List of samples PS0720'!B18","v":9},{"$f":"'List of samples PS0720'!C18","v":"TC"},{"$f":"'List of samples PS0720'!D18","v":"CS03"},{"$f":"'List of samples PS0720'!E18","v":0},{"$nulls":8},9,"TC-IDMS","CS03",{"$f":"'List of samples PS0720'!S18","v":0},{"$nulls":8},9,"HDL UC","CS01",{"$f":"'List of samples PS0720'!AG18","v":0},{"$nulls":8},9,"HDL/LDL ","CS03",{"$f":"'List of samples PS0720'!AU18","v":0},{"$nulls":10},9,"HDL/LDL ","CS03",{"$f":"'List of samples PS0720'!BI18","v":"HDL/LDL 9"}]
[null,{"$f":"'List of samples PS0720'!B19","v":10},{"$f":"'List of samples PS0720'!C19","v":"TC"},{"$f":"'List of samples PS0720'!D19","v":"CS04"},{"$f":"'List of samples PS0720'!E19","v":0},{"$nulls":8},10,"TC-IDMS","CS04",{"$f":"'List of samples PS0720'!S19","v":0},{"$nulls":8},10,"HDL UC","CS01",{"$f":"'List of samples PS0720'!AG19","v":0},{"$nulls":8},10,"HDL/LDL ","CS03",{"$f":"'List of samples PS0720'!AU19","v":0},{"$nulls":10},10,"HDL/LDL ","CS03",{"$f":"'List of samples PS0720'!BI19","v":"HDL/LDL 10"}]
[null,{"$f":"'List of samples PS0720'!B20","v":11},{"$f":"'List of samples PS0720'!C20","v":"TC"},{"$f":"'List of samples PS0720'!D20","v":"NS01"},{"$f":"'List of samples PS0720'!E20","v":0},{"$nulls":4},"Measured",{"$nulls":3},11,"TC-IDMS","NS01",{"$f":"'List of samples PS0720'!S20","v":0},{"$nulls":8},11,"HDL UC","CS01",{"$f":"'List of samples PS0720'!AG20","v":0},{"$nulls":8},11,"HDL/LDL ","CS03",{"$f":"'List of samples PS0720'!AU20","v":0},{"$nulls":10},11,"HDL/LDL ","CS03",{"$f":"'List of samples PS0720'!BI20","v":"HDL/LDL 11"}]
[null,{"$f":"'List of samples PS0720'!B21","v":12},{"$f":"'List of samples PS0720'!C21","v":"TC"},{"$f":"'List of samples PS0720'!D21","v":"NS02"},{"$f":"'List of samples PS0720'!E21","v":0},{"$nulls":4},"Standard",{"$nulls":3},12,"TC-IDMS","NS02",{"$f":"'List of samples PS0720'!S21","v":0},{"$nulls":8},12,"HDL UC","CS01",{"$f":"'List of samples PS0720'!AG21","v":0},{"$nulls":8},12,"HDL/LDL ","CS03",{"$f":"'List of samples PS0720'!AU21","v":0},{"$nulls":10},12,"HDL/LDL ","CS03",{"$f":"'List of samples PS0720'!BI21","v":"HDL/LDL 12"}]
[null,{"$f":"'List of samples PS0720'!B22","v":13},{"$f":"'List of samples PS0720'!C22","v":"TG"},{"$f":"'List of samples PS0720'!D22","v":"CS01"},{"$f":"'List of samples PS0720'!E22","v":0},{"$nulls":8},13,"TG","CS01",{"$f":"'List of samples PS0720'!S22","v":0},{"$nulls":8},13,"HDL UC","NS01",{"$f":"'List of samples PS0720'!AG22","v":0},{"$nulls":8},13,"HDL/LDL ","NS01",{"$f":"'List of samples PS0720'!AU22","v":0},{"$nulls":10},13,"HDL/LDL ","NS01",{"$f":"'List of samples PS0720'!BI22","v":"HDL/LDL 13"}]
[null,{"$f":"'List of samples PS0720'!B23","v":14},{"$f":"'List of samples PS0720'!C23","v":"TG"},{"$f":"'List of samples PS0720'!D23","v":"CS02"},{"$f":"'List of samples PS0720'!E23","v":0},{"$nulls":8},14,"TG","CS02",{"$f":"'List of samples PS0720'!S23","v":0},{"$nulls":8},14,"HDL UC","NS01",{"$f":"'List of samples PS0720'!AG23","v":0},{"$nulls":8},14,"HDL/LDL ","NS01",{"$f":"'List of samples PS0720'!AU23","v":0},{"$nulls":10},14,"HDL/LDL ","NS01",{"$f":"'List of samples PS0720'!BI23","v":"HDL/LDL 14"}]
[null,{"$f":"'List of samples PS0720'!B24","v":15},{"$f":"'List of samples PS0720'!C24","v":"TG"},{"$f":"'List of samples PS0720'!D24","v":"CS03"},{"$f":"'List of samples PS0720'!E24","v":0},{"$nulls":8},15,"TG","CS03",{"$f":"'List of samples PS0720'!S24","v":0},{"$nulls":8},15,"HDL UC","NS01",{"$f":"'List of samples PS0720'!AG24","v":0},{"$nulls":8},15,"HDL/LDL ","NS02",{"$f":"'List of samples PS0720'!AU24","v":0},{"$nulls":10},15,"HDL/LDL ","NS01",{"$f":"'List of samples PS0720'!BI24","v":"HDL/LDL 15"}]
[null,{"$f":"'List of samples PS0720'!B25","v":16},{"$f":"'List of samples PS0720'!C25","v":"TG"},{"$f":"'List of samples PS0720'!D25","v":"CS04"},{"$f":"'List of samples PS0720'!E25","v":0},{"$nulls":8},16,"TG","CS04",{"$f":"'List of samples PS0720'!S25","v":0},{"$nulls":8},16,"HDL UC","NS01",{"$f":"'List of samples PS0720'!AG25","v":0},{"$nulls":8},16,"HDL/LDL ","NS02",{"$f":"'List of samples PS0720'!AU25","v":0},{"$nulls":10},16,"HDL/LDL ","NS01",{"$f":"'List of samples PS0720'!BI25","v":"HDL/LDL 16"}]
[null,{"$f":"'List of samples PS0720'!B26","v":17},{"$f":"'List of samples PS0720'!C26","v":"TG"},{"$f":"'List of samples PS0720'!D26","v":"NS01"},{"$f":"'List of samples PS0720'!E26","v":0},{"$nulls":8},17,"TG","NS01",{"$f":"'List of samples PS0720'!S26","v":0},{"$nulls":8},17,"HDL UC","NS01",{"$f":"'List of samples PS0720'!AG26","v":0},{"$nulls":8},17,{"$nulls":13},17,"HDL/LDL ","NS02",{"$f":"'List of samples PS0720'!BI26","v":"HDL/LDL 17"}]
[null,{"$f":"'List of samples PS0720'!B27","v":18},{"$f":"'List of samples PS0720'!C27","v":"TG"},{"$f":"'List of samples PS0720'!D27","v":"NS02"},{"$f":"'List of samples PS0720'!E27","v":0},{"$nulls":8},18,"TG","NS02",{"$f":"'List of samples PS0720'!S27","v":0},{"$nulls":8},18,"HDL UC","NS01",{"$f":"'List of samples PS0720'!AG27","v":0},{"$nulls":8},18,{"$nulls":13},18,"HDL/LDL ","NS02",{"$f":"'List of samples PS0720'!BI27","v":"HDL/LDL 18"}]
[null,{"$f":"'List of samples PS0720'!B28","v":19},{"$f":"'List of samples PS0720'!C28","v":"TG"},{"$f":"'List of samples PS0720'!D28","v":"CS01"},{"$f":"'List of samples PS0720'!E28","v":0},{"$nulls":8},19,"TG","CS01",{"$f":"'List of samples PS0720'!S28","v":0},{"$nulls":8},19,"HDL UC","NS01",{"$f":"'List of samples PS0720'!AG28","v":0},{"$nulls":8},19]
[null,{"$f":"'List of samples PS0720'!B29","v":20},{"$f":"'List of samples PS0720'!C29","v":"TG"},{"$f":"'List of samples PS0720'!D29","v":"CS02"},{"$f":"'List of samples PS0720'!E29","v":0},{"$nulls":8},20,"TG","CS02",{"$f":"'List of samples PS0720'!S29","v":0},{"$nulls":8},20,"HDL UC","NS01",{"$f":"'List of samples PS0720'!AG29","v":0},{"$nulls":8},20,{"$nulls":13},"*CS: certification Sample, NS: Network Sample"]
[null,{"$f":"'List of samples PS0720'!B30","v":21},{"$f":"'List of samples PS0720'!C30","v":"TG"},{"$f":"'List of samples PS0720'!D30","v":"CS03"},{"$f":"'List of samples PS0720'!E30","v":0},{"$nulls":8},21,"TG","CS03",{"$f":"'List of samples PS0720'!S30","v":0},{"$nulls":8},21,"HDL UC","NS01",{"$f":"'List of samples PS0720'!AG30","v":0}]
[null,{"$f":"'List of samples PS0720'!B31","v":22},{"$f":"'List of samples PS0720'!C31","v":"TG"},{"$f":"'List of samples PS0720'!D31","v":"CS04"},{"$f":"'List of samples PS0720'!E31","v":0},{"$nulls":8},22,"TG","CS04",{"$f":"'List of samples PS0720'!S31","v":0},{"$nulls":8},22,"HDL UC","NS01",{"$f":"'List of samples PS0720'!AG31","v":0},{"$nulls":8},"*CS: certification Sample, NS: Network Sample"]
[null,{"$f":"'List of samples PS0720'!B32","v":23},{"$f":"'List of samples PS0720'!C32","v":"TG"},{"$f":"'List of samples PS0720'!D32","v":"NS01"},{"$f":"'List of samples PS0720'!E32","v":0},{"$nulls":8},23,"TG","NS01",{"$f":"'List of samples PS0720'!S32","v":0},{"$nulls":8},23,"HDL UC","NS01",{"$f":"'List of samples PS0720'!AG32","v":0}]
[null,{"$f":"'List of samples PS0720'!B33","v":24},{"$f":"'List of samples PS0720'!C33","v":"TG"},{"$f":"'List of samples PS0720'!D33","v":"NS02"},{"$f":"'List of samples PS0720'!E33","v":0},{"$nulls":8},24,"TG","NS02",{"$f":"'List of samples PS0720'!S33","v":0},{"$nulls":8},24,"HDL UC","NS01",{"$f":"'List of samples PS0720'!AG33","v":0}]
[null,{"$f":"'List of samples PS0720'!B34","v":25},{"$f":"'List of samples PS0720'!C34","v":"HDL-DCM"},{"$f":"'List of samples PS0720'!D34","v":"CS01"},{"$f":"'List of samples PS0720'!E34","v":0},{"$nulls":8},25,"HDL-DCM","CS01",{"$f":"'List of samples PS0720'!S34","v":0},{"$nulls":8},25,"HDL UC","NS02",{"$f":"'List of samples PS0720'!AG34","v":0}]
[null,{"$f":"'List of samples PS0720'!B35","v":26},{"$f":"'List of samples PS0720'!C35","v":"HDL-DCM"},{"$f":"'List of samples PS0720'!D35","v":"CS02"},{"$f":"'List of samples PS0720'!E35","v":0},{"$nulls":8},26,"HDL-DCM","CS02",{"$f":"'List of samples PS0720'!S35","v":0},{"$nulls":8},26,"HDL UC","NS02",{"$f":"'List of samples PS0720'!AG35","v":0}]
[null,{"$f":"'List of samples PS0720'!B36","v":27},{"$f":"'List of samples PS0720'!C36","v":"HDL-DCM"},{"$f":"'List of samples PS0720'!D36","v":"CS03"},{"$f":"'List of samples PS0720'!E36","v":0},{"$nulls":8},27,"HDL-DCM","CS03",{"$f":"'List of samples PS0720'!S36","v":0},{"$nulls":8},27,"HDL UC","NS02",{"$f":"'List of samples PS0720'!AG36","v":0}]
[null,{"$f":"'List of samples PS0720'!B37","v":28},{"$f":"'List of samples PS0720'!C37","v":"HDL-DCM"},{"$f":"'List of samples PS0720'!D37","v":"CS04"},{"$f":"'List of samples PS0720'!E37","v":0},{"$nulls":8},28,"HDL-DCM","CS04",{"$f":"'List of samples PS0720'!S37","v":0},{"$nulls":8},28,"HDL UC","NS02",{"$f":"'List of samples PS0720'!AG37","v":0}]
[null,{"$f":"'List of samples PS0720'!B38","v":29},{"$f":"'List of samples PS0720'!C38","v":0},{"$f":"'List of samples PS0720'!D38","v":0},{"$f":"'List of samples PS0720'!E38","v":0},{"$nulls":8},29,null,null,{"$f":"'List of samples PS0720'!S38","v":0},{"$nulls":8},29,"HDL UC","NS02",{"$f":"'List of samples PS0720'!AG38","v":0}]
[null,{"$f":"'List of samples PS0720'!B39","v":30},{"$f":"'List of samples PS0720'!C39","v":0},{"$f":"'List of samples PS0720'!D39","v":0},{"$f":"'List of samples PS0720'!E39","v":0},{"$nulls":8},30,null,null,{"$f":"'List of samples PS0720'!S39","v":0},{"$nulls":8},30,"HDL UC","NS02",{"$f":"'List of samples PS0720'!AG39","v":0}]
[null,{"$f":"'List of samples PS0720'!B40","v":31},{"$f":"'List of samples PS0720'!C40","v":"HDL-DCM"},{"$f":"'List of samples PS0720'!D40","v":"CS01"},{"$f":"'List of samples PS0720'!E40","v":0},{"$nulls":8},31,"HDL-DCM","CS01",{"$f":"'List of samples PS0720'!S40","v":0},{"$nulls":8},31,"HDL UC","NS02",{"$f":"'List of samples PS0720'!AG40","v":0}]
[null,{"$f":"'List of samples PS0720'!B41","v":32},{"$f":"'List of samples PS0720'!C41","v":"HDL-DCM"},{"$f":"'List of samples PS0720'!D41","v":"CS02"},{"$f":"'List of samples PS0720'!E41","v":0},{"$nulls":8},32,"HDL-DCM","CS02",{"$f":"'List of samples PS0720'!S41","v":0},{"$nulls":8},32,"HDL UC","NS02",{"$f":"'List of samples PS0720'!AG41","v":0}]
[null,{"$f":"'List of samples PS0720'!B42","v":33},{"$f":"'List of samples PS0720'!C42","v":"HDL-DCM"},{"$f":"'List of samples PS0720'!D42","v":"CS03"},{"$f":"'List of samples PS0720'!E42","v":0},{"$nulls":8},33,"HDL-DCM","CS03",{"$f":"'List of samples PS0720'!S42","v":0},{"$nulls":8},33,"HDL UC","NS02",{"$f":"'List of samples PS0720'!AG42","v":0}]
[null,{"$f":"'List of samples PS0720'!B43","v":34},{"$f":"'List of samples PS0720'!C43","v":"HDL-DCM"},{"$f":"'List of samples PS0720'!D43","v":"CS04"},{"$f":"'List of samples PS0720'!E43","v":0},{"$nulls":8},34,"HDL-DCM","CS04",{"$f":"'List of samples PS0720'!S43","v":0},{"$nulls":8},34,"HDL UC","NS02",{"$f":"'List of samples PS0720'!AG43","v":0}]
[null,{"$f":"'List of samples PS0720'!B44","v":35},{"$f":"'List of samples PS0720'!C44","v":0},{"$f":"'List of samples PS0720'!D44","v":0},{"$f":"'List of samples PS0720'!E44","v":0},{"$nulls":8},35,null,null,{"$f":"'List of samples PS0720'!S44","v":0},{"$nulls":8},35,"HDL UC","NS02",{"$f":"'List of samples PS0720'!AG44","v":0}]
[null,{"$f":"'List of samples PS0720'!B45","v":36},{"$f":"'List of samples PS0720'!C45","v":0},{"$f":"'List of samples PS0720'!D45","v":0},{"$f":"'List of samples PS0720'!E45","v":0},{"$nulls":8},36,null,null,{"$f":"'List of samples PS0720'!S45","v":0},{"$nulls":8},36,"HDL UC","NS02",{"$f":"'List of samples PS0720'!AG45","v":0}]
[]
[null,"*CS: certification Sample, NS: Network Sample",{"$nulls":11},"*CS: certification Sample, NS: Network Sample",{"$nulls":11},"*CS: certification Sample, NS: Network Sample"]

{"sheet":"TC-AK","index":3,"n_rows":34,"n_cols":6,"rows_kept":34,"merged":[[1,1,1,5],[3,4,6,5],[9,1,9,2],[13,1,16,1],[17,1,18,1],[21,1,21,2],[25,1,28,1],[29,1,30,1],[34,1,34,5]]}
[]
[null,"CRMLN Network Survey Total Cholesterol Abell-Kendal Data Submission"]
[]
[null,"Analyte","TC-AK",null,"Please fill applicable white cells "]
[null,"Lab ID",{"$f":"'General Infomation'!C8","v":0}]
[null,"Pool Series",{"$f":"'General Infomation'!C9","v":"PS0720"}]
[null,"Unit of Measure",{"$f":"'General Infomation'!C11","v":"mg/dL"}]
[]
[]
[null,"Day 1"]
[null,"Run date","mm/dd/yyyy"]
[]
[null,"Sample Type","Sample #","Sample ID",{"$f":"\"Rep 1 (\"& C7 &\")\"","v":"Rep 1 (mg/dL)"},{"$f":"\"Rep 2 (\"& C7 &\")\"","v":"Rep 2 (mg/dL)"}]
[null,"Certification Samples","CS01",{"$f":"'List of samples PS0720'!E10","v":0}]
[null,null,"CS02",{"$f":"'List of samples PS0720'!E11","v":0}]
[null,null,"CS03",{"$f":"'List of samples PS0720'!E12","v":0}]
[null,null,"CS04",{"$f":"'List of samples PS0720'!E13","v":0}]
[null,"Network Samples","NS01",{"$f":"'List of samples PS0720'!E14","v":0}]
[null,null,"NS02",{"$f":"'List of samples PS0720'!E15","v":0}]
[]
[]
[null,"Day 2"]
[null,"Run date","mm/dd/yyyy"]
[]
[null,"Sample Type","Sample #","Sample ID",{"$f":"E13","v":"Rep 1 (mg/dL)"},{"$f":"F13","v":"Rep 2 (mg/dL)"}]
[null,"Certification Samples","CS01",{"$f":"'List of samples PS0720'!E16","v":0}]
[null,null,"CS02",{"$f":"'List of samples PS0720'!E17","v":0}]
[null,null,"CS03",{"$f":"'List of samples PS0720'!E18","v":0}]
[null,null,"CS04",{"$f":"'List of samples PS0720'!E19","v":0}]
[null,"Network Samples","NS01",{"$f":"'List of samples PS0720'!E20","v":0}]
[null,null,"NS02",{"$f":"'List of samples PS0720'!E21","v":0}]
[]
[]
[null,"Comment"]

{"sheet":"TC-IDMS","index":4,"n_rows":34,"n_cols":6,"rows_kept":34,"merged":[[1,1,1,5],[3,4,6,5],[9,1,9,2],[13,1,16,1],[17,1,18,1],[21,1,21,2],[25,1,28,1],[29,1,30,1],[34,1,34,5]]}
[]
[null,"CRMLN Network Survey Total Cholesterol IDMS Data Submission"]
[]
[null,"Analyte","TC-IDMS",null,"Please fill applicable white cells "]
[null,"Lab ID",{"$f":"'General Infomation'!C8","v":0}]
[null,"Pool Series",{"$f":"'General Infomation'!C9","v":"PS0720"}]
[null,"Unit of Measure",{"$f":"'General Infomation'!C11","v":"mg/dL"}]
[]
[]
[null,"Day 1"]
[null,"Run date","mm/dd/yyyy"]
[]
[null,"Sample Type","Sample #","Sample ID",{"$f":"\"Rep 1 (\"& C7 &\")\"","v":"Rep 1 (mg/dL)"},{"$f":"\"Rep 2 (\"& C7 &\")\"","v":"Rep 2 (mg/dL)"}]
[null,"Certification Samples","CS01",{"$f":"'List of samples PS0720'!S10","v":0}]
[null,null,"CS02",{"$f":"'List of samples PS0720'!S11","v":0}]
[null,null,"CS03",{"$f":"'List of samples PS0720'!S12","v":0}]
[null,null,"CS04",{"$f":"'List of samples PS0720'!S13","v":0}]
[null,"Network Samples","NS01",{"$f":"'List of samples PS0720'!S14","v":0}]
[null,null,"NS02",{"$f":"'List of samples PS0720'!S15","v":0}]
[]
[]
[null,"Day 2"]
[null,"Run date","mm/dd/yyyy"]
[]
[null,"Sample Type","Sample #","Sample ID",{"$f":"E13","v":"Rep 1 (mg/dL)"},{"$f":"F13","v":"Rep 2 (mg/dL)"}]
[null,"Certification Samples","CS01",{"$f":"'List of samples PS0720'!S16","v":0}]
[null,null,"CS02",{"$f":"'List of samples PS0720'!S17","v":0}]
[null,null,"CS03",{"$f":"'List of samples PS0720'!S18","v":0}]
[null,null,"CS04",{"$f":"'List of samples PS0720'!S19","v":0}]
[null,"Network Samples","NS01",{"$f":"'List of samples PS0720'!S20","v":0}]
[null,null,"NS02",{"$f":"'List of samples PS0720'!S21","v":0}]
[]
[]
[null,"Comment"]

{"sheet":"TG","index":5,"n_rows":34,"n_cols":10,"rows_kept":34,"merged":[[1,1,1,9],[3,4,5,9],[9,1,9,2],[13,1,16,1],[17,1,18,1],[21,1,21,2],[25,1,28,1],[29,1,30,1],[34,1,34,9]]}
[]
[null,"CRMLN Network Survey Total Glycerol Data Submission"]
[]
[null,"Analyte","TG",null,"Please fill applicable white cells "]
[null,"Lab ID",{"$f":"'General Infomation'!C8","v":0}]
[null,"Pool Series",{"$f":"'General Infomation'!C9","v":"PS0720"}]
[null,"Unit of Measure",{"$f":"'General Infomation'!C11","v":"mg/dL"}]
[]
[]
[null,"Day 1"]
[null,"Run date","mm/dd/yyyy",null,"TG: Total Glycerides",null,"FG: Free Glycerol",null,"NG: Net Glycerides"]
[]
[null,"Sample Type","Sample #","Sample ID",{"$f":"\"TG Rep 1 (\"& $C$7 &\")\"","v":"TG Rep 1 (mg/dL)"},{"$f":"\"TG Rep 2 (\"& $C$7 &\")\"","v":"TG Rep 2 (mg/dL)"},{"$f":"\"FG Rep 2 (\"& $C$7 &\")\"","v":"FG Rep 2 (mg/dL)"},{"$f":"\"FG Rep 2 (\"& $C$7 &\")\"","v":"FG Rep 2 (mg/dL)"},{"$f":"\"NG Rep 2 (\"& $C$7 &\")\"","v":"NG Rep 2 (mg/dL)"},{"$f":"\"NG Rep 2 (\"& $C$7 &\")\"","v":"NG Rep 2 (mg/dL)"}]
[null,"Certification Samples","CS01",{"$f":"'List of samples PS0720'!E22","v":0}]
[null,null,"CS02",{"$f":"'List of samples PS0720'!E23","v":0}]
[null,null,"CS03",{"$f":"'List of samples PS0720'!E24","v":0}]
[null,null,"CS04",{"$f":"'List of samples PS0720'!E25","v":0}]
[null,"Network Samples","NS01",{"$f":"'List of samples PS0720'!E26","v":0}]
[null,null,"NS02",{"$f":"'List of samples PS0720'!E27","v":0}]
[]
[]
[null,"Day 2"]
[null,"Run date","mm/dd/yyyy",null,"TG: Total Glycerides",null,"FG: Free Glycerol",null,"NG: Net Glycerides"]
[]
[null,"Sample Type","Sample #","Sample ID",{"$f":"E13","v":"TG Rep 1 (mg/dL)"},"TG Rep 2 (mg/dL)","FG Rep 2 (mg/dL)","FG Rep 2 (mg/dL)","NG Rep 2 (mg/dL)","NG Rep 2 (mg/dL)"]
[null,"Certification Samples","CS01",{"$f":"'List of samples PS0720'!E28","v":0}]
[null,null,"CS02",{"$f":"'List of samples PS0720'!E29","v":0}]
[null,null,"CS03",{"$f":"'List of samples PS0720'!E30","v":0}]
[null,null,"CS04",{"$f":"'List of samples PS0720'!E31","v":0}]
[null,"Network Samples","NS01",{"$f":"'List of samples PS0720'!E32","v":0}]
[null,null,"NS02",{"$f":"'List of samples PS0720'!E33","v":0}]
[]
[]
[null,"Comment"]

{"sheet":"HDL-DCM","index":6,"n_rows":28,"n_cols":6,"rows_kept":28,"merged":[[1,1,1,5],[3,4,6,5],[9,1,9,2],[13,1,16,1],[18,1,18,2],[22,1,25,1],[28,1,28,5]]}
[]
[null,"CRMLN Network Survey HDL-DCM Data Submission"]
[]
[null,"Analyte","HDL-DCM",null,"Please fill applicable white cells "]
[null,"Lab ID",{"$f":"'General Infomation'!C8","v":0}]
[null,"Pool Series",{"$f":"'General Infomation'!C9","v":"PS0720"}]
[null,"Unit of Measure",{"$f":"'General Infomation'!C11","v":"mg/dL"}]
[]
[]
[null,"Day 1"]
[null,"Run date","mm/dd/yyyy"]
[]
[null,"Sample Type","Sample #","Sample ID",{"$f":"\"Rep 1 (\"& C7 &\")\"","v":"Rep 1 (mg/dL)"},{"$f":"\"Rep 2 (\"& C7 &\")\"","v":"Rep 2 (mg/dL)"}]
[null,"Certification Samples","CS01",{"$f":"'List of samples PS0720'!E34","v":0}]
[null,null,"CS02",{"$f":"'List of samples PS0720'!E35","v":0}]
[null,null,"CS03",{"$f":"'List of samples PS0720'!E36","v":0}]
[null,null,"CS04",{"$f":"'List of samples PS0720'!E37","v":0}]
[]
[null,"Day 2"]
[null,"Run date","mm/dd/yyyy"]
[]
[null,"Sample Type","Sample #","Sample ID",{"$f":"E13","v":"Rep 1 (mg/dL)"},{"$f":"F13","v":"Rep 2 (mg/dL)"}]
[null,"Certification Samples","CS01",{"$f":"'List of samples PS0720'!E40","v":0}]
[null,null,"CS02",{"$f":"'List of samples PS0720'!E41","v":0}]
[null,null,"CS03",{"$f":"'List of samples PS0720'!E42","v":0}]
[null,null,"CS04",{"$f":"'List of samples PS0720'!E43","v":0}]
[]
[null,"Comment"]

{"sheet":"HDL-LDL 2mL","index":7,"n_rows":33,"n_cols":13,"rows_kept":33,"hidden":true,"merged":[[1,1,1,12],[3,4,6,12],[9,1,9,2],[12,4,12,6],[13,1,14,1],[15,1,18,1],[20,1,20,2],[23,4,23,6],[24,1,25,1],[26,1,29,1],[33,1,33,8]]}
[]
[null,"CRMLN Network Survey HDL/LDL Data Submission (2 mL vials)"]
[]
[null,"Analyte","HDL/LDL",null,"Please fill applicable white cells \nPlease use drop down for Sample IDs"]
[null,"Lab ID",{"$f":"'General Infomation'!C8","v":0}]
[null,"Pool Series",{"$f":"'General Infomation'!C9","v":"PS0720"}]
[null,"Unit of Measure",{"$f":"'General Infomation'!C11","v":"mg/dL"}]
[]
[]
[null,"Day 1"]
[null,"Run date","mm/dd/yyyy"]
[]
[null,"Sample Type","Sample #","Prep","Sample ID (Please use drop down for Sample IDs)",null,null,{"$f":"\"BF Rep 1 (\"& $C$7 &\")\"","v":"BF Rep 1 (mg/dL)"},{"$f":"\"BF Rep 2 (\"& $C$7 &\")\"","v":"BF Rep 2 (mg/dL)"},{"$f":"\"HDL Rep 1 (\"& $C$7 &\")\"","v":"HDL Rep 1 (mg/dL)"},{"$f":"\"HDL Rep 2 (\"& $C$7 &\")\"","v":"HDL Rep 2 (mg/dL)"},{"$f":"\"LDL Rep 1 (\"& $C$7 &\")\"","v":"LDL Rep 1 (mg/dL)"},{"$f":"\"LDL Rep 2 (\"& $C$7 &\")\"","v":"LDL Rep 2 (mg/dL)"}]
[null,"Certification Samples","CS01",1]
[null,null,"CS01",2]
[null,"Network Samples","NS01",1]
[null,null,"NS01",2]
[null,null,"NS02",1]
[null,null,"NS02",2]
[]
[null,"Day 2"]
[null,"Run date","mm/dd/yyyy"]
[]
[null,"Sample Type","Sample #","Prep","Sample ID (Please use drop down for Sample IDs)",null,null,{"$f":"\"BF Rep 1 (\"& $C$7 &\")\"","v":"BF Rep 1 (mg/dL)"},{"$f":"\"BF Rep 2 (\"& $C$7 &\")\"","v":"BF Rep 2 (mg/dL)"},{"$f":"\"HDL Rep 1 (\"& $C$7 &\")\"","v":"HDL Rep 1 (mg/dL)"},{"$f":"\"HDL Rep 2 (\"& $C$7 &\")\"","v":"HDL Rep 2 (mg/dL)"},{"$f":"\"LDL Rep 1 (\"& $C$7 &\")\"","v":"LDL Rep 1 (mg/dL)"},{"$f":"\"LDL Rep 2 (\"& $C$7 &\")\"","v":"LDL Rep 2 (mg/dL)"}]
[null,"Certification Samples","CS01",1]
[null,null,"CS01",2]
[null,"Network Samples","NS01",1]
[null,null,"NS01",2]
[null,null,"NS02",1]
[null,null,"NS02",2]
[]
[]
[null,"Comment"]

{"sheet":"HDL-LDL","index":8,"n_rows":42,"n_cols":13,"rows_kept":42,"merged":[[1,1,1,12],[3,4,6,12],[9,1,9,2],[12,4,12,6],[13,1,18,1],[19,1,22,1],[25,1,25,2],[28,4,28,6],[29,1,34,1],[35,1,38,1],[42,1,42,12]]}
[]
[null,"CRMLN Network Survey HDL/LDL Data Submission (5 mL vials)"]
[]
[null,"Analyte","HDL/LDL",null,"Please fill applicable white cells\nPlease use drop down for Sample IDs"]
[null,"Lab ID",{"$f":"'General Infomation'!C8","v":0}]
[null,"Pool Series",{"$f":"'General Infomation'!C9","v":"PS0720"}]
[null,"Unit of Measure",{"$f":"'General Infomation'!C11","v":"mg/dL"}]
[]
[]
[null,"Day 1"]
[null,"Run date","mm/dd/yyyy"]
[]
[null,"Sample Type","Vial #","Prep","Sample ID (Please use drop down for Sample IDs)",null,null,{"$f":"\"BF Rep 1 (\"& $C$7 &\")\"","v":"BF Rep 1 (mg/dL)"},{"$f":"\"BF Rep 2 (\"& $C$7 &\")\"","v":"BF Rep 2 (mg/dL)"},{"$f":"\"HDL Rep 1 (\"& $C$7 &\")\"","v":"HDL Rep 1 (mg/dL)"},{"$f":"\"HDL Rep 2 (\"& $C$7 &\")\"","v":"HDL Rep 2 (mg/dL)"},{"$f":"\"LDL Rep 1 (\"& $C$7 &\")\"","v":"LDL Rep 1 (mg/dL)"},{"$f":"\"LDL Rep 2 (\"& $C$7 &\")\"","v":"LDL Rep 2 (mg/dL)"}]
[null,"Certification Samples","CS01",1]
[null,null,"CS01",2]
[null,null,"CS02",1]
[null,null,"CS02",2]
[null,null,"CS03",1]
[null,null,"CS03",2]
[null,"Network Samples","NS01",1]
[null,null,"NS01",2]
[null,null,"NS02",1]
[null,null,"NS02",2]
[]
[]
[null,"Day 2"]
[null,"Run date","mm/dd/yyyy"]
[]
[null,"Sample Type","Vial #","Prep","Sample ID (Please use drop down for Sample IDs)",null,null,{"$f":"H13","v":"BF Rep 1 (mg/dL)"},"BF Rep 2 (mg/dL)","HDL Rep 1 (mg/dL)","HDL Rep 2 (mg/dL)","LDL Rep 1 (mg/dL)","LDL Rep 2 (mg/dL)"]
[null,"Certification Samples","CS01",1]
[null,null,"CS01",2]
[null,null,"CS02",1]
[null,null,"CS02",2]
[null,null,"CS03",1]
[null,null,"CS03",2]
[null,"Network Samples","NS01",1]
[null,null,"NS01",2]
[null,null,"NS02",1]
[null,null,"NS02",2]
[]
[]
[null,"Comment"]

{"sheet":"Density Export","index":9,"n_rows":0,"n_cols":0,"rows_kept":0,"hidden":true}

{"sheet":"Export","index":10,"n_rows":104,"n_cols":16,"rows_kept":104,"hidden":true}
["SubmissionKey","SampleID","RunDate","Day","Rep","Value","Unit","Pool Series","Year","Survey#","Analyte","LabID","ShipMonth","ShipYear","Quarter","Comments"]
[{"$f":"'General Infomation'!$C$8&'General Infomation'!$C$9","v":"PS0720"},{"$f":"'TC-AK'!$D$14","v":0},{"$f":"'TC-AK'!$C$11","v":"mm/dd/yyyy"},1,1,{"$f":"'TC-AK'!$E$14","v":0},{"$f":"'TC-AK'!$C$7","v":"mg/dL"},{"$f":"'TC-AK'!$C$6","v":"PS0720"},{"$f":"YEAR(C2)","v":{"$error":"#VALUE!"}},null,{"$f":"'TC-AK'!$C$4","v":"TC-AK"},{"$f":"'TC-AK'!$C$5","v":0},{"$nulls":3},{"$f":"'TC-AK'!$B$35","v":0}]
[{"$f":"'General Infomation'!$C$8&'General Infomation'!$C$9","v":"PS0720"},{"$f":"'TC-AK'!$D$14","v":0},{"$f":"'TC-AK'!$C$11","v":"mm/dd/yyyy"},1,2,{"$f":"'TC-AK'!$F$14","v":0},{"$f":"'TC-AK'!$C$7","v":"mg/dL"},{"$f":"'TC-AK'!$C$6","v":"PS0720"},{"$f":"YEAR(C3)","v":{"$error":"#VALUE!"}},null,{"$f":"'TC-AK'!$C$4","v":"TC-AK"},{"$f":"'TC-AK'!$C$5","v":0},{"$nulls":3},{"$f":"'TC-AK'!$B$35","v":0}]
[{"$f":"'General Infomation'!$C$8&'General Infomation'!$C$9","v":"PS0720"},{"$f":"'TC-AK'!$D$26","v":0},{"$f":"'TC-AK'!$C$23","v":"mm/dd/yyyy"},2,1,{"$f":"'TC-AK'!$E$26","v":0},{"$f":"'TC-AK'!$C$7","v":"mg/dL"},{"$f":"'TC-AK'!$C$6","v":"PS0720"},{"$error":"#VALUE!"},null,{"$f":"'TC-AK'!$C$4","v":"TC-AK"},{"$f":"'TC-AK'!$C$5","v":0},{"$nulls":3},{"$f":"'TC-AK'!$B$35","v":0}]
[{"$f":"'General Infomation'!$C$8&'General Infomation'!$C$9","v":"PS0720"},{"$f":"'TC-AK'!$D$26","v":0},{"$f":"'TC-AK'!$C$23","v":"mm/dd/yyyy"},2,2,{"$f":"'TC-AK'!$F$26","v":0},{"$f":"'TC-AK'!$C$7","v":"mg/dL"},{"$f":"'TC-AK'!$C$6","v":"PS0720"},{"$error":"#VALUE!"},null,{"$f":"'TC-AK'!$C$4","v":"TC-AK"},{"$f":"'TC-AK'!$C$5","v":0},{"$nulls":3},{"$f":"'TC-AK'!$B$35","v":0}]
[{"$f":"'General Infomation'!$C$8&'General Infomation'!$C$9","v":"PS0720"},{"$f":"'TC-AK'!$D$15","v":0},{"$f":"'TC-AK'!$C$11","v":"mm/dd/yyyy"},1,1,{"$f":"'TC-AK'!$E$15","v":0},{"$f":"'TC-AK'!$C$7","v":"mg/dL"},{"$f":"'TC-AK'!$C$6","v":"PS0720"},{"$error":"#VALUE!"},null,{"$f":"'TC-AK'!$C$4","v":"TC-AK"},{"$f":"'TC-AK'!$C$5","v":0},{"$nulls":3},{"$f":"'TC-AK'!$B$35","v":0}]
[{"$f":"'General Infomation'!$C$8&'General Infomation'!$C$9","v":"PS0720"},{"$f":"'TC-AK'!$D$15","v":0},{"$f":"'TC-AK'!$C$11","v":"mm/dd/yyyy"},1,2,{"$f":"'TC-AK'!$F$15","v":0},{"$f":"'TC-AK'!$C$7","v":"mg/dL"},{"$f":"'TC-AK'!$C$6","v":"PS0720"},{"$error":"#VALUE!"},null,{"$f":"'TC-AK'!$C$4","v":"TC-AK"},{"$f":"'TC-AK'!$C$5","v":0},{"$nulls":3},{"$f":"'TC-AK'!$B$35","v":0}]
[{"$f":"'General Infomation'!$C$8&'General Infomation'!$C$9","v":"PS0720"},{"$f":"'TC-AK'!$D$27","v":0},{"$f":"'TC-AK'!$C$23","v":"mm/dd/yyyy"},2,1,{"$f":"'TC-AK'!$E$27","v":0},{"$f":"'TC-AK'!$C$7","v":"mg/dL"},{"$f":"'TC-AK'!$C$6","v":"PS0720"},{"$error":"#VALUE!"},null,{"$f":"'TC-AK'!$C$4","v":"TC-AK"},{"$f":"'TC-AK'!$C$5","v":0},{"$nulls":3},{"$f":"'TC-AK'!$B$35","v":0}]
[{"$f":"'General Infomation'!$C$8&'General Infomation'!$C$9","v":"PS0720"},{"$f":"'TC-AK'!$D$27","v":0},{"$f":"'TC-AK'!$C$23","v":"mm/dd/yyyy"},2,2,{"$f":"'TC-AK'!$F$27","v":0},{"$f":"'TC-AK'!$C$7","v":"mg/dL"},{"$f":"'TC-AK'!$C$6","v":"PS0720"},{"$error":"#VALUE!"},null,{"$f":"'TC-AK'!$C$4","v":"TC-AK"},{"$f":"'TC-AK'!$C$5","v":0},{"$nulls":3},{"$f":"'TC-AK'!$B$35","v":0}]
[{"$f":"'General Infomation'!$C$8&'General Infomation'!$C$9","v":"PS0720"},{"$f":"'TC-AK'!$D$16","v":0},{"$f":"'TC-AK'!$C$11","v":"mm/dd/yyyy"},1,1,null,{"$f":"'TC-AK'!$C$7","v":"mg/dL"},{"$f":"'TC-AK'!$C$6","v":"PS0720"},{"$error":"#VALUE!"},null,{"$f":"'TC-AK'!$C$4","v":"TC-AK"},{"$f":"'TC-AK'!$C$5","v":0},{"$nulls":3},{"$f":"'TC-AK'!$B$35","v":0}]
[{"$f":"'General Infomation'!$C$8&'General Infomation'!$C$9","v":"PS0720"},{"$f":"'TC-AK'!$D$16","v":0},{"$f":"'TC-AK'!$C$11","v":"mm/dd/yyyy"},1,2,null,{"$f":"'TC-AK'!$C$7","v":"mg/dL"},{"$f":"'TC-AK'!$C$6","v":"PS0720"},{"$error":"#VALUE!"},null,{"$f":"'TC-AK'!$C$4","v":"TC-AK"},{"$f":"'TC-AK'!$C$5","v":0},{"$nulls":3},{"$f":"'TC-AK'!$B$35","v":0}]
[{"$f":"'General Infomation'!$C$8&'General Infomation'!$C$9","v":"PS0720"},{"$f":"'TC-AK'!$D$28","v":0},{"$f":"'TC-AK'!$C$23","v":"mm/dd/yyyy"},2,1,null,{"$f":"'TC-AK'!$C$7","v":"mg/dL"},{"$f":"'TC-AK'!$C$6","v":"PS0720"},{"$error":"#VALUE!"},null,{"$f":"'TC-AK'!$C$4","v":"TC-AK"},{"$f":"'TC-AK'!$C$5","v":0},{"$nulls":3},{"$f":"'TC-AK'!$B$35","v":0}]
[{"$f":"'General Infomation'!$C$8&'General Infomation'!$C$9","v":"PS0720"},{"$f":"'TC-AK'!$D$28","v":0},{"$f":"'TC-AK'!$C$23","v":"mm/dd/yyyy"},2,2,null,{"$f":"'TC-AK'!$C$7","v":"mg/dL"},{"$f":"'TC-AK'!$C$6","v":"PS0720"},{"$error":"#VALUE!"},null,{"$f":"'TC-AK'!$C$4","v":"TC-AK"},{"$f":"'TC-AK'!$C$5","v":0},{"$nulls":3},{"$f":"'TC-AK'!$B$35","v":0}]
[{"$f":"'General Infomation'!$C$8&'General Infomation'!$C$9","v":"PS0720"},{"$f":"'TC-AK'!$D$17","v":0},{"$f":"'TC-AK'!$C$11","v":"mm/dd/yyyy"},1,1,null,{"$f":"'TC-AK'!$C$7","v":"mg/dL"},{"$f":"'TC-AK'!$C$6","v":"PS0720"},{"$error":"#VALUE!"},null,{"$f":"'TC-AK'!$C$4","v":"TC-AK"},{"$f":"'TC-AK'!$C$5","v":0},{"$nulls":3},{"$f":"'TC-AK'!$B$35","v":0}]
[{"$f":"'General Infomation'!$C$8&'General Infomation'!$C$9","v":"PS0720"},{"$f":"'TC-AK'!$D$17","v":0},{"$f":"'TC-AK'!$C$11","v":"mm/dd/yyyy"},1,2,null,{"$f":"'TC-AK'!$C$7","v":"mg/dL"},{"$f":"'TC-AK'!$C$6","v":"PS0720"},{"$error":"#VALUE!"},null,{"$f":"'TC-AK'!$C$4","v":"TC-AK"},{"$f":"'TC-AK'!$C$5","v":0},{"$nulls":3},{"$f":"'TC-AK'!$B$35","v":0}]
[{"$f":"'General Infomation'!$C$8&'General Infomation'!$C$9","v":"PS0720"},{"$f":"'TC-AK'!$D$29","v":0},{"$f":"'TC-AK'!$C$23","v":"mm/dd/yyyy"},2,1,null,{"$f":"'TC-AK'!$C$7","v":"mg/dL"},{"$f":"'TC-AK'!$C$6","v":"PS0720"},{"$error":"#VALUE!"},null,{"$f":"'TC-AK'!$C$4","v":"TC-AK"},{"$f":"'TC-AK'!$C$5","v":0},{"$nulls":3},{"$f":"'TC-AK'!$B$35","v":0}]
[{"$f":"'General Infomation'!$C$8&'General Infomation'!$C$9","v":"PS0720"},{"$f":"'TC-AK'!$D$29","v":0},{"$f":"'TC-AK'!$C$23","v":"mm/dd/yyyy"},2,2,null,{"$f":"'TC-AK'!$C$7","v":"mg/dL"},{"$f":"'TC-AK'!$C$6","v":"PS0720"},{"$error":"#VALUE!"},null,{"$f":"'TC-AK'!$C$4","v":"TC-AK"},{"$f":"'TC-AK'!$C$5","v":0},{"$nulls":3},{"$f":"'TC-AK'!$B$35","v":0}]
[{"$f":"'General Infomation'!$C$8&'General Infomation'!$C$9","v":"PS0720"},{"$f":"'TC-AK'!$D$18","v":0},{"$f":"'TC-AK'!$C$11","v":"mm/dd/yyyy"},1,1,null,{"$f":"'TC-AK'!$C$7","v":"mg/dL"},{"$f":"'TC-AK'!$C$6","v":"PS0720"},{"$error":"#VALUE!"},null,{"$f":"'TC-AK'!$C$4","v":"TC-AK"},{"$f":"'TC-AK'!$C$5","v":0},{"$nulls":3},{"$f":"'TC-AK'!$B$35","v":0}]
[{"$f":"'General Infomation'!$C$8&'General Infomation'!$C$9","v":"PS0720"},{"$f":"'TC-AK'!$D$18","v":0},{"$f":"'TC-AK'!$C$11","v":"mm/dd/yyyy"},1,2,null,{"$f":"'TC-AK'!$C$7","v":"mg/dL"},{"$f":"'TC-AK'!$C$6","v":"PS0720"},{"$error":"#VALUE!"},null,{"$f":"'TC-AK'!$C$4","v":"TC-AK"},{"$f":"'TC-AK'!$C$5","v":0},{"$nulls":3},{"$f":"'TC-AK'!$B$35","v":0}]
[{"$f":"'General Infomation'!$C$8&'General Infomation'!$C$9","v":"PS0720"},{"$f":"'TC-AK'!$D$30","v":0},{"$f":"'TC-AK'!$C$23","v":"mm/dd/yyyy"},2,1,null,{"$f":"'TC-AK'!$C$7","v":"mg/dL"},{"$f":"'TC-AK'!$C$6","v":"PS0720"},{"$error":"#VALUE!"},null,{"$f":"'TC-AK'!$C$4","v":"TC-AK"},{"$f":"'TC-AK'!$C$5","v":0},{"$nulls":3},{"$f":"'TC-AK'!$B$35","v":0}]
[{"$f":"'General Infomation'!$C$8&'General Infomation'!$C$9","v":"PS0720"},{"$f":"'TC-AK'!$D$30","v":0},{"$f":"'TC-AK'!$C$23","v":"mm/dd/yyyy"},2,2,null,{"$f":"'TC-AK'!$C$7","v":"mg/dL"},{"$f":"'TC-AK'!$C$6","v":"PS0720"},{"$error":"#VALUE!"},null,{"$f":"'TC-AK'!$C$4","v":"TC-AK"},{"$f":"'TC-AK'!$C$5","v":0},{"$nulls":3},{"$f":"'TC-AK'!$B$35","v":0}]
[{"$f":"'General Infomation'!$C$8&'General Infomation'!$C$9","v":"PS0720"},{"$f":"'TC-AK'!$D$19","v":0},{"$f":"'TC-AK'!$C$11","v":"mm/dd/yyyy"},1,1,null,{"$f":"'TC-AK'!$C$7","v":"mg/dL"},{"$f":"'TC-AK'!$C$6","v":"PS0720"},{"$error":"#VALUE!"},null,{"$f":"'TC-AK'!$C$4","v":"TC-AK"},{"$f":"'TC-AK'!$C$5","v":0},{"$nulls":3},{"$f":"'TC-AK'!$B$35","v":0}]
[{"$f":"'General Infomation'!$C$8&'General Infomation'!$C$9","v":"PS0720"},{"$f":"'TC-AK'!$D$19","v":0},{"$f":"'TC-AK'!$C$11","v":"mm/dd/yyyy"},1,2,null,{"$f":"'TC-AK'!$C$7","v":"mg/dL"},{"$f":"'TC-AK'!$C$6","v":"PS0720"},{"$error":"#VALUE!"},null,{"$f":"'TC-AK'!$C$4","v":"TC-AK"},{"$f":"'TC-AK'!$C$5","v":0},{"$nulls":3},{"$f":"'TC-AK'!$B$35","v":0}]
[{"$f":"'General Infomation'!$C$8&'General Infomation'!$C$9","v":"PS0720"},{"$f":"'TC-AK'!$D$31","v":0},{"$f":"'TC-AK'!$C$23","v":"mm/dd/yyyy"},2,1,null,{"$f":"'TC-AK'!$C$7","v":"mg/dL"},{"$f":"'TC-AK'!$C$6","v":"PS0720"},{"$error":"#VALUE!"},null,{"$f":"'TC-AK'!$C$4","v":"TC-AK"},{"$f":"'TC-AK'!$C$5","v":0},{"$nulls":3},{"$f":"'TC-AK'!$B$35","v":0}]
[{"$f":"'General Infomation'!$C$8&'General Infomation'!$C$9","v":"PS0720"},{"$f":"'TC-AK'!$D$31","v":0},{"$f":"'TC-AK'!$C$23","v":"mm/dd/yyyy"},2,2,null,{"$f":"'TC-AK'!$C$7","v":"mg/dL"},{"$f":"'TC-AK'!$C$6","v":"PS0720"},{"$error":"#VALUE!"},null,{"$f":"'TC-AK'!$C$4","v":"TC-AK"},{"$f":"'TC-AK'!$C$5","v":0},{"$nulls":3},{"$f":"'TC-AK'!$B$35","v":0}]
[{"$nulls":8},1900]
[{"$nulls":8},1900]
[{"$nulls":8},1900]
[{"$nulls":8},1900]
[{"$nulls":8},1900]
[{"$nulls":8},1900]
[{"$nulls":8},1900]
[{"$nulls":8},1900]
[{"$nulls":8},1900]
[{"$nulls":8},1900]
[{"$nulls":8},1900]
[{"$nulls":8},1900]
[{"$nulls":8},1900]
[{"$nulls":8},1900]
[{"$nulls":8},1900]
[{"$nulls":8},1900]
[{"$nulls":8},1900]
[{"$nulls":8},1900]
[{"$nulls":8},1900]
[{"$nulls":8},1900]
[{"$nulls":8},1900]
[{"$nulls":8},1900]
[{"$nulls":8},1900]
[{"$nulls":8},1900]
[{"$nulls":8},1900]
[{"$nulls":8},1900]
[{"$nulls":8},1900]
[{"$nulls":8},1900]
[{"$nulls":8},1900]
[{"$nulls":8},1900]
[{"$nulls":8},1900]
[{"$nulls":8},1900]
[{"$nulls":8},1900]
[{"$nulls":8},1900]
[{"$nulls":8},1900]
[{"$nulls":8},1900]
[{"$nulls":8},1900]
[{"$nulls":8},1900]
[{"$nulls":8},1900]
[{"$nulls":8},1900]
[{"$nulls":8},1900]
[{"$nulls":8},{"$f":"YEAR(C67)","v":1900}]
[{"$nulls":8},1900]
[{"$nulls":8},1900]
[{"$nulls":8},1900]
[{"$nulls":8},1900]
[{"$nulls":8},1900]
[{"$nulls":8},1900]
[{"$nulls":8},1900]
[{"$nulls":8},1900]
[{"$nulls":8},1900]
[{"$nulls":8},1900]
[{"$nulls":8},1900]
[{"$nulls":8},1900]
[{"$nulls":8},1900]
[{"$nulls":8},1900]
[{"$nulls":8},1900]
[{"$nulls":8},1900]
[{"$nulls":8},1900]
[{"$nulls":8},1900]
[{"$nulls":8},1900]
[{"$nulls":8},1900]
[{"$nulls":8},1900]
[{"$nulls":8},1900]
[{"$nulls":8},1900]
[{"$nulls":8},1900]
[{"$nulls":8},1900]
[{"$nulls":8},1900]
[{"$nulls":8},1900]
[{"$nulls":8},1900]
[{"$nulls":8},1900]
[{"$nulls":8},1900]
[{"$nulls":8},1900]
[{"$nulls":8},1900]
[{"$nulls":8},1900]
[{"$nulls":8},1900]
[{"$nulls":8},1900]
[{"$nulls":8},1900]
[{"$nulls":8},1900]

{"sheet":"Export TC AK","index":11,"n_rows":7,"n_cols":16,"rows_kept":7,"hidden":true}
["Year","Survey Cycle","Survey","Lab","Sample ID","Survey Pool ID","Actual (CDC ) pool ID","Notes","Target value","Run1 Value1","Run 1 Value 2","Run 2 Value 1","Run 2 Value 2","Month","Year/Month","M"]
[{"$f":"'General Infomation'!$C$10","v":"00:00:00"},{"$f":"'TC-AK'!$C$6","v":"PS0720"},null,{"$f":"'TC-AK'!$C$5","v":0},{"$f":"'TC-AK'!D14","v":0},null,null,{"$f":"'TC-AK'!$B$35","v":0},null,{"$f":"'TC-AK'!E14","v":{"v":0,"d":"0.00"}},{"$f":"'TC-AK'!F14","v":{"v":0,"d":"0.00"}},{"$f":"'TC-AK'!E26","v":{"v":0,"d":"0.00"}},{"$f":"'TC-AK'!F26","v":{"v":0,"d":"0.00"}}]
[{"$f":"'General Infomation'!$C$10","v":"00:00:00"},{"$f":"'TC-AK'!$C$6","v":"PS0720"},null,{"$f":"'TC-AK'!$C$5","v":0},{"$f":"'TC-AK'!D15","v":0},null,null,{"$f":"'TC-AK'!$B$35","v":0},null,{"$f":"'TC-AK'!E15","v":{"v":0,"d":"0.00"}},{"$f":"'TC-AK'!F15","v":{"v":0,"d":"0.00"}},{"$f":"'TC-AK'!E27","v":{"v":0,"d":"0.00"}},{"$f":"'TC-AK'!F27","v":{"v":0,"d":"0.00"}}]
[{"$f":"'General Infomation'!$C$10","v":"00:00:00"},{"$f":"'TC-AK'!$C$6","v":"PS0720"},null,{"$f":"'TC-AK'!$C$5","v":0},{"$f":"'TC-AK'!D16","v":0},null,null,{"$f":"'TC-AK'!$B$35","v":0},null,{"$f":"'TC-AK'!E16","v":{"v":0,"d":"0.00"}},{"$f":"'TC-AK'!F16","v":{"v":0,"d":"0.00"}},{"$f":"'TC-AK'!E28","v":{"v":0,"d":"0.00"}},{"$f":"'TC-AK'!F28","v":{"v":0,"d":"0.00"}}]
[{"$f":"'General Infomation'!$C$10","v":"00:00:00"},{"$f":"'TC-AK'!$C$6","v":"PS0720"},null,{"$f":"'TC-AK'!$C$5","v":0},{"$f":"'TC-AK'!D17","v":0},null,null,{"$f":"'TC-AK'!$B$35","v":0},null,{"$f":"'TC-AK'!E17","v":{"v":0,"d":"0.00"}},{"$f":"'TC-AK'!F17","v":{"v":0,"d":"0.00"}},{"$f":"'TC-AK'!E29","v":{"v":0,"d":"0.00"}},{"$f":"'TC-AK'!F29","v":{"v":0,"d":"0.00"}}]
[{"$f":"'General Infomation'!$C$10","v":"00:00:00"},{"$f":"'TC-AK'!$C$6","v":"PS0720"},null,{"$f":"'TC-AK'!$C$5","v":0},{"$f":"'TC-AK'!D18","v":0},null,null,{"$f":"'TC-AK'!$B$35","v":0},null,{"$f":"'TC-AK'!E18","v":{"v":0,"d":"0.00"}},{"$f":"'TC-AK'!F18","v":{"v":0,"d":"0.00"}},{"$f":"'TC-AK'!E30","v":{"v":0,"d":"0.00"}},{"$f":"'TC-AK'!F30","v":{"v":0,"d":"0.00"}}]
[{"$f":"'General Infomation'!$C$10","v":"00:00:00"},{"$f":"'TC-AK'!$C$6","v":"PS0720"},null,{"$f":"'TC-AK'!$C$5","v":0},{"$f":"'TC-AK'!D19","v":0},null,null,{"$f":"'TC-AK'!$B$35","v":0},null,{"$f":"'TC-AK'!E19","v":{"v":0,"d":"0.00"}},{"$f":"'TC-AK'!F19","v":{"v":0,"d":"0.00"}},{"$f":"'TC-AK'!E31","v":{"v":0,"d":"0.00"}},{"$f":"'TC-AK'!F31","v":{"v":0,"d":"0.00"}}]

{"sheet":"Export TC IDMS","index":12,"n_rows":7,"n_cols":13,"rows_kept":7,"hidden":true}
["Year","Survey Cycle","Survey","Lab","Sample ID","Survey Pool ID","Actual (CDC ) pool ID","Target value","Run1 Value1","Run 1 Value 2","Run 2 Value 1","Run 2 Value 2","Year.Month"]
[null,{"$f":"'TC-IDMS'!$C$6","v":"PS0720"},null,{"$f":"'TC-IDMS'!$C$5","v":0},{"$f":"'TC-IDMS'!D14","v":0},{"$nulls":3},{"$f":"'TC-IDMS'!E14","v":{"v":0,"d":"0.00"}},{"$f":"'TC-IDMS'!F14","v":{"v":0,"d":"0.00"}},{"$f":"'TC-IDMS'!E26","v":{"v":0,"d":"0.00"}},{"$f":"'TC-IDMS'!F26","v":{"v":0,"d":"0.00"}}]
[null,{"$f":"'TC-IDMS'!$C$6","v":"PS0720"},null,{"$f":"'TC-IDMS'!$C$5","v":0},{"$f":"'TC-IDMS'!D15","v":0},{"$nulls":3},{"$f":"'TC-IDMS'!E15","v":{"v":0,"d":"0.00"}},{"$f":"'TC-IDMS'!F15","v":{"v":0,"d":"0.00"}},{"$f":"'TC-IDMS'!E27","v":{"v":0,"d":"0.00"}},{"$f":"'TC-IDMS'!F27","v":{"v":0,"d":"0.00"}}]
[null,{"$f":"'TC-IDMS'!$C$6","v":"PS0720"},null,{"$f":"'TC-IDMS'!$C$5","v":0},{"$f":"'TC-IDMS'!D16","v":0},{"$nulls":3},{"$f":"'TC-IDMS'!E16","v":{"v":0,"d":"0.00"}},{"$f":"'TC-IDMS'!F16","v":{"v":0,"d":"0.00"}},{"$f":"'TC-IDMS'!E28","v":{"v":0,"d":"0.00"}},{"$f":"'TC-IDMS'!F28","v":{"v":0,"d":"0.00"}}]
[null,{"$f":"'TC-IDMS'!$C$6","v":"PS0720"},null,{"$f":"'TC-IDMS'!$C$5","v":0},{"$f":"'TC-IDMS'!D17","v":0},{"$nulls":3},{"$f":"'TC-IDMS'!E17","v":{"v":0,"d":"0.00"}},{"$f":"'TC-IDMS'!F17","v":{"v":0,"d":"0.00"}},{"$f":"'TC-IDMS'!E29","v":{"v":0,"d":"0.00"}},{"$f":"'TC-IDMS'!F29","v":{"v":0,"d":"0.00"}}]
[null,{"$f":"'TC-IDMS'!$C$6","v":"PS0720"},null,{"$f":"'TC-IDMS'!$C$5","v":0},{"$f":"'TC-IDMS'!D18","v":0},{"$nulls":3},{"$f":"'TC-IDMS'!E18","v":{"v":0,"d":"0.00"}},{"$f":"'TC-IDMS'!F18","v":{"v":0,"d":"0.00"}},{"$f":"'TC-IDMS'!E30","v":{"v":0,"d":"0.00"}},{"$f":"'TC-IDMS'!F30","v":{"v":0,"d":"0.00"}}]
[null,{"$f":"'TC-IDMS'!$C$6","v":"PS0720"},null,{"$f":"'TC-IDMS'!$C$5","v":0},{"$f":"'TC-IDMS'!D19","v":0},{"$nulls":3},{"$f":"'TC-IDMS'!E19","v":{"v":0,"d":"0.00"}},{"$f":"'TC-IDMS'!F19","v":{"v":0,"d":"0.00"}},{"$f":"'TC-IDMS'!E31","v":{"v":0,"d":"0.00"}},{"$f":"'TC-IDMS'!F31","v":{"v":0,"d":"0.00"}}]

{"sheet":"Export TG","index":13,"n_rows":7,"n_cols":21,"rows_kept":7,"hidden":true}
["Year","Survey Cycle","Survey ","Lab","Sample Id","Survey Pool ID","Target value","TG Value1","TG Value2","TG Value1.1","TG Value2.1","FG Value1","FG Value2","FG Value1.1","FG Value2.1","Net Value1","Net Value2","Net Value1.1","Net Value2.1","Month","Year/Month"]
[null,{"$f":"TG!$C$6","v":"PS0720"},null,{"$f":"TG!$C$5","v":0},{"$f":"TG!D14","v":0},null,null,{"$f":"TG!E14","v":{"v":0,"d":"0.00"}},{"$f":"TG!F14","v":{"v":0,"d":"0.00"}},{"$f":"TG!E26","v":{"v":0,"d":"0.00"}},{"$f":"TG!F26","v":{"v":0,"d":"0.00"}},{"$f":"TG!G14","v":{"v":0,"d":"0.00"}},{"$f":"TG!H14","v":{"v":0,"d":"0.00"}},{"$f":"TG!G26","v":{"v":0,"d":"0.00"}},{"$f":"TG!H26","v":{"v":0,"d":"0.00"}},{"$f":"TG!I14","v":{"v":0,"d":"0.00"}},{"$f":"TG!J14","v":{"v":0,"d":"0.00"}},{"$f":"TG!I26","v":{"v":0,"d":"0.00"}},{"$f":"TG!J26","v":{"v":0,"d":"0.00"}}]
[null,{"$f":"TG!$C$6","v":"PS0720"},null,{"$f":"TG!$C$5","v":0},{"$f":"TG!D15","v":0},null,null,{"$f":"TG!E15","v":{"v":0,"d":"0.00"}},{"$f":"TG!F15","v":{"v":0,"d":"0.00"}},{"$f":"TG!E27","v":{"v":0,"d":"0.00"}},{"$f":"TG!F27","v":{"v":0,"d":"0.00"}},{"$f":"TG!G15","v":{"v":0,"d":"0.00"}},{"$f":"TG!H15","v":{"v":0,"d":"0.00"}},{"$f":"TG!G27","v":{"v":0,"d":"0.00"}},{"$f":"TG!H27","v":{"v":0,"d":"0.00"}},{"$f":"TG!I15","v":{"v":0,"d":"0.00"}},{"$f":"TG!J15","v":{"v":0,"d":"0.00"}},{"$f":"TG!I27","v":{"v":0,"d":"0.00"}},{"$f":"TG!J27","v":{"v":0,"d":"0.00"}}]
[null,{"$f":"TG!$C$6","v":"PS0720"},null,{"$f":"TG!$C$5","v":0},{"$f":"TG!D16","v":0},null,null,{"$f":"TG!E16","v":{"v":0,"d":"0.00"}},{"$f":"TG!F16","v":{"v":0,"d":"0.00"}},{"$f":"TG!E28","v":{"v":0,"d":"0.00"}},{"$f":"TG!F28","v":{"v":0,"d":"0.00"}},{"$f":"TG!G16","v":{"v":0,"d":"0.00"}},{"$f":"TG!H16","v":{"v":0,"d":"0.00"}},{"$f":"TG!G28","v":{"v":0,"d":"0.00"}},{"$f":"TG!H28","v":{"v":0,"d":"0.00"}},{"$f":"TG!I16","v":{"v":0,"d":"0.00"}},{"$f":"TG!J16","v":{"v":0,"d":"0.00"}},{"$f":"TG!I28","v":{"v":0,"d":"0.00"}},{"$f":"TG!J28","v":{"v":0,"d":"0.00"}}]
[null,{"$f":"TG!$C$6","v":"PS0720"},null,{"$f":"TG!$C$5","v":0},{"$f":"TG!D17","v":0},null,null,{"$f":"TG!E17","v":{"v":0,"d":"0.00"}},{"$f":"TG!F17","v":{"v":0,"d":"0.00"}},{"$f":"TG!E29","v":{"v":0,"d":"0.00"}},{"$f":"TG!F29","v":{"v":0,"d":"0.00"}},{"$f":"TG!G17","v":{"v":0,"d":"0.00"}},{"$f":"TG!H17","v":{"v":0,"d":"0.00"}},{"$f":"TG!G29","v":{"v":0,"d":"0.00"}},{"$f":"TG!H29","v":{"v":0,"d":"0.00"}},{"$f":"TG!I17","v":{"v":0,"d":"0.00"}},{"$f":"TG!J17","v":{"v":0,"d":"0.00"}},{"$f":"TG!I29","v":{"v":0,"d":"0.00"}},{"$f":"TG!J29","v":{"v":0,"d":"0.00"}}]
[null,{"$f":"TG!$C$6","v":"PS0720"},null,{"$f":"TG!$C$5","v":0},{"$f":"TG!D18","v":0},null,null,{"$f":"TG!E18","v":{"v":0,"d":"0.00"}},{"$f":"TG!F18","v":{"v":0,"d":"0.00"}},{"$f":"TG!E30","v":{"v":0,"d":"0.00"}},{"$f":"TG!F30","v":{"v":0,"d":"0.00"}},{"$f":"TG!G18","v":{"v":0,"d":"0.00"}},{"$f":"TG!H18","v":{"v":0,"d":"0.00"}},{"$f":"TG!G30","v":{"v":0,"d":"0.00"}},{"$f":"TG!H30","v":{"v":0,"d":"0.00"}},{"$f":"TG!I18","v":{"v":0,"d":"0.00"}},{"$f":"TG!J18","v":{"v":0,"d":"0.00"}},{"$f":"TG!I30","v":{"v":0,"d":"0.00"}},{"$f":"TG!J30","v":{"v":0,"d":"0.00"}}]
[null,{"$f":"TG!$C$6","v":"PS0720"},null,{"$f":"TG!$C$5","v":0},{"$f":"TG!D19","v":0},null,null,{"$f":"TG!E19","v":{"v":0,"d":"0.00"}},{"$f":"TG!F19","v":{"v":0,"d":"0.00"}},{"$f":"TG!E31","v":{"v":0,"d":"0.00"}},{"$f":"TG!F31","v":{"v":0,"d":"0.00"}},{"$f":"TG!G19","v":{"v":0,"d":"0.00"}},{"$f":"TG!H19","v":{"v":0,"d":"0.00"}},{"$f":"TG!G31","v":{"v":0,"d":"0.00"}},{"$f":"TG!H31","v":{"v":0,"d":"0.00"}},{"$f":"TG!I19","v":{"v":0,"d":"0.00"}},{"$f":"TG!J19","v":{"v":0,"d":"0.00"}},{"$f":"TG!I31","v":{"v":0,"d":"0.00"}},{"$f":"TG!J31","v":{"v":0,"d":"0.00"}}]

{"sheet":"Export HDL_DCM","index":14,"n_rows":4,"n_cols":19,"rows_kept":4,"hidden":true}
["Year","Survey Cycle","Survey ","Lab","Sample ID","Survey Pool ID","Actual (CDC ) pool ID","Notes","Target value","Run1 Value1","Run 1 Value 2","Run 2 Value 3","Run 2 Value 2","Run3 Value1","Run 3 Value 2","Run 4 Value 1","Run 4 Value 2","Month","Year/Month"]
[null,{"$f":"'HDL-DCM'!$C$6","v":"PS0720"},null,{"$f":"'HDL-DCM'!$C$5","v":0},{"$f":"'HDL-DCM'!D14","v":0},{"$nulls":4},{"$f":"'HDL-DCM'!E14","v":{"v":0,"d":"0.00"}},{"$f":"'HDL-DCM'!F14","v":{"v":0,"d":"0.00"}},{"$f":"'HDL-DCM'!E23","v":{"v":0,"d":"0.00"}},{"$f":"'HDL-DCM'!F23","v":{"v":0,"d":"0.00"}}]
[null,{"$f":"'HDL-DCM'!$C$6","v":"PS0720"},null,{"$f":"'HDL-DCM'!$C$5","v":0},{"$f":"'HDL-DCM'!D15","v":0},{"$nulls":4},{"$f":"'HDL-DCM'!E15","v":{"v":0,"d":"0.00"}},{"$f":"'HDL-DCM'!F15","v":{"v":0,"d":"0.00"}},{"$f":"'HDL-DCM'!E24","v":{"v":0,"d":"0.00"}},{"$f":"'HDL-DCM'!F24","v":{"v":0,"d":"0.00"}}]
[null,{"$f":"'HDL-DCM'!$C$6","v":"PS0720"},null,{"$f":"'HDL-DCM'!$C$5","v":0},{"$f":"'HDL-DCM'!D16","v":0},{"$nulls":4},{"$f":"'HDL-DCM'!E16","v":{"v":0,"d":"0.00"}},{"$f":"'HDL-DCM'!F16","v":{"v":0,"d":"0.00"}},{"$f":"'HDL-DCM'!E25","v":{"v":0,"d":"0.00"}},{"$f":"'HDL-DCM'!F25","v":{"v":0,"d":"0.00"}}]

{"sheet":"Export HDL_UC","index":15,"n_rows":12,"n_cols":18,"rows_kept":12,"hidden":true}
["Year","Survey Cycle","Survey ","Lab","Sample ID","Survey Pool ID","Actual (CDC ) pool ID","Notes","Target value","Run1 Value1","Run 1 Value 2","Run 2 Value 3","Run 2 Value 2","Run3 Value1","Run 3 Value 2","Run 4 Value 1","Run 4 Value 2"]
[null,{"$f":"'HDL-LDL'!$C$6","v":"PS0720"},null,{"$f":"'HDL-LDL'!$C$5","v":0},{"$f":"'HDL-LDL'!E14","v":0},{"$nulls":4},{"$f":"'HDL-LDL'!J14","v":{"v":0,"d":"0.00"}},{"$f":"'HDL-LDL'!K14","v":{"v":0,"d":"0.00"}},{"$f":"'HDL-LDL'!J15","v":{"v":0,"d":"0.00"}},{"$f":"'HDL-LDL'!K15","v":{"v":0,"d":"0.00"}},{"$f":"'HDL-LDL'!J30","v":{"v":0,"d":"0.00"}},{"$f":"'HDL-LDL'!K30","v":{"v":0,"d":"0.00"}},{"$f":"'HDL-LDL'!J31","v":{"v":0,"d":"0.00"}},{"$f":"'HDL-LDL'!K31","v":{"v":0,"d":"0.00"}},{"$f":"'HDL-LDL'!$C$14","v":"CS01"}]
[null,{"$f":"'HDL-LDL'!$C$6","v":"PS0720"},null,{"$f":"'HDL-LDL'!$C$5","v":0},{"$f":"'HDL-LDL'!E16","v":0},{"$nulls":4},{"$f":"'HDL-LDL'!J16","v":{"v":0,"d":"0.00"}},{"$f":"'HDL-LDL'!K16","v":{"v":0,"d":"0.00"}},{"$f":"'HDL-LDL'!J17","v":{"v":0,"d":"0.00"}},{"$f":"'HDL-LDL'!K17","v":{"v":0,"d":"0.00"}},{"$f":"'HDL-LDL'!J32","v":{"v":0,"d":"0.00"}},{"$f":"'HDL-LDL'!K32","v":{"v":0,"d":"0.00"}},{"$f":"'HDL-LDL'!J33","v":{"v":0,"d":"0.00"}},{"$f":"'HDL-LDL'!K33","v":{"v":0,"d":"0.00"}},{"$f":"'HDL-LDL'!$C$16","v":"CS02"}]
[null,{"$f":"'HDL-LDL'!$C$6","v":"PS0720"},null,{"$f":"'HDL-LDL'!$C$5","v":0},{"$f":"'HDL-LDL'!E18","v":0},{"$nulls":4},{"$f":"'HDL-LDL'!J18","v":{"v":0,"d":"0.00"}},{"$f":"'HDL-LDL'!K18","v":{"v":0,"d":"0.00"}},{"$f":"'HDL-LDL'!J19","v":{"v":0,"d":"0.00"}},{"$f":"'HDL-LDL'!K19","v":{"v":0,"d":"0.00"}},{"$f":"'HDL-LDL'!J34","v":{"v":0,"d":"0.00"}},{"$f":"'HDL-LDL'!K34","v":{"v":0,"d":"0.00"}},{"$f":"'HDL-LDL'!J35","v":{"v":0,"d":"0.00"}},{"$f":"'HDL-LDL'!K35","v":{"v":0,"d":"0.00"}},{"$f":"'HDL-LDL'!$C$18","v":"CS03"}]
[null,{"$f":"'HDL-LDL'!$C$6","v":"PS0720"},null,{"$f":"'HDL-LDL'!$C$5","v":0},{"$f":"'HDL-LDL'!$E$20","v":0},{"$nulls":4},{"$f":"'HDL-LDL'!J20","v":{"v":0,"d":"0.00"}},{"$f":"'HDL-LDL'!K20","v":{"v":0,"d":"0.00"}},{"$f":"'HDL-LDL'!J21","v":{"v":0,"d":"0.00"}},{"$f":"'HDL-LDL'!K21","v":{"v":0,"d":"0.00"}},{"$f":"'HDL-LDL'!J36","v":{"v":0,"d":"0.00"}},{"$f":"'HDL-LDL'!K36","v":{"v":0,"d":"0.00"}},{"$f":"'HDL-LDL'!J37","v":{"v":0,"d":"0.00"}},{"$f":"'HDL-LDL'!K37","v":{"v":0,"d":"0.00"}},{"$f":"'HDL-LDL'!$C$20","v":"NS01"}]
[null,{"$f":"'HDL-LDL 2mL'!$C$6","v":"PS0720"},null,{"$f":"'HDL-LDL 2mL'!$C$5","v":0},{"$f":"'HDL-LDL'!$E$22","v":0},{"$nulls":4},{"$f":"'HDL-LDL'!J22","v":{"v":0,"d":"0.00"}},{"$f":"'HDL-LDL'!K22","v":{"v":0,"d":"0.00"}},{"$f":"'HDL-LDL'!J23","v":{"v":0,"d":"0.00"}},{"$f":"'HDL-LDL'!K23","v":{"v":0,"d":"0.00"}},{"$f":"'HDL-LDL'!J38","v":{"v":0,"d":"0.00"}},{"$f":"'HDL-LDL'!K38","v":{"v":0,"d":"0.00"}},{"$f":"'HDL-LDL'!J39","v":{"v":0,"d":"0.00"}},{"$f":"'HDL-LDL'!K39","v":{"v":0,"d":"0.00"}},{"$f":"'HDL-LDL'!$C$22","v":"NS02"}]
[]
[]
[]
[null,{"$f":"'HDL-LDL 2mL'!$C$6","v":"PS0720"},null,{"$f":"'HDL-LDL 2mL'!$C$5","v":0},{"$f":"'HDL-LDL 2mL'!E25","v":0},{"$nulls":4},{"$f":"'HDL-LDL 2mL'!J25","v":{"v":0,"d":"0.00"}},{"$f":"'HDL-LDL 2mL'!K25","v":{"v":0,"d":"0.00"}},{"$f":"'HDL-LDL 2mL'!J26","v":{"v":0,"d":"0.00"}},{"$f":"'HDL-LDL 2mL'!K26","v":{"v":0,"d":"0.00"}},{"$f":"'HDL-LDL 2mL'!J36","v":{"v":0,"d":"0.00"}},{"$f":"'HDL-LDL 2mL'!K36","v":{"v":0,"d":"0.00"}},{"$f":"'HDL-LDL 2mL'!J37","v":{"v":0,"d":"0.00"}},{"$f":"'HDL-LDL 2mL'!K37","v":{"v":0,"d":"0.00"}},{"$f":"'HDL-LDL 2mL'!$C$14","v":"CS01"}]
[null,{"$f":"'HDL-LDL'!$C$6","v":"PS0720"},null,{"$f":"'HDL-LDL'!$C$5","v":0},{"$f":"'HDL-LDL 2mL'!$E$16","v":0},{"$nulls":4},{"$f":"'HDL-LDL 2mL'!J24","v":"HDL Rep 1 (mg/dL)"},{"$f":"'HDL-LDL 2mL'!K24","v":"HDL Rep 2 (mg/dL)"},{"$f":"'HDL-LDL 2mL'!J25","v":{"v":0,"d":"0.00"}},{"$f":"'HDL-LDL 2mL'!K25","v":{"v":0,"d":"0.00"}},{"$f":"'HDL-LDL 2mL'!J35","v":{"v":0,"d":"0.00"}},{"$f":"'HDL-LDL 2mL'!K35","v":{"v":0,"d":"0.00"}},{"$f":"'HDL-LDL 2mL'!J36","v":{"v":0,"d":"0.00"}},{"$f":"'HDL-LDL 2mL'!K36","v":{"v":0,"d":"0.00"}},{"$f":"'HDL-LDL 2mL'!$C$16","v":"NS01"}]
[null,{"$f":"'HDL-LDL'!$C$6","v":"PS0720"},null,{"$f":"'HDL-LDL'!$C$5","v":0},{"$f":"'HDL-LDL 2mL'!$E$18","v":0},{"$nulls":4},{"$f":"'HDL-LDL 2mL'!J26","v":{"v":0,"d":"0.00"}},{"$f":"'HDL-LDL 2mL'!K26","v":{"v":0,"d":"0.00"}},{"$f":"'HDL-LDL 2mL'!J27","v":{"v":0,"d":"0.00"}},{"$f":"'HDL-LDL 2mL'!K27","v":{"v":0,"d":"0.00"}},{"$f":"'HDL-LDL 2mL'!J37","v":{"v":0,"d":"0.00"}},{"$f":"'HDL-LDL 2mL'!K37","v":{"v":0,"d":"0.00"}},{"$f":"'HDL-LDL 2mL'!J38","v":{"v":0,"d":"0.00"}},{"$f":"'HDL-LDL 2mL'!K38","v":{"v":0,"d":"0.00"}},{"$f":"'HDL-LDL 2mL'!$C$18","v":"NS02"}]

{"sheet":"Export LDL","index":16,"n_rows":6,"n_cols":94,"rows_kept":6,"hidden":true}
["Year","Survey Cycle","Year.Month","Lab","Sample ID","Survey Pool ID","Actual (CDC ) pool ID","Target Value","BF Run1 Spin1 Rep1","BF Run1 Spin1 Rep2","BF Run1 Spin2 Rep1","BF Run1 Spin2 Rep2","BF Run2 Spin1 Rep1","BF Run2 Spin1 Rep2","BF Run2 Spin2 Rep1","BF Run2 Spin2 Rep2","BF Run3 Spin1 Rep1","BF Run3 Spin1 Rep2","BF Run3 Spin2 Rep1","BF Run3 Spin2 Rep2","BF Run3b Spin1 Rep1","BF Run3b Spin1 Rep2","BF Run3b Spin2 Rep1","BF Run3b Spin2 Rep2","BF Run4 Spin1 Rep1","BF Run4 Spin1 Rep2","BF Run4 Spin2 Rep1","BF Run4 Spin2 Rep2","BF Run5 Spin1 Rep1","BF Run5 Spin1 Rep2","BF Run5 Spin2 Rep1","BF Run5 Spin2 Rep2","BF Run6 Spin1 Rep1","BF Run6 Spin1 Rep2","BF Run6 Spin2 Rep1","BF Run6 Spin2 Rep2","HDL Target value","HDL Run1 Spin1 Rep1","HDL Run1 Spin1 Rep2","HDL Run1 Spin2 Rep1","HDL Run1 Spin2 Rep2","HDL Run2 Spin1 Rep1","HDL Run2 Spin1 Rep2","HDL Run2 Spin2 Rep1","HDL Run2 Spin2 Rep2","HDL Run3 Spin1 Rep1","HDL Run3 Spin1 Rep2","HDL Run3 Spin2 Rep1","HDL Run3 Spin2 Rep2","HDL Run3b Spin1 Rep1","HDL Run3b Spin1 Rep2","HDL Run3b Spin2 Rep1","HDL Run3b Spin2 Rep2","HDL Run4 Spin1 Rep1","HDL Run4 Spin1 Rep2","HDL Run4 Spin2 Rep1","HDL Run4 Spin2 Rep2","HDL Run5 Spin1 Rep1","HDL Run5 Spin1 Rep2","HDL Run5 Spin2 Rep1","HDL Run5 Spin2 Rep2","HDL Run6 Spin1 Rep1","HDL Run6 Spin1 Rep2","HDL Run6 Spin2 Rep1","HDL Run6 Spin2 Rep2","LDL Target Value","LDL Run1 Spin1 Rep1","LDL Run1 Spin1 Rep2","LDL Run1 Spin2 Rep1","LDL Run1 Spin2 Rep2","LDL Run2 Spin1 Rep1","LDL Run2 Spin1 Rep2","LDL Run2 Spin2 Rep1","LDL Run2 Spin2 Rep2","LDL Run3 Spin1 Rep1","LDL Run3 Spin1 Rep2","LDL Run3 Spin2 Rep1","LDL Run3 Spin2 Rep2","LDL Run3b Spin1 Rep1","LDL Run3b Spin1 Rep2","LDL Run3b Spin2 Rep1","LDL Run3b Spin2 Rep2","LDL Run4 Spin1 Rep1","LDL Run4 Spin1 Rep2","LDL Run4 Spin2 Rep1","LDL Run4 Spin2 Rep2","LDL Run5 Spin1 Rep1","LDL Run5 Spin1 Rep2","LDL Run5 Spin2 Rep1","LDL Run5 Spin2 Rep2","LDL Run6 Spin1 Rep1","LDL Run6 Spin1 Rep2","LDL Run6 Spin2 Rep1","LDL Run6 Spin2 Rep2"]
[null,{"$f":"'HDL-LDL'!$C$6","v":"PS0720"},null,{"$f":"'HDL-LDL'!$C$5","v":0},{"$f":"'HDL-LDL'!$E$14","v":0},{"$nulls":3},{"$f":"'HDL-LDL'!H14","v":{"v":0,"d":"0.00"}},{"$f":"'HDL-LDL'!I14","v":{"v":0,"d":"0.00"}},{"$f":"'HDL-LDL'!H15","v":{"v":0,"d":"0.00"}},{"$f":"'HDL-LDL'!I15","v":{"v":0,"d":"0.00"}},{"$f":"'HDL-LDL'!H30","v":{"v":0,"d":"0.00"}},{"$f":"'HDL-LDL'!I30","v":{"v":0,"d":"0.00"}},{"$f":"'HDL-LDL'!H31","v":{"v":0,"d":"0.00"}},{"$f":"'HDL-LDL'!I31","v":{"v":0,"d":"0.00"}},{"$nulls":21},{"$f":"'HDL-LDL'!J14","v":{"v":0,"d":"0.00"}},{"$f":"'HDL-LDL'!K14","v":{"v":0,"d":"0.00"}},{"$f":"'HDL-LDL'!J15","v":{"v":0,"d":"0.00"}},{"$f":"'HDL-LDL'!K15","v":{"v":0,"d":"0.00"}},{"$f":"'HDL-LDL'!J30","v":{"v":0,"d":"0.00"}},{"$f":"'HDL-LDL'!K30","v":{"v":0,"d":"0.00"}},{"$f":"'HDL-LDL'!J31","v":{"v":0,"d":"0.00"}},{"$f":"'HDL-LDL'!K31","v":{"v":0,"d":"0.00"}},{"$nulls":21},{"$f":"'HDL-LDL'!L14","v":{"v":0,"d":"0.00"}},{"$f":"'HDL-LDL'!M14","v":{"v":0,"d":"0.00"}},{"$f":"'HDL-LDL'!L15","v":{"v":0,"d":"0.00"}},{"$f":"'HDL-LDL'!M15","v":{"v":0,"d":"0.00"}},{"$f":"'HDL-LDL'!L30","v":{"v":0,"d":"0.00"}},{"$f":"'HDL-LDL'!M30","v":{"v":0,"d":"0.00"}},{"$f":"'HDL-LDL'!L31","v":{"v":0,"d":"0.00"}},{"$f":"'HDL-LDL'!M31","v":{"v":0,"d":"0.00"}}]
[null,{"$f":"'HDL-LDL'!$C$6","v":"PS0720"},null,{"$f":"'HDL-LDL'!$C$5","v":0},{"$f":"'HDL-LDL'!$E$16","v":0},{"$nulls":3},{"$f":"'HDL-LDL'!H16","v":{"v":0,"d":"0.00"}},{"$f":"'HDL-LDL'!I16","v":{"v":0,"d":"0.00"}},{"$f":"'HDL-LDL'!H17","v":{"v":0,"d":"0.00"}},{"$f":"'HDL-LDL'!I17","v":{"v":0,"d":"0.00"}},{"$f":"'HDL-LDL'!H32","v":{"v":0,"d":"0.00"}},{"$f":"'HDL-LDL'!I32","v":{"v":0,"d":"0.00"}},{"$f":"'HDL-LDL'!H33","v":{"v":0,"d":"0.00"}},{"$f":"'HDL-LDL'!I33","v":{"v":0,"d":"0.00"}},{"$nulls":21},{"$f":"'HDL-LDL'!J16","v":{"v":0,"d":"0.00"}},{"$f":"'HDL-LDL'!K16","v":{"v":0,"d":"0.00"}},{"$f":"'HDL-LDL'!J17","v":{"v":0,"d":"0.00"}},{"$f":"'HDL-LDL'!K17","v":{"v":0,"d":"0.00"}},{"$f":"'HDL-LDL'!J32","v":{"v":0,"d":"0.00"}},{"$f":"'HDL-LDL'!K32","v":{"v":0,"d":"0.00"}},{"$f":"'HDL-LDL'!J33","v":{"v":0,"d":"0.00"}},{"$f":"'HDL-LDL'!K33","v":{"v":0,"d":"0.00"}},{"$nulls":21},{"$f":"'HDL-LDL'!L16","v":{"v":0,"d":"0.00"}},{"$f":"'HDL-LDL'!M16","v":{"v":0,"d":"0.00"}},{"$f":"'HDL-LDL'!L17","v":{"v":0,"d":"0.00"}},{"$f":"'HDL-LDL'!M17","v":{"v":0,"d":"0.00"}},{"$f":"'HDL-LDL'!L32","v":{"v":0,"d":"0.00"}},{"$f":"'HDL-LDL'!M32","v":{"v":0,"d":"0.00"}},{"$f":"'HDL-LDL'!L33","v":{"v":0,"d":"0.00"}},{"$f":"'HDL-LDL'!M33","v":{"v":0,"d":"0.00"}}]
[null,{"$f":"'HDL-LDL'!$C$6","v":"PS0720"},null,{"$f":"'HDL-LDL'!$C$5","v":0},{"$f":"'HDL-LDL'!$E$18","v":0},{"$nulls":3},{"$f":"'HDL-LDL'!H18","v":{"v":0,"d":"0.00"}},{"$f":"'HDL-LDL'!I18","v":{"v":0,"d":"0.00"}},{"$f":"'HDL-LDL'!H19","v":{"v":0,"d":"0.00"}},{"$f":"'HDL-LDL'!I19","v":{"v":0,"d":"0.00"}},{"$f":"'HDL-LDL'!H34","v":{"v":0,"d":"0.00"}},{"$f":"'HDL-LDL'!I34","v":{"v":0,"d":"0.00"}},{"$f":"'HDL-LDL'!H35","v":{"v":0,"d":"0.00"}},{"$f":"'HDL-LDL'!I35","v":{"v":0,"d":"0.00"}},{"$nulls":21},{"$f":"'HDL-LDL'!J18","v":{"v":0,"d":"0.00"}},{"$f":"'HDL-LDL'!K18","v":{"v":0,"d":"0.00"}},{"$f":"'HDL-LDL'!J19","v":{"v":0,"d":"0.00"}},{"$f":"'HDL-LDL'!K19","v":{"v":0,"d":"0.00"}},{"$f":"'HDL-LDL'!J34","v":{"v":0,"d":"0.00"}},{"$f":"'HDL-LDL'!K34","v":{"v":0,"d":"0.00"}},{"$f":"'HDL-LDL'!J35","v":{"v":0,"d":"0.00"}},{"$f":"'HDL-LDL'!K35","v":{"v":0,"d":"0.00"}},{"$nulls":21},{"$f":"'HDL-LDL'!L18","v":{"v":0,"d":"0.00"}},{"$f":"'HDL-LDL'!M18","v":{"v":0,"d":"0.00"}},{"$f":"'HDL-LDL'!L19","v":{"v":0,"d":"0.00"}},{"$f":"'HDL-LDL'!M19","v":{"v":0,"d":"0.00"}},{"$f":"'HDL-LDL'!L34","v":{"v":0,"d":"0.00"}},{"$f":"'HDL-LDL'!M34","v":{"v":0,"d":"0.00"}},{"$f":"'HDL-LDL'!L35","v":{"v":0,"d":"0.00"}},{"$f":"'HDL-LDL'!M35","v":{"v":0,"d":"0.00"}}]
[null,{"$f":"'HDL-LDL'!$C$6","v":"PS0720"},null,{"$f":"'HDL-LDL'!$C$5","v":0},{"$f":"'HDL-LDL'!$E$20","v":0},{"$nulls":3},{"$f":"'HDL-LDL'!H20","v":{"v":0,"d":"0.00"}},{"$f":"'HDL-LDL'!I20","v":{"v":0,"d":"0.00"}},{"$f":"'HDL-LDL'!H21","v":{"v":0,"d":"0.00"}},{"$f":"'HDL-LDL'!I21","v":{"v":0,"d":"0.00"}},{"$f":"'HDL-LDL'!H36","v":{"v":0,"d":"0.00"}},{"$f":"'HDL-LDL'!I36","v":{"v":0,"d":"0.00"}},{"$f":"'HDL-LDL'!H37","v":{"v":0,"d":"0.00"}},{"$f":"'HDL-LDL'!I37","v":{"v":0,"d":"0.00"}},{"$nulls":21},{"$f":"'HDL-LDL'!J20","v":{"v":0,"d":"0.00"}},{"$f":"'HDL-LDL'!K20","v":{"v":0,"d":"0.00"}},{"$f":"'HDL-LDL'!J21","v":{"v":0,"d":"0.00"}},{"$f":"'HDL-LDL'!K21","v":{"v":0,"d":"0.00"}},{"$f":"'HDL-LDL'!J36","v":{"v":0,"d":"0.00"}},{"$f":"'HDL-LDL'!K36","v":{"v":0,"d":"0.00"}},{"$f":"'HDL-LDL'!J37","v":{"v":0,"d":"0.00"}},{"$f":"'HDL-LDL'!K37","v":{"v":0,"d":"0.00"}},{"$nulls":21},{"$f":"'HDL-LDL'!L20","v":{"v":0,"d":"0.00"}},{"$f":"'HDL-LDL'!M20","v":{"v":0,"d":"0.00"}},{"$f":"'HDL-LDL'!L21","v":{"v":0,"d":"0.00"}},{"$f":"'HDL-LDL'!M21","v":{"v":0,"d":"0.00"}},{"$f":"'HDL-LDL'!L36","v":{"v":0,"d":"0.00"}},{"$f":"'HDL-LDL'!M36","v":{"v":0,"d":"0.00"}},{"$f":"'HDL-LDL'!L37","v":{"v":0,"d":"0.00"}},{"$f":"'HDL-LDL'!M37","v":{"v":0,"d":"0.00"}}]
[null,{"$f":"'HDL-LDL'!$C$6","v":"PS0720"},null,{"$f":"'HDL-LDL'!$C$5","v":0},{"$f":"'HDL-LDL'!$E$22","v":0},{"$nulls":3},{"$f":"'HDL-LDL'!H22","v":{"v":0,"d":"0.00"}},{"$f":"'HDL-LDL'!I22","v":{"v":0,"d":"0.00"}},{"$f":"'HDL-LDL'!H23","v":{"v":0,"d":"0.00"}},{"$f":"'HDL-LDL'!I23","v":{"v":0,"d":"0.00"}},{"$f":"'HDL-LDL'!H38","v":{"v":0,"d":"0.00"}},{"$f":"'HDL-LDL'!I38","v":{"v":0,"d":"0.00"}},{"$f":"'HDL-LDL'!H39","v":{"v":0,"d":"0.00"}},{"$f":"'HDL-LDL'!I39","v":{"v":0,"d":"0.00"}},{"$nulls":21},{"$f":"'HDL-LDL'!J22","v":{"v":0,"d":"0.00"}},{"$f":"'HDL-LDL'!K22","v":{"v":0,"d":"0.00"}},{"$f":"'HDL-LDL'!J23","v":{"v":0,"d":"0.00"}},{"$f":"'HDL-LDL'!K23","v":{"v":0,"d":"0.00"}},{"$f":"'HDL-LDL'!J38","v":{"v":0,"d":"0.00"}},{"$f":"'HDL-LDL'!K38","v":{"v":0,"d":"0.00"}},{"$f":"'HDL-LDL'!J39","v":{"v":0,"d":"0.00"}},{"$f":"'HDL-LDL'!K39","v":{"v":0,"d":"0.00"}},{"$nulls":21},{"$f":"'HDL-LDL'!L22","v":{"v":0,"d":"0.00"}},{"$f":"'HDL-LDL'!M22","v":{"v":0,"d":"0.00"}},{"$f":"'HDL-LDL'!L23","v":{"v":0,"d":"0.00"}},{"$f":"'HDL-LDL'!M23","v":{"v":0,"d":"0.00"}},{"$f":"'HDL-LDL'!L38","v":{"v":0,"d":"0.00"}},{"$f":"'HDL-LDL'!M38","v":{"v":0,"d":"0.00"}},{"$f":"'HDL-LDL'!L39","v":{"v":0,"d":"0.00"}},{"$f":"'HDL-LDL'!M39","v":{"v":0,"d":"0.00"}}]

{"sheet":"Export for Old Template","index":17,"n_rows":1,"n_cols":8,"rows_kept":1,"hidden":true}
["Analyte","LabID","PS","SampleID","Run1","Run2","Date ","UnitOfMeasure"]

{"sheet":"Sheet2","index":18,"n_rows":0,"n_cols":0,"rows_kept":0,"hidden":true}

{"sheet":"CalPopUp","index":19,"n_rows":20,"n_cols":8,"rows_kept":20,"hidden":true}
[{"$f":"TODAY()","v":"2021-11-01"},{"$f":"IF(WEEKDAY(DATE(CalYear,MATCH($A$4,CalMonths,0),1))=1,DATE(CalYear,MATCH($A$4,CalMonths,0),1),\"\")","v":"2020-03-01"},{"$f":"IF(B1<>\"\",B1+1,IF(WEEKDAY(DATE(CalYear,MATCH($A$4,CalMonths,0),1))=2,DATE(CalYear,MATCH($A$4,CalMonths,0),1),\"\"))","v":"2020-03-02"},{"$f":"IF(C1<>\"\",C1+1,IF(WEEKDAY(DATE(CalYear,MATCH($A$4,CalMonths,0),1))=3,DATE(CalYear,MATCH($A$4,CalMonths,0),1),\"\"))","v":"2020-03-03"},{"$f":"IF(D1<>\"\",D1+1,IF(WEEKDAY(DATE(CalYear,MATCH($A$4,CalMonths,0),1))=4,DATE(CalYear,MATCH($A$4,CalMonths,0),1),\"\"))","v":"2020-03-04"},{"$f":"IF(E1<>\"\",E1+1,IF(WEEKDAY(DATE(CalYear,MATCH($A$4,CalMonths,0),1))=5,DATE(CalYear,MATCH($A$4,CalMonths,0),1),\"\"))","v":"2020-03-05"},{"$f":"IF(F1<>\"\",F1+1,IF(WEEKDAY(DATE(CalYear,MATCH($A$4,CalMonths,0),1))=6,DATE(CalYear,MATCH($A$4,CalMonths,0),1),\"\"))","v":"2020-03-06"},{"$f":"IF(G1<>\"\",G1+1,IF(WEEKDAY(DATE(CalYear,MATCH($A$4,CalMonths,0),1))=7,DATE(CalYear,MATCH($A$4,CalMonths,0),1),\"\"))","v":"2020-03-07"}]
[2020,{"$f":"H1+1","v":"2020-03-08"},{"$f":"B2+1","v":"2020-03-09"},{"$f":"C2+1","v":"2020-03-10"},"2020-03-11","2020-03-12","2020-03-13","2020-03-14"]
[3,{"$f":"H2+1","v":"2020-03-15"},{"$f":"B3+1","v":"2020-03-16"},"2020-03-17","2020-03-18","2020-03-19","2020-03-20","2020-03-21"]
[{"$f":"INDEX(CalMonths,A3,)","v":"March"},"2020-03-22","2020-03-23","2020-03-24","2020-03-25","2020-03-26","2020-03-27","2020-03-28"]
[{"$f":"A4&\" \"&CalYear","v":"March 2020"},{"$f":"IF(OR(H4=\"\",MONTH(H4+1)<>$A$3),\"\",H4+1)","v":"2020-03-29"},{"$f":"IFERROR(IF(MONTH(B5+1)<>$A$3,\"\",B5+1),\"\")","v":"2020-03-30"},{"$f":"IFERROR(IF(MONTH(C5+1)<>$A$3,\"\",C5+1),\"\")","v":"2020-03-31"},"","","",""]
[{"$f":"SUM(B6:H6)","v":0},{"$f":"IFERROR(IF(OR(H5=\"\",MONTH(H5+1)<>$A$3),\"\",H5+1),\"\")","v":""},{"$f":"IFERROR(F(MONTH(I5+1)<>$A$3,\"\",I5+1),\"\")","v":""},{"$f":"IFERROR(F(MONTH(J5+1)<>$A$3,\"\",J5+1),\"\")","v":""},{"$f":"IFERROR(F(MONTH(K5+1)<>$A$3,\"\",K5+1),\"\")","v":""},{"$f":"IFERROR(F(MONTH(L5+1)<>$A$3,\"\",L5+1),\"\")","v":""},{"$f":"IFERROR(F(MONTH(M5+1)<>$A$3,\"\",M5+1),\"\")","v":""},{"$f":"IFERROR(F(MONTH(N5+1)<>$A$3,\"\",N5+1),\"\")","v":""}]
[null,1,2,3,4,5,6,7]
["January",8,9,10,11,12,13,14]
["February",15,16,17,18,19,20,21]
["March",22,23,24,25,26,27,28]
["April",29,30,31,32,33,34,35]
["May",36,37,38,39,40,41,42]
["June"]
["July"]
["August"]
["September"]
["October"]
["November"]
["December"]
[{"$f":"IFERROR(INDIRECT(ADDRESS(SUMPRODUCT((B1:H6=A1)*ROW(B1:H6))+6,SUMPRODUCT((B1:H6=A1)*COLUMN(B1:H6)),1,1)),\"\")","v":""}]