{"text_format":"3","workbook":"xlsx","n_sheets":10,"sheets":["Instructions","Section 1","Section 2","Section 3","Summary","Reference List","Lists","Checks","OutputForCSV","TempOutput"],"not_rendered":{"macros":1,"defined_names":41,"comments":4},"read":"whole","date_system":"1900"}

{"sheet":"Instructions","index":0,"n_rows":21,"n_cols":3,"rows_kept":21}
[]
[null,null,"U.S. Environmental Protection Agency"]
[null,null,"Stratospheric Ozone Protection Program"]
[]
[null,null,"Class II Producer Quarterly Report \n(Sec 82.24)"]
[null,null,"Version 3.0"]
[null,null,"Last Updated: March 2019"]
[]
[null,null,"Instructions"]
[null,null,"Complete this form by filling in the data fields that are highlighted in blue.  Guidance on how to complete individual data fields are provided in comment bubbles. Use the arrows to navigate between the tabs. Once completed, use the 'prepare submission' button on the Summary tab to generate your CSV file.  "]
[null,null,"Copying and Pasting Data: If data are pasted into this reporting form from another spreadsheet, the formatting of specific cells must be consistent with the requirements of the form in order to be "]
[null,null,"accepted into EPA’s ODS Tracking System. Refer to the Reference List to identify the valid naming scheme for specific data fields. Additionally, select \"Paste As Values\" when pasting data into the form."]
[null,null,"Report Submission: This Excel file, the generated CSV file, and all supporting attachments should be submitted to EPA through the Central Data Exchange (CDX). Refer to EPA's website for additional information on form submission:"]
[null,null,"https://www.epa.gov/ods-phaseout/ods-recordkeeping-and-reporting"]
[]
[null,null,"All information submitted to EPA will be treated as confidential in accordance with 40 CFR Part 2, Subpart B, and will only be disclosed by the means set forth in the subpart. "]
[null,null,"The public reporting and recordkeeping burden for this collection of information is estimated to average 2 hours per response.  Send comments on the Agency's need for this information, the accuracy of the provided burden estimates, and any suggested methods for minimizing respondent burden, including through the use of automated collection techniques to the Director, Collection Strategies Division, U.S. Environmental Protection Agency (2822T), 1200 Pennsylvania Avenue NW, Washington, D.C. 20460.  Include the OMB control number in any correspondence.  Do not send the completed form to this address."]
[]
[null,null,"EPA Form #5900-202"]
[null,null,"OMB Control Number: 2010-0170"]
[null,null,"Expiration Date: 8/31/2021"]

{"sheet":"Section 1","index":1,"n_rows":15,"n_cols":9,"rows_kept":15,"merged":[[7,2,7,3]]}
[]
[null,null,"U.S. Environmental Protection Agency"]
[null,null,"Class II Producer Quarterly Report"]
[]
[null,null,"   Date Prepared:",{"$f":"TODAY()","v":"2019-03-28"}]
[]
[null,null,"Section 1: Report Identification Information "]
[null,null,"Complete all fields below.  No fields may be left blank."]
[null,null,"Company Name: ",null,null,{"$f":"IF($D$9=0,1,0)","v":1}]
[null,null,"Submission Type:",null,null,{"$f":"IF(OR(SubTSelection=Lists!C3,SubTSelection=Lists!C4),0,1)","v":1},null,null,{"$f":"IF(SubTSelection=\"\",\"\",IF(OR(SubTSelection=Lists!C3,SubTSelection=Lists!C4),\"\",\"PLEASE SELECT A VALID SUBMISSION TYPE FROM THE DROPDOWN LIST\"))","v":""}]
[null,null,"Reporting Year:",null,null,{"$f":"IF(OR($D$11=0,$D$11>Lists!$E$3),1,0)","v":1},null,null,{"$f":"IF(D11>Lists!E3,\"PLEASE CHOOSE A CURRENT OR PAST YEAR\",\"\")","v":""}]
[null,null,"Reporting Quarter:",null,null,{"$f":"IF(OR(ReportQtr=0,ReportQtr>Lists!F6),1,0)","v":1},null,null,{"$f":"IF(ReportQtr>Lists!F6,\"PLEASE SELECT A VALID QUARTER FROM THE DROPDOWN LIST\",\"\")","v":""}]
[{"$nulls":3},"x"]
[{"$nulls":3},{"$f":"Lists!C3","v":"Original Submission"}]
[{"$nulls":3},{"$f":"Lists!C4","v":"Re-Submittal"}]

{"sheet":"Section 2","index":2,"n_rows":62,"n_cols":19,"rows_kept":62,"merged":[[8,3,8,10],[9,3,9,10]]}
[]
[{"$nulls":3},"U.S. Environmental Protection Agency"]
[{"$nulls":3},"Class II Producer Quarterly Report"]
[]
[{"$nulls":3},"Company Name:",{"$f":"IF('Section 1'!D9=0,\"\",'Section 1'!D9)","v":""}]
[{"$nulls":3},"Reporting Period:",{"$f":"IF(OR('Section 1'!D11=0,'Section 1'!D12=0),\"\",\"Quarter \"&'Section 1'!D12&\", \"&'Section 1'!D11)","v":""}]
[]
[{"$nulls":3},"Section 2: Production Data"]
[{"$nulls":3},"In the table below, enter the quantity of each class II controlled substance that was produced during the reporting period.  If no controlled substances were produced, the table may be left blank.  As a reminder, if material was produced for second party transformation, second party destruction, or produced using Article 5 allowances (but sold domestically prior to export), a copy of the transformation, destruction, and/or Article 5 verification from each company for whom material was produced must be provided to EPA along with the submission of this report.\n"]
[{"$nulls":3},"If copying and pasting data into the table, please refer to the Reference List and the accompanying instructions."]
[{"$nulls":3},"Name of the Class II Chemical Produced","Gross Production","In-House Transformation ","Second Party Transformation ","In-House Destruction ","Second Party Destruction ","Article 5 ","Net Production"]
[{"$nulls":3},"Selection","kg","kg","kg","kg","kg","kg","Autopopulated"]
[{"$nulls":3},"HCFC-22",{"v":1550.65,"d":"1,550.65"},{"v":0,"d":"0.00"},250.85,{"v":0,"d":"0.00"},{"v":0,"d":"0.00"},{"v":1008,"d":"1,008.00"},{"$f":"E13-F13-G13-H13-I13-J13","v":{"v":291.8000000000002,"d":"291.80"}},{"$nulls":3},"Active Row?","Duplicate Check","Production Check","Sec 3 Inclusion","Valid Chem Name"]
[{"$f":"IF(D14=0,\"\",1)","v":""},{"$nulls":9},{"$f":"IF(D14=0,\"\",ROUND(E14-F14-G14-H14-I14-J14,2))","v":""},{"$nulls":3},{"$f":"IF(A14=\"\",\"N\",\"Y\")","v":"N"},{"$f":"IF(D14=0,0,IF(COUNTIF($D$14:$D$23,D14)>1,1,0))","v":0},{"$f":"IF(AND(D14<>0,E14=0),1,0)","v":0},{"$f":"IF(SUM(G14,I14)>0,IF(COUNTIF('Section 3'!$D$16:$D$25,D14)=0,1,0),0)","v":0},{"$f":"IF(D14=0,0,IF(COUNTIF(ClassIIChemicals,D14)>0,0,1))","v":0}]
[{"$f":"IF(D15=0,\"\",MAX($A$14:A14)+1)","v":""},{"$nulls":9},{"$f":"IF(D15=0,\"\",ROUND(E15-F15-G15-H15-I15-J15,2))","v":""},{"$nulls":3},{"$f":"IF(A15=\"\",\"N\",\"Y\")","v":"N"},{"$f":"IF(D15=0,0,IF(COUNTIF($D$14:$D$23,D15)>1,1,0))","v":0},{"$f":"IF(AND(D15<>0,E15=0),1,0)","v":0},{"$f":"IF(SUM(G15,I15)>0,IF(COUNTIF('Section 3'!$D$16:$D$25,D15)=0,1,0),0)","v":0},0]
[{"$f":"IF(D16=0,\"\",MAX($A$14:A15)+1)","v":""},{"$nulls":9},"",{"$nulls":3},"N",0,0,{"$f":"IF(SUM(G16,I16)>0,IF(COUNTIF('Section 3'!$D$16:$D$25,D16)=0,1,0),0)","v":0},0]
[{"$f":"IF(D17=0,\"\",MAX($A$14:A16)+1)","v":""},{"$nulls":9},"",{"$nulls":3},"N",0,0,{"$f":"IF(SUM(G17,I17)>0,IF(COUNTIF('Section 3'!$D$16:$D$25,D17)=0,1,0),0)","v":0},0]
[{"$f":"IF(D18=0,\"\",MAX($A$14:A17)+1)","v":""},{"$nulls":9},"",{"$nulls":3},"N",0,0,{"$f":"IF(SUM(G18,I18)>0,IF(COUNTIF('Section 3'!$D$16:$D$25,D18)=0,1,0),0)","v":0},0]
[{"$f":"IF(D19=0,\"\",MAX($A$14:A18)+1)","v":""},{"$nulls":9},"",{"$nulls":3},"N",0,0,{"$f":"IF(SUM(G19,I19)>0,IF(COUNTIF('Section 3'!$D$16:$D$25,D19)=0,1,0),0)","v":0},0]
[{"$f":"IF(D20=0,\"\",MAX($A$14:A19)+1)","v":""},{"$nulls":9},"",{"$nulls":3},"N",0,0,{"$f":"IF(SUM(G20,I20)>0,IF(COUNTIF('Section 3'!$D$16:$D$25,D20)=0,1,0),0)","v":0},0]
[{"$f":"IF(D21=0,\"\",MAX($A$14:A20)+1)","v":""},{"$nulls":9},"",{"$nulls":3},"N",0,0,{"$f":"IF(SUM(G21,I21)>0,IF(COUNTIF('Section 3'!$D$16:$D$25,D21)=0,1,0),0)","v":0},0]
[{"$f":"IF(D22=0,\"\",MAX($A$14:A21)+1)","v":""},{"$nulls":9},"",{"$nulls":3},"N",0,0,{"$f":"IF(SUM(G22,I22)>0,IF(COUNTIF('Section 3'!$D$16:$D$25,D22)=0,1,0),0)","v":0},0]
[{"$f":"IF(D23=0,\"\",MAX($A$14:A22)+1)","v":""},{"$nulls":9},"",{"$nulls":3},"N",0,0,{"$f":"IF(SUM(G23,I23)>0,IF(COUNTIF('Section 3'!$D$16:$D$25,D23)=0,1,0),0)","v":0},0]
[{"$nulls":3},"x"]
[{"$nulls":3},{"$f":"Lists!B3","v":"HCFC-21"}]
[{"$nulls":3},{"$f":"Lists!B4","v":"HCFC-22"}]
[{"$nulls":3},{"$f":"Lists!B5","v":"HCFC-31"}]
[{"$nulls":3},{"$f":"Lists!B6","v":"HCFC-121"}]
[{"$nulls":3},{"$f":"Lists!B7","v":"HCFC-122"}]
[{"$nulls":3},{"$f":"Lists!B8","v":"HCFC-123"}]
[{"$nulls":3},{"$f":"Lists!B9","v":"HCFC-123a"}]
[{"$nulls":3},{"$f":"Lists!B10","v":"HCFC-123b"}]
[{"$nulls":3},{"$f":"Lists!B11","v":"HCFC-124"}]
[{"$nulls":3},{"$f":"Lists!B12","v":"HCFC-124a"}]
[{"$nulls":3},{"$f":"Lists!B13","v":"HCFC-131"}]
[{"$nulls":3},{"$f":"Lists!B14","v":"HCFC-132b"}]
[{"$nulls":3},{"$f":"Lists!B15","v":"HCFC-133a"}]
[{"$nulls":3},{"$f":"Lists!B18","v":"HCFC-141b"}]
[{"$nulls":3},{"$f":"Lists!B21","v":"HCFC-142b"}]
[{"$nulls":3},{"$f":"Lists!B22","v":"HCFC-151"}]
[{"$nulls":3},{"$f":"Lists!B23","v":"HCFC-221"}]
[{"$nulls":3},{"$f":"Lists!B24","v":"HCFC-222"}]
[{"$nulls":3},{"$f":"Lists!B25","v":"HCFC-223"}]
[{"$nulls":3},{"$f":"Lists!B26","v":"HCFC-224"}]
[{"$nulls":3},{"$f":"Lists!B27","v":"HCFC-225ca"}]
[{"$nulls":3},{"$f":"Lists!B28","v":"HCFC-225cb"}]
[{"$nulls":3},{"$f":"Lists!B29","v":"HCFC-226"}]
[{"$nulls":3},{"$f":"Lists!B30","v":"HCFC-231"}]
[{"$nulls":3},{"$f":"Lists!B31","v":"HCFC-232"}]
[{"$nulls":3},{"$f":"Lists!B32","v":"HCFC-233"}]
[{"$nulls":3},{"$f":"Lists!B33","v":"HCFC-234"}]
[{"$nulls":3},{"$f":"Lists!B34","v":"HCFC-235"}]
[{"$nulls":3},{"$f":"Lists!B35","v":"HCFC-241"}]
[{"$nulls":3},{"$f":"Lists!B36","v":"HCFC-242"}]
[{"$nulls":3},{"$f":"Lists!B37","v":"HCFC-243"}]
[{"$nulls":3},{"$f":"Lists!B38","v":"HCFC-244"}]
[{"$nulls":3},{"$f":"Lists!B39","v":"HCFC-251"}]
[{"$nulls":3},{"$f":"Lists!B40","v":"HCFC-252"}]
[{"$nulls":3},{"$f":"Lists!B41","v":"HCFC-253"}]
[{"$nulls":3},{"$f":"Lists!B42","v":"HCFC-261"}]
[{"$nulls":3},{"$f":"Lists!B43","v":"HCFC-262"}]
[{"$nulls":3},{"$f":"Lists!B44","v":"HCFC-271"}]

{"sheet":"Section 3","index":3,"n_rows":64,"n_cols":17,"rows_kept":64,"merged":[[8,3,8,6],[9,3,9,6],[10,3,10,6],[11,3,11,6]]}
[]
[{"$nulls":3},"U.S. Environmental Protection Agency"]
[{"$nulls":3},"Class II Producer Quarterly Report"]
[]
[{"$nulls":3},"Company Name:",{"$f":"IF('Section 1'!D9=0,\"\",'Section 1'!D9)","v":""}]
[{"$nulls":3},"Reporting Period:",{"$f":"IF(OR('Section 1'!D11=0,'Section 1'!D12=0),\"\",\"Quarter \"&'Section 1'!D12&\", \"&'Section 1'!D11)","v":""}]
[]
[{"$nulls":3},"Section 3: Shipment/Sales Data"]
[{"$nulls":3},"Identify the recipient company(s) of the material produced for second party transformation, second party destruction, or produced with Article 5 allowances (but sold domestically), and the amount shipped to each company during the quarter. "]
[{"$nulls":3},"Note: Due to a potential time lag between the date of production and the date of shipment, it is recognized that for a given quarter the information in Section 3 may not match the information reported in Section 2; however, it is expected that all material produced for second party transformation or second party destruction will eventually be shipped to a second party and must be reported as such in the applicable quarterly report."]
[{"$nulls":3},"If copying and pasting data into the table, please refer to the Reference List and the accompanying instructions."]
[{"$nulls":3},"As a reminder, a copy of the transformation, destruction, and/or Article 5 verification from each company for which material was produced must be provided to EPA along with the submission of this report."]
[{"$nulls":3},"Chemical Name","Recipient Company Name","Quantity","Purpose"]
[{"$nulls":3},"Selection","Text","kg","Selection"]
[{"$nulls":3},"HCFC-22","Company A",250.85,"Transformation",{"$nulls":4},"ActiveRow?","Character Check","Sec 2 Inclusion","Completeness check","Valid Chem Name","Valid Purpose"]
[{"$f":"IF(D16=0,\"\",1)","v":""},{"$nulls":10},{"$f":"IF(A16=\"\",\"N\",\"Y\")","v":"N"},{"$f":"IF(LEN(E16)>200,1,0)","v":0},{"$f":"IF(D16=0,0,IF(SUMIF('Section 2'!$D$14:$D$23,D16,'Section 2'!$G$14:$G$23)+SUMIF('Section 2'!$D$14:$D$23,D16,'Section 2'!$I$14:$I$23)+SUMIF('Section 2'!$D$14:$D$23,D16,'Section 2'!$J$14:$J$23)>0,0,1))","v":0},{"$f":"IF(D16=0,0,IF(OR(E16=0,F16=0,G16=0),1,0))","v":0},{"$f":"IF(D16=0,0,IF(COUNTIF(ClassIIChemicals,D16)>0,0,1))","v":0},{"$f":"IF(G16=0,0,IF(COUNTIF(Purpose,G16)>0,0,1))","v":0}]
[{"$f":"IF(D17=0,\"\",MAX($A$16:A16)+1)","v":""},{"$nulls":10},{"$f":"IF(A17=\"\",\"N\",\"Y\")","v":"N"},{"$f":"IF(LEN(E17)>200,1,0)","v":0},{"$f":"IF(D17=0,0,IF(SUMIF('Section 2'!$D$14:$D$23,D17,'Section 2'!$G$14:$G$23)+SUMIF('Section 2'!$D$14:$D$23,D17,'Section 2'!$I$14:$I$23)+SUMIF('Section 2'!$D$14:$D$23,D17,'Section 2'!$J$14:$J$23)>0,0,1))","v":0},{"$f":"IF(D17=0,0,IF(OR(E17=0,F17=0,G17=0),1,0))","v":0},0,0]
[{"$f":"IF(D18=0,\"\",MAX($A$16:A17)+1)","v":""},{"$nulls":10},"N",0,{"$f":"IF(D18=0,0,IF(SUMIF('Section 2'!$D$14:$D$23,D18,'Section 2'!$G$14:$G$23)+SUMIF('Section 2'!$D$14:$D$23,D18,'Section 2'!$I$14:$I$23)+SUMIF('Section 2'!$D$14:$D$23,D18,'Section 2'!$J$14:$J$23)>0,0,1))","v":0},0,0,0]
[{"$f":"IF(D19=0,\"\",MAX($A$16:A18)+1)","v":""},{"$nulls":10},"N",0,{"$f":"IF(D19=0,0,IF(SUMIF('Section 2'!$D$14:$D$23,D19,'Section 2'!$G$14:$G$23)+SUMIF('Section 2'!$D$14:$D$23,D19,'Section 2'!$I$14:$I$23)+SUMIF('Section 2'!$D$14:$D$23,D19,'Section 2'!$J$14:$J$23)>0,0,1))","v":0},0,0,0]
[{"$f":"IF(D20=0,\"\",MAX($A$16:A19)+1)","v":""},{"$nulls":10},"N",0,{"$f":"IF(D20=0,0,IF(SUMIF('Section 2'!$D$14:$D$23,D20,'Section 2'!$G$14:$G$23)+SUMIF('Section 2'!$D$14:$D$23,D20,'Section 2'!$I$14:$I$23)+SUMIF('Section 2'!$D$14:$D$23,D20,'Section 2'!$J$14:$J$23)>0,0,1))","v":0},0,0,0]
[{"$f":"IF(D21=0,\"\",MAX($A$16:A20)+1)","v":""},{"$nulls":10},"N",0,{"$f":"IF(D21=0,0,IF(SUMIF('Section 2'!$D$14:$D$23,D21,'Section 2'!$G$14:$G$23)+SUMIF('Section 2'!$D$14:$D$23,D21,'Section 2'!$I$14:$I$23)+SUMIF('Section 2'!$D$14:$D$23,D21,'Section 2'!$J$14:$J$23)>0,0,1))","v":0},0,0,0]
[{"$f":"IF(D22=0,\"\",MAX($A$16:A21)+1)","v":""},{"$nulls":10},"N",0,{"$f":"IF(D22=0,0,IF(SUMIF('Section 2'!$D$14:$D$23,D22,'Section 2'!$G$14:$G$23)+SUMIF('Section 2'!$D$14:$D$23,D22,'Section 2'!$I$14:$I$23)+SUMIF('Section 2'!$D$14:$D$23,D22,'Section 2'!$J$14:$J$23)>0,0,1))","v":0},0,0,0]
[{"$f":"IF(D23=0,\"\",MAX($A$16:A22)+1)","v":""},{"$nulls":10},"N",0,{"$f":"IF(D23=0,0,IF(SUMIF('Section 2'!$D$14:$D$23,D23,'Section 2'!$G$14:$G$23)+SUMIF('Section 2'!$D$14:$D$23,D23,'Section 2'!$I$14:$I$23)+SUMIF('Section 2'!$D$14:$D$23,D23,'Section 2'!$J$14:$J$23)>0,0,1))","v":0},0,0,0]
[{"$f":"IF(D24=0,\"\",MAX($A$16:A23)+1)","v":""},{"$nulls":10},"N",0,{"$f":"IF(D24=0,0,IF(SUMIF('Section 2'!$D$14:$D$23,D24,'Section 2'!$G$14:$G$23)+SUMIF('Section 2'!$D$14:$D$23,D24,'Section 2'!$I$14:$I$23)+SUMIF('Section 2'!$D$14:$D$23,D24,'Section 2'!$J$14:$J$23)>0,0,1))","v":0},0,0,0]
[{"$f":"IF(D25=0,\"\",MAX($A$16:A24)+1)","v":""},{"$nulls":10},"N",0,{"$f":"IF(D25=0,0,IF(SUMIF('Section 2'!$D$14:$D$23,D25,'Section 2'!$G$14:$G$23)+SUMIF('Section 2'!$D$14:$D$23,D25,'Section 2'!$I$14:$I$23)+SUMIF('Section 2'!$D$14:$D$23,D25,'Section 2'!$J$14:$J$23)>0,0,1))","v":0},0,0,0]
[{"$nulls":3},"x",null,null,"x"]
[{"$nulls":3},{"$f":"Lists!B3","v":"HCFC-21"},null,null,{"$f":"Lists!G3","v":"Transformation"}]
[{"$nulls":3},{"$f":"Lists!B4","v":"HCFC-22"},null,null,{"$f":"Lists!G4","v":"Destruction"}]
[{"$nulls":3},{"$f":"Lists!B5","v":"HCFC-31"},null,null,{"$f":"Lists!G5","v":"Article 5"}]
[{"$nulls":3},{"$f":"Lists!B6","v":"HCFC-121"}]
[{"$nulls":3},{"$f":"Lists!B7","v":"HCFC-122"}]
[{"$nulls":3},{"$f":"Lists!B8","v":"HCFC-123"}]
[{"$nulls":3},{"$f":"Lists!B9","v":"HCFC-123a"}]
[{"$nulls":3},{"$f":"Lists!B10","v":"HCFC-123b"}]
[{"$nulls":3},{"$f":"Lists!B11","v":"HCFC-124"}]
[{"$nulls":3},{"$f":"Lists!B12","v":"HCFC-124a"}]
[{"$nulls":3},{"$f":"Lists!B13","v":"HCFC-131"}]
[{"$nulls":3},{"$f":"Lists!B14","v":"HCFC-132b"}]
[{"$nulls":3},{"$f":"Lists!B15","v":"HCFC-133a"}]
[{"$nulls":3},{"$f":"Lists!B18","v":"HCFC-141b"}]
[{"$nulls":3},{"$f":"Lists!B21","v":"HCFC-142b"}]
[{"$nulls":3},{"$f":"Lists!B22","v":"HCFC-151"}]
[{"$nulls":3},{"$f":"Lists!B23","v":"HCFC-221"}]
[{"$nulls":3},{"$f":"Lists!B24","v":"HCFC-222"}]
[{"$nulls":3},{"$f":"Lists!B25","v":"HCFC-223"}]
[{"$nulls":3},{"$f":"Lists!B26","v":"HCFC-224"}]
[{"$nulls":3},{"$f":"Lists!B27","v":"HCFC-225ca"}]
[{"$nulls":3},{"$f":"Lists!B28","v":"HCFC-225cb"}]
[{"$nulls":3},{"$f":"Lists!B29","v":"HCFC-226"}]
[{"$nulls":3},{"$f":"Lists!B30","v":"HCFC-231"}]
[{"$nulls":3},{"$f":"Lists!B31","v":"HCFC-232"}]
[{"$nulls":3},{"$f":"Lists!B32","v":"HCFC-233"}]
[{"$nulls":3},{"$f":"Lists!B33","v":"HCFC-234"}]
[{"$nulls":3},{"$f":"Lists!B34","v":"HCFC-235"}]
[{"$nulls":3},{"$f":"Lists!B35","v":"HCFC-241"}]
[{"$nulls":3},{"$f":"Lists!B36","v":"HCFC-242"}]
[{"$nulls":3},{"$f":"Lists!B37","v":"HCFC-243"}]
[{"$nulls":3},{"$f":"Lists!B38","v":"HCFC-244"}]
[{"$nulls":3},{"$f":"Lists!B39","v":"HCFC-251"}]
[{"$nulls":3},{"$f":"Lists!B40","v":"HCFC-252"}]
[{"$nulls":3},{"$f":"Lists!B41","v":"HCFC-253"}]
[{"$nulls":3},{"$f":"Lists!B42","v":"HCFC-261"}]
[{"$nulls":3},{"$f":"Lists!B43","v":"HCFC-262"}]
[{"$nulls":3},{"$f":"Lists!B44","v":"HCFC-271"}]

{"sheet":"Summary","index":4,"n_rows":18,"n_cols":7,"rows_kept":18,"merged":[[8,3,8,6],[9,3,10,3],[9,4,9,6]]}
[]
[{"$nulls":3},"U.S. Environmental Protection Agency"]
[{"$nulls":3},"Class II Producer Quarterly Report"]
[]
[{"$nulls":3},"Company Name:",{"$f":"IF('Section 1'!D9=0,\"\",'Section 1'!D9)","v":""}]
[{"$nulls":3},"Reporting Period:",{"$f":"IF(OR('Section 1'!D11=0,'Section 1'!D12=0),\"\",\"Quarter \"&'Section 1'!D12&\", \"&'Section 1'!D11)","v":""}]
[]
[{"$nulls":3},"Allowance Summary"]
[{"$nulls":3},"The values in the table below are calculated based on data entered in Section 2 for chemicals that have allowances.  If the totals appear to be incorrect, please return to Section 2 to review your data."]
[{"$nulls":3},"Chemical Name","Allowances Expended (kg)"]
[1,{"$nulls":3},"Production ","Consumption ","Article 5"]
[2,null,null,{"$f":"IFERROR(VLOOKUP(A11,Lists!$N$3:$O$9,2,0),\"\")","v":""},{"$f":"IFERROR(VLOOKUP($D12,'Section 2'!$D$14:$K$23,8,FALSE),\" \")","v":" "},{"$f":"IFERROR(VLOOKUP($D12,'Section 2'!$D$14:$K$23,8,FALSE),\" \")","v":" "},{"$f":"IFERROR(VLOOKUP($D12,'Section 2'!$D$14:$K$23,7,FALSE),\" \")","v":" "}]
[3,null,null,{"$f":"IFERROR(VLOOKUP(A12,Lists!$N$3:$O$9,2,0),\"\")","v":""},{"$f":"IFERROR(VLOOKUP($D13,'Section 2'!$D$14:$K$23,8,FALSE),\" \")","v":" "},{"$f":"IFERROR(VLOOKUP($D13,'Section 2'!$D$14:$K$23,8,FALSE),\" \")","v":" "},{"$f":"IFERROR(VLOOKUP($D13,'Section 2'!$D$14:$K$23,7,FALSE),\" \")","v":" "}]
[4,null,null,{"$f":"IFERROR(VLOOKUP(A13,Lists!$N$3:$O$9,2,0),\"\")","v":""},{"$f":"IFERROR(VLOOKUP($D14,'Section 2'!$D$14:$K$23,8,FALSE),\" \")","v":" "},{"$f":"IFERROR(VLOOKUP($D14,'Section 2'!$D$14:$K$23,8,FALSE),\" \")","v":" "},{"$f":"IFERROR(VLOOKUP($D14,'Section 2'!$D$14:$K$23,7,FALSE),\" \")","v":" "}]
[5,null,null,{"$f":"IFERROR(VLOOKUP(A14,Lists!$N$3:$O$9,2,0),\"\")","v":""},{"$f":"IFERROR(VLOOKUP($D15,'Section 2'!$D$14:$K$23,8,FALSE),\" \")","v":" "},{"$f":"IFERROR(VLOOKUP($D15,'Section 2'!$D$14:$K$23,8,FALSE),\" \")","v":" "},{"$f":"IFERROR(VLOOKUP($D15,'Section 2'!$D$14:$K$23,7,FALSE),\" \")","v":" "}]
[6,null,null,{"$f":"IFERROR(VLOOKUP(A15,Lists!$N$3:$O$9,2,0),\"\")","v":""},{"$f":"IFERROR(VLOOKUP($D16,'Section 2'!$D$14:$K$23,8,FALSE),\" \")","v":" "},{"$f":"IFERROR(VLOOKUP($D16,'Section 2'!$D$14:$K$23,8,FALSE),\" \")","v":" "},{"$f":"IFERROR(VLOOKUP($D16,'Section 2'!$D$14:$K$23,7,FALSE),\" \")","v":" "}]
[7,null,null,{"$f":"IFERROR(VLOOKUP(A16,Lists!$N$3:$O$9,2,0),\"\")","v":""},{"$f":"IFERROR(VLOOKUP($D17,'Section 2'!$D$14:$K$23,8,FALSE),\" \")","v":" "},{"$f":"IFERROR(VLOOKUP($D17,'Section 2'!$D$14:$K$23,8,FALSE),\" \")","v":" "},{"$f":"IFERROR(VLOOKUP($D17,'Section 2'!$D$14:$K$23,7,FALSE),\" \")","v":" "}]
[{"$nulls":3},{"$f":"IFERROR(VLOOKUP(A17,Lists!$N$3:$O$9,2,0),\"\")","v":""},{"$f":"IFERROR(VLOOKUP($D18,'Section 2'!$D$14:$K$23,8,FALSE),\" \")","v":" "},{"$f":"IFERROR(VLOOKUP($D18,'Section 2'!$D$14:$K$23,8,FALSE),\" \")","v":" "},{"$f":"IFERROR(VLOOKUP($D18,'Section 2'!$D$14:$K$23,7,FALSE),\" \")","v":" "}]

{"sheet":"Reference List","index":5,"n_rows":18,"n_cols":7,"rows_kept":18,"merged":[[5,2,5,6],[6,2,6,6],[8,2,8,6]]}
[]
[null,null,"U.S. Environmental Protection Agency"]
[null,null,"Class II Producer Quarterly Report"]
[null,null,"Reference List"]
[]
[null,null,"Copying and Pasting Data: If data are pasted into this reporting form from another spreadsheet, the formatting of specific cells must be consistent with the requirements of the form in order to be accepted into EPA’s ODS tracking system.  When copying and pasting data into the form, please ensure consistency with the formatting of the list below."]
[null,null,"Chemical Name List: The table below lists the valid chemical names that may be used when entering data into Section 2 and Section 3 of this form. "]
[]
[null,null,"Chemical Name"]
[null,null,"HCFC-21","HCFC-124a","HCFC-142b","HCFC-231","HCFC-251"]
[null,null,"HCFC-22","HCFC-131","HCFC-151","HCFC-232","HCFC-252"]
[null,null,"HCFC-31","HCFC-132b","HCFC-221","HCFC-233","HCFC-253"]
[null,null,"HCFC-121","HCFC-133a","HCFC-222","HCFC-234","HCFC-261"]
[null,null,"HCFC-122","HCFC-141","HCFC-223","HCFC-235","HCFC-262"]
[null,null,"HCFC-123","HCFC-141a","HCFC-224","HCFC-241","HCFC-271"]
[null,null,"HCFC-123a","HCFC-141b","HCFC-225ca","HCFC-242"]
[null,null,"HCFC-123b","HCFC-142","HCFC-225cb","HCFC-243"]
[null,null,"HCFC-124","HCFC-142a","HCFC-226","HCFC-244"]

{"sheet":"Lists","index":6,"n_rows":44,"n_cols":18,"rows_kept":44,"hidden":true}
[{"$nulls":16},"Variables for Data Submission"]
[null,"Chemical Name","Submission Type","Reporting Year","Current Year","Reporting Quarter","Purpose","Date for CSV Title","Form Name for CSV Title",null,"Form Type","Form Code",null,"Selected?","Chem List with Allowances",null,null,"Row #"]
[null,"HCFC-21","Original Submission",2018,{"$f":"YEAR(TODAY())","v":2019},1,"Transformation",{"$f":"MONTH(SubDate)&\"-\"&DAY(SubDate)&\"-\"&YEAR(SubDate)","v":"3-28-2019"},"Class II Producer",null,"Class I Producer","PROD1",null,{"$f":"IF(COUNTIF('Section 2'!$D$14:$D$23,O3)>0,1,0)","v":0},"HCFC-22",null,"Sec2End",{"$f":"IF(MAX(OutputForCSV!A2:A11)=0,1,MAX(OutputForCSV!A2:A11))","v":1}]
[null,"HCFC-22","Re-Submittal",2019,null,2,"Destruction",{"$nulls":3},"MeBr Producer","PROD3",null,{"$f":"IF(COUNTIF('Section 2'!$D$14:$D$23,O4)>0,MAX($N$3:N3)+1,0)","v":0},"HCFC-123",null,"Sec3Start",{"$f":"OutputForCSV!A12","v":""}]
[null,"HCFC-31",null,2020,null,3,"Article 5",{"$nulls":3},"Class II Producer","PROD2",null,{"$f":"IF(COUNTIF('Section 2'!$D$14:$D$23,O5)>0,MAX($N$3:N4)+1,0)","v":0},"HCFC-124",null,"Sec3End",{"$f":"MAX(OutputForCSV!A12:A21)","v":0}]
[null,"HCFC-121",{"$nulls":3},4,{"$nulls":4},"Class I Importer","IMPT1",null,{"$f":"IF(COUNTIF('Section 2'!$D$14:$D$23,O6)>0,MAX($N$3:N5)+1,0)","v":0},"HCFC-141b",null,"MaxTempRow",{"$f":"IF(MAX(TempOutput!A2:A21)=0,1,MAX(TempOutput!A2:A21))","v":1}]
[null,"HCFC-122",{"$nulls":8},"MeBr Importer","IMPT3",null,{"$f":"IF(COUNTIF('Section 2'!$D$14:$D$23,O7)>0,MAX($N$3:N6)+1,0)","v":0},"HCFC-142b",null,"Sec3PasteRow",{"$f":"IF(R3=0,2,R3+1)","v":2}]
[null,"HCFC-123",{"$nulls":8},"Class II Importer","IMPT2",null,{"$f":"IF(COUNTIF('Section 2'!$D$14:$D$23,O8)>0,MAX($N$3:N7)+1,0)","v":0},"HCFC-225ca"]
[null,"HCFC-123a",{"$nulls":8},"Class I Exporter","EXPT1",null,{"$f":"IF(COUNTIF('Section 2'!$D$14:$D$23,O9)>0,MAX($N$3:N8)+1,0)","v":0},"HCFC-225cb"]
[null,"HCFC-123b",{"$nulls":8},"MeBr Exporter","EXPT3"]
[null,"HCFC-124",{"$nulls":8},"Class II Exporter","EXPT2"]
[null,"HCFC-124a",{"$nulls":8},"Class I Lab Supplier","LABS1"]
[null,"HCFC-131",{"$nulls":8},"Class I Destruction","DEST1"]
[null,"HCFC-132b",{"$nulls":8},"MeBr Destruction","DEST3"]
[null,"HCFC-133a",{"$nulls":8},"Class II Destruction","DEST2"]
[null,"HCFC-141",{"$nulls":8},"Class I Transformation","TRAN1"]
[null,"HCFC-141a",{"$nulls":8},"MeBr Transformation","TRAN3"]
[null,"HCFC-141b",{"$nulls":8},"Class II Transformation","TRAN2"]
[null,"HCFC-142",{"$nulls":8},"MeBr Trades","TRAD3"]
[null,"HCFC-142a",{"$nulls":8},"Class II Trades","TRAD2"]
[null,"HCFC-142b",{"$nulls":8},"Class II RACA","RACA2"]
[null,"HCFC-151",{"$nulls":8},"MeBr Distributor of QPS","MBQPS"]
[null,"HCFC-221",{"$nulls":8},"MeBr Pre-2005 Stocks","MB05S"]
[null,"HCFC-222",{"$nulls":8},"MeBr Sales of CU","MBCUE"]
[null,"HCFC-223",{"$nulls":8},"Petitions","PETIT"]
[null,"HCFC-224"]
[null,"HCFC-225ca"]
[null,"HCFC-225cb"]
[null,"HCFC-226"]
[null,"HCFC-231"]
[null,"HCFC-232"]
[null,"HCFC-233"]
[null,"HCFC-234"]
[null,"HCFC-235"]
[null,"HCFC-241"]
[null,"HCFC-242"]
[null,"HCFC-243"]
[null,"HCFC-244"]
[null,"HCFC-251"]
[null,"HCFC-252"]
[null,"HCFC-253"]
[null,"HCFC-261"]
[null,"HCFC-262"]
[null,"HCFC-271"]

{"sheet":"Checks","index":7,"n_rows":23,"n_cols":4,"rows_kept":23,"hidden":true}
[]
[null,"Section","Check Description","Status (1 = Incomplete, 0 = Complete)"]
[null,"Section 1","All",{"$f":"IF(SUM('Section 1'!F9:F12)>0,1,0)","v":1}]
[null,"Section 2","Duplicates",{"$f":"IF(SUM('Section 2'!P14:P23)>0,1,0)","v":0}]
[null,"Section 2","Negative Net Production",{"$f":"IF(MIN('Section 2'!$K$14:$K$23)<0,1,0)","v":0}]
[null,"Section 2","Gross Production Check",{"$f":"IF(SUM('Section 2'!Q14:Q23)>0,1,0)","v":0}]
[null,"Section 2","Valid Chem Name",{"$f":"IF(SUM('Section 2'!S14:S23)>0,1,0)","v":0}]
[null,"Section 2","Error Check",{"$f":"IF(SUM(D4:D7)>0,1,0)","v":0}]
[null,"Section 2","Filled Out?",{"$f":"IF(SUM('Section 2'!E14:E23)>0,0,1)","v":1}]
[null,"Section 3","Valid Chem Name",{"$f":"IF(SUM('Section 3'!P16:P25)>0,1,0)","v":0}]
[null,"Section 3","Valid Purpose",{"$f":"IF(SUM('Section 3'!Q16:Q25)>0,1,0)","v":0}]
[null,"Section 3","Complete?",{"$f":"IF(SUM('Section 3'!O16:O25)>0,1,0)","v":0}]
[null,"Section 3","Error Check",{"$f":"IF(SUM(D10:D12)>0,1,0)","v":0}]
[null,"Section 3","Sec2 2nd party trans/destruction reflected in Sec 3?",{"$f":"IF(SUM('Section 2'!R14:R23)>0,1,0)","v":0}]
[null,"Section 3","Sec 3 reflected in Sec 2?",{"$f":"IF(SUM('Section 3'!N16:N25)>0,1,0)","v":0}]
[null,"All","Error Check",{"$f":"IF(SUM(Sec1Status,Sec2Error,Sec3Error)>0,1,0)","v":1}]
[]
[]
[]
[null,"Numerical Checks against Output for CSV"]
[null,"Section 2","Net Production",{"$f":"SUMIF('Section 2'!$O$14:$O$23,\"Y\",'Section 2'!$K$14:$K$23)-(SUM(OutputForCSV!E2:E11)-SUM(OutputForCSV!F2:J11))","v":{"v":0,"d":"0.00"}}]
[null,"Section 3","Section 3 Quantity",{"$f":"SUMIF('Section 3'!$L$16:$L$25,\"Y\",'Section 3'!$F$16:$F$25)-SUM(OutputForCSV!$F$12:$F$21)","v":{"v":0,"d":"0.00"}}]
[null,"ALL","TOTAL",{"$f":"SUM(D21:D22)","v":{"v":0,"d":"0.00"}}]

{"sheet":"OutputForCSV","index":8,"n_rows":22,"n_cols":12,"rows_kept":22,"hidden":true}
["Row #","Entry",1,"PROD2","3",{"$f":"'Section 1'!D5","v":"2019-03-28"},{"$f":"'Section 1'!D9","v":0},{"$f":"'Section 1'!D10","v":0},{"$f":"'Section 1'!D11","v":0},{"$f":"'Section 1'!D12","v":0},null,"LastColumn"]
[{"$f":"IF(D2=\"\",\"\",ROWS($A$1:A2))","v":""},1,{"$f":"IF(D2=\"\",\"\",2)","v":""},{"$f":"IFERROR(VLOOKUP($B2,'Section 2'!$A$14:$K$23,COLUMNS('Section 2'!$A$14:D$14),0),\"\")","v":""},{"$f":"IFERROR(VLOOKUP($B2,'Section 2'!$A$14:$K$23,COLUMNS('Section 2'!$A$14:E$14),0),\"\")","v":""},{"$f":"IFERROR(VLOOKUP($B2,'Section 2'!$A$14:$K$23,COLUMNS('Section 2'!$A$14:F$14),0),\"\")","v":""},{"$f":"IFERROR(VLOOKUP($B2,'Section 2'!$A$14:$K$23,COLUMNS('Section 2'!$A$14:G$14),0),\"\")","v":""},{"$f":"IFERROR(VLOOKUP($B2,'Section 2'!$A$14:$K$23,COLUMNS('Section 2'!$A$14:H$14),0),\"\")","v":""},{"$f":"IFERROR(VLOOKUP($B2,'Section 2'!$A$14:$K$23,COLUMNS('Section 2'!$A$14:I$14),0),\"\")","v":""},{"$f":"IFERROR(VLOOKUP($B2,'Section 2'!$A$14:$K$23,COLUMNS('Section 2'!$A$14:J$14),0),\"\")","v":""}]
[{"$f":"IF(D3=\"\",\"\",ROWS($A$1:A3))","v":""},2,{"$f":"IF(D3=\"\",\"\",2)","v":""},{"$f":"IFERROR(VLOOKUP($B3,'Section 2'!$A$14:$K$23,COLUMNS('Section 2'!$A$14:D$14),0),\"\")","v":""},{"$f":"IFERROR(VLOOKUP($B3,'Section 2'!$A$14:$K$23,COLUMNS('Section 2'!$A$14:E$14),0),\"\")","v":""},{"$f":"IFERROR(VLOOKUP($B3,'Section 2'!$A$14:$K$23,COLUMNS('Section 2'!$A$14:F$14),0),\"\")","v":""},{"$f":"IFERROR(VLOOKUP($B3,'Section 2'!$A$14:$K$23,COLUMNS('Section 2'!$A$14:G$14),0),\"\")","v":""},{"$f":"IFERROR(VLOOKUP($B3,'Section 2'!$A$14:$K$23,COLUMNS('Section 2'!$A$14:H$14),0),\"\")","v":""},{"$f":"IFERROR(VLOOKUP($B3,'Section 2'!$A$14:$K$23,COLUMNS('Section 2'!$A$14:I$14),0),\"\")","v":""},{"$f":"IFERROR(VLOOKUP($B3,'Section 2'!$A$14:$K$23,COLUMNS('Section 2'!$A$14:J$14),0),\"\")","v":""}]
[{"$f":"IF(D4=\"\",\"\",ROWS($A$1:A4))","v":""},3,"",{"$f":"IFERROR(VLOOKUP($B4,'Section 2'!$A$14:$K$23,COLUMNS('Section 2'!$A$14:D$14),0),\"\")","v":""},{"$f":"IFERROR(VLOOKUP($B4,'Section 2'!$A$14:$K$23,COLUMNS('Section 2'!$A$14:E$14),0),\"\")","v":""},{"$f":"IFERROR(VLOOKUP($B4,'Section 2'!$A$14:$K$23,COLUMNS('Section 2'!$A$14:F$14),0),\"\")","v":""},{"$f":"IFERROR(VLOOKUP($B4,'Section 2'!$A$14:$K$23,COLUMNS('Section 2'!$A$14:G$14),0),\"\")","v":""},{"$f":"IFERROR(VLOOKUP($B4,'Section 2'!$A$14:$K$23,COLUMNS('Section 2'!$A$14:H$14),0),\"\")","v":""},{"$f":"IFERROR(VLOOKUP($B4,'Section 2'!$A$14:$K$23,COLUMNS('Section 2'!$A$14:I$14),0),\"\")","v":""},{"$f":"IFERROR(VLOOKUP($B4,'Section 2'!$A$14:$K$23,COLUMNS('Section 2'!$A$14:J$14),0),\"\")","v":""}]
[{"$f":"IF(D5=\"\",\"\",ROWS($A$1:A5))","v":""},4,"",{"$f":"IFERROR(VLOOKUP($B5,'Section 2'!$A$14:$K$23,COLUMNS('Section 2'!$A$14:D$14),0),\"\")","v":""},{"$f":"IFERROR(VLOOKUP($B5,'Section 2'!$A$14:$K$23,COLUMNS('Section 2'!$A$14:E$14),0),\"\")","v":""},{"$f":"IFERROR(VLOOKUP($B5,'Section 2'!$A$14:$K$23,COLUMNS('Section 2'!$A$14:F$14),0),\"\")","v":""},{"$f":"IFERROR(VLOOKUP($B5,'Section 2'!$A$14:$K$23,COLUMNS('Section 2'!$A$14:G$14),0),\"\")","v":""},{"$f":"IFERROR(VLOOKUP($B5,'Section 2'!$A$14:$K$23,COLUMNS('Section 2'!$A$14:H$14),0),\"\")","v":""},{"$f":"IFERROR(VLOOKUP($B5,'Section 2'!$A$14:$K$23,COLUMNS('Section 2'!$A$14:I$14),0),\"\")","v":""},{"$f":"IFERROR(VLOOKUP($B5,'Section 2'!$A$14:$K$23,COLUMNS('Section 2'!$A$14:J$14),0),\"\")","v":""}]
[{"$f":"IF(D6=\"\",\"\",ROWS($A$1:A6))","v":""},5,"",{"$f":"IFERROR(VLOOKUP($B6,'Section 2'!$A$14:$K$23,COLUMNS('Section 2'!$A$14:D$14),0),\"\")","v":""},{"$f":"IFERROR(VLOOKUP($B6,'Section 2'!$A$14:$K$23,COLUMNS('Section 2'!$A$14:E$14),0),\"\")","v":""},{"$f":"IFERROR(VLOOKUP($B6,'Section 2'!$A$14:$K$23,COLUMNS('Section 2'!$A$14:F$14),0),\"\")","v":""},{"$f":"IFERROR(VLOOKUP($B6,'Section 2'!$A$14:$K$23,COLUMNS('Section 2'!$A$14:G$14),0),\"\")","v":""},{"$f":"IFERROR(VLOOKUP($B6,'Section 2'!$A$14:$K$23,COLUMNS('Section 2'!$A$14:H$14),0),\"\")","v":""},{"$f":"IFERROR(VLOOKUP($B6,'Section 2'!$A$14:$K$23,COLUMNS('Section 2'!$A$14:I$14),0),\"\")","v":""},{"$f":"IFERROR(VLOOKUP($B6,'Section 2'!$A$14:$K$23,COLUMNS('Section 2'!$A$14:J$14),0),\"\")","v":""}]
[{"$f":"IF(D7=\"\",\"\",ROWS($A$1:A7))","v":""},6,"",{"$f":"IFERROR(VLOOKUP($B7,'Section 2'!$A$14:$K$23,COLUMNS('Section 2'!$A$14:D$14),0),\"\")","v":""},{"$f":"IFERROR(VLOOKUP($B7,'Section 2'!$A$14:$K$23,COLUMNS('Section 2'!$A$14:E$14),0),\"\")","v":""},{"$f":"IFERROR(VLOOKUP($B7,'Section 2'!$A$14:$K$23,COLUMNS('Section 2'!$A$14:F$14),0),\"\")","v":""},{"$f":"IFERROR(VLOOKUP($B7,'Section 2'!$A$14:$K$23,COLUMNS('Section 2'!$A$14:G$14),0),\"\")","v":""},{"$f":"IFERROR(VLOOKUP($B7,'Section 2'!$A$14:$K$23,COLUMNS('Section 2'!$A$14:H$14),0),\"\")","v":""},{"$f":"IFERROR(VLOOKUP($B7,'Section 2'!$A$14:$K$23,COLUMNS('Section 2'!$A$14:I$14),0),\"\")","v":""},{"$f":"IFERROR(VLOOKUP($B7,'Section 2'!$A$14:$K$23,COLUMNS('Section 2'!$A$14:J$14),0),\"\")","v":""}]
[{"$f":"IF(D8=\"\",\"\",ROWS($A$1:A8))","v":""},7,"",{"$f":"IFERROR(VLOOKUP($B8,'Section 2'!$A$14:$K$23,COLUMNS('Section 2'!$A$14:D$14),0),\"\")","v":""},{"$f":"IFERROR(VLOOKUP($B8,'Section 2'!$A$14:$K$23,COLUMNS('Section 2'!$A$14:E$14),0),\"\")","v":""},{"$f":"IFERROR(VLOOKUP($B8,'Section 2'!$A$14:$K$23,COLUMNS('Section 2'!$A$14:F$14),0),\"\")","v":""},{"$f":"IFERROR(VLOOKUP($B8,'Section 2'!$A$14:$K$23,COLUMNS('Section 2'!$A$14:G$14),0),\"\")","v":""},{"$f":"IFERROR(VLOOKUP($B8,'Section 2'!$A$14:$K$23,COLUMNS('Section 2'!$A$14:H$14),0),\"\")","v":""},{"$f":"IFERROR(VLOOKUP($B8,'Section 2'!$A$14:$K$23,COLUMNS('Section 2'!$A$14:I$14),0),\"\")","v":""},{"$f":"IFERROR(VLOOKUP($B8,'Section 2'!$A$14:$K$23,COLUMNS('Section 2'!$A$14:J$14),0),\"\")","v":""}]
[{"$f":"IF(D9=\"\",\"\",ROWS($A$1:A9))","v":""},8,"",{"$f":"IFERROR(VLOOKUP($B9,'Section 2'!$A$14:$K$23,COLUMNS('Section 2'!$A$14:D$14),0),\"\")","v":""},{"$f":"IFERROR(VLOOKUP($B9,'Section 2'!$A$14:$K$23,COLUMNS('Section 2'!$A$14:E$14),0),\"\")","v":""},{"$f":"IFERROR(VLOOKUP($B9,'Section 2'!$A$14:$K$23,COLUMNS('Section 2'!$A$14:F$14),0),\"\")","v":""},{"$f":"IFERROR(VLOOKUP($B9,'Section 2'!$A$14:$K$23,COLUMNS('Section 2'!$A$14:G$14),0),\"\")","v":""},{"$f":"IFERROR(VLOOKUP($B9,'Section 2'!$A$14:$K$23,COLUMNS('Section 2'!$A$14:H$14),0),\"\")","v":""},{"$f":"IFERROR(VLOOKUP($B9,'Section 2'!$A$14:$K$23,COLUMNS('Section 2'!$A$14:I$14),0),\"\")","v":""},{"$f":"IFERROR(VLOOKUP($B9,'Section 2'!$A$14:$K$23,COLUMNS('Section 2'!$A$14:J$14),0),\"\")","v":""}]
[{"$f":"IF(D10=\"\",\"\",ROWS($A$1:A10))","v":""},9,"",{"$f":"IFERROR(VLOOKUP($B10,'Section 2'!$A$14:$K$23,COLUMNS('Section 2'!$A$14:D$14),0),\"\")","v":""},{"$f":"IFERROR(VLOOKUP($B10,'Section 2'!$A$14:$K$23,COLUMNS('Section 2'!$A$14:E$14),0),\"\")","v":""},{"$f":"IFERROR(VLOOKUP($B10,'Section 2'!$A$14:$K$23,COLUMNS('Section 2'!$A$14:F$14),0),\"\")","v":""},{"$f":"IFERROR(VLOOKUP($B10,'Section 2'!$A$14:$K$23,COLUMNS('Section 2'!$A$14:G$14),0),\"\")","v":""},{"$f":"IFERROR(VLOOKUP($B10,'Section 2'!$A$14:$K$23,COLUMNS('Section 2'!$A$14:H$14),0),\"\")","v":""},{"$f":"IFERROR(VLOOKUP($B10,'Section 2'!$A$14:$K$23,COLUMNS('Section 2'!$A$14:I$14),0),\"\")","v":""},{"$f":"IFERROR(VLOOKUP($B10,'Section 2'!$A$14:$K$23,COLUMNS('Section 2'!$A$14:J$14),0),\"\")","v":""}]
[{"$f":"IF(D11=\"\",\"\",ROWS($A$1:A11))","v":""},10,"",{"$f":"IFERROR(VLOOKUP($B11,'Section 2'!$A$14:$K$23,COLUMNS('Section 2'!$A$14:D$14),0),\"\")","v":""},{"$f":"IFERROR(VLOOKUP($B11,'Section 2'!$A$14:$K$23,COLUMNS('Section 2'!$A$14:E$14),0),\"\")","v":""},{"$f":"IFERROR(VLOOKUP($B11,'Section 2'!$A$14:$K$23,COLUMNS('Section 2'!$A$14:F$14),0),\"\")","v":""},{"$f":"IFERROR(VLOOKUP($B11,'Section 2'!$A$14:$K$23,COLUMNS('Section 2'!$A$14:G$14),0),\"\")","v":""},{"$f":"IFERROR(VLOOKUP($B11,'Section 2'!$A$14:$K$23,COLUMNS('Section 2'!$A$14:H$14),0),\"\")","v":""},{"$f":"IFERROR(VLOOKUP($B11,'Section 2'!$A$14:$K$23,COLUMNS('Section 2'!$A$14:I$14),0),\"\")","v":""},{"$f":"IFERROR(VLOOKUP($B11,'Section 2'!$A$14:$K$23,COLUMNS('Section 2'!$A$14:J$14),0),\"\")","v":""}]
[{"$f":"IF(D12=\"\",\"\",ROWS($A$1:A12))","v":""},1,{"$f":"IF(D12=\"\",\"\",3)","v":""},{"$f":"IFERROR(VLOOKUP($B12,'Section 3'!$A$16:$G$25,COLUMNS('Section 3'!$A$16:D$16),0),\"\")","v":""},{"$f":"IFERROR(VLOOKUP($B12,'Section 3'!$A$16:$G$25,COLUMNS('Section 3'!$A$16:E$16),0),\"\")","v":""},{"$f":"IFERROR(VLOOKUP($B12,'Section 3'!$A$16:$G$25,COLUMNS('Section 3'!$A$16:F$16),0),\"\")","v":""},{"$f":"IFERROR(PROPER(VLOOKUP($B12,'Section 3'!$A$16:$G$25,COLUMNS('Section 3'!$A$16:G$16),0)),\"\")","v":""}]
[{"$f":"IF(D13=\"\",\"\",ROWS($A$1:A13))","v":""},2,{"$f":"IF(D13=\"\",\"\",3)","v":""},{"$f":"IFERROR(VLOOKUP($B13,'Section 3'!$A$16:$G$25,COLUMNS('Section 3'!$A$16:D$16),0),\"\")","v":""},{"$f":"IFERROR(VLOOKUP($B13,'Section 3'!$A$16:$G$25,COLUMNS('Section 3'!$A$16:E$16),0),\"\")","v":""},{"$f":"IFERROR(VLOOKUP($B13,'Section 3'!$A$16:$G$25,COLUMNS('Section 3'!$A$16:F$16),0),\"\")","v":""},{"$f":"IFERROR(PROPER(VLOOKUP($B13,'Section 3'!$A$16:$G$25,COLUMNS('Section 3'!$A$16:G$16),0)),\"\")","v":""}]
[{"$f":"IF(D14=\"\",\"\",ROWS($A$1:A14))","v":""},3,"",{"$f":"IFERROR(VLOOKUP($B14,'Section 3'!$A$16:$G$25,COLUMNS('Section 3'!$A$16:D$16),0),\"\")","v":""},{"$f":"IFERROR(VLOOKUP($B14,'Section 3'!$A$16:$G$25,COLUMNS('Section 3'!$A$16:E$16),0),\"\")","v":""},{"$f":"IFERROR(VLOOKUP($B14,'Section 3'!$A$16:$G$25,COLUMNS('Section 3'!$A$16:F$16),0),\"\")","v":""},{"$f":"IFERROR(PROPER(VLOOKUP($B14,'Section 3'!$A$16:$G$25,COLUMNS('Section 3'!$A$16:G$16),0)),\"\")","v":""}]
[{"$f":"IF(D15=\"\",\"\",ROWS($A$1:A15))","v":""},4,"",{"$f":"IFERROR(VLOOKUP($B15,'Section 3'!$A$16:$G$25,COLUMNS('Section 3'!$A$16:D$16),0),\"\")","v":""},{"$f":"IFERROR(VLOOKUP($B15,'Section 3'!$A$16:$G$25,COLUMNS('Section 3'!$A$16:E$16),0),\"\")","v":""},{"$f":"IFERROR(VLOOKUP($B15,'Section 3'!$A$16:$G$25,COLUMNS('Section 3'!$A$16:F$16),0),\"\")","v":""},{"$f":"IFERROR(PROPER(VLOOKUP($B15,'Section 3'!$A$16:$G$25,COLUMNS('Section 3'!$A$16:G$16),0)),\"\")","v":""}]
[{"$f":"IF(D16=\"\",\"\",ROWS($A$1:A16))","v":""},5,"",{"$f":"IFERROR(VLOOKUP($B16,'Section 3'!$A$16:$G$25,COLUMNS('Section 3'!$A$16:D$16),0),\"\")","v":""},{"$f":"IFERROR(VLOOKUP($B16,'Section 3'!$A$16:$G$25,COLUMNS('Section 3'!$A$16:E$16),0),\"\")","v":""},{"$f":"IFERROR(VLOOKUP($B16,'Section 3'!$A$16:$G$25,COLUMNS('Section 3'!$A$16:F$16),0),\"\")","v":""},{"$f":"IFERROR(PROPER(VLOOKUP($B16,'Section 3'!$A$16:$G$25,COLUMNS('Section 3'!$A$16:G$16),0)),\"\")","v":""}]
[{"$f":"IF(D17=\"\",\"\",ROWS($A$1:A17))","v":""},6,"",{"$f":"IFERROR(VLOOKUP($B17,'Section 3'!$A$16:$G$25,COLUMNS('Section 3'!$A$16:D$16),0),\"\")","v":""},{"$f":"IFERROR(VLOOKUP($B17,'Section 3'!$A$16:$G$25,COLUMNS('Section 3'!$A$16:E$16),0),\"\")","v":""},{"$f":"IFERROR(VLOOKUP($B17,'Section 3'!$A$16:$G$25,COLUMNS('Section 3'!$A$16:F$16),0),\"\")","v":""},{"$f":"IFERROR(PROPER(VLOOKUP($B17,'Section 3'!$A$16:$G$25,COLUMNS('Section 3'!$A$16:G$16),0)),\"\")","v":""}]
[{"$f":"IF(D18=\"\",\"\",ROWS($A$1:A18))","v":""},7,"",{"$f":"IFERROR(VLOOKUP($B18,'Section 3'!$A$16:$G$25,COLUMNS('Section 3'!$A$16:D$16),0),\"\")","v":""},{"$f":"IFERROR(VLOOKUP($B18,'Section 3'!$A$16:$G$25,COLUMNS('Section 3'!$A$16:E$16),0),\"\")","v":""},{"$f":"IFERROR(VLOOKUP($B18,'Section 3'!$A$16:$G$25,COLUMNS('Section 3'!$A$16:F$16),0),\"\")","v":""},{"$f":"IFERROR(PROPER(VLOOKUP($B18,'Section 3'!$A$16:$G$25,COLUMNS('Section 3'!$A$16:G$16),0)),\"\")","v":""}]
[{"$f":"IF(D19=\"\",\"\",ROWS($A$1:A19))","v":""},8,"",{"$f":"IFERROR(VLOOKUP($B19,'Section 3'!$A$16:$G$25,COLUMNS('Section 3'!$A$16:D$16),0),\"\")","v":""},{"$f":"IFERROR(VLOOKUP($B19,'Section 3'!$A$16:$G$25,COLUMNS('Section 3'!$A$16:E$16),0),\"\")","v":""},{"$f":"IFERROR(VLOOKUP($B19,'Section 3'!$A$16:$G$25,COLUMNS('Section 3'!$A$16:F$16),0),\"\")","v":""},{"$f":"IFERROR(PROPER(VLOOKUP($B19,'Section 3'!$A$16:$G$25,COLUMNS('Section 3'!$A$16:G$16),0)),\"\")","v":""}]
[{"$f":"IF(D20=\"\",\"\",ROWS($A$1:A20))","v":""},9,"",{"$f":"IFERROR(VLOOKUP($B20,'Section 3'!$A$16:$G$25,COLUMNS('Section 3'!$A$16:D$16),0),\"\")","v":""},{"$f":"IFERROR(VLOOKUP($B20,'Section 3'!$A$16:$G$25,COLUMNS('Section 3'!$A$16:E$16),0),\"\")","v":""},{"$f":"IFERROR(VLOOKUP($B20,'Section 3'!$A$16:$G$25,COLUMNS('Section 3'!$A$16:F$16),0),\"\")","v":""},{"$f":"IFERROR(PROPER(VLOOKUP($B20,'Section 3'!$A$16:$G$25,COLUMNS('Section 3'!$A$16:G$16),0)),\"\")","v":""}]
[{"$f":"IF(D21=\"\",\"\",ROWS($A$1:A21))","v":""},10,"",{"$f":"IFERROR(VLOOKUP($B21,'Section 3'!$A$16:$G$25,COLUMNS('Section 3'!$A$16:D$16),0),\"\")","v":""},{"$f":"IFERROR(VLOOKUP($B21,'Section 3'!$A$16:$G$25,COLUMNS('Section 3'!$A$16:E$16),0),\"\")","v":""},{"$f":"IFERROR(VLOOKUP($B21,'Section 3'!$A$16:$G$25,COLUMNS('Section 3'!$A$16:F$16),0),\"\")","v":""},{"$f":"IFERROR(PROPER(VLOOKUP($B21,'Section 3'!$A$16:$G$25,COLUMNS('Section 3'!$A$16:G$16),0)),\"\")","v":""}]
[null,"LastRow"]

{"sheet":"TempOutput","index":9,"n_rows":510,"n_cols":9,"rows_kept":510,"hidden":true}
["MaxRow",1,"PROD2","3","2019-03-21","icf","Original Submission",2018,1]
[{"$f":"IF(OR(B2=\"\",B2=0),\"\",ROWS($A$1:A2))","v":""}]
[{"$f":"IF(OR(B3=\"\",B3=0),\"\",ROWS($A$1:A3))","v":""}]
[{"$f":"IF(OR(B4=\"\",B4=0),\"\",ROWS($A$1:A4))","v":""}]
[{"$f":"IF(OR(B5=\"\",B5=0),\"\",ROWS($A$1:A5))","v":""}]
[{"$f":"IF(OR(B6=\"\",B6=0),\"\",ROWS($A$1:A6))","v":""}]
[{"$f":"IF(OR(B7=\"\",B7=0),\"\",ROWS($A$1:A7))","v":""}]
[{"$f":"IF(OR(B8=\"\",B8=0),\"\",ROWS($A$1:A8))","v":""}]
[{"$f":"IF(OR(B9=\"\",B9=0),\"\",ROWS($A$1:A9))","v":""}]
[{"$f":"IF(OR(B10=\"\",B10=0),\"\",ROWS($A$1:A10))","v":""}]
[{"$f":"IF(OR(B11=\"\",B11=0),\"\",ROWS($A$1:A11))","v":""}]
[{"$f":"IF(OR(B12=\"\",B12=0),\"\",ROWS($A$1:A12))","v":""}]
[{"$f":"IF(OR(B13=\"\",B13=0),\"\",ROWS($A$1:A13))","v":""}]
[{"$f":"IF(OR(B14=\"\",B14=0),\"\",ROWS($A$1:A14))","v":""}]
[{"$f":"IF(OR(B15=\"\",B15=0),\"\",ROWS($A$1:A15))","v":""}]
[{"$f":"IF(OR(B16=\"\",B16=0),\"\",ROWS($A$1:A16))","v":""}]
[{"$f":"IF(OR(B17=\"\",B17=0),\"\",ROWS($A$1:A17))","v":""}]
[{"$f":"IF(OR(B18=\"\",B18=0),\"\",ROWS($A$1:A18))","v":""}]
[{"$f":"IF(OR(B19=\"\",B19=0),\"\",ROWS($A$1:A19))","v":""}]
[{"$f":"IF(OR(B20=\"\",B20=0),\"\",ROWS($A$1:A20))","v":""}]
[{"$f":"IF(OR(B21=\"\",B21=0),\"\",ROWS($A$1:A21))","v":""}]
[{"$f":"IF(OR(B22=\"\",B22=0),\"\",ROWS($A$1:A22))","v":""}]
[{"$f":"IF(OR(B23=\"\",B23=0),\"\",ROWS($A$1:A23))","v":""}]
[{"$f":"IF(OR(B24=\"\",B24=0),\"\",ROWS($A$1:A24))","v":""}]
[{"$f":"IF(OR(B25=\"\",B25=0),\"\",ROWS($A$1:A25))","v":""}]
[{"$f":"IF(OR(B26=\"\",B26=0),\"\",ROWS($A$1:A26))","v":""}]
[{"$f":"IF(OR(B27=\"\",B27=0),\"\",ROWS($A$1:A27))","v":""}]
[{"$f":"IF(OR(B28=\"\",B28=0),\"\",ROWS($A$1:A28))","v":""}]
[{"$f":"IF(OR(B29=\"\",B29=0),\"\",ROWS($A$1:A29))","v":""}]
[{"$f":"IF(OR(B30=\"\",B30=0),\"\",ROWS($A$1:A30))","v":""}]
[{"$f":"IF(OR(B31=\"\",B31=0),\"\",ROWS($A$1:A31))","v":""}]
[{"$f":"IF(OR(B32=\"\",B32=0),\"\",ROWS($A$1:A32))","v":""}]
[{"$f":"IF(OR(B33=\"\",B33=0),\"\",ROWS($A$1:A33))","v":""}]
[{"$f":"IF(OR(B34=\"\",B34=0),\"\",ROWS($A$1:A34))","v":""}]
[{"$f":"IF(OR(B35=\"\",B35=0),\"\",ROWS($A$1:A35))","v":""}]
[{"$f":"IF(OR(B36=\"\",B36=0),\"\",ROWS($A$1:A36))","v":""}]
[{"$f":"IF(OR(B37=\"\",B37=0),\"\",ROWS($A$1:A37))","v":""}]
[{"$f":"IF(OR(B38=\"\",B38=0),\"\",ROWS($A$1:A38))","v":""}]
[{"$f":"IF(OR(B39=\"\",B39=0),\"\",ROWS($A$1:A39))","v":""}]
[{"$f":"IF(OR(B40=\"\",B40=0),\"\",ROWS($A$1:A40))","v":""}]
[{"$f":"IF(OR(B41=\"\",B41=0),\"\",ROWS($A$1:A41))","v":""}]
[{"$f":"IF(OR(B42=\"\",B42=0),\"\",ROWS($A$1:A42))","v":""}]
[{"$f":"IF(OR(B43=\"\",B43=0),\"\",ROWS($A$1:A43))","v":""}]
[{"$f":"IF(OR(B44=\"\",B44=0),\"\",ROWS($A$1:A44))","v":""}]
[{"$f":"IF(OR(B45=\"\",B45=0),\"\",ROWS($A$1:A45))","v":""}]
[{"$f":"IF(OR(B46=\"\",B46=0),\"\",ROWS($A$1:A46))","v":""}]
[{"$f":"IF(OR(B47=\"\",B47=0),\"\",ROWS($A$1:A47))","v":""}]
[{"$f":"IF(OR(B48=\"\",B48=0),\"\",ROWS($A$1:A48))","v":""}]
[{"$f":"IF(OR(B49=\"\",B49=0),\"\",ROWS($A$1:A49))","v":""}]
[{"$f":"IF(OR(B50=\"\",B50=0),\"\",ROWS($A$1:A50))","v":""}]
[{"$f":"IF(OR(B51=\"\",B51=0),\"\",ROWS($A$1:A51))","v":""}]
[{"$f":"IF(OR(B52=\"\",B52=0),\"\",ROWS($A$1:A52))","v":""}]
[{"$f":"IF(OR(B53=\"\",B53=0),\"\",ROWS($A$1:A53))","v":""}]
[{"$f":"IF(OR(B54=\"\",B54=0),\"\",ROWS($A$1:A54))","v":""}]
[{"$f":"IF(OR(B55=\"\",B55=0),\"\",ROWS($A$1:A55))","v":""}]
[{"$f":"IF(OR(B56=\"\",B56=0),\"\",ROWS($A$1:A56))","v":""}]
[{"$f":"IF(OR(B57=\"\",B57=0),\"\",ROWS($A$1:A57))","v":""}]
[{"$f":"IF(OR(B58=\"\",B58=0),\"\",ROWS($A$1:A58))","v":""}]
[{"$f":"IF(OR(B59=\"\",B59=0),\"\",ROWS($A$1:A59))","v":""}]
[{"$f":"IF(OR(B60=\"\",B60=0),\"\",ROWS($A$1:A60))","v":""}]
[{"$f":"IF(OR(B61=\"\",B61=0),\"\",ROWS($A$1:A61))","v":""}]
[{"$f":"IF(OR(B62=\"\",B62=0),\"\",ROWS($A$1:A62))","v":""}]
[{"$f":"IF(OR(B63=\"\",B63=0),\"\",ROWS($A$1:A63))","v":""}]
[{"$f":"IF(OR(B64=\"\",B64=0),\"\",ROWS($A$1:A64))","v":""}]
[{"$f":"IF(OR(B65=\"\",B65=0),\"\",ROWS($A$1:A65))","v":""}]
[{"$f":"IF(OR(B66=\"\",B66=0),\"\",ROWS($A$1:A66))","v":""}]
[{"$f":"IF(OR(B67=\"\",B67=0),\"\",ROWS($A$1:A67))","v":""}]
[{"$f":"IF(OR(B68=\"\",B68=0),\"\",ROWS($A$1:A68))","v":""}]
[{"$f":"IF(OR(B69=\"\",B69=0),\"\",ROWS($A$1:A69))","v":""}]
[{"$f":"IF(OR(B70=\"\",B70=0),\"\",ROWS($A$1:A70))","v":""}]
[{"$f":"IF(OR(B71=\"\",B71=0),\"\",ROWS($A$1:A71))","v":""}]
[{"$f":"IF(OR(B72=\"\",B72=0),\"\",ROWS($A$1:A72))","v":""}]
[{"$f":"IF(OR(B73=\"\",B73=0),\"\",ROWS($A$1:A73))","v":""}]
[{"$f":"IF(OR(B74=\"\",B74=0),\"\",ROWS($A$1:A74))","v":""}]
[{"$f":"IF(OR(B75=\"\",B75=0),\"\",ROWS($A$1:A75))","v":""}]
[{"$f":"IF(OR(B76=\"\",B76=0),\"\",ROWS($A$1:A76))","v":""}]
[{"$f":"IF(OR(B77=\"\",B77=0),\"\",ROWS($A$1:A77))","v":""}]
[{"$f":"IF(OR(B78=\"\",B78=0),\"\",ROWS($A$1:A78))","v":""}]
[{"$f":"IF(OR(B79=\"\",B79=0),\"\",ROWS($A$1:A79))","v":""}]
[{"$f":"IF(OR(B80=\"\",B80=0),\"\",ROWS($A$1:A80))","v":""}]
[{"$f":"IF(OR(B81=\"\",B81=0),\"\",ROWS($A$1:A81))","v":""}]
[{"$f":"IF(OR(B82=\"\",B82=0),\"\",ROWS($A$1:A82))","v":""}]
[{"$f":"IF(OR(B83=\"\",B83=0),\"\",ROWS($A$1:A83))","v":""}]
[{"$f":"IF(OR(B84=\"\",B84=0),\"\",ROWS($A$1:A84))","v":""}]
[{"$f":"IF(OR(B85=\"\",B85=0),\"\",ROWS($A$1:A85))","v":""}]
[{"$f":"IF(OR(B86=\"\",B86=0),\"\",ROWS($A$1:A86))","v":""}]
[{"$f":"IF(OR(B87=\"\",B87=0),\"\",ROWS($A$1:A87))","v":""}]
[{"$f":"IF(OR(B88=\"\",B88=0),\"\",ROWS($A$1:A88))","v":""}]
[{"$f":"IF(OR(B89=\"\",B89=0),\"\",ROWS($A$1:A89))","v":""}]
[{"$f":"IF(OR(B90=\"\",B90=0),\"\",ROWS($A$1:A90))","v":""}]
[{"$f":"IF(OR(B91=\"\",B91=0),\"\",ROWS($A$1:A91))","v":""}]
[{"$f":"IF(OR(B92=\"\",B92=0),\"\",ROWS($A$1:A92))","v":""}]
[{"$f":"IF(OR(B93=\"\",B93=0),\"\",ROWS($A$1:A93))","v":""}]
[{"$f":"IF(OR(B94=\"\",B94=0),\"\",ROWS($A$1:A94))","v":""}]
[{"$f":"IF(OR(B95=\"\",B95=0),\"\",ROWS($A$1:A95))","v":""}]
[{"$f":"IF(OR(B96=\"\",B96=0),\"\",ROWS($A$1:A96))","v":""}]
[{"$f":"IF(OR(B97=\"\",B97=0),\"\",ROWS($A$1:A97))","v":""}]
[{"$f":"IF(OR(B98=\"\",B98=0),\"\",ROWS($A$1:A98))","v":""}]
[{"$f":"IF(OR(B99=\"\",B99=0),\"\",ROWS($A$1:A99))","v":""}]
[{"$f":"IF(OR(B100=\"\",B100=0),\"\",ROWS($A$1:A100))","v":""}]
[{"$f":"IF(OR(B101=\"\",B101=0),\"\",ROWS($A$1:A101))","v":""}]
[{"$f":"IF(OR(B102=\"\",B102=0),\"\",ROWS($A$1:A102))","v":""}]
[{"$f":"IF(OR(B103=\"\",B103=0),\"\",ROWS($A$1:A103))","v":""}]
[{"$f":"IF(OR(B104=\"\",B104=0),\"\",ROWS($A$1:A104))","v":""}]
[{"$f":"IF(OR(B105=\"\",B105=0),\"\",ROWS($A$1:A105))","v":""}]
[{"$f":"IF(OR(B106=\"\",B106=0),\"\",ROWS($A$1:A106))","v":""}]
[{"$f":"IF(OR(B107=\"\",B107=0),\"\",ROWS($A$1:A107))","v":""}]
[{"$f":"IF(OR(B108=\"\",B108=0),\"\",ROWS($A$1:A108))","v":""}]
[{"$f":"IF(OR(B109=\"\",B109=0),\"\",ROWS($A$1:A109))","v":""}]
[{"$f":"IF(OR(B110=\"\",B110=0),\"\",ROWS($A$1:A110))","v":""}]
[{"$f":"IF(OR(B111=\"\",B111=0),\"\",ROWS($A$1:A111))","v":""}]
[{"$f":"IF(OR(B112=\"\",B112=0),\"\",ROWS($A$1:A112))","v":""}]
[{"$f":"IF(OR(B113=\"\",B113=0),\"\",ROWS($A$1:A113))","v":""}]
[{"$f":"IF(OR(B114=\"\",B114=0),\"\",ROWS($A$1:A114))","v":""}]
[{"$f":"IF(OR(B115=\"\",B115=0),\"\",ROWS($A$1:A115))","v":""}]
[{"$f":"IF(OR(B116=\"\",B116=0),\"\",ROWS($A$1:A116))","v":""}]
[{"$f":"IF(OR(B117=\"\",B117=0),\"\",ROWS($A$1:A117))","v":""}]
[{"$f":"IF(OR(B118=\"\",B118=0),\"\",ROWS($A$1:A118))","v":""}]
[{"$f":"IF(OR(B119=\"\",B119=0),\"\",ROWS($A$1:A119))","v":""}]
[{"$f":"IF(OR(B120=\"\",B120=0),\"\",ROWS($A$1:A120))","v":""}]
[{"$f":"IF(OR(B121=\"\",B121=0),\"\",ROWS($A$1:A121))","v":""}]
[{"$f":"IF(OR(B122=\"\",B122=0),\"\",ROWS($A$1:A122))","v":""}]
[{"$f":"IF(OR(B123=\"\",B123=0),\"\",ROWS($A$1:A123))","v":""}]
[{"$f":"IF(OR(B124=\"\",B124=0),\"\",ROWS($A$1:A124))","v":""}]
[{"$f":"IF(OR(B125=\"\",B125=0),\"\",ROWS($A$1:A125))","v":""}]
[{"$f":"IF(OR(B126=\"\",B126=0),\"\",ROWS($A$1:A126))","v":""}]
[{"$f":"IF(OR(B127=\"\",B127=0),\"\",ROWS($A$1:A127))","v":""}]
[{"$f":"IF(OR(B128=\"\",B128=0),\"\",ROWS($A$1:A128))","v":""}]
[{"$f":"IF(OR(B129=\"\",B129=0),\"\",ROWS($A$1:A129))","v":""}]
[{"$f":"IF(OR(B130=\"\",B130=0),\"\",ROWS($A$1:A130))","v":""}]
[{"$f":"IF(OR(B131=\"\",B131=0),\"\",ROWS($A$1:A131))","v":""}]
[{"$f":"IF(OR(B132=\"\",B132=0),\"\",ROWS($A$1:A132))","v":""}]
[{"$f":"IF(OR(B133=\"\",B133=0),\"\",ROWS($A$1:A133))","v":""}]
[{"$f":"IF(OR(B134=\"\",B134=0),\"\",ROWS($A$1:A134))","v":""}]
[{"$f":"IF(OR(B135=\"\",B135=0),\"\",ROWS($A$1:A135))","v":""}]
[{"$f":"IF(OR(B136=\"\",B136=0),\"\",ROWS($A$1:A136))","v":""}]
[{"$f":"IF(OR(B137=\"\",B137=0),\"\",ROWS($A$1:A137))","v":""}]
[{"$f":"IF(OR(B138=\"\",B138=0),\"\",ROWS($A$1:A138))","v":""}]
[{"$f":"IF(OR(B139=\"\",B139=0),\"\",ROWS($A$1:A139))","v":""}]
[{"$f":"IF(OR(B140=\"\",B140=0),\"\",ROWS($A$1:A140))","v":""}]
[{"$f":"IF(OR(B141=\"\",B141=0),\"\",ROWS($A$1:A141))","v":""}]
[{"$f":"IF(OR(B142=\"\",B142=0),\"\",ROWS($A$1:A142))","v":""}]
[{"$f":"IF(OR(B143=\"\",B143=0),\"\",ROWS($A$1:A143))","v":""}]
[{"$f":"IF(OR(B144=\"\",B144=0),\"\",ROWS($A$1:A144))","v":""}]
[{"$f":"IF(OR(B145=\"\",B145=0),\"\",ROWS($A$1:A145))","v":""}]
[{"$f":"IF(OR(B146=\"\",B146=0),\"\",ROWS($A$1:A146))","v":""}]
[{"$f":"IF(OR(B147=\"\",B147=0),\"\",ROWS($A$1:A147))","v":""}]
[{"$f":"IF(OR(B148=\"\",B148=0),\"\",ROWS($A$1:A148))","v":""}]
[{"$f":"IF(OR(B149=\"\",B149=0),\"\",ROWS($A$1:A149))","v":""}]
[{"$f":"IF(OR(B150=\"\",B150=0),\"\",ROWS($A$1:A150))","v":""}]
[{"$f":"IF(OR(B151=\"\",B151=0),\"\",ROWS($A$1:A151))","v":""}]
[{"$f":"IF(OR(B152=\"\",B152=0),\"\",ROWS($A$1:A152))","v":""}]
[{"$f":"IF(OR(B153=\"\",B153=0),\"\",ROWS($A$1:A153))","v":""}]
[{"$f":"IF(OR(B154=\"\",B154=0),\"\",ROWS($A$1:A154))","v":""}]
[{"$f":"IF(OR(B155=\"\",B155=0),\"\",ROWS($A$1:A155))","v":""}]
[{"$f":"IF(OR(B156=\"\",B156=0),\"\",ROWS($A$1:A156))","v":""}]
[{"$f":"IF(OR(B157=\"\",B157=0),\"\",ROWS($A$1:A157))","v":""}]
[{"$f":"IF(OR(B158=\"\",B158=0),\"\",ROWS($A$1:A158))","v":""}]
[{"$f":"IF(OR(B159=\"\",B159=0),\"\",ROWS($A$1:A159))","v":""}]
[{"$f":"IF(OR(B160=\"\",B160=0),\"\",ROWS($A$1:A160))","v":""}]
[{"$f":"IF(OR(B161=\"\",B161=0),\"\",ROWS($A$1:A161))","v":""}]
[{"$f":"IF(OR(B162=\"\",B162=0),\"\",ROWS($A$1:A162))","v":""}]
[{"$f":"IF(OR(B163=\"\",B163=0),\"\",ROWS($A$1:A163))","v":""}]
[{"$f":"IF(OR(B164=\"\",B164=0),\"\",ROWS($A$1:A164))","v":""}]
[{"$f":"IF(OR(B165=\"\",B165=0),\"\",ROWS($A$1:A165))","v":""}]
[{"$f":"IF(OR(B166=\"\",B166=0),\"\",ROWS($A$1:A166))","v":""}]
[{"$f":"IF(OR(B167=\"\",B167=0),\"\",ROWS($A$1:A167))","v":""}]
[{"$f":"IF(OR(B168=\"\",B168=0),\"\",ROWS($A$1:A168))","v":""}]
[{"$f":"IF(OR(B169=\"\",B169=0),\"\",ROWS($A$1:A169))","v":""}]
[{"$f":"IF(OR(B170=\"\",B170=0),\"\",ROWS($A$1:A170))","v":""}]
[{"$f":"IF(OR(B171=\"\",B171=0),\"\",ROWS($A$1:A171))","v":""}]
[{"$f":"IF(OR(B172=\"\",B172=0),\"\",ROWS($A$1:A172))","v":""}]
[{"$f":"IF(OR(B173=\"\",B173=0),\"\",ROWS($A$1:A173))","v":""}]
[{"$f":"IF(OR(B174=\"\",B174=0),\"\",ROWS($A$1:A174))","v":""}]
[{"$f":"IF(OR(B175=\"\",B175=0),\"\",ROWS($A$1:A175))","v":""}]
[{"$f":"IF(OR(B176=\"\",B176=0),\"\",ROWS($A$1:A176))","v":""}]
[{"$f":"IF(OR(B177=\"\",B177=0),\"\",ROWS($A$1:A177))","v":""}]
[{"$f":"IF(OR(B178=\"\",B178=0),\"\",ROWS($A$1:A178))","v":""}]
[{"$f":"IF(OR(B179=\"\",B179=0),\"\",ROWS($A$1:A179))","v":""}]
[{"$f":"IF(OR(B180=\"\",B180=0),\"\",ROWS($A$1:A180))","v":""}]
[{"$f":"IF(OR(B181=\"\",B181=0),\"\",ROWS($A$1:A181))","v":""}]
[{"$f":"IF(OR(B182=\"\",B182=0),\"\",ROWS($A$1:A182))","v":""}]
[{"$f":"IF(OR(B183=\"\",B183=0),\"\",ROWS($A$1:A183))","v":""}]
[{"$f":"IF(OR(B184=\"\",B184=0),\"\",ROWS($A$1:A184))","v":""}]
[{"$f":"IF(OR(B185=\"\",B185=0),\"\",ROWS($A$1:A185))","v":""}]
[{"$f":"IF(OR(B186=\"\",B186=0),\"\",ROWS($A$1:A186))","v":""}]
[{"$f":"IF(OR(B187=\"\",B187=0),\"\",ROWS($A$1:A187))","v":""}]
[{"$f":"IF(OR(B188=\"\",B188=0),\"\",ROWS($A$1:A188))","v":""}]
[{"$f":"IF(OR(B189=\"\",B189=0),\"\",ROWS($A$1:A189))","v":""}]
[{"$f":"IF(OR(B190=\"\",B190=0),\"\",ROWS($A$1:A190))","v":""}]
[{"$f":"IF(OR(B191=\"\",B191=0),\"\",ROWS($A$1:A191))","v":""}]
[{"$f":"IF(OR(B192=\"\",B192=0),\"\",ROWS($A$1:A192))","v":""}]
[{"$f":"IF(OR(B193=\"\",B193=0),\"\",ROWS($A$1:A193))","v":""}]
[{"$f":"IF(OR(B194=\"\",B194=0),\"\",ROWS($A$1:A194))","v":""}]
[{"$f":"IF(OR(B195=\"\",B195=0),\"\",ROWS($A$1:A195))","v":""}]
[{"$f":"IF(OR(B196=\"\",B196=0),\"\",ROWS($A$1:A196))","v":""}]
[{"$f":"IF(OR(B197=\"\",B197=0),\"\",ROWS($A$1:A197))","v":""}]
[{"$f":"IF(OR(B198=\"\",B198=0),\"\",ROWS($A$1:A198))","v":""}]
[{"$f":"IF(OR(B199=\"\",B199=0),\"\",ROWS($A$1:A199))","v":""}]
[{"$f":"IF(OR(B200=\"\",B200=0),\"\",ROWS($A$1:A200))","v":""}]
[{"$f":"IF(OR(B201=\"\",B201=0),\"\",ROWS($A$1:A201))","v":""}]
[{"$f":"IF(OR(B202=\"\",B202=0),\"\",ROWS($A$1:A202))","v":""}]
[{"$f":"IF(OR(B203=\"\",B203=0),\"\",ROWS($A$1:A203))","v":""}]
[{"$f":"IF(OR(B204=\"\",B204=0),\"\",ROWS($A$1:A204))","v":""}]
[{"$f":"IF(OR(B205=\"\",B205=0),\"\",ROWS($A$1:A205))","v":""}]
[{"$f":"IF(OR(B206=\"\",B206=0),\"\",ROWS($A$1:A206))","v":""}]
[{"$f":"IF(OR(B207=\"\",B207=0),\"\",ROWS($A$1:A207))","v":""}]
[{"$f":"IF(OR(B208=\"\",B208=0),\"\",ROWS($A$1:A208))","v":""}]
[{"$f":"IF(OR(B209=\"\",B209=0),\"\",ROWS($A$1:A209))","v":""}]
[{"$f":"IF(OR(B210=\"\",B210=0),\"\",ROWS($A$1:A210))","v":""}]
[{"$f":"IF(OR(B211=\"\",B211=0),\"\",ROWS($A$1:A211))","v":""}]
[{"$f":"IF(OR(B212=\"\",B212=0),\"\",ROWS($A$1:A212))","v":""}]
[{"$f":"IF(OR(B213=\"\",B213=0),\"\",ROWS($A$1:A213))","v":""}]
[{"$f":"IF(OR(B214=\"\",B214=0),\"\",ROWS($A$1:A214))","v":""}]
[{"$f":"IF(OR(B215=\"\",B215=0),\"\",ROWS($A$1:A215))","v":""}]
[{"$f":"IF(OR(B216=\"\",B216=0),\"\",ROWS($A$1:A216))","v":""}]
[{"$f":"IF(OR(B217=\"\",B217=0),\"\",ROWS($A$1:A217))","v":""}]
[{"$f":"IF(OR(B218=\"\",B218=0),\"\",ROWS($A$1:A218))","v":""}]
[{"$f":"IF(OR(B219=\"\",B219=0),\"\",ROWS($A$1:A219))","v":""}]
[{"$f":"IF(OR(B220=\"\",B220=0),\"\",ROWS($A$1:A220))","v":""}]
[{"$f":"IF(OR(B221=\"\",B221=0),\"\",ROWS($A$1:A221))","v":""}]
[{"$f":"IF(OR(B222=\"\",B222=0),\"\",ROWS($A$1:A222))","v":""}]
[{"$f":"IF(OR(B223=\"\",B223=0),\"\",ROWS($A$1:A223))","v":""}]
[{"$f":"IF(OR(B224=\"\",B224=0),\"\",ROWS($A$1:A224))","v":""}]
[{"$f":"IF(OR(B225=\"\",B225=0),\"\",ROWS($A$1:A225))","v":""}]
[{"$f":"IF(OR(B226=\"\",B226=0),\"\",ROWS($A$1:A226))","v":""}]
[{"$f":"IF(OR(B227=\"\",B227=0),\"\",ROWS($A$1:A227))","v":""}]
[{"$f":"IF(OR(B228=\"\",B228=0),\"\",ROWS($A$1:A228))","v":""}]
[{"$f":"IF(OR(B229=\"\",B229=0),\"\",ROWS($A$1:A229))","v":""}]
[{"$f":"IF(OR(B230=\"\",B230=0),\"\",ROWS($A$1:A230))","v":""}]
[{"$f":"IF(OR(B231=\"\",B231=0),\"\",ROWS($A$1:A231))","v":""}]
[{"$f":"IF(OR(B232=\"\",B232=0),\"\",ROWS($A$1:A232))","v":""}]
[{"$f":"IF(OR(B233=\"\",B233=0),\"\",ROWS($A$1:A233))","v":""}]
[{"$f":"IF(OR(B234=\"\",B234=0),\"\",ROWS($A$1:A234))","v":""}]
[{"$f":"IF(OR(B235=\"\",B235=0),\"\",ROWS($A$1:A235))","v":""}]
[{"$f":"IF(OR(B236=\"\",B236=0),\"\",ROWS($A$1:A236))","v":""}]
[{"$f":"IF(OR(B237=\"\",B237=0),\"\",ROWS($A$1:A237))","v":""}]
[{"$f":"IF(OR(B238=\"\",B238=0),\"\",ROWS($A$1:A238))","v":""}]
[{"$f":"IF(OR(B239=\"\",B239=0),\"\",ROWS($A$1:A239))","v":""}]
[{"$f":"IF(OR(B240=\"\",B240=0),\"\",ROWS($A$1:A240))","v":""}]
[{"$f":"IF(OR(B241=\"\",B241=0),\"\",ROWS($A$1:A241))","v":""}]
[{"$f":"IF(OR(B242=\"\",B242=0),\"\",ROWS($A$1:A242))","v":""}]
[{"$f":"IF(OR(B243=\"\",B243=0),\"\",ROWS($A$1:A243))","v":""}]
[{"$f":"IF(OR(B244=\"\",B244=0),\"\",ROWS($A$1:A244))","v":""}]
[{"$f":"IF(OR(B245=\"\",B245=0),\"\",ROWS($A$1:A245))","v":""}]
[{"$f":"IF(OR(B246=\"\",B246=0),\"\",ROWS($A$1:A246))","v":""}]
[{"$f":"IF(OR(B247=\"\",B247=0),\"\",ROWS($A$1:A247))","v":""}]
[{"$f":"IF(OR(B248=\"\",B248=0),\"\",ROWS($A$1:A248))","v":""}]
[{"$f":"IF(OR(B249=\"\",B249=0),\"\",ROWS($A$1:A249))","v":""}]
[{"$f":"IF(OR(B250=\"\",B250=0),\"\",ROWS($A$1:A250))","v":""}]
[{"$f":"IF(OR(B251=\"\",B251=0),\"\",ROWS($A$1:A251))","v":""}]
[{"$f":"IF(OR(B252=\"\",B252=0),\"\",ROWS($A$1:A252))","v":""}]
[{"$f":"IF(OR(B253=\"\",B253=0),\"\",ROWS($A$1:A253))","v":""}]
[{"$f":"IF(OR(B254=\"\",B254=0),\"\",ROWS($A$1:A254))","v":""}]
[{"$f":"IF(OR(B255=\"\",B255=0),\"\",ROWS($A$1:A255))","v":""}]
[{"$f":"IF(OR(B256=\"\",B256=0),\"\",ROWS($A$1:A256))","v":""}]
[{"$f":"IF(OR(B257=\"\",B257=0),\"\",ROWS($A$1:A257))","v":""}]
[{"$f":"IF(OR(B258=\"\",B258=0),\"\",ROWS($A$1:A258))","v":""}]
[{"$f":"IF(OR(B259=\"\",B259=0),\"\",ROWS($A$1:A259))","v":""}]
[{"$f":"IF(OR(B260=\"\",B260=0),\"\",ROWS($A$1:A260))","v":""}]
[{"$f":"IF(OR(B261=\"\",B261=0),\"\",ROWS($A$1:A261))","v":""}]
[{"$f":"IF(OR(B262=\"\",B262=0),\"\",ROWS($A$1:A262))","v":""}]
[{"$f":"IF(OR(B263=\"\",B263=0),\"\",ROWS($A$1:A263))","v":""}]
[{"$f":"IF(OR(B264=\"\",B264=0),\"\",ROWS($A$1:A264))","v":""}]
[{"$f":"IF(OR(B265=\"\",B265=0),\"\",ROWS($A$1:A265))","v":""}]
[{"$f":"IF(OR(B266=\"\",B266=0),\"\",ROWS($A$1:A266))","v":""}]
[{"$f":"IF(OR(B267=\"\",B267=0),\"\",ROWS($A$1:A267))","v":""}]
[{"$f":"IF(OR(B268=\"\",B268=0),\"\",ROWS($A$1:A268))","v":""}]
[{"$f":"IF(OR(B269=\"\",B269=0),\"\",ROWS($A$1:A269))","v":""}]
[{"$f":"IF(OR(B270=\"\",B270=0),\"\",ROWS($A$1:A270))","v":""}]
[{"$f":"IF(OR(B271=\"\",B271=0),\"\",ROWS($A$1:A271))","v":""}]
[{"$f":"IF(OR(B272=\"\",B272=0),\"\",ROWS($A$1:A272))","v":""}]
[{"$f":"IF(OR(B273=\"\",B273=0),\"\",ROWS($A$1:A273))","v":""}]
[{"$f":"IF(OR(B274=\"\",B274=0),\"\",ROWS($A$1:A274))","v":""}]
[{"$f":"IF(OR(B275=\"\",B275=0),\"\",ROWS($A$1:A275))","v":""}]
[{"$f":"IF(OR(B276=\"\",B276=0),\"\",ROWS($A$1:A276))","v":""}]
[{"$f":"IF(OR(B277=\"\",B277=0),\"\",ROWS($A$1:A277))","v":""}]
[{"$f":"IF(OR(B278=\"\",B278=0),\"\",ROWS($A$1:A278))","v":""}]
[{"$f":"IF(OR(B279=\"\",B279=0),\"\",ROWS($A$1:A279))","v":""}]
[{"$f":"IF(OR(B280=\"\",B280=0),\"\",ROWS($A$1:A280))","v":""}]
[{"$f":"IF(OR(B281=\"\",B281=0),\"\",ROWS($A$1:A281))","v":""}]
[{"$f":"IF(OR(B282=\"\",B282=0),\"\",ROWS($A$1:A282))","v":""}]
[{"$f":"IF(OR(B283=\"\",B283=0),\"\",ROWS($A$1:A283))","v":""}]
[{"$f":"IF(OR(B284=\"\",B284=0),\"\",ROWS($A$1:A284))","v":""}]
[{"$f":"IF(OR(B285=\"\",B285=0),\"\",ROWS($A$1:A285))","v":""}]
[{"$f":"IF(OR(B286=\"\",B286=0),\"\",ROWS($A$1:A286))","v":""}]
[{"$f":"IF(OR(B287=\"\",B287=0),\"\",ROWS($A$1:A287))","v":""}]
[{"$f":"IF(OR(B288=\"\",B288=0),\"\",ROWS($A$1:A288))","v":""}]
[{"$f":"IF(OR(B289=\"\",B289=0),\"\",ROWS($A$1:A289))","v":""}]
[{"$f":"IF(OR(B290=\"\",B290=0),\"\",ROWS($A$1:A290))","v":""}]
[{"$f":"IF(OR(B291=\"\",B291=0),\"\",ROWS($A$1:A291))","v":""}]
[{"$f":"IF(OR(B292=\"\",B292=0),\"\",ROWS($A$1:A292))","v":""}]
[{"$f":"IF(OR(B293=\"\",B293=0),\"\",ROWS($A$1:A293))","v":""}]
[{"$f":"IF(OR(B294=\"\",B294=0),\"\",ROWS($A$1:A294))","v":""}]
[{"$f":"IF(OR(B295=\"\",B295=0),\"\",ROWS($A$1:A295))","v":""}]
[{"$f":"IF(OR(B296=\"\",B296=0),\"\",ROWS($A$1:A296))","v":""}]
[{"$f":"IF(OR(B297=\"\",B297=0),\"\",ROWS($A$1:A297))","v":""}]
[{"$f":"IF(OR(B298=\"\",B298=0),\"\",ROWS($A$1:A298))","v":""}]
[{"$f":"IF(OR(B299=\"\",B299=0),\"\",ROWS($A$1:A299))","v":""}]
[{"$f":"IF(OR(B300=\"\",B300=0),\"\",ROWS($A$1:A300))","v":""}]
[{"$f":"IF(OR(B301=\"\",B301=0),\"\",ROWS($A$1:A301))","v":""}]
[{"$f":"IF(OR(B302=\"\",B302=0),\"\",ROWS($A$1:A302))","v":""}]
[{"$f":"IF(OR(B303=\"\",B303=0),\"\",ROWS($A$1:A303))","v":""}]
[{"$f":"IF(OR(B304=\"\",B304=0),\"\",ROWS($A$1:A304))","v":""}]
[{"$f":"IF(OR(B305=\"\",B305=0),\"\",ROWS($A$1:A305))","v":""}]
[{"$f":"IF(OR(B306=\"\",B306=0),\"\",ROWS($A$1:A306))","v":""}]
[{"$f":"IF(OR(B307=\"\",B307=0),\"\",ROWS($A$1:A307))","v":""}]
[{"$f":"IF(OR(B308=\"\",B308=0),\"\",ROWS($A$1:A308))","v":""}]
[{"$f":"IF(OR(B309=\"\",B309=0),\"\",ROWS($A$1:A309))","v":""}]
[{"$f":"IF(OR(B310=\"\",B310=0),\"\",ROWS($A$1:A310))","v":""}]
[{"$f":"IF(OR(B311=\"\",B311=0),\"\",ROWS($A$1:A311))","v":""}]
[{"$f":"IF(OR(B312=\"\",B312=0),\"\",ROWS($A$1:A312))","v":""}]
[{"$f":"IF(OR(B313=\"\",B313=0),\"\",ROWS($A$1:A313))","v":""}]
[{"$f":"IF(OR(B314=\"\",B314=0),\"\",ROWS($A$1:A314))","v":""}]
[{"$f":"IF(OR(B315=\"\",B315=0),\"\",ROWS($A$1:A315))","v":""}]
[{"$f":"IF(OR(B316=\"\",B316=0),\"\",ROWS($A$1:A316))","v":""}]
[{"$f":"IF(OR(B317=\"\",B317=0),\"\",ROWS($A$1:A317))","v":""}]
[{"$f":"IF(OR(B318=\"\",B318=0),\"\",ROWS($A$1:A318))","v":""}]
[{"$f":"IF(OR(B319=\"\",B319=0),\"\",ROWS($A$1:A319))","v":""}]
[{"$f":"IF(OR(B320=\"\",B320=0),\"\",ROWS($A$1:A320))","v":""}]
[{"$f":"IF(OR(B321=\"\",B321=0),\"\",ROWS($A$1:A321))","v":""}]
[{"$f":"IF(OR(B322=\"\",B322=0),\"\",ROWS($A$1:A322))","v":""}]
[{"$f":"IF(OR(B323=\"\",B323=0),\"\",ROWS($A$1:A323))","v":""}]
[{"$f":"IF(OR(B324=\"\",B324=0),\"\",ROWS($A$1:A324))","v":""}]
[{"$f":"IF(OR(B325=\"\",B325=0),\"\",ROWS($A$1:A325))","v":""}]
[{"$f":"IF(OR(B326=\"\",B326=0),\"\",ROWS($A$1:A326))","v":""}]
[{"$f":"IF(OR(B327=\"\",B327=0),\"\",ROWS($A$1:A327))","v":""}]
[{"$f":"IF(OR(B328=\"\",B328=0),\"\",ROWS($A$1:A328))","v":""}]
[{"$f":"IF(OR(B329=\"\",B329=0),\"\",ROWS($A$1:A329))","v":""}]
[{"$f":"IF(OR(B330=\"\",B330=0),\"\",ROWS($A$1:A330))","v":""}]
[{"$f":"IF(OR(B331=\"\",B331=0),\"\",ROWS($A$1:A331))","v":""}]
[{"$f":"IF(OR(B332=\"\",B332=0),\"\",ROWS($A$1:A332))","v":""}]
[{"$f":"IF(OR(B333=\"\",B333=0),\"\",ROWS($A$1:A333))","v":""}]
[{"$f":"IF(OR(B334=\"\",B334=0),\"\",ROWS($A$1:A334))","v":""}]
[{"$f":"IF(OR(B335=\"\",B335=0),\"\",ROWS($A$1:A335))","v":""}]
[{"$f":"IF(OR(B336=\"\",B336=0),\"\",ROWS($A$1:A336))","v":""}]
[{"$f":"IF(OR(B337=\"\",B337=0),\"\",ROWS($A$1:A337))","v":""}]
[{"$f":"IF(OR(B338=\"\",B338=0),\"\",ROWS($A$1:A338))","v":""}]
[{"$f":"IF(OR(B339=\"\",B339=0),\"\",ROWS($A$1:A339))","v":""}]
[{"$f":"IF(OR(B340=\"\",B340=0),\"\",ROWS($A$1:A340))","v":""}]
[{"$f":"IF(OR(B341=\"\",B341=0),\"\",ROWS($A$1:A341))","v":""}]
[{"$f":"IF(OR(B342=\"\",B342=0),\"\",ROWS($A$1:A342))","v":""}]
[{"$f":"IF(OR(B343=\"\",B343=0),\"\",ROWS($A$1:A343))","v":""}]
[{"$f":"IF(OR(B344=\"\",B344=0),\"\",ROWS($A$1:A344))","v":""}]
[{"$f":"IF(OR(B345=\"\",B345=0),\"\",ROWS($A$1:A345))","v":""}]
[{"$f":"IF(OR(B346=\"\",B346=0),\"\",ROWS($A$1:A346))","v":""}]
[{"$f":"IF(OR(B347=\"\",B347=0),\"\",ROWS($A$1:A347))","v":""}]
[{"$f":"IF(OR(B348=\"\",B348=0),\"\",ROWS($A$1:A348))","v":""}]
[{"$f":"IF(OR(B349=\"\",B349=0),\"\",ROWS($A$1:A349))","v":""}]
[{"$f":"IF(OR(B350=\"\",B350=0),\"\",ROWS($A$1:A350))","v":""}]
[{"$f":"IF(OR(B351=\"\",B351=0),\"\",ROWS($A$1:A351))","v":""}]
[{"$f":"IF(OR(B352=\"\",B352=0),\"\",ROWS($A$1:A352))","v":""}]
[{"$f":"IF(OR(B353=\"\",B353=0),\"\",ROWS($A$1:A353))","v":""}]
[{"$f":"IF(OR(B354=\"\",B354=0),\"\",ROWS($A$1:A354))","v":""}]
[{"$f":"IF(OR(B355=\"\",B355=0),\"\",ROWS($A$1:A355))","v":""}]
[{"$f":"IF(OR(B356=\"\",B356=0),\"\",ROWS($A$1:A356))","v":""}]
[{"$f":"IF(OR(B357=\"\",B357=0),\"\",ROWS($A$1:A357))","v":""}]
[{"$f":"IF(OR(B358=\"\",B358=0),\"\",ROWS($A$1:A358))","v":""}]
[{"$f":"IF(OR(B359=\"\",B359=0),\"\",ROWS($A$1:A359))","v":""}]
[{"$f":"IF(OR(B360=\"\",B360=0),\"\",ROWS($A$1:A360))","v":""}]
[{"$f":"IF(OR(B361=\"\",B361=0),\"\",ROWS($A$1:A361))","v":""}]
[{"$f":"IF(OR(B362=\"\",B362=0),\"\",ROWS($A$1:A362))","v":""}]
[{"$f":"IF(OR(B363=\"\",B363=0),\"\",ROWS($A$1:A363))","v":""}]
[{"$f":"IF(OR(B364=\"\",B364=0),\"\",ROWS($A$1:A364))","v":""}]
[{"$f":"IF(OR(B365=\"\",B365=0),\"\",ROWS($A$1:A365))","v":""}]
[{"$f":"IF(OR(B366=\"\",B366=0),\"\",ROWS($A$1:A366))","v":""}]
[{"$f":"IF(OR(B367=\"\",B367=0),\"\",ROWS($A$1:A367))","v":""}]
[{"$f":"IF(OR(B368=\"\",B368=0),\"\",ROWS($A$1:A368))","v":""}]
[{"$f":"IF(OR(B369=\"\",B369=0),\"\",ROWS($A$1:A369))","v":""}]
[{"$f":"IF(OR(B370=\"\",B370=0),\"\",ROWS($A$1:A370))","v":""}]
[{"$f":"IF(OR(B371=\"\",B371=0),\"\",ROWS($A$1:A371))","v":""}]
[{"$f":"IF(OR(B372=\"\",B372=0),\"\",ROWS($A$1:A372))","v":""}]
[{"$f":"IF(OR(B373=\"\",B373=0),\"\",ROWS($A$1:A373))","v":""}]
[{"$f":"IF(OR(B374=\"\",B374=0),\"\",ROWS($A$1:A374))","v":""}]
[{"$f":"IF(OR(B375=\"\",B375=0),\"\",ROWS($A$1:A375))","v":""}]
[{"$f":"IF(OR(B376=\"\",B376=0),\"\",ROWS($A$1:A376))","v":""}]
[{"$f":"IF(OR(B377=\"\",B377=0),\"\",ROWS($A$1:A377))","v":""}]
[{"$f":"IF(OR(B378=\"\",B378=0),\"\",ROWS($A$1:A378))","v":""}]
[{"$f":"IF(OR(B379=\"\",B379=0),\"\",ROWS($A$1:A379))","v":""}]
[{"$f":"IF(OR(B380=\"\",B380=0),\"\",ROWS($A$1:A380))","v":""}]
[{"$f":"IF(OR(B381=\"\",B381=0),\"\",ROWS($A$1:A381))","v":""}]
[{"$f":"IF(OR(B382=\"\",B382=0),\"\",ROWS($A$1:A382))","v":""}]
[{"$f":"IF(OR(B383=\"\",B383=0),\"\",ROWS($A$1:A383))","v":""}]
[{"$f":"IF(OR(B384=\"\",B384=0),\"\",ROWS($A$1:A384))","v":""}]
[{"$f":"IF(OR(B385=\"\",B385=0),\"\",ROWS($A$1:A385))","v":""}]
[{"$f":"IF(OR(B386=\"\",B386=0),\"\",ROWS($A$1:A386))","v":""}]
[{"$f":"IF(OR(B387=\"\",B387=0),\"\",ROWS($A$1:A387))","v":""}]
[{"$f":"IF(OR(B388=\"\",B388=0),\"\",ROWS($A$1:A388))","v":""}]
[{"$f":"IF(OR(B389=\"\",B389=0),\"\",ROWS($A$1:A389))","v":""}]
[{"$f":"IF(OR(B390=\"\",B390=0),\"\",ROWS($A$1:A390))","v":""}]
[{"$f":"IF(OR(B391=\"\",B391=0),\"\",ROWS($A$1:A391))","v":""}]
[{"$f":"IF(OR(B392=\"\",B392=0),\"\",ROWS($A$1:A392))","v":""}]
[{"$f":"IF(OR(B393=\"\",B393=0),\"\",ROWS($A$1:A393))","v":""}]
[{"$f":"IF(OR(B394=\"\",B394=0),\"\",ROWS($A$1:A394))","v":""}]
[{"$f":"IF(OR(B395=\"\",B395=0),\"\",ROWS($A$1:A395))","v":""}]
[{"$f":"IF(OR(B396=\"\",B396=0),\"\",ROWS($A$1:A396))","v":""}]
[{"$f":"IF(OR(B397=\"\",B397=0),\"\",ROWS($A$1:A397))","v":""}]
[{"$f":"IF(OR(B398=\"\",B398=0),\"\",ROWS($A$1:A398))","v":""}]
[{"$f":"IF(OR(B399=\"\",B399=0),\"\",ROWS($A$1:A399))","v":""}]
[{"$f":"IF(OR(B400=\"\",B400=0),\"\",ROWS($A$1:A400))","v":""}]
[{"$f":"IF(OR(B401=\"\",B401=0),\"\",ROWS($A$1:A401))","v":""}]
[{"$f":"IF(OR(B402=\"\",B402=0),\"\",ROWS($A$1:A402))","v":""}]
[{"$f":"IF(OR(B403=\"\",B403=0),\"\",ROWS($A$1:A403))","v":""}]
[{"$f":"IF(OR(B404=\"\",B404=0),\"\",ROWS($A$1:A404))","v":""}]
[{"$f":"IF(OR(B405=\"\",B405=0),\"\",ROWS($A$1:A405))","v":""}]
[{"$f":"IF(OR(B406=\"\",B406=0),\"\",ROWS($A$1:A406))","v":""}]
[{"$f":"IF(OR(B407=\"\",B407=0),\"\",ROWS($A$1:A407))","v":""}]
[{"$f":"IF(OR(B408=\"\",B408=0),\"\",ROWS($A$1:A408))","v":""}]
[{"$f":"IF(OR(B409=\"\",B409=0),\"\",ROWS($A$1:A409))","v":""}]
[{"$f":"IF(OR(B410=\"\",B410=0),\"\",ROWS($A$1:A410))","v":""}]
[{"$f":"IF(OR(B411=\"\",B411=0),\"\",ROWS($A$1:A411))","v":""}]
[{"$f":"IF(OR(B412=\"\",B412=0),\"\",ROWS($A$1:A412))","v":""}]
[{"$f":"IF(OR(B413=\"\",B413=0),\"\",ROWS($A$1:A413))","v":""}]
[{"$f":"IF(OR(B414=\"\",B414=0),\"\",ROWS($A$1:A414))","v":""}]
[{"$f":"IF(OR(B415=\"\",B415=0),\"\",ROWS($A$1:A415))","v":""}]
[{"$f":"IF(OR(B416=\"\",B416=0),\"\",ROWS($A$1:A416))","v":""}]
[{"$f":"IF(OR(B417=\"\",B417=0),\"\",ROWS($A$1:A417))","v":""}]
[{"$f":"IF(OR(B418=\"\",B418=0),\"\",ROWS($A$1:A418))","v":""}]
[{"$f":"IF(OR(B419=\"\",B419=0),\"\",ROWS($A$1:A419))","v":""}]
[{"$f":"IF(OR(B420=\"\",B420=0),\"\",ROWS($A$1:A420))","v":""}]
[{"$f":"IF(OR(B421=\"\",B421=0),\"\",ROWS($A$1:A421))","v":""}]
[{"$f":"IF(OR(B422=\"\",B422=0),\"\",ROWS($A$1:A422))","v":""}]
[{"$f":"IF(OR(B423=\"\",B423=0),\"\",ROWS($A$1:A423))","v":""}]
[{"$f":"IF(OR(B424=\"\",B424=0),\"\",ROWS($A$1:A424))","v":""}]
[{"$f":"IF(OR(B425=\"\",B425=0),\"\",ROWS($A$1:A425))","v":""}]
[{"$f":"IF(OR(B426=\"\",B426=0),\"\",ROWS($A$1:A426))","v":""}]
[{"$f":"IF(OR(B427=\"\",B427=0),\"\",ROWS($A$1:A427))","v":""}]
[{"$f":"IF(OR(B428=\"\",B428=0),\"\",ROWS($A$1:A428))","v":""}]
[{"$f":"IF(OR(B429=\"\",B429=0),\"\",ROWS($A$1:A429))","v":""}]
[{"$f":"IF(OR(B430=\"\",B430=0),\"\",ROWS($A$1:A430))","v":""}]
[{"$f":"IF(OR(B431=\"\",B431=0),\"\",ROWS($A$1:A431))","v":""}]
[{"$f":"IF(OR(B432=\"\",B432=0),\"\",ROWS($A$1:A432))","v":""}]
[{"$f":"IF(OR(B433=\"\",B433=0),\"\",ROWS($A$1:A433))","v":""}]
[{"$f":"IF(OR(B434=\"\",B434=0),\"\",ROWS($A$1:A434))","v":""}]
[{"$f":"IF(OR(B435=\"\",B435=0),\"\",ROWS($A$1:A435))","v":""}]
[{"$f":"IF(OR(B436=\"\",B436=0),\"\",ROWS($A$1:A436))","v":""}]
[{"$f":"IF(OR(B437=\"\",B437=0),\"\",ROWS($A$1:A437))","v":""}]
[{"$f":"IF(OR(B438=\"\",B438=0),\"\",ROWS($A$1:A438))","v":""}]
[{"$f":"IF(OR(B439=\"\",B439=0),\"\",ROWS($A$1:A439))","v":""}]
[{"$f":"IF(OR(B440=\"\",B440=0),\"\",ROWS($A$1:A440))","v":""}]
[{"$f":"IF(OR(B441=\"\",B441=0),\"\",ROWS($A$1:A441))","v":""}]
[{"$f":"IF(OR(B442=\"\",B442=0),\"\",ROWS($A$1:A442))","v":""}]
[{"$f":"IF(OR(B443=\"\",B443=0),\"\",ROWS($A$1:A443))","v":""}]
[{"$f":"IF(OR(B444=\"\",B444=0),\"\",ROWS($A$1:A444))","v":""}]
[{"$f":"IF(OR(B445=\"\",B445=0),\"\",ROWS($A$1:A445))","v":""}]
[{"$f":"IF(OR(B446=\"\",B446=0),\"\",ROWS($A$1:A446))","v":""}]
[{"$f":"IF(OR(B447=\"\",B447=0),\"\",ROWS($A$1:A447))","v":""}]
[{"$f":"IF(OR(B448=\"\",B448=0),\"\",ROWS($A$1:A448))","v":""}]
[{"$f":"IF(OR(B449=\"\",B449=0),\"\",ROWS($A$1:A449))","v":""}]
[{"$f":"IF(OR(B450=\"\",B450=0),\"\",ROWS($A$1:A450))","v":""}]
[{"$f":"IF(OR(B451=\"\",B451=0),\"\",ROWS($A$1:A451))","v":""}]
[{"$f":"IF(OR(B452=\"\",B452=0),\"\",ROWS($A$1:A452))","v":""}]
[{"$f":"IF(OR(B453=\"\",B453=0),\"\",ROWS($A$1:A453))","v":""}]
[{"$f":"IF(OR(B454=\"\",B454=0),\"\",ROWS($A$1:A454))","v":""}]
[{"$f":"IF(OR(B455=\"\",B455=0),\"\",ROWS($A$1:A455))","v":""}]
[{"$f":"IF(OR(B456=\"\",B456=0),\"\",ROWS($A$1:A456))","v":""}]
[{"$f":"IF(OR(B457=\"\",B457=0),\"\",ROWS($A$1:A457))","v":""}]
[{"$f":"IF(OR(B458=\"\",B458=0),\"\",ROWS($A$1:A458))","v":""}]
[{"$f":"IF(OR(B459=\"\",B459=0),\"\",ROWS($A$1:A459))","v":""}]
[{"$f":"IF(OR(B460=\"\",B460=0),\"\",ROWS($A$1:A460))","v":""}]
[{"$f":"IF(OR(B461=\"\",B461=0),\"\",ROWS($A$1:A461))","v":""}]
[{"$f":"IF(OR(B462=\"\",B462=0),\"\",ROWS($A$1:A462))","v":""}]
[{"$f":"IF(OR(B463=\"\",B463=0),\"\",ROWS($A$1:A463))","v":""}]
[{"$f":"IF(OR(B464=\"\",B464=0),\"\",ROWS($A$1:A464))","v":""}]
[{"$f":"IF(OR(B465=\"\",B465=0),\"\",ROWS($A$1:A465))","v":""}]
[{"$f":"IF(OR(B466=\"\",B466=0),\"\",ROWS($A$1:A466))","v":""}]
[{"$f":"IF(OR(B467=\"\",B467=0),\"\",ROWS($A$1:A467))","v":""}]
[{"$f":"IF(OR(B468=\"\",B468=0),\"\",ROWS($A$1:A468))","v":""}]
[{"$f":"IF(OR(B469=\"\",B469=0),\"\",ROWS($A$1:A469))","v":""}]
[{"$f":"IF(OR(B470=\"\",B470=0),\"\",ROWS($A$1:A470))","v":""}]
[{"$f":"IF(OR(B471=\"\",B471=0),\"\",ROWS($A$1:A471))","v":""}]
[{"$f":"IF(OR(B472=\"\",B472=0),\"\",ROWS($A$1:A472))","v":""}]
[{"$f":"IF(OR(B473=\"\",B473=0),\"\",ROWS($A$1:A473))","v":""}]
[{"$f":"IF(OR(B474=\"\",B474=0),\"\",ROWS($A$1:A474))","v":""}]
[{"$f":"IF(OR(B475=\"\",B475=0),\"\",ROWS($A$1:A475))","v":""}]
[{"$f":"IF(OR(B476=\"\",B476=0),\"\",ROWS($A$1:A476))","v":""}]
[{"$f":"IF(OR(B477=\"\",B477=0),\"\",ROWS($A$1:A477))","v":""}]
[{"$f":"IF(OR(B478=\"\",B478=0),\"\",ROWS($A$1:A478))","v":""}]
[{"$f":"IF(OR(B479=\"\",B479=0),\"\",ROWS($A$1:A479))","v":""}]
[{"$f":"IF(OR(B480=\"\",B480=0),\"\",ROWS($A$1:A480))","v":""}]
[{"$f":"IF(OR(B481=\"\",B481=0),\"\",ROWS($A$1:A481))","v":""}]
[{"$f":"IF(OR(B482=\"\",B482=0),\"\",ROWS($A$1:A482))","v":""}]
[{"$f":"IF(OR(B483=\"\",B483=0),\"\",ROWS($A$1:A483))","v":""}]
[{"$f":"IF(OR(B484=\"\",B484=0),\"\",ROWS($A$1:A484))","v":""}]
[{"$f":"IF(OR(B485=\"\",B485=0),\"\",ROWS($A$1:A485))","v":""}]
[{"$f":"IF(OR(B486=\"\",B486=0),\"\",ROWS($A$1:A486))","v":""}]
[{"$f":"IF(OR(B487=\"\",B487=0),\"\",ROWS($A$1:A487))","v":""}]
[{"$f":"IF(OR(B488=\"\",B488=0),\"\",ROWS($A$1:A488))","v":""}]
[{"$f":"IF(OR(B489=\"\",B489=0),\"\",ROWS($A$1:A489))","v":""}]
[{"$f":"IF(OR(B490=\"\",B490=0),\"\",ROWS($A$1:A490))","v":""}]
[{"$f":"IF(OR(B491=\"\",B491=0),\"\",ROWS($A$1:A491))","v":""}]
[{"$f":"IF(OR(B492=\"\",B492=0),\"\",ROWS($A$1:A492))","v":""}]
[{"$f":"IF(OR(B493=\"\",B493=0),\"\",ROWS($A$1:A493))","v":""}]
[{"$f":"IF(OR(B494=\"\",B494=0),\"\",ROWS($A$1:A494))","v":""}]
[{"$f":"IF(OR(B495=\"\",B495=0),\"\",ROWS($A$1:A495))","v":""}]
[{"$f":"IF(OR(B496=\"\",B496=0),\"\",ROWS($A$1:A496))","v":""}]
[{"$f":"IF(OR(B497=\"\",B497=0),\"\",ROWS($A$1:A497))","v":""}]
[{"$f":"IF(OR(B498=\"\",B498=0),\"\",ROWS($A$1:A498))","v":""}]
[{"$f":"IF(OR(B499=\"\",B499=0),\"\",ROWS($A$1:A499))","v":""}]
[{"$f":"IF(OR(B500=\"\",B500=0),\"\",ROWS($A$1:A500))","v":""}]
[{"$f":"IF(OR(B501=\"\",B501=0),\"\",ROWS($A$1:A501))","v":""}]
[{"$f":"IF(OR(B502=\"\",B502=0),\"\",ROWS($A$1:A502))","v":""}]
[{"$f":"IF(OR(B503=\"\",B503=0),\"\",ROWS($A$1:A503))","v":""}]
[{"$f":"IF(OR(B504=\"\",B504=0),\"\",ROWS($A$1:A504))","v":""}]
[{"$f":"IF(OR(B505=\"\",B505=0),\"\",ROWS($A$1:A505))","v":""}]
[{"$f":"IF(OR(B506=\"\",B506=0),\"\",ROWS($A$1:A506))","v":""}]
[{"$f":"IF(OR(B507=\"\",B507=0),\"\",ROWS($A$1:A507))","v":""}]
[{"$f":"IF(OR(B508=\"\",B508=0),\"\",ROWS($A$1:A508))","v":""}]
[{"$f":"IF(OR(B509=\"\",B509=0),\"\",ROWS($A$1:A509))","v":""}]
[{"$f":"IF(OR(B510=\"\",B510=0),\"\",ROWS($A$1:A510))","v":""}]