{"text_format":"3","workbook":"xlsx","n_sheets":8,"sheets":["Instructions","Section 1","Section 2","Summary","Reference List","Checks","Lists","OutputForCSV"],"not_rendered":{"macros":1,"external_links":1,"defined_names":48,"comments":4},"read":"whole","date_system":"1900"}

{"sheet":"Instructions","index":0,"n_rows":21,"n_cols":3,"rows_kept":21}
[]
[null,null,"U.S. Environmental Protection Agency"]
[null,null,"Stratospheric Ozone Protection Program"]
[]
[null,null,"Request for Additional Class II Consumption Allowances (Sec 82.20)"]
[null,null,"Version 1.0"]
[null,null,"Last Updated: April 2018"]
[]
[null,null,"Instructions"]
[null,null,"Complete this form by filling in the data fields that are highlighted in blue.  Guidance on how to complete individual data fields are provided in comment bubbles. Use the arrows to navigate between the tabs. Once completed, use the 'prepare submission' button on the Summary tab to generate your CSV file.  "]
[null,null,"Copying and Pasting Data: If data are pasted into this reporting form from another spreadsheet, the formatting of specific cells must be consistent with the requirements of the form in order to be "]
[null,null,"accepted into EPA’s ODS Tracking System. Refer to the Reference List to identify the valid naming scheme for specific data fields. Additionally, select \"Paste As Values\" when pasting data into the form."]
[null,null,"Report Submission: This Excel file, the generated CSV file, and all supporting attachments should be submitted to EPA through the Central Data Exchange (CDX). Refer to EPA's website for additional information on form submission:"]
[null,null,"https://www.epa.gov/ods-phaseout/ods-recordkeeping-and-reporting."]
[]
[null,null,"All information submitted to EPA will be treated as confidential in accordance with 40 CFR Part 2, Subpart B, and will only be disclosed by the means set forth in the subpart. "]
[null,null,"The public reporting and recordkeeping burden for this collection of information is estimated to average 4 hours per response.  Send comments on the Agency's need for this information, the accuracy of the provided burden estimates, and any suggested methods for minimizing respondent burden, including through the use of automated collection techniques to the Director, Collection Strategies Division, U.S. Environmental Protection Agency (2822T), 1200 Pennsylvania Avenue, NW, Washington, D.C. 20460.  Include the OMB control number in any correspondence.  Do not send the completed form to this address."]
[]
[null,null,"EPA Form #5900-201"]
[null,null,"OMB Control Number: 2060-0498"]
[null,null,"Expiration Date: 4/30/2019"]

{"sheet":"Section 1","index":1,"n_rows":15,"n_cols":9,"rows_kept":15,"merged":[[7,2,7,3]]}
[]
[null,null,"U.S. Environmental Protection Agency"]
[null,null,"Request for Additional Class II Consumption Allowances"]
[]
[null,null,"   Date Prepared:",{"$f":"TODAY()","v":"2018-05-22"}]
[]
[null,null,"Section 1: Report Identification Information "]
[null,null,"Complete all fields below.  No fields may be left blank."]
[null,null,"Company Name: ",null,null,{"$f":"IF(D9=0,1,0)","v":1}]
[null,null,"Submission Type:",null,null,{"$f":"IF(D10=0,1,0)","v":1}]
[null,null,"Reporting Year:",null,null,{"$f":"IF(OR($D$11=0,$D$11>YEAR(TODAY())),1,0)","v":1},null,null,{"$f":"IF(D11>YEAR(TODAY()),\"PLEASE CHOOSE A CURRENT OR PAST YEAR\",\"\")","v":""}]
[null,null,"Employer Identification Number (EIN):",null,null,{"$f":"IF($D$12=0,1,0)","v":1}]
[{"$nulls":3},""]
[{"$nulls":3},{"$f":"Lists!D3","v":"Original Submission"}]
[{"$nulls":3},{"$f":"Lists!D4","v":"Re-Submittal"}]

{"sheet":"Section 2","index":2,"n_rows":416,"n_cols":35,"rows_kept":416,"merged":[[6,4,6,5],[7,4,7,5],[10,4,10,21],[11,4,11,21],[12,4,13,4],[12,5,13,5],[12,6,13,6],[12,7,13,7],[12,8,13,8],[12,9,13,9],[12,10,13,10],[12,11,13,11],[12,12,13,12],[12,13,13,13],[12,14,13,14],[12,15,13,15],[12,16,13,16],[12,17,13,17],[12,19,12,20],[12,21,13,21]]}
[{"$nulls":17},"EINCol"]
[{"$nulls":17},{"$f":"IF('Section 1'!D12=0,\"\",'Section 1'!D12)","v":""}]
[]
[{"$nulls":4},"U.S. Environmental Protection Agency"]
[{"$nulls":4},"Request for Additional Class II Consumption Allowances"]
[]
[{"$nulls":4},"Company Name:",null,{"$f":"IF('Section 1'!D9=0,\"\",'Section 1'!D9)","v":""}]
[{"$nulls":4},"Reporting Period:",null,{"$f":"IF('Section 1'!D11=0,\"\",'Section 1'!D11)","v":""}]
[]
[{"$nulls":4},"Section 2: Export Transaction Data"]
[{"$nulls":4},"In the table below, enter export transaction data for each class II controlled substance for which additional consumption allowances are being requested.  For all export transactions, all fields are required unless otherwise indicated.  As a reminder, if the material was produced or imported by a company other than the exporter,a written statement from the producer or importer stating that the material was produced or imported with expended allowances must be provided to EPA along with the submission of this report. Additionally, for each export transaction, a copy of the invoice and bill of lading documenting the sale and indicating the net quantity shipped must be provided to EPA. "]
[{"$nulls":4},"If copying and pasting data into the table, please refer to the Reference List and the accompanying instructions.\n"]
[{"$nulls":4},"Transaction Number","Date of Export","Recipient Company","Recipient Company Street Address","Recipient Company City","Recipient Company Country ","Recipient Company Postal Code","Recipient Company Contact Name","Recipient Company Phone Number","Name of the Class II Chemical Exported","Quantity of the Class II Chemical Exported","Commodity Code","Port of Exit from the United States","Shipment EIN","If Produced in the U.S.","If Imported into the U.S.",null,"Date Purchased"]
[{"$nulls":18},"Company that Produced the Class II Chemical","Company that Imported the Class II Chemical","Source Country"]
[{"$nulls":4},"Autopopulated","Date","Text","Text","Text","Selection","Text","Text","Text","Selection","kg","Text","Text","Number","Text","Text","Selection","Date",{"$nulls":4},"Checks"]
[{"$nulls":4},1,"2018-01-15","Company A","1 Main Street","Melbourne","Australia",3000,"John Smith","011 46 8 508 280 00","HCFC-22",{"v":1000,"d":"1,000.00"},"2903.71.0000","Miami, FL",12345678900,null,"Company B","New Zealand","2018-03-07",{"$nulls":4},"ActiveRow?","Row Completed?","Valid Country","Valid Chemical","Producer and Importer Error","Company Match?","Date Purchased","CountryBlank","Date of Export"]
[null,{"$f":"IF(N17=0, \"\", 1)","v":""},null,null,{"$f":"IF(N17=\"\",\"\",1)","v":""},{"$nulls":19},{"$f":"IF(SUM(AB17:AE17,AG17:AI17)>0,\"ROW INCOMPLETE OR INVALID DATA ENTERED; ENTER/EDIT DATA IN REQUIRED FIELDS\",\"\")","v":""},null,{"$f":"IF(E17=\"\",\"N\",\"Y\")","v":"N"},{"$f":"IF(E17=\"\",0,IF(OR(F17=0,G17=0,L17=0,M17=0,H17=0,I17=0,J17=0,K17=0,N17=0,O17=0,P17=0,Q17=0, R17=0,AND(S17=0,T17=0)),1,0))","v":0},{"$f":"IF(J17=0,0,IF(COUNTIF(Countries,J17)>0,0,1))","v":0},{"$f":"IF(N17=0,0,IF(COUNTIF(ClassIIChemAllowance,N17),0,1))","v":0},{"$f":"IF(AND(S17<>\"\",T17<>\"\"),1,\"0\")","v":"0"},{"$f":"IF(AA17=\"N\",0,IF('Section 1'!$D$9=\"\",1,IF(OR(S17='Section 1'!$D$9,T17='Section 1'!$D$9),0,1)))","v":0},{"$f":"IF(AND(AF17=1,V17=\"\"),1,0)","v":0},{"$f":"IF(T17=\"\", 0, IF(U17=\"\", 1, 0))","v":0},{"$f":"IF(F17=0,0,IF(AND(F17>=Lists!$F$3,F17<=Lists!$F$4),0,1))","v":0}]
[null,{"$f":"IF(N18=0, \"\", IF(COUNTIF($N$17:N17, N18)>0, \"\", MAX($B$17:B17)+1))","v":""},null,null,{"$f":"IF(N18=\"\",\"\",MAX($E$17:E17)+1)","v":""},{"$nulls":19},{"$f":"IF(SUM(AB18:AE18,AG18:AI18)>0,\"ROW INCOMPLETE OR INVALID DATA ENTERED; ENTER/EDIT DATA IN REQUIRED FIELDS\",\"\")","v":""},null,"N",0,{"$f":"IF(J18=0,0,IF(COUNTIF(Countries,J18)>0,0,1))","v":0},{"$f":"IF(N18=0,0,IF(COUNTIF(ClassIIChemAllowance,N18)>0,0,1))","v":0},{"$f":"IF(AND(S18<>\"\",T18<>\"\"),1,\"0\")","v":"0"},{"$f":"IF(AA18=\"N\",0,IF('Section 1'!$D$9=\"\",1,IF(OR(S18='Section 1'!$D$9,T18='Section 1'!$D$9),0,1)))","v":0},{"$f":"IF(AND(AF18=1,V18=\"\"),1,0)","v":0},{"$f":"IF(T18=\"\", 0, IF(U18=\"\", 1, 0))","v":0},{"$f":"IF(F18=0,0,IF(AND(F18>=Lists!$F$3,F18<=Lists!$F$4),0,1))","v":0}]
[null,{"$f":"IF(N19=0, \"\", IF(COUNTIF($N$17:N18, N19)>0, \"\", MAX($B$17:B18)+1))","v":""},null,null,{"$f":"IF(N19=\"\",\"\",MAX($E$17:E18)+1)","v":""},{"$nulls":19},"",null,"N",0,0,{"$f":"IF(N19=0,0,IF(COUNTIF(ClassIIChemAllowance,N19)>0,0,1))","v":0},"0",{"$f":"IF(AA19=\"N\",0,IF('Section 1'!$D$9=\"\",1,IF(OR(S19='Section 1'!$D$9,T19='Section 1'!$D$9),0,1)))","v":0},0,0,{"$f":"IF(F19=0,0,IF(AND(F19>=Lists!$F$3,F19<=Lists!$F$4),0,1))","v":0}]
[null,{"$f":"IF(N20=0, \"\", IF(COUNTIF($N$17:N19, N20)>0, \"\", MAX($B$17:B19)+1))","v":""},null,null,{"$f":"IF(N20=\"\",\"\",MAX($E$17:E19)+1)","v":""},{"$nulls":19},"",null,"N",0,0,0,"0",{"$f":"IF(AA20=\"N\",0,IF('Section 1'!$D$9=\"\",1,IF(OR(S20='Section 1'!$D$9,T20='Section 1'!$D$9),0,1)))","v":0},0,0,{"$f":"IF(F20=0,0,IF(AND(F20>=Lists!$F$3,F20<=Lists!$F$4),0,1))","v":0}]
[null,{"$f":"IF(N21=0, \"\", IF(COUNTIF($N$17:N20, N21)>0, \"\", MAX($B$17:B20)+1))","v":""},null,null,{"$f":"IF(N21=\"\",\"\",MAX($E$17:E20)+1)","v":""},{"$nulls":19},"",null,"N",0,0,0,"0",{"$f":"IF(AA21=\"N\",0,IF('Section 1'!$D$9=\"\",1,IF(OR(S21='Section 1'!$D$9,T21='Section 1'!$D$9),0,1)))","v":0},0,0,{"$f":"IF(F21=0,0,IF(AND(F21>=Lists!$F$3,F21<=Lists!$F$4),0,1))","v":0}]
[null,{"$f":"IF(N22=0, \"\", IF(COUNTIF($N$17:N21, N22)>0, \"\", MAX($B$17:B21)+1))","v":""},null,null,{"$f":"IF(N22=\"\",\"\",MAX($E$17:E21)+1)","v":""},{"$nulls":19},"",null,"N",0,0,0,"0",{"$f":"IF(AA22=\"N\",0,IF('Section 1'!$D$9=\"\",1,IF(OR(S22='Section 1'!$D$9,T22='Section 1'!$D$9),0,1)))","v":0},0,0,{"$f":"IF(F22=0,0,IF(AND(F22>=Lists!$F$3,F22<=Lists!$F$4),0,1))","v":0}]
[null,{"$f":"IF(N23=0, \"\", IF(COUNTIF($N$17:N22, N23)>0, \"\", MAX($B$17:B22)+1))","v":""},null,null,{"$f":"IF(N23=\"\",\"\",MAX($E$17:E22)+1)","v":""},{"$nulls":19},"",null,"N",0,0,0,"0",{"$f":"IF(AA23=\"N\",0,IF('Section 1'!$D$9=\"\",1,IF(OR(S23='Section 1'!$D$9,T23='Section 1'!$D$9),0,1)))","v":0},0,0,{"$f":"IF(F23=0,0,IF(AND(F23>=Lists!$F$3,F23<=Lists!$F$4),0,1))","v":0}]
[null,{"$f":"IF(N24=0, \"\", IF(COUNTIF($N$17:N23, N24)>0, \"\", MAX($B$17:B23)+1))","v":""},null,null,{"$f":"IF(N24=\"\",\"\",MAX($E$17:E23)+1)","v":""},{"$nulls":19},"",null,"N",0,0,0,"0",{"$f":"IF(AA24=\"N\",0,IF('Section 1'!$D$9=\"\",1,IF(OR(S24='Section 1'!$D$9,T24='Section 1'!$D$9),0,1)))","v":0},0,0,{"$f":"IF(F24=0,0,IF(AND(F24>=Lists!$F$3,F24<=Lists!$F$4),0,1))","v":0}]
[null,{"$f":"IF(N25=0, \"\", IF(COUNTIF($N$17:N24, N25)>0, \"\", MAX($B$17:B24)+1))","v":""},null,null,{"$f":"IF(N25=\"\",\"\",MAX($E$17:E24)+1)","v":""},{"$nulls":19},"",null,"N",0,0,0,"0",{"$f":"IF(AA25=\"N\",0,IF('Section 1'!$D$9=\"\",1,IF(OR(S25='Section 1'!$D$9,T25='Section 1'!$D$9),0,1)))","v":0},0,0,{"$f":"IF(F25=0,0,IF(AND(F25>=Lists!$F$3,F25<=Lists!$F$4),0,1))","v":0}]
[null,{"$f":"IF(N26=0, \"\", IF(COUNTIF($N$17:N25, N26)>0, \"\", MAX($B$17:B25)+1))","v":""},null,null,{"$f":"IF(N26=\"\",\"\",MAX($E$17:E25)+1)","v":""},{"$nulls":19},"",null,"N",0,0,0,"0",{"$f":"IF(AA26=\"N\",0,IF('Section 1'!$D$9=\"\",1,IF(OR(S26='Section 1'!$D$9,T26='Section 1'!$D$9),0,1)))","v":0},0,0,{"$f":"IF(F26=0,0,IF(AND(F26>=Lists!$F$3,F26<=Lists!$F$4),0,1))","v":0}]
[null,{"$f":"IF(N27=0, \"\", IF(COUNTIF($N$17:N26, N27)>0, \"\", MAX($B$17:B26)+1))","v":""},null,null,{"$f":"IF(N27=\"\",\"\",MAX($E$17:E26)+1)","v":""},{"$nulls":19},"",null,"N",0,0,0,"0",{"$f":"IF(AA27=\"N\",0,IF('Section 1'!$D$9=\"\",1,IF(OR(S27='Section 1'!$D$9,T27='Section 1'!$D$9),0,1)))","v":0},0,0,{"$f":"IF(F27=0,0,IF(AND(F27>=Lists!$F$3,F27<=Lists!$F$4),0,1))","v":0}]
[null,{"$f":"IF(N28=0, \"\", IF(COUNTIF($N$17:N27, N28)>0, \"\", MAX($B$17:B27)+1))","v":""},null,null,{"$f":"IF(N28=\"\",\"\",MAX($E$17:E27)+1)","v":""},{"$nulls":19},"",null,"N",0,0,0,"0",{"$f":"IF(AA28=\"N\",0,IF('Section 1'!$D$9=\"\",1,IF(OR(S28='Section 1'!$D$9,T28='Section 1'!$D$9),0,1)))","v":0},0,0,{"$f":"IF(F28=0,0,IF(AND(F28>=Lists!$F$3,F28<=Lists!$F$4),0,1))","v":0}]
[null,{"$f":"IF(N29=0, \"\", IF(COUNTIF($N$17:N28, N29)>0, \"\", MAX($B$17:B28)+1))","v":""},null,null,{"$f":"IF(N29=\"\",\"\",MAX($E$17:E28)+1)","v":""},{"$nulls":19},"",null,"N",0,0,0,"0",{"$f":"IF(AA29=\"N\",0,IF('Section 1'!$D$9=\"\",1,IF(OR(S29='Section 1'!$D$9,T29='Section 1'!$D$9),0,1)))","v":0},0,0,{"$f":"IF(F29=0,0,IF(AND(F29>=Lists!$F$3,F29<=Lists!$F$4),0,1))","v":0}]
[null,{"$f":"IF(N30=0, \"\", IF(COUNTIF($N$17:N29, N30)>0, \"\", MAX($B$17:B29)+1))","v":""},null,null,{"$f":"IF(N30=\"\",\"\",MAX($E$17:E29)+1)","v":""},{"$nulls":19},"",null,"N",0,0,0,"0",{"$f":"IF(AA30=\"N\",0,IF('Section 1'!$D$9=\"\",1,IF(OR(S30='Section 1'!$D$9,T30='Section 1'!$D$9),0,1)))","v":0},0,0,{"$f":"IF(F30=0,0,IF(AND(F30>=Lists!$F$3,F30<=Lists!$F$4),0,1))","v":0}]
[null,{"$f":"IF(N31=0, \"\", IF(COUNTIF($N$17:N30, N31)>0, \"\", MAX($B$17:B30)+1))","v":""},null,null,{"$f":"IF(N31=\"\",\"\",MAX($E$17:E30)+1)","v":""},{"$nulls":19},"",null,"N",0,0,0,"0",{"$f":"IF(AA31=\"N\",0,IF('Section 1'!$D$9=\"\",1,IF(OR(S31='Section 1'!$D$9,T31='Section 1'!$D$9),0,1)))","v":0},0,0,{"$f":"IF(F31=0,0,IF(AND(F31>=Lists!$F$3,F31<=Lists!$F$4),0,1))","v":0}]
[null,{"$f":"IF(N32=0, \"\", IF(COUNTIF($N$17:N31, N32)>0, \"\", MAX($B$17:B31)+1))","v":""},null,null,{"$f":"IF(N32=\"\",\"\",MAX($E$17:E31)+1)","v":""},{"$nulls":19},"",null,"N",0,0,0,"0",{"$f":"IF(AA32=\"N\",0,IF('Section 1'!$D$9=\"\",1,IF(OR(S32='Section 1'!$D$9,T32='Section 1'!$D$9),0,1)))","v":0},0,0,{"$f":"IF(F32=0,0,IF(AND(F32>=Lists!$F$3,F32<=Lists!$F$4),0,1))","v":0}]
[null,{"$f":"IF(N33=0, \"\", IF(COUNTIF($N$17:N32, N33)>0, \"\", MAX($B$17:B32)+1))","v":""},null,null,{"$f":"IF(N33=\"\",\"\",MAX($E$17:E32)+1)","v":""},{"$nulls":19},"",null,"N",0,0,0,"0",{"$f":"IF(AA33=\"N\",0,IF('Section 1'!$D$9=\"\",1,IF(OR(S33='Section 1'!$D$9,T33='Section 1'!$D$9),0,1)))","v":0},0,0,{"$f":"IF(F33=0,0,IF(AND(F33>=Lists!$F$3,F33<=Lists!$F$4),0,1))","v":0}]
[null,{"$f":"IF(N34=0, \"\", IF(COUNTIF($N$17:N33, N34)>0, \"\", MAX($B$17:B33)+1))","v":""},null,null,{"$f":"IF(N34=\"\",\"\",MAX($E$17:E33)+1)","v":""},{"$nulls":19},"",null,"N",0,0,0,"0",{"$f":"IF(AA34=\"N\",0,IF('Section 1'!$D$9=\"\",1,IF(OR(S34='Section 1'!$D$9,T34='Section 1'!$D$9),0,1)))","v":0},0,0,{"$f":"IF(F34=0,0,IF(AND(F34>=Lists!$F$3,F34<=Lists!$F$4),0,1))","v":0}]
[null,{"$f":"IF(N35=0, \"\", IF(COUNTIF($N$17:N34, N35)>0, \"\", MAX($B$17:B34)+1))","v":""},null,null,{"$f":"IF(N35=\"\",\"\",MAX($E$17:E34)+1)","v":""},{"$nulls":19},"",null,"N",0,0,0,"0",{"$f":"IF(AA35=\"N\",0,IF('Section 1'!$D$9=\"\",1,IF(OR(S35='Section 1'!$D$9,T35='Section 1'!$D$9),0,1)))","v":0},0,0,{"$f":"IF(F35=0,0,IF(AND(F35>=Lists!$F$3,F35<=Lists!$F$4),0,1))","v":0}]
[null,{"$f":"IF(N36=0, \"\", IF(COUNTIF($N$17:N35, N36)>0, \"\", MAX($B$17:B35)+1))","v":""},null,null,{"$f":"IF(N36=\"\",\"\",MAX($E$17:E35)+1)","v":""},{"$nulls":19},"",null,"N",0,0,0,"0",{"$f":"IF(AA36=\"N\",0,IF('Section 1'!$D$9=\"\",1,IF(OR(S36='Section 1'!$D$9,T36='Section 1'!$D$9),0,1)))","v":0},0,0,{"$f":"IF(F36=0,0,IF(AND(F36>=Lists!$F$3,F36<=Lists!$F$4),0,1))","v":0}]
[null,{"$f":"IF(N37=0, \"\", IF(COUNTIF($N$17:N36, N37)>0, \"\", MAX($B$17:B36)+1))","v":""},null,null,{"$f":"IF(N37=\"\",\"\",MAX($E$17:E36)+1)","v":""},{"$nulls":19},"",null,"N",0,0,0,"0",{"$f":"IF(AA37=\"N\",0,IF('Section 1'!$D$9=\"\",1,IF(OR(S37='Section 1'!$D$9,T37='Section 1'!$D$9),0,1)))","v":0},0,0,{"$f":"IF(F37=0,0,IF(AND(F37>=Lists!$F$3,F37<=Lists!$F$4),0,1))","v":0}]
[null,{"$f":"IF(N38=0, \"\", IF(COUNTIF($N$17:N37, N38)>0, \"\", MAX($B$17:B37)+1))","v":""},null,null,{"$f":"IF(N38=\"\",\"\",MAX($E$17:E37)+1)","v":""},{"$nulls":19},"",null,"N",0,0,0,"0",{"$f":"IF(AA38=\"N\",0,IF('Section 1'!$D$9=\"\",1,IF(OR(S38='Section 1'!$D$9,T38='Section 1'!$D$9),0,1)))","v":0},0,0,{"$f":"IF(F38=0,0,IF(AND(F38>=Lists!$F$3,F38<=Lists!$F$4),0,1))","v":0}]
[null,{"$f":"IF(N39=0, \"\", IF(COUNTIF($N$17:N38, N39)>0, \"\", MAX($B$17:B38)+1))","v":""},null,null,{"$f":"IF(N39=\"\",\"\",MAX($E$17:E38)+1)","v":""},{"$nulls":19},"",null,"N",0,0,0,"0",{"$f":"IF(AA39=\"N\",0,IF('Section 1'!$D$9=\"\",1,IF(OR(S39='Section 1'!$D$9,T39='Section 1'!$D$9),0,1)))","v":0},0,0,{"$f":"IF(F39=0,0,IF(AND(F39>=Lists!$F$3,F39<=Lists!$F$4),0,1))","v":0}]
[null,{"$f":"IF(N40=0, \"\", IF(COUNTIF($N$17:N39, N40)>0, \"\", MAX($B$17:B39)+1))","v":""},null,null,{"$f":"IF(N40=\"\",\"\",MAX($E$17:E39)+1)","v":""},{"$nulls":19},"",null,"N",0,0,0,"0",{"$f":"IF(AA40=\"N\",0,IF('Section 1'!$D$9=\"\",1,IF(OR(S40='Section 1'!$D$9,T40='Section 1'!$D$9),0,1)))","v":0},0,0,{"$f":"IF(F40=0,0,IF(AND(F40>=Lists!$F$3,F40<=Lists!$F$4),0,1))","v":0}]
[null,{"$f":"IF(N41=0, \"\", IF(COUNTIF($N$17:N40, N41)>0, \"\", MAX($B$17:B40)+1))","v":""},null,null,{"$f":"IF(N41=\"\",\"\",MAX($E$17:E40)+1)","v":""},{"$nulls":19},"",null,"N",0,0,0,"0",{"$f":"IF(AA41=\"N\",0,IF('Section 1'!$D$9=\"\",1,IF(OR(S41='Section 1'!$D$9,T41='Section 1'!$D$9),0,1)))","v":0},0,0,{"$f":"IF(F41=0,0,IF(AND(F41>=Lists!$F$3,F41<=Lists!$F$4),0,1))","v":0}]
[null,{"$f":"IF(N42=0, \"\", IF(COUNTIF($N$17:N41, N42)>0, \"\", MAX($B$17:B41)+1))","v":""},null,null,{"$f":"IF(N42=\"\",\"\",MAX($E$17:E41)+1)","v":""},{"$nulls":19},"",null,"N",0,0,0,"0",{"$f":"IF(AA42=\"N\",0,IF('Section 1'!$D$9=\"\",1,IF(OR(S42='Section 1'!$D$9,T42='Section 1'!$D$9),0,1)))","v":0},0,0,{"$f":"IF(F42=0,0,IF(AND(F42>=Lists!$F$3,F42<=Lists!$F$4),0,1))","v":0}]
[null,{"$f":"IF(N43=0, \"\", IF(COUNTIF($N$17:N42, N43)>0, \"\", MAX($B$17:B42)+1))","v":""},null,null,{"$f":"IF(N43=\"\",\"\",MAX($E$17:E42)+1)","v":""},{"$nulls":19},"",null,"N",0,0,0,"0",{"$f":"IF(AA43=\"N\",0,IF('Section 1'!$D$9=\"\",1,IF(OR(S43='Section 1'!$D$9,T43='Section 1'!$D$9),0,1)))","v":0},0,0,{"$f":"IF(F43=0,0,IF(AND(F43>=Lists!$F$3,F43<=Lists!$F$4),0,1))","v":0}]
[null,{"$f":"IF(N44=0, \"\", IF(COUNTIF($N$17:N43, N44)>0, \"\", MAX($B$17:B43)+1))","v":""},null,null,{"$f":"IF(N44=\"\",\"\",MAX($E$17:E43)+1)","v":""},{"$nulls":19},"",null,"N",0,0,0,"0",{"$f":"IF(AA44=\"N\",0,IF('Section 1'!$D$9=\"\",1,IF(OR(S44='Section 1'!$D$9,T44='Section 1'!$D$9),0,1)))","v":0},0,0,{"$f":"IF(F44=0,0,IF(AND(F44>=Lists!$F$3,F44<=Lists!$F$4),0,1))","v":0}]
[null,{"$f":"IF(N45=0, \"\", IF(COUNTIF($N$17:N44, N45)>0, \"\", MAX($B$17:B44)+1))","v":""},null,null,{"$f":"IF(N45=\"\",\"\",MAX($E$17:E44)+1)","v":""},{"$nulls":19},"",null,"N",0,0,0,"0",{"$f":"IF(AA45=\"N\",0,IF('Section 1'!$D$9=\"\",1,IF(OR(S45='Section 1'!$D$9,T45='Section 1'!$D$9),0,1)))","v":0},0,0,{"$f":"IF(F45=0,0,IF(AND(F45>=Lists!$F$3,F45<=Lists!$F$4),0,1))","v":0}]
[null,{"$f":"IF(N46=0, \"\", IF(COUNTIF($N$17:N45, N46)>0, \"\", MAX($B$17:B45)+1))","v":""},null,null,{"$f":"IF(N46=\"\",\"\",MAX($E$17:E45)+1)","v":""},{"$nulls":12},"",{"$nulls":6},"",null,"N",0,0,0,"0",{"$f":"IF(AA46=\"N\",0,IF('Section 1'!$D$9=\"\",1,IF(OR(S46='Section 1'!$D$9,T46='Section 1'!$D$9),0,1)))","v":0},0,0,{"$f":"IF(F46=0,0,IF(AND(F46>=Lists!$F$3,F46<=Lists!$F$4),0,1))","v":0}]
[null,{"$f":"IF(N47=0, \"\", IF(COUNTIF($N$17:N46, N47)>0, \"\", MAX($B$17:B46)+1))","v":""},null,null,{"$f":"IF(N47=\"\",\"\",MAX($E$17:E46)+1)","v":""},{"$nulls":12},"",{"$nulls":6},"",null,"N",0,0,0,"0",{"$f":"IF(AA47=\"N\",0,IF('Section 1'!$D$9=\"\",1,IF(OR(S47='Section 1'!$D$9,T47='Section 1'!$D$9),0,1)))","v":0},0,0,{"$f":"IF(F47=0,0,IF(AND(F47>=Lists!$F$3,F47<=Lists!$F$4),0,1))","v":0}]
[null,{"$f":"IF(N48=0, \"\", IF(COUNTIF($N$17:N47, N48)>0, \"\", MAX($B$17:B47)+1))","v":""},null,null,{"$f":"IF(N48=\"\",\"\",MAX($E$17:E47)+1)","v":""},{"$nulls":12},"",{"$nulls":6},"",null,"N",0,0,0,"0",{"$f":"IF(AA48=\"N\",0,IF('Section 1'!$D$9=\"\",1,IF(OR(S48='Section 1'!$D$9,T48='Section 1'!$D$9),0,1)))","v":0},0,0,{"$f":"IF(F48=0,0,IF(AND(F48>=Lists!$F$3,F48<=Lists!$F$4),0,1))","v":0}]
[null,{"$f":"IF(N49=0, \"\", IF(COUNTIF($N$17:N48, N49)>0, \"\", MAX($B$17:B48)+1))","v":""},null,null,{"$f":"IF(N49=\"\",\"\",MAX($E$17:E48)+1)","v":""},{"$nulls":12},"",{"$nulls":6},"",null,{"$f":"IF(E49=\"\",\"N\",\"Y\")","v":"N"},{"$f":"IF(E49=\"\",0,IF(OR(F49=0,G49=0,L49=0,M49=0,H49=0,I49=0,J49=0,K49=0,N49=0,O49=0,P49=0,Q49=0, R49=0,AND(S49=0,T49=0)),1,0))","v":0},{"$f":"IF(J49=0,0,IF(COUNTIF(Countries,J49)>0,0,1))","v":0},{"$f":"IF(N49=0,0,IF(COUNTIF(ClassIIChemAllowance,N49)>0,0,1))","v":0},"0",{"$f":"IF(AA49=\"N\",0,IF('Section 1'!$D$9=\"\",1,IF(OR(S49='Section 1'!$D$9,T49='Section 1'!$D$9),0,1)))","v":0},0,0,{"$f":"IF(F49=0,0,IF(AND(F49>=Lists!$F$3,F49<=Lists!$F$4),0,1))","v":0}]
[null,{"$f":"IF(N50=0, \"\", IF(COUNTIF($N$17:N49, N50)>0, \"\", MAX($B$17:B49)+1))","v":""},null,null,{"$f":"IF(N50=\"\",\"\",MAX($E$17:E49)+1)","v":""},{"$nulls":12},"",{"$nulls":6},"",null,"N",0,0,0,"0",{"$f":"IF(AA50=\"N\",0,IF('Section 1'!$D$9=\"\",1,IF(OR(S50='Section 1'!$D$9,T50='Section 1'!$D$9),0,1)))","v":0},0,0,{"$f":"IF(F50=0,0,IF(AND(F50>=Lists!$F$3,F50<=Lists!$F$4),0,1))","v":0}]
[null,{"$f":"IF(N51=0, \"\", IF(COUNTIF($N$17:N50, N51)>0, \"\", MAX($B$17:B50)+1))","v":""},null,null,{"$f":"IF(N51=\"\",\"\",MAX($E$17:E50)+1)","v":""},{"$nulls":12},"",{"$nulls":6},"",null,"N",0,0,0,"0",{"$f":"IF(AA51=\"N\",0,IF('Section 1'!$D$9=\"\",1,IF(OR(S51='Section 1'!$D$9,T51='Section 1'!$D$9),0,1)))","v":0},0,0,{"$f":"IF(F51=0,0,IF(AND(F51>=Lists!$F$3,F51<=Lists!$F$4),0,1))","v":0}]
[null,{"$f":"IF(N52=0, \"\", IF(COUNTIF($N$17:N51, N52)>0, \"\", MAX($B$17:B51)+1))","v":""},null,null,{"$f":"IF(N52=\"\",\"\",MAX($E$17:E51)+1)","v":""},{"$nulls":12},"",{"$nulls":6},"",null,"N",0,0,0,"0",{"$f":"IF(AA52=\"N\",0,IF('Section 1'!$D$9=\"\",1,IF(OR(S52='Section 1'!$D$9,T52='Section 1'!$D$9),0,1)))","v":0},0,0,{"$f":"IF(F52=0,0,IF(AND(F52>=Lists!$F$3,F52<=Lists!$F$4),0,1))","v":0}]
[null,{"$f":"IF(N53=0, \"\", IF(COUNTIF($N$17:N52, N53)>0, \"\", MAX($B$17:B52)+1))","v":""},null,null,{"$f":"IF(N53=\"\",\"\",MAX($E$17:E52)+1)","v":""},{"$nulls":12},"",{"$nulls":6},"",null,"N",0,0,0,"0",{"$f":"IF(AA53=\"N\",0,IF('Section 1'!$D$9=\"\",1,IF(OR(S53='Section 1'!$D$9,T53='Section 1'!$D$9),0,1)))","v":0},0,0,{"$f":"IF(F53=0,0,IF(AND(F53>=Lists!$F$3,F53<=Lists!$F$4),0,1))","v":0}]
[null,{"$f":"IF(N54=0, \"\", IF(COUNTIF($N$17:N53, N54)>0, \"\", MAX($B$17:B53)+1))","v":""},null,null,{"$f":"IF(N54=\"\",\"\",MAX($E$17:E53)+1)","v":""},{"$nulls":12},"",{"$nulls":6},"",null,"N",0,0,0,"0",{"$f":"IF(AA54=\"N\",0,IF('Section 1'!$D$9=\"\",1,IF(OR(S54='Section 1'!$D$9,T54='Section 1'!$D$9),0,1)))","v":0},0,0,{"$f":"IF(F54=0,0,IF(AND(F54>=Lists!$F$3,F54<=Lists!$F$4),0,1))","v":0}]
[null,{"$f":"IF(N55=0, \"\", IF(COUNTIF($N$17:N54, N55)>0, \"\", MAX($B$17:B54)+1))","v":""},null,null,{"$f":"IF(N55=\"\",\"\",MAX($E$17:E54)+1)","v":""},{"$nulls":12},"",{"$nulls":6},"",null,"N",0,0,0,"0",{"$f":"IF(AA55=\"N\",0,IF('Section 1'!$D$9=\"\",1,IF(OR(S55='Section 1'!$D$9,T55='Section 1'!$D$9),0,1)))","v":0},0,0,{"$f":"IF(F55=0,0,IF(AND(F55>=Lists!$F$3,F55<=Lists!$F$4),0,1))","v":0}]
[null,{"$f":"IF(N56=0, \"\", IF(COUNTIF($N$17:N55, N56)>0, \"\", MAX($B$17:B55)+1))","v":""},null,null,{"$f":"IF(N56=\"\",\"\",MAX($E$17:E55)+1)","v":""},{"$nulls":12},"",{"$nulls":6},"",null,"N",0,0,0,"0",{"$f":"IF(AA56=\"N\",0,IF('Section 1'!$D$9=\"\",1,IF(OR(S56='Section 1'!$D$9,T56='Section 1'!$D$9),0,1)))","v":0},0,0,{"$f":"IF(F56=0,0,IF(AND(F56>=Lists!$F$3,F56<=Lists!$F$4),0,1))","v":0}]
[null,{"$f":"IF(N57=0, \"\", IF(COUNTIF($N$17:N56, N57)>0, \"\", MAX($B$17:B56)+1))","v":""},null,null,{"$f":"IF(N57=\"\",\"\",MAX($E$17:E56)+1)","v":""},{"$nulls":12},"",{"$nulls":6},"",null,"N",0,0,0,"0",{"$f":"IF(AA57=\"N\",0,IF('Section 1'!$D$9=\"\",1,IF(OR(S57='Section 1'!$D$9,T57='Section 1'!$D$9),0,1)))","v":0},0,0,{"$f":"IF(F57=0,0,IF(AND(F57>=Lists!$F$3,F57<=Lists!$F$4),0,1))","v":0}]
[null,{"$f":"IF(N58=0, \"\", IF(COUNTIF($N$17:N57, N58)>0, \"\", MAX($B$17:B57)+1))","v":""},null,null,{"$f":"IF(N58=\"\",\"\",MAX($E$17:E57)+1)","v":""},{"$nulls":12},"",{"$nulls":6},"",null,"N",0,0,0,"0",{"$f":"IF(AA58=\"N\",0,IF('Section 1'!$D$9=\"\",1,IF(OR(S58='Section 1'!$D$9,T58='Section 1'!$D$9),0,1)))","v":0},0,0,{"$f":"IF(F58=0,0,IF(AND(F58>=Lists!$F$3,F58<=Lists!$F$4),0,1))","v":0}]
[null,{"$f":"IF(N59=0, \"\", IF(COUNTIF($N$17:N58, N59)>0, \"\", MAX($B$17:B58)+1))","v":""},null,null,{"$f":"IF(N59=\"\",\"\",MAX($E$17:E58)+1)","v":""},{"$nulls":12},"",{"$nulls":6},"",null,"N",0,0,0,"0",{"$f":"IF(AA59=\"N\",0,IF('Section 1'!$D$9=\"\",1,IF(OR(S59='Section 1'!$D$9,T59='Section 1'!$D$9),0,1)))","v":0},0,0,{"$f":"IF(F59=0,0,IF(AND(F59>=Lists!$F$3,F59<=Lists!$F$4),0,1))","v":0}]
[null,{"$f":"IF(N60=0, \"\", IF(COUNTIF($N$17:N59, N60)>0, \"\", MAX($B$17:B59)+1))","v":""},null,null,{"$f":"IF(N60=\"\",\"\",MAX($E$17:E59)+1)","v":""},{"$nulls":12},"",{"$nulls":6},"",null,"N",0,0,0,"0",{"$f":"IF(AA60=\"N\",0,IF('Section 1'!$D$9=\"\",1,IF(OR(S60='Section 1'!$D$9,T60='Section 1'!$D$9),0,1)))","v":0},0,0,{"$f":"IF(F60=0,0,IF(AND(F60>=Lists!$F$3,F60<=Lists!$F$4),0,1))","v":0}]
[null,{"$f":"IF(N61=0, \"\", IF(COUNTIF($N$17:N60, N61)>0, \"\", MAX($B$17:B60)+1))","v":""},null,null,{"$f":"IF(N61=\"\",\"\",MAX($E$17:E60)+1)","v":""},{"$nulls":12},"",{"$nulls":6},"",null,"N",0,0,0,"0",{"$f":"IF(AA61=\"N\",0,IF('Section 1'!$D$9=\"\",1,IF(OR(S61='Section 1'!$D$9,T61='Section 1'!$D$9),0,1)))","v":0},0,0,{"$f":"IF(F61=0,0,IF(AND(F61>=Lists!$F$3,F61<=Lists!$F$4),0,1))","v":0}]
[null,{"$f":"IF(N62=0, \"\", IF(COUNTIF($N$17:N61, N62)>0, \"\", MAX($B$17:B61)+1))","v":""},null,null,{"$f":"IF(N62=\"\",\"\",MAX($E$17:E61)+1)","v":""},{"$nulls":12},"",{"$nulls":6},"",null,"N",0,0,0,"0",{"$f":"IF(AA62=\"N\",0,IF('Section 1'!$D$9=\"\",1,IF(OR(S62='Section 1'!$D$9,T62='Section 1'!$D$9),0,1)))","v":0},0,0,{"$f":"IF(F62=0,0,IF(AND(F62>=Lists!$F$3,F62<=Lists!$F$4),0,1))","v":0}]
[null,{"$f":"IF(N63=0, \"\", IF(COUNTIF($N$17:N62, N63)>0, \"\", MAX($B$17:B62)+1))","v":""},null,null,{"$f":"IF(N63=\"\",\"\",MAX($E$17:E62)+1)","v":""},{"$nulls":12},"",{"$nulls":6},"",null,"N",0,0,0,"0",{"$f":"IF(AA63=\"N\",0,IF('Section 1'!$D$9=\"\",1,IF(OR(S63='Section 1'!$D$9,T63='Section 1'!$D$9),0,1)))","v":0},0,0,{"$f":"IF(F63=0,0,IF(AND(F63>=Lists!$F$3,F63<=Lists!$F$4),0,1))","v":0}]
[null,{"$f":"IF(N64=0, \"\", IF(COUNTIF($N$17:N63, N64)>0, \"\", MAX($B$17:B63)+1))","v":""},null,null,{"$f":"IF(N64=\"\",\"\",MAX($E$17:E63)+1)","v":""},{"$nulls":12},"",{"$nulls":6},"",null,"N",0,0,0,"0",{"$f":"IF(AA64=\"N\",0,IF('Section 1'!$D$9=\"\",1,IF(OR(S64='Section 1'!$D$9,T64='Section 1'!$D$9),0,1)))","v":0},0,0,{"$f":"IF(F64=0,0,IF(AND(F64>=Lists!$F$3,F64<=Lists!$F$4),0,1))","v":0}]
[null,{"$f":"IF(N65=0, \"\", IF(COUNTIF($N$17:N64, N65)>0, \"\", MAX($B$17:B64)+1))","v":""},null,null,{"$f":"IF(N65=\"\",\"\",MAX($E$17:E64)+1)","v":""},{"$nulls":12},"",{"$nulls":6},"",null,"N",0,0,0,"0",{"$f":"IF(AA65=\"N\",0,IF('Section 1'!$D$9=\"\",1,IF(OR(S65='Section 1'!$D$9,T65='Section 1'!$D$9),0,1)))","v":0},0,0,{"$f":"IF(F65=0,0,IF(AND(F65>=Lists!$F$3,F65<=Lists!$F$4),0,1))","v":0}]
[null,{"$f":"IF(N66=0, \"\", IF(COUNTIF($N$17:N65, N66)>0, \"\", MAX($B$17:B65)+1))","v":""},null,null,{"$f":"IF(N66=\"\",\"\",MAX($E$17:E65)+1)","v":""},{"$nulls":12},"",{"$nulls":6},"",null,"N",0,0,0,"0",{"$f":"IF(AA66=\"N\",0,IF('Section 1'!$D$9=\"\",1,IF(OR(S66='Section 1'!$D$9,T66='Section 1'!$D$9),0,1)))","v":0},0,0,{"$f":"IF(F66=0,0,IF(AND(F66>=Lists!$F$3,F66<=Lists!$F$4),0,1))","v":0}]
[null,{"$f":"IF(N67=0, \"\", IF(COUNTIF($N$17:N66, N67)>0, \"\", MAX($B$17:B66)+1))","v":""},null,null,{"$f":"IF(N67=\"\",\"\",MAX($E$17:E66)+1)","v":""},{"$nulls":12},"",{"$nulls":6},"",null,"N",0,0,0,"0",{"$f":"IF(AA67=\"N\",0,IF('Section 1'!$D$9=\"\",1,IF(OR(S67='Section 1'!$D$9,T67='Section 1'!$D$9),0,1)))","v":0},0,0,{"$f":"IF(F67=0,0,IF(AND(F67>=Lists!$F$3,F67<=Lists!$F$4),0,1))","v":0}]
[null,{"$f":"IF(N68=0, \"\", IF(COUNTIF($N$17:N67, N68)>0, \"\", MAX($B$17:B67)+1))","v":""},null,null,{"$f":"IF(N68=\"\",\"\",MAX($E$17:E67)+1)","v":""},{"$nulls":12},"",{"$nulls":6},"",null,"N",0,0,0,"0",{"$f":"IF(AA68=\"N\",0,IF('Section 1'!$D$9=\"\",1,IF(OR(S68='Section 1'!$D$9,T68='Section 1'!$D$9),0,1)))","v":0},0,0,{"$f":"IF(F68=0,0,IF(AND(F68>=Lists!$F$3,F68<=Lists!$F$4),0,1))","v":0}]
[null,{"$f":"IF(N69=0, \"\", IF(COUNTIF($N$17:N68, N69)>0, \"\", MAX($B$17:B68)+1))","v":""},null,null,{"$f":"IF(N69=\"\",\"\",MAX($E$17:E68)+1)","v":""},{"$nulls":12},"",{"$nulls":6},"",null,"N",0,0,0,"0",{"$f":"IF(AA69=\"N\",0,IF('Section 1'!$D$9=\"\",1,IF(OR(S69='Section 1'!$D$9,T69='Section 1'!$D$9),0,1)))","v":0},0,0,{"$f":"IF(F69=0,0,IF(AND(F69>=Lists!$F$3,F69<=Lists!$F$4),0,1))","v":0}]
[null,{"$f":"IF(N70=0, \"\", IF(COUNTIF($N$17:N69, N70)>0, \"\", MAX($B$17:B69)+1))","v":""},null,null,{"$f":"IF(N70=\"\",\"\",MAX($E$17:E69)+1)","v":""},{"$nulls":12},"",{"$nulls":6},"",null,"N",0,0,0,"0",{"$f":"IF(AA70=\"N\",0,IF('Section 1'!$D$9=\"\",1,IF(OR(S70='Section 1'!$D$9,T70='Section 1'!$D$9),0,1)))","v":0},0,0,{"$f":"IF(F70=0,0,IF(AND(F70>=Lists!$F$3,F70<=Lists!$F$4),0,1))","v":0}]
[null,{"$f":"IF(N71=0, \"\", IF(COUNTIF($N$17:N70, N71)>0, \"\", MAX($B$17:B70)+1))","v":""},null,null,{"$f":"IF(N71=\"\",\"\",MAX($E$17:E70)+1)","v":""},{"$nulls":12},"",{"$nulls":6},"",null,"N",0,0,0,"0",{"$f":"IF(AA71=\"N\",0,IF('Section 1'!$D$9=\"\",1,IF(OR(S71='Section 1'!$D$9,T71='Section 1'!$D$9),0,1)))","v":0},0,0,{"$f":"IF(F71=0,0,IF(AND(F71>=Lists!$F$3,F71<=Lists!$F$4),0,1))","v":0}]
[null,{"$f":"IF(N72=0, \"\", IF(COUNTIF($N$17:N71, N72)>0, \"\", MAX($B$17:B71)+1))","v":""},null,null,{"$f":"IF(N72=\"\",\"\",MAX($E$17:E71)+1)","v":""},{"$nulls":12},"",{"$nulls":6},"",null,"N",0,0,0,"0",{"$f":"IF(AA72=\"N\",0,IF('Section 1'!$D$9=\"\",1,IF(OR(S72='Section 1'!$D$9,T72='Section 1'!$D$9),0,1)))","v":0},0,0,{"$f":"IF(F72=0,0,IF(AND(F72>=Lists!$F$3,F72<=Lists!$F$4),0,1))","v":0}]
[null,{"$f":"IF(N73=0, \"\", IF(COUNTIF($N$17:N72, N73)>0, \"\", MAX($B$17:B72)+1))","v":""},null,null,{"$f":"IF(N73=\"\",\"\",MAX($E$17:E72)+1)","v":""},{"$nulls":12},"",{"$nulls":6},"",null,"N",0,0,0,"0",{"$f":"IF(AA73=\"N\",0,IF('Section 1'!$D$9=\"\",1,IF(OR(S73='Section 1'!$D$9,T73='Section 1'!$D$9),0,1)))","v":0},0,0,{"$f":"IF(F73=0,0,IF(AND(F73>=Lists!$F$3,F73<=Lists!$F$4),0,1))","v":0}]
[null,{"$f":"IF(N74=0, \"\", IF(COUNTIF($N$17:N73, N74)>0, \"\", MAX($B$17:B73)+1))","v":""},null,null,{"$f":"IF(N74=\"\",\"\",MAX($E$17:E73)+1)","v":""},{"$nulls":12},"",{"$nulls":6},"",null,"N",0,0,0,"0",{"$f":"IF(AA74=\"N\",0,IF('Section 1'!$D$9=\"\",1,IF(OR(S74='Section 1'!$D$9,T74='Section 1'!$D$9),0,1)))","v":0},0,0,{"$f":"IF(F74=0,0,IF(AND(F74>=Lists!$F$3,F74<=Lists!$F$4),0,1))","v":0}]
[null,{"$f":"IF(N75=0, \"\", IF(COUNTIF($N$17:N74, N75)>0, \"\", MAX($B$17:B74)+1))","v":""},null,null,{"$f":"IF(N75=\"\",\"\",MAX($E$17:E74)+1)","v":""},{"$nulls":12},"",{"$nulls":6},"",null,"N",0,0,0,"0",{"$f":"IF(AA75=\"N\",0,IF('Section 1'!$D$9=\"\",1,IF(OR(S75='Section 1'!$D$9,T75='Section 1'!$D$9),0,1)))","v":0},0,0,{"$f":"IF(F75=0,0,IF(AND(F75>=Lists!$F$3,F75<=Lists!$F$4),0,1))","v":0}]
[null,{"$f":"IF(N76=0, \"\", IF(COUNTIF($N$17:N75, N76)>0, \"\", MAX($B$17:B75)+1))","v":""},null,null,{"$f":"IF(N76=\"\",\"\",MAX($E$17:E75)+1)","v":""},{"$nulls":12},"",{"$nulls":6},"",null,"N",0,0,0,"0",{"$f":"IF(AA76=\"N\",0,IF('Section 1'!$D$9=\"\",1,IF(OR(S76='Section 1'!$D$9,T76='Section 1'!$D$9),0,1)))","v":0},0,0,{"$f":"IF(F76=0,0,IF(AND(F76>=Lists!$F$3,F76<=Lists!$F$4),0,1))","v":0}]
[null,{"$f":"IF(N77=0, \"\", IF(COUNTIF($N$17:N76, N77)>0, \"\", MAX($B$17:B76)+1))","v":""},null,null,{"$f":"IF(N77=\"\",\"\",MAX($E$17:E76)+1)","v":""},{"$nulls":12},"",{"$nulls":6},"",null,"N",0,0,0,"0",{"$f":"IF(AA77=\"N\",0,IF('Section 1'!$D$9=\"\",1,IF(OR(S77='Section 1'!$D$9,T77='Section 1'!$D$9),0,1)))","v":0},0,0,{"$f":"IF(F77=0,0,IF(AND(F77>=Lists!$F$3,F77<=Lists!$F$4),0,1))","v":0}]
[null,{"$f":"IF(N78=0, \"\", IF(COUNTIF($N$17:N77, N78)>0, \"\", MAX($B$17:B77)+1))","v":""},null,null,{"$f":"IF(N78=\"\",\"\",MAX($E$17:E77)+1)","v":""},{"$nulls":12},"",{"$nulls":6},"",null,"N",0,0,0,"0",{"$f":"IF(AA78=\"N\",0,IF('Section 1'!$D$9=\"\",1,IF(OR(S78='Section 1'!$D$9,T78='Section 1'!$D$9),0,1)))","v":0},0,0,{"$f":"IF(F78=0,0,IF(AND(F78>=Lists!$F$3,F78<=Lists!$F$4),0,1))","v":0}]
[null,{"$f":"IF(N79=0, \"\", IF(COUNTIF($N$17:N78, N79)>0, \"\", MAX($B$17:B78)+1))","v":""},null,null,{"$f":"IF(N79=\"\",\"\",MAX($E$17:E78)+1)","v":""},{"$nulls":12},"",{"$nulls":6},"",null,"N",0,0,0,"0",{"$f":"IF(AA79=\"N\",0,IF('Section 1'!$D$9=\"\",1,IF(OR(S79='Section 1'!$D$9,T79='Section 1'!$D$9),0,1)))","v":0},0,0,{"$f":"IF(F79=0,0,IF(AND(F79>=Lists!$F$3,F79<=Lists!$F$4),0,1))","v":0}]
[null,{"$f":"IF(N80=0, \"\", IF(COUNTIF($N$17:N79, N80)>0, \"\", MAX($B$17:B79)+1))","v":""},null,null,{"$f":"IF(N80=\"\",\"\",MAX($E$17:E79)+1)","v":""},{"$nulls":12},"",{"$nulls":6},"",null,"N",0,0,0,"0",{"$f":"IF(AA80=\"N\",0,IF('Section 1'!$D$9=\"\",1,IF(OR(S80='Section 1'!$D$9,T80='Section 1'!$D$9),0,1)))","v":0},0,0,{"$f":"IF(F80=0,0,IF(AND(F80>=Lists!$F$3,F80<=Lists!$F$4),0,1))","v":0}]
[null,{"$f":"IF(N81=0, \"\", IF(COUNTIF($N$17:N80, N81)>0, \"\", MAX($B$17:B80)+1))","v":""},null,null,{"$f":"IF(N81=\"\",\"\",MAX($E$17:E80)+1)","v":""},{"$nulls":12},"",{"$nulls":6},"",null,{"$f":"IF(E81=\"\",\"N\",\"Y\")","v":"N"},{"$f":"IF(E81=\"\",0,IF(OR(F81=0,G81=0,L81=0,M81=0,H81=0,I81=0,J81=0,K81=0,N81=0,O81=0,P81=0,Q81=0, R81=0,AND(S81=0,T81=0)),1,0))","v":0},{"$f":"IF(J81=0,0,IF(COUNTIF(Countries,J81)>0,0,1))","v":0},{"$f":"IF(N81=0,0,IF(COUNTIF(ClassIIChemAllowance,N81)>0,0,1))","v":0},"0",{"$f":"IF(AA81=\"N\",0,IF('Section 1'!$D$9=\"\",1,IF(OR(S81='Section 1'!$D$9,T81='Section 1'!$D$9),0,1)))","v":0},0,0,{"$f":"IF(F81=0,0,IF(AND(F81>=Lists!$F$3,F81<=Lists!$F$4),0,1))","v":0}]
[null,{"$f":"IF(N82=0, \"\", IF(COUNTIF($N$17:N81, N82)>0, \"\", MAX($B$17:B81)+1))","v":""},null,null,{"$f":"IF(N82=\"\",\"\",MAX($E$17:E81)+1)","v":""},{"$nulls":12},"",{"$nulls":6},{"$f":"IF(SUM(AB82:AE82,AG82:AI82)>0,\"ROW INCOMPLETE OR INVALID DATA ENTERED; ENTER/EDIT DATA IN REQUIRED FIELDS\",\"\")","v":""},null,"N",0,0,0,{"$f":"IF(AND(S82<>\"\",T82<>\"\"),1,\"0\")","v":"0"},{"$f":"IF(AA82=\"N\",0,IF('Section 1'!$D$9=\"\",1,IF(OR(S82='Section 1'!$D$9,T82='Section 1'!$D$9),0,1)))","v":0},{"$f":"IF(AND(AF82=1,V82=\"\"),1,0)","v":0},{"$f":"IF(T82=\"\", 0, IF(U82=\"\", 1, 0))","v":0},{"$f":"IF(F82=0,0,IF(AND(F82>=Lists!$F$3,F82<=Lists!$F$4),0,1))","v":0}]
[null,{"$f":"IF(N83=0, \"\", IF(COUNTIF($N$17:N82, N83)>0, \"\", MAX($B$17:B82)+1))","v":""},null,null,{"$f":"IF(N83=\"\",\"\",MAX($E$17:E82)+1)","v":""},{"$nulls":12},"",{"$nulls":6},"",null,"N",0,0,0,"0",{"$f":"IF(AA83=\"N\",0,IF('Section 1'!$D$9=\"\",1,IF(OR(S83='Section 1'!$D$9,T83='Section 1'!$D$9),0,1)))","v":0},0,0,{"$f":"IF(F83=0,0,IF(AND(F83>=Lists!$F$3,F83<=Lists!$F$4),0,1))","v":0}]
[null,{"$f":"IF(N84=0, \"\", IF(COUNTIF($N$17:N83, N84)>0, \"\", MAX($B$17:B83)+1))","v":""},null,null,{"$f":"IF(N84=\"\",\"\",MAX($E$17:E83)+1)","v":""},{"$nulls":12},"",{"$nulls":6},"",null,"N",0,0,0,"0",{"$f":"IF(AA84=\"N\",0,IF('Section 1'!$D$9=\"\",1,IF(OR(S84='Section 1'!$D$9,T84='Section 1'!$D$9),0,1)))","v":0},0,0,{"$f":"IF(F84=0,0,IF(AND(F84>=Lists!$F$3,F84<=Lists!$F$4),0,1))","v":0}]
[null,{"$f":"IF(N85=0, \"\", IF(COUNTIF($N$17:N84, N85)>0, \"\", MAX($B$17:B84)+1))","v":""},null,null,{"$f":"IF(N85=\"\",\"\",MAX($E$17:E84)+1)","v":""},{"$nulls":12},"",{"$nulls":6},"",null,"N",0,0,0,"0",{"$f":"IF(AA85=\"N\",0,IF('Section 1'!$D$9=\"\",1,IF(OR(S85='Section 1'!$D$9,T85='Section 1'!$D$9),0,1)))","v":0},0,0,{"$f":"IF(F85=0,0,IF(AND(F85>=Lists!$F$3,F85<=Lists!$F$4),0,1))","v":0}]
[null,{"$f":"IF(N86=0, \"\", IF(COUNTIF($N$17:N85, N86)>0, \"\", MAX($B$17:B85)+1))","v":""},null,null,{"$f":"IF(N86=\"\",\"\",MAX($E$17:E85)+1)","v":""},{"$nulls":12},"",{"$nulls":6},"",null,"N",0,0,0,"0",{"$f":"IF(AA86=\"N\",0,IF('Section 1'!$D$9=\"\",1,IF(OR(S86='Section 1'!$D$9,T86='Section 1'!$D$9),0,1)))","v":0},0,0,{"$f":"IF(F86=0,0,IF(AND(F86>=Lists!$F$3,F86<=Lists!$F$4),0,1))","v":0}]
[null,{"$f":"IF(N87=0, \"\", IF(COUNTIF($N$17:N86, N87)>0, \"\", MAX($B$17:B86)+1))","v":""},null,null,{"$f":"IF(N87=\"\",\"\",MAX($E$17:E86)+1)","v":""},{"$nulls":12},"",{"$nulls":6},"",null,"N",0,0,0,"0",{"$f":"IF(AA87=\"N\",0,IF('Section 1'!$D$9=\"\",1,IF(OR(S87='Section 1'!$D$9,T87='Section 1'!$D$9),0,1)))","v":0},0,0,{"$f":"IF(F87=0,0,IF(AND(F87>=Lists!$F$3,F87<=Lists!$F$4),0,1))","v":0}]
[null,{"$f":"IF(N88=0, \"\", IF(COUNTIF($N$17:N87, N88)>0, \"\", MAX($B$17:B87)+1))","v":""},null,null,{"$f":"IF(N88=\"\",\"\",MAX($E$17:E87)+1)","v":""},{"$nulls":12},"",{"$nulls":6},"",null,"N",0,0,0,"0",{"$f":"IF(AA88=\"N\",0,IF('Section 1'!$D$9=\"\",1,IF(OR(S88='Section 1'!$D$9,T88='Section 1'!$D$9),0,1)))","v":0},0,0,{"$f":"IF(F88=0,0,IF(AND(F88>=Lists!$F$3,F88<=Lists!$F$4),0,1))","v":0}]
[null,{"$f":"IF(N89=0, \"\", IF(COUNTIF($N$17:N88, N89)>0, \"\", MAX($B$17:B88)+1))","v":""},null,null,{"$f":"IF(N89=\"\",\"\",MAX($E$17:E88)+1)","v":""},{"$nulls":12},"",{"$nulls":6},"",null,"N",0,0,0,"0",{"$f":"IF(AA89=\"N\",0,IF('Section 1'!$D$9=\"\",1,IF(OR(S89='Section 1'!$D$9,T89='Section 1'!$D$9),0,1)))","v":0},0,0,{"$f":"IF(F89=0,0,IF(AND(F89>=Lists!$F$3,F89<=Lists!$F$4),0,1))","v":0}]
[null,{"$f":"IF(N90=0, \"\", IF(COUNTIF($N$17:N89, N90)>0, \"\", MAX($B$17:B89)+1))","v":""},null,null,{"$f":"IF(N90=\"\",\"\",MAX($E$17:E89)+1)","v":""},{"$nulls":12},"",{"$nulls":6},"",null,"N",0,0,0,"0",{"$f":"IF(AA90=\"N\",0,IF('Section 1'!$D$9=\"\",1,IF(OR(S90='Section 1'!$D$9,T90='Section 1'!$D$9),0,1)))","v":0},0,0,{"$f":"IF(F90=0,0,IF(AND(F90>=Lists!$F$3,F90<=Lists!$F$4),0,1))","v":0}]
[null,{"$f":"IF(N91=0, \"\", IF(COUNTIF($N$17:N90, N91)>0, \"\", MAX($B$17:B90)+1))","v":""},null,null,{"$f":"IF(N91=\"\",\"\",MAX($E$17:E90)+1)","v":""},{"$nulls":12},"",{"$nulls":6},"",null,"N",0,0,0,"0",{"$f":"IF(AA91=\"N\",0,IF('Section 1'!$D$9=\"\",1,IF(OR(S91='Section 1'!$D$9,T91='Section 1'!$D$9),0,1)))","v":0},0,0,{"$f":"IF(F91=0,0,IF(AND(F91>=Lists!$F$3,F91<=Lists!$F$4),0,1))","v":0}]
[null,{"$f":"IF(N92=0, \"\", IF(COUNTIF($N$17:N91, N92)>0, \"\", MAX($B$17:B91)+1))","v":""},null,null,{"$f":"IF(N92=\"\",\"\",MAX($E$17:E91)+1)","v":""},{"$nulls":12},"",{"$nulls":6},"",null,"N",0,0,0,"0",{"$f":"IF(AA92=\"N\",0,IF('Section 1'!$D$9=\"\",1,IF(OR(S92='Section 1'!$D$9,T92='Section 1'!$D$9),0,1)))","v":0},0,0,{"$f":"IF(F92=0,0,IF(AND(F92>=Lists!$F$3,F92<=Lists!$F$4),0,1))","v":0}]
[null,{"$f":"IF(N93=0, \"\", IF(COUNTIF($N$17:N92, N93)>0, \"\", MAX($B$17:B92)+1))","v":""},null,null,{"$f":"IF(N93=\"\",\"\",MAX($E$17:E92)+1)","v":""},{"$nulls":12},"",{"$nulls":6},"",null,"N",0,0,0,"0",{"$f":"IF(AA93=\"N\",0,IF('Section 1'!$D$9=\"\",1,IF(OR(S93='Section 1'!$D$9,T93='Section 1'!$D$9),0,1)))","v":0},0,0,{"$f":"IF(F93=0,0,IF(AND(F93>=Lists!$F$3,F93<=Lists!$F$4),0,1))","v":0}]
[null,{"$f":"IF(N94=0, \"\", IF(COUNTIF($N$17:N93, N94)>0, \"\", MAX($B$17:B93)+1))","v":""},null,null,{"$f":"IF(N94=\"\",\"\",MAX($E$17:E93)+1)","v":""},{"$nulls":12},"",{"$nulls":6},"",null,"N",0,0,0,"0",{"$f":"IF(AA94=\"N\",0,IF('Section 1'!$D$9=\"\",1,IF(OR(S94='Section 1'!$D$9,T94='Section 1'!$D$9),0,1)))","v":0},0,0,{"$f":"IF(F94=0,0,IF(AND(F94>=Lists!$F$3,F94<=Lists!$F$4),0,1))","v":0}]
[null,{"$f":"IF(N95=0, \"\", IF(COUNTIF($N$17:N94, N95)>0, \"\", MAX($B$17:B94)+1))","v":""},null,null,{"$f":"IF(N95=\"\",\"\",MAX($E$17:E94)+1)","v":""},{"$nulls":12},"",{"$nulls":6},"",null,"N",0,0,0,"0",{"$f":"IF(AA95=\"N\",0,IF('Section 1'!$D$9=\"\",1,IF(OR(S95='Section 1'!$D$9,T95='Section 1'!$D$9),0,1)))","v":0},0,0,{"$f":"IF(F95=0,0,IF(AND(F95>=Lists!$F$3,F95<=Lists!$F$4),0,1))","v":0}]
[null,{"$f":"IF(N96=0, \"\", IF(COUNTIF($N$17:N95, N96)>0, \"\", MAX($B$17:B95)+1))","v":""},null,null,{"$f":"IF(N96=\"\",\"\",MAX($E$17:E95)+1)","v":""},{"$nulls":12},"",{"$nulls":6},"",null,"N",0,0,0,"0",{"$f":"IF(AA96=\"N\",0,IF('Section 1'!$D$9=\"\",1,IF(OR(S96='Section 1'!$D$9,T96='Section 1'!$D$9),0,1)))","v":0},0,0,{"$f":"IF(F96=0,0,IF(AND(F96>=Lists!$F$3,F96<=Lists!$F$4),0,1))","v":0}]
[null,{"$f":"IF(N97=0, \"\", IF(COUNTIF($N$17:N96, N97)>0, \"\", MAX($B$17:B96)+1))","v":""},null,null,{"$f":"IF(N97=\"\",\"\",MAX($E$17:E96)+1)","v":""},{"$nulls":12},"",{"$nulls":6},"",null,"N",0,0,0,"0",{"$f":"IF(AA97=\"N\",0,IF('Section 1'!$D$9=\"\",1,IF(OR(S97='Section 1'!$D$9,T97='Section 1'!$D$9),0,1)))","v":0},0,0,{"$f":"IF(F97=0,0,IF(AND(F97>=Lists!$F$3,F97<=Lists!$F$4),0,1))","v":0}]
[null,{"$f":"IF(N98=0, \"\", IF(COUNTIF($N$17:N97, N98)>0, \"\", MAX($B$17:B97)+1))","v":""},null,null,{"$f":"IF(N98=\"\",\"\",MAX($E$17:E97)+1)","v":""},{"$nulls":12},"",{"$nulls":6},"",null,"N",0,0,0,"0",{"$f":"IF(AA98=\"N\",0,IF('Section 1'!$D$9=\"\",1,IF(OR(S98='Section 1'!$D$9,T98='Section 1'!$D$9),0,1)))","v":0},0,0,{"$f":"IF(F98=0,0,IF(AND(F98>=Lists!$F$3,F98<=Lists!$F$4),0,1))","v":0}]
[null,{"$f":"IF(N99=0, \"\", IF(COUNTIF($N$17:N98, N99)>0, \"\", MAX($B$17:B98)+1))","v":""},null,null,{"$f":"IF(N99=\"\",\"\",MAX($E$17:E98)+1)","v":""},{"$nulls":12},"",{"$nulls":6},"",null,"N",0,0,0,"0",{"$f":"IF(AA99=\"N\",0,IF('Section 1'!$D$9=\"\",1,IF(OR(S99='Section 1'!$D$9,T99='Section 1'!$D$9),0,1)))","v":0},0,0,{"$f":"IF(F99=0,0,IF(AND(F99>=Lists!$F$3,F99<=Lists!$F$4),0,1))","v":0}]
[null,{"$f":"IF(N100=0, \"\", IF(COUNTIF($N$17:N99, N100)>0, \"\", MAX($B$17:B99)+1))","v":""},null,null,{"$f":"IF(N100=\"\",\"\",MAX($E$17:E99)+1)","v":""},{"$nulls":12},"",{"$nulls":6},"",null,"N",0,0,0,"0",{"$f":"IF(AA100=\"N\",0,IF('Section 1'!$D$9=\"\",1,IF(OR(S100='Section 1'!$D$9,T100='Section 1'!$D$9),0,1)))","v":0},0,0,{"$f":"IF(F100=0,0,IF(AND(F100>=Lists!$F$3,F100<=Lists!$F$4),0,1))","v":0}]
[null,{"$f":"IF(N101=0, \"\", IF(COUNTIF($N$17:N100, N101)>0, \"\", MAX($B$17:B100)+1))","v":""},null,null,{"$f":"IF(N101=\"\",\"\",MAX($E$17:E100)+1)","v":""},{"$nulls":12},"",{"$nulls":6},"",null,"N",0,0,0,"0",{"$f":"IF(AA101=\"N\",0,IF('Section 1'!$D$9=\"\",1,IF(OR(S101='Section 1'!$D$9,T101='Section 1'!$D$9),0,1)))","v":0},0,0,{"$f":"IF(F101=0,0,IF(AND(F101>=Lists!$F$3,F101<=Lists!$F$4),0,1))","v":0}]
[null,{"$f":"IF(N102=0, \"\", IF(COUNTIF($N$17:N101, N102)>0, \"\", MAX($B$17:B101)+1))","v":""},null,null,{"$f":"IF(N102=\"\",\"\",MAX($E$17:E101)+1)","v":""},{"$nulls":12},"",{"$nulls":6},"",null,"N",0,0,0,"0",{"$f":"IF(AA102=\"N\",0,IF('Section 1'!$D$9=\"\",1,IF(OR(S102='Section 1'!$D$9,T102='Section 1'!$D$9),0,1)))","v":0},0,0,{"$f":"IF(F102=0,0,IF(AND(F102>=Lists!$F$3,F102<=Lists!$F$4),0,1))","v":0}]
[null,{"$f":"IF(N103=0, \"\", IF(COUNTIF($N$17:N102, N103)>0, \"\", MAX($B$17:B102)+1))","v":""},null,null,{"$f":"IF(N103=\"\",\"\",MAX($E$17:E102)+1)","v":""},{"$nulls":12},"",{"$nulls":6},"",null,"N",0,0,0,"0",{"$f":"IF(AA103=\"N\",0,IF('Section 1'!$D$9=\"\",1,IF(OR(S103='Section 1'!$D$9,T103='Section 1'!$D$9),0,1)))","v":0},0,0,{"$f":"IF(F103=0,0,IF(AND(F103>=Lists!$F$3,F103<=Lists!$F$4),0,1))","v":0}]
[null,{"$f":"IF(N104=0, \"\", IF(COUNTIF($N$17:N103, N104)>0, \"\", MAX($B$17:B103)+1))","v":""},null,null,{"$f":"IF(N104=\"\",\"\",MAX($E$17:E103)+1)","v":""},{"$nulls":12},"",{"$nulls":6},"",null,"N",0,0,0,"0",{"$f":"IF(AA104=\"N\",0,IF('Section 1'!$D$9=\"\",1,IF(OR(S104='Section 1'!$D$9,T104='Section 1'!$D$9),0,1)))","v":0},0,0,{"$f":"IF(F104=0,0,IF(AND(F104>=Lists!$F$3,F104<=Lists!$F$4),0,1))","v":0}]
[null,{"$f":"IF(N105=0, \"\", IF(COUNTIF($N$17:N104, N105)>0, \"\", MAX($B$17:B104)+1))","v":""},null,null,{"$f":"IF(N105=\"\",\"\",MAX($E$17:E104)+1)","v":""},{"$nulls":12},"",{"$nulls":6},"",null,"N",0,0,0,"0",{"$f":"IF(AA105=\"N\",0,IF('Section 1'!$D$9=\"\",1,IF(OR(S105='Section 1'!$D$9,T105='Section 1'!$D$9),0,1)))","v":0},0,0,{"$f":"IF(F105=0,0,IF(AND(F105>=Lists!$F$3,F105<=Lists!$F$4),0,1))","v":0}]
[null,{"$f":"IF(N106=0, \"\", IF(COUNTIF($N$17:N105, N106)>0, \"\", MAX($B$17:B105)+1))","v":""},null,null,{"$f":"IF(N106=\"\",\"\",MAX($E$17:E105)+1)","v":""},{"$nulls":12},"",{"$nulls":6},"",null,"N",0,0,0,"0",{"$f":"IF(AA106=\"N\",0,IF('Section 1'!$D$9=\"\",1,IF(OR(S106='Section 1'!$D$9,T106='Section 1'!$D$9),0,1)))","v":0},0,0,{"$f":"IF(F106=0,0,IF(AND(F106>=Lists!$F$3,F106<=Lists!$F$4),0,1))","v":0}]
[null,{"$f":"IF(N107=0, \"\", IF(COUNTIF($N$17:N106, N107)>0, \"\", MAX($B$17:B106)+1))","v":""},null,null,{"$f":"IF(N107=\"\",\"\",MAX($E$17:E106)+1)","v":""},{"$nulls":12},"",{"$nulls":6},"",null,"N",0,0,0,"0",{"$f":"IF(AA107=\"N\",0,IF('Section 1'!$D$9=\"\",1,IF(OR(S107='Section 1'!$D$9,T107='Section 1'!$D$9),0,1)))","v":0},0,0,{"$f":"IF(F107=0,0,IF(AND(F107>=Lists!$F$3,F107<=Lists!$F$4),0,1))","v":0}]
[null,{"$f":"IF(N108=0, \"\", IF(COUNTIF($N$17:N107, N108)>0, \"\", MAX($B$17:B107)+1))","v":""},null,null,{"$f":"IF(N108=\"\",\"\",MAX($E$17:E107)+1)","v":""},{"$nulls":12},"",{"$nulls":6},"",null,"N",0,0,0,"0",{"$f":"IF(AA108=\"N\",0,IF('Section 1'!$D$9=\"\",1,IF(OR(S108='Section 1'!$D$9,T108='Section 1'!$D$9),0,1)))","v":0},0,0,{"$f":"IF(F108=0,0,IF(AND(F108>=Lists!$F$3,F108<=Lists!$F$4),0,1))","v":0}]
[null,{"$f":"IF(N109=0, \"\", IF(COUNTIF($N$17:N108, N109)>0, \"\", MAX($B$17:B108)+1))","v":""},null,null,{"$f":"IF(N109=\"\",\"\",MAX($E$17:E108)+1)","v":""},{"$nulls":12},"",{"$nulls":6},"",null,"N",0,0,0,"0",{"$f":"IF(AA109=\"N\",0,IF('Section 1'!$D$9=\"\",1,IF(OR(S109='Section 1'!$D$9,T109='Section 1'!$D$9),0,1)))","v":0},0,0,{"$f":"IF(F109=0,0,IF(AND(F109>=Lists!$F$3,F109<=Lists!$F$4),0,1))","v":0}]
[null,{"$f":"IF(N110=0, \"\", IF(COUNTIF($N$17:N109, N110)>0, \"\", MAX($B$17:B109)+1))","v":""},null,null,{"$f":"IF(N110=\"\",\"\",MAX($E$17:E109)+1)","v":""},{"$nulls":12},"",{"$nulls":6},"",null,"N",0,0,0,"0",{"$f":"IF(AA110=\"N\",0,IF('Section 1'!$D$9=\"\",1,IF(OR(S110='Section 1'!$D$9,T110='Section 1'!$D$9),0,1)))","v":0},0,0,{"$f":"IF(F110=0,0,IF(AND(F110>=Lists!$F$3,F110<=Lists!$F$4),0,1))","v":0}]
[null,{"$f":"IF(N111=0, \"\", IF(COUNTIF($N$17:N110, N111)>0, \"\", MAX($B$17:B110)+1))","v":""},null,null,{"$f":"IF(N111=\"\",\"\",MAX($E$17:E110)+1)","v":""},{"$nulls":12},"",{"$nulls":6},"",null,"N",0,0,0,"0",{"$f":"IF(AA111=\"N\",0,IF('Section 1'!$D$9=\"\",1,IF(OR(S111='Section 1'!$D$9,T111='Section 1'!$D$9),0,1)))","v":0},0,0,{"$f":"IF(F111=0,0,IF(AND(F111>=Lists!$F$3,F111<=Lists!$F$4),0,1))","v":0}]
[null,{"$f":"IF(N112=0, \"\", IF(COUNTIF($N$17:N111, N112)>0, \"\", MAX($B$17:B111)+1))","v":""},null,null,{"$f":"IF(N112=\"\",\"\",MAX($E$17:E111)+1)","v":""},{"$nulls":12},"",{"$nulls":6},"",null,"N",0,0,0,"0",{"$f":"IF(AA112=\"N\",0,IF('Section 1'!$D$9=\"\",1,IF(OR(S112='Section 1'!$D$9,T112='Section 1'!$D$9),0,1)))","v":0},0,0,{"$f":"IF(F112=0,0,IF(AND(F112>=Lists!$F$3,F112<=Lists!$F$4),0,1))","v":0}]
[null,{"$f":"IF(N113=0, \"\", IF(COUNTIF($N$17:N112, N113)>0, \"\", MAX($B$17:B112)+1))","v":""},null,null,{"$f":"IF(N113=\"\",\"\",MAX($E$17:E112)+1)","v":""},{"$nulls":12},"",{"$nulls":6},"",null,{"$f":"IF(E113=\"\",\"N\",\"Y\")","v":"N"},{"$f":"IF(E113=\"\",0,IF(OR(F113=0,G113=0,L113=0,M113=0,H113=0,I113=0,J113=0,K113=0,N113=0,O113=0,P113=0,Q113=0, R113=0,AND(S113=0,T113=0)),1,0))","v":0},{"$f":"IF(J113=0,0,IF(COUNTIF(Countries,J113)>0,0,1))","v":0},{"$f":"IF(N113=0,0,IF(COUNTIF(ClassIIChemAllowance,N113)>0,0,1))","v":0},"0",{"$f":"IF(AA113=\"N\",0,IF('Section 1'!$D$9=\"\",1,IF(OR(S113='Section 1'!$D$9,T113='Section 1'!$D$9),0,1)))","v":0},0,0,{"$f":"IF(F113=0,0,IF(AND(F113>=Lists!$F$3,F113<=Lists!$F$4),0,1))","v":0}]
[null,{"$f":"IF(N114=0, \"\", IF(COUNTIF($N$17:N113, N114)>0, \"\", MAX($B$17:B113)+1))","v":""},null,null,{"$f":"IF(N114=\"\",\"\",MAX($E$17:E113)+1)","v":""},{"$nulls":12},"",{"$nulls":6},"",null,"N",0,0,0,"0",{"$f":"IF(AA114=\"N\",0,IF('Section 1'!$D$9=\"\",1,IF(OR(S114='Section 1'!$D$9,T114='Section 1'!$D$9),0,1)))","v":0},0,0,{"$f":"IF(F114=0,0,IF(AND(F114>=Lists!$F$3,F114<=Lists!$F$4),0,1))","v":0}]
[null,{"$f":"IF(N115=0, \"\", IF(COUNTIF($N$17:N114, N115)>0, \"\", MAX($B$17:B114)+1))","v":""},null,null,{"$f":"IF(N115=\"\",\"\",MAX($E$17:E114)+1)","v":""},{"$nulls":12},"",{"$nulls":6},"",null,"N",0,0,0,"0",{"$f":"IF(AA115=\"N\",0,IF('Section 1'!$D$9=\"\",1,IF(OR(S115='Section 1'!$D$9,T115='Section 1'!$D$9),0,1)))","v":0},0,0,{"$f":"IF(F115=0,0,IF(AND(F115>=Lists!$F$3,F115<=Lists!$F$4),0,1))","v":0}]
[null,{"$f":"IF(N116=0, \"\", IF(COUNTIF($N$17:N115, N116)>0, \"\", MAX($B$17:B115)+1))","v":""},null,null,{"$f":"IF(N116=\"\",\"\",MAX($E$17:E115)+1)","v":""},{"$nulls":12},"",{"$nulls":6},"",null,"N",0,0,0,"0",{"$f":"IF(AA116=\"N\",0,IF('Section 1'!$D$9=\"\",1,IF(OR(S116='Section 1'!$D$9,T116='Section 1'!$D$9),0,1)))","v":0},0,0,{"$f":"IF(F116=0,0,IF(AND(F116>=Lists!$F$3,F116<=Lists!$F$4),0,1))","v":0}]
[null,{"$f":"IF(N117=0, \"\", IF(COUNTIF($N$17:N116, N117)>0, \"\", MAX($B$17:B116)+1))","v":""},null,null,{"$f":"IF(N117=\"\",\"\",MAX($E$17:E116)+1)","v":""},{"$nulls":12},"",{"$nulls":6},"",null,"N",0,0,0,"0",{"$f":"IF(AA117=\"N\",0,IF('Section 1'!$D$9=\"\",1,IF(OR(S117='Section 1'!$D$9,T117='Section 1'!$D$9),0,1)))","v":0},0,0,{"$f":"IF(F117=0,0,IF(AND(F117>=Lists!$F$3,F117<=Lists!$F$4),0,1))","v":0}]
[null,{"$f":"IF(N118=0, \"\", IF(COUNTIF($N$17:N117, N118)>0, \"\", MAX($B$17:B117)+1))","v":""},null,null,{"$f":"IF(N118=\"\",\"\",MAX($E$17:E117)+1)","v":""},{"$nulls":12},"",{"$nulls":6},"",null,"N",0,0,0,"0",{"$f":"IF(AA118=\"N\",0,IF('Section 1'!$D$9=\"\",1,IF(OR(S118='Section 1'!$D$9,T118='Section 1'!$D$9),0,1)))","v":0},0,0,{"$f":"IF(F118=0,0,IF(AND(F118>=Lists!$F$3,F118<=Lists!$F$4),0,1))","v":0}]
[null,{"$f":"IF(N119=0, \"\", IF(COUNTIF($N$17:N118, N119)>0, \"\", MAX($B$17:B118)+1))","v":""},null,null,{"$f":"IF(N119=\"\",\"\",MAX($E$17:E118)+1)","v":""},{"$nulls":12},"",{"$nulls":6},"",null,"N",0,0,0,"0",{"$f":"IF(AA119=\"N\",0,IF('Section 1'!$D$9=\"\",1,IF(OR(S119='Section 1'!$D$9,T119='Section 1'!$D$9),0,1)))","v":0},0,0,{"$f":"IF(F119=0,0,IF(AND(F119>=Lists!$F$3,F119<=Lists!$F$4),0,1))","v":0}]
[null,{"$f":"IF(N120=0, \"\", IF(COUNTIF($N$17:N119, N120)>0, \"\", MAX($B$17:B119)+1))","v":""},null,null,{"$f":"IF(N120=\"\",\"\",MAX($E$17:E119)+1)","v":""},{"$nulls":12},"",{"$nulls":6},"",null,"N",0,0,0,"0",{"$f":"IF(AA120=\"N\",0,IF('Section 1'!$D$9=\"\",1,IF(OR(S120='Section 1'!$D$9,T120='Section 1'!$D$9),0,1)))","v":0},0,0,{"$f":"IF(F120=0,0,IF(AND(F120>=Lists!$F$3,F120<=Lists!$F$4),0,1))","v":0}]
[null,{"$f":"IF(N121=0, \"\", IF(COUNTIF($N$17:N120, N121)>0, \"\", MAX($B$17:B120)+1))","v":""},null,null,{"$f":"IF(N121=\"\",\"\",MAX($E$17:E120)+1)","v":""},{"$nulls":12},"",{"$nulls":6},"",null,"N",0,0,0,"0",{"$f":"IF(AA121=\"N\",0,IF('Section 1'!$D$9=\"\",1,IF(OR(S121='Section 1'!$D$9,T121='Section 1'!$D$9),0,1)))","v":0},0,0,{"$f":"IF(F121=0,0,IF(AND(F121>=Lists!$F$3,F121<=Lists!$F$4),0,1))","v":0}]
[null,{"$f":"IF(N122=0, \"\", IF(COUNTIF($N$17:N121, N122)>0, \"\", MAX($B$17:B121)+1))","v":""},null,null,{"$f":"IF(N122=\"\",\"\",MAX($E$17:E121)+1)","v":""},{"$nulls":12},"",{"$nulls":6},"",null,"N",0,0,0,"0",{"$f":"IF(AA122=\"N\",0,IF('Section 1'!$D$9=\"\",1,IF(OR(S122='Section 1'!$D$9,T122='Section 1'!$D$9),0,1)))","v":0},0,0,{"$f":"IF(F122=0,0,IF(AND(F122>=Lists!$F$3,F122<=Lists!$F$4),0,1))","v":0}]
[null,{"$f":"IF(N123=0, \"\", IF(COUNTIF($N$17:N122, N123)>0, \"\", MAX($B$17:B122)+1))","v":""},null,null,{"$f":"IF(N123=\"\",\"\",MAX($E$17:E122)+1)","v":""},{"$nulls":12},"",{"$nulls":6},"",null,"N",0,0,0,"0",{"$f":"IF(AA123=\"N\",0,IF('Section 1'!$D$9=\"\",1,IF(OR(S123='Section 1'!$D$9,T123='Section 1'!$D$9),0,1)))","v":0},0,0,{"$f":"IF(F123=0,0,IF(AND(F123>=Lists!$F$3,F123<=Lists!$F$4),0,1))","v":0}]
[null,{"$f":"IF(N124=0, \"\", IF(COUNTIF($N$17:N123, N124)>0, \"\", MAX($B$17:B123)+1))","v":""},null,null,{"$f":"IF(N124=\"\",\"\",MAX($E$17:E123)+1)","v":""},{"$nulls":12},"",{"$nulls":6},"",null,"N",0,0,0,"0",{"$f":"IF(AA124=\"N\",0,IF('Section 1'!$D$9=\"\",1,IF(OR(S124='Section 1'!$D$9,T124='Section 1'!$D$9),0,1)))","v":0},0,0,{"$f":"IF(F124=0,0,IF(AND(F124>=Lists!$F$3,F124<=Lists!$F$4),0,1))","v":0}]
[null,{"$f":"IF(N125=0, \"\", IF(COUNTIF($N$17:N124, N125)>0, \"\", MAX($B$17:B124)+1))","v":""},null,null,{"$f":"IF(N125=\"\",\"\",MAX($E$17:E124)+1)","v":""},{"$nulls":12},"",{"$nulls":6},"",null,"N",0,0,0,"0",{"$f":"IF(AA125=\"N\",0,IF('Section 1'!$D$9=\"\",1,IF(OR(S125='Section 1'!$D$9,T125='Section 1'!$D$9),0,1)))","v":0},0,0,{"$f":"IF(F125=0,0,IF(AND(F125>=Lists!$F$3,F125<=Lists!$F$4),0,1))","v":0}]
[null,{"$f":"IF(N126=0, \"\", IF(COUNTIF($N$17:N125, N126)>0, \"\", MAX($B$17:B125)+1))","v":""},null,null,{"$f":"IF(N126=\"\",\"\",MAX($E$17:E125)+1)","v":""},{"$nulls":12},"",{"$nulls":6},"",null,"N",0,0,0,"0",{"$f":"IF(AA126=\"N\",0,IF('Section 1'!$D$9=\"\",1,IF(OR(S126='Section 1'!$D$9,T126='Section 1'!$D$9),0,1)))","v":0},0,0,{"$f":"IF(F126=0,0,IF(AND(F126>=Lists!$F$3,F126<=Lists!$F$4),0,1))","v":0}]
[null,{"$f":"IF(N127=0, \"\", IF(COUNTIF($N$17:N126, N127)>0, \"\", MAX($B$17:B126)+1))","v":""},null,null,{"$f":"IF(N127=\"\",\"\",MAX($E$17:E126)+1)","v":""},{"$nulls":12},"",{"$nulls":6},"",null,"N",0,0,0,"0",{"$f":"IF(AA127=\"N\",0,IF('Section 1'!$D$9=\"\",1,IF(OR(S127='Section 1'!$D$9,T127='Section 1'!$D$9),0,1)))","v":0},0,0,{"$f":"IF(F127=0,0,IF(AND(F127>=Lists!$F$3,F127<=Lists!$F$4),0,1))","v":0}]
[null,{"$f":"IF(N128=0, \"\", IF(COUNTIF($N$17:N127, N128)>0, \"\", MAX($B$17:B127)+1))","v":""},null,null,{"$f":"IF(N128=\"\",\"\",MAX($E$17:E127)+1)","v":""},{"$nulls":12},"",{"$nulls":6},"",null,"N",0,0,0,"0",{"$f":"IF(AA128=\"N\",0,IF('Section 1'!$D$9=\"\",1,IF(OR(S128='Section 1'!$D$9,T128='Section 1'!$D$9),0,1)))","v":0},0,0,{"$f":"IF(F128=0,0,IF(AND(F128>=Lists!$F$3,F128<=Lists!$F$4),0,1))","v":0}]
[null,{"$f":"IF(N129=0, \"\", IF(COUNTIF($N$17:N128, N129)>0, \"\", MAX($B$17:B128)+1))","v":""},null,null,{"$f":"IF(N129=\"\",\"\",MAX($E$17:E128)+1)","v":""},{"$nulls":12},"",{"$nulls":6},"",null,"N",0,0,0,"0",{"$f":"IF(AA129=\"N\",0,IF('Section 1'!$D$9=\"\",1,IF(OR(S129='Section 1'!$D$9,T129='Section 1'!$D$9),0,1)))","v":0},0,0,{"$f":"IF(F129=0,0,IF(AND(F129>=Lists!$F$3,F129<=Lists!$F$4),0,1))","v":0}]
[null,{"$f":"IF(N130=0, \"\", IF(COUNTIF($N$17:N129, N130)>0, \"\", MAX($B$17:B129)+1))","v":""},null,null,{"$f":"IF(N130=\"\",\"\",MAX($E$17:E129)+1)","v":""},{"$nulls":12},"",{"$nulls":6},"",null,"N",0,0,0,"0",{"$f":"IF(AA130=\"N\",0,IF('Section 1'!$D$9=\"\",1,IF(OR(S130='Section 1'!$D$9,T130='Section 1'!$D$9),0,1)))","v":0},0,0,{"$f":"IF(F130=0,0,IF(AND(F130>=Lists!$F$3,F130<=Lists!$F$4),0,1))","v":0}]
[null,{"$f":"IF(N131=0, \"\", IF(COUNTIF($N$17:N130, N131)>0, \"\", MAX($B$17:B130)+1))","v":""},null,null,{"$f":"IF(N131=\"\",\"\",MAX($E$17:E130)+1)","v":""},{"$nulls":12},"",{"$nulls":6},"",null,"N",0,0,0,"0",{"$f":"IF(AA131=\"N\",0,IF('Section 1'!$D$9=\"\",1,IF(OR(S131='Section 1'!$D$9,T131='Section 1'!$D$9),0,1)))","v":0},0,0,{"$f":"IF(F131=0,0,IF(AND(F131>=Lists!$F$3,F131<=Lists!$F$4),0,1))","v":0}]
[null,{"$f":"IF(N132=0, \"\", IF(COUNTIF($N$17:N131, N132)>0, \"\", MAX($B$17:B131)+1))","v":""},null,null,{"$f":"IF(N132=\"\",\"\",MAX($E$17:E131)+1)","v":""},{"$nulls":12},"",{"$nulls":6},"",null,"N",0,0,0,"0",{"$f":"IF(AA132=\"N\",0,IF('Section 1'!$D$9=\"\",1,IF(OR(S132='Section 1'!$D$9,T132='Section 1'!$D$9),0,1)))","v":0},0,0,{"$f":"IF(F132=0,0,IF(AND(F132>=Lists!$F$3,F132<=Lists!$F$4),0,1))","v":0}]
[null,{"$f":"IF(N133=0, \"\", IF(COUNTIF($N$17:N132, N133)>0, \"\", MAX($B$17:B132)+1))","v":""},null,null,{"$f":"IF(N133=\"\",\"\",MAX($E$17:E132)+1)","v":""},{"$nulls":12},"",{"$nulls":6},"",null,"N",0,0,0,"0",{"$f":"IF(AA133=\"N\",0,IF('Section 1'!$D$9=\"\",1,IF(OR(S133='Section 1'!$D$9,T133='Section 1'!$D$9),0,1)))","v":0},0,0,{"$f":"IF(F133=0,0,IF(AND(F133>=Lists!$F$3,F133<=Lists!$F$4),0,1))","v":0}]
[null,{"$f":"IF(N134=0, \"\", IF(COUNTIF($N$17:N133, N134)>0, \"\", MAX($B$17:B133)+1))","v":""},null,null,{"$f":"IF(N134=\"\",\"\",MAX($E$17:E133)+1)","v":""},{"$nulls":12},"",{"$nulls":6},"",null,"N",0,0,0,"0",{"$f":"IF(AA134=\"N\",0,IF('Section 1'!$D$9=\"\",1,IF(OR(S134='Section 1'!$D$9,T134='Section 1'!$D$9),0,1)))","v":0},0,0,{"$f":"IF(F134=0,0,IF(AND(F134>=Lists!$F$3,F134<=Lists!$F$4),0,1))","v":0}]
[null,{"$f":"IF(N135=0, \"\", IF(COUNTIF($N$17:N134, N135)>0, \"\", MAX($B$17:B134)+1))","v":""},null,null,{"$f":"IF(N135=\"\",\"\",MAX($E$17:E134)+1)","v":""},{"$nulls":12},"",{"$nulls":6},"",null,"N",0,0,0,"0",{"$f":"IF(AA135=\"N\",0,IF('Section 1'!$D$9=\"\",1,IF(OR(S135='Section 1'!$D$9,T135='Section 1'!$D$9),0,1)))","v":0},0,0,{"$f":"IF(F135=0,0,IF(AND(F135>=Lists!$F$3,F135<=Lists!$F$4),0,1))","v":0}]
[null,{"$f":"IF(N136=0, \"\", IF(COUNTIF($N$17:N135, N136)>0, \"\", MAX($B$17:B135)+1))","v":""},null,null,{"$f":"IF(N136=\"\",\"\",MAX($E$17:E135)+1)","v":""},{"$nulls":12},"",{"$nulls":6},"",null,"N",0,0,0,"0",{"$f":"IF(AA136=\"N\",0,IF('Section 1'!$D$9=\"\",1,IF(OR(S136='Section 1'!$D$9,T136='Section 1'!$D$9),0,1)))","v":0},0,0,{"$f":"IF(F136=0,0,IF(AND(F136>=Lists!$F$3,F136<=Lists!$F$4),0,1))","v":0}]
[null,{"$f":"IF(N137=0, \"\", IF(COUNTIF($N$17:N136, N137)>0, \"\", MAX($B$17:B136)+1))","v":""},null,null,{"$f":"IF(N137=\"\",\"\",MAX($E$17:E136)+1)","v":""},{"$nulls":12},"",{"$nulls":6},"",null,"N",0,0,0,"0",{"$f":"IF(AA137=\"N\",0,IF('Section 1'!$D$9=\"\",1,IF(OR(S137='Section 1'!$D$9,T137='Section 1'!$D$9),0,1)))","v":0},0,0,{"$f":"IF(F137=0,0,IF(AND(F137>=Lists!$F$3,F137<=Lists!$F$4),0,1))","v":0}]
[null,{"$f":"IF(N138=0, \"\", IF(COUNTIF($N$17:N137, N138)>0, \"\", MAX($B$17:B137)+1))","v":""},null,null,{"$f":"IF(N138=\"\",\"\",MAX($E$17:E137)+1)","v":""},{"$nulls":12},"",{"$nulls":6},"",null,"N",0,0,0,"0",{"$f":"IF(AA138=\"N\",0,IF('Section 1'!$D$9=\"\",1,IF(OR(S138='Section 1'!$D$9,T138='Section 1'!$D$9),0,1)))","v":0},0,0,{"$f":"IF(F138=0,0,IF(AND(F138>=Lists!$F$3,F138<=Lists!$F$4),0,1))","v":0}]
[null,{"$f":"IF(N139=0, \"\", IF(COUNTIF($N$17:N138, N139)>0, \"\", MAX($B$17:B138)+1))","v":""},null,null,{"$f":"IF(N139=\"\",\"\",MAX($E$17:E138)+1)","v":""},{"$nulls":12},"",{"$nulls":6},"",null,"N",0,0,0,"0",{"$f":"IF(AA139=\"N\",0,IF('Section 1'!$D$9=\"\",1,IF(OR(S139='Section 1'!$D$9,T139='Section 1'!$D$9),0,1)))","v":0},0,0,{"$f":"IF(F139=0,0,IF(AND(F139>=Lists!$F$3,F139<=Lists!$F$4),0,1))","v":0}]
[null,{"$f":"IF(N140=0, \"\", IF(COUNTIF($N$17:N139, N140)>0, \"\", MAX($B$17:B139)+1))","v":""},null,null,{"$f":"IF(N140=\"\",\"\",MAX($E$17:E139)+1)","v":""},{"$nulls":12},"",{"$nulls":6},"",null,"N",0,0,0,"0",{"$f":"IF(AA140=\"N\",0,IF('Section 1'!$D$9=\"\",1,IF(OR(S140='Section 1'!$D$9,T140='Section 1'!$D$9),0,1)))","v":0},0,0,{"$f":"IF(F140=0,0,IF(AND(F140>=Lists!$F$3,F140<=Lists!$F$4),0,1))","v":0}]
[null,{"$f":"IF(N141=0, \"\", IF(COUNTIF($N$17:N140, N141)>0, \"\", MAX($B$17:B140)+1))","v":""},null,null,{"$f":"IF(N141=\"\",\"\",MAX($E$17:E140)+1)","v":""},{"$nulls":12},"",{"$nulls":6},"",null,"N",0,0,0,"0",{"$f":"IF(AA141=\"N\",0,IF('Section 1'!$D$9=\"\",1,IF(OR(S141='Section 1'!$D$9,T141='Section 1'!$D$9),0,1)))","v":0},0,0,{"$f":"IF(F141=0,0,IF(AND(F141>=Lists!$F$3,F141<=Lists!$F$4),0,1))","v":0}]
[null,{"$f":"IF(N142=0, \"\", IF(COUNTIF($N$17:N141, N142)>0, \"\", MAX($B$17:B141)+1))","v":""},null,null,{"$f":"IF(N142=\"\",\"\",MAX($E$17:E141)+1)","v":""},{"$nulls":12},"",{"$nulls":6},"",null,"N",0,0,0,"0",{"$f":"IF(AA142=\"N\",0,IF('Section 1'!$D$9=\"\",1,IF(OR(S142='Section 1'!$D$9,T142='Section 1'!$D$9),0,1)))","v":0},0,0,{"$f":"IF(F142=0,0,IF(AND(F142>=Lists!$F$3,F142<=Lists!$F$4),0,1))","v":0}]
[null,{"$f":"IF(N143=0, \"\", IF(COUNTIF($N$17:N142, N143)>0, \"\", MAX($B$17:B142)+1))","v":""},null,null,{"$f":"IF(N143=\"\",\"\",MAX($E$17:E142)+1)","v":""},{"$nulls":12},"",{"$nulls":6},"",null,"N",0,0,0,"0",{"$f":"IF(AA143=\"N\",0,IF('Section 1'!$D$9=\"\",1,IF(OR(S143='Section 1'!$D$9,T143='Section 1'!$D$9),0,1)))","v":0},0,0,{"$f":"IF(F143=0,0,IF(AND(F143>=Lists!$F$3,F143<=Lists!$F$4),0,1))","v":0}]
[null,{"$f":"IF(N144=0, \"\", IF(COUNTIF($N$17:N143, N144)>0, \"\", MAX($B$17:B143)+1))","v":""},null,null,{"$f":"IF(N144=\"\",\"\",MAX($E$17:E143)+1)","v":""},{"$nulls":12},"",{"$nulls":6},"",null,"N",0,0,0,"0",{"$f":"IF(AA144=\"N\",0,IF('Section 1'!$D$9=\"\",1,IF(OR(S144='Section 1'!$D$9,T144='Section 1'!$D$9),0,1)))","v":0},0,0,{"$f":"IF(F144=0,0,IF(AND(F144>=Lists!$F$3,F144<=Lists!$F$4),0,1))","v":0}]
[null,{"$f":"IF(N145=0, \"\", IF(COUNTIF($N$17:N144, N145)>0, \"\", MAX($B$17:B144)+1))","v":""},null,null,{"$f":"IF(N145=\"\",\"\",MAX($E$17:E144)+1)","v":""},{"$nulls":12},"",{"$nulls":6},"",null,{"$f":"IF(E145=\"\",\"N\",\"Y\")","v":"N"},{"$f":"IF(E145=\"\",0,IF(OR(F145=0,G145=0,L145=0,M145=0,H145=0,I145=0,J145=0,K145=0,N145=0,O145=0,P145=0,Q145=0, R145=0,AND(S145=0,T145=0)),1,0))","v":0},{"$f":"IF(J145=0,0,IF(COUNTIF(Countries,J145)>0,0,1))","v":0},{"$f":"IF(N145=0,0,IF(COUNTIF(ClassIIChemAllowance,N145)>0,0,1))","v":0},"0",{"$f":"IF(AA145=\"N\",0,IF('Section 1'!$D$9=\"\",1,IF(OR(S145='Section 1'!$D$9,T145='Section 1'!$D$9),0,1)))","v":0},0,0,{"$f":"IF(F145=0,0,IF(AND(F145>=Lists!$F$3,F145<=Lists!$F$4),0,1))","v":0}]
[null,{"$f":"IF(N146=0, \"\", IF(COUNTIF($N$17:N145, N146)>0, \"\", MAX($B$17:B145)+1))","v":""},null,null,{"$f":"IF(N146=\"\",\"\",MAX($E$17:E145)+1)","v":""},{"$nulls":12},"",{"$nulls":6},{"$f":"IF(SUM(AB146:AE146,AG146:AI146)>0,\"ROW INCOMPLETE OR INVALID DATA ENTERED; ENTER/EDIT DATA IN REQUIRED FIELDS\",\"\")","v":""},null,"N",0,0,0,{"$f":"IF(AND(S146<>\"\",T146<>\"\"),1,\"0\")","v":"0"},{"$f":"IF(AA146=\"N\",0,IF('Section 1'!$D$9=\"\",1,IF(OR(S146='Section 1'!$D$9,T146='Section 1'!$D$9),0,1)))","v":0},{"$f":"IF(AND(AF146=1,V146=\"\"),1,0)","v":0},{"$f":"IF(T146=\"\", 0, IF(U146=\"\", 1, 0))","v":0},{"$f":"IF(F146=0,0,IF(AND(F146>=Lists!$F$3,F146<=Lists!$F$4),0,1))","v":0}]
[null,{"$f":"IF(N147=0, \"\", IF(COUNTIF($N$17:N146, N147)>0, \"\", MAX($B$17:B146)+1))","v":""},null,null,{"$f":"IF(N147=\"\",\"\",MAX($E$17:E146)+1)","v":""},{"$nulls":12},"",{"$nulls":6},"",null,"N",0,0,0,"0",{"$f":"IF(AA147=\"N\",0,IF('Section 1'!$D$9=\"\",1,IF(OR(S147='Section 1'!$D$9,T147='Section 1'!$D$9),0,1)))","v":0},0,0,{"$f":"IF(F147=0,0,IF(AND(F147>=Lists!$F$3,F147<=Lists!$F$4),0,1))","v":0}]
[null,{"$f":"IF(N148=0, \"\", IF(COUNTIF($N$17:N147, N148)>0, \"\", MAX($B$17:B147)+1))","v":""},null,null,{"$f":"IF(N148=\"\",\"\",MAX($E$17:E147)+1)","v":""},{"$nulls":12},"",{"$nulls":6},"",null,"N",0,0,0,"0",{"$f":"IF(AA148=\"N\",0,IF('Section 1'!$D$9=\"\",1,IF(OR(S148='Section 1'!$D$9,T148='Section 1'!$D$9),0,1)))","v":0},0,0,{"$f":"IF(F148=0,0,IF(AND(F148>=Lists!$F$3,F148<=Lists!$F$4),0,1))","v":0}]
[null,{"$f":"IF(N149=0, \"\", IF(COUNTIF($N$17:N148, N149)>0, \"\", MAX($B$17:B148)+1))","v":""},null,null,{"$f":"IF(N149=\"\",\"\",MAX($E$17:E148)+1)","v":""},{"$nulls":12},"",{"$nulls":6},"",null,"N",0,0,0,"0",{"$f":"IF(AA149=\"N\",0,IF('Section 1'!$D$9=\"\",1,IF(OR(S149='Section 1'!$D$9,T149='Section 1'!$D$9),0,1)))","v":0},0,0,{"$f":"IF(F149=0,0,IF(AND(F149>=Lists!$F$3,F149<=Lists!$F$4),0,1))","v":0}]
[null,{"$f":"IF(N150=0, \"\", IF(COUNTIF($N$17:N149, N150)>0, \"\", MAX($B$17:B149)+1))","v":""},null,null,{"$f":"IF(N150=\"\",\"\",MAX($E$17:E149)+1)","v":""},{"$nulls":12},"",{"$nulls":6},"",null,"N",0,0,0,"0",{"$f":"IF(AA150=\"N\",0,IF('Section 1'!$D$9=\"\",1,IF(OR(S150='Section 1'!$D$9,T150='Section 1'!$D$9),0,1)))","v":0},0,0,{"$f":"IF(F150=0,0,IF(AND(F150>=Lists!$F$3,F150<=Lists!$F$4),0,1))","v":0}]
[null,{"$f":"IF(N151=0, \"\", IF(COUNTIF($N$17:N150, N151)>0, \"\", MAX($B$17:B150)+1))","v":""},null,null,{"$f":"IF(N151=\"\",\"\",MAX($E$17:E150)+1)","v":""},{"$nulls":12},"",{"$nulls":6},"",null,"N",0,0,0,"0",{"$f":"IF(AA151=\"N\",0,IF('Section 1'!$D$9=\"\",1,IF(OR(S151='Section 1'!$D$9,T151='Section 1'!$D$9),0,1)))","v":0},0,0,{"$f":"IF(F151=0,0,IF(AND(F151>=Lists!$F$3,F151<=Lists!$F$4),0,1))","v":0}]
[null,{"$f":"IF(N152=0, \"\", IF(COUNTIF($N$17:N151, N152)>0, \"\", MAX($B$17:B151)+1))","v":""},null,null,{"$f":"IF(N152=\"\",\"\",MAX($E$17:E151)+1)","v":""},{"$nulls":12},"",{"$nulls":6},"",null,"N",0,0,0,"0",{"$f":"IF(AA152=\"N\",0,IF('Section 1'!$D$9=\"\",1,IF(OR(S152='Section 1'!$D$9,T152='Section 1'!$D$9),0,1)))","v":0},0,0,{"$f":"IF(F152=0,0,IF(AND(F152>=Lists!$F$3,F152<=Lists!$F$4),0,1))","v":0}]
[null,{"$f":"IF(N153=0, \"\", IF(COUNTIF($N$17:N152, N153)>0, \"\", MAX($B$17:B152)+1))","v":""},null,null,{"$f":"IF(N153=\"\",\"\",MAX($E$17:E152)+1)","v":""},{"$nulls":12},"",{"$nulls":6},"",null,"N",0,0,0,"0",{"$f":"IF(AA153=\"N\",0,IF('Section 1'!$D$9=\"\",1,IF(OR(S153='Section 1'!$D$9,T153='Section 1'!$D$9),0,1)))","v":0},0,0,{"$f":"IF(F153=0,0,IF(AND(F153>=Lists!$F$3,F153<=Lists!$F$4),0,1))","v":0}]
[null,{"$f":"IF(N154=0, \"\", IF(COUNTIF($N$17:N153, N154)>0, \"\", MAX($B$17:B153)+1))","v":""},null,null,{"$f":"IF(N154=\"\",\"\",MAX($E$17:E153)+1)","v":""},{"$nulls":12},"",{"$nulls":6},"",null,"N",0,0,0,"0",{"$f":"IF(AA154=\"N\",0,IF('Section 1'!$D$9=\"\",1,IF(OR(S154='Section 1'!$D$9,T154='Section 1'!$D$9),0,1)))","v":0},0,0,{"$f":"IF(F154=0,0,IF(AND(F154>=Lists!$F$3,F154<=Lists!$F$4),0,1))","v":0}]
[null,{"$f":"IF(N155=0, \"\", IF(COUNTIF($N$17:N154, N155)>0, \"\", MAX($B$17:B154)+1))","v":""},null,null,{"$f":"IF(N155=\"\",\"\",MAX($E$17:E154)+1)","v":""},{"$nulls":12},"",{"$nulls":6},"",null,"N",0,0,0,"0",{"$f":"IF(AA155=\"N\",0,IF('Section 1'!$D$9=\"\",1,IF(OR(S155='Section 1'!$D$9,T155='Section 1'!$D$9),0,1)))","v":0},0,0,{"$f":"IF(F155=0,0,IF(AND(F155>=Lists!$F$3,F155<=Lists!$F$4),0,1))","v":0}]
[null,{"$f":"IF(N156=0, \"\", IF(COUNTIF($N$17:N155, N156)>0, \"\", MAX($B$17:B155)+1))","v":""},null,null,{"$f":"IF(N156=\"\",\"\",MAX($E$17:E155)+1)","v":""},{"$nulls":12},"",{"$nulls":6},"",null,"N",0,0,0,"0",{"$f":"IF(AA156=\"N\",0,IF('Section 1'!$D$9=\"\",1,IF(OR(S156='Section 1'!$D$9,T156='Section 1'!$D$9),0,1)))","v":0},0,0,{"$f":"IF(F156=0,0,IF(AND(F156>=Lists!$F$3,F156<=Lists!$F$4),0,1))","v":0}]
[null,{"$f":"IF(N157=0, \"\", IF(COUNTIF($N$17:N156, N157)>0, \"\", MAX($B$17:B156)+1))","v":""},null,null,{"$f":"IF(N157=\"\",\"\",MAX($E$17:E156)+1)","v":""},{"$nulls":12},"",{"$nulls":6},"",null,"N",0,0,0,"0",{"$f":"IF(AA157=\"N\",0,IF('Section 1'!$D$9=\"\",1,IF(OR(S157='Section 1'!$D$9,T157='Section 1'!$D$9),0,1)))","v":0},0,0,{"$f":"IF(F157=0,0,IF(AND(F157>=Lists!$F$3,F157<=Lists!$F$4),0,1))","v":0}]
[null,{"$f":"IF(N158=0, \"\", IF(COUNTIF($N$17:N157, N158)>0, \"\", MAX($B$17:B157)+1))","v":""},null,null,{"$f":"IF(N158=\"\",\"\",MAX($E$17:E157)+1)","v":""},{"$nulls":12},"",{"$nulls":6},"",null,"N",0,0,0,"0",{"$f":"IF(AA158=\"N\",0,IF('Section 1'!$D$9=\"\",1,IF(OR(S158='Section 1'!$D$9,T158='Section 1'!$D$9),0,1)))","v":0},0,0,{"$f":"IF(F158=0,0,IF(AND(F158>=Lists!$F$3,F158<=Lists!$F$4),0,1))","v":0}]
[null,{"$f":"IF(N159=0, \"\", IF(COUNTIF($N$17:N158, N159)>0, \"\", MAX($B$17:B158)+1))","v":""},null,null,{"$f":"IF(N159=\"\",\"\",MAX($E$17:E158)+1)","v":""},{"$nulls":12},"",{"$nulls":6},"",null,"N",0,0,0,"0",{"$f":"IF(AA159=\"N\",0,IF('Section 1'!$D$9=\"\",1,IF(OR(S159='Section 1'!$D$9,T159='Section 1'!$D$9),0,1)))","v":0},0,0,{"$f":"IF(F159=0,0,IF(AND(F159>=Lists!$F$3,F159<=Lists!$F$4),0,1))","v":0}]
[null,{"$f":"IF(N160=0, \"\", IF(COUNTIF($N$17:N159, N160)>0, \"\", MAX($B$17:B159)+1))","v":""},null,null,{"$f":"IF(N160=\"\",\"\",MAX($E$17:E159)+1)","v":""},{"$nulls":12},"",{"$nulls":6},"",null,"N",0,0,0,"0",{"$f":"IF(AA160=\"N\",0,IF('Section 1'!$D$9=\"\",1,IF(OR(S160='Section 1'!$D$9,T160='Section 1'!$D$9),0,1)))","v":0},0,0,{"$f":"IF(F160=0,0,IF(AND(F160>=Lists!$F$3,F160<=Lists!$F$4),0,1))","v":0}]
[null,{"$f":"IF(N161=0, \"\", IF(COUNTIF($N$17:N160, N161)>0, \"\", MAX($B$17:B160)+1))","v":""},null,null,{"$f":"IF(N161=\"\",\"\",MAX($E$17:E160)+1)","v":""},{"$nulls":12},"",{"$nulls":6},"",null,"N",0,0,0,"0",{"$f":"IF(AA161=\"N\",0,IF('Section 1'!$D$9=\"\",1,IF(OR(S161='Section 1'!$D$9,T161='Section 1'!$D$9),0,1)))","v":0},0,0,{"$f":"IF(F161=0,0,IF(AND(F161>=Lists!$F$3,F161<=Lists!$F$4),0,1))","v":0}]
[null,{"$f":"IF(N162=0, \"\", IF(COUNTIF($N$17:N161, N162)>0, \"\", MAX($B$17:B161)+1))","v":""},null,null,{"$f":"IF(N162=\"\",\"\",MAX($E$17:E161)+1)","v":""},{"$nulls":12},"",{"$nulls":6},"",null,"N",0,0,0,"0",{"$f":"IF(AA162=\"N\",0,IF('Section 1'!$D$9=\"\",1,IF(OR(S162='Section 1'!$D$9,T162='Section 1'!$D$9),0,1)))","v":0},0,0,{"$f":"IF(F162=0,0,IF(AND(F162>=Lists!$F$3,F162<=Lists!$F$4),0,1))","v":0}]
[null,{"$f":"IF(N163=0, \"\", IF(COUNTIF($N$17:N162, N163)>0, \"\", MAX($B$17:B162)+1))","v":""},null,null,{"$f":"IF(N163=\"\",\"\",MAX($E$17:E162)+1)","v":""},{"$nulls":12},"",{"$nulls":6},"",null,"N",0,0,0,"0",{"$f":"IF(AA163=\"N\",0,IF('Section 1'!$D$9=\"\",1,IF(OR(S163='Section 1'!$D$9,T163='Section 1'!$D$9),0,1)))","v":0},0,0,{"$f":"IF(F163=0,0,IF(AND(F163>=Lists!$F$3,F163<=Lists!$F$4),0,1))","v":0}]
[null,{"$f":"IF(N164=0, \"\", IF(COUNTIF($N$17:N163, N164)>0, \"\", MAX($B$17:B163)+1))","v":""},null,null,{"$f":"IF(N164=\"\",\"\",MAX($E$17:E163)+1)","v":""},{"$nulls":12},"",{"$nulls":6},"",null,"N",0,0,0,"0",{"$f":"IF(AA164=\"N\",0,IF('Section 1'!$D$9=\"\",1,IF(OR(S164='Section 1'!$D$9,T164='Section 1'!$D$9),0,1)))","v":0},0,0,{"$f":"IF(F164=0,0,IF(AND(F164>=Lists!$F$3,F164<=Lists!$F$4),0,1))","v":0}]
[null,{"$f":"IF(N165=0, \"\", IF(COUNTIF($N$17:N164, N165)>0, \"\", MAX($B$17:B164)+1))","v":""},null,null,{"$f":"IF(N165=\"\",\"\",MAX($E$17:E164)+1)","v":""},{"$nulls":12},"",{"$nulls":6},"",null,"N",0,0,0,"0",{"$f":"IF(AA165=\"N\",0,IF('Section 1'!$D$9=\"\",1,IF(OR(S165='Section 1'!$D$9,T165='Section 1'!$D$9),0,1)))","v":0},0,0,{"$f":"IF(F165=0,0,IF(AND(F165>=Lists!$F$3,F165<=Lists!$F$4),0,1))","v":0}]
[null,{"$f":"IF(N166=0, \"\", IF(COUNTIF($N$17:N165, N166)>0, \"\", MAX($B$17:B165)+1))","v":""},null,null,{"$f":"IF(N166=\"\",\"\",MAX($E$17:E165)+1)","v":""},{"$nulls":12},"",{"$nulls":6},"",null,"N",0,0,0,"0",{"$f":"IF(AA166=\"N\",0,IF('Section 1'!$D$9=\"\",1,IF(OR(S166='Section 1'!$D$9,T166='Section 1'!$D$9),0,1)))","v":0},0,0,{"$f":"IF(F166=0,0,IF(AND(F166>=Lists!$F$3,F166<=Lists!$F$4),0,1))","v":0}]
[null,{"$f":"IF(N167=0, \"\", IF(COUNTIF($N$17:N166, N167)>0, \"\", MAX($B$17:B166)+1))","v":""},null,null,{"$f":"IF(N167=\"\",\"\",MAX($E$17:E166)+1)","v":""},{"$nulls":12},"",{"$nulls":6},"",null,"N",0,0,0,"0",{"$f":"IF(AA167=\"N\",0,IF('Section 1'!$D$9=\"\",1,IF(OR(S167='Section 1'!$D$9,T167='Section 1'!$D$9),0,1)))","v":0},0,0,{"$f":"IF(F167=0,0,IF(AND(F167>=Lists!$F$3,F167<=Lists!$F$4),0,1))","v":0}]
[null,{"$f":"IF(N168=0, \"\", IF(COUNTIF($N$17:N167, N168)>0, \"\", MAX($B$17:B167)+1))","v":""},null,null,{"$f":"IF(N168=\"\",\"\",MAX($E$17:E167)+1)","v":""},{"$nulls":12},"",{"$nulls":6},"",null,"N",0,0,0,"0",{"$f":"IF(AA168=\"N\",0,IF('Section 1'!$D$9=\"\",1,IF(OR(S168='Section 1'!$D$9,T168='Section 1'!$D$9),0,1)))","v":0},0,0,{"$f":"IF(F168=0,0,IF(AND(F168>=Lists!$F$3,F168<=Lists!$F$4),0,1))","v":0}]
[null,{"$f":"IF(N169=0, \"\", IF(COUNTIF($N$17:N168, N169)>0, \"\", MAX($B$17:B168)+1))","v":""},null,null,{"$f":"IF(N169=\"\",\"\",MAX($E$17:E168)+1)","v":""},{"$nulls":12},"",{"$nulls":6},"",null,"N",0,0,0,"0",{"$f":"IF(AA169=\"N\",0,IF('Section 1'!$D$9=\"\",1,IF(OR(S169='Section 1'!$D$9,T169='Section 1'!$D$9),0,1)))","v":0},0,0,{"$f":"IF(F169=0,0,IF(AND(F169>=Lists!$F$3,F169<=Lists!$F$4),0,1))","v":0}]
[null,{"$f":"IF(N170=0, \"\", IF(COUNTIF($N$17:N169, N170)>0, \"\", MAX($B$17:B169)+1))","v":""},null,null,{"$f":"IF(N170=\"\",\"\",MAX($E$17:E169)+1)","v":""},{"$nulls":12},"",{"$nulls":6},"",null,"N",0,0,0,"0",{"$f":"IF(AA170=\"N\",0,IF('Section 1'!$D$9=\"\",1,IF(OR(S170='Section 1'!$D$9,T170='Section 1'!$D$9),0,1)))","v":0},0,0,{"$f":"IF(F170=0,0,IF(AND(F170>=Lists!$F$3,F170<=Lists!$F$4),0,1))","v":0}]
[null,{"$f":"IF(N171=0, \"\", IF(COUNTIF($N$17:N170, N171)>0, \"\", MAX($B$17:B170)+1))","v":""},null,null,{"$f":"IF(N171=\"\",\"\",MAX($E$17:E170)+1)","v":""},{"$nulls":12},"",{"$nulls":6},"",null,"N",0,0,0,"0",{"$f":"IF(AA171=\"N\",0,IF('Section 1'!$D$9=\"\",1,IF(OR(S171='Section 1'!$D$9,T171='Section 1'!$D$9),0,1)))","v":0},0,0,{"$f":"IF(F171=0,0,IF(AND(F171>=Lists!$F$3,F171<=Lists!$F$4),0,1))","v":0}]
[null,{"$f":"IF(N172=0, \"\", IF(COUNTIF($N$17:N171, N172)>0, \"\", MAX($B$17:B171)+1))","v":""},null,null,{"$f":"IF(N172=\"\",\"\",MAX($E$17:E171)+1)","v":""},{"$nulls":12},"",{"$nulls":6},"",null,"N",0,0,0,"0",{"$f":"IF(AA172=\"N\",0,IF('Section 1'!$D$9=\"\",1,IF(OR(S172='Section 1'!$D$9,T172='Section 1'!$D$9),0,1)))","v":0},0,0,{"$f":"IF(F172=0,0,IF(AND(F172>=Lists!$F$3,F172<=Lists!$F$4),0,1))","v":0}]
[null,{"$f":"IF(N173=0, \"\", IF(COUNTIF($N$17:N172, N173)>0, \"\", MAX($B$17:B172)+1))","v":""},null,null,{"$f":"IF(N173=\"\",\"\",MAX($E$17:E172)+1)","v":""},{"$nulls":12},"",{"$nulls":6},"",null,"N",0,0,0,"0",{"$f":"IF(AA173=\"N\",0,IF('Section 1'!$D$9=\"\",1,IF(OR(S173='Section 1'!$D$9,T173='Section 1'!$D$9),0,1)))","v":0},0,0,{"$f":"IF(F173=0,0,IF(AND(F173>=Lists!$F$3,F173<=Lists!$F$4),0,1))","v":0}]
[null,{"$f":"IF(N174=0, \"\", IF(COUNTIF($N$17:N173, N174)>0, \"\", MAX($B$17:B173)+1))","v":""},null,null,{"$f":"IF(N174=\"\",\"\",MAX($E$17:E173)+1)","v":""},{"$nulls":12},"",{"$nulls":6},"",null,"N",0,0,0,"0",{"$f":"IF(AA174=\"N\",0,IF('Section 1'!$D$9=\"\",1,IF(OR(S174='Section 1'!$D$9,T174='Section 1'!$D$9),0,1)))","v":0},0,0,{"$f":"IF(F174=0,0,IF(AND(F174>=Lists!$F$3,F174<=Lists!$F$4),0,1))","v":0}]
[null,{"$f":"IF(N175=0, \"\", IF(COUNTIF($N$17:N174, N175)>0, \"\", MAX($B$17:B174)+1))","v":""},null,null,{"$f":"IF(N175=\"\",\"\",MAX($E$17:E174)+1)","v":""},{"$nulls":12},"",{"$nulls":6},"",null,"N",0,0,0,"0",{"$f":"IF(AA175=\"N\",0,IF('Section 1'!$D$9=\"\",1,IF(OR(S175='Section 1'!$D$9,T175='Section 1'!$D$9),0,1)))","v":0},0,0,{"$f":"IF(F175=0,0,IF(AND(F175>=Lists!$F$3,F175<=Lists!$F$4),0,1))","v":0}]
[null,{"$f":"IF(N176=0, \"\", IF(COUNTIF($N$17:N175, N176)>0, \"\", MAX($B$17:B175)+1))","v":""},null,null,{"$f":"IF(N176=\"\",\"\",MAX($E$17:E175)+1)","v":""},{"$nulls":12},"",{"$nulls":6},"",null,"N",0,0,0,"0",{"$f":"IF(AA176=\"N\",0,IF('Section 1'!$D$9=\"\",1,IF(OR(S176='Section 1'!$D$9,T176='Section 1'!$D$9),0,1)))","v":0},0,0,{"$f":"IF(F176=0,0,IF(AND(F176>=Lists!$F$3,F176<=Lists!$F$4),0,1))","v":0}]
[null,{"$f":"IF(N177=0, \"\", IF(COUNTIF($N$17:N176, N177)>0, \"\", MAX($B$17:B176)+1))","v":""},null,null,{"$f":"IF(N177=\"\",\"\",MAX($E$17:E176)+1)","v":""},{"$nulls":12},"",{"$nulls":6},"",null,{"$f":"IF(E177=\"\",\"N\",\"Y\")","v":"N"},{"$f":"IF(E177=\"\",0,IF(OR(F177=0,G177=0,L177=0,M177=0,H177=0,I177=0,J177=0,K177=0,N177=0,O177=0,P177=0,Q177=0, R177=0,AND(S177=0,T177=0)),1,0))","v":0},{"$f":"IF(J177=0,0,IF(COUNTIF(Countries,J177)>0,0,1))","v":0},{"$f":"IF(N177=0,0,IF(COUNTIF(ClassIIChemAllowance,N177)>0,0,1))","v":0},"0",{"$f":"IF(AA177=\"N\",0,IF('Section 1'!$D$9=\"\",1,IF(OR(S177='Section 1'!$D$9,T177='Section 1'!$D$9),0,1)))","v":0},0,0,{"$f":"IF(F177=0,0,IF(AND(F177>=Lists!$F$3,F177<=Lists!$F$4),0,1))","v":0}]
[null,{"$f":"IF(N178=0, \"\", IF(COUNTIF($N$17:N177, N178)>0, \"\", MAX($B$17:B177)+1))","v":""},null,null,{"$f":"IF(N178=\"\",\"\",MAX($E$17:E177)+1)","v":""},{"$nulls":12},"",{"$nulls":6},"",null,"N",0,0,0,"0",{"$f":"IF(AA178=\"N\",0,IF('Section 1'!$D$9=\"\",1,IF(OR(S178='Section 1'!$D$9,T178='Section 1'!$D$9),0,1)))","v":0},0,0,{"$f":"IF(F178=0,0,IF(AND(F178>=Lists!$F$3,F178<=Lists!$F$4),0,1))","v":0}]
[null,{"$f":"IF(N179=0, \"\", IF(COUNTIF($N$17:N178, N179)>0, \"\", MAX($B$17:B178)+1))","v":""},null,null,{"$f":"IF(N179=\"\",\"\",MAX($E$17:E178)+1)","v":""},{"$nulls":12},"",{"$nulls":6},"",null,"N",0,0,0,"0",{"$f":"IF(AA179=\"N\",0,IF('Section 1'!$D$9=\"\",1,IF(OR(S179='Section 1'!$D$9,T179='Section 1'!$D$9),0,1)))","v":0},0,0,{"$f":"IF(F179=0,0,IF(AND(F179>=Lists!$F$3,F179<=Lists!$F$4),0,1))","v":0}]
[null,{"$f":"IF(N180=0, \"\", IF(COUNTIF($N$17:N179, N180)>0, \"\", MAX($B$17:B179)+1))","v":""},null,null,{"$f":"IF(N180=\"\",\"\",MAX($E$17:E179)+1)","v":""},{"$nulls":12},"",{"$nulls":6},"",null,"N",0,0,0,"0",{"$f":"IF(AA180=\"N\",0,IF('Section 1'!$D$9=\"\",1,IF(OR(S180='Section 1'!$D$9,T180='Section 1'!$D$9),0,1)))","v":0},0,0,{"$f":"IF(F180=0,0,IF(AND(F180>=Lists!$F$3,F180<=Lists!$F$4),0,1))","v":0}]
[null,{"$f":"IF(N181=0, \"\", IF(COUNTIF($N$17:N180, N181)>0, \"\", MAX($B$17:B180)+1))","v":""},null,null,{"$f":"IF(N181=\"\",\"\",MAX($E$17:E180)+1)","v":""},{"$nulls":12},"",{"$nulls":6},"",null,"N",0,0,0,"0",{"$f":"IF(AA181=\"N\",0,IF('Section 1'!$D$9=\"\",1,IF(OR(S181='Section 1'!$D$9,T181='Section 1'!$D$9),0,1)))","v":0},0,0,{"$f":"IF(F181=0,0,IF(AND(F181>=Lists!$F$3,F181<=Lists!$F$4),0,1))","v":0}]
[null,{"$f":"IF(N182=0, \"\", IF(COUNTIF($N$17:N181, N182)>0, \"\", MAX($B$17:B181)+1))","v":""},null,null,{"$f":"IF(N182=\"\",\"\",MAX($E$17:E181)+1)","v":""},{"$nulls":12},"",{"$nulls":6},"",null,"N",0,0,0,"0",{"$f":"IF(AA182=\"N\",0,IF('Section 1'!$D$9=\"\",1,IF(OR(S182='Section 1'!$D$9,T182='Section 1'!$D$9),0,1)))","v":0},0,0,{"$f":"IF(F182=0,0,IF(AND(F182>=Lists!$F$3,F182<=Lists!$F$4),0,1))","v":0}]
[null,{"$f":"IF(N183=0, \"\", IF(COUNTIF($N$17:N182, N183)>0, \"\", MAX($B$17:B182)+1))","v":""},null,null,{"$f":"IF(N183=\"\",\"\",MAX($E$17:E182)+1)","v":""},{"$nulls":12},"",{"$nulls":6},"",null,"N",0,0,0,"0",{"$f":"IF(AA183=\"N\",0,IF('Section 1'!$D$9=\"\",1,IF(OR(S183='Section 1'!$D$9,T183='Section 1'!$D$9),0,1)))","v":0},0,0,{"$f":"IF(F183=0,0,IF(AND(F183>=Lists!$F$3,F183<=Lists!$F$4),0,1))","v":0}]
[null,{"$f":"IF(N184=0, \"\", IF(COUNTIF($N$17:N183, N184)>0, \"\", MAX($B$17:B183)+1))","v":""},null,null,{"$f":"IF(N184=\"\",\"\",MAX($E$17:E183)+1)","v":""},{"$nulls":12},"",{"$nulls":6},"",null,"N",0,0,0,"0",{"$f":"IF(AA184=\"N\",0,IF('Section 1'!$D$9=\"\",1,IF(OR(S184='Section 1'!$D$9,T184='Section 1'!$D$9),0,1)))","v":0},0,0,{"$f":"IF(F184=0,0,IF(AND(F184>=Lists!$F$3,F184<=Lists!$F$4),0,1))","v":0}]
[null,{"$f":"IF(N185=0, \"\", IF(COUNTIF($N$17:N184, N185)>0, \"\", MAX($B$17:B184)+1))","v":""},null,null,{"$f":"IF(N185=\"\",\"\",MAX($E$17:E184)+1)","v":""},{"$nulls":12},"",{"$nulls":6},"",null,"N",0,0,0,"0",{"$f":"IF(AA185=\"N\",0,IF('Section 1'!$D$9=\"\",1,IF(OR(S185='Section 1'!$D$9,T185='Section 1'!$D$9),0,1)))","v":0},0,0,{"$f":"IF(F185=0,0,IF(AND(F185>=Lists!$F$3,F185<=Lists!$F$4),0,1))","v":0}]
[null,{"$f":"IF(N186=0, \"\", IF(COUNTIF($N$17:N185, N186)>0, \"\", MAX($B$17:B185)+1))","v":""},null,null,{"$f":"IF(N186=\"\",\"\",MAX($E$17:E185)+1)","v":""},{"$nulls":12},"",{"$nulls":6},"",null,"N",0,0,0,"0",{"$f":"IF(AA186=\"N\",0,IF('Section 1'!$D$9=\"\",1,IF(OR(S186='Section 1'!$D$9,T186='Section 1'!$D$9),0,1)))","v":0},0,0,{"$f":"IF(F186=0,0,IF(AND(F186>=Lists!$F$3,F186<=Lists!$F$4),0,1))","v":0}]
[null,{"$f":"IF(N187=0, \"\", IF(COUNTIF($N$17:N186, N187)>0, \"\", MAX($B$17:B186)+1))","v":""},null,null,{"$f":"IF(N187=\"\",\"\",MAX($E$17:E186)+1)","v":""},{"$nulls":12},"",{"$nulls":6},"",null,"N",0,0,0,"0",{"$f":"IF(AA187=\"N\",0,IF('Section 1'!$D$9=\"\",1,IF(OR(S187='Section 1'!$D$9,T187='Section 1'!$D$9),0,1)))","v":0},0,0,{"$f":"IF(F187=0,0,IF(AND(F187>=Lists!$F$3,F187<=Lists!$F$4),0,1))","v":0}]
[null,{"$f":"IF(N188=0, \"\", IF(COUNTIF($N$17:N187, N188)>0, \"\", MAX($B$17:B187)+1))","v":""},null,null,{"$f":"IF(N188=\"\",\"\",MAX($E$17:E187)+1)","v":""},{"$nulls":12},"",{"$nulls":6},"",null,"N",0,0,0,"0",{"$f":"IF(AA188=\"N\",0,IF('Section 1'!$D$9=\"\",1,IF(OR(S188='Section 1'!$D$9,T188='Section 1'!$D$9),0,1)))","v":0},0,0,{"$f":"IF(F188=0,0,IF(AND(F188>=Lists!$F$3,F188<=Lists!$F$4),0,1))","v":0}]
[null,{"$f":"IF(N189=0, \"\", IF(COUNTIF($N$17:N188, N189)>0, \"\", MAX($B$17:B188)+1))","v":""},null,null,{"$f":"IF(N189=\"\",\"\",MAX($E$17:E188)+1)","v":""},{"$nulls":12},"",{"$nulls":6},"",null,"N",0,0,0,"0",{"$f":"IF(AA189=\"N\",0,IF('Section 1'!$D$9=\"\",1,IF(OR(S189='Section 1'!$D$9,T189='Section 1'!$D$9),0,1)))","v":0},0,0,{"$f":"IF(F189=0,0,IF(AND(F189>=Lists!$F$3,F189<=Lists!$F$4),0,1))","v":0}]
[null,{"$f":"IF(N190=0, \"\", IF(COUNTIF($N$17:N189, N190)>0, \"\", MAX($B$17:B189)+1))","v":""},null,null,{"$f":"IF(N190=\"\",\"\",MAX($E$17:E189)+1)","v":""},{"$nulls":12},"",{"$nulls":6},"",null,"N",0,0,0,"0",{"$f":"IF(AA190=\"N\",0,IF('Section 1'!$D$9=\"\",1,IF(OR(S190='Section 1'!$D$9,T190='Section 1'!$D$9),0,1)))","v":0},0,0,{"$f":"IF(F190=0,0,IF(AND(F190>=Lists!$F$3,F190<=Lists!$F$4),0,1))","v":0}]
[null,{"$f":"IF(N191=0, \"\", IF(COUNTIF($N$17:N190, N191)>0, \"\", MAX($B$17:B190)+1))","v":""},null,null,{"$f":"IF(N191=\"\",\"\",MAX($E$17:E190)+1)","v":""},{"$nulls":12},"",{"$nulls":6},"",null,"N",0,0,0,"0",{"$f":"IF(AA191=\"N\",0,IF('Section 1'!$D$9=\"\",1,IF(OR(S191='Section 1'!$D$9,T191='Section 1'!$D$9),0,1)))","v":0},0,0,{"$f":"IF(F191=0,0,IF(AND(F191>=Lists!$F$3,F191<=Lists!$F$4),0,1))","v":0}]
[null,{"$f":"IF(N192=0, \"\", IF(COUNTIF($N$17:N191, N192)>0, \"\", MAX($B$17:B191)+1))","v":""},null,null,{"$f":"IF(N192=\"\",\"\",MAX($E$17:E191)+1)","v":""},{"$nulls":12},"",{"$nulls":6},"",null,"N",0,0,0,"0",{"$f":"IF(AA192=\"N\",0,IF('Section 1'!$D$9=\"\",1,IF(OR(S192='Section 1'!$D$9,T192='Section 1'!$D$9),0,1)))","v":0},0,0,{"$f":"IF(F192=0,0,IF(AND(F192>=Lists!$F$3,F192<=Lists!$F$4),0,1))","v":0}]
[null,{"$f":"IF(N193=0, \"\", IF(COUNTIF($N$17:N192, N193)>0, \"\", MAX($B$17:B192)+1))","v":""},null,null,{"$f":"IF(N193=\"\",\"\",MAX($E$17:E192)+1)","v":""},{"$nulls":12},"",{"$nulls":6},"",null,"N",0,0,0,"0",{"$f":"IF(AA193=\"N\",0,IF('Section 1'!$D$9=\"\",1,IF(OR(S193='Section 1'!$D$9,T193='Section 1'!$D$9),0,1)))","v":0},0,0,{"$f":"IF(F193=0,0,IF(AND(F193>=Lists!$F$3,F193<=Lists!$F$4),0,1))","v":0}]
[null,{"$f":"IF(N194=0, \"\", IF(COUNTIF($N$17:N193, N194)>0, \"\", MAX($B$17:B193)+1))","v":""},null,null,{"$f":"IF(N194=\"\",\"\",MAX($E$17:E193)+1)","v":""},{"$nulls":12},"",{"$nulls":6},"",null,"N",0,0,0,"0",{"$f":"IF(AA194=\"N\",0,IF('Section 1'!$D$9=\"\",1,IF(OR(S194='Section 1'!$D$9,T194='Section 1'!$D$9),0,1)))","v":0},0,0,{"$f":"IF(F194=0,0,IF(AND(F194>=Lists!$F$3,F194<=Lists!$F$4),0,1))","v":0}]
[null,{"$f":"IF(N195=0, \"\", IF(COUNTIF($N$17:N194, N195)>0, \"\", MAX($B$17:B194)+1))","v":""},null,null,{"$f":"IF(N195=\"\",\"\",MAX($E$17:E194)+1)","v":""},{"$nulls":12},"",{"$nulls":6},"",null,"N",0,0,0,"0",{"$f":"IF(AA195=\"N\",0,IF('Section 1'!$D$9=\"\",1,IF(OR(S195='Section 1'!$D$9,T195='Section 1'!$D$9),0,1)))","v":0},0,0,{"$f":"IF(F195=0,0,IF(AND(F195>=Lists!$F$3,F195<=Lists!$F$4),0,1))","v":0}]
[null,{"$f":"IF(N196=0, \"\", IF(COUNTIF($N$17:N195, N196)>0, \"\", MAX($B$17:B195)+1))","v":""},null,null,{"$f":"IF(N196=\"\",\"\",MAX($E$17:E195)+1)","v":""},{"$nulls":12},"",{"$nulls":6},"",null,"N",0,0,0,"0",{"$f":"IF(AA196=\"N\",0,IF('Section 1'!$D$9=\"\",1,IF(OR(S196='Section 1'!$D$9,T196='Section 1'!$D$9),0,1)))","v":0},0,0,{"$f":"IF(F196=0,0,IF(AND(F196>=Lists!$F$3,F196<=Lists!$F$4),0,1))","v":0}]
[null,{"$f":"IF(N197=0, \"\", IF(COUNTIF($N$17:N196, N197)>0, \"\", MAX($B$17:B196)+1))","v":""},null,null,{"$f":"IF(N197=\"\",\"\",MAX($E$17:E196)+1)","v":""},{"$nulls":12},"",{"$nulls":6},"",null,"N",0,0,0,"0",{"$f":"IF(AA197=\"N\",0,IF('Section 1'!$D$9=\"\",1,IF(OR(S197='Section 1'!$D$9,T197='Section 1'!$D$9),0,1)))","v":0},0,0,{"$f":"IF(F197=0,0,IF(AND(F197>=Lists!$F$3,F197<=Lists!$F$4),0,1))","v":0}]
[null,{"$f":"IF(N198=0, \"\", IF(COUNTIF($N$17:N197, N198)>0, \"\", MAX($B$17:B197)+1))","v":""},null,null,{"$f":"IF(N198=\"\",\"\",MAX($E$17:E197)+1)","v":""},{"$nulls":12},"",{"$nulls":6},"",null,"N",0,0,0,"0",{"$f":"IF(AA198=\"N\",0,IF('Section 1'!$D$9=\"\",1,IF(OR(S198='Section 1'!$D$9,T198='Section 1'!$D$9),0,1)))","v":0},0,0,{"$f":"IF(F198=0,0,IF(AND(F198>=Lists!$F$3,F198<=Lists!$F$4),0,1))","v":0}]
[null,{"$f":"IF(N199=0, \"\", IF(COUNTIF($N$17:N198, N199)>0, \"\", MAX($B$17:B198)+1))","v":""},null,null,{"$f":"IF(N199=\"\",\"\",MAX($E$17:E198)+1)","v":""},{"$nulls":12},"",{"$nulls":6},"",null,"N",0,0,0,"0",{"$f":"IF(AA199=\"N\",0,IF('Section 1'!$D$9=\"\",1,IF(OR(S199='Section 1'!$D$9,T199='Section 1'!$D$9),0,1)))","v":0},0,0,{"$f":"IF(F199=0,0,IF(AND(F199>=Lists!$F$3,F199<=Lists!$F$4),0,1))","v":0}]
[null,{"$f":"IF(N200=0, \"\", IF(COUNTIF($N$17:N199, N200)>0, \"\", MAX($B$17:B199)+1))","v":""},null,null,{"$f":"IF(N200=\"\",\"\",MAX($E$17:E199)+1)","v":""},{"$nulls":12},"",{"$nulls":6},"",null,"N",0,0,0,"0",{"$f":"IF(AA200=\"N\",0,IF('Section 1'!$D$9=\"\",1,IF(OR(S200='Section 1'!$D$9,T200='Section 1'!$D$9),0,1)))","v":0},0,0,{"$f":"IF(F200=0,0,IF(AND(F200>=Lists!$F$3,F200<=Lists!$F$4),0,1))","v":0}]
[null,{"$f":"IF(N201=0, \"\", IF(COUNTIF($N$17:N200, N201)>0, \"\", MAX($B$17:B200)+1))","v":""},null,null,{"$f":"IF(N201=\"\",\"\",MAX($E$17:E200)+1)","v":""},{"$nulls":12},"",{"$nulls":6},"",null,"N",0,0,0,"0",{"$f":"IF(AA201=\"N\",0,IF('Section 1'!$D$9=\"\",1,IF(OR(S201='Section 1'!$D$9,T201='Section 1'!$D$9),0,1)))","v":0},0,0,{"$f":"IF(F201=0,0,IF(AND(F201>=Lists!$F$3,F201<=Lists!$F$4),0,1))","v":0}]
[null,{"$f":"IF(N202=0, \"\", IF(COUNTIF($N$17:N201, N202)>0, \"\", MAX($B$17:B201)+1))","v":""},null,null,{"$f":"IF(N202=\"\",\"\",MAX($E$17:E201)+1)","v":""},{"$nulls":12},"",{"$nulls":6},"",null,"N",0,0,0,"0",{"$f":"IF(AA202=\"N\",0,IF('Section 1'!$D$9=\"\",1,IF(OR(S202='Section 1'!$D$9,T202='Section 1'!$D$9),0,1)))","v":0},0,0,{"$f":"IF(F202=0,0,IF(AND(F202>=Lists!$F$3,F202<=Lists!$F$4),0,1))","v":0}]
[null,{"$f":"IF(N203=0, \"\", IF(COUNTIF($N$17:N202, N203)>0, \"\", MAX($B$17:B202)+1))","v":""},null,null,{"$f":"IF(N203=\"\",\"\",MAX($E$17:E202)+1)","v":""},{"$nulls":12},"",{"$nulls":6},"",null,"N",0,0,0,"0",{"$f":"IF(AA203=\"N\",0,IF('Section 1'!$D$9=\"\",1,IF(OR(S203='Section 1'!$D$9,T203='Section 1'!$D$9),0,1)))","v":0},0,0,{"$f":"IF(F203=0,0,IF(AND(F203>=Lists!$F$3,F203<=Lists!$F$4),0,1))","v":0}]
[null,{"$f":"IF(N204=0, \"\", IF(COUNTIF($N$17:N203, N204)>0, \"\", MAX($B$17:B203)+1))","v":""},null,null,{"$f":"IF(N204=\"\",\"\",MAX($E$17:E203)+1)","v":""},{"$nulls":12},"",{"$nulls":6},"",null,"N",0,0,0,"0",{"$f":"IF(AA204=\"N\",0,IF('Section 1'!$D$9=\"\",1,IF(OR(S204='Section 1'!$D$9,T204='Section 1'!$D$9),0,1)))","v":0},0,0,{"$f":"IF(F204=0,0,IF(AND(F204>=Lists!$F$3,F204<=Lists!$F$4),0,1))","v":0}]
[null,{"$f":"IF(N205=0, \"\", IF(COUNTIF($N$17:N204, N205)>0, \"\", MAX($B$17:B204)+1))","v":""},null,null,{"$f":"IF(N205=\"\",\"\",MAX($E$17:E204)+1)","v":""},{"$nulls":12},"",{"$nulls":6},"",null,"N",0,0,0,"0",{"$f":"IF(AA205=\"N\",0,IF('Section 1'!$D$9=\"\",1,IF(OR(S205='Section 1'!$D$9,T205='Section 1'!$D$9),0,1)))","v":0},0,0,{"$f":"IF(F205=0,0,IF(AND(F205>=Lists!$F$3,F205<=Lists!$F$4),0,1))","v":0}]
[null,{"$f":"IF(N206=0, \"\", IF(COUNTIF($N$17:N205, N206)>0, \"\", MAX($B$17:B205)+1))","v":""},null,null,{"$f":"IF(N206=\"\",\"\",MAX($E$17:E205)+1)","v":""},{"$nulls":12},"",{"$nulls":6},"",null,"N",0,0,0,"0",{"$f":"IF(AA206=\"N\",0,IF('Section 1'!$D$9=\"\",1,IF(OR(S206='Section 1'!$D$9,T206='Section 1'!$D$9),0,1)))","v":0},0,0,{"$f":"IF(F206=0,0,IF(AND(F206>=Lists!$F$3,F206<=Lists!$F$4),0,1))","v":0}]
[null,{"$f":"IF(N207=0, \"\", IF(COUNTIF($N$17:N206, N207)>0, \"\", MAX($B$17:B206)+1))","v":""},null,null,{"$f":"IF(N207=\"\",\"\",MAX($E$17:E206)+1)","v":""},{"$nulls":12},"",{"$nulls":6},"",null,"N",0,0,0,"0",{"$f":"IF(AA207=\"N\",0,IF('Section 1'!$D$9=\"\",1,IF(OR(S207='Section 1'!$D$9,T207='Section 1'!$D$9),0,1)))","v":0},0,0,{"$f":"IF(F207=0,0,IF(AND(F207>=Lists!$F$3,F207<=Lists!$F$4),0,1))","v":0}]
[null,{"$f":"IF(N208=0, \"\", IF(COUNTIF($N$17:N207, N208)>0, \"\", MAX($B$17:B207)+1))","v":""},null,null,{"$f":"IF(N208=\"\",\"\",MAX($E$17:E207)+1)","v":""},{"$nulls":12},"",{"$nulls":6},"",null,"N",0,0,0,"0",{"$f":"IF(AA208=\"N\",0,IF('Section 1'!$D$9=\"\",1,IF(OR(S208='Section 1'!$D$9,T208='Section 1'!$D$9),0,1)))","v":0},0,0,{"$f":"IF(F208=0,0,IF(AND(F208>=Lists!$F$3,F208<=Lists!$F$4),0,1))","v":0}]
[null,{"$f":"IF(N209=0, \"\", IF(COUNTIF($N$17:N208, N209)>0, \"\", MAX($B$17:B208)+1))","v":""},null,null,{"$f":"IF(N209=\"\",\"\",MAX($E$17:E208)+1)","v":""},{"$nulls":12},"",{"$nulls":6},"",null,{"$f":"IF(E209=\"\",\"N\",\"Y\")","v":"N"},{"$f":"IF(E209=\"\",0,IF(OR(F209=0,G209=0,L209=0,M209=0,H209=0,I209=0,J209=0,K209=0,N209=0,O209=0,P209=0,Q209=0, R209=0,AND(S209=0,T209=0)),1,0))","v":0},{"$f":"IF(J209=0,0,IF(COUNTIF(Countries,J209)>0,0,1))","v":0},{"$f":"IF(N209=0,0,IF(COUNTIF(ClassIIChemAllowance,N209)>0,0,1))","v":0},"0",{"$f":"IF(AA209=\"N\",0,IF('Section 1'!$D$9=\"\",1,IF(OR(S209='Section 1'!$D$9,T209='Section 1'!$D$9),0,1)))","v":0},0,0,{"$f":"IF(F209=0,0,IF(AND(F209>=Lists!$F$3,F209<=Lists!$F$4),0,1))","v":0}]
[null,{"$f":"IF(N210=0, \"\", IF(COUNTIF($N$17:N209, N210)>0, \"\", MAX($B$17:B209)+1))","v":""},null,null,{"$f":"IF(N210=\"\",\"\",MAX($E$17:E209)+1)","v":""},{"$nulls":12},"",{"$nulls":6},{"$f":"IF(SUM(AB210:AE210,AG210:AI210)>0,\"ROW INCOMPLETE OR INVALID DATA ENTERED; ENTER/EDIT DATA IN REQUIRED FIELDS\",\"\")","v":""},null,"N",0,0,0,{"$f":"IF(AND(S210<>\"\",T210<>\"\"),1,\"0\")","v":"0"},{"$f":"IF(AA210=\"N\",0,IF('Section 1'!$D$9=\"\",1,IF(OR(S210='Section 1'!$D$9,T210='Section 1'!$D$9),0,1)))","v":0},{"$f":"IF(AND(AF210=1,V210=\"\"),1,0)","v":0},{"$f":"IF(T210=\"\", 0, IF(U210=\"\", 1, 0))","v":0},{"$f":"IF(F210=0,0,IF(AND(F210>=Lists!$F$3,F210<=Lists!$F$4),0,1))","v":0}]
[null,{"$f":"IF(N211=0, \"\", IF(COUNTIF($N$17:N210, N211)>0, \"\", MAX($B$17:B210)+1))","v":""},null,null,{"$f":"IF(N211=\"\",\"\",MAX($E$17:E210)+1)","v":""},{"$nulls":12},"",{"$nulls":6},"",null,"N",0,0,0,"0",{"$f":"IF(AA211=\"N\",0,IF('Section 1'!$D$9=\"\",1,IF(OR(S211='Section 1'!$D$9,T211='Section 1'!$D$9),0,1)))","v":0},0,0,{"$f":"IF(F211=0,0,IF(AND(F211>=Lists!$F$3,F211<=Lists!$F$4),0,1))","v":0}]
[null,{"$f":"IF(N212=0, \"\", IF(COUNTIF($N$17:N211, N212)>0, \"\", MAX($B$17:B211)+1))","v":""},null,null,{"$f":"IF(N212=\"\",\"\",MAX($E$17:E211)+1)","v":""},{"$nulls":12},"",{"$nulls":6},"",null,"N",0,0,0,"0",{"$f":"IF(AA212=\"N\",0,IF('Section 1'!$D$9=\"\",1,IF(OR(S212='Section 1'!$D$9,T212='Section 1'!$D$9),0,1)))","v":0},0,0,{"$f":"IF(F212=0,0,IF(AND(F212>=Lists!$F$3,F212<=Lists!$F$4),0,1))","v":0}]
[null,{"$f":"IF(N213=0, \"\", IF(COUNTIF($N$17:N212, N213)>0, \"\", MAX($B$17:B212)+1))","v":""},null,null,{"$f":"IF(N213=\"\",\"\",MAX($E$17:E212)+1)","v":""},{"$nulls":12},"",{"$nulls":6},"",null,"N",0,0,0,"0",{"$f":"IF(AA213=\"N\",0,IF('Section 1'!$D$9=\"\",1,IF(OR(S213='Section 1'!$D$9,T213='Section 1'!$D$9),0,1)))","v":0},0,0,{"$f":"IF(F213=0,0,IF(AND(F213>=Lists!$F$3,F213<=Lists!$F$4),0,1))","v":0}]
[null,{"$f":"IF(N214=0, \"\", IF(COUNTIF($N$17:N213, N214)>0, \"\", MAX($B$17:B213)+1))","v":""},null,null,{"$f":"IF(N214=\"\",\"\",MAX($E$17:E213)+1)","v":""},{"$nulls":12},"",{"$nulls":6},"",null,"N",0,0,0,"0",{"$f":"IF(AA214=\"N\",0,IF('Section 1'!$D$9=\"\",1,IF(OR(S214='Section 1'!$D$9,T214='Section 1'!$D$9),0,1)))","v":0},0,0,{"$f":"IF(F214=0,0,IF(AND(F214>=Lists!$F$3,F214<=Lists!$F$4),0,1))","v":0}]
[null,{"$f":"IF(N215=0, \"\", IF(COUNTIF($N$17:N214, N215)>0, \"\", MAX($B$17:B214)+1))","v":""},null,null,{"$f":"IF(N215=\"\",\"\",MAX($E$17:E214)+1)","v":""},{"$nulls":12},"",{"$nulls":6},"",null,"N",0,0,0,"0",{"$f":"IF(AA215=\"N\",0,IF('Section 1'!$D$9=\"\",1,IF(OR(S215='Section 1'!$D$9,T215='Section 1'!$D$9),0,1)))","v":0},0,0,{"$f":"IF(F215=0,0,IF(AND(F215>=Lists!$F$3,F215<=Lists!$F$4),0,1))","v":0}]
[{"$f":"IF(SUM(B46:B216)=0,1,0)","v":1},{"$f":"IF(N216=0, \"\", IF(COUNTIF($N$17:N215, N216)>0, \"\", MAX($B$17:B215)+1))","v":""},{"$f":"IF(COUNTA(#REF!)>0,0,1)","v":0},null,{"$f":"IF(N216=\"\",\"\",MAX($E$17:E215)+1)","v":""},{"$nulls":12},"",{"$nulls":6},"",null,"N",0,0,0,"0",{"$f":"IF(AA216=\"N\",0,IF('Section 1'!$D$9=\"\",1,IF(OR(S216='Section 1'!$D$9,T216='Section 1'!$D$9),0,1)))","v":0},0,0,{"$f":"IF(F216=0,0,IF(AND(F216>=Lists!$F$3,F216<=Lists!$F$4),0,1))","v":0}]
[{"$nulls":9},"x",{"$nulls":3},"x",{"$nulls":6},"x"]
[{"$nulls":9},{"$f":"Lists!B3","v":"Afghanistan"},{"$nulls":3},{"$f":"Lists!G3","v":"HCFC-22"},{"$nulls":6},{"$f":"Lists!B3","v":"Afghanistan"}]
[{"$nulls":9},{"$f":"Lists!B4","v":"Albania"},{"$nulls":3},{"$f":"Lists!G4","v":"HCFC-123"},{"$nulls":6},{"$f":"Lists!B4","v":"Albania"}]
[{"$nulls":9},{"$f":"Lists!B5","v":"Algeria"},{"$nulls":3},{"$f":"Lists!G5","v":"HCFC-124"},{"$nulls":6},{"$f":"Lists!B5","v":"Algeria"}]
[{"$nulls":9},{"$f":"Lists!B6","v":"Andorra"},{"$nulls":3},{"$f":"Lists!G6","v":"HCFC-142b"},{"$nulls":6},{"$f":"Lists!B6","v":"Andorra"}]
[{"$nulls":9},{"$f":"Lists!B7","v":"Angola"},{"$nulls":3},{"$f":"Lists!G7","v":"HCFC-225ca"},{"$nulls":6},{"$f":"Lists!B7","v":"Angola"}]
[{"$nulls":9},{"$f":"Lists!B8","v":"Antigua and Barbuda"},{"$nulls":3},{"$f":"Lists!G8","v":"HCFC-225cb"},{"$nulls":6},{"$f":"Lists!B8","v":"Antigua and Barbuda"}]
[{"$nulls":9},{"$f":"Lists!B9","v":"Argentina"},{"$nulls":10},{"$f":"Lists!B9","v":"Argentina"}]
[{"$nulls":9},{"$f":"Lists!B10","v":"Armenia"},{"$nulls":10},{"$f":"Lists!B10","v":"Armenia"}]
[{"$nulls":9},{"$f":"Lists!B11","v":"Australia"},{"$nulls":10},{"$f":"Lists!B11","v":"Australia"}]
[{"$nulls":9},{"$f":"Lists!B12","v":"Austria"},{"$nulls":10},{"$f":"Lists!B12","v":"Austria"}]
[{"$nulls":9},{"$f":"Lists!B13","v":"Azerbaijan"},{"$nulls":10},{"$f":"Lists!B13","v":"Azerbaijan"}]
[{"$nulls":9},{"$f":"Lists!B14","v":"Bahamas"},{"$nulls":10},{"$f":"Lists!B14","v":"Bahamas"}]
[{"$nulls":9},{"$f":"Lists!B15","v":"Bahrain"},{"$nulls":10},{"$f":"Lists!B15","v":"Bahrain"}]
[{"$nulls":9},{"$f":"Lists!B16","v":"Bangladesh"},{"$nulls":10},{"$f":"Lists!B16","v":"Bangladesh"}]
[{"$nulls":9},{"$f":"Lists!B17","v":"Barbados"},{"$nulls":10},{"$f":"Lists!B17","v":"Barbados"}]
[{"$nulls":9},{"$f":"Lists!B18","v":"Belarus"},{"$nulls":10},{"$f":"Lists!B18","v":"Belarus"}]
[{"$nulls":9},{"$f":"Lists!B19","v":"Belgium"},{"$nulls":10},{"$f":"Lists!B19","v":"Belgium"}]
[{"$nulls":9},{"$f":"Lists!B20","v":"Belize"},{"$nulls":10},{"$f":"Lists!B20","v":"Belize"}]
[{"$nulls":9},{"$f":"Lists!B21","v":"Benin"},{"$nulls":10},{"$f":"Lists!B21","v":"Benin"}]
[{"$nulls":9},{"$f":"Lists!B22","v":"Bermuda"},{"$nulls":10},{"$f":"Lists!B22","v":"Bermuda"}]
[{"$nulls":9},{"$f":"Lists!B23","v":"Bhutan"},{"$nulls":10},{"$f":"Lists!B23","v":"Bhutan"}]
[{"$nulls":9},{"$f":"Lists!B24","v":"Bolivia (Plurinational State of)"},{"$nulls":10},{"$f":"Lists!B24","v":"Bolivia (Plurinational State of)"}]
[{"$nulls":9},{"$f":"Lists!B25","v":"Bosnia and Herzegovina"},{"$nulls":10},{"$f":"Lists!B25","v":"Bosnia and Herzegovina"}]
[{"$nulls":9},{"$f":"Lists!B26","v":"Botswana"},{"$nulls":10},{"$f":"Lists!B26","v":"Botswana"}]
[{"$nulls":9},{"$f":"Lists!B27","v":"Brazil"},{"$nulls":10},{"$f":"Lists!B27","v":"Brazil"}]
[{"$nulls":9},{"$f":"Lists!B28","v":"Brunei Darussalam"},{"$nulls":10},{"$f":"Lists!B28","v":"Brunei Darussalam"}]
[{"$nulls":9},{"$f":"Lists!B29","v":"British Virgin Islands"},{"$nulls":10},{"$f":"Lists!B29","v":"British Virgin Islands"}]
[{"$nulls":9},{"$f":"Lists!B30","v":"Bulgaria"},{"$nulls":10},{"$f":"Lists!B30","v":"Bulgaria"}]
[{"$nulls":9},{"$f":"Lists!B31","v":"Burkina Faso"},{"$nulls":10},{"$f":"Lists!B31","v":"Burkina Faso"}]
[{"$nulls":9},{"$f":"Lists!B32","v":"Burundi"},{"$nulls":10},{"$f":"Lists!B32","v":"Burundi"}]
[{"$nulls":9},{"$f":"Lists!B33","v":"Cambodia"},{"$nulls":10},{"$f":"Lists!B33","v":"Cambodia"}]
[{"$nulls":9},{"$f":"Lists!B34","v":"Cameroon"},{"$nulls":10},{"$f":"Lists!B34","v":"Cameroon"}]
[{"$nulls":9},{"$f":"Lists!B35","v":"Canada"},{"$nulls":10},{"$f":"Lists!B35","v":"Canada"}]
[{"$nulls":9},{"$f":"Lists!B36","v":"Cape Verde"},{"$nulls":10},{"$f":"Lists!B36","v":"Cape Verde"}]
[{"$nulls":9},{"$f":"Lists!B37","v":"Central African Republic"},{"$nulls":10},{"$f":"Lists!B37","v":"Central African Republic"}]
[{"$nulls":9},{"$f":"Lists!B38","v":"Chad"},{"$nulls":10},{"$f":"Lists!B38","v":"Chad"}]
[{"$nulls":9},{"$f":"Lists!B39","v":"Chile"},{"$nulls":10},{"$f":"Lists!B39","v":"Chile"}]
[{"$nulls":9},{"$f":"Lists!B40","v":"China"},{"$nulls":10},{"$f":"Lists!B40","v":"China"}]
[{"$nulls":9},{"$f":"Lists!B41","v":"Colombia"},{"$nulls":10},{"$f":"Lists!B41","v":"Colombia"}]
[{"$nulls":9},{"$f":"Lists!B42","v":"Comoros"},{"$nulls":10},{"$f":"Lists!B42","v":"Comoros"}]
[{"$nulls":9},{"$f":"Lists!B43","v":"Congo"},{"$nulls":10},{"$f":"Lists!B43","v":"Congo"}]
[{"$nulls":9},{"$f":"Lists!B44","v":"Cook Islands"},{"$nulls":10},{"$f":"Lists!B44","v":"Cook Islands"}]
[{"$nulls":9},{"$f":"Lists!B45","v":"Costa Rica"},{"$nulls":10},{"$f":"Lists!B45","v":"Costa Rica"}]
[{"$nulls":9},{"$f":"Lists!B46","v":"Côte d'Ivoire"},{"$nulls":10},{"$f":"Lists!B46","v":"Côte d'Ivoire"}]
[{"$nulls":9},{"$f":"Lists!B47","v":"Croatia"},{"$nulls":10},{"$f":"Lists!B47","v":"Croatia"}]
[{"$nulls":9},{"$f":"Lists!B48","v":"Cuba"},{"$nulls":10},{"$f":"Lists!B48","v":"Cuba"}]
[{"$nulls":9},{"$f":"Lists!B49","v":"Cyprus"},{"$nulls":10},{"$f":"Lists!B49","v":"Cyprus"}]
[{"$nulls":9},{"$f":"Lists!B50","v":"Czech Republic"},{"$nulls":10},{"$f":"Lists!B50","v":"Czech Republic"}]
[{"$nulls":9},{"$f":"Lists!B51","v":"Democratic Republic of the Congo"},{"$nulls":10},{"$f":"Lists!B51","v":"Democratic Republic of the Congo"}]
[{"$nulls":9},{"$f":"Lists!B52","v":"Denmark"},{"$nulls":10},{"$f":"Lists!B52","v":"Denmark"}]
[{"$nulls":9},{"$f":"Lists!B53","v":"Djibouti"},{"$nulls":10},{"$f":"Lists!B53","v":"Djibouti"}]
[{"$nulls":9},{"$f":"Lists!B54","v":"Dominica"},{"$nulls":10},{"$f":"Lists!B54","v":"Dominica"}]
[{"$nulls":9},{"$f":"Lists!B55","v":"Dominican Republic"},{"$nulls":10},{"$f":"Lists!B55","v":"Dominican Republic"}]
[{"$nulls":9},{"$f":"Lists!B56","v":"Ecuador"},{"$nulls":10},{"$f":"Lists!B56","v":"Ecuador"}]
[{"$nulls":9},{"$f":"Lists!B57","v":"Egypt"},{"$nulls":10},{"$f":"Lists!B57","v":"Egypt"}]
[{"$nulls":9},{"$f":"Lists!B58","v":"El Salvador"},{"$nulls":10},{"$f":"Lists!B58","v":"El Salvador"}]
[{"$nulls":9},{"$f":"Lists!B59","v":"Equatorial Guinea"},{"$nulls":10},{"$f":"Lists!B59","v":"Equatorial Guinea"}]
[{"$nulls":9},{"$f":"Lists!B60","v":"Eritrea"},{"$nulls":10},{"$f":"Lists!B60","v":"Eritrea"}]
[{"$nulls":9},{"$f":"Lists!B61","v":"Estonia"},{"$nulls":10},{"$f":"Lists!B61","v":"Estonia"}]
[{"$nulls":9},{"$f":"Lists!B62","v":"Ethiopia"},{"$nulls":10},{"$f":"Lists!B62","v":"Ethiopia"}]
[{"$nulls":9},{"$f":"Lists!B63","v":"European Union"},{"$nulls":10},{"$f":"Lists!B63","v":"European Union"}]
[{"$nulls":9},{"$f":"Lists!B64","v":"Fiji"},{"$nulls":10},{"$f":"Lists!B64","v":"Fiji"}]
[{"$nulls":9},{"$f":"Lists!B65","v":"Finland"},{"$nulls":10},{"$f":"Lists!B65","v":"Finland"}]
[{"$nulls":9},{"$f":"Lists!B66","v":"France"},{"$nulls":10},{"$f":"Lists!B66","v":"France"}]
[{"$nulls":9},{"$f":"Lists!B67","v":"Gabon"},{"$nulls":10},{"$f":"Lists!B67","v":"Gabon"}]
[{"$nulls":9},{"$f":"Lists!B68","v":"Gambia"},{"$nulls":10},{"$f":"Lists!B68","v":"Gambia"}]
[{"$nulls":9},{"$f":"Lists!B69","v":"Georgia"},{"$nulls":10},{"$f":"Lists!B69","v":"Georgia"}]
[{"$nulls":9},{"$f":"Lists!B70","v":"Germany"},{"$nulls":10},{"$f":"Lists!B70","v":"Germany"}]
[{"$nulls":9},{"$f":"Lists!B71","v":"Ghana"},{"$nulls":10},{"$f":"Lists!B71","v":"Ghana"}]
[{"$nulls":9},{"$f":"Lists!B72","v":"Greece"},{"$nulls":10},{"$f":"Lists!B72","v":"Greece"}]
[{"$nulls":9},{"$f":"Lists!B73","v":"Grenada"},{"$nulls":10},{"$f":"Lists!B73","v":"Grenada"}]
[{"$nulls":9},{"$f":"Lists!B74","v":"Guatemala"},{"$nulls":10},{"$f":"Lists!B74","v":"Guatemala"}]
[{"$nulls":9},{"$f":"Lists!B75","v":"Guinea"},{"$nulls":10},{"$f":"Lists!B75","v":"Guinea"}]
[{"$nulls":9},{"$f":"Lists!B76","v":"Guinea-Bissau"},{"$nulls":10},{"$f":"Lists!B76","v":"Guinea-Bissau"}]
[{"$nulls":9},{"$f":"Lists!B77","v":"Guyana"},{"$nulls":10},{"$f":"Lists!B77","v":"Guyana"}]
[{"$nulls":9},{"$f":"Lists!B78","v":"Haiti"},{"$nulls":10},{"$f":"Lists!B78","v":"Haiti"}]
[{"$nulls":9},{"$f":"Lists!B79","v":"Holy See"},{"$nulls":10},{"$f":"Lists!B79","v":"Holy See"}]
[{"$nulls":9},{"$f":"Lists!B80","v":"Honduras"},{"$nulls":10},{"$f":"Lists!B80","v":"Honduras"}]
[{"$nulls":9},{"$f":"Lists!B81","v":"Hong Kong"},{"$nulls":10},{"$f":"Lists!B81","v":"Hong Kong"}]
[{"$nulls":9},{"$f":"Lists!B82","v":"Hungary"},{"$nulls":10},{"$f":"Lists!B82","v":"Hungary"}]
[{"$nulls":9},{"$f":"Lists!B83","v":"Iceland"},{"$nulls":10},{"$f":"Lists!B83","v":"Iceland"}]
[{"$nulls":9},{"$f":"Lists!B84","v":"India"},{"$nulls":10},{"$f":"Lists!B84","v":"India"}]
[{"$nulls":9},{"$f":"Lists!B85","v":"Indonesia"},{"$nulls":10},{"$f":"Lists!B85","v":"Indonesia"}]
[{"$nulls":9},{"$f":"Lists!B86","v":"Iran (Islamic Republic of)"},{"$nulls":10},{"$f":"Lists!B86","v":"Iran (Islamic Republic of)"}]
[{"$nulls":9},{"$f":"Lists!B87","v":"Iraq"},{"$nulls":10},{"$f":"Lists!B87","v":"Iraq"}]
[{"$nulls":9},{"$f":"Lists!B88","v":"Ireland"},{"$nulls":10},{"$f":"Lists!B88","v":"Ireland"}]
[{"$nulls":9},{"$f":"Lists!B89","v":"Israel"},{"$nulls":10},{"$f":"Lists!B89","v":"Israel"}]
[{"$nulls":9},{"$f":"Lists!B90","v":"Italy"},{"$nulls":10},{"$f":"Lists!B90","v":"Italy"}]
[{"$nulls":9},{"$f":"Lists!B91","v":"Jamaica"},{"$nulls":10},{"$f":"Lists!B91","v":"Jamaica"}]
[{"$nulls":9},{"$f":"Lists!B92","v":"Japan"},{"$nulls":10},{"$f":"Lists!B92","v":"Japan"}]
[{"$nulls":9},{"$f":"Lists!B93","v":"Jordan"},{"$nulls":10},{"$f":"Lists!B93","v":"Jordan"}]
[{"$nulls":9},{"$f":"Lists!B94","v":"Kazakhstan"},{"$nulls":10},{"$f":"Lists!B94","v":"Kazakhstan"}]
[{"$nulls":9},{"$f":"Lists!B95","v":"Kenya"},{"$nulls":10},{"$f":"Lists!B95","v":"Kenya"}]
[{"$nulls":9},{"$f":"Lists!B96","v":"Kiribati"},{"$nulls":10},{"$f":"Lists!B96","v":"Kiribati"}]
[{"$nulls":9},{"$f":"Lists!B97","v":"Kuwait"},{"$nulls":10},{"$f":"Lists!B97","v":"Kuwait"}]
[{"$nulls":9},{"$f":"Lists!B98","v":"Kyrgyzstan"},{"$nulls":10},{"$f":"Lists!B98","v":"Kyrgyzstan"}]
[{"$nulls":9},{"$f":"Lists!B99","v":"Lao People's Democratic Republic"},{"$nulls":10},{"$f":"Lists!B99","v":"Lao People's Democratic Republic"}]
[{"$nulls":9},{"$f":"Lists!B100","v":"Latvia"},{"$nulls":10},{"$f":"Lists!B100","v":"Latvia"}]
[{"$nulls":9},{"$f":"Lists!B101","v":"Lebanon"},{"$nulls":10},{"$f":"Lists!B101","v":"Lebanon"}]
[{"$nulls":9},{"$f":"Lists!B102","v":"Lesotho"},{"$nulls":10},{"$f":"Lists!B102","v":"Lesotho"}]
[{"$nulls":9},{"$f":"Lists!B103","v":"Liberia"},{"$nulls":10},{"$f":"Lists!B103","v":"Liberia"}]
[{"$nulls":9},{"$f":"Lists!B104","v":"Libya"},{"$nulls":10},{"$f":"Lists!B104","v":"Libya"}]
[{"$nulls":9},{"$f":"Lists!B105","v":"Liechtenstein"},{"$nulls":10},{"$f":"Lists!B105","v":"Liechtenstein"}]
[{"$nulls":9},{"$f":"Lists!B106","v":"Lithuania"},{"$nulls":10},{"$f":"Lists!B106","v":"Lithuania"}]
[{"$nulls":9},{"$f":"Lists!B107","v":"Luxembourg"},{"$nulls":10},{"$f":"Lists!B107","v":"Luxembourg"}]
[{"$nulls":9},{"$f":"Lists!B108","v":"Madagascar"},{"$nulls":10},{"$f":"Lists!B108","v":"Madagascar"}]
[{"$nulls":9},{"$f":"Lists!B109","v":"Malawi"},{"$nulls":10},{"$f":"Lists!B109","v":"Malawi"}]
[{"$nulls":9},{"$f":"Lists!B110","v":"Malaysia"},{"$nulls":10},{"$f":"Lists!B110","v":"Malaysia"}]
[{"$nulls":9},{"$f":"Lists!B111","v":"Maldives"},{"$nulls":10},{"$f":"Lists!B111","v":"Maldives"}]
[{"$nulls":9},{"$f":"Lists!B112","v":"Mali"},{"$nulls":10},{"$f":"Lists!B112","v":"Mali"}]
[{"$nulls":9},{"$f":"Lists!B113","v":"Malta"},{"$nulls":10},{"$f":"Lists!B113","v":"Malta"}]
[{"$nulls":9},{"$f":"Lists!B114","v":"Marshall Islands"},{"$nulls":10},{"$f":"Lists!B114","v":"Marshall Islands"}]
[{"$nulls":9},{"$f":"Lists!B115","v":"Mauritania"},{"$nulls":10},{"$f":"Lists!B115","v":"Mauritania"}]
[{"$nulls":9},{"$f":"Lists!B116","v":"Mauritius"},{"$nulls":10},{"$f":"Lists!B116","v":"Mauritius"}]
[{"$nulls":9},{"$f":"Lists!B117","v":"Mexico"},{"$nulls":10},{"$f":"Lists!B117","v":"Mexico"}]
[{"$nulls":9},{"$f":"Lists!B118","v":"Micronesia (Federated States of)"},{"$nulls":10},{"$f":"Lists!B118","v":"Micronesia (Federated States of)"}]
[{"$nulls":9},{"$f":"Lists!B119","v":"Monaco"},{"$nulls":10},{"$f":"Lists!B119","v":"Monaco"}]
[{"$nulls":9},{"$f":"Lists!B120","v":"Mongolia"},{"$nulls":10},{"$f":"Lists!B120","v":"Mongolia"}]
[{"$nulls":9},{"$f":"Lists!B121","v":"Montenegro"},{"$nulls":10},{"$f":"Lists!B121","v":"Montenegro"}]
[{"$nulls":9},{"$f":"Lists!B122","v":"Morocco"},{"$nulls":10},{"$f":"Lists!B122","v":"Morocco"}]
[{"$nulls":9},{"$f":"Lists!B123","v":"Mozambique"},{"$nulls":10},{"$f":"Lists!B123","v":"Mozambique"}]
[{"$nulls":9},{"$f":"Lists!B124","v":"Myanmar"},{"$nulls":10},{"$f":"Lists!B124","v":"Myanmar"}]
[{"$nulls":9},{"$f":"Lists!B125","v":"Namibia"},{"$nulls":10},{"$f":"Lists!B125","v":"Namibia"}]
[{"$nulls":9},{"$f":"Lists!B126","v":"Nauru"},{"$nulls":10},{"$f":"Lists!B126","v":"Nauru"}]
[{"$nulls":9},{"$f":"Lists!B127","v":"Nepal"},{"$nulls":10},{"$f":"Lists!B127","v":"Nepal"}]
[{"$nulls":9},{"$f":"Lists!B128","v":"Netherlands"},{"$nulls":10},{"$f":"Lists!B128","v":"Netherlands"}]
[{"$nulls":9},{"$f":"Lists!B129","v":"New Zealand"},{"$nulls":10},{"$f":"Lists!B129","v":"New Zealand"}]
[{"$nulls":9},{"$f":"Lists!B130","v":"Nicaragua"},{"$nulls":10},{"$f":"Lists!B130","v":"Nicaragua"}]
[{"$nulls":9},{"$f":"Lists!B131","v":"Niger"},{"$nulls":10},{"$f":"Lists!B131","v":"Niger"}]
[{"$nulls":9},{"$f":"Lists!B132","v":"Nigeria"},{"$nulls":10},{"$f":"Lists!B132","v":"Nigeria"}]
[{"$nulls":9},{"$f":"Lists!B133","v":"Niue"},{"$nulls":10},{"$f":"Lists!B133","v":"Niue"}]
[{"$nulls":9},{"$f":"Lists!B134","v":"North Korea (Democratic People's Republic of Korea)"},{"$nulls":10},{"$f":"Lists!B134","v":"North Korea (Democratic People's Republic of Korea)"}]
[{"$nulls":9},{"$f":"Lists!B135","v":"Norway"},{"$nulls":10},{"$f":"Lists!B135","v":"Norway"}]
[{"$nulls":9},{"$f":"Lists!B136","v":"Oman"},{"$nulls":10},{"$f":"Lists!B136","v":"Oman"}]
[{"$nulls":9},{"$f":"Lists!B137","v":"Pakistan"},{"$nulls":10},{"$f":"Lists!B137","v":"Pakistan"}]
[{"$nulls":9},{"$f":"Lists!B138","v":"Palau"},{"$nulls":10},{"$f":"Lists!B138","v":"Palau"}]
[{"$nulls":9},{"$f":"Lists!B139","v":"Panama"},{"$nulls":10},{"$f":"Lists!B139","v":"Panama"}]
[{"$nulls":9},{"$f":"Lists!B140","v":"Papua New Guinea"},{"$nulls":10},{"$f":"Lists!B140","v":"Papua New Guinea"}]
[{"$nulls":9},{"$f":"Lists!B141","v":"Paraguay"},{"$nulls":10},{"$f":"Lists!B141","v":"Paraguay"}]
[{"$nulls":9},{"$f":"Lists!B142","v":"Peru"},{"$nulls":10},{"$f":"Lists!B142","v":"Peru"}]
[{"$nulls":9},{"$f":"Lists!B143","v":"Philippines"},{"$nulls":10},{"$f":"Lists!B143","v":"Philippines"}]
[{"$nulls":9},{"$f":"Lists!B144","v":"Poland"},{"$nulls":10},{"$f":"Lists!B144","v":"Poland"}]
[{"$nulls":9},{"$f":"Lists!B145","v":"Portugal"},{"$nulls":10},{"$f":"Lists!B145","v":"Portugal"}]
[{"$nulls":9},{"$f":"Lists!B146","v":"Qatar"},{"$nulls":10},{"$f":"Lists!B146","v":"Qatar"}]
[{"$nulls":9},{"$f":"Lists!B147","v":"Republic of Moldova"},{"$nulls":10},{"$f":"Lists!B147","v":"Republic of Moldova"}]
[{"$nulls":9},{"$f":"Lists!B148","v":"Romania"},{"$nulls":10},{"$f":"Lists!B148","v":"Romania"}]
[{"$nulls":9},{"$f":"Lists!B149","v":"Russian Federation"},{"$nulls":10},{"$f":"Lists!B149","v":"Russian Federation"}]
[{"$nulls":9},{"$f":"Lists!B150","v":"Rwanda"},{"$nulls":10},{"$f":"Lists!B150","v":"Rwanda"}]
[{"$nulls":9},{"$f":"Lists!B151","v":"Saint Kitts and Nevis"},{"$nulls":10},{"$f":"Lists!B151","v":"Saint Kitts and Nevis"}]
[{"$nulls":9},{"$f":"Lists!B152","v":"Saint Lucia"},{"$nulls":10},{"$f":"Lists!B152","v":"Saint Lucia"}]
[{"$nulls":9},{"$f":"Lists!B153","v":"Saint Vincent and the Grenadines"},{"$nulls":10},{"$f":"Lists!B153","v":"Saint Vincent and the Grenadines"}]
[{"$nulls":9},{"$f":"Lists!B154","v":"Samoa"},{"$nulls":10},{"$f":"Lists!B154","v":"Samoa"}]
[{"$nulls":9},{"$f":"Lists!B155","v":"San Marino"},{"$nulls":10},{"$f":"Lists!B155","v":"San Marino"}]
[{"$nulls":9},{"$f":"Lists!B156","v":"Sao Tome and Principe"},{"$nulls":10},{"$f":"Lists!B156","v":"Sao Tome and Principe"}]
[{"$nulls":9},{"$f":"Lists!B157","v":"Saudi Arabia"},{"$nulls":10},{"$f":"Lists!B157","v":"Saudi Arabia"}]
[{"$nulls":9},{"$f":"Lists!B158","v":"Senegal"},{"$nulls":10},{"$f":"Lists!B158","v":"Senegal"}]
[{"$nulls":9},{"$f":"Lists!B159","v":"Serbia"},{"$nulls":10},{"$f":"Lists!B159","v":"Serbia"}]
[{"$nulls":9},{"$f":"Lists!B160","v":"Seychelles"},{"$nulls":10},{"$f":"Lists!B160","v":"Seychelles"}]
[{"$nulls":9},{"$f":"Lists!B161","v":"Sierra Leone"},{"$nulls":10},{"$f":"Lists!B161","v":"Sierra Leone"}]
[{"$nulls":9},{"$f":"Lists!B162","v":"Singapore"},{"$nulls":10},{"$f":"Lists!B162","v":"Singapore"}]
[{"$nulls":9},{"$f":"Lists!B163","v":"Slovakia"},{"$nulls":10},{"$f":"Lists!B163","v":"Slovakia"}]
[{"$nulls":9},{"$f":"Lists!B164","v":"Slovenia"},{"$nulls":10},{"$f":"Lists!B164","v":"Slovenia"}]
[{"$nulls":9},{"$f":"Lists!B165","v":"Solomon Islands"},{"$nulls":10},{"$f":"Lists!B165","v":"Solomon Islands"}]
[{"$nulls":9},{"$f":"Lists!B166","v":"Somalia (Federal Republic of)"},{"$nulls":10},{"$f":"Lists!B166","v":"Somalia (Federal Republic of)"}]
[{"$nulls":9},{"$f":"Lists!B167","v":"South Africa"},{"$nulls":10},{"$f":"Lists!B167","v":"South Africa"}]
[{"$nulls":9},{"$f":"Lists!B168","v":"South Korea (Republic of Korea)"},{"$nulls":10},{"$f":"Lists!B168","v":"South Korea (Republic of Korea)"}]
[{"$nulls":9},{"$f":"Lists!B169","v":"South Sudan"},{"$nulls":10},{"$f":"Lists!B169","v":"South Sudan"}]
[{"$nulls":9},{"$f":"Lists!B170","v":"Spain"},{"$nulls":10},{"$f":"Lists!B170","v":"Spain"}]
[{"$nulls":9},{"$f":"Lists!B171","v":"Sri Lanka"},{"$nulls":10},{"$f":"Lists!B171","v":"Sri Lanka"}]
[{"$nulls":9},{"$f":"Lists!B172","v":"Sudan"},{"$nulls":10},{"$f":"Lists!B172","v":"Sudan"}]
[{"$nulls":9},{"$f":"Lists!B173","v":"Suriname"},{"$nulls":10},{"$f":"Lists!B173","v":"Suriname"}]
[{"$nulls":9},{"$f":"Lists!B174","v":"Swaziland"},{"$nulls":10},{"$f":"Lists!B174","v":"Swaziland"}]
[{"$nulls":9},{"$f":"Lists!B175","v":"Sweden"},{"$nulls":10},{"$f":"Lists!B175","v":"Sweden"}]
[{"$nulls":9},{"$f":"Lists!B176","v":"Switzerland"},{"$nulls":10},{"$f":"Lists!B176","v":"Switzerland"}]
[{"$nulls":9},{"$f":"Lists!B177","v":"Syrian Arab Republic"},{"$nulls":10},{"$f":"Lists!B177","v":"Syrian Arab Republic"}]
[{"$nulls":9},{"$f":"Lists!B178","v":"Tahiti"},{"$nulls":10},{"$f":"Lists!B178","v":"Tahiti"}]
[{"$nulls":9},{"$f":"Lists!B179","v":"Taiwan"},{"$nulls":10},{"$f":"Lists!B179","v":"Taiwan"}]
[{"$nulls":9},{"$f":"Lists!B180","v":"Tajikistan"},{"$nulls":10},{"$f":"Lists!B180","v":"Tajikistan"}]
[{"$nulls":9},{"$f":"Lists!B181","v":"Thailand"},{"$nulls":10},{"$f":"Lists!B181","v":"Thailand"}]
[{"$nulls":9},{"$f":"Lists!B182","v":"The Former Yugoslav Republic of Macedonia"},{"$nulls":10},{"$f":"Lists!B182","v":"The Former Yugoslav Republic of Macedonia"}]
[{"$nulls":9},{"$f":"Lists!B183","v":"Timor-Leste"},{"$nulls":10},{"$f":"Lists!B183","v":"Timor-Leste"}]
[{"$nulls":9},{"$f":"Lists!B184","v":"Togo"},{"$nulls":10},{"$f":"Lists!B184","v":"Togo"}]
[{"$nulls":9},{"$f":"Lists!B185","v":"Tonga"},{"$nulls":10},{"$f":"Lists!B185","v":"Tonga"}]
[{"$nulls":9},{"$f":"Lists!B186","v":"Trinidad and Tobago"},{"$nulls":10},{"$f":"Lists!B186","v":"Trinidad and Tobago"}]
[{"$nulls":9},{"$f":"Lists!B187","v":"Tunisia"},{"$nulls":10},{"$f":"Lists!B187","v":"Tunisia"}]
[{"$nulls":9},{"$f":"Lists!B188","v":"Turkey"},{"$nulls":10},{"$f":"Lists!B188","v":"Turkey"}]
[{"$nulls":9},{"$f":"Lists!B189","v":"Turkmenistan"},{"$nulls":10},{"$f":"Lists!B189","v":"Turkmenistan"}]
[{"$nulls":9},{"$f":"Lists!B190","v":"Tuvalu"},{"$nulls":10},{"$f":"Lists!B190","v":"Tuvalu"}]
[{"$nulls":9},{"$f":"Lists!B191","v":"Uganda"},{"$nulls":10},{"$f":"Lists!B191","v":"Uganda"}]
[{"$nulls":9},{"$f":"Lists!B192","v":"Ukraine"},{"$nulls":10},{"$f":"Lists!B192","v":"Ukraine"}]
[{"$nulls":9},{"$f":"Lists!B193","v":"United Arab Emirates"},{"$nulls":10},{"$f":"Lists!B193","v":"United Arab Emirates"}]
[{"$nulls":9},{"$f":"Lists!B194","v":"United Kingdom of Great Britain and Northern Ireland"},{"$nulls":10},{"$f":"Lists!B194","v":"United Kingdom of Great Britain and Northern Ireland"}]
[{"$nulls":9},{"$f":"Lists!B195","v":"United Republic of Tanzania"},{"$nulls":10},{"$f":"Lists!B195","v":"United Republic of Tanzania"}]
[{"$nulls":9},{"$f":"Lists!#REF!","v":{"$error":"#REF!"}},{"$nulls":10},{"$f":"Lists!#REF!","v":{"$error":"#REF!"}}]
[{"$nulls":9},{"$f":"Lists!#REF!","v":{"$error":"#REF!"}},{"$nulls":10},{"$f":"Lists!#REF!","v":{"$error":"#REF!"}}]
[{"$nulls":9},{"$f":"Lists!B196","v":"Uruguay"},{"$nulls":10},{"$f":"Lists!B196","v":"Uruguay"}]
[{"$nulls":9},{"$f":"Lists!B197","v":"Uzbekistan"},{"$nulls":10},{"$f":"Lists!B197","v":"Uzbekistan"}]
[{"$nulls":9},{"$f":"Lists!B198","v":"Vanuatu"},{"$nulls":10},{"$f":"Lists!B198","v":"Vanuatu"}]
[{"$nulls":9},{"$f":"Lists!B199","v":"Venezuela (Bolivarian Republic of)"},{"$nulls":10},{"$f":"Lists!B199","v":"Venezuela (Bolivarian Republic of)"}]

{"sheet":"Summary","index":3,"n_rows":18,"n_cols":5,"rows_kept":18,"merged":[[8,3,8,4],[9,3,10,3],[9,4,10,4]]}
[]
[{"$nulls":3},"U.S. Environmental Protection Agency"]
[{"$nulls":3},"Request for Additional Class II Consumption Allowances"]
[]
[{"$nulls":3},"Company Name:",{"$f":"IF('Section 1'!D9=0,\"\",'Section 1'!D9)","v":""}]
[{"$nulls":3},"Reporting Period:",{"$f":"IF('Section 1'!D11=0,\"\",'Section 1'!D11)","v":""}]
[]
[{"$nulls":3},"Summary"]
[{"$nulls":3},"The values in the table below are calculated based on data entered in Section 2.  If the totals appear to be incorrect, please return to Section 2 to review your data."]
[{"$nulls":3},"Chemical Name","Total Consumption Allowances Requested (kg)"]
[]
[1,null,null,{"$f":"IFERROR(VLOOKUP(A12, 'Section 2'!$B$17:$N$216, 13, FALSE), \"\")","v":""},{"$f":"IF(D12=\"\", \"\", SUMIF('Section 2'!$N$17:$N$216,D12, 'Section 2'!$O$17:$O$216))","v":""}]
[2,null,null,{"$f":"IFERROR(VLOOKUP(A13, 'Section 2'!$B$17:$N$216, 13, FALSE), \"\")","v":""},{"$f":"IF(D13=\"\", \"\", SUMIF('Section 2'!$N$17:$N$216,D13, 'Section 2'!$O$17:$O$216))","v":""}]
[3,null,null,{"$f":"IFERROR(VLOOKUP(A14, 'Section 2'!$B$17:$N$216, 13, FALSE), \"\")","v":""},{"$f":"IF(D14=\"\", \"\", SUMIF('Section 2'!$N$17:$N$216,D14, 'Section 2'!$O$17:$O$216))","v":""}]
[4,null,null,{"$f":"IFERROR(VLOOKUP(A15, 'Section 2'!$B$17:$N$216, 13, FALSE), \"\")","v":""},{"$f":"IF(D15=\"\", \"\", SUMIF('Section 2'!$N$17:$N$216,D15, 'Section 2'!$O$17:$O$216))","v":""}]
[5,null,null,{"$f":"IFERROR(VLOOKUP(A16, 'Section 2'!$B$17:$N$216, 13, FALSE), \"\")","v":""},{"$f":"IF(D16=\"\", \"\", SUMIF('Section 2'!$N$17:$N$216,D16, 'Section 2'!$O$17:$O$216))","v":""}]
[6,null,null,{"$f":"IFERROR(VLOOKUP(A17, 'Section 2'!$B$17:$N$216, 13, FALSE), \"\")","v":""},{"$f":"IF(D17=\"\", \"\", SUMIF('Section 2'!$N$17:$N$216,D17, 'Section 2'!$O$17:$O$216))","v":""}]
[7,null,null,{"$f":"IFERROR(VLOOKUP(A18, 'Section 2'!$B$17:$N$216, 13, FALSE), \"\")","v":""},{"$f":"IF(D18=\"\", \"\", SUMIF('Section 2'!$N$17:$N$216,D18, 'Section 2'!$O$17:$O$216))","v":""}]

{"sheet":"Reference List","index":4,"n_rows":78,"n_cols":9,"rows_kept":78,"merged":[[5,2,5,8],[6,2,6,4],[6,6,6,8],[8,2,8,4],[8,6,8,8],[12,2,15,4],[17,2,17,4],[18,3,18,4],[19,3,19,4],[20,3,20,4],[21,3,21,4],[22,3,22,4],[23,3,23,4],[24,3,24,4],[25,3,25,4],[26,3,27,4],[51,8,52,8],[64,8,65,8],[71,7,72,7]]}
[]
[null,null,"U.S. Environmental Protection Agency"]
[null,null,"Request for Additional Class II Consumption Allowances"]
[null,null,"Reference List"]
[]
[null,null,"Copying and Pasting Data: If data is pasted into this reporting form from another spreadsheet, the formatting of specific cells must be consistent with the requirements of the form in order to be accepted into EPA’s ODS tracking system. When copying and pasting data into the form, please ensure consistency with the formatting of the lists provided below."]
[null,null,"Chemical Name List: The table below lists the valid chemical names that may be used when entering data into Section 2 of this form. ",{"$nulls":3},"Country List: The table below lists the valid country names that may be used when entering data into Section 2 of this form. "]
[]
[null,null,"Class II Chemicals with Allowances",{"$nulls":3},"Source Country "]
[null,null,"HCFC-22 ","HCFC-123 ","HCFC-124",null,"Afghanistan","Greece","Papua New Guinea"]
[null,null,"HCFC-142b ","HCFC-225ca","HCFC-225cb ",null,"Albania","Grenada","Paraguay"]
[{"$nulls":6},"Algeria","Guatemala","Peru"]
[null,null,"Commodity Code List: The table below lists the commonly used class II commodity codes that may be used when entering data into Section 2 of this form.  A complete list of commodity codes can be found in the Official Harmonized Tariff Schedule.",{"$nulls":3},"Andorra","Guinea","Philippines"]
[{"$nulls":6},"Angola","Guinea-Bissau","Poland"]
[{"$nulls":6},"Antigua and Barbuda","Guyana","Portugal"]
[{"$nulls":6},"Argentina","Haiti","Qatar"]
[{"$nulls":6},"Armenia","Holy See","Republic of Moldova"]
[null,null,"Class II Commodity Codes/Description",{"$nulls":3},"Australia","Honduras","Romania"]
[null,null,"2903.71.0000","Chlorodifluoromethane (HCFC-22)",null,null,"Austria","Hong Kong","Russian Federation"]
[null,null,"2903.72.0020","Dichlorotrifluoroethane (HCFC-123)",null,null,"Azerbaijan","Hungary","Rwanda"]
[null,null,"2903.72.0050","Other Dichlorotrifluoroethanes (HCFC-123a, HCFC-123b)",null,null,"Bahamas","Iceland","Saint Kitts and Nevis"]
[null,null,"2903.73.0000","Dichlorofluoroethanes (HCFC-141b)",null,null,"Bahrain","India","Saint Lucia"]
[null,null,"2903.74.0000","Chlorodifluoroethanes (HCFC-142b)",null,null,"Bangladesh","Indonesia","Saint Vincent and the Grenadines"]
[null,null,"2903.75.0000","Dichloropentafluoropropanes (HCFC-225ca, HCFC-225cb)",null,null,"Barbados","Iran (Islamic Republic of)","Samoa"]
[null,null,"2903.79.9030","Monochlorotetrafluoroethane (HCFC-124)",null,null,"Belarus","Iraq","San Marino"]
[null,null,"2903.79.9070","Other HCFCs",null,null,"Belgium","Ireland","Sao Tome and Principe"]
[null,null,"3824.74.0000","Mixtures containing hydrochlorofluorocarbons (HCFCs) but not containing chlorofluorocarbons (CFCs)",null,null,"Belize","Israel","Saudi Arabia"]
[{"$nulls":6},"Benin","Italy","Senegal"]
[{"$nulls":6},"Bermuda","Jamaica","Serbia"]
[{"$nulls":6},"Bhutan","Japan","Seychelles"]
[{"$nulls":6},"Bolivia (Plurinational State of)","Jordan","Sierra Leone"]
[{"$nulls":6},"Bosnia and Herzegovina","Kazakhstan","Singapore"]
[{"$nulls":6},"Botswana","Kenya","Slovakia"]
[{"$nulls":6},"Brazil","Kiribati","Slovenia"]
[{"$nulls":6},"Brunei Darussalam","Kuwait","Solomon Islands"]
[{"$nulls":6},"British Virgin Islands","Kyrgyzstan","Somalia (Federal Republic of)"]
[{"$nulls":6},"Bulgaria","Lao People's Democratic Republic","South Africa"]
[{"$nulls":6},"Burkina Faso","Latvia","South Korea (Republic of Korea)"]
[{"$nulls":6},"Burundi","Lebanon","South Sudan"]
[{"$nulls":6},"Cambodia","Lesotho","Spain"]
[{"$nulls":6},"Cameroon","Liberia","Sri Lanka"]
[{"$nulls":6},"Canada","Libya","Sudan"]
[{"$nulls":6},"Cape Verde","Liechtenstein","Suriname"]
[{"$nulls":6},"Central African Republic","Lithuania","Swaziland"]
[{"$nulls":6},"Chad","Luxembourg","Sweden"]
[{"$nulls":6},"Chile","Madagascar","Switzerland"]
[{"$nulls":6},"China","Malawi","Syrian Arab Republic"]
[{"$nulls":6},"Colombia","Malaysia","Tahiti"]
[{"$nulls":6},"Comoros","Maldives","Taiwan"]
[{"$nulls":6},"Congo","Mali","Tajikistan"]
[{"$nulls":6},"Cook Islands","Malta","Thailand"]
[{"$nulls":6},"Costa Rica","Marshall Islands","The Former Yugoslav Republic of Macedonia"]
[{"$nulls":6},"Côte d'Ivoire","Mauritania"]
[{"$nulls":6},"Croatia","Mauritius","Timor-Leste"]
[{"$nulls":6},"Cuba","Mexico","Togo"]
[{"$nulls":6},"Cyprus","Micronesia (Federated States of)","Tonga"]
[{"$nulls":6},"Czech Republic","Monaco","Trinidad and Tobago"]
[{"$nulls":6},"Democratic Republic of the Congo","Mongolia","Tunisia"]
[{"$nulls":6},"Denmark","Montenegro","Turkey"]
[{"$nulls":6},"Djibouti","Morocco","Turkmenistan"]
[{"$nulls":6},"Dominica","Mozambique","Tuvalu"]
[{"$nulls":6},"Dominican Republic","Myanmar","Uganda"]
[{"$nulls":6},"Ecuador","Namibia","Ukraine"]
[{"$nulls":6},"Egypt","Nauru","United Arab Emirates"]
[{"$nulls":6},"El Salvador","Nepal","United Kingdom of Great Britain and Northern Ireland"]
[{"$nulls":6},"Equatorial Guinea","Netherlands"]
[{"$nulls":6},"Eritrea","New Zealand","United Republic of Tanzania"]
[{"$nulls":6},"Estonia","Nicaragua","Uruguay"]
[{"$nulls":6},"Ethiopia","Niger","Uzbekistan"]
[{"$nulls":6},"European Union","Nigeria","Vanuatu"]
[{"$nulls":6},"Fiji","Niue","Venezuela (Bolivarian Republic of)"]
[{"$nulls":6},"Finland","North Korea (Democratic People's Republic of Korea)","Viet Nam"]
[{"$nulls":6},"France",null,"Yemen"]
[{"$nulls":6},"Gabon","Norway","Zambia"]
[{"$nulls":6},"Gambia","Oman","Zimbabwe"]
[{"$nulls":6},"Georgia","Pakistan"]
[{"$nulls":6},"Germany","Palau"]
[{"$nulls":6},"Ghana","Panama"]

{"sheet":"Checks","index":5,"n_rows":19,"n_cols":5,"rows_kept":19,"hidden":true}
[]
[null,"Section","Check Description","Status (1 = Incomplete, 0 = Complete)","Check Type"]
[null,"Section 1","All",{"$f":"IF(SUM('Section 1'!F9:F12)>0,1,0)","v":1},"Error"]
[null,"Section 2","Row Complete?",{"$f":"IF(SUM('Section 2'!AB17:AB216)>0,1,0)","v":0},"Stopper"]
[null,"Section 2","Valid Country",{"$f":"IF(SUM('Section 2'!AC17:AC216)>0,1,0)","v":0},"Stopper"]
[null,"Section 2","Valid Chemical",{"$f":"IF(SUM('Section 2'!AD17:AD216)>0, 1, 0)","v":0},"Stopper"]
[null,"Section 2","Produce/ Import",{"$f":"IF(SUM('Section 2'!AE17:AE216)>0, 1, 0)","v":0},"Stopper"]
[null,"Section 2","Source Country",{"$f":"IF(SUM('Section 2'!AH17:AH216)>0, 1, 0)","v":0},"Stopper"]
[null,"Section 2","Date Purchased",{"$f":"IF(SUM('Section 2'!AG17:AG216)>0, 1, 0)","v":0},"Stopper"]
[null,"Section 2","Date of Export",{"$f":"IF(SUM('Section 2'!AI17:AI216)>0, 1, 0)","v":0},"Stopper"]
[null,"Section 2","Filled Out?",{"$f":"IF(SUM('Section 2'!E17:E216)>0,0,1)","v":1},"Stopper"]
[null,"Section 2","Error Check",{"$f":"IF(SUM(D4:D11)>0,1,0)","v":1},"Error"]
[null,"All","Error Check",{"$f":"IF(SUM(Sec1Status,Sec2Error)>0,1,0)","v":1},"Error"]
[]
[]
[]
[null,"Numerical Checks against Output for CSV"]
[null,"Section 2","Total Quantity of Chemical Exported",{"$f":"SUMIF('Section 2'!$AA$17:$AA$216,\"Y\",'Section 2'!$O$17:$O$216)-SUM(OutputForCSV!$M$2:$M$201)","v":{"v":0,"d":"0.00"}}]
[null,"ALL","TOTAL CHECK",{"$f":"SUM(D18:D18)","v":{"v":0,"d":"0.00"}}]

{"sheet":"Lists","index":6,"n_rows":203,"n_cols":13,"rows_kept":203,"hidden":true,"merged":[[0,11,0,12]]}
[{"$nulls":11},"FOR REFERENCE ONLY"]
[null,"Country List","Commodity Code","Submission Type","Reporting Year","Year Range","Class II Chemicals w/ Allowances","ODP","Date for CSV Title","Form Name for CSV Title",null,"Form Type","Form Code"]
[null,"Afghanistan","2903.71.0000","Original Submission",2018,{"$f":"IF(ReportYr=Lists!$E$3,DATE(Lists!$E$3,1,1),IF(ReportYr=Lists!$E$4,DATE(Lists!$E$4,1,1),IF(ReportYr=Lists!$E$5,DATE(Lists!$E$5,1,1),0)))","v":"00:00:00"},"HCFC-22",0.055,{"$f":"MONTH('Section 1'!D5)&\"-\"&DAY('Section 1'!D5)&\"-\"&YEAR('Section 1'!D5)","v":"5-22-2018"},"Class II RACA",null,"Class I Producer","PROD1"]
[null,"Albania","2903.72.0020","Re-Submittal",2019,{"$f":"IF(ReportYr=Lists!$E$3,DATE(Lists!$E$3,12,31),IF(ReportYr=Lists!$E$4,DATE(Lists!$E$4,12,31),IF(ReportYr=Lists!$E$5,DATE(Lists!$E$5,12,31),0)))","v":"00:00:00"},"HCFC-123",0.02,{"$nulls":3},"MeBr Producer","PROD3"]
[null,"Algeria","2903.73.0000",null,2020,null,"HCFC-124",0.022,{"$nulls":3},"Class II Producer","PROD2"]
[null,"Andorra","2903.74.0000",{"$nulls":3},"HCFC-142b",0.065,{"$nulls":3},"Class I Importer","IMPT1"]
[null,"Angola","2903.75.0000",{"$nulls":3},"HCFC-225ca",0.025,{"$nulls":3},"MeBr Importer","IMPT3"]
[null,"Antigua and Barbuda","2903.79.9030",{"$nulls":3},"HCFC-225cb",0.033,{"$nulls":3},"Class II Importer","IMPT2"]
[null,"Argentina","3824.74.0000",{"$nulls":8},"Class I Exporter","EXPT1"]
[null,"Armenia",{"$nulls":9},"MeBr Exporter","EXPT3"]
[null,"Australia",{"$nulls":9},"Class II Exporter","EXPT2"]
[null,"Austria",{"$nulls":9},"Class I Lab Supplier","LABS1"]
[null,"Azerbaijan",{"$nulls":9},"Class I Destruction","DEST1"]
[null,"Bahamas",{"$nulls":9},"MeBr Destruction","DEST3"]
[null,"Bahrain",{"$nulls":9},"Class II Destruction","DEST2"]
[null,"Bangladesh",{"$nulls":9},"Class I Transformation","TRAN1"]
[null,"Barbados",{"$nulls":9},"MeBr Transformation","TRAN3"]
[null,"Belarus",{"$nulls":9},"Class II Transformation","TRAN2"]
[null,"Belgium",{"$nulls":9},"MeBr Trades","TRAD3"]
[null,"Belize",{"$nulls":9},"Class II Trades","TRAD2"]
[null,"Benin",{"$nulls":9},"Class II RACA","RACA2"]
[null,"Bermuda",{"$nulls":9},"MeBr Distributor of QPS","MBQPS"]
[null,"Bhutan",{"$nulls":9},"MeBr Pre-2005 Stocks","MB05S"]
[null,"Bolivia (Plurinational State of)",{"$nulls":9},"MeBr Sales of CU","MBCUE"]
[null,"Bosnia and Herzegovina",{"$nulls":9},"Petitions","PETIT"]
[null,"Botswana"]
[null,"Brazil"]
[null,"Brunei Darussalam"]
[null,"British Virgin Islands"]
[null,"Bulgaria"]
[null,"Burkina Faso"]
[null,"Burundi"]
[null,"Cambodia"]
[null,"Cameroon"]
[null,"Canada"]
[null,"Cape Verde"]
[null,"Central African Republic"]
[null,"Chad"]
[null,"Chile"]
[null,"China"]
[null,"Colombia"]
[null,"Comoros"]
[null,"Congo"]
[null,"Cook Islands"]
[null,"Costa Rica"]
[null,"Côte d'Ivoire"]
[null,"Croatia"]
[null,"Cuba"]
[null,"Cyprus"]
[null,"Czech Republic"]
[null,"Democratic Republic of the Congo"]
[null,"Denmark"]
[null,"Djibouti"]
[null,"Dominica"]
[null,"Dominican Republic"]
[null,"Ecuador"]
[null,"Egypt"]
[null,"El Salvador"]
[null,"Equatorial Guinea"]
[null,"Eritrea"]
[null,"Estonia"]
[null,"Ethiopia"]
[null,"European Union"]
[null,"Fiji"]
[null,"Finland"]
[null,"France"]
[null,"Gabon"]
[null,"Gambia"]
[null,"Georgia"]
[null,"Germany"]
[null,"Ghana"]
[null,"Greece"]
[null,"Grenada"]
[null,"Guatemala"]
[null,"Guinea"]
[null,"Guinea-Bissau"]
[null,"Guyana"]
[null,"Haiti"]
[null,"Holy See"]
[null,"Honduras"]
[null,"Hong Kong"]
[null,"Hungary"]
[null,"Iceland"]
[null,"India"]
[null,"Indonesia"]
[null,"Iran (Islamic Republic of)"]
[null,"Iraq"]
[null,"Ireland"]
[null,"Israel"]
[null,"Italy"]
[null,"Jamaica"]
[null,"Japan"]
[null,"Jordan"]
[null,"Kazakhstan"]
[null,"Kenya"]
[null,"Kiribati"]
[null,"Kuwait"]
[null,"Kyrgyzstan"]
[null,"Lao People's Democratic Republic"]
[null,"Latvia"]
[null,"Lebanon"]
[null,"Lesotho"]
[null,"Liberia"]
[null,"Libya"]
[null,"Liechtenstein"]
[null,"Lithuania"]
[null,"Luxembourg"]
[null,"Madagascar"]
[null,"Malawi"]
[null,"Malaysia"]
[null,"Maldives"]
[null,"Mali"]
[null,"Malta"]
[null,"Marshall Islands"]
[null,"Mauritania"]
[null,"Mauritius"]
[null,"Mexico"]
[null,"Micronesia (Federated States of)"]
[null,"Monaco"]
[null,"Mongolia"]
[null,"Montenegro"]
[null,"Morocco"]
[null,"Mozambique"]
[null,"Myanmar"]
[null,"Namibia"]
[null,"Nauru"]
[null,"Nepal"]
[null,"Netherlands"]
[null,"New Zealand"]
[null,"Nicaragua"]
[null,"Niger"]
[null,"Nigeria"]
[null,"Niue"]
[null,"North Korea (Democratic People's Republic of Korea)"]
[null,"Norway"]
[null,"Oman"]
[null,"Pakistan"]
[null,"Palau"]
[null,"Panama"]
[null,"Papua New Guinea"]
[null,"Paraguay"]
[null,"Peru"]
[null,"Philippines"]
[null,"Poland"]
[null,"Portugal"]
[null,"Qatar"]
[null,"Republic of Moldova"]
[null,"Romania"]
[null,"Russian Federation"]
[null,"Rwanda"]
[null,"Saint Kitts and Nevis"]
[null,"Saint Lucia"]
[null,"Saint Vincent and the Grenadines"]
[null,"Samoa"]
[null,"San Marino"]
[null,"Sao Tome and Principe"]
[null,"Saudi Arabia"]
[null,"Senegal"]
[null,"Serbia"]
[null,"Seychelles"]
[null,"Sierra Leone"]
[null,"Singapore"]
[null,"Slovakia"]
[null,"Slovenia"]
[null,"Solomon Islands"]
[null,"Somalia (Federal Republic of)"]
[null,"South Africa"]
[null,"South Korea (Republic of Korea)"]
[null,"South Sudan"]
[null,"Spain"]
[null,"Sri Lanka"]
[null,"Sudan"]
[null,"Suriname"]
[null,"Swaziland"]
[null,"Sweden"]
[null,"Switzerland"]
[null,"Syrian Arab Republic"]
[null,"Tahiti"]
[null,"Taiwan"]
[null,"Tajikistan"]
[null,"Thailand"]
[null,"The Former Yugoslav Republic of Macedonia"]
[null,"Timor-Leste"]
[null,"Togo"]
[null,"Tonga"]
[null,"Trinidad and Tobago"]
[null,"Tunisia"]
[null,"Turkey"]
[null,"Turkmenistan"]
[null,"Tuvalu"]
[null,"Uganda"]
[null,"Ukraine"]
[null,"United Arab Emirates"]
[null,"United Kingdom of Great Britain and Northern Ireland"]
[null,"United Republic of Tanzania"]
[null,"Uruguay"]
[null,"Uzbekistan"]
[null,"Vanuatu"]
[null,"Venezuela (Bolivarian Republic of)"]
[null,"Viet Nam"]
[null,"Yemen"]
[null,"Zambia"]
[null,"Zimbabwe"]

{"sheet":"OutputForCSV","index":7,"n_rows":202,"n_cols":22,"rows_kept":202,"hidden":true}
["Entry",1,"RACA2",1,{"$f":"'Section 1'!D5","v":"2018-05-22"},{"$f":"'Section 1'!D9","v":0},{"$f":"'Section 1'!D10","v":0},{"$f":"'Section 1'!D11","v":0},"N/A",{"$f":"'Section 1'!D12","v":0},{"$nulls":11},"LastColumn"]
[1,{"$f":"IF(C2=\"\",\"\",2)","v":""},{"$f":"IFERROR(VLOOKUP($A2,'Section 2'!$E$17:$V$216,COLUMNS('Section 2'!$E$13:E$14),0),\"\")","v":""},{"$f":"IF($C2=\"\",\"\",IF(ISBLANK(VLOOKUP($A2,'Section 2'!$E$17:$V$216,COLUMNS('Section 2'!$E$13:F$14),0)),\"\",VLOOKUP($A2,'Section 2'!$E$17:$V$216,COLUMNS('Section 2'!$E$13:F$14),0)))","v":""},{"$f":"IF($C2=\"\",\"\",IF(ISBLANK(VLOOKUP($A2,'Section 2'!$E$17:$V$216,COLUMNS('Section 2'!$E$13:G$14),0)),\"\",VLOOKUP($A2,'Section 2'!$E$17:$V$216,COLUMNS('Section 2'!$E$13:G$14),0)))","v":""},{"$f":"IF($C2=\"\",\"\",IF(ISBLANK(VLOOKUP($A2,'Section 2'!$E$17:$V$216,COLUMNS('Section 2'!$E$13:H$14),0)),\"\",VLOOKUP($A2,'Section 2'!$E$17:$V$216,COLUMNS('Section 2'!$E$13:H$14),0)))","v":""},{"$f":"IF($C2=\"\",\"\",IF(ISBLANK(VLOOKUP($A2,'Section 2'!$E$17:$V$216,COLUMNS('Section 2'!$E$13:I$14),0)),\"\",VLOOKUP($A2,'Section 2'!$E$17:$V$216,COLUMNS('Section 2'!$E$13:I$14),0)))","v":""},{"$f":"IF($C2=\"\",\"\",IF(ISBLANK(VLOOKUP($A2,'Section 2'!$E$17:$V$216,COLUMNS('Section 2'!$E$13:J$14),0)),\"\",VLOOKUP($A2,'Section 2'!$E$17:$V$216,COLUMNS('Section 2'!$E$13:J$14),0)))","v":""},{"$f":"IF($C2=\"\",\"\",IF(ISBLANK(VLOOKUP($A2,'Section 2'!$E$17:$V$216,COLUMNS('Section 2'!$E$13:K$14),0)),\"\",VLOOKUP($A2,'Section 2'!$E$17:$V$216,COLUMNS('Section 2'!$E$13:K$14),0)))","v":""},{"$f":"IF($C2=\"\",\"\",IF(ISBLANK(VLOOKUP($A2,'Section 2'!$E$17:$V$216,COLUMNS('Section 2'!$E$13:L$14),0)),\"\",VLOOKUP($A2,'Section 2'!$E$17:$V$216,COLUMNS('Section 2'!$E$13:L$14),0)))","v":""},{"$f":"IF($C2=\"\",\"\",IF(ISBLANK(VLOOKUP($A2,'Section 2'!$E$17:$V$216,COLUMNS('Section 2'!$E$13:M$14),0)),\"\",VLOOKUP($A2,'Section 2'!$E$17:$V$216,COLUMNS('Section 2'!$E$13:M$14),0)))","v":""},{"$f":"IF($C2=\"\",\"\",IF(ISBLANK(VLOOKUP($A2,'Section 2'!$E$17:$V$216,COLUMNS('Section 2'!$E$13:N$14),0)),\"\",VLOOKUP($A2,'Section 2'!$E$17:$V$216,COLUMNS('Section 2'!$E$13:N$14),0)))","v":""},{"$f":"IF($C2=\"\",\"\",IF(ISBLANK(VLOOKUP($A2,'Section 2'!$E$17:$V$216,COLUMNS('Section 2'!$E$13:O$14),0)),\"\",VLOOKUP($A2,'Section 2'!$E$17:$V$216,COLUMNS('Section 2'!$E$13:O$14),0)))","v":""},{"$f":"IF($C2=\"\",\"\",IF(ISBLANK(VLOOKUP($A2,'Section 2'!$E$17:$V$216,COLUMNS('Section 2'!$E$13:P$14),0)),\"\",VLOOKUP($A2,'Section 2'!$E$17:$V$216,COLUMNS('Section 2'!$E$13:P$14),0)))","v":""},{"$f":"IF($C2=\"\",\"\",IF(ISBLANK(VLOOKUP($A2,'Section 2'!$E$17:$V$216,COLUMNS('Section 2'!$E$13:Q$14),0)),\"\",VLOOKUP($A2,'Section 2'!$E$17:$V$216,COLUMNS('Section 2'!$E$13:Q$14),0)))","v":""},{"$f":"IF($C2=\"\",\"\",IF(ISBLANK(VLOOKUP($A2,'Section 2'!$E$17:$V$216,COLUMNS('Section 2'!$E$13:R$14),0)),\"\",VLOOKUP($A2,'Section 2'!$E$17:$V$216,COLUMNS('Section 2'!$E$13:R$14),0)))","v":""},{"$f":"IF($C2=\"\",\"\",IF(ISBLANK(VLOOKUP($A2,'Section 2'!$E$17:$V$216,COLUMNS('Section 2'!$E$13:S$14),0)),\"\",VLOOKUP($A2,'Section 2'!$E$17:$V$216,COLUMNS('Section 2'!$E$13:S$14),0)))","v":""},{"$f":"IF($C2=\"\",\"\",IF(ISBLANK(VLOOKUP($A2,'Section 2'!$E$17:$V$216,COLUMNS('Section 2'!$E$13:T$14),0)),\"\",VLOOKUP($A2,'Section 2'!$E$17:$V$216,COLUMNS('Section 2'!$E$13:T$14),0)))","v":""},{"$f":"IF($C2=\"\",\"\",IF(ISBLANK(VLOOKUP($A2,'Section 2'!$E$17:$V$216,COLUMNS('Section 2'!$E$13:U$14),0)),\"\",VLOOKUP($A2,'Section 2'!$E$17:$V$216,COLUMNS('Section 2'!$E$13:U$14),0)))","v":""},{"$f":"IF($C2=\"\",\"\",IF(ISBLANK(VLOOKUP($A2,'Section 2'!$E$17:$V$216,COLUMNS('Section 2'!$E$13:V$14),0)),\"\",VLOOKUP($A2,'Section 2'!$E$17:$V$216,COLUMNS('Section 2'!$E$13:V$14),0)))","v":""}]
[2,{"$f":"IF(C3=\"\",\"\",2)","v":""},{"$f":"IFERROR(VLOOKUP($A3,'Section 2'!$E$17:$V$216,COLUMNS('Section 2'!$E$13:E$14),0),\"\")","v":""},{"$f":"IF($C3=\"\",\"\",IF(ISBLANK(VLOOKUP($A3,'Section 2'!$E$17:$V$216,COLUMNS('Section 2'!$E$13:F$14),0)),\"\",VLOOKUP($A3,'Section 2'!$E$17:$V$216,COLUMNS('Section 2'!$E$13:F$14),0)))","v":""},{"$f":"IF($C3=\"\",\"\",IF(ISBLANK(VLOOKUP($A3,'Section 2'!$E$17:$V$216,COLUMNS('Section 2'!$E$13:G$14),0)),\"\",VLOOKUP($A3,'Section 2'!$E$17:$V$216,COLUMNS('Section 2'!$E$13:G$14),0)))","v":""},{"$f":"IF($C3=\"\",\"\",IF(ISBLANK(VLOOKUP($A3,'Section 2'!$E$17:$V$216,COLUMNS('Section 2'!$E$13:H$14),0)),\"\",VLOOKUP($A3,'Section 2'!$E$17:$V$216,COLUMNS('Section 2'!$E$13:H$14),0)))","v":""},{"$f":"IF($C3=\"\",\"\",IF(ISBLANK(VLOOKUP($A3,'Section 2'!$E$17:$V$216,COLUMNS('Section 2'!$E$13:I$14),0)),\"\",VLOOKUP($A3,'Section 2'!$E$17:$V$216,COLUMNS('Section 2'!$E$13:I$14),0)))","v":""},{"$f":"IF($C3=\"\",\"\",IF(ISBLANK(VLOOKUP($A3,'Section 2'!$E$17:$V$216,COLUMNS('Section 2'!$E$13:J$14),0)),\"\",VLOOKUP($A3,'Section 2'!$E$17:$V$216,COLUMNS('Section 2'!$E$13:J$14),0)))","v":""},{"$f":"IF($C3=\"\",\"\",IF(ISBLANK(VLOOKUP($A3,'Section 2'!$E$17:$V$216,COLUMNS('Section 2'!$E$13:K$14),0)),\"\",VLOOKUP($A3,'Section 2'!$E$17:$V$216,COLUMNS('Section 2'!$E$13:K$14),0)))","v":""},{"$f":"IF($C3=\"\",\"\",IF(ISBLANK(VLOOKUP($A3,'Section 2'!$E$17:$V$216,COLUMNS('Section 2'!$E$13:L$14),0)),\"\",VLOOKUP($A3,'Section 2'!$E$17:$V$216,COLUMNS('Section 2'!$E$13:L$14),0)))","v":""},{"$f":"IF($C3=\"\",\"\",IF(ISBLANK(VLOOKUP($A3,'Section 2'!$E$17:$V$216,COLUMNS('Section 2'!$E$13:M$14),0)),\"\",VLOOKUP($A3,'Section 2'!$E$17:$V$216,COLUMNS('Section 2'!$E$13:M$14),0)))","v":""},{"$f":"IF($C3=\"\",\"\",IF(ISBLANK(VLOOKUP($A3,'Section 2'!$E$17:$V$216,COLUMNS('Section 2'!$E$13:N$14),0)),\"\",VLOOKUP($A3,'Section 2'!$E$17:$V$216,COLUMNS('Section 2'!$E$13:N$14),0)))","v":""},{"$f":"IF($C3=\"\",\"\",IF(ISBLANK(VLOOKUP($A3,'Section 2'!$E$17:$V$216,COLUMNS('Section 2'!$E$13:O$14),0)),\"\",VLOOKUP($A3,'Section 2'!$E$17:$V$216,COLUMNS('Section 2'!$E$13:O$14),0)))","v":""},{"$f":"IF($C3=\"\",\"\",IF(ISBLANK(VLOOKUP($A3,'Section 2'!$E$17:$V$216,COLUMNS('Section 2'!$E$13:P$14),0)),\"\",VLOOKUP($A3,'Section 2'!$E$17:$V$216,COLUMNS('Section 2'!$E$13:P$14),0)))","v":""},{"$f":"IF($C3=\"\",\"\",IF(ISBLANK(VLOOKUP($A3,'Section 2'!$E$17:$V$216,COLUMNS('Section 2'!$E$13:Q$14),0)),\"\",VLOOKUP($A3,'Section 2'!$E$17:$V$216,COLUMNS('Section 2'!$E$13:Q$14),0)))","v":""},{"$f":"IF($C3=\"\",\"\",IF(ISBLANK(VLOOKUP($A3,'Section 2'!$E$17:$V$216,COLUMNS('Section 2'!$E$13:R$14),0)),\"\",VLOOKUP($A3,'Section 2'!$E$17:$V$216,COLUMNS('Section 2'!$E$13:R$14),0)))","v":""},{"$f":"IF($C3=\"\",\"\",IF(ISBLANK(VLOOKUP($A3,'Section 2'!$E$17:$V$216,COLUMNS('Section 2'!$E$13:S$14),0)),\"\",VLOOKUP($A3,'Section 2'!$E$17:$V$216,COLUMNS('Section 2'!$E$13:S$14),0)))","v":""},{"$f":"IF($C3=\"\",\"\",IF(ISBLANK(VLOOKUP($A3,'Section 2'!$E$17:$V$216,COLUMNS('Section 2'!$E$13:T$14),0)),\"\",VLOOKUP($A3,'Section 2'!$E$17:$V$216,COLUMNS('Section 2'!$E$13:T$14),0)))","v":""},{"$f":"IF($C3=\"\",\"\",IF(ISBLANK(VLOOKUP($A3,'Section 2'!$E$17:$V$216,COLUMNS('Section 2'!$E$13:U$14),0)),\"\",VLOOKUP($A3,'Section 2'!$E$17:$V$216,COLUMNS('Section 2'!$E$13:U$14),0)))","v":""},{"$f":"IF($C3=\"\",\"\",IF(ISBLANK(VLOOKUP($A3,'Section 2'!$E$17:$V$216,COLUMNS('Section 2'!$E$13:V$14),0)),\"\",VLOOKUP($A3,'Section 2'!$E$17:$V$216,COLUMNS('Section 2'!$E$13:V$14),0)))","v":""}]
[3,"",{"$f":"IFERROR(VLOOKUP($A4,'Section 2'!$E$17:$V$216,COLUMNS('Section 2'!$E$13:E$14),0),\"\")","v":""},{"$f":"IF($C4=\"\",\"\",IF(ISBLANK(VLOOKUP($A4,'Section 2'!$E$17:$V$216,COLUMNS('Section 2'!$E$13:F$14),0)),\"\",VLOOKUP($A4,'Section 2'!$E$17:$V$216,COLUMNS('Section 2'!$E$13:F$14),0)))","v":""},{"$f":"IF($C4=\"\",\"\",IF(ISBLANK(VLOOKUP($A4,'Section 2'!$E$17:$V$216,COLUMNS('Section 2'!$E$13:G$14),0)),\"\",VLOOKUP($A4,'Section 2'!$E$17:$V$216,COLUMNS('Section 2'!$E$13:G$14),0)))","v":""},{"$f":"IF($C4=\"\",\"\",IF(ISBLANK(VLOOKUP($A4,'Section 2'!$E$17:$V$216,COLUMNS('Section 2'!$E$13:H$14),0)),\"\",VLOOKUP($A4,'Section 2'!$E$17:$V$216,COLUMNS('Section 2'!$E$13:H$14),0)))","v":""},{"$f":"IF($C4=\"\",\"\",IF(ISBLANK(VLOOKUP($A4,'Section 2'!$E$17:$V$216,COLUMNS('Section 2'!$E$13:I$14),0)),\"\",VLOOKUP($A4,'Section 2'!$E$17:$V$216,COLUMNS('Section 2'!$E$13:I$14),0)))","v":""},{"$f":"IF($C4=\"\",\"\",IF(ISBLANK(VLOOKUP($A4,'Section 2'!$E$17:$V$216,COLUMNS('Section 2'!$E$13:J$14),0)),\"\",VLOOKUP($A4,'Section 2'!$E$17:$V$216,COLUMNS('Section 2'!$E$13:J$14),0)))","v":""},{"$f":"IF($C4=\"\",\"\",IF(ISBLANK(VLOOKUP($A4,'Section 2'!$E$17:$V$216,COLUMNS('Section 2'!$E$13:K$14),0)),\"\",VLOOKUP($A4,'Section 2'!$E$17:$V$216,COLUMNS('Section 2'!$E$13:K$14),0)))","v":""},{"$f":"IF($C4=\"\",\"\",IF(ISBLANK(VLOOKUP($A4,'Section 2'!$E$17:$V$216,COLUMNS('Section 2'!$E$13:L$14),0)),\"\",VLOOKUP($A4,'Section 2'!$E$17:$V$216,COLUMNS('Section 2'!$E$13:L$14),0)))","v":""},{"$f":"IF($C4=\"\",\"\",IF(ISBLANK(VLOOKUP($A4,'Section 2'!$E$17:$V$216,COLUMNS('Section 2'!$E$13:M$14),0)),\"\",VLOOKUP($A4,'Section 2'!$E$17:$V$216,COLUMNS('Section 2'!$E$13:M$14),0)))","v":""},{"$f":"IF($C4=\"\",\"\",IF(ISBLANK(VLOOKUP($A4,'Section 2'!$E$17:$V$216,COLUMNS('Section 2'!$E$13:N$14),0)),\"\",VLOOKUP($A4,'Section 2'!$E$17:$V$216,COLUMNS('Section 2'!$E$13:N$14),0)))","v":""},{"$f":"IF($C4=\"\",\"\",IF(ISBLANK(VLOOKUP($A4,'Section 2'!$E$17:$V$216,COLUMNS('Section 2'!$E$13:O$14),0)),\"\",VLOOKUP($A4,'Section 2'!$E$17:$V$216,COLUMNS('Section 2'!$E$13:O$14),0)))","v":""},{"$f":"IF($C4=\"\",\"\",IF(ISBLANK(VLOOKUP($A4,'Section 2'!$E$17:$V$216,COLUMNS('Section 2'!$E$13:P$14),0)),\"\",VLOOKUP($A4,'Section 2'!$E$17:$V$216,COLUMNS('Section 2'!$E$13:P$14),0)))","v":""},{"$f":"IF($C4=\"\",\"\",IF(ISBLANK(VLOOKUP($A4,'Section 2'!$E$17:$V$216,COLUMNS('Section 2'!$E$13:Q$14),0)),\"\",VLOOKUP($A4,'Section 2'!$E$17:$V$216,COLUMNS('Section 2'!$E$13:Q$14),0)))","v":""},{"$f":"IF($C4=\"\",\"\",IF(ISBLANK(VLOOKUP($A4,'Section 2'!$E$17:$V$216,COLUMNS('Section 2'!$E$13:R$14),0)),\"\",VLOOKUP($A4,'Section 2'!$E$17:$V$216,COLUMNS('Section 2'!$E$13:R$14),0)))","v":""},{"$f":"IF($C4=\"\",\"\",IF(ISBLANK(VLOOKUP($A4,'Section 2'!$E$17:$V$216,COLUMNS('Section 2'!$E$13:S$14),0)),\"\",VLOOKUP($A4,'Section 2'!$E$17:$V$216,COLUMNS('Section 2'!$E$13:S$14),0)))","v":""},{"$f":"IF($C4=\"\",\"\",IF(ISBLANK(VLOOKUP($A4,'Section 2'!$E$17:$V$216,COLUMNS('Section 2'!$E$13:T$14),0)),\"\",VLOOKUP($A4,'Section 2'!$E$17:$V$216,COLUMNS('Section 2'!$E$13:T$14),0)))","v":""},{"$f":"IF($C4=\"\",\"\",IF(ISBLANK(VLOOKUP($A4,'Section 2'!$E$17:$V$216,COLUMNS('Section 2'!$E$13:U$14),0)),\"\",VLOOKUP($A4,'Section 2'!$E$17:$V$216,COLUMNS('Section 2'!$E$13:U$14),0)))","v":""},{"$f":"IF($C4=\"\",\"\",IF(ISBLANK(VLOOKUP($A4,'Section 2'!$E$17:$V$216,COLUMNS('Section 2'!$E$13:V$14),0)),\"\",VLOOKUP($A4,'Section 2'!$E$17:$V$216,COLUMNS('Section 2'!$E$13:V$14),0)))","v":""}]
[4,"",{"$f":"IFERROR(VLOOKUP($A5,'Section 2'!$E$17:$V$216,COLUMNS('Section 2'!$E$13:E$14),0),\"\")","v":""},{"$f":"IF($C5=\"\",\"\",IF(ISBLANK(VLOOKUP($A5,'Section 2'!$E$17:$V$216,COLUMNS('Section 2'!$E$13:F$14),0)),\"\",VLOOKUP($A5,'Section 2'!$E$17:$V$216,COLUMNS('Section 2'!$E$13:F$14),0)))","v":""},{"$f":"IF($C5=\"\",\"\",IF(ISBLANK(VLOOKUP($A5,'Section 2'!$E$17:$V$216,COLUMNS('Section 2'!$E$13:G$14),0)),\"\",VLOOKUP($A5,'Section 2'!$E$17:$V$216,COLUMNS('Section 2'!$E$13:G$14),0)))","v":""},{"$f":"IF($C5=\"\",\"\",IF(ISBLANK(VLOOKUP($A5,'Section 2'!$E$17:$V$216,COLUMNS('Section 2'!$E$13:H$14),0)),\"\",VLOOKUP($A5,'Section 2'!$E$17:$V$216,COLUMNS('Section 2'!$E$13:H$14),0)))","v":""},{"$f":"IF($C5=\"\",\"\",IF(ISBLANK(VLOOKUP($A5,'Section 2'!$E$17:$V$216,COLUMNS('Section 2'!$E$13:I$14),0)),\"\",VLOOKUP($A5,'Section 2'!$E$17:$V$216,COLUMNS('Section 2'!$E$13:I$14),0)))","v":""},{"$f":"IF($C5=\"\",\"\",IF(ISBLANK(VLOOKUP($A5,'Section 2'!$E$17:$V$216,COLUMNS('Section 2'!$E$13:J$14),0)),\"\",VLOOKUP($A5,'Section 2'!$E$17:$V$216,COLUMNS('Section 2'!$E$13:J$14),0)))","v":""},{"$f":"IF($C5=\"\",\"\",IF(ISBLANK(VLOOKUP($A5,'Section 2'!$E$17:$V$216,COLUMNS('Section 2'!$E$13:K$14),0)),\"\",VLOOKUP($A5,'Section 2'!$E$17:$V$216,COLUMNS('Section 2'!$E$13:K$14),0)))","v":""},{"$f":"IF($C5=\"\",\"\",IF(ISBLANK(VLOOKUP($A5,'Section 2'!$E$17:$V$216,COLUMNS('Section 2'!$E$13:L$14),0)),\"\",VLOOKUP($A5,'Section 2'!$E$17:$V$216,COLUMNS('Section 2'!$E$13:L$14),0)))","v":""},{"$f":"IF($C5=\"\",\"\",IF(ISBLANK(VLOOKUP($A5,'Section 2'!$E$17:$V$216,COLUMNS('Section 2'!$E$13:M$14),0)),\"\",VLOOKUP($A5,'Section 2'!$E$17:$V$216,COLUMNS('Section 2'!$E$13:M$14),0)))","v":""},{"$f":"IF($C5=\"\",\"\",IF(ISBLANK(VLOOKUP($A5,'Section 2'!$E$17:$V$216,COLUMNS('Section 2'!$E$13:N$14),0)),\"\",VLOOKUP($A5,'Section 2'!$E$17:$V$216,COLUMNS('Section 2'!$E$13:N$14),0)))","v":""},{"$f":"IF($C5=\"\",\"\",IF(ISBLANK(VLOOKUP($A5,'Section 2'!$E$17:$V$216,COLUMNS('Section 2'!$E$13:O$14),0)),\"\",VLOOKUP($A5,'Section 2'!$E$17:$V$216,COLUMNS('Section 2'!$E$13:O$14),0)))","v":""},{"$f":"IF($C5=\"\",\"\",IF(ISBLANK(VLOOKUP($A5,'Section 2'!$E$17:$V$216,COLUMNS('Section 2'!$E$13:P$14),0)),\"\",VLOOKUP($A5,'Section 2'!$E$17:$V$216,COLUMNS('Section 2'!$E$13:P$14),0)))","v":""},{"$f":"IF($C5=\"\",\"\",IF(ISBLANK(VLOOKUP($A5,'Section 2'!$E$17:$V$216,COLUMNS('Section 2'!$E$13:Q$14),0)),\"\",VLOOKUP($A5,'Section 2'!$E$17:$V$216,COLUMNS('Section 2'!$E$13:Q$14),0)))","v":""},{"$f":"IF($C5=\"\",\"\",IF(ISBLANK(VLOOKUP($A5,'Section 2'!$E$17:$V$216,COLUMNS('Section 2'!$E$13:R$14),0)),\"\",VLOOKUP($A5,'Section 2'!$E$17:$V$216,COLUMNS('Section 2'!$E$13:R$14),0)))","v":""},{"$f":"IF($C5=\"\",\"\",IF(ISBLANK(VLOOKUP($A5,'Section 2'!$E$17:$V$216,COLUMNS('Section 2'!$E$13:S$14),0)),\"\",VLOOKUP($A5,'Section 2'!$E$17:$V$216,COLUMNS('Section 2'!$E$13:S$14),0)))","v":""},{"$f":"IF($C5=\"\",\"\",IF(ISBLANK(VLOOKUP($A5,'Section 2'!$E$17:$V$216,COLUMNS('Section 2'!$E$13:T$14),0)),\"\",VLOOKUP($A5,'Section 2'!$E$17:$V$216,COLUMNS('Section 2'!$E$13:T$14),0)))","v":""},{"$f":"IF($C5=\"\",\"\",IF(ISBLANK(VLOOKUP($A5,'Section 2'!$E$17:$V$216,COLUMNS('Section 2'!$E$13:U$14),0)),\"\",VLOOKUP($A5,'Section 2'!$E$17:$V$216,COLUMNS('Section 2'!$E$13:U$14),0)))","v":""},{"$f":"IF($C5=\"\",\"\",IF(ISBLANK(VLOOKUP($A5,'Section 2'!$E$17:$V$216,COLUMNS('Section 2'!$E$13:V$14),0)),\"\",VLOOKUP($A5,'Section 2'!$E$17:$V$216,COLUMNS('Section 2'!$E$13:V$14),0)))","v":""}]
[5,"",{"$f":"IFERROR(VLOOKUP($A6,'Section 2'!$E$17:$V$216,COLUMNS('Section 2'!$E$13:E$14),0),\"\")","v":""},{"$f":"IF($C6=\"\",\"\",IF(ISBLANK(VLOOKUP($A6,'Section 2'!$E$17:$V$216,COLUMNS('Section 2'!$E$13:F$14),0)),\"\",VLOOKUP($A6,'Section 2'!$E$17:$V$216,COLUMNS('Section 2'!$E$13:F$14),0)))","v":""},{"$f":"IF($C6=\"\",\"\",IF(ISBLANK(VLOOKUP($A6,'Section 2'!$E$17:$V$216,COLUMNS('Section 2'!$E$13:G$14),0)),\"\",VLOOKUP($A6,'Section 2'!$E$17:$V$216,COLUMNS('Section 2'!$E$13:G$14),0)))","v":""},{"$f":"IF($C6=\"\",\"\",IF(ISBLANK(VLOOKUP($A6,'Section 2'!$E$17:$V$216,COLUMNS('Section 2'!$E$13:H$14),0)),\"\",VLOOKUP($A6,'Section 2'!$E$17:$V$216,COLUMNS('Section 2'!$E$13:H$14),0)))","v":""},{"$f":"IF($C6=\"\",\"\",IF(ISBLANK(VLOOKUP($A6,'Section 2'!$E$17:$V$216,COLUMNS('Section 2'!$E$13:I$14),0)),\"\",VLOOKUP($A6,'Section 2'!$E$17:$V$216,COLUMNS('Section 2'!$E$13:I$14),0)))","v":""},{"$f":"IF($C6=\"\",\"\",IF(ISBLANK(VLOOKUP($A6,'Section 2'!$E$17:$V$216,COLUMNS('Section 2'!$E$13:J$14),0)),\"\",VLOOKUP($A6,'Section 2'!$E$17:$V$216,COLUMNS('Section 2'!$E$13:J$14),0)))","v":""},{"$f":"IF($C6=\"\",\"\",IF(ISBLANK(VLOOKUP($A6,'Section 2'!$E$17:$V$216,COLUMNS('Section 2'!$E$13:K$14),0)),\"\",VLOOKUP($A6,'Section 2'!$E$17:$V$216,COLUMNS('Section 2'!$E$13:K$14),0)))","v":""},{"$f":"IF($C6=\"\",\"\",IF(ISBLANK(VLOOKUP($A6,'Section 2'!$E$17:$V$216,COLUMNS('Section 2'!$E$13:L$14),0)),\"\",VLOOKUP($A6,'Section 2'!$E$17:$V$216,COLUMNS('Section 2'!$E$13:L$14),0)))","v":""},{"$f":"IF($C6=\"\",\"\",IF(ISBLANK(VLOOKUP($A6,'Section 2'!$E$17:$V$216,COLUMNS('Section 2'!$E$13:M$14),0)),\"\",VLOOKUP($A6,'Section 2'!$E$17:$V$216,COLUMNS('Section 2'!$E$13:M$14),0)))","v":""},{"$f":"IF($C6=\"\",\"\",IF(ISBLANK(VLOOKUP($A6,'Section 2'!$E$17:$V$216,COLUMNS('Section 2'!$E$13:N$14),0)),\"\",VLOOKUP($A6,'Section 2'!$E$17:$V$216,COLUMNS('Section 2'!$E$13:N$14),0)))","v":""},{"$f":"IF($C6=\"\",\"\",IF(ISBLANK(VLOOKUP($A6,'Section 2'!$E$17:$V$216,COLUMNS('Section 2'!$E$13:O$14),0)),\"\",VLOOKUP($A6,'Section 2'!$E$17:$V$216,COLUMNS('Section 2'!$E$13:O$14),0)))","v":""},{"$f":"IF($C6=\"\",\"\",IF(ISBLANK(VLOOKUP($A6,'Section 2'!$E$17:$V$216,COLUMNS('Section 2'!$E$13:P$14),0)),\"\",VLOOKUP($A6,'Section 2'!$E$17:$V$216,COLUMNS('Section 2'!$E$13:P$14),0)))","v":""},{"$f":"IF($C6=\"\",\"\",IF(ISBLANK(VLOOKUP($A6,'Section 2'!$E$17:$V$216,COLUMNS('Section 2'!$E$13:Q$14),0)),\"\",VLOOKUP($A6,'Section 2'!$E$17:$V$216,COLUMNS('Section 2'!$E$13:Q$14),0)))","v":""},{"$f":"IF($C6=\"\",\"\",IF(ISBLANK(VLOOKUP($A6,'Section 2'!$E$17:$V$216,COLUMNS('Section 2'!$E$13:R$14),0)),\"\",VLOOKUP($A6,'Section 2'!$E$17:$V$216,COLUMNS('Section 2'!$E$13:R$14),0)))","v":""},{"$f":"IF($C6=\"\",\"\",IF(ISBLANK(VLOOKUP($A6,'Section 2'!$E$17:$V$216,COLUMNS('Section 2'!$E$13:S$14),0)),\"\",VLOOKUP($A6,'Section 2'!$E$17:$V$216,COLUMNS('Section 2'!$E$13:S$14),0)))","v":""},{"$f":"IF($C6=\"\",\"\",IF(ISBLANK(VLOOKUP($A6,'Section 2'!$E$17:$V$216,COLUMNS('Section 2'!$E$13:T$14),0)),\"\",VLOOKUP($A6,'Section 2'!$E$17:$V$216,COLUMNS('Section 2'!$E$13:T$14),0)))","v":""},{"$f":"IF($C6=\"\",\"\",IF(ISBLANK(VLOOKUP($A6,'Section 2'!$E$17:$V$216,COLUMNS('Section 2'!$E$13:U$14),0)),\"\",VLOOKUP($A6,'Section 2'!$E$17:$V$216,COLUMNS('Section 2'!$E$13:U$14),0)))","v":""},{"$f":"IF($C6=\"\",\"\",IF(ISBLANK(VLOOKUP($A6,'Section 2'!$E$17:$V$216,COLUMNS('Section 2'!$E$13:V$14),0)),\"\",VLOOKUP($A6,'Section 2'!$E$17:$V$216,COLUMNS('Section 2'!$E$13:V$14),0)))","v":""}]
[6,"",{"$f":"IFERROR(VLOOKUP($A7,'Section 2'!$E$17:$V$216,COLUMNS('Section 2'!$E$13:E$14),0),\"\")","v":""},{"$f":"IF($C7=\"\",\"\",IF(ISBLANK(VLOOKUP($A7,'Section 2'!$E$17:$V$216,COLUMNS('Section 2'!$E$13:F$14),0)),\"\",VLOOKUP($A7,'Section 2'!$E$17:$V$216,COLUMNS('Section 2'!$E$13:F$14),0)))","v":""},{"$f":"IF($C7=\"\",\"\",IF(ISBLANK(VLOOKUP($A7,'Section 2'!$E$17:$V$216,COLUMNS('Section 2'!$E$13:G$14),0)),\"\",VLOOKUP($A7,'Section 2'!$E$17:$V$216,COLUMNS('Section 2'!$E$13:G$14),0)))","v":""},{"$f":"IF($C7=\"\",\"\",IF(ISBLANK(VLOOKUP($A7,'Section 2'!$E$17:$V$216,COLUMNS('Section 2'!$E$13:H$14),0)),\"\",VLOOKUP($A7,'Section 2'!$E$17:$V$216,COLUMNS('Section 2'!$E$13:H$14),0)))","v":""},{"$f":"IF($C7=\"\",\"\",IF(ISBLANK(VLOOKUP($A7,'Section 2'!$E$17:$V$216,COLUMNS('Section 2'!$E$13:I$14),0)),\"\",VLOOKUP($A7,'Section 2'!$E$17:$V$216,COLUMNS('Section 2'!$E$13:I$14),0)))","v":""},{"$f":"IF($C7=\"\",\"\",IF(ISBLANK(VLOOKUP($A7,'Section 2'!$E$17:$V$216,COLUMNS('Section 2'!$E$13:J$14),0)),\"\",VLOOKUP($A7,'Section 2'!$E$17:$V$216,COLUMNS('Section 2'!$E$13:J$14),0)))","v":""},{"$f":"IF($C7=\"\",\"\",IF(ISBLANK(VLOOKUP($A7,'Section 2'!$E$17:$V$216,COLUMNS('Section 2'!$E$13:K$14),0)),\"\",VLOOKUP($A7,'Section 2'!$E$17:$V$216,COLUMNS('Section 2'!$E$13:K$14),0)))","v":""},{"$f":"IF($C7=\"\",\"\",IF(ISBLANK(VLOOKUP($A7,'Section 2'!$E$17:$V$216,COLUMNS('Section 2'!$E$13:L$14),0)),\"\",VLOOKUP($A7,'Section 2'!$E$17:$V$216,COLUMNS('Section 2'!$E$13:L$14),0)))","v":""},{"$f":"IF($C7=\"\",\"\",IF(ISBLANK(VLOOKUP($A7,'Section 2'!$E$17:$V$216,COLUMNS('Section 2'!$E$13:M$14),0)),\"\",VLOOKUP($A7,'Section 2'!$E$17:$V$216,COLUMNS('Section 2'!$E$13:M$14),0)))","v":""},{"$f":"IF($C7=\"\",\"\",IF(ISBLANK(VLOOKUP($A7,'Section 2'!$E$17:$V$216,COLUMNS('Section 2'!$E$13:N$14),0)),\"\",VLOOKUP($A7,'Section 2'!$E$17:$V$216,COLUMNS('Section 2'!$E$13:N$14),0)))","v":""},{"$f":"IF($C7=\"\",\"\",IF(ISBLANK(VLOOKUP($A7,'Section 2'!$E$17:$V$216,COLUMNS('Section 2'!$E$13:O$14),0)),\"\",VLOOKUP($A7,'Section 2'!$E$17:$V$216,COLUMNS('Section 2'!$E$13:O$14),0)))","v":""},{"$f":"IF($C7=\"\",\"\",IF(ISBLANK(VLOOKUP($A7,'Section 2'!$E$17:$V$216,COLUMNS('Section 2'!$E$13:P$14),0)),\"\",VLOOKUP($A7,'Section 2'!$E$17:$V$216,COLUMNS('Section 2'!$E$13:P$14),0)))","v":""},{"$f":"IF($C7=\"\",\"\",IF(ISBLANK(VLOOKUP($A7,'Section 2'!$E$17:$V$216,COLUMNS('Section 2'!$E$13:Q$14),0)),\"\",VLOOKUP($A7,'Section 2'!$E$17:$V$216,COLUMNS('Section 2'!$E$13:Q$14),0)))","v":""},{"$f":"IF($C7=\"\",\"\",IF(ISBLANK(VLOOKUP($A7,'Section 2'!$E$17:$V$216,COLUMNS('Section 2'!$E$13:R$14),0)),\"\",VLOOKUP($A7,'Section 2'!$E$17:$V$216,COLUMNS('Section 2'!$E$13:R$14),0)))","v":""},{"$f":"IF($C7=\"\",\"\",IF(ISBLANK(VLOOKUP($A7,'Section 2'!$E$17:$V$216,COLUMNS('Section 2'!$E$13:S$14),0)),\"\",VLOOKUP($A7,'Section 2'!$E$17:$V$216,COLUMNS('Section 2'!$E$13:S$14),0)))","v":""},{"$f":"IF($C7=\"\",\"\",IF(ISBLANK(VLOOKUP($A7,'Section 2'!$E$17:$V$216,COLUMNS('Section 2'!$E$13:T$14),0)),\"\",VLOOKUP($A7,'Section 2'!$E$17:$V$216,COLUMNS('Section 2'!$E$13:T$14),0)))","v":""},{"$f":"IF($C7=\"\",\"\",IF(ISBLANK(VLOOKUP($A7,'Section 2'!$E$17:$V$216,COLUMNS('Section 2'!$E$13:U$14),0)),\"\",VLOOKUP($A7,'Section 2'!$E$17:$V$216,COLUMNS('Section 2'!$E$13:U$14),0)))","v":""},{"$f":"IF($C7=\"\",\"\",IF(ISBLANK(VLOOKUP($A7,'Section 2'!$E$17:$V$216,COLUMNS('Section 2'!$E$13:V$14),0)),\"\",VLOOKUP($A7,'Section 2'!$E$17:$V$216,COLUMNS('Section 2'!$E$13:V$14),0)))","v":""}]
[7,"",{"$f":"IFERROR(VLOOKUP($A8,'Section 2'!$E$17:$V$216,COLUMNS('Section 2'!$E$13:E$14),0),\"\")","v":""},{"$f":"IF($C8=\"\",\"\",IF(ISBLANK(VLOOKUP($A8,'Section 2'!$E$17:$V$216,COLUMNS('Section 2'!$E$13:F$14),0)),\"\",VLOOKUP($A8,'Section 2'!$E$17:$V$216,COLUMNS('Section 2'!$E$13:F$14),0)))","v":""},{"$f":"IF($C8=\"\",\"\",IF(ISBLANK(VLOOKUP($A8,'Section 2'!$E$17:$V$216,COLUMNS('Section 2'!$E$13:G$14),0)),\"\",VLOOKUP($A8,'Section 2'!$E$17:$V$216,COLUMNS('Section 2'!$E$13:G$14),0)))","v":""},{"$f":"IF($C8=\"\",\"\",IF(ISBLANK(VLOOKUP($A8,'Section 2'!$E$17:$V$216,COLUMNS('Section 2'!$E$13:H$14),0)),\"\",VLOOKUP($A8,'Section 2'!$E$17:$V$216,COLUMNS('Section 2'!$E$13:H$14),0)))","v":""},{"$f":"IF($C8=\"\",\"\",IF(ISBLANK(VLOOKUP($A8,'Section 2'!$E$17:$V$216,COLUMNS('Section 2'!$E$13:I$14),0)),\"\",VLOOKUP($A8,'Section 2'!$E$17:$V$216,COLUMNS('Section 2'!$E$13:I$14),0)))","v":""},{"$f":"IF($C8=\"\",\"\",IF(ISBLANK(VLOOKUP($A8,'Section 2'!$E$17:$V$216,COLUMNS('Section 2'!$E$13:J$14),0)),\"\",VLOOKUP($A8,'Section 2'!$E$17:$V$216,COLUMNS('Section 2'!$E$13:J$14),0)))","v":""},{"$f":"IF($C8=\"\",\"\",IF(ISBLANK(VLOOKUP($A8,'Section 2'!$E$17:$V$216,COLUMNS('Section 2'!$E$13:K$14),0)),\"\",VLOOKUP($A8,'Section 2'!$E$17:$V$216,COLUMNS('Section 2'!$E$13:K$14),0)))","v":""},{"$f":"IF($C8=\"\",\"\",IF(ISBLANK(VLOOKUP($A8,'Section 2'!$E$17:$V$216,COLUMNS('Section 2'!$E$13:L$14),0)),\"\",VLOOKUP($A8,'Section 2'!$E$17:$V$216,COLUMNS('Section 2'!$E$13:L$14),0)))","v":""},{"$f":"IF($C8=\"\",\"\",IF(ISBLANK(VLOOKUP($A8,'Section 2'!$E$17:$V$216,COLUMNS('Section 2'!$E$13:M$14),0)),\"\",VLOOKUP($A8,'Section 2'!$E$17:$V$216,COLUMNS('Section 2'!$E$13:M$14),0)))","v":""},{"$f":"IF($C8=\"\",\"\",IF(ISBLANK(VLOOKUP($A8,'Section 2'!$E$17:$V$216,COLUMNS('Section 2'!$E$13:N$14),0)),\"\",VLOOKUP($A8,'Section 2'!$E$17:$V$216,COLUMNS('Section 2'!$E$13:N$14),0)))","v":""},{"$f":"IF($C8=\"\",\"\",IF(ISBLANK(VLOOKUP($A8,'Section 2'!$E$17:$V$216,COLUMNS('Section 2'!$E$13:O$14),0)),\"\",VLOOKUP($A8,'Section 2'!$E$17:$V$216,COLUMNS('Section 2'!$E$13:O$14),0)))","v":""},{"$f":"IF($C8=\"\",\"\",IF(ISBLANK(VLOOKUP($A8,'Section 2'!$E$17:$V$216,COLUMNS('Section 2'!$E$13:P$14),0)),\"\",VLOOKUP($A8,'Section 2'!$E$17:$V$216,COLUMNS('Section 2'!$E$13:P$14),0)))","v":""},{"$f":"IF($C8=\"\",\"\",IF(ISBLANK(VLOOKUP($A8,'Section 2'!$E$17:$V$216,COLUMNS('Section 2'!$E$13:Q$14),0)),\"\",VLOOKUP($A8,'Section 2'!$E$17:$V$216,COLUMNS('Section 2'!$E$13:Q$14),0)))","v":""},{"$f":"IF($C8=\"\",\"\",IF(ISBLANK(VLOOKUP($A8,'Section 2'!$E$17:$V$216,COLUMNS('Section 2'!$E$13:R$14),0)),\"\",VLOOKUP($A8,'Section 2'!$E$17:$V$216,COLUMNS('Section 2'!$E$13:R$14),0)))","v":""},{"$f":"IF($C8=\"\",\"\",IF(ISBLANK(VLOOKUP($A8,'Section 2'!$E$17:$V$216,COLUMNS('Section 2'!$E$13:S$14),0)),\"\",VLOOKUP($A8,'Section 2'!$E$17:$V$216,COLUMNS('Section 2'!$E$13:S$14),0)))","v":""},{"$f":"IF($C8=\"\",\"\",IF(ISBLANK(VLOOKUP($A8,'Section 2'!$E$17:$V$216,COLUMNS('Section 2'!$E$13:T$14),0)),\"\",VLOOKUP($A8,'Section 2'!$E$17:$V$216,COLUMNS('Section 2'!$E$13:T$14),0)))","v":""},{"$f":"IF($C8=\"\",\"\",IF(ISBLANK(VLOOKUP($A8,'Section 2'!$E$17:$V$216,COLUMNS('Section 2'!$E$13:U$14),0)),\"\",VLOOKUP($A8,'Section 2'!$E$17:$V$216,COLUMNS('Section 2'!$E$13:U$14),0)))","v":""},{"$f":"IF($C8=\"\",\"\",IF(ISBLANK(VLOOKUP($A8,'Section 2'!$E$17:$V$216,COLUMNS('Section 2'!$E$13:V$14),0)),\"\",VLOOKUP($A8,'Section 2'!$E$17:$V$216,COLUMNS('Section 2'!$E$13:V$14),0)))","v":""}]
[8,"",{"$f":"IFERROR(VLOOKUP($A9,'Section 2'!$E$17:$V$216,COLUMNS('Section 2'!$E$13:E$14),0),\"\")","v":""},{"$f":"IF($C9=\"\",\"\",IF(ISBLANK(VLOOKUP($A9,'Section 2'!$E$17:$V$216,COLUMNS('Section 2'!$E$13:F$14),0)),\"\",VLOOKUP($A9,'Section 2'!$E$17:$V$216,COLUMNS('Section 2'!$E$13:F$14),0)))","v":""},{"$f":"IF($C9=\"\",\"\",IF(ISBLANK(VLOOKUP($A9,'Section 2'!$E$17:$V$216,COLUMNS('Section 2'!$E$13:G$14),0)),\"\",VLOOKUP($A9,'Section 2'!$E$17:$V$216,COLUMNS('Section 2'!$E$13:G$14),0)))","v":""},{"$f":"IF($C9=\"\",\"\",IF(ISBLANK(VLOOKUP($A9,'Section 2'!$E$17:$V$216,COLUMNS('Section 2'!$E$13:H$14),0)),\"\",VLOOKUP($A9,'Section 2'!$E$17:$V$216,COLUMNS('Section 2'!$E$13:H$14),0)))","v":""},{"$f":"IF($C9=\"\",\"\",IF(ISBLANK(VLOOKUP($A9,'Section 2'!$E$17:$V$216,COLUMNS('Section 2'!$E$13:I$14),0)),\"\",VLOOKUP($A9,'Section 2'!$E$17:$V$216,COLUMNS('Section 2'!$E$13:I$14),0)))","v":""},{"$f":"IF($C9=\"\",\"\",IF(ISBLANK(VLOOKUP($A9,'Section 2'!$E$17:$V$216,COLUMNS('Section 2'!$E$13:J$14),0)),\"\",VLOOKUP($A9,'Section 2'!$E$17:$V$216,COLUMNS('Section 2'!$E$13:J$14),0)))","v":""},{"$f":"IF($C9=\"\",\"\",IF(ISBLANK(VLOOKUP($A9,'Section 2'!$E$17:$V$216,COLUMNS('Section 2'!$E$13:K$14),0)),\"\",VLOOKUP($A9,'Section 2'!$E$17:$V$216,COLUMNS('Section 2'!$E$13:K$14),0)))","v":""},{"$f":"IF($C9=\"\",\"\",IF(ISBLANK(VLOOKUP($A9,'Section 2'!$E$17:$V$216,COLUMNS('Section 2'!$E$13:L$14),0)),\"\",VLOOKUP($A9,'Section 2'!$E$17:$V$216,COLUMNS('Section 2'!$E$13:L$14),0)))","v":""},{"$f":"IF($C9=\"\",\"\",IF(ISBLANK(VLOOKUP($A9,'Section 2'!$E$17:$V$216,COLUMNS('Section 2'!$E$13:M$14),0)),\"\",VLOOKUP($A9,'Section 2'!$E$17:$V$216,COLUMNS('Section 2'!$E$13:M$14),0)))","v":""},{"$f":"IF($C9=\"\",\"\",IF(ISBLANK(VLOOKUP($A9,'Section 2'!$E$17:$V$216,COLUMNS('Section 2'!$E$13:N$14),0)),\"\",VLOOKUP($A9,'Section 2'!$E$17:$V$216,COLUMNS('Section 2'!$E$13:N$14),0)))","v":""},{"$f":"IF($C9=\"\",\"\",IF(ISBLANK(VLOOKUP($A9,'Section 2'!$E$17:$V$216,COLUMNS('Section 2'!$E$13:O$14),0)),\"\",VLOOKUP($A9,'Section 2'!$E$17:$V$216,COLUMNS('Section 2'!$E$13:O$14),0)))","v":""},{"$f":"IF($C9=\"\",\"\",IF(ISBLANK(VLOOKUP($A9,'Section 2'!$E$17:$V$216,COLUMNS('Section 2'!$E$13:P$14),0)),\"\",VLOOKUP($A9,'Section 2'!$E$17:$V$216,COLUMNS('Section 2'!$E$13:P$14),0)))","v":""},{"$f":"IF($C9=\"\",\"\",IF(ISBLANK(VLOOKUP($A9,'Section 2'!$E$17:$V$216,COLUMNS('Section 2'!$E$13:Q$14),0)),\"\",VLOOKUP($A9,'Section 2'!$E$17:$V$216,COLUMNS('Section 2'!$E$13:Q$14),0)))","v":""},{"$f":"IF($C9=\"\",\"\",IF(ISBLANK(VLOOKUP($A9,'Section 2'!$E$17:$V$216,COLUMNS('Section 2'!$E$13:R$14),0)),\"\",VLOOKUP($A9,'Section 2'!$E$17:$V$216,COLUMNS('Section 2'!$E$13:R$14),0)))","v":""},{"$f":"IF($C9=\"\",\"\",IF(ISBLANK(VLOOKUP($A9,'Section 2'!$E$17:$V$216,COLUMNS('Section 2'!$E$13:S$14),0)),\"\",VLOOKUP($A9,'Section 2'!$E$17:$V$216,COLUMNS('Section 2'!$E$13:S$14),0)))","v":""},{"$f":"IF($C9=\"\",\"\",IF(ISBLANK(VLOOKUP($A9,'Section 2'!$E$17:$V$216,COLUMNS('Section 2'!$E$13:T$14),0)),\"\",VLOOKUP($A9,'Section 2'!$E$17:$V$216,COLUMNS('Section 2'!$E$13:T$14),0)))","v":""},{"$f":"IF($C9=\"\",\"\",IF(ISBLANK(VLOOKUP($A9,'Section 2'!$E$17:$V$216,COLUMNS('Section 2'!$E$13:U$14),0)),\"\",VLOOKUP($A9,'Section 2'!$E$17:$V$216,COLUMNS('Section 2'!$E$13:U$14),0)))","v":""},{"$f":"IF($C9=\"\",\"\",IF(ISBLANK(VLOOKUP($A9,'Section 2'!$E$17:$V$216,COLUMNS('Section 2'!$E$13:V$14),0)),\"\",VLOOKUP($A9,'Section 2'!$E$17:$V$216,COLUMNS('Section 2'!$E$13:V$14),0)))","v":""}]
[9,"",{"$f":"IFERROR(VLOOKUP($A10,'Section 2'!$E$17:$V$216,COLUMNS('Section 2'!$E$13:E$14),0),\"\")","v":""},{"$f":"IF($C10=\"\",\"\",IF(ISBLANK(VLOOKUP($A10,'Section 2'!$E$17:$V$216,COLUMNS('Section 2'!$E$13:F$14),0)),\"\",VLOOKUP($A10,'Section 2'!$E$17:$V$216,COLUMNS('Section 2'!$E$13:F$14),0)))","v":""},{"$f":"IF($C10=\"\",\"\",IF(ISBLANK(VLOOKUP($A10,'Section 2'!$E$17:$V$216,COLUMNS('Section 2'!$E$13:G$14),0)),\"\",VLOOKUP($A10,'Section 2'!$E$17:$V$216,COLUMNS('Section 2'!$E$13:G$14),0)))","v":""},{"$f":"IF($C10=\"\",\"\",IF(ISBLANK(VLOOKUP($A10,'Section 2'!$E$17:$V$216,COLUMNS('Section 2'!$E$13:H$14),0)),\"\",VLOOKUP($A10,'Section 2'!$E$17:$V$216,COLUMNS('Section 2'!$E$13:H$14),0)))","v":""},{"$f":"IF($C10=\"\",\"\",IF(ISBLANK(VLOOKUP($A10,'Section 2'!$E$17:$V$216,COLUMNS('Section 2'!$E$13:I$14),0)),\"\",VLOOKUP($A10,'Section 2'!$E$17:$V$216,COLUMNS('Section 2'!$E$13:I$14),0)))","v":""},{"$f":"IF($C10=\"\",\"\",IF(ISBLANK(VLOOKUP($A10,'Section 2'!$E$17:$V$216,COLUMNS('Section 2'!$E$13:J$14),0)),\"\",VLOOKUP($A10,'Section 2'!$E$17:$V$216,COLUMNS('Section 2'!$E$13:J$14),0)))","v":""},{"$f":"IF($C10=\"\",\"\",IF(ISBLANK(VLOOKUP($A10,'Section 2'!$E$17:$V$216,COLUMNS('Section 2'!$E$13:K$14),0)),\"\",VLOOKUP($A10,'Section 2'!$E$17:$V$216,COLUMNS('Section 2'!$E$13:K$14),0)))","v":""},{"$f":"IF($C10=\"\",\"\",IF(ISBLANK(VLOOKUP($A10,'Section 2'!$E$17:$V$216,COLUMNS('Section 2'!$E$13:L$14),0)),\"\",VLOOKUP($A10,'Section 2'!$E$17:$V$216,COLUMNS('Section 2'!$E$13:L$14),0)))","v":""},{"$f":"IF($C10=\"\",\"\",IF(ISBLANK(VLOOKUP($A10,'Section 2'!$E$17:$V$216,COLUMNS('Section 2'!$E$13:M$14),0)),\"\",VLOOKUP($A10,'Section 2'!$E$17:$V$216,COLUMNS('Section 2'!$E$13:M$14),0)))","v":""},{"$f":"IF($C10=\"\",\"\",IF(ISBLANK(VLOOKUP($A10,'Section 2'!$E$17:$V$216,COLUMNS('Section 2'!$E$13:N$14),0)),\"\",VLOOKUP($A10,'Section 2'!$E$17:$V$216,COLUMNS('Section 2'!$E$13:N$14),0)))","v":""},{"$f":"IF($C10=\"\",\"\",IF(ISBLANK(VLOOKUP($A10,'Section 2'!$E$17:$V$216,COLUMNS('Section 2'!$E$13:O$14),0)),\"\",VLOOKUP($A10,'Section 2'!$E$17:$V$216,COLUMNS('Section 2'!$E$13:O$14),0)))","v":""},{"$f":"IF($C10=\"\",\"\",IF(ISBLANK(VLOOKUP($A10,'Section 2'!$E$17:$V$216,COLUMNS('Section 2'!$E$13:P$14),0)),\"\",VLOOKUP($A10,'Section 2'!$E$17:$V$216,COLUMNS('Section 2'!$E$13:P$14),0)))","v":""},{"$f":"IF($C10=\"\",\"\",IF(ISBLANK(VLOOKUP($A10,'Section 2'!$E$17:$V$216,COLUMNS('Section 2'!$E$13:Q$14),0)),\"\",VLOOKUP($A10,'Section 2'!$E$17:$V$216,COLUMNS('Section 2'!$E$13:Q$14),0)))","v":""},{"$f":"IF($C10=\"\",\"\",IF(ISBLANK(VLOOKUP($A10,'Section 2'!$E$17:$V$216,COLUMNS('Section 2'!$E$13:R$14),0)),\"\",VLOOKUP($A10,'Section 2'!$E$17:$V$216,COLUMNS('Section 2'!$E$13:R$14),0)))","v":""},{"$f":"IF($C10=\"\",\"\",IF(ISBLANK(VLOOKUP($A10,'Section 2'!$E$17:$V$216,COLUMNS('Section 2'!$E$13:S$14),0)),\"\",VLOOKUP($A10,'Section 2'!$E$17:$V$216,COLUMNS('Section 2'!$E$13:S$14),0)))","v":""},{"$f":"IF($C10=\"\",\"\",IF(ISBLANK(VLOOKUP($A10,'Section 2'!$E$17:$V$216,COLUMNS('Section 2'!$E$13:T$14),0)),\"\",VLOOKUP($A10,'Section 2'!$E$17:$V$216,COLUMNS('Section 2'!$E$13:T$14),0)))","v":""},{"$f":"IF($C10=\"\",\"\",IF(ISBLANK(VLOOKUP($A10,'Section 2'!$E$17:$V$216,COLUMNS('Section 2'!$E$13:U$14),0)),\"\",VLOOKUP($A10,'Section 2'!$E$17:$V$216,COLUMNS('Section 2'!$E$13:U$14),0)))","v":""},{"$f":"IF($C10=\"\",\"\",IF(ISBLANK(VLOOKUP($A10,'Section 2'!$E$17:$V$216,COLUMNS('Section 2'!$E$13:V$14),0)),\"\",VLOOKUP($A10,'Section 2'!$E$17:$V$216,COLUMNS('Section 2'!$E$13:V$14),0)))","v":""}]
[10,"",{"$f":"IFERROR(VLOOKUP($A11,'Section 2'!$E$17:$V$216,COLUMNS('Section 2'!$E$13:E$14),0),\"\")","v":""},{"$f":"IF($C11=\"\",\"\",IF(ISBLANK(VLOOKUP($A11,'Section 2'!$E$17:$V$216,COLUMNS('Section 2'!$E$13:F$14),0)),\"\",VLOOKUP($A11,'Section 2'!$E$17:$V$216,COLUMNS('Section 2'!$E$13:F$14),0)))","v":""},{"$f":"IF($C11=\"\",\"\",IF(ISBLANK(VLOOKUP($A11,'Section 2'!$E$17:$V$216,COLUMNS('Section 2'!$E$13:G$14),0)),\"\",VLOOKUP($A11,'Section 2'!$E$17:$V$216,COLUMNS('Section 2'!$E$13:G$14),0)))","v":""},{"$f":"IF($C11=\"\",\"\",IF(ISBLANK(VLOOKUP($A11,'Section 2'!$E$17:$V$216,COLUMNS('Section 2'!$E$13:H$14),0)),\"\",VLOOKUP($A11,'Section 2'!$E$17:$V$216,COLUMNS('Section 2'!$E$13:H$14),0)))","v":""},{"$f":"IF($C11=\"\",\"\",IF(ISBLANK(VLOOKUP($A11,'Section 2'!$E$17:$V$216,COLUMNS('Section 2'!$E$13:I$14),0)),\"\",VLOOKUP($A11,'Section 2'!$E$17:$V$216,COLUMNS('Section 2'!$E$13:I$14),0)))","v":""},{"$f":"IF($C11=\"\",\"\",IF(ISBLANK(VLOOKUP($A11,'Section 2'!$E$17:$V$216,COLUMNS('Section 2'!$E$13:J$14),0)),\"\",VLOOKUP($A11,'Section 2'!$E$17:$V$216,COLUMNS('Section 2'!$E$13:J$14),0)))","v":""},{"$f":"IF($C11=\"\",\"\",IF(ISBLANK(VLOOKUP($A11,'Section 2'!$E$17:$V$216,COLUMNS('Section 2'!$E$13:K$14),0)),\"\",VLOOKUP($A11,'Section 2'!$E$17:$V$216,COLUMNS('Section 2'!$E$13:K$14),0)))","v":""},{"$f":"IF($C11=\"\",\"\",IF(ISBLANK(VLOOKUP($A11,'Section 2'!$E$17:$V$216,COLUMNS('Section 2'!$E$13:L$14),0)),\"\",VLOOKUP($A11,'Section 2'!$E$17:$V$216,COLUMNS('Section 2'!$E$13:L$14),0)))","v":""},{"$f":"IF($C11=\"\",\"\",IF(ISBLANK(VLOOKUP($A11,'Section 2'!$E$17:$V$216,COLUMNS('Section 2'!$E$13:M$14),0)),\"\",VLOOKUP($A11,'Section 2'!$E$17:$V$216,COLUMNS('Section 2'!$E$13:M$14),0)))","v":""},{"$f":"IF($C11=\"\",\"\",IF(ISBLANK(VLOOKUP($A11,'Section 2'!$E$17:$V$216,COLUMNS('Section 2'!$E$13:N$14),0)),\"\",VLOOKUP($A11,'Section 2'!$E$17:$V$216,COLUMNS('Section 2'!$E$13:N$14),0)))","v":""},{"$f":"IF($C11=\"\",\"\",IF(ISBLANK(VLOOKUP($A11,'Section 2'!$E$17:$V$216,COLUMNS('Section 2'!$E$13:O$14),0)),\"\",VLOOKUP($A11,'Section 2'!$E$17:$V$216,COLUMNS('Section 2'!$E$13:O$14),0)))","v":""},{"$f":"IF($C11=\"\",\"\",IF(ISBLANK(VLOOKUP($A11,'Section 2'!$E$17:$V$216,COLUMNS('Section 2'!$E$13:P$14),0)),\"\",VLOOKUP($A11,'Section 2'!$E$17:$V$216,COLUMNS('Section 2'!$E$13:P$14),0)))","v":""},{"$f":"IF($C11=\"\",\"\",IF(ISBLANK(VLOOKUP($A11,'Section 2'!$E$17:$V$216,COLUMNS('Section 2'!$E$13:Q$14),0)),\"\",VLOOKUP($A11,'Section 2'!$E$17:$V$216,COLUMNS('Section 2'!$E$13:Q$14),0)))","v":""},{"$f":"IF($C11=\"\",\"\",IF(ISBLANK(VLOOKUP($A11,'Section 2'!$E$17:$V$216,COLUMNS('Section 2'!$E$13:R$14),0)),\"\",VLOOKUP($A11,'Section 2'!$E$17:$V$216,COLUMNS('Section 2'!$E$13:R$14),0)))","v":""},{"$f":"IF($C11=\"\",\"\",IF(ISBLANK(VLOOKUP($A11,'Section 2'!$E$17:$V$216,COLUMNS('Section 2'!$E$13:S$14),0)),\"\",VLOOKUP($A11,'Section 2'!$E$17:$V$216,COLUMNS('Section 2'!$E$13:S$14),0)))","v":""},{"$f":"IF($C11=\"\",\"\",IF(ISBLANK(VLOOKUP($A11,'Section 2'!$E$17:$V$216,COLUMNS('Section 2'!$E$13:T$14),0)),\"\",VLOOKUP($A11,'Section 2'!$E$17:$V$216,COLUMNS('Section 2'!$E$13:T$14),0)))","v":""},{"$f":"IF($C11=\"\",\"\",IF(ISBLANK(VLOOKUP($A11,'Section 2'!$E$17:$V$216,COLUMNS('Section 2'!$E$13:U$14),0)),\"\",VLOOKUP($A11,'Section 2'!$E$17:$V$216,COLUMNS('Section 2'!$E$13:U$14),0)))","v":""},{"$f":"IF($C11=\"\",\"\",IF(ISBLANK(VLOOKUP($A11,'Section 2'!$E$17:$V$216,COLUMNS('Section 2'!$E$13:V$14),0)),\"\",VLOOKUP($A11,'Section 2'!$E$17:$V$216,COLUMNS('Section 2'!$E$13:V$14),0)))","v":""}]
[11,"",{"$f":"IFERROR(VLOOKUP($A12,'Section 2'!$E$17:$V$216,COLUMNS('Section 2'!$E$13:E$14),0),\"\")","v":""},{"$f":"IF($C12=\"\",\"\",IF(ISBLANK(VLOOKUP($A12,'Section 2'!$E$17:$V$216,COLUMNS('Section 2'!$E$13:F$14),0)),\"\",VLOOKUP($A12,'Section 2'!$E$17:$V$216,COLUMNS('Section 2'!$E$13:F$14),0)))","v":""},{"$f":"IF($C12=\"\",\"\",IF(ISBLANK(VLOOKUP($A12,'Section 2'!$E$17:$V$216,COLUMNS('Section 2'!$E$13:G$14),0)),\"\",VLOOKUP($A12,'Section 2'!$E$17:$V$216,COLUMNS('Section 2'!$E$13:G$14),0)))","v":""},{"$f":"IF($C12=\"\",\"\",IF(ISBLANK(VLOOKUP($A12,'Section 2'!$E$17:$V$216,COLUMNS('Section 2'!$E$13:H$14),0)),\"\",VLOOKUP($A12,'Section 2'!$E$17:$V$216,COLUMNS('Section 2'!$E$13:H$14),0)))","v":""},{"$f":"IF($C12=\"\",\"\",IF(ISBLANK(VLOOKUP($A12,'Section 2'!$E$17:$V$216,COLUMNS('Section 2'!$E$13:I$14),0)),\"\",VLOOKUP($A12,'Section 2'!$E$17:$V$216,COLUMNS('Section 2'!$E$13:I$14),0)))","v":""},{"$f":"IF($C12=\"\",\"\",IF(ISBLANK(VLOOKUP($A12,'Section 2'!$E$17:$V$216,COLUMNS('Section 2'!$E$13:J$14),0)),\"\",VLOOKUP($A12,'Section 2'!$E$17:$V$216,COLUMNS('Section 2'!$E$13:J$14),0)))","v":""},{"$f":"IF($C12=\"\",\"\",IF(ISBLANK(VLOOKUP($A12,'Section 2'!$E$17:$V$216,COLUMNS('Section 2'!$E$13:K$14),0)),\"\",VLOOKUP($A12,'Section 2'!$E$17:$V$216,COLUMNS('Section 2'!$E$13:K$14),0)))","v":""},{"$f":"IF($C12=\"\",\"\",IF(ISBLANK(VLOOKUP($A12,'Section 2'!$E$17:$V$216,COLUMNS('Section 2'!$E$13:L$14),0)),\"\",VLOOKUP($A12,'Section 2'!$E$17:$V$216,COLUMNS('Section 2'!$E$13:L$14),0)))","v":""},{"$f":"IF($C12=\"\",\"\",IF(ISBLANK(VLOOKUP($A12,'Section 2'!$E$17:$V$216,COLUMNS('Section 2'!$E$13:M$14),0)),\"\",VLOOKUP($A12,'Section 2'!$E$17:$V$216,COLUMNS('Section 2'!$E$13:M$14),0)))","v":""},{"$f":"IF($C12=\"\",\"\",IF(ISBLANK(VLOOKUP($A12,'Section 2'!$E$17:$V$216,COLUMNS('Section 2'!$E$13:N$14),0)),\"\",VLOOKUP($A12,'Section 2'!$E$17:$V$216,COLUMNS('Section 2'!$E$13:N$14),0)))","v":""},{"$f":"IF($C12=\"\",\"\",IF(ISBLANK(VLOOKUP($A12,'Section 2'!$E$17:$V$216,COLUMNS('Section 2'!$E$13:O$14),0)),\"\",VLOOKUP($A12,'Section 2'!$E$17:$V$216,COLUMNS('Section 2'!$E$13:O$14),0)))","v":""},{"$f":"IF($C12=\"\",\"\",IF(ISBLANK(VLOOKUP($A12,'Section 2'!$E$17:$V$216,COLUMNS('Section 2'!$E$13:P$14),0)),\"\",VLOOKUP($A12,'Section 2'!$E$17:$V$216,COLUMNS('Section 2'!$E$13:P$14),0)))","v":""},{"$f":"IF($C12=\"\",\"\",IF(ISBLANK(VLOOKUP($A12,'Section 2'!$E$17:$V$216,COLUMNS('Section 2'!$E$13:Q$14),0)),\"\",VLOOKUP($A12,'Section 2'!$E$17:$V$216,COLUMNS('Section 2'!$E$13:Q$14),0)))","v":""},{"$f":"IF($C12=\"\",\"\",IF(ISBLANK(VLOOKUP($A12,'Section 2'!$E$17:$V$216,COLUMNS('Section 2'!$E$13:R$14),0)),\"\",VLOOKUP($A12,'Section 2'!$E$17:$V$216,COLUMNS('Section 2'!$E$13:R$14),0)))","v":""},{"$f":"IF($C12=\"\",\"\",IF(ISBLANK(VLOOKUP($A12,'Section 2'!$E$17:$V$216,COLUMNS('Section 2'!$E$13:S$14),0)),\"\",VLOOKUP($A12,'Section 2'!$E$17:$V$216,COLUMNS('Section 2'!$E$13:S$14),0)))","v":""},{"$f":"IF($C12=\"\",\"\",IF(ISBLANK(VLOOKUP($A12,'Section 2'!$E$17:$V$216,COLUMNS('Section 2'!$E$13:T$14),0)),\"\",VLOOKUP($A12,'Section 2'!$E$17:$V$216,COLUMNS('Section 2'!$E$13:T$14),0)))","v":""},{"$f":"IF($C12=\"\",\"\",IF(ISBLANK(VLOOKUP($A12,'Section 2'!$E$17:$V$216,COLUMNS('Section 2'!$E$13:U$14),0)),\"\",VLOOKUP($A12,'Section 2'!$E$17:$V$216,COLUMNS('Section 2'!$E$13:U$14),0)))","v":""},{"$f":"IF($C12=\"\",\"\",IF(ISBLANK(VLOOKUP($A12,'Section 2'!$E$17:$V$216,COLUMNS('Section 2'!$E$13:V$14),0)),\"\",VLOOKUP($A12,'Section 2'!$E$17:$V$216,COLUMNS('Section 2'!$E$13:V$14),0)))","v":""}]
[12,"",{"$f":"IFERROR(VLOOKUP($A13,'Section 2'!$E$17:$V$216,COLUMNS('Section 2'!$E$13:E$14),0),\"\")","v":""},{"$f":"IF($C13=\"\",\"\",IF(ISBLANK(VLOOKUP($A13,'Section 2'!$E$17:$V$216,COLUMNS('Section 2'!$E$13:F$14),0)),\"\",VLOOKUP($A13,'Section 2'!$E$17:$V$216,COLUMNS('Section 2'!$E$13:F$14),0)))","v":""},{"$f":"IF($C13=\"\",\"\",IF(ISBLANK(VLOOKUP($A13,'Section 2'!$E$17:$V$216,COLUMNS('Section 2'!$E$13:G$14),0)),\"\",VLOOKUP($A13,'Section 2'!$E$17:$V$216,COLUMNS('Section 2'!$E$13:G$14),0)))","v":""},{"$f":"IF($C13=\"\",\"\",IF(ISBLANK(VLOOKUP($A13,'Section 2'!$E$17:$V$216,COLUMNS('Section 2'!$E$13:H$14),0)),\"\",VLOOKUP($A13,'Section 2'!$E$17:$V$216,COLUMNS('Section 2'!$E$13:H$14),0)))","v":""},{"$f":"IF($C13=\"\",\"\",IF(ISBLANK(VLOOKUP($A13,'Section 2'!$E$17:$V$216,COLUMNS('Section 2'!$E$13:I$14),0)),\"\",VLOOKUP($A13,'Section 2'!$E$17:$V$216,COLUMNS('Section 2'!$E$13:I$14),0)))","v":""},{"$f":"IF($C13=\"\",\"\",IF(ISBLANK(VLOOKUP($A13,'Section 2'!$E$17:$V$216,COLUMNS('Section 2'!$E$13:J$14),0)),\"\",VLOOKUP($A13,'Section 2'!$E$17:$V$216,COLUMNS('Section 2'!$E$13:J$14),0)))","v":""},{"$f":"IF($C13=\"\",\"\",IF(ISBLANK(VLOOKUP($A13,'Section 2'!$E$17:$V$216,COLUMNS('Section 2'!$E$13:K$14),0)),\"\",VLOOKUP($A13,'Section 2'!$E$17:$V$216,COLUMNS('Section 2'!$E$13:K$14),0)))","v":""},{"$f":"IF($C13=\"\",\"\",IF(ISBLANK(VLOOKUP($A13,'Section 2'!$E$17:$V$216,COLUMNS('Section 2'!$E$13:L$14),0)),\"\",VLOOKUP($A13,'Section 2'!$E$17:$V$216,COLUMNS('Section 2'!$E$13:L$14),0)))","v":""},{"$f":"IF($C13=\"\",\"\",IF(ISBLANK(VLOOKUP($A13,'Section 2'!$E$17:$V$216,COLUMNS('Section 2'!$E$13:M$14),0)),\"\",VLOOKUP($A13,'Section 2'!$E$17:$V$216,COLUMNS('Section 2'!$E$13:M$14),0)))","v":""},{"$f":"IF($C13=\"\",\"\",IF(ISBLANK(VLOOKUP($A13,'Section 2'!$E$17:$V$216,COLUMNS('Section 2'!$E$13:N$14),0)),\"\",VLOOKUP($A13,'Section 2'!$E$17:$V$216,COLUMNS('Section 2'!$E$13:N$14),0)))","v":""},{"$f":"IF($C13=\"\",\"\",IF(ISBLANK(VLOOKUP($A13,'Section 2'!$E$17:$V$216,COLUMNS('Section 2'!$E$13:O$14),0)),\"\",VLOOKUP($A13,'Section 2'!$E$17:$V$216,COLUMNS('Section 2'!$E$13:O$14),0)))","v":""},{"$f":"IF($C13=\"\",\"\",IF(ISBLANK(VLOOKUP($A13,'Section 2'!$E$17:$V$216,COLUMNS('Section 2'!$E$13:P$14),0)),\"\",VLOOKUP($A13,'Section 2'!$E$17:$V$216,COLUMNS('Section 2'!$E$13:P$14),0)))","v":""},{"$f":"IF($C13=\"\",\"\",IF(ISBLANK(VLOOKUP($A13,'Section 2'!$E$17:$V$216,COLUMNS('Section 2'!$E$13:Q$14),0)),\"\",VLOOKUP($A13,'Section 2'!$E$17:$V$216,COLUMNS('Section 2'!$E$13:Q$14),0)))","v":""},{"$f":"IF($C13=\"\",\"\",IF(ISBLANK(VLOOKUP($A13,'Section 2'!$E$17:$V$216,COLUMNS('Section 2'!$E$13:R$14),0)),\"\",VLOOKUP($A13,'Section 2'!$E$17:$V$216,COLUMNS('Section 2'!$E$13:R$14),0)))","v":""},{"$f":"IF($C13=\"\",\"\",IF(ISBLANK(VLOOKUP($A13,'Section 2'!$E$17:$V$216,COLUMNS('Section 2'!$E$13:S$14),0)),\"\",VLOOKUP($A13,'Section 2'!$E$17:$V$216,COLUMNS('Section 2'!$E$13:S$14),0)))","v":""},{"$f":"IF($C13=\"\",\"\",IF(ISBLANK(VLOOKUP($A13,'Section 2'!$E$17:$V$216,COLUMNS('Section 2'!$E$13:T$14),0)),\"\",VLOOKUP($A13,'Section 2'!$E$17:$V$216,COLUMNS('Section 2'!$E$13:T$14),0)))","v":""},{"$f":"IF($C13=\"\",\"\",IF(ISBLANK(VLOOKUP($A13,'Section 2'!$E$17:$V$216,COLUMNS('Section 2'!$E$13:U$14),0)),\"\",VLOOKUP($A13,'Section 2'!$E$17:$V$216,COLUMNS('Section 2'!$E$13:U$14),0)))","v":""},{"$f":"IF($C13=\"\",\"\",IF(ISBLANK(VLOOKUP($A13,'Section 2'!$E$17:$V$216,COLUMNS('Section 2'!$E$13:V$14),0)),\"\",VLOOKUP($A13,'Section 2'!$E$17:$V$216,COLUMNS('Section 2'!$E$13:V$14),0)))","v":""}]
[13,"",{"$f":"IFERROR(VLOOKUP($A14,'Section 2'!$E$17:$V$216,COLUMNS('Section 2'!$E$13:E$14),0),\"\")","v":""},{"$f":"IF($C14=\"\",\"\",IF(ISBLANK(VLOOKUP($A14,'Section 2'!$E$17:$V$216,COLUMNS('Section 2'!$E$13:F$14),0)),\"\",VLOOKUP($A14,'Section 2'!$E$17:$V$216,COLUMNS('Section 2'!$E$13:F$14),0)))","v":""},{"$f":"IF($C14=\"\",\"\",IF(ISBLANK(VLOOKUP($A14,'Section 2'!$E$17:$V$216,COLUMNS('Section 2'!$E$13:G$14),0)),\"\",VLOOKUP($A14,'Section 2'!$E$17:$V$216,COLUMNS('Section 2'!$E$13:G$14),0)))","v":""},{"$f":"IF($C14=\"\",\"\",IF(ISBLANK(VLOOKUP($A14,'Section 2'!$E$17:$V$216,COLUMNS('Section 2'!$E$13:H$14),0)),\"\",VLOOKUP($A14,'Section 2'!$E$17:$V$216,COLUMNS('Section 2'!$E$13:H$14),0)))","v":""},{"$f":"IF($C14=\"\",\"\",IF(ISBLANK(VLOOKUP($A14,'Section 2'!$E$17:$V$216,COLUMNS('Section 2'!$E$13:I$14),0)),\"\",VLOOKUP($A14,'Section 2'!$E$17:$V$216,COLUMNS('Section 2'!$E$13:I$14),0)))","v":""},{"$f":"IF($C14=\"\",\"\",IF(ISBLANK(VLOOKUP($A14,'Section 2'!$E$17:$V$216,COLUMNS('Section 2'!$E$13:J$14),0)),\"\",VLOOKUP($A14,'Section 2'!$E$17:$V$216,COLUMNS('Section 2'!$E$13:J$14),0)))","v":""},{"$f":"IF($C14=\"\",\"\",IF(ISBLANK(VLOOKUP($A14,'Section 2'!$E$17:$V$216,COLUMNS('Section 2'!$E$13:K$14),0)),\"\",VLOOKUP($A14,'Section 2'!$E$17:$V$216,COLUMNS('Section 2'!$E$13:K$14),0)))","v":""},{"$f":"IF($C14=\"\",\"\",IF(ISBLANK(VLOOKUP($A14,'Section 2'!$E$17:$V$216,COLUMNS('Section 2'!$E$13:L$14),0)),\"\",VLOOKUP($A14,'Section 2'!$E$17:$V$216,COLUMNS('Section 2'!$E$13:L$14),0)))","v":""},{"$f":"IF($C14=\"\",\"\",IF(ISBLANK(VLOOKUP($A14,'Section 2'!$E$17:$V$216,COLUMNS('Section 2'!$E$13:M$14),0)),\"\",VLOOKUP($A14,'Section 2'!$E$17:$V$216,COLUMNS('Section 2'!$E$13:M$14),0)))","v":""},{"$f":"IF($C14=\"\",\"\",IF(ISBLANK(VLOOKUP($A14,'Section 2'!$E$17:$V$216,COLUMNS('Section 2'!$E$13:N$14),0)),\"\",VLOOKUP($A14,'Section 2'!$E$17:$V$216,COLUMNS('Section 2'!$E$13:N$14),0)))","v":""},{"$f":"IF($C14=\"\",\"\",IF(ISBLANK(VLOOKUP($A14,'Section 2'!$E$17:$V$216,COLUMNS('Section 2'!$E$13:O$14),0)),\"\",VLOOKUP($A14,'Section 2'!$E$17:$V$216,COLUMNS('Section 2'!$E$13:O$14),0)))","v":""},{"$f":"IF($C14=\"\",\"\",IF(ISBLANK(VLOOKUP($A14,'Section 2'!$E$17:$V$216,COLUMNS('Section 2'!$E$13:P$14),0)),\"\",VLOOKUP($A14,'Section 2'!$E$17:$V$216,COLUMNS('Section 2'!$E$13:P$14),0)))","v":""},{"$f":"IF($C14=\"\",\"\",IF(ISBLANK(VLOOKUP($A14,'Section 2'!$E$17:$V$216,COLUMNS('Section 2'!$E$13:Q$14),0)),\"\",VLOOKUP($A14,'Section 2'!$E$17:$V$216,COLUMNS('Section 2'!$E$13:Q$14),0)))","v":""},{"$f":"IF($C14=\"\",\"\",IF(ISBLANK(VLOOKUP($A14,'Section 2'!$E$17:$V$216,COLUMNS('Section 2'!$E$13:R$14),0)),\"\",VLOOKUP($A14,'Section 2'!$E$17:$V$216,COLUMNS('Section 2'!$E$13:R$14),0)))","v":""},{"$f":"IF($C14=\"\",\"\",IF(ISBLANK(VLOOKUP($A14,'Section 2'!$E$17:$V$216,COLUMNS('Section 2'!$E$13:S$14),0)),\"\",VLOOKUP($A14,'Section 2'!$E$17:$V$216,COLUMNS('Section 2'!$E$13:S$14),0)))","v":""},{"$f":"IF($C14=\"\",\"\",IF(ISBLANK(VLOOKUP($A14,'Section 2'!$E$17:$V$216,COLUMNS('Section 2'!$E$13:T$14),0)),\"\",VLOOKUP($A14,'Section 2'!$E$17:$V$216,COLUMNS('Section 2'!$E$13:T$14),0)))","v":""},{"$f":"IF($C14=\"\",\"\",IF(ISBLANK(VLOOKUP($A14,'Section 2'!$E$17:$V$216,COLUMNS('Section 2'!$E$13:U$14),0)),\"\",VLOOKUP($A14,'Section 2'!$E$17:$V$216,COLUMNS('Section 2'!$E$13:U$14),0)))","v":""},{"$f":"IF($C14=\"\",\"\",IF(ISBLANK(VLOOKUP($A14,'Section 2'!$E$17:$V$216,COLUMNS('Section 2'!$E$13:V$14),0)),\"\",VLOOKUP($A14,'Section 2'!$E$17:$V$216,COLUMNS('Section 2'!$E$13:V$14),0)))","v":""}]
[14,"",{"$f":"IFERROR(VLOOKUP($A15,'Section 2'!$E$17:$V$216,COLUMNS('Section 2'!$E$13:E$14),0),\"\")","v":""},{"$f":"IF($C15=\"\",\"\",IF(ISBLANK(VLOOKUP($A15,'Section 2'!$E$17:$V$216,COLUMNS('Section 2'!$E$13:F$14),0)),\"\",VLOOKUP($A15,'Section 2'!$E$17:$V$216,COLUMNS('Section 2'!$E$13:F$14),0)))","v":""},{"$f":"IF($C15=\"\",\"\",IF(ISBLANK(VLOOKUP($A15,'Section 2'!$E$17:$V$216,COLUMNS('Section 2'!$E$13:G$14),0)),\"\",VLOOKUP($A15,'Section 2'!$E$17:$V$216,COLUMNS('Section 2'!$E$13:G$14),0)))","v":""},{"$f":"IF($C15=\"\",\"\",IF(ISBLANK(VLOOKUP($A15,'Section 2'!$E$17:$V$216,COLUMNS('Section 2'!$E$13:H$14),0)),\"\",VLOOKUP($A15,'Section 2'!$E$17:$V$216,COLUMNS('Section 2'!$E$13:H$14),0)))","v":""},{"$f":"IF($C15=\"\",\"\",IF(ISBLANK(VLOOKUP($A15,'Section 2'!$E$17:$V$216,COLUMNS('Section 2'!$E$13:I$14),0)),\"\",VLOOKUP($A15,'Section 2'!$E$17:$V$216,COLUMNS('Section 2'!$E$13:I$14),0)))","v":""},{"$f":"IF($C15=\"\",\"\",IF(ISBLANK(VLOOKUP($A15,'Section 2'!$E$17:$V$216,COLUMNS('Section 2'!$E$13:J$14),0)),\"\",VLOOKUP($A15,'Section 2'!$E$17:$V$216,COLUMNS('Section 2'!$E$13:J$14),0)))","v":""},{"$f":"IF($C15=\"\",\"\",IF(ISBLANK(VLOOKUP($A15,'Section 2'!$E$17:$V$216,COLUMNS('Section 2'!$E$13:K$14),0)),\"\",VLOOKUP($A15,'Section 2'!$E$17:$V$216,COLUMNS('Section 2'!$E$13:K$14),0)))","v":""},{"$f":"IF($C15=\"\",\"\",IF(ISBLANK(VLOOKUP($A15,'Section 2'!$E$17:$V$216,COLUMNS('Section 2'!$E$13:L$14),0)),\"\",VLOOKUP($A15,'Section 2'!$E$17:$V$216,COLUMNS('Section 2'!$E$13:L$14),0)))","v":""},{"$f":"IF($C15=\"\",\"\",IF(ISBLANK(VLOOKUP($A15,'Section 2'!$E$17:$V$216,COLUMNS('Section 2'!$E$13:M$14),0)),\"\",VLOOKUP($A15,'Section 2'!$E$17:$V$216,COLUMNS('Section 2'!$E$13:M$14),0)))","v":""},{"$f":"IF($C15=\"\",\"\",IF(ISBLANK(VLOOKUP($A15,'Section 2'!$E$17:$V$216,COLUMNS('Section 2'!$E$13:N$14),0)),\"\",VLOOKUP($A15,'Section 2'!$E$17:$V$216,COLUMNS('Section 2'!$E$13:N$14),0)))","v":""},{"$f":"IF($C15=\"\",\"\",IF(ISBLANK(VLOOKUP($A15,'Section 2'!$E$17:$V$216,COLUMNS('Section 2'!$E$13:O$14),0)),\"\",VLOOKUP($A15,'Section 2'!$E$17:$V$216,COLUMNS('Section 2'!$E$13:O$14),0)))","v":""},{"$f":"IF($C15=\"\",\"\",IF(ISBLANK(VLOOKUP($A15,'Section 2'!$E$17:$V$216,COLUMNS('Section 2'!$E$13:P$14),0)),\"\",VLOOKUP($A15,'Section 2'!$E$17:$V$216,COLUMNS('Section 2'!$E$13:P$14),0)))","v":""},{"$f":"IF($C15=\"\",\"\",IF(ISBLANK(VLOOKUP($A15,'Section 2'!$E$17:$V$216,COLUMNS('Section 2'!$E$13:Q$14),0)),\"\",VLOOKUP($A15,'Section 2'!$E$17:$V$216,COLUMNS('Section 2'!$E$13:Q$14),0)))","v":""},{"$f":"IF($C15=\"\",\"\",IF(ISBLANK(VLOOKUP($A15,'Section 2'!$E$17:$V$216,COLUMNS('Section 2'!$E$13:R$14),0)),\"\",VLOOKUP($A15,'Section 2'!$E$17:$V$216,COLUMNS('Section 2'!$E$13:R$14),0)))","v":""},{"$f":"IF($C15=\"\",\"\",IF(ISBLANK(VLOOKUP($A15,'Section 2'!$E$17:$V$216,COLUMNS('Section 2'!$E$13:S$14),0)),\"\",VLOOKUP($A15,'Section 2'!$E$17:$V$216,COLUMNS('Section 2'!$E$13:S$14),0)))","v":""},{"$f":"IF($C15=\"\",\"\",IF(ISBLANK(VLOOKUP($A15,'Section 2'!$E$17:$V$216,COLUMNS('Section 2'!$E$13:T$14),0)),\"\",VLOOKUP($A15,'Section 2'!$E$17:$V$216,COLUMNS('Section 2'!$E$13:T$14),0)))","v":""},{"$f":"IF($C15=\"\",\"\",IF(ISBLANK(VLOOKUP($A15,'Section 2'!$E$17:$V$216,COLUMNS('Section 2'!$E$13:U$14),0)),\"\",VLOOKUP($A15,'Section 2'!$E$17:$V$216,COLUMNS('Section 2'!$E$13:U$14),0)))","v":""},{"$f":"IF($C15=\"\",\"\",IF(ISBLANK(VLOOKUP($A15,'Section 2'!$E$17:$V$216,COLUMNS('Section 2'!$E$13:V$14),0)),\"\",VLOOKUP($A15,'Section 2'!$E$17:$V$216,COLUMNS('Section 2'!$E$13:V$14),0)))","v":""}]
[15,"",{"$f":"IFERROR(VLOOKUP($A16,'Section 2'!$E$17:$V$216,COLUMNS('Section 2'!$E$13:E$14),0),\"\")","v":""},{"$f":"IF($C16=\"\",\"\",IF(ISBLANK(VLOOKUP($A16,'Section 2'!$E$17:$V$216,COLUMNS('Section 2'!$E$13:F$14),0)),\"\",VLOOKUP($A16,'Section 2'!$E$17:$V$216,COLUMNS('Section 2'!$E$13:F$14),0)))","v":""},{"$f":"IF($C16=\"\",\"\",IF(ISBLANK(VLOOKUP($A16,'Section 2'!$E$17:$V$216,COLUMNS('Section 2'!$E$13:G$14),0)),\"\",VLOOKUP($A16,'Section 2'!$E$17:$V$216,COLUMNS('Section 2'!$E$13:G$14),0)))","v":""},{"$f":"IF($C16=\"\",\"\",IF(ISBLANK(VLOOKUP($A16,'Section 2'!$E$17:$V$216,COLUMNS('Section 2'!$E$13:H$14),0)),\"\",VLOOKUP($A16,'Section 2'!$E$17:$V$216,COLUMNS('Section 2'!$E$13:H$14),0)))","v":""},{"$f":"IF($C16=\"\",\"\",IF(ISBLANK(VLOOKUP($A16,'Section 2'!$E$17:$V$216,COLUMNS('Section 2'!$E$13:I$14),0)),\"\",VLOOKUP($A16,'Section 2'!$E$17:$V$216,COLUMNS('Section 2'!$E$13:I$14),0)))","v":""},{"$f":"IF($C16=\"\",\"\",IF(ISBLANK(VLOOKUP($A16,'Section 2'!$E$17:$V$216,COLUMNS('Section 2'!$E$13:J$14),0)),\"\",VLOOKUP($A16,'Section 2'!$E$17:$V$216,COLUMNS('Section 2'!$E$13:J$14),0)))","v":""},{"$f":"IF($C16=\"\",\"\",IF(ISBLANK(VLOOKUP($A16,'Section 2'!$E$17:$V$216,COLUMNS('Section 2'!$E$13:K$14),0)),\"\",VLOOKUP($A16,'Section 2'!$E$17:$V$216,COLUMNS('Section 2'!$E$13:K$14),0)))","v":""},{"$f":"IF($C16=\"\",\"\",IF(ISBLANK(VLOOKUP($A16,'Section 2'!$E$17:$V$216,COLUMNS('Section 2'!$E$13:L$14),0)),\"\",VLOOKUP($A16,'Section 2'!$E$17:$V$216,COLUMNS('Section 2'!$E$13:L$14),0)))","v":""},{"$f":"IF($C16=\"\",\"\",IF(ISBLANK(VLOOKUP($A16,'Section 2'!$E$17:$V$216,COLUMNS('Section 2'!$E$13:M$14),0)),\"\",VLOOKUP($A16,'Section 2'!$E$17:$V$216,COLUMNS('Section 2'!$E$13:M$14),0)))","v":""},{"$f":"IF($C16=\"\",\"\",IF(ISBLANK(VLOOKUP($A16,'Section 2'!$E$17:$V$216,COLUMNS('Section 2'!$E$13:N$14),0)),\"\",VLOOKUP($A16,'Section 2'!$E$17:$V$216,COLUMNS('Section 2'!$E$13:N$14),0)))","v":""},{"$f":"IF($C16=\"\",\"\",IF(ISBLANK(VLOOKUP($A16,'Section 2'!$E$17:$V$216,COLUMNS('Section 2'!$E$13:O$14),0)),\"\",VLOOKUP($A16,'Section 2'!$E$17:$V$216,COLUMNS('Section 2'!$E$13:O$14),0)))","v":""},{"$f":"IF($C16=\"\",\"\",IF(ISBLANK(VLOOKUP($A16,'Section 2'!$E$17:$V$216,COLUMNS('Section 2'!$E$13:P$14),0)),\"\",VLOOKUP($A16,'Section 2'!$E$17:$V$216,COLUMNS('Section 2'!$E$13:P$14),0)))","v":""},{"$f":"IF($C16=\"\",\"\",IF(ISBLANK(VLOOKUP($A16,'Section 2'!$E$17:$V$216,COLUMNS('Section 2'!$E$13:Q$14),0)),\"\",VLOOKUP($A16,'Section 2'!$E$17:$V$216,COLUMNS('Section 2'!$E$13:Q$14),0)))","v":""},{"$f":"IF($C16=\"\",\"\",IF(ISBLANK(VLOOKUP($A16,'Section 2'!$E$17:$V$216,COLUMNS('Section 2'!$E$13:R$14),0)),\"\",VLOOKUP($A16,'Section 2'!$E$17:$V$216,COLUMNS('Section 2'!$E$13:R$14),0)))","v":""},{"$f":"IF($C16=\"\",\"\",IF(ISBLANK(VLOOKUP($A16,'Section 2'!$E$17:$V$216,COLUMNS('Section 2'!$E$13:S$14),0)),\"\",VLOOKUP($A16,'Section 2'!$E$17:$V$216,COLUMNS('Section 2'!$E$13:S$14),0)))","v":""},{"$f":"IF($C16=\"\",\"\",IF(ISBLANK(VLOOKUP($A16,'Section 2'!$E$17:$V$216,COLUMNS('Section 2'!$E$13:T$14),0)),\"\",VLOOKUP($A16,'Section 2'!$E$17:$V$216,COLUMNS('Section 2'!$E$13:T$14),0)))","v":""},{"$f":"IF($C16=\"\",\"\",IF(ISBLANK(VLOOKUP($A16,'Section 2'!$E$17:$V$216,COLUMNS('Section 2'!$E$13:U$14),0)),\"\",VLOOKUP($A16,'Section 2'!$E$17:$V$216,COLUMNS('Section 2'!$E$13:U$14),0)))","v":""},{"$f":"IF($C16=\"\",\"\",IF(ISBLANK(VLOOKUP($A16,'Section 2'!$E$17:$V$216,COLUMNS('Section 2'!$E$13:V$14),0)),\"\",VLOOKUP($A16,'Section 2'!$E$17:$V$216,COLUMNS('Section 2'!$E$13:V$14),0)))","v":""}]
[16,"",{"$f":"IFERROR(VLOOKUP($A17,'Section 2'!$E$17:$V$216,COLUMNS('Section 2'!$E$13:E$14),0),\"\")","v":""},{"$f":"IF($C17=\"\",\"\",IF(ISBLANK(VLOOKUP($A17,'Section 2'!$E$17:$V$216,COLUMNS('Section 2'!$E$13:F$14),0)),\"\",VLOOKUP($A17,'Section 2'!$E$17:$V$216,COLUMNS('Section 2'!$E$13:F$14),0)))","v":""},{"$f":"IF($C17=\"\",\"\",IF(ISBLANK(VLOOKUP($A17,'Section 2'!$E$17:$V$216,COLUMNS('Section 2'!$E$13:G$14),0)),\"\",VLOOKUP($A17,'Section 2'!$E$17:$V$216,COLUMNS('Section 2'!$E$13:G$14),0)))","v":""},{"$f":"IF($C17=\"\",\"\",IF(ISBLANK(VLOOKUP($A17,'Section 2'!$E$17:$V$216,COLUMNS('Section 2'!$E$13:H$14),0)),\"\",VLOOKUP($A17,'Section 2'!$E$17:$V$216,COLUMNS('Section 2'!$E$13:H$14),0)))","v":""},{"$f":"IF($C17=\"\",\"\",IF(ISBLANK(VLOOKUP($A17,'Section 2'!$E$17:$V$216,COLUMNS('Section 2'!$E$13:I$14),0)),\"\",VLOOKUP($A17,'Section 2'!$E$17:$V$216,COLUMNS('Section 2'!$E$13:I$14),0)))","v":""},{"$f":"IF($C17=\"\",\"\",IF(ISBLANK(VLOOKUP($A17,'Section 2'!$E$17:$V$216,COLUMNS('Section 2'!$E$13:J$14),0)),\"\",VLOOKUP($A17,'Section 2'!$E$17:$V$216,COLUMNS('Section 2'!$E$13:J$14),0)))","v":""},{"$f":"IF($C17=\"\",\"\",IF(ISBLANK(VLOOKUP($A17,'Section 2'!$E$17:$V$216,COLUMNS('Section 2'!$E$13:K$14),0)),\"\",VLOOKUP($A17,'Section 2'!$E$17:$V$216,COLUMNS('Section 2'!$E$13:K$14),0)))","v":""},{"$f":"IF($C17=\"\",\"\",IF(ISBLANK(VLOOKUP($A17,'Section 2'!$E$17:$V$216,COLUMNS('Section 2'!$E$13:L$14),0)),\"\",VLOOKUP($A17,'Section 2'!$E$17:$V$216,COLUMNS('Section 2'!$E$13:L$14),0)))","v":""},{"$f":"IF($C17=\"\",\"\",IF(ISBLANK(VLOOKUP($A17,'Section 2'!$E$17:$V$216,COLUMNS('Section 2'!$E$13:M$14),0)),\"\",VLOOKUP($A17,'Section 2'!$E$17:$V$216,COLUMNS('Section 2'!$E$13:M$14),0)))","v":""},{"$f":"IF($C17=\"\",\"\",IF(ISBLANK(VLOOKUP($A17,'Section 2'!$E$17:$V$216,COLUMNS('Section 2'!$E$13:N$14),0)),\"\",VLOOKUP($A17,'Section 2'!$E$17:$V$216,COLUMNS('Section 2'!$E$13:N$14),0)))","v":""},{"$f":"IF($C17=\"\",\"\",IF(ISBLANK(VLOOKUP($A17,'Section 2'!$E$17:$V$216,COLUMNS('Section 2'!$E$13:O$14),0)),\"\",VLOOKUP($A17,'Section 2'!$E$17:$V$216,COLUMNS('Section 2'!$E$13:O$14),0)))","v":""},{"$f":"IF($C17=\"\",\"\",IF(ISBLANK(VLOOKUP($A17,'Section 2'!$E$17:$V$216,COLUMNS('Section 2'!$E$13:P$14),0)),\"\",VLOOKUP($A17,'Section 2'!$E$17:$V$216,COLUMNS('Section 2'!$E$13:P$14),0)))","v":""},{"$f":"IF($C17=\"\",\"\",IF(ISBLANK(VLOOKUP($A17,'Section 2'!$E$17:$V$216,COLUMNS('Section 2'!$E$13:Q$14),0)),\"\",VLOOKUP($A17,'Section 2'!$E$17:$V$216,COLUMNS('Section 2'!$E$13:Q$14),0)))","v":""},{"$f":"IF($C17=\"\",\"\",IF(ISBLANK(VLOOKUP($A17,'Section 2'!$E$17:$V$216,COLUMNS('Section 2'!$E$13:R$14),0)),\"\",VLOOKUP($A17,'Section 2'!$E$17:$V$216,COLUMNS('Section 2'!$E$13:R$14),0)))","v":""},{"$f":"IF($C17=\"\",\"\",IF(ISBLANK(VLOOKUP($A17,'Section 2'!$E$17:$V$216,COLUMNS('Section 2'!$E$13:S$14),0)),\"\",VLOOKUP($A17,'Section 2'!$E$17:$V$216,COLUMNS('Section 2'!$E$13:S$14),0)))","v":""},{"$f":"IF($C17=\"\",\"\",IF(ISBLANK(VLOOKUP($A17,'Section 2'!$E$17:$V$216,COLUMNS('Section 2'!$E$13:T$14),0)),\"\",VLOOKUP($A17,'Section 2'!$E$17:$V$216,COLUMNS('Section 2'!$E$13:T$14),0)))","v":""},{"$f":"IF($C17=\"\",\"\",IF(ISBLANK(VLOOKUP($A17,'Section 2'!$E$17:$V$216,COLUMNS('Section 2'!$E$13:U$14),0)),\"\",VLOOKUP($A17,'Section 2'!$E$17:$V$216,COLUMNS('Section 2'!$E$13:U$14),0)))","v":""},{"$f":"IF($C17=\"\",\"\",IF(ISBLANK(VLOOKUP($A17,'Section 2'!$E$17:$V$216,COLUMNS('Section 2'!$E$13:V$14),0)),\"\",VLOOKUP($A17,'Section 2'!$E$17:$V$216,COLUMNS('Section 2'!$E$13:V$14),0)))","v":""}]
[17,"",{"$f":"IFERROR(VLOOKUP($A18,'Section 2'!$E$17:$V$216,COLUMNS('Section 2'!$E$13:E$14),0),\"\")","v":""},{"$f":"IF($C18=\"\",\"\",IF(ISBLANK(VLOOKUP($A18,'Section 2'!$E$17:$V$216,COLUMNS('Section 2'!$E$13:F$14),0)),\"\",VLOOKUP($A18,'Section 2'!$E$17:$V$216,COLUMNS('Section 2'!$E$13:F$14),0)))","v":""},{"$f":"IF($C18=\"\",\"\",IF(ISBLANK(VLOOKUP($A18,'Section 2'!$E$17:$V$216,COLUMNS('Section 2'!$E$13:G$14),0)),\"\",VLOOKUP($A18,'Section 2'!$E$17:$V$216,COLUMNS('Section 2'!$E$13:G$14),0)))","v":""},{"$f":"IF($C18=\"\",\"\",IF(ISBLANK(VLOOKUP($A18,'Section 2'!$E$17:$V$216,COLUMNS('Section 2'!$E$13:H$14),0)),\"\",VLOOKUP($A18,'Section 2'!$E$17:$V$216,COLUMNS('Section 2'!$E$13:H$14),0)))","v":""},{"$f":"IF($C18=\"\",\"\",IF(ISBLANK(VLOOKUP($A18,'Section 2'!$E$17:$V$216,COLUMNS('Section 2'!$E$13:I$14),0)),\"\",VLOOKUP($A18,'Section 2'!$E$17:$V$216,COLUMNS('Section 2'!$E$13:I$14),0)))","v":""},{"$f":"IF($C18=\"\",\"\",IF(ISBLANK(VLOOKUP($A18,'Section 2'!$E$17:$V$216,COLUMNS('Section 2'!$E$13:J$14),0)),\"\",VLOOKUP($A18,'Section 2'!$E$17:$V$216,COLUMNS('Section 2'!$E$13:J$14),0)))","v":""},{"$f":"IF($C18=\"\",\"\",IF(ISBLANK(VLOOKUP($A18,'Section 2'!$E$17:$V$216,COLUMNS('Section 2'!$E$13:K$14),0)),\"\",VLOOKUP($A18,'Section 2'!$E$17:$V$216,COLUMNS('Section 2'!$E$13:K$14),0)))","v":""},{"$f":"IF($C18=\"\",\"\",IF(ISBLANK(VLOOKUP($A18,'Section 2'!$E$17:$V$216,COLUMNS('Section 2'!$E$13:L$14),0)),\"\",VLOOKUP($A18,'Section 2'!$E$17:$V$216,COLUMNS('Section 2'!$E$13:L$14),0)))","v":""},{"$f":"IF($C18=\"\",\"\",IF(ISBLANK(VLOOKUP($A18,'Section 2'!$E$17:$V$216,COLUMNS('Section 2'!$E$13:M$14),0)),\"\",VLOOKUP($A18,'Section 2'!$E$17:$V$216,COLUMNS('Section 2'!$E$13:M$14),0)))","v":""},{"$f":"IF($C18=\"\",\"\",IF(ISBLANK(VLOOKUP($A18,'Section 2'!$E$17:$V$216,COLUMNS('Section 2'!$E$13:N$14),0)),\"\",VLOOKUP($A18,'Section 2'!$E$17:$V$216,COLUMNS('Section 2'!$E$13:N$14),0)))","v":""},{"$f":"IF($C18=\"\",\"\",IF(ISBLANK(VLOOKUP($A18,'Section 2'!$E$17:$V$216,COLUMNS('Section 2'!$E$13:O$14),0)),\"\",VLOOKUP($A18,'Section 2'!$E$17:$V$216,COLUMNS('Section 2'!$E$13:O$14),0)))","v":""},{"$f":"IF($C18=\"\",\"\",IF(ISBLANK(VLOOKUP($A18,'Section 2'!$E$17:$V$216,COLUMNS('Section 2'!$E$13:P$14),0)),\"\",VLOOKUP($A18,'Section 2'!$E$17:$V$216,COLUMNS('Section 2'!$E$13:P$14),0)))","v":""},{"$f":"IF($C18=\"\",\"\",IF(ISBLANK(VLOOKUP($A18,'Section 2'!$E$17:$V$216,COLUMNS('Section 2'!$E$13:Q$14),0)),\"\",VLOOKUP($A18,'Section 2'!$E$17:$V$216,COLUMNS('Section 2'!$E$13:Q$14),0)))","v":""},{"$f":"IF($C18=\"\",\"\",IF(ISBLANK(VLOOKUP($A18,'Section 2'!$E$17:$V$216,COLUMNS('Section 2'!$E$13:R$14),0)),\"\",VLOOKUP($A18,'Section 2'!$E$17:$V$216,COLUMNS('Section 2'!$E$13:R$14),0)))","v":""},{"$f":"IF($C18=\"\",\"\",IF(ISBLANK(VLOOKUP($A18,'Section 2'!$E$17:$V$216,COLUMNS('Section 2'!$E$13:S$14),0)),\"\",VLOOKUP($A18,'Section 2'!$E$17:$V$216,COLUMNS('Section 2'!$E$13:S$14),0)))","v":""},{"$f":"IF($C18=\"\",\"\",IF(ISBLANK(VLOOKUP($A18,'Section 2'!$E$17:$V$216,COLUMNS('Section 2'!$E$13:T$14),0)),\"\",VLOOKUP($A18,'Section 2'!$E$17:$V$216,COLUMNS('Section 2'!$E$13:T$14),0)))","v":""},{"$f":"IF($C18=\"\",\"\",IF(ISBLANK(VLOOKUP($A18,'Section 2'!$E$17:$V$216,COLUMNS('Section 2'!$E$13:U$14),0)),\"\",VLOOKUP($A18,'Section 2'!$E$17:$V$216,COLUMNS('Section 2'!$E$13:U$14),0)))","v":""},{"$f":"IF($C18=\"\",\"\",IF(ISBLANK(VLOOKUP($A18,'Section 2'!$E$17:$V$216,COLUMNS('Section 2'!$E$13:V$14),0)),\"\",VLOOKUP($A18,'Section 2'!$E$17:$V$216,COLUMNS('Section 2'!$E$13:V$14),0)))","v":""}]
[18,"",{"$f":"IFERROR(VLOOKUP($A19,'Section 2'!$E$17:$V$216,COLUMNS('Section 2'!$E$13:E$14),0),\"\")","v":""},{"$f":"IF($C19=\"\",\"\",IF(ISBLANK(VLOOKUP($A19,'Section 2'!$E$17:$V$216,COLUMNS('Section 2'!$E$13:F$14),0)),\"\",VLOOKUP($A19,'Section 2'!$E$17:$V$216,COLUMNS('Section 2'!$E$13:F$14),0)))","v":""},{"$f":"IF($C19=\"\",\"\",IF(ISBLANK(VLOOKUP($A19,'Section 2'!$E$17:$V$216,COLUMNS('Section 2'!$E$13:G$14),0)),\"\",VLOOKUP($A19,'Section 2'!$E$17:$V$216,COLUMNS('Section 2'!$E$13:G$14),0)))","v":""},{"$f":"IF($C19=\"\",\"\",IF(ISBLANK(VLOOKUP($A19,'Section 2'!$E$17:$V$216,COLUMNS('Section 2'!$E$13:H$14),0)),\"\",VLOOKUP($A19,'Section 2'!$E$17:$V$216,COLUMNS('Section 2'!$E$13:H$14),0)))","v":""},{"$f":"IF($C19=\"\",\"\",IF(ISBLANK(VLOOKUP($A19,'Section 2'!$E$17:$V$216,COLUMNS('Section 2'!$E$13:I$14),0)),\"\",VLOOKUP($A19,'Section 2'!$E$17:$V$216,COLUMNS('Section 2'!$E$13:I$14),0)))","v":""},{"$f":"IF($C19=\"\",\"\",IF(ISBLANK(VLOOKUP($A19,'Section 2'!$E$17:$V$216,COLUMNS('Section 2'!$E$13:J$14),0)),\"\",VLOOKUP($A19,'Section 2'!$E$17:$V$216,COLUMNS('Section 2'!$E$13:J$14),0)))","v":""},{"$f":"IF($C19=\"\",\"\",IF(ISBLANK(VLOOKUP($A19,'Section 2'!$E$17:$V$216,COLUMNS('Section 2'!$E$13:K$14),0)),\"\",VLOOKUP($A19,'Section 2'!$E$17:$V$216,COLUMNS('Section 2'!$E$13:K$14),0)))","v":""},{"$f":"IF($C19=\"\",\"\",IF(ISBLANK(VLOOKUP($A19,'Section 2'!$E$17:$V$216,COLUMNS('Section 2'!$E$13:L$14),0)),\"\",VLOOKUP($A19,'Section 2'!$E$17:$V$216,COLUMNS('Section 2'!$E$13:L$14),0)))","v":""},{"$f":"IF($C19=\"\",\"\",IF(ISBLANK(VLOOKUP($A19,'Section 2'!$E$17:$V$216,COLUMNS('Section 2'!$E$13:M$14),0)),\"\",VLOOKUP($A19,'Section 2'!$E$17:$V$216,COLUMNS('Section 2'!$E$13:M$14),0)))","v":""},{"$f":"IF($C19=\"\",\"\",IF(ISBLANK(VLOOKUP($A19,'Section 2'!$E$17:$V$216,COLUMNS('Section 2'!$E$13:N$14),0)),\"\",VLOOKUP($A19,'Section 2'!$E$17:$V$216,COLUMNS('Section 2'!$E$13:N$14),0)))","v":""},{"$f":"IF($C19=\"\",\"\",IF(ISBLANK(VLOOKUP($A19,'Section 2'!$E$17:$V$216,COLUMNS('Section 2'!$E$13:O$14),0)),\"\",VLOOKUP($A19,'Section 2'!$E$17:$V$216,COLUMNS('Section 2'!$E$13:O$14),0)))","v":""},{"$f":"IF($C19=\"\",\"\",IF(ISBLANK(VLOOKUP($A19,'Section 2'!$E$17:$V$216,COLUMNS('Section 2'!$E$13:P$14),0)),\"\",VLOOKUP($A19,'Section 2'!$E$17:$V$216,COLUMNS('Section 2'!$E$13:P$14),0)))","v":""},{"$f":"IF($C19=\"\",\"\",IF(ISBLANK(VLOOKUP($A19,'Section 2'!$E$17:$V$216,COLUMNS('Section 2'!$E$13:Q$14),0)),\"\",VLOOKUP($A19,'Section 2'!$E$17:$V$216,COLUMNS('Section 2'!$E$13:Q$14),0)))","v":""},{"$f":"IF($C19=\"\",\"\",IF(ISBLANK(VLOOKUP($A19,'Section 2'!$E$17:$V$216,COLUMNS('Section 2'!$E$13:R$14),0)),\"\",VLOOKUP($A19,'Section 2'!$E$17:$V$216,COLUMNS('Section 2'!$E$13:R$14),0)))","v":""},{"$f":"IF($C19=\"\",\"\",IF(ISBLANK(VLOOKUP($A19,'Section 2'!$E$17:$V$216,COLUMNS('Section 2'!$E$13:S$14),0)),\"\",VLOOKUP($A19,'Section 2'!$E$17:$V$216,COLUMNS('Section 2'!$E$13:S$14),0)))","v":""},{"$f":"IF($C19=\"\",\"\",IF(ISBLANK(VLOOKUP($A19,'Section 2'!$E$17:$V$216,COLUMNS('Section 2'!$E$13:T$14),0)),\"\",VLOOKUP($A19,'Section 2'!$E$17:$V$216,COLUMNS('Section 2'!$E$13:T$14),0)))","v":""},{"$f":"IF($C19=\"\",\"\",IF(ISBLANK(VLOOKUP($A19,'Section 2'!$E$17:$V$216,COLUMNS('Section 2'!$E$13:U$14),0)),\"\",VLOOKUP($A19,'Section 2'!$E$17:$V$216,COLUMNS('Section 2'!$E$13:U$14),0)))","v":""},{"$f":"IF($C19=\"\",\"\",IF(ISBLANK(VLOOKUP($A19,'Section 2'!$E$17:$V$216,COLUMNS('Section 2'!$E$13:V$14),0)),\"\",VLOOKUP($A19,'Section 2'!$E$17:$V$216,COLUMNS('Section 2'!$E$13:V$14),0)))","v":""}]
[19,"",{"$f":"IFERROR(VLOOKUP($A20,'Section 2'!$E$17:$V$216,COLUMNS('Section 2'!$E$13:E$14),0),\"\")","v":""},{"$f":"IF($C20=\"\",\"\",IF(ISBLANK(VLOOKUP($A20,'Section 2'!$E$17:$V$216,COLUMNS('Section 2'!$E$13:F$14),0)),\"\",VLOOKUP($A20,'Section 2'!$E$17:$V$216,COLUMNS('Section 2'!$E$13:F$14),0)))","v":""},{"$f":"IF($C20=\"\",\"\",IF(ISBLANK(VLOOKUP($A20,'Section 2'!$E$17:$V$216,COLUMNS('Section 2'!$E$13:G$14),0)),\"\",VLOOKUP($A20,'Section 2'!$E$17:$V$216,COLUMNS('Section 2'!$E$13:G$14),0)))","v":""},{"$f":"IF($C20=\"\",\"\",IF(ISBLANK(VLOOKUP($A20,'Section 2'!$E$17:$V$216,COLUMNS('Section 2'!$E$13:H$14),0)),\"\",VLOOKUP($A20,'Section 2'!$E$17:$V$216,COLUMNS('Section 2'!$E$13:H$14),0)))","v":""},{"$f":"IF($C20=\"\",\"\",IF(ISBLANK(VLOOKUP($A20,'Section 2'!$E$17:$V$216,COLUMNS('Section 2'!$E$13:I$14),0)),\"\",VLOOKUP($A20,'Section 2'!$E$17:$V$216,COLUMNS('Section 2'!$E$13:I$14),0)))","v":""},{"$f":"IF($C20=\"\",\"\",IF(ISBLANK(VLOOKUP($A20,'Section 2'!$E$17:$V$216,COLUMNS('Section 2'!$E$13:J$14),0)),\"\",VLOOKUP($A20,'Section 2'!$E$17:$V$216,COLUMNS('Section 2'!$E$13:J$14),0)))","v":""},{"$f":"IF($C20=\"\",\"\",IF(ISBLANK(VLOOKUP($A20,'Section 2'!$E$17:$V$216,COLUMNS('Section 2'!$E$13:K$14),0)),\"\",VLOOKUP($A20,'Section 2'!$E$17:$V$216,COLUMNS('Section 2'!$E$13:K$14),0)))","v":""},{"$f":"IF($C20=\"\",\"\",IF(ISBLANK(VLOOKUP($A20,'Section 2'!$E$17:$V$216,COLUMNS('Section 2'!$E$13:L$14),0)),\"\",VLOOKUP($A20,'Section 2'!$E$17:$V$216,COLUMNS('Section 2'!$E$13:L$14),0)))","v":""},{"$f":"IF($C20=\"\",\"\",IF(ISBLANK(VLOOKUP($A20,'Section 2'!$E$17:$V$216,COLUMNS('Section 2'!$E$13:M$14),0)),\"\",VLOOKUP($A20,'Section 2'!$E$17:$V$216,COLUMNS('Section 2'!$E$13:M$14),0)))","v":""},{"$f":"IF($C20=\"\",\"\",IF(ISBLANK(VLOOKUP($A20,'Section 2'!$E$17:$V$216,COLUMNS('Section 2'!$E$13:N$14),0)),\"\",VLOOKUP($A20,'Section 2'!$E$17:$V$216,COLUMNS('Section 2'!$E$13:N$14),0)))","v":""},{"$f":"IF($C20=\"\",\"\",IF(ISBLANK(VLOOKUP($A20,'Section 2'!$E$17:$V$216,COLUMNS('Section 2'!$E$13:O$14),0)),\"\",VLOOKUP($A20,'Section 2'!$E$17:$V$216,COLUMNS('Section 2'!$E$13:O$14),0)))","v":""},{"$f":"IF($C20=\"\",\"\",IF(ISBLANK(VLOOKUP($A20,'Section 2'!$E$17:$V$216,COLUMNS('Section 2'!$E$13:P$14),0)),\"\",VLOOKUP($A20,'Section 2'!$E$17:$V$216,COLUMNS('Section 2'!$E$13:P$14),0)))","v":""},{"$f":"IF($C20=\"\",\"\",IF(ISBLANK(VLOOKUP($A20,'Section 2'!$E$17:$V$216,COLUMNS('Section 2'!$E$13:Q$14),0)),\"\",VLOOKUP($A20,'Section 2'!$E$17:$V$216,COLUMNS('Section 2'!$E$13:Q$14),0)))","v":""},{"$f":"IF($C20=\"\",\"\",IF(ISBLANK(VLOOKUP($A20,'Section 2'!$E$17:$V$216,COLUMNS('Section 2'!$E$13:R$14),0)),\"\",VLOOKUP($A20,'Section 2'!$E$17:$V$216,COLUMNS('Section 2'!$E$13:R$14),0)))","v":""},{"$f":"IF($C20=\"\",\"\",IF(ISBLANK(VLOOKUP($A20,'Section 2'!$E$17:$V$216,COLUMNS('Section 2'!$E$13:S$14),0)),\"\",VLOOKUP($A20,'Section 2'!$E$17:$V$216,COLUMNS('Section 2'!$E$13:S$14),0)))","v":""},{"$f":"IF($C20=\"\",\"\",IF(ISBLANK(VLOOKUP($A20,'Section 2'!$E$17:$V$216,COLUMNS('Section 2'!$E$13:T$14),0)),\"\",VLOOKUP($A20,'Section 2'!$E$17:$V$216,COLUMNS('Section 2'!$E$13:T$14),0)))","v":""},{"$f":"IF($C20=\"\",\"\",IF(ISBLANK(VLOOKUP($A20,'Section 2'!$E$17:$V$216,COLUMNS('Section 2'!$E$13:U$14),0)),\"\",VLOOKUP($A20,'Section 2'!$E$17:$V$216,COLUMNS('Section 2'!$E$13:U$14),0)))","v":""},{"$f":"IF($C20=\"\",\"\",IF(ISBLANK(VLOOKUP($A20,'Section 2'!$E$17:$V$216,COLUMNS('Section 2'!$E$13:V$14),0)),\"\",VLOOKUP($A20,'Section 2'!$E$17:$V$216,COLUMNS('Section 2'!$E$13:V$14),0)))","v":""}]
[20,"",{"$f":"IFERROR(VLOOKUP($A21,'Section 2'!$E$17:$V$216,COLUMNS('Section 2'!$E$13:E$14),0),\"\")","v":""},{"$f":"IF($C21=\"\",\"\",IF(ISBLANK(VLOOKUP($A21,'Section 2'!$E$17:$V$216,COLUMNS('Section 2'!$E$13:F$14),0)),\"\",VLOOKUP($A21,'Section 2'!$E$17:$V$216,COLUMNS('Section 2'!$E$13:F$14),0)))","v":""},{"$f":"IF($C21=\"\",\"\",IF(ISBLANK(VLOOKUP($A21,'Section 2'!$E$17:$V$216,COLUMNS('Section 2'!$E$13:G$14),0)),\"\",VLOOKUP($A21,'Section 2'!$E$17:$V$216,COLUMNS('Section 2'!$E$13:G$14),0)))","v":""},{"$f":"IF($C21=\"\",\"\",IF(ISBLANK(VLOOKUP($A21,'Section 2'!$E$17:$V$216,COLUMNS('Section 2'!$E$13:H$14),0)),\"\",VLOOKUP($A21,'Section 2'!$E$17:$V$216,COLUMNS('Section 2'!$E$13:H$14),0)))","v":""},{"$f":"IF($C21=\"\",\"\",IF(ISBLANK(VLOOKUP($A21,'Section 2'!$E$17:$V$216,COLUMNS('Section 2'!$E$13:I$14),0)),\"\",VLOOKUP($A21,'Section 2'!$E$17:$V$216,COLUMNS('Section 2'!$E$13:I$14),0)))","v":""},{"$f":"IF($C21=\"\",\"\",IF(ISBLANK(VLOOKUP($A21,'Section 2'!$E$17:$V$216,COLUMNS('Section 2'!$E$13:J$14),0)),\"\",VLOOKUP($A21,'Section 2'!$E$17:$V$216,COLUMNS('Section 2'!$E$13:J$14),0)))","v":""},{"$f":"IF($C21=\"\",\"\",IF(ISBLANK(VLOOKUP($A21,'Section 2'!$E$17:$V$216,COLUMNS('Section 2'!$E$13:K$14),0)),\"\",VLOOKUP($A21,'Section 2'!$E$17:$V$216,COLUMNS('Section 2'!$E$13:K$14),0)))","v":""},{"$f":"IF($C21=\"\",\"\",IF(ISBLANK(VLOOKUP($A21,'Section 2'!$E$17:$V$216,COLUMNS('Section 2'!$E$13:L$14),0)),\"\",VLOOKUP($A21,'Section 2'!$E$17:$V$216,COLUMNS('Section 2'!$E$13:L$14),0)))","v":""},{"$f":"IF($C21=\"\",\"\",IF(ISBLANK(VLOOKUP($A21,'Section 2'!$E$17:$V$216,COLUMNS('Section 2'!$E$13:M$14),0)),\"\",VLOOKUP($A21,'Section 2'!$E$17:$V$216,COLUMNS('Section 2'!$E$13:M$14),0)))","v":""},{"$f":"IF($C21=\"\",\"\",IF(ISBLANK(VLOOKUP($A21,'Section 2'!$E$17:$V$216,COLUMNS('Section 2'!$E$13:N$14),0)),\"\",VLOOKUP($A21,'Section 2'!$E$17:$V$216,COLUMNS('Section 2'!$E$13:N$14),0)))","v":""},{"$f":"IF($C21=\"\",\"\",IF(ISBLANK(VLOOKUP($A21,'Section 2'!$E$17:$V$216,COLUMNS('Section 2'!$E$13:O$14),0)),\"\",VLOOKUP($A21,'Section 2'!$E$17:$V$216,COLUMNS('Section 2'!$E$13:O$14),0)))","v":""},{"$f":"IF($C21=\"\",\"\",IF(ISBLANK(VLOOKUP($A21,'Section 2'!$E$17:$V$216,COLUMNS('Section 2'!$E$13:P$14),0)),\"\",VLOOKUP($A21,'Section 2'!$E$17:$V$216,COLUMNS('Section 2'!$E$13:P$14),0)))","v":""},{"$f":"IF($C21=\"\",\"\",IF(ISBLANK(VLOOKUP($A21,'Section 2'!$E$17:$V$216,COLUMNS('Section 2'!$E$13:Q$14),0)),\"\",VLOOKUP($A21,'Section 2'!$E$17:$V$216,COLUMNS('Section 2'!$E$13:Q$14),0)))","v":""},{"$f":"IF($C21=\"\",\"\",IF(ISBLANK(VLOOKUP($A21,'Section 2'!$E$17:$V$216,COLUMNS('Section 2'!$E$13:R$14),0)),\"\",VLOOKUP($A21,'Section 2'!$E$17:$V$216,COLUMNS('Section 2'!$E$13:R$14),0)))","v":""},{"$f":"IF($C21=\"\",\"\",IF(ISBLANK(VLOOKUP($A21,'Section 2'!$E$17:$V$216,COLUMNS('Section 2'!$E$13:S$14),0)),\"\",VLOOKUP($A21,'Section 2'!$E$17:$V$216,COLUMNS('Section 2'!$E$13:S$14),0)))","v":""},{"$f":"IF($C21=\"\",\"\",IF(ISBLANK(VLOOKUP($A21,'Section 2'!$E$17:$V$216,COLUMNS('Section 2'!$E$13:T$14),0)),\"\",VLOOKUP($A21,'Section 2'!$E$17:$V$216,COLUMNS('Section 2'!$E$13:T$14),0)))","v":""},{"$f":"IF($C21=\"\",\"\",IF(ISBLANK(VLOOKUP($A21,'Section 2'!$E$17:$V$216,COLUMNS('Section 2'!$E$13:U$14),0)),\"\",VLOOKUP($A21,'Section 2'!$E$17:$V$216,COLUMNS('Section 2'!$E$13:U$14),0)))","v":""},{"$f":"IF($C21=\"\",\"\",IF(ISBLANK(VLOOKUP($A21,'Section 2'!$E$17:$V$216,COLUMNS('Section 2'!$E$13:V$14),0)),\"\",VLOOKUP($A21,'Section 2'!$E$17:$V$216,COLUMNS('Section 2'!$E$13:V$14),0)))","v":""}]
[21,"",{"$f":"IFERROR(VLOOKUP($A22,'Section 2'!$E$17:$V$216,COLUMNS('Section 2'!$E$13:E$14),0),\"\")","v":""},{"$f":"IF($C22=\"\",\"\",IF(ISBLANK(VLOOKUP($A22,'Section 2'!$E$17:$V$216,COLUMNS('Section 2'!$E$13:F$14),0)),\"\",VLOOKUP($A22,'Section 2'!$E$17:$V$216,COLUMNS('Section 2'!$E$13:F$14),0)))","v":""},{"$f":"IF($C22=\"\",\"\",IF(ISBLANK(VLOOKUP($A22,'Section 2'!$E$17:$V$216,COLUMNS('Section 2'!$E$13:G$14),0)),\"\",VLOOKUP($A22,'Section 2'!$E$17:$V$216,COLUMNS('Section 2'!$E$13:G$14),0)))","v":""},{"$f":"IF($C22=\"\",\"\",IF(ISBLANK(VLOOKUP($A22,'Section 2'!$E$17:$V$216,COLUMNS('Section 2'!$E$13:H$14),0)),\"\",VLOOKUP($A22,'Section 2'!$E$17:$V$216,COLUMNS('Section 2'!$E$13:H$14),0)))","v":""},{"$f":"IF($C22=\"\",\"\",IF(ISBLANK(VLOOKUP($A22,'Section 2'!$E$17:$V$216,COLUMNS('Section 2'!$E$13:I$14),0)),\"\",VLOOKUP($A22,'Section 2'!$E$17:$V$216,COLUMNS('Section 2'!$E$13:I$14),0)))","v":""},{"$f":"IF($C22=\"\",\"\",IF(ISBLANK(VLOOKUP($A22,'Section 2'!$E$17:$V$216,COLUMNS('Section 2'!$E$13:J$14),0)),\"\",VLOOKUP($A22,'Section 2'!$E$17:$V$216,COLUMNS('Section 2'!$E$13:J$14),0)))","v":""},{"$f":"IF($C22=\"\",\"\",IF(ISBLANK(VLOOKUP($A22,'Section 2'!$E$17:$V$216,COLUMNS('Section 2'!$E$13:K$14),0)),\"\",VLOOKUP($A22,'Section 2'!$E$17:$V$216,COLUMNS('Section 2'!$E$13:K$14),0)))","v":""},{"$f":"IF($C22=\"\",\"\",IF(ISBLANK(VLOOKUP($A22,'Section 2'!$E$17:$V$216,COLUMNS('Section 2'!$E$13:L$14),0)),\"\",VLOOKUP($A22,'Section 2'!$E$17:$V$216,COLUMNS('Section 2'!$E$13:L$14),0)))","v":""},{"$f":"IF($C22=\"\",\"\",IF(ISBLANK(VLOOKUP($A22,'Section 2'!$E$17:$V$216,COLUMNS('Section 2'!$E$13:M$14),0)),\"\",VLOOKUP($A22,'Section 2'!$E$17:$V$216,COLUMNS('Section 2'!$E$13:M$14),0)))","v":""},{"$f":"IF($C22=\"\",\"\",IF(ISBLANK(VLOOKUP($A22,'Section 2'!$E$17:$V$216,COLUMNS('Section 2'!$E$13:N$14),0)),\"\",VLOOKUP($A22,'Section 2'!$E$17:$V$216,COLUMNS('Section 2'!$E$13:N$14),0)))","v":""},{"$f":"IF($C22=\"\",\"\",IF(ISBLANK(VLOOKUP($A22,'Section 2'!$E$17:$V$216,COLUMNS('Section 2'!$E$13:O$14),0)),\"\",VLOOKUP($A22,'Section 2'!$E$17:$V$216,COLUMNS('Section 2'!$E$13:O$14),0)))","v":""},{"$f":"IF($C22=\"\",\"\",IF(ISBLANK(VLOOKUP($A22,'Section 2'!$E$17:$V$216,COLUMNS('Section 2'!$E$13:P$14),0)),\"\",VLOOKUP($A22,'Section 2'!$E$17:$V$216,COLUMNS('Section 2'!$E$13:P$14),0)))","v":""},{"$f":"IF($C22=\"\",\"\",IF(ISBLANK(VLOOKUP($A22,'Section 2'!$E$17:$V$216,COLUMNS('Section 2'!$E$13:Q$14),0)),\"\",VLOOKUP($A22,'Section 2'!$E$17:$V$216,COLUMNS('Section 2'!$E$13:Q$14),0)))","v":""},{"$f":"IF($C22=\"\",\"\",IF(ISBLANK(VLOOKUP($A22,'Section 2'!$E$17:$V$216,COLUMNS('Section 2'!$E$13:R$14),0)),\"\",VLOOKUP($A22,'Section 2'!$E$17:$V$216,COLUMNS('Section 2'!$E$13:R$14),0)))","v":""},{"$f":"IF($C22=\"\",\"\",IF(ISBLANK(VLOOKUP($A22,'Section 2'!$E$17:$V$216,COLUMNS('Section 2'!$E$13:S$14),0)),\"\",VLOOKUP($A22,'Section 2'!$E$17:$V$216,COLUMNS('Section 2'!$E$13:S$14),0)))","v":""},{"$f":"IF($C22=\"\",\"\",IF(ISBLANK(VLOOKUP($A22,'Section 2'!$E$17:$V$216,COLUMNS('Section 2'!$E$13:T$14),0)),\"\",VLOOKUP($A22,'Section 2'!$E$17:$V$216,COLUMNS('Section 2'!$E$13:T$14),0)))","v":""},{"$f":"IF($C22=\"\",\"\",IF(ISBLANK(VLOOKUP($A22,'Section 2'!$E$17:$V$216,COLUMNS('Section 2'!$E$13:U$14),0)),\"\",VLOOKUP($A22,'Section 2'!$E$17:$V$216,COLUMNS('Section 2'!$E$13:U$14),0)))","v":""},{"$f":"IF($C22=\"\",\"\",IF(ISBLANK(VLOOKUP($A22,'Section 2'!$E$17:$V$216,COLUMNS('Section 2'!$E$13:V$14),0)),\"\",VLOOKUP($A22,'Section 2'!$E$17:$V$216,COLUMNS('Section 2'!$E$13:V$14),0)))","v":""}]
[22,"",{"$f":"IFERROR(VLOOKUP($A23,'Section 2'!$E$17:$V$216,COLUMNS('Section 2'!$E$13:E$14),0),\"\")","v":""},{"$f":"IF($C23=\"\",\"\",IF(ISBLANK(VLOOKUP($A23,'Section 2'!$E$17:$V$216,COLUMNS('Section 2'!$E$13:F$14),0)),\"\",VLOOKUP($A23,'Section 2'!$E$17:$V$216,COLUMNS('Section 2'!$E$13:F$14),0)))","v":""},{"$f":"IF($C23=\"\",\"\",IF(ISBLANK(VLOOKUP($A23,'Section 2'!$E$17:$V$216,COLUMNS('Section 2'!$E$13:G$14),0)),\"\",VLOOKUP($A23,'Section 2'!$E$17:$V$216,COLUMNS('Section 2'!$E$13:G$14),0)))","v":""},{"$f":"IF($C23=\"\",\"\",IF(ISBLANK(VLOOKUP($A23,'Section 2'!$E$17:$V$216,COLUMNS('Section 2'!$E$13:H$14),0)),\"\",VLOOKUP($A23,'Section 2'!$E$17:$V$216,COLUMNS('Section 2'!$E$13:H$14),0)))","v":""},{"$f":"IF($C23=\"\",\"\",IF(ISBLANK(VLOOKUP($A23,'Section 2'!$E$17:$V$216,COLUMNS('Section 2'!$E$13:I$14),0)),\"\",VLOOKUP($A23,'Section 2'!$E$17:$V$216,COLUMNS('Section 2'!$E$13:I$14),0)))","v":""},{"$f":"IF($C23=\"\",\"\",IF(ISBLANK(VLOOKUP($A23,'Section 2'!$E$17:$V$216,COLUMNS('Section 2'!$E$13:J$14),0)),\"\",VLOOKUP($A23,'Section 2'!$E$17:$V$216,COLUMNS('Section 2'!$E$13:J$14),0)))","v":""},{"$f":"IF($C23=\"\",\"\",IF(ISBLANK(VLOOKUP($A23,'Section 2'!$E$17:$V$216,COLUMNS('Section 2'!$E$13:K$14),0)),\"\",VLOOKUP($A23,'Section 2'!$E$17:$V$216,COLUMNS('Section 2'!$E$13:K$14),0)))","v":""},{"$f":"IF($C23=\"\",\"\",IF(ISBLANK(VLOOKUP($A23,'Section 2'!$E$17:$V$216,COLUMNS('Section 2'!$E$13:L$14),0)),\"\",VLOOKUP($A23,'Section 2'!$E$17:$V$216,COLUMNS('Section 2'!$E$13:L$14),0)))","v":""},{"$f":"IF($C23=\"\",\"\",IF(ISBLANK(VLOOKUP($A23,'Section 2'!$E$17:$V$216,COLUMNS('Section 2'!$E$13:M$14),0)),\"\",VLOOKUP($A23,'Section 2'!$E$17:$V$216,COLUMNS('Section 2'!$E$13:M$14),0)))","v":""},{"$f":"IF($C23=\"\",\"\",IF(ISBLANK(VLOOKUP($A23,'Section 2'!$E$17:$V$216,COLUMNS('Section 2'!$E$13:N$14),0)),\"\",VLOOKUP($A23,'Section 2'!$E$17:$V$216,COLUMNS('Section 2'!$E$13:N$14),0)))","v":""},{"$f":"IF($C23=\"\",\"\",IF(ISBLANK(VLOOKUP($A23,'Section 2'!$E$17:$V$216,COLUMNS('Section 2'!$E$13:O$14),0)),\"\",VLOOKUP($A23,'Section 2'!$E$17:$V$216,COLUMNS('Section 2'!$E$13:O$14),0)))","v":""},{"$f":"IF($C23=\"\",\"\",IF(ISBLANK(VLOOKUP($A23,'Section 2'!$E$17:$V$216,COLUMNS('Section 2'!$E$13:P$14),0)),\"\",VLOOKUP($A23,'Section 2'!$E$17:$V$216,COLUMNS('Section 2'!$E$13:P$14),0)))","v":""},{"$f":"IF($C23=\"\",\"\",IF(ISBLANK(VLOOKUP($A23,'Section 2'!$E$17:$V$216,COLUMNS('Section 2'!$E$13:Q$14),0)),\"\",VLOOKUP($A23,'Section 2'!$E$17:$V$216,COLUMNS('Section 2'!$E$13:Q$14),0)))","v":""},{"$f":"IF($C23=\"\",\"\",IF(ISBLANK(VLOOKUP($A23,'Section 2'!$E$17:$V$216,COLUMNS('Section 2'!$E$13:R$14),0)),\"\",VLOOKUP($A23,'Section 2'!$E$17:$V$216,COLUMNS('Section 2'!$E$13:R$14),0)))","v":""},{"$f":"IF($C23=\"\",\"\",IF(ISBLANK(VLOOKUP($A23,'Section 2'!$E$17:$V$216,COLUMNS('Section 2'!$E$13:S$14),0)),\"\",VLOOKUP($A23,'Section 2'!$E$17:$V$216,COLUMNS('Section 2'!$E$13:S$14),0)))","v":""},{"$f":"IF($C23=\"\",\"\",IF(ISBLANK(VLOOKUP($A23,'Section 2'!$E$17:$V$216,COLUMNS('Section 2'!$E$13:T$14),0)),\"\",VLOOKUP($A23,'Section 2'!$E$17:$V$216,COLUMNS('Section 2'!$E$13:T$14),0)))","v":""},{"$f":"IF($C23=\"\",\"\",IF(ISBLANK(VLOOKUP($A23,'Section 2'!$E$17:$V$216,COLUMNS('Section 2'!$E$13:U$14),0)),\"\",VLOOKUP($A23,'Section 2'!$E$17:$V$216,COLUMNS('Section 2'!$E$13:U$14),0)))","v":""},{"$f":"IF($C23=\"\",\"\",IF(ISBLANK(VLOOKUP($A23,'Section 2'!$E$17:$V$216,COLUMNS('Section 2'!$E$13:V$14),0)),\"\",VLOOKUP($A23,'Section 2'!$E$17:$V$216,COLUMNS('Section 2'!$E$13:V$14),0)))","v":""}]
[23,"",{"$f":"IFERROR(VLOOKUP($A24,'Section 2'!$E$17:$V$216,COLUMNS('Section 2'!$E$13:E$14),0),\"\")","v":""},{"$f":"IF($C24=\"\",\"\",IF(ISBLANK(VLOOKUP($A24,'Section 2'!$E$17:$V$216,COLUMNS('Section 2'!$E$13:F$14),0)),\"\",VLOOKUP($A24,'Section 2'!$E$17:$V$216,COLUMNS('Section 2'!$E$13:F$14),0)))","v":""},{"$f":"IF($C24=\"\",\"\",IF(ISBLANK(VLOOKUP($A24,'Section 2'!$E$17:$V$216,COLUMNS('Section 2'!$E$13:G$14),0)),\"\",VLOOKUP($A24,'Section 2'!$E$17:$V$216,COLUMNS('Section 2'!$E$13:G$14),0)))","v":""},{"$f":"IF($C24=\"\",\"\",IF(ISBLANK(VLOOKUP($A24,'Section 2'!$E$17:$V$216,COLUMNS('Section 2'!$E$13:H$14),0)),\"\",VLOOKUP($A24,'Section 2'!$E$17:$V$216,COLUMNS('Section 2'!$E$13:H$14),0)))","v":""},{"$f":"IF($C24=\"\",\"\",IF(ISBLANK(VLOOKUP($A24,'Section 2'!$E$17:$V$216,COLUMNS('Section 2'!$E$13:I$14),0)),\"\",VLOOKUP($A24,'Section 2'!$E$17:$V$216,COLUMNS('Section 2'!$E$13:I$14),0)))","v":""},{"$f":"IF($C24=\"\",\"\",IF(ISBLANK(VLOOKUP($A24,'Section 2'!$E$17:$V$216,COLUMNS('Section 2'!$E$13:J$14),0)),\"\",VLOOKUP($A24,'Section 2'!$E$17:$V$216,COLUMNS('Section 2'!$E$13:J$14),0)))","v":""},{"$f":"IF($C24=\"\",\"\",IF(ISBLANK(VLOOKUP($A24,'Section 2'!$E$17:$V$216,COLUMNS('Section 2'!$E$13:K$14),0)),\"\",VLOOKUP($A24,'Section 2'!$E$17:$V$216,COLUMNS('Section 2'!$E$13:K$14),0)))","v":""},{"$f":"IF($C24=\"\",\"\",IF(ISBLANK(VLOOKUP($A24,'Section 2'!$E$17:$V$216,COLUMNS('Section 2'!$E$13:L$14),0)),\"\",VLOOKUP($A24,'Section 2'!$E$17:$V$216,COLUMNS('Section 2'!$E$13:L$14),0)))","v":""},{"$f":"IF($C24=\"\",\"\",IF(ISBLANK(VLOOKUP($A24,'Section 2'!$E$17:$V$216,COLUMNS('Section 2'!$E$13:M$14),0)),\"\",VLOOKUP($A24,'Section 2'!$E$17:$V$216,COLUMNS('Section 2'!$E$13:M$14),0)))","v":""},{"$f":"IF($C24=\"\",\"\",IF(ISBLANK(VLOOKUP($A24,'Section 2'!$E$17:$V$216,COLUMNS('Section 2'!$E$13:N$14),0)),\"\",VLOOKUP($A24,'Section 2'!$E$17:$V$216,COLUMNS('Section 2'!$E$13:N$14),0)))","v":""},{"$f":"IF($C24=\"\",\"\",IF(ISBLANK(VLOOKUP($A24,'Section 2'!$E$17:$V$216,COLUMNS('Section 2'!$E$13:O$14),0)),\"\",VLOOKUP($A24,'Section 2'!$E$17:$V$216,COLUMNS('Section 2'!$E$13:O$14),0)))","v":""},{"$f":"IF($C24=\"\",\"\",IF(ISBLANK(VLOOKUP($A24,'Section 2'!$E$17:$V$216,COLUMNS('Section 2'!$E$13:P$14),0)),\"\",VLOOKUP($A24,'Section 2'!$E$17:$V$216,COLUMNS('Section 2'!$E$13:P$14),0)))","v":""},{"$f":"IF($C24=\"\",\"\",IF(ISBLANK(VLOOKUP($A24,'Section 2'!$E$17:$V$216,COLUMNS('Section 2'!$E$13:Q$14),0)),\"\",VLOOKUP($A24,'Section 2'!$E$17:$V$216,COLUMNS('Section 2'!$E$13:Q$14),0)))","v":""},{"$f":"IF($C24=\"\",\"\",IF(ISBLANK(VLOOKUP($A24,'Section 2'!$E$17:$V$216,COLUMNS('Section 2'!$E$13:R$14),0)),\"\",VLOOKUP($A24,'Section 2'!$E$17:$V$216,COLUMNS('Section 2'!$E$13:R$14),0)))","v":""},{"$f":"IF($C24=\"\",\"\",IF(ISBLANK(VLOOKUP($A24,'Section 2'!$E$17:$V$216,COLUMNS('Section 2'!$E$13:S$14),0)),\"\",VLOOKUP($A24,'Section 2'!$E$17:$V$216,COLUMNS('Section 2'!$E$13:S$14),0)))","v":""},{"$f":"IF($C24=\"\",\"\",IF(ISBLANK(VLOOKUP($A24,'Section 2'!$E$17:$V$216,COLUMNS('Section 2'!$E$13:T$14),0)),\"\",VLOOKUP($A24,'Section 2'!$E$17:$V$216,COLUMNS('Section 2'!$E$13:T$14),0)))","v":""},{"$f":"IF($C24=\"\",\"\",IF(ISBLANK(VLOOKUP($A24,'Section 2'!$E$17:$V$216,COLUMNS('Section 2'!$E$13:U$14),0)),\"\",VLOOKUP($A24,'Section 2'!$E$17:$V$216,COLUMNS('Section 2'!$E$13:U$14),0)))","v":""},{"$f":"IF($C24=\"\",\"\",IF(ISBLANK(VLOOKUP($A24,'Section 2'!$E$17:$V$216,COLUMNS('Section 2'!$E$13:V$14),0)),\"\",VLOOKUP($A24,'Section 2'!$E$17:$V$216,COLUMNS('Section 2'!$E$13:V$14),0)))","v":""}]
[24,"",{"$f":"IFERROR(VLOOKUP($A25,'Section 2'!$E$17:$V$216,COLUMNS('Section 2'!$E$13:E$14),0),\"\")","v":""},{"$f":"IF($C25=\"\",\"\",IF(ISBLANK(VLOOKUP($A25,'Section 2'!$E$17:$V$216,COLUMNS('Section 2'!$E$13:F$14),0)),\"\",VLOOKUP($A25,'Section 2'!$E$17:$V$216,COLUMNS('Section 2'!$E$13:F$14),0)))","v":""},{"$f":"IF($C25=\"\",\"\",IF(ISBLANK(VLOOKUP($A25,'Section 2'!$E$17:$V$216,COLUMNS('Section 2'!$E$13:G$14),0)),\"\",VLOOKUP($A25,'Section 2'!$E$17:$V$216,COLUMNS('Section 2'!$E$13:G$14),0)))","v":""},{"$f":"IF($C25=\"\",\"\",IF(ISBLANK(VLOOKUP($A25,'Section 2'!$E$17:$V$216,COLUMNS('Section 2'!$E$13:H$14),0)),\"\",VLOOKUP($A25,'Section 2'!$E$17:$V$216,COLUMNS('Section 2'!$E$13:H$14),0)))","v":""},{"$f":"IF($C25=\"\",\"\",IF(ISBLANK(VLOOKUP($A25,'Section 2'!$E$17:$V$216,COLUMNS('Section 2'!$E$13:I$14),0)),\"\",VLOOKUP($A25,'Section 2'!$E$17:$V$216,COLUMNS('Section 2'!$E$13:I$14),0)))","v":""},{"$f":"IF($C25=\"\",\"\",IF(ISBLANK(VLOOKUP($A25,'Section 2'!$E$17:$V$216,COLUMNS('Section 2'!$E$13:J$14),0)),\"\",VLOOKUP($A25,'Section 2'!$E$17:$V$216,COLUMNS('Section 2'!$E$13:J$14),0)))","v":""},{"$f":"IF($C25=\"\",\"\",IF(ISBLANK(VLOOKUP($A25,'Section 2'!$E$17:$V$216,COLUMNS('Section 2'!$E$13:K$14),0)),\"\",VLOOKUP($A25,'Section 2'!$E$17:$V$216,COLUMNS('Section 2'!$E$13:K$14),0)))","v":""},{"$f":"IF($C25=\"\",\"\",IF(ISBLANK(VLOOKUP($A25,'Section 2'!$E$17:$V$216,COLUMNS('Section 2'!$E$13:L$14),0)),\"\",VLOOKUP($A25,'Section 2'!$E$17:$V$216,COLUMNS('Section 2'!$E$13:L$14),0)))","v":""},{"$f":"IF($C25=\"\",\"\",IF(ISBLANK(VLOOKUP($A25,'Section 2'!$E$17:$V$216,COLUMNS('Section 2'!$E$13:M$14),0)),\"\",VLOOKUP($A25,'Section 2'!$E$17:$V$216,COLUMNS('Section 2'!$E$13:M$14),0)))","v":""},{"$f":"IF($C25=\"\",\"\",IF(ISBLANK(VLOOKUP($A25,'Section 2'!$E$17:$V$216,COLUMNS('Section 2'!$E$13:N$14),0)),\"\",VLOOKUP($A25,'Section 2'!$E$17:$V$216,COLUMNS('Section 2'!$E$13:N$14),0)))","v":""},{"$f":"IF($C25=\"\",\"\",IF(ISBLANK(VLOOKUP($A25,'Section 2'!$E$17:$V$216,COLUMNS('Section 2'!$E$13:O$14),0)),\"\",VLOOKUP($A25,'Section 2'!$E$17:$V$216,COLUMNS('Section 2'!$E$13:O$14),0)))","v":""},{"$f":"IF($C25=\"\",\"\",IF(ISBLANK(VLOOKUP($A25,'Section 2'!$E$17:$V$216,COLUMNS('Section 2'!$E$13:P$14),0)),\"\",VLOOKUP($A25,'Section 2'!$E$17:$V$216,COLUMNS('Section 2'!$E$13:P$14),0)))","v":""},{"$f":"IF($C25=\"\",\"\",IF(ISBLANK(VLOOKUP($A25,'Section 2'!$E$17:$V$216,COLUMNS('Section 2'!$E$13:Q$14),0)),\"\",VLOOKUP($A25,'Section 2'!$E$17:$V$216,COLUMNS('Section 2'!$E$13:Q$14),0)))","v":""},{"$f":"IF($C25=\"\",\"\",IF(ISBLANK(VLOOKUP($A25,'Section 2'!$E$17:$V$216,COLUMNS('Section 2'!$E$13:R$14),0)),\"\",VLOOKUP($A25,'Section 2'!$E$17:$V$216,COLUMNS('Section 2'!$E$13:R$14),0)))","v":""},{"$f":"IF($C25=\"\",\"\",IF(ISBLANK(VLOOKUP($A25,'Section 2'!$E$17:$V$216,COLUMNS('Section 2'!$E$13:S$14),0)),\"\",VLOOKUP($A25,'Section 2'!$E$17:$V$216,COLUMNS('Section 2'!$E$13:S$14),0)))","v":""},{"$f":"IF($C25=\"\",\"\",IF(ISBLANK(VLOOKUP($A25,'Section 2'!$E$17:$V$216,COLUMNS('Section 2'!$E$13:T$14),0)),\"\",VLOOKUP($A25,'Section 2'!$E$17:$V$216,COLUMNS('Section 2'!$E$13:T$14),0)))","v":""},{"$f":"IF($C25=\"\",\"\",IF(ISBLANK(VLOOKUP($A25,'Section 2'!$E$17:$V$216,COLUMNS('Section 2'!$E$13:U$14),0)),\"\",VLOOKUP($A25,'Section 2'!$E$17:$V$216,COLUMNS('Section 2'!$E$13:U$14),0)))","v":""},{"$f":"IF($C25=\"\",\"\",IF(ISBLANK(VLOOKUP($A25,'Section 2'!$E$17:$V$216,COLUMNS('Section 2'!$E$13:V$14),0)),\"\",VLOOKUP($A25,'Section 2'!$E$17:$V$216,COLUMNS('Section 2'!$E$13:V$14),0)))","v":""}]
[25,"",{"$f":"IFERROR(VLOOKUP($A26,'Section 2'!$E$17:$V$216,COLUMNS('Section 2'!$E$13:E$14),0),\"\")","v":""},{"$f":"IF($C26=\"\",\"\",IF(ISBLANK(VLOOKUP($A26,'Section 2'!$E$17:$V$216,COLUMNS('Section 2'!$E$13:F$14),0)),\"\",VLOOKUP($A26,'Section 2'!$E$17:$V$216,COLUMNS('Section 2'!$E$13:F$14),0)))","v":""},{"$f":"IF($C26=\"\",\"\",IF(ISBLANK(VLOOKUP($A26,'Section 2'!$E$17:$V$216,COLUMNS('Section 2'!$E$13:G$14),0)),\"\",VLOOKUP($A26,'Section 2'!$E$17:$V$216,COLUMNS('Section 2'!$E$13:G$14),0)))","v":""},{"$f":"IF($C26=\"\",\"\",IF(ISBLANK(VLOOKUP($A26,'Section 2'!$E$17:$V$216,COLUMNS('Section 2'!$E$13:H$14),0)),\"\",VLOOKUP($A26,'Section 2'!$E$17:$V$216,COLUMNS('Section 2'!$E$13:H$14),0)))","v":""},{"$f":"IF($C26=\"\",\"\",IF(ISBLANK(VLOOKUP($A26,'Section 2'!$E$17:$V$216,COLUMNS('Section 2'!$E$13:I$14),0)),\"\",VLOOKUP($A26,'Section 2'!$E$17:$V$216,COLUMNS('Section 2'!$E$13:I$14),0)))","v":""},{"$f":"IF($C26=\"\",\"\",IF(ISBLANK(VLOOKUP($A26,'Section 2'!$E$17:$V$216,COLUMNS('Section 2'!$E$13:J$14),0)),\"\",VLOOKUP($A26,'Section 2'!$E$17:$V$216,COLUMNS('Section 2'!$E$13:J$14),0)))","v":""},{"$f":"IF($C26=\"\",\"\",IF(ISBLANK(VLOOKUP($A26,'Section 2'!$E$17:$V$216,COLUMNS('Section 2'!$E$13:K$14),0)),\"\",VLOOKUP($A26,'Section 2'!$E$17:$V$216,COLUMNS('Section 2'!$E$13:K$14),0)))","v":""},{"$f":"IF($C26=\"\",\"\",IF(ISBLANK(VLOOKUP($A26,'Section 2'!$E$17:$V$216,COLUMNS('Section 2'!$E$13:L$14),0)),\"\",VLOOKUP($A26,'Section 2'!$E$17:$V$216,COLUMNS('Section 2'!$E$13:L$14),0)))","v":""},{"$f":"IF($C26=\"\",\"\",IF(ISBLANK(VLOOKUP($A26,'Section 2'!$E$17:$V$216,COLUMNS('Section 2'!$E$13:M$14),0)),\"\",VLOOKUP($A26,'Section 2'!$E$17:$V$216,COLUMNS('Section 2'!$E$13:M$14),0)))","v":""},{"$f":"IF($C26=\"\",\"\",IF(ISBLANK(VLOOKUP($A26,'Section 2'!$E$17:$V$216,COLUMNS('Section 2'!$E$13:N$14),0)),\"\",VLOOKUP($A26,'Section 2'!$E$17:$V$216,COLUMNS('Section 2'!$E$13:N$14),0)))","v":""},{"$f":"IF($C26=\"\",\"\",IF(ISBLANK(VLOOKUP($A26,'Section 2'!$E$17:$V$216,COLUMNS('Section 2'!$E$13:O$14),0)),\"\",VLOOKUP($A26,'Section 2'!$E$17:$V$216,COLUMNS('Section 2'!$E$13:O$14),0)))","v":""},{"$f":"IF($C26=\"\",\"\",IF(ISBLANK(VLOOKUP($A26,'Section 2'!$E$17:$V$216,COLUMNS('Section 2'!$E$13:P$14),0)),\"\",VLOOKUP($A26,'Section 2'!$E$17:$V$216,COLUMNS('Section 2'!$E$13:P$14),0)))","v":""},{"$f":"IF($C26=\"\",\"\",IF(ISBLANK(VLOOKUP($A26,'Section 2'!$E$17:$V$216,COLUMNS('Section 2'!$E$13:Q$14),0)),\"\",VLOOKUP($A26,'Section 2'!$E$17:$V$216,COLUMNS('Section 2'!$E$13:Q$14),0)))","v":""},{"$f":"IF($C26=\"\",\"\",IF(ISBLANK(VLOOKUP($A26,'Section 2'!$E$17:$V$216,COLUMNS('Section 2'!$E$13:R$14),0)),\"\",VLOOKUP($A26,'Section 2'!$E$17:$V$216,COLUMNS('Section 2'!$E$13:R$14),0)))","v":""},{"$f":"IF($C26=\"\",\"\",IF(ISBLANK(VLOOKUP($A26,'Section 2'!$E$17:$V$216,COLUMNS('Section 2'!$E$13:S$14),0)),\"\",VLOOKUP($A26,'Section 2'!$E$17:$V$216,COLUMNS('Section 2'!$E$13:S$14),0)))","v":""},{"$f":"IF($C26=\"\",\"\",IF(ISBLANK(VLOOKUP($A26,'Section 2'!$E$17:$V$216,COLUMNS('Section 2'!$E$13:T$14),0)),\"\",VLOOKUP($A26,'Section 2'!$E$17:$V$216,COLUMNS('Section 2'!$E$13:T$14),0)))","v":""},{"$f":"IF($C26=\"\",\"\",IF(ISBLANK(VLOOKUP($A26,'Section 2'!$E$17:$V$216,COLUMNS('Section 2'!$E$13:U$14),0)),\"\",VLOOKUP($A26,'Section 2'!$E$17:$V$216,COLUMNS('Section 2'!$E$13:U$14),0)))","v":""},{"$f":"IF($C26=\"\",\"\",IF(ISBLANK(VLOOKUP($A26,'Section 2'!$E$17:$V$216,COLUMNS('Section 2'!$E$13:V$14),0)),\"\",VLOOKUP($A26,'Section 2'!$E$17:$V$216,COLUMNS('Section 2'!$E$13:V$14),0)))","v":""}]
[26,"",{"$f":"IFERROR(VLOOKUP($A27,'Section 2'!$E$17:$V$216,COLUMNS('Section 2'!$E$13:E$14),0),\"\")","v":""},{"$f":"IF($C27=\"\",\"\",IF(ISBLANK(VLOOKUP($A27,'Section 2'!$E$17:$V$216,COLUMNS('Section 2'!$E$13:F$14),0)),\"\",VLOOKUP($A27,'Section 2'!$E$17:$V$216,COLUMNS('Section 2'!$E$13:F$14),0)))","v":""},{"$f":"IF($C27=\"\",\"\",IF(ISBLANK(VLOOKUP($A27,'Section 2'!$E$17:$V$216,COLUMNS('Section 2'!$E$13:G$14),0)),\"\",VLOOKUP($A27,'Section 2'!$E$17:$V$216,COLUMNS('Section 2'!$E$13:G$14),0)))","v":""},{"$f":"IF($C27=\"\",\"\",IF(ISBLANK(VLOOKUP($A27,'Section 2'!$E$17:$V$216,COLUMNS('Section 2'!$E$13:H$14),0)),\"\",VLOOKUP($A27,'Section 2'!$E$17:$V$216,COLUMNS('Section 2'!$E$13:H$14),0)))","v":""},{"$f":"IF($C27=\"\",\"\",IF(ISBLANK(VLOOKUP($A27,'Section 2'!$E$17:$V$216,COLUMNS('Section 2'!$E$13:I$14),0)),\"\",VLOOKUP($A27,'Section 2'!$E$17:$V$216,COLUMNS('Section 2'!$E$13:I$14),0)))","v":""},{"$f":"IF($C27=\"\",\"\",IF(ISBLANK(VLOOKUP($A27,'Section 2'!$E$17:$V$216,COLUMNS('Section 2'!$E$13:J$14),0)),\"\",VLOOKUP($A27,'Section 2'!$E$17:$V$216,COLUMNS('Section 2'!$E$13:J$14),0)))","v":""},{"$f":"IF($C27=\"\",\"\",IF(ISBLANK(VLOOKUP($A27,'Section 2'!$E$17:$V$216,COLUMNS('Section 2'!$E$13:K$14),0)),\"\",VLOOKUP($A27,'Section 2'!$E$17:$V$216,COLUMNS('Section 2'!$E$13:K$14),0)))","v":""},{"$f":"IF($C27=\"\",\"\",IF(ISBLANK(VLOOKUP($A27,'Section 2'!$E$17:$V$216,COLUMNS('Section 2'!$E$13:L$14),0)),\"\",VLOOKUP($A27,'Section 2'!$E$17:$V$216,COLUMNS('Section 2'!$E$13:L$14),0)))","v":""},{"$f":"IF($C27=\"\",\"\",IF(ISBLANK(VLOOKUP($A27,'Section 2'!$E$17:$V$216,COLUMNS('Section 2'!$E$13:M$14),0)),\"\",VLOOKUP($A27,'Section 2'!$E$17:$V$216,COLUMNS('Section 2'!$E$13:M$14),0)))","v":""},{"$f":"IF($C27=\"\",\"\",IF(ISBLANK(VLOOKUP($A27,'Section 2'!$E$17:$V$216,COLUMNS('Section 2'!$E$13:N$14),0)),\"\",VLOOKUP($A27,'Section 2'!$E$17:$V$216,COLUMNS('Section 2'!$E$13:N$14),0)))","v":""},{"$f":"IF($C27=\"\",\"\",IF(ISBLANK(VLOOKUP($A27,'Section 2'!$E$17:$V$216,COLUMNS('Section 2'!$E$13:O$14),0)),\"\",VLOOKUP($A27,'Section 2'!$E$17:$V$216,COLUMNS('Section 2'!$E$13:O$14),0)))","v":""},{"$f":"IF($C27=\"\",\"\",IF(ISBLANK(VLOOKUP($A27,'Section 2'!$E$17:$V$216,COLUMNS('Section 2'!$E$13:P$14),0)),\"\",VLOOKUP($A27,'Section 2'!$E$17:$V$216,COLUMNS('Section 2'!$E$13:P$14),0)))","v":""},{"$f":"IF($C27=\"\",\"\",IF(ISBLANK(VLOOKUP($A27,'Section 2'!$E$17:$V$216,COLUMNS('Section 2'!$E$13:Q$14),0)),\"\",VLOOKUP($A27,'Section 2'!$E$17:$V$216,COLUMNS('Section 2'!$E$13:Q$14),0)))","v":""},{"$f":"IF($C27=\"\",\"\",IF(ISBLANK(VLOOKUP($A27,'Section 2'!$E$17:$V$216,COLUMNS('Section 2'!$E$13:R$14),0)),\"\",VLOOKUP($A27,'Section 2'!$E$17:$V$216,COLUMNS('Section 2'!$E$13:R$14),0)))","v":""},{"$f":"IF($C27=\"\",\"\",IF(ISBLANK(VLOOKUP($A27,'Section 2'!$E$17:$V$216,COLUMNS('Section 2'!$E$13:S$14),0)),\"\",VLOOKUP($A27,'Section 2'!$E$17:$V$216,COLUMNS('Section 2'!$E$13:S$14),0)))","v":""},{"$f":"IF($C27=\"\",\"\",IF(ISBLANK(VLOOKUP($A27,'Section 2'!$E$17:$V$216,COLUMNS('Section 2'!$E$13:T$14),0)),\"\",VLOOKUP($A27,'Section 2'!$E$17:$V$216,COLUMNS('Section 2'!$E$13:T$14),0)))","v":""},{"$f":"IF($C27=\"\",\"\",IF(ISBLANK(VLOOKUP($A27,'Section 2'!$E$17:$V$216,COLUMNS('Section 2'!$E$13:U$14),0)),\"\",VLOOKUP($A27,'Section 2'!$E$17:$V$216,COLUMNS('Section 2'!$E$13:U$14),0)))","v":""},{"$f":"IF($C27=\"\",\"\",IF(ISBLANK(VLOOKUP($A27,'Section 2'!$E$17:$V$216,COLUMNS('Section 2'!$E$13:V$14),0)),\"\",VLOOKUP($A27,'Section 2'!$E$17:$V$216,COLUMNS('Section 2'!$E$13:V$14),0)))","v":""}]
[27,"",{"$f":"IFERROR(VLOOKUP($A28,'Section 2'!$E$17:$V$216,COLUMNS('Section 2'!$E$13:E$14),0),\"\")","v":""},{"$f":"IF($C28=\"\",\"\",IF(ISBLANK(VLOOKUP($A28,'Section 2'!$E$17:$V$216,COLUMNS('Section 2'!$E$13:F$14),0)),\"\",VLOOKUP($A28,'Section 2'!$E$17:$V$216,COLUMNS('Section 2'!$E$13:F$14),0)))","v":""},{"$f":"IF($C28=\"\",\"\",IF(ISBLANK(VLOOKUP($A28,'Section 2'!$E$17:$V$216,COLUMNS('Section 2'!$E$13:G$14),0)),\"\",VLOOKUP($A28,'Section 2'!$E$17:$V$216,COLUMNS('Section 2'!$E$13:G$14),0)))","v":""},{"$f":"IF($C28=\"\",\"\",IF(ISBLANK(VLOOKUP($A28,'Section 2'!$E$17:$V$216,COLUMNS('Section 2'!$E$13:H$14),0)),\"\",VLOOKUP($A28,'Section 2'!$E$17:$V$216,COLUMNS('Section 2'!$E$13:H$14),0)))","v":""},{"$f":"IF($C28=\"\",\"\",IF(ISBLANK(VLOOKUP($A28,'Section 2'!$E$17:$V$216,COLUMNS('Section 2'!$E$13:I$14),0)),\"\",VLOOKUP($A28,'Section 2'!$E$17:$V$216,COLUMNS('Section 2'!$E$13:I$14),0)))","v":""},{"$f":"IF($C28=\"\",\"\",IF(ISBLANK(VLOOKUP($A28,'Section 2'!$E$17:$V$216,COLUMNS('Section 2'!$E$13:J$14),0)),\"\",VLOOKUP($A28,'Section 2'!$E$17:$V$216,COLUMNS('Section 2'!$E$13:J$14),0)))","v":""},{"$f":"IF($C28=\"\",\"\",IF(ISBLANK(VLOOKUP($A28,'Section 2'!$E$17:$V$216,COLUMNS('Section 2'!$E$13:K$14),0)),\"\",VLOOKUP($A28,'Section 2'!$E$17:$V$216,COLUMNS('Section 2'!$E$13:K$14),0)))","v":""},{"$f":"IF($C28=\"\",\"\",IF(ISBLANK(VLOOKUP($A28,'Section 2'!$E$17:$V$216,COLUMNS('Section 2'!$E$13:L$14),0)),\"\",VLOOKUP($A28,'Section 2'!$E$17:$V$216,COLUMNS('Section 2'!$E$13:L$14),0)))","v":""},{"$f":"IF($C28=\"\",\"\",IF(ISBLANK(VLOOKUP($A28,'Section 2'!$E$17:$V$216,COLUMNS('Section 2'!$E$13:M$14),0)),\"\",VLOOKUP($A28,'Section 2'!$E$17:$V$216,COLUMNS('Section 2'!$E$13:M$14),0)))","v":""},{"$f":"IF($C28=\"\",\"\",IF(ISBLANK(VLOOKUP($A28,'Section 2'!$E$17:$V$216,COLUMNS('Section 2'!$E$13:N$14),0)),\"\",VLOOKUP($A28,'Section 2'!$E$17:$V$216,COLUMNS('Section 2'!$E$13:N$14),0)))","v":""},{"$f":"IF($C28=\"\",\"\",IF(ISBLANK(VLOOKUP($A28,'Section 2'!$E$17:$V$216,COLUMNS('Section 2'!$E$13:O$14),0)),\"\",VLOOKUP($A28,'Section 2'!$E$17:$V$216,COLUMNS('Section 2'!$E$13:O$14),0)))","v":""},{"$f":"IF($C28=\"\",\"\",IF(ISBLANK(VLOOKUP($A28,'Section 2'!$E$17:$V$216,COLUMNS('Section 2'!$E$13:P$14),0)),\"\",VLOOKUP($A28,'Section 2'!$E$17:$V$216,COLUMNS('Section 2'!$E$13:P$14),0)))","v":""},{"$f":"IF($C28=\"\",\"\",IF(ISBLANK(VLOOKUP($A28,'Section 2'!$E$17:$V$216,COLUMNS('Section 2'!$E$13:Q$14),0)),\"\",VLOOKUP($A28,'Section 2'!$E$17:$V$216,COLUMNS('Section 2'!$E$13:Q$14),0)))","v":""},{"$f":"IF($C28=\"\",\"\",IF(ISBLANK(VLOOKUP($A28,'Section 2'!$E$17:$V$216,COLUMNS('Section 2'!$E$13:R$14),0)),\"\",VLOOKUP($A28,'Section 2'!$E$17:$V$216,COLUMNS('Section 2'!$E$13:R$14),0)))","v":""},{"$f":"IF($C28=\"\",\"\",IF(ISBLANK(VLOOKUP($A28,'Section 2'!$E$17:$V$216,COLUMNS('Section 2'!$E$13:S$14),0)),\"\",VLOOKUP($A28,'Section 2'!$E$17:$V$216,COLUMNS('Section 2'!$E$13:S$14),0)))","v":""},{"$f":"IF($C28=\"\",\"\",IF(ISBLANK(VLOOKUP($A28,'Section 2'!$E$17:$V$216,COLUMNS('Section 2'!$E$13:T$14),0)),\"\",VLOOKUP($A28,'Section 2'!$E$17:$V$216,COLUMNS('Section 2'!$E$13:T$14),0)))","v":""},{"$f":"IF($C28=\"\",\"\",IF(ISBLANK(VLOOKUP($A28,'Section 2'!$E$17:$V$216,COLUMNS('Section 2'!$E$13:U$14),0)),\"\",VLOOKUP($A28,'Section 2'!$E$17:$V$216,COLUMNS('Section 2'!$E$13:U$14),0)))","v":""},{"$f":"IF($C28=\"\",\"\",IF(ISBLANK(VLOOKUP($A28,'Section 2'!$E$17:$V$216,COLUMNS('Section 2'!$E$13:V$14),0)),\"\",VLOOKUP($A28,'Section 2'!$E$17:$V$216,COLUMNS('Section 2'!$E$13:V$14),0)))","v":""}]
[28,"",{"$f":"IFERROR(VLOOKUP($A29,'Section 2'!$E$17:$V$216,COLUMNS('Section 2'!$E$13:E$14),0),\"\")","v":""},{"$f":"IF($C29=\"\",\"\",IF(ISBLANK(VLOOKUP($A29,'Section 2'!$E$17:$V$216,COLUMNS('Section 2'!$E$13:F$14),0)),\"\",VLOOKUP($A29,'Section 2'!$E$17:$V$216,COLUMNS('Section 2'!$E$13:F$14),0)))","v":""},{"$f":"IF($C29=\"\",\"\",IF(ISBLANK(VLOOKUP($A29,'Section 2'!$E$17:$V$216,COLUMNS('Section 2'!$E$13:G$14),0)),\"\",VLOOKUP($A29,'Section 2'!$E$17:$V$216,COLUMNS('Section 2'!$E$13:G$14),0)))","v":""},{"$f":"IF($C29=\"\",\"\",IF(ISBLANK(VLOOKUP($A29,'Section 2'!$E$17:$V$216,COLUMNS('Section 2'!$E$13:H$14),0)),\"\",VLOOKUP($A29,'Section 2'!$E$17:$V$216,COLUMNS('Section 2'!$E$13:H$14),0)))","v":""},{"$f":"IF($C29=\"\",\"\",IF(ISBLANK(VLOOKUP($A29,'Section 2'!$E$17:$V$216,COLUMNS('Section 2'!$E$13:I$14),0)),\"\",VLOOKUP($A29,'Section 2'!$E$17:$V$216,COLUMNS('Section 2'!$E$13:I$14),0)))","v":""},{"$f":"IF($C29=\"\",\"\",IF(ISBLANK(VLOOKUP($A29,'Section 2'!$E$17:$V$216,COLUMNS('Section 2'!$E$13:J$14),0)),\"\",VLOOKUP($A29,'Section 2'!$E$17:$V$216,COLUMNS('Section 2'!$E$13:J$14),0)))","v":""},{"$f":"IF($C29=\"\",\"\",IF(ISBLANK(VLOOKUP($A29,'Section 2'!$E$17:$V$216,COLUMNS('Section 2'!$E$13:K$14),0)),\"\",VLOOKUP($A29,'Section 2'!$E$17:$V$216,COLUMNS('Section 2'!$E$13:K$14),0)))","v":""},{"$f":"IF($C29=\"\",\"\",IF(ISBLANK(VLOOKUP($A29,'Section 2'!$E$17:$V$216,COLUMNS('Section 2'!$E$13:L$14),0)),\"\",VLOOKUP($A29,'Section 2'!$E$17:$V$216,COLUMNS('Section 2'!$E$13:L$14),0)))","v":""},{"$f":"IF($C29=\"\",\"\",IF(ISBLANK(VLOOKUP($A29,'Section 2'!$E$17:$V$216,COLUMNS('Section 2'!$E$13:M$14),0)),\"\",VLOOKUP($A29,'Section 2'!$E$17:$V$216,COLUMNS('Section 2'!$E$13:M$14),0)))","v":""},{"$f":"IF($C29=\"\",\"\",IF(ISBLANK(VLOOKUP($A29,'Section 2'!$E$17:$V$216,COLUMNS('Section 2'!$E$13:N$14),0)),\"\",VLOOKUP($A29,'Section 2'!$E$17:$V$216,COLUMNS('Section 2'!$E$13:N$14),0)))","v":""},{"$f":"IF($C29=\"\",\"\",IF(ISBLANK(VLOOKUP($A29,'Section 2'!$E$17:$V$216,COLUMNS('Section 2'!$E$13:O$14),0)),\"\",VLOOKUP($A29,'Section 2'!$E$17:$V$216,COLUMNS('Section 2'!$E$13:O$14),0)))","v":""},{"$f":"IF($C29=\"\",\"\",IF(ISBLANK(VLOOKUP($A29,'Section 2'!$E$17:$V$216,COLUMNS('Section 2'!$E$13:P$14),0)),\"\",VLOOKUP($A29,'Section 2'!$E$17:$V$216,COLUMNS('Section 2'!$E$13:P$14),0)))","v":""},{"$f":"IF($C29=\"\",\"\",IF(ISBLANK(VLOOKUP($A29,'Section 2'!$E$17:$V$216,COLUMNS('Section 2'!$E$13:Q$14),0)),\"\",VLOOKUP($A29,'Section 2'!$E$17:$V$216,COLUMNS('Section 2'!$E$13:Q$14),0)))","v":""},{"$f":"IF($C29=\"\",\"\",IF(ISBLANK(VLOOKUP($A29,'Section 2'!$E$17:$V$216,COLUMNS('Section 2'!$E$13:R$14),0)),\"\",VLOOKUP($A29,'Section 2'!$E$17:$V$216,COLUMNS('Section 2'!$E$13:R$14),0)))","v":""},{"$f":"IF($C29=\"\",\"\",IF(ISBLANK(VLOOKUP($A29,'Section 2'!$E$17:$V$216,COLUMNS('Section 2'!$E$13:S$14),0)),\"\",VLOOKUP($A29,'Section 2'!$E$17:$V$216,COLUMNS('Section 2'!$E$13:S$14),0)))","v":""},{"$f":"IF($C29=\"\",\"\",IF(ISBLANK(VLOOKUP($A29,'Section 2'!$E$17:$V$216,COLUMNS('Section 2'!$E$13:T$14),0)),\"\",VLOOKUP($A29,'Section 2'!$E$17:$V$216,COLUMNS('Section 2'!$E$13:T$14),0)))","v":""},{"$f":"IF($C29=\"\",\"\",IF(ISBLANK(VLOOKUP($A29,'Section 2'!$E$17:$V$216,COLUMNS('Section 2'!$E$13:U$14),0)),\"\",VLOOKUP($A29,'Section 2'!$E$17:$V$216,COLUMNS('Section 2'!$E$13:U$14),0)))","v":""},{"$f":"IF($C29=\"\",\"\",IF(ISBLANK(VLOOKUP($A29,'Section 2'!$E$17:$V$216,COLUMNS('Section 2'!$E$13:V$14),0)),\"\",VLOOKUP($A29,'Section 2'!$E$17:$V$216,COLUMNS('Section 2'!$E$13:V$14),0)))","v":""}]
[29,"",{"$f":"IFERROR(VLOOKUP($A30,'Section 2'!$E$17:$V$216,COLUMNS('Section 2'!$E$13:E$14),0),\"\")","v":""},{"$f":"IF($C30=\"\",\"\",IF(ISBLANK(VLOOKUP($A30,'Section 2'!$E$17:$V$216,COLUMNS('Section 2'!$E$13:F$14),0)),\"\",VLOOKUP($A30,'Section 2'!$E$17:$V$216,COLUMNS('Section 2'!$E$13:F$14),0)))","v":""},{"$f":"IF($C30=\"\",\"\",IF(ISBLANK(VLOOKUP($A30,'Section 2'!$E$17:$V$216,COLUMNS('Section 2'!$E$13:G$14),0)),\"\",VLOOKUP($A30,'Section 2'!$E$17:$V$216,COLUMNS('Section 2'!$E$13:G$14),0)))","v":""},{"$f":"IF($C30=\"\",\"\",IF(ISBLANK(VLOOKUP($A30,'Section 2'!$E$17:$V$216,COLUMNS('Section 2'!$E$13:H$14),0)),\"\",VLOOKUP($A30,'Section 2'!$E$17:$V$216,COLUMNS('Section 2'!$E$13:H$14),0)))","v":""},{"$f":"IF($C30=\"\",\"\",IF(ISBLANK(VLOOKUP($A30,'Section 2'!$E$17:$V$216,COLUMNS('Section 2'!$E$13:I$14),0)),\"\",VLOOKUP($A30,'Section 2'!$E$17:$V$216,COLUMNS('Section 2'!$E$13:I$14),0)))","v":""},{"$f":"IF($C30=\"\",\"\",IF(ISBLANK(VLOOKUP($A30,'Section 2'!$E$17:$V$216,COLUMNS('Section 2'!$E$13:J$14),0)),\"\",VLOOKUP($A30,'Section 2'!$E$17:$V$216,COLUMNS('Section 2'!$E$13:J$14),0)))","v":""},{"$f":"IF($C30=\"\",\"\",IF(ISBLANK(VLOOKUP($A30,'Section 2'!$E$17:$V$216,COLUMNS('Section 2'!$E$13:K$14),0)),\"\",VLOOKUP($A30,'Section 2'!$E$17:$V$216,COLUMNS('Section 2'!$E$13:K$14),0)))","v":""},{"$f":"IF($C30=\"\",\"\",IF(ISBLANK(VLOOKUP($A30,'Section 2'!$E$17:$V$216,COLUMNS('Section 2'!$E$13:L$14),0)),\"\",VLOOKUP($A30,'Section 2'!$E$17:$V$216,COLUMNS('Section 2'!$E$13:L$14),0)))","v":""},{"$f":"IF($C30=\"\",\"\",IF(ISBLANK(VLOOKUP($A30,'Section 2'!$E$17:$V$216,COLUMNS('Section 2'!$E$13:M$14),0)),\"\",VLOOKUP($A30,'Section 2'!$E$17:$V$216,COLUMNS('Section 2'!$E$13:M$14),0)))","v":""},{"$f":"IF($C30=\"\",\"\",IF(ISBLANK(VLOOKUP($A30,'Section 2'!$E$17:$V$216,COLUMNS('Section 2'!$E$13:N$14),0)),\"\",VLOOKUP($A30,'Section 2'!$E$17:$V$216,COLUMNS('Section 2'!$E$13:N$14),0)))","v":""},{"$f":"IF($C30=\"\",\"\",IF(ISBLANK(VLOOKUP($A30,'Section 2'!$E$17:$V$216,COLUMNS('Section 2'!$E$13:O$14),0)),\"\",VLOOKUP($A30,'Section 2'!$E$17:$V$216,COLUMNS('Section 2'!$E$13:O$14),0)))","v":""},{"$f":"IF($C30=\"\",\"\",IF(ISBLANK(VLOOKUP($A30,'Section 2'!$E$17:$V$216,COLUMNS('Section 2'!$E$13:P$14),0)),\"\",VLOOKUP($A30,'Section 2'!$E$17:$V$216,COLUMNS('Section 2'!$E$13:P$14),0)))","v":""},{"$f":"IF($C30=\"\",\"\",IF(ISBLANK(VLOOKUP($A30,'Section 2'!$E$17:$V$216,COLUMNS('Section 2'!$E$13:Q$14),0)),\"\",VLOOKUP($A30,'Section 2'!$E$17:$V$216,COLUMNS('Section 2'!$E$13:Q$14),0)))","v":""},{"$f":"IF($C30=\"\",\"\",IF(ISBLANK(VLOOKUP($A30,'Section 2'!$E$17:$V$216,COLUMNS('Section 2'!$E$13:R$14),0)),\"\",VLOOKUP($A30,'Section 2'!$E$17:$V$216,COLUMNS('Section 2'!$E$13:R$14),0)))","v":""},{"$f":"IF($C30=\"\",\"\",IF(ISBLANK(VLOOKUP($A30,'Section 2'!$E$17:$V$216,COLUMNS('Section 2'!$E$13:S$14),0)),\"\",VLOOKUP($A30,'Section 2'!$E$17:$V$216,COLUMNS('Section 2'!$E$13:S$14),0)))","v":""},{"$f":"IF($C30=\"\",\"\",IF(ISBLANK(VLOOKUP($A30,'Section 2'!$E$17:$V$216,COLUMNS('Section 2'!$E$13:T$14),0)),\"\",VLOOKUP($A30,'Section 2'!$E$17:$V$216,COLUMNS('Section 2'!$E$13:T$14),0)))","v":""},{"$f":"IF($C30=\"\",\"\",IF(ISBLANK(VLOOKUP($A30,'Section 2'!$E$17:$V$216,COLUMNS('Section 2'!$E$13:U$14),0)),\"\",VLOOKUP($A30,'Section 2'!$E$17:$V$216,COLUMNS('Section 2'!$E$13:U$14),0)))","v":""},{"$f":"IF($C30=\"\",\"\",IF(ISBLANK(VLOOKUP($A30,'Section 2'!$E$17:$V$216,COLUMNS('Section 2'!$E$13:V$14),0)),\"\",VLOOKUP($A30,'Section 2'!$E$17:$V$216,COLUMNS('Section 2'!$E$13:V$14),0)))","v":""}]
[30,"",{"$f":"IFERROR(VLOOKUP($A31,'Section 2'!$E$17:$V$216,COLUMNS('Section 2'!$E$13:E$14),0),\"\")","v":""},{"$f":"IF($C31=\"\",\"\",IF(ISBLANK(VLOOKUP($A31,'Section 2'!$E$17:$V$216,COLUMNS('Section 2'!$E$13:F$14),0)),\"\",VLOOKUP($A31,'Section 2'!$E$17:$V$216,COLUMNS('Section 2'!$E$13:F$14),0)))","v":""},{"$f":"IF($C31=\"\",\"\",IF(ISBLANK(VLOOKUP($A31,'Section 2'!$E$17:$V$216,COLUMNS('Section 2'!$E$13:G$14),0)),\"\",VLOOKUP($A31,'Section 2'!$E$17:$V$216,COLUMNS('Section 2'!$E$13:G$14),0)))","v":""},{"$f":"IF($C31=\"\",\"\",IF(ISBLANK(VLOOKUP($A31,'Section 2'!$E$17:$V$216,COLUMNS('Section 2'!$E$13:H$14),0)),\"\",VLOOKUP($A31,'Section 2'!$E$17:$V$216,COLUMNS('Section 2'!$E$13:H$14),0)))","v":""},{"$f":"IF($C31=\"\",\"\",IF(ISBLANK(VLOOKUP($A31,'Section 2'!$E$17:$V$216,COLUMNS('Section 2'!$E$13:I$14),0)),\"\",VLOOKUP($A31,'Section 2'!$E$17:$V$216,COLUMNS('Section 2'!$E$13:I$14),0)))","v":""},{"$f":"IF($C31=\"\",\"\",IF(ISBLANK(VLOOKUP($A31,'Section 2'!$E$17:$V$216,COLUMNS('Section 2'!$E$13:J$14),0)),\"\",VLOOKUP($A31,'Section 2'!$E$17:$V$216,COLUMNS('Section 2'!$E$13:J$14),0)))","v":""},{"$f":"IF($C31=\"\",\"\",IF(ISBLANK(VLOOKUP($A31,'Section 2'!$E$17:$V$216,COLUMNS('Section 2'!$E$13:K$14),0)),\"\",VLOOKUP($A31,'Section 2'!$E$17:$V$216,COLUMNS('Section 2'!$E$13:K$14),0)))","v":""},{"$f":"IF($C31=\"\",\"\",IF(ISBLANK(VLOOKUP($A31,'Section 2'!$E$17:$V$216,COLUMNS('Section 2'!$E$13:L$14),0)),\"\",VLOOKUP($A31,'Section 2'!$E$17:$V$216,COLUMNS('Section 2'!$E$13:L$14),0)))","v":""},{"$f":"IF($C31=\"\",\"\",IF(ISBLANK(VLOOKUP($A31,'Section 2'!$E$17:$V$216,COLUMNS('Section 2'!$E$13:M$14),0)),\"\",VLOOKUP($A31,'Section 2'!$E$17:$V$216,COLUMNS('Section 2'!$E$13:M$14),0)))","v":""},{"$f":"IF($C31=\"\",\"\",IF(ISBLANK(VLOOKUP($A31,'Section 2'!$E$17:$V$216,COLUMNS('Section 2'!$E$13:N$14),0)),\"\",VLOOKUP($A31,'Section 2'!$E$17:$V$216,COLUMNS('Section 2'!$E$13:N$14),0)))","v":""},{"$f":"IF($C31=\"\",\"\",IF(ISBLANK(VLOOKUP($A31,'Section 2'!$E$17:$V$216,COLUMNS('Section 2'!$E$13:O$14),0)),\"\",VLOOKUP($A31,'Section 2'!$E$17:$V$216,COLUMNS('Section 2'!$E$13:O$14),0)))","v":""},{"$f":"IF($C31=\"\",\"\",IF(ISBLANK(VLOOKUP($A31,'Section 2'!$E$17:$V$216,COLUMNS('Section 2'!$E$13:P$14),0)),\"\",VLOOKUP($A31,'Section 2'!$E$17:$V$216,COLUMNS('Section 2'!$E$13:P$14),0)))","v":""},{"$f":"IF($C31=\"\",\"\",IF(ISBLANK(VLOOKUP($A31,'Section 2'!$E$17:$V$216,COLUMNS('Section 2'!$E$13:Q$14),0)),\"\",VLOOKUP($A31,'Section 2'!$E$17:$V$216,COLUMNS('Section 2'!$E$13:Q$14),0)))","v":""},{"$f":"IF($C31=\"\",\"\",IF(ISBLANK(VLOOKUP($A31,'Section 2'!$E$17:$V$216,COLUMNS('Section 2'!$E$13:R$14),0)),\"\",VLOOKUP($A31,'Section 2'!$E$17:$V$216,COLUMNS('Section 2'!$E$13:R$14),0)))","v":""},{"$f":"IF($C31=\"\",\"\",IF(ISBLANK(VLOOKUP($A31,'Section 2'!$E$17:$V$216,COLUMNS('Section 2'!$E$13:S$14),0)),\"\",VLOOKUP($A31,'Section 2'!$E$17:$V$216,COLUMNS('Section 2'!$E$13:S$14),0)))","v":""},{"$f":"IF($C31=\"\",\"\",IF(ISBLANK(VLOOKUP($A31,'Section 2'!$E$17:$V$216,COLUMNS('Section 2'!$E$13:T$14),0)),\"\",VLOOKUP($A31,'Section 2'!$E$17:$V$216,COLUMNS('Section 2'!$E$13:T$14),0)))","v":""},{"$f":"IF($C31=\"\",\"\",IF(ISBLANK(VLOOKUP($A31,'Section 2'!$E$17:$V$216,COLUMNS('Section 2'!$E$13:U$14),0)),\"\",VLOOKUP($A31,'Section 2'!$E$17:$V$216,COLUMNS('Section 2'!$E$13:U$14),0)))","v":""},{"$f":"IF($C31=\"\",\"\",IF(ISBLANK(VLOOKUP($A31,'Section 2'!$E$17:$V$216,COLUMNS('Section 2'!$E$13:V$14),0)),\"\",VLOOKUP($A31,'Section 2'!$E$17:$V$216,COLUMNS('Section 2'!$E$13:V$14),0)))","v":""}]
[31,"",{"$f":"IFERROR(VLOOKUP($A32,'Section 2'!$E$17:$V$216,COLUMNS('Section 2'!$E$13:E$14),0),\"\")","v":""},{"$f":"IF($C32=\"\",\"\",IF(ISBLANK(VLOOKUP($A32,'Section 2'!$E$17:$V$216,COLUMNS('Section 2'!$E$13:F$14),0)),\"\",VLOOKUP($A32,'Section 2'!$E$17:$V$216,COLUMNS('Section 2'!$E$13:F$14),0)))","v":""},{"$f":"IF($C32=\"\",\"\",IF(ISBLANK(VLOOKUP($A32,'Section 2'!$E$17:$V$216,COLUMNS('Section 2'!$E$13:G$14),0)),\"\",VLOOKUP($A32,'Section 2'!$E$17:$V$216,COLUMNS('Section 2'!$E$13:G$14),0)))","v":""},{"$f":"IF($C32=\"\",\"\",IF(ISBLANK(VLOOKUP($A32,'Section 2'!$E$17:$V$216,COLUMNS('Section 2'!$E$13:H$14),0)),\"\",VLOOKUP($A32,'Section 2'!$E$17:$V$216,COLUMNS('Section 2'!$E$13:H$14),0)))","v":""},{"$f":"IF($C32=\"\",\"\",IF(ISBLANK(VLOOKUP($A32,'Section 2'!$E$17:$V$216,COLUMNS('Section 2'!$E$13:I$14),0)),\"\",VLOOKUP($A32,'Section 2'!$E$17:$V$216,COLUMNS('Section 2'!$E$13:I$14),0)))","v":""},{"$f":"IF($C32=\"\",\"\",IF(ISBLANK(VLOOKUP($A32,'Section 2'!$E$17:$V$216,COLUMNS('Section 2'!$E$13:J$14),0)),\"\",VLOOKUP($A32,'Section 2'!$E$17:$V$216,COLUMNS('Section 2'!$E$13:J$14),0)))","v":""},{"$f":"IF($C32=\"\",\"\",IF(ISBLANK(VLOOKUP($A32,'Section 2'!$E$17:$V$216,COLUMNS('Section 2'!$E$13:K$14),0)),\"\",VLOOKUP($A32,'Section 2'!$E$17:$V$216,COLUMNS('Section 2'!$E$13:K$14),0)))","v":""},{"$f":"IF($C32=\"\",\"\",IF(ISBLANK(VLOOKUP($A32,'Section 2'!$E$17:$V$216,COLUMNS('Section 2'!$E$13:L$14),0)),\"\",VLOOKUP($A32,'Section 2'!$E$17:$V$216,COLUMNS('Section 2'!$E$13:L$14),0)))","v":""},{"$f":"IF($C32=\"\",\"\",IF(ISBLANK(VLOOKUP($A32,'Section 2'!$E$17:$V$216,COLUMNS('Section 2'!$E$13:M$14),0)),\"\",VLOOKUP($A32,'Section 2'!$E$17:$V$216,COLUMNS('Section 2'!$E$13:M$14),0)))","v":""},{"$f":"IF($C32=\"\",\"\",IF(ISBLANK(VLOOKUP($A32,'Section 2'!$E$17:$V$216,COLUMNS('Section 2'!$E$13:N$14),0)),\"\",VLOOKUP($A32,'Section 2'!$E$17:$V$216,COLUMNS('Section 2'!$E$13:N$14),0)))","v":""},{"$f":"IF($C32=\"\",\"\",IF(ISBLANK(VLOOKUP($A32,'Section 2'!$E$17:$V$216,COLUMNS('Section 2'!$E$13:O$14),0)),\"\",VLOOKUP($A32,'Section 2'!$E$17:$V$216,COLUMNS('Section 2'!$E$13:O$14),0)))","v":""},{"$f":"IF($C32=\"\",\"\",IF(ISBLANK(VLOOKUP($A32,'Section 2'!$E$17:$V$216,COLUMNS('Section 2'!$E$13:P$14),0)),\"\",VLOOKUP($A32,'Section 2'!$E$17:$V$216,COLUMNS('Section 2'!$E$13:P$14),0)))","v":""},{"$f":"IF($C32=\"\",\"\",IF(ISBLANK(VLOOKUP($A32,'Section 2'!$E$17:$V$216,COLUMNS('Section 2'!$E$13:Q$14),0)),\"\",VLOOKUP($A32,'Section 2'!$E$17:$V$216,COLUMNS('Section 2'!$E$13:Q$14),0)))","v":""},{"$f":"IF($C32=\"\",\"\",IF(ISBLANK(VLOOKUP($A32,'Section 2'!$E$17:$V$216,COLUMNS('Section 2'!$E$13:R$14),0)),\"\",VLOOKUP($A32,'Section 2'!$E$17:$V$216,COLUMNS('Section 2'!$E$13:R$14),0)))","v":""},{"$f":"IF($C32=\"\",\"\",IF(ISBLANK(VLOOKUP($A32,'Section 2'!$E$17:$V$216,COLUMNS('Section 2'!$E$13:S$14),0)),\"\",VLOOKUP($A32,'Section 2'!$E$17:$V$216,COLUMNS('Section 2'!$E$13:S$14),0)))","v":""},{"$f":"IF($C32=\"\",\"\",IF(ISBLANK(VLOOKUP($A32,'Section 2'!$E$17:$V$216,COLUMNS('Section 2'!$E$13:T$14),0)),\"\",VLOOKUP($A32,'Section 2'!$E$17:$V$216,COLUMNS('Section 2'!$E$13:T$14),0)))","v":""},{"$f":"IF($C32=\"\",\"\",IF(ISBLANK(VLOOKUP($A32,'Section 2'!$E$17:$V$216,COLUMNS('Section 2'!$E$13:U$14),0)),\"\",VLOOKUP($A32,'Section 2'!$E$17:$V$216,COLUMNS('Section 2'!$E$13:U$14),0)))","v":""},{"$f":"IF($C32=\"\",\"\",IF(ISBLANK(VLOOKUP($A32,'Section 2'!$E$17:$V$216,COLUMNS('Section 2'!$E$13:V$14),0)),\"\",VLOOKUP($A32,'Section 2'!$E$17:$V$216,COLUMNS('Section 2'!$E$13:V$14),0)))","v":""}]
[32,"",{"$f":"IFERROR(VLOOKUP($A33,'Section 2'!$E$17:$V$216,COLUMNS('Section 2'!$E$13:E$14),0),\"\")","v":""},{"$f":"IF($C33=\"\",\"\",IF(ISBLANK(VLOOKUP($A33,'Section 2'!$E$17:$V$216,COLUMNS('Section 2'!$E$13:F$14),0)),\"\",VLOOKUP($A33,'Section 2'!$E$17:$V$216,COLUMNS('Section 2'!$E$13:F$14),0)))","v":""},{"$f":"IF($C33=\"\",\"\",IF(ISBLANK(VLOOKUP($A33,'Section 2'!$E$17:$V$216,COLUMNS('Section 2'!$E$13:G$14),0)),\"\",VLOOKUP($A33,'Section 2'!$E$17:$V$216,COLUMNS('Section 2'!$E$13:G$14),0)))","v":""},{"$f":"IF($C33=\"\",\"\",IF(ISBLANK(VLOOKUP($A33,'Section 2'!$E$17:$V$216,COLUMNS('Section 2'!$E$13:H$14),0)),\"\",VLOOKUP($A33,'Section 2'!$E$17:$V$216,COLUMNS('Section 2'!$E$13:H$14),0)))","v":""},{"$f":"IF($C33=\"\",\"\",IF(ISBLANK(VLOOKUP($A33,'Section 2'!$E$17:$V$216,COLUMNS('Section 2'!$E$13:I$14),0)),\"\",VLOOKUP($A33,'Section 2'!$E$17:$V$216,COLUMNS('Section 2'!$E$13:I$14),0)))","v":""},{"$f":"IF($C33=\"\",\"\",IF(ISBLANK(VLOOKUP($A33,'Section 2'!$E$17:$V$216,COLUMNS('Section 2'!$E$13:J$14),0)),\"\",VLOOKUP($A33,'Section 2'!$E$17:$V$216,COLUMNS('Section 2'!$E$13:J$14),0)))","v":""},{"$f":"IF($C33=\"\",\"\",IF(ISBLANK(VLOOKUP($A33,'Section 2'!$E$17:$V$216,COLUMNS('Section 2'!$E$13:K$14),0)),\"\",VLOOKUP($A33,'Section 2'!$E$17:$V$216,COLUMNS('Section 2'!$E$13:K$14),0)))","v":""},{"$f":"IF($C33=\"\",\"\",IF(ISBLANK(VLOOKUP($A33,'Section 2'!$E$17:$V$216,COLUMNS('Section 2'!$E$13:L$14),0)),\"\",VLOOKUP($A33,'Section 2'!$E$17:$V$216,COLUMNS('Section 2'!$E$13:L$14),0)))","v":""},{"$f":"IF($C33=\"\",\"\",IF(ISBLANK(VLOOKUP($A33,'Section 2'!$E$17:$V$216,COLUMNS('Section 2'!$E$13:M$14),0)),\"\",VLOOKUP($A33,'Section 2'!$E$17:$V$216,COLUMNS('Section 2'!$E$13:M$14),0)))","v":""},{"$f":"IF($C33=\"\",\"\",IF(ISBLANK(VLOOKUP($A33,'Section 2'!$E$17:$V$216,COLUMNS('Section 2'!$E$13:N$14),0)),\"\",VLOOKUP($A33,'Section 2'!$E$17:$V$216,COLUMNS('Section 2'!$E$13:N$14),0)))","v":""},{"$f":"IF($C33=\"\",\"\",IF(ISBLANK(VLOOKUP($A33,'Section 2'!$E$17:$V$216,COLUMNS('Section 2'!$E$13:O$14),0)),\"\",VLOOKUP($A33,'Section 2'!$E$17:$V$216,COLUMNS('Section 2'!$E$13:O$14),0)))","v":""},{"$f":"IF($C33=\"\",\"\",IF(ISBLANK(VLOOKUP($A33,'Section 2'!$E$17:$V$216,COLUMNS('Section 2'!$E$13:P$14),0)),\"\",VLOOKUP($A33,'Section 2'!$E$17:$V$216,COLUMNS('Section 2'!$E$13:P$14),0)))","v":""},{"$f":"IF($C33=\"\",\"\",IF(ISBLANK(VLOOKUP($A33,'Section 2'!$E$17:$V$216,COLUMNS('Section 2'!$E$13:Q$14),0)),\"\",VLOOKUP($A33,'Section 2'!$E$17:$V$216,COLUMNS('Section 2'!$E$13:Q$14),0)))","v":""},{"$f":"IF($C33=\"\",\"\",IF(ISBLANK(VLOOKUP($A33,'Section 2'!$E$17:$V$216,COLUMNS('Section 2'!$E$13:R$14),0)),\"\",VLOOKUP($A33,'Section 2'!$E$17:$V$216,COLUMNS('Section 2'!$E$13:R$14),0)))","v":""},{"$f":"IF($C33=\"\",\"\",IF(ISBLANK(VLOOKUP($A33,'Section 2'!$E$17:$V$216,COLUMNS('Section 2'!$E$13:S$14),0)),\"\",VLOOKUP($A33,'Section 2'!$E$17:$V$216,COLUMNS('Section 2'!$E$13:S$14),0)))","v":""},{"$f":"IF($C33=\"\",\"\",IF(ISBLANK(VLOOKUP($A33,'Section 2'!$E$17:$V$216,COLUMNS('Section 2'!$E$13:T$14),0)),\"\",VLOOKUP($A33,'Section 2'!$E$17:$V$216,COLUMNS('Section 2'!$E$13:T$14),0)))","v":""},{"$f":"IF($C33=\"\",\"\",IF(ISBLANK(VLOOKUP($A33,'Section 2'!$E$17:$V$216,COLUMNS('Section 2'!$E$13:U$14),0)),\"\",VLOOKUP($A33,'Section 2'!$E$17:$V$216,COLUMNS('Section 2'!$E$13:U$14),0)))","v":""},{"$f":"IF($C33=\"\",\"\",IF(ISBLANK(VLOOKUP($A33,'Section 2'!$E$17:$V$216,COLUMNS('Section 2'!$E$13:V$14),0)),\"\",VLOOKUP($A33,'Section 2'!$E$17:$V$216,COLUMNS('Section 2'!$E$13:V$14),0)))","v":""}]
[33,"",{"$f":"IFERROR(VLOOKUP($A34,'Section 2'!$E$17:$V$216,COLUMNS('Section 2'!$E$13:E$14),0),\"\")","v":""},{"$f":"IF($C34=\"\",\"\",IF(ISBLANK(VLOOKUP($A34,'Section 2'!$E$17:$V$216,COLUMNS('Section 2'!$E$13:F$14),0)),\"\",VLOOKUP($A34,'Section 2'!$E$17:$V$216,COLUMNS('Section 2'!$E$13:F$14),0)))","v":""},{"$f":"IF($C34=\"\",\"\",IF(ISBLANK(VLOOKUP($A34,'Section 2'!$E$17:$V$216,COLUMNS('Section 2'!$E$13:G$14),0)),\"\",VLOOKUP($A34,'Section 2'!$E$17:$V$216,COLUMNS('Section 2'!$E$13:G$14),0)))","v":""},{"$f":"IF($C34=\"\",\"\",IF(ISBLANK(VLOOKUP($A34,'Section 2'!$E$17:$V$216,COLUMNS('Section 2'!$E$13:H$14),0)),\"\",VLOOKUP($A34,'Section 2'!$E$17:$V$216,COLUMNS('Section 2'!$E$13:H$14),0)))","v":""},{"$f":"IF($C34=\"\",\"\",IF(ISBLANK(VLOOKUP($A34,'Section 2'!$E$17:$V$216,COLUMNS('Section 2'!$E$13:I$14),0)),\"\",VLOOKUP($A34,'Section 2'!$E$17:$V$216,COLUMNS('Section 2'!$E$13:I$14),0)))","v":""},{"$f":"IF($C34=\"\",\"\",IF(ISBLANK(VLOOKUP($A34,'Section 2'!$E$17:$V$216,COLUMNS('Section 2'!$E$13:J$14),0)),\"\",VLOOKUP($A34,'Section 2'!$E$17:$V$216,COLUMNS('Section 2'!$E$13:J$14),0)))","v":""},{"$f":"IF($C34=\"\",\"\",IF(ISBLANK(VLOOKUP($A34,'Section 2'!$E$17:$V$216,COLUMNS('Section 2'!$E$13:K$14),0)),\"\",VLOOKUP($A34,'Section 2'!$E$17:$V$216,COLUMNS('Section 2'!$E$13:K$14),0)))","v":""},{"$f":"IF($C34=\"\",\"\",IF(ISBLANK(VLOOKUP($A34,'Section 2'!$E$17:$V$216,COLUMNS('Section 2'!$E$13:L$14),0)),\"\",VLOOKUP($A34,'Section 2'!$E$17:$V$216,COLUMNS('Section 2'!$E$13:L$14),0)))","v":""},{"$f":"IF($C34=\"\",\"\",IF(ISBLANK(VLOOKUP($A34,'Section 2'!$E$17:$V$216,COLUMNS('Section 2'!$E$13:M$14),0)),\"\",VLOOKUP($A34,'Section 2'!$E$17:$V$216,COLUMNS('Section 2'!$E$13:M$14),0)))","v":""},{"$f":"IF($C34=\"\",\"\",IF(ISBLANK(VLOOKUP($A34,'Section 2'!$E$17:$V$216,COLUMNS('Section 2'!$E$13:N$14),0)),\"\",VLOOKUP($A34,'Section 2'!$E$17:$V$216,COLUMNS('Section 2'!$E$13:N$14),0)))","v":""},{"$f":"IF($C34=\"\",\"\",IF(ISBLANK(VLOOKUP($A34,'Section 2'!$E$17:$V$216,COLUMNS('Section 2'!$E$13:O$14),0)),\"\",VLOOKUP($A34,'Section 2'!$E$17:$V$216,COLUMNS('Section 2'!$E$13:O$14),0)))","v":""},{"$f":"IF($C34=\"\",\"\",IF(ISBLANK(VLOOKUP($A34,'Section 2'!$E$17:$V$216,COLUMNS('Section 2'!$E$13:P$14),0)),\"\",VLOOKUP($A34,'Section 2'!$E$17:$V$216,COLUMNS('Section 2'!$E$13:P$14),0)))","v":""},{"$f":"IF($C34=\"\",\"\",IF(ISBLANK(VLOOKUP($A34,'Section 2'!$E$17:$V$216,COLUMNS('Section 2'!$E$13:Q$14),0)),\"\",VLOOKUP($A34,'Section 2'!$E$17:$V$216,COLUMNS('Section 2'!$E$13:Q$14),0)))","v":""},{"$f":"IF($C34=\"\",\"\",IF(ISBLANK(VLOOKUP($A34,'Section 2'!$E$17:$V$216,COLUMNS('Section 2'!$E$13:R$14),0)),\"\",VLOOKUP($A34,'Section 2'!$E$17:$V$216,COLUMNS('Section 2'!$E$13:R$14),0)))","v":""},{"$f":"IF($C34=\"\",\"\",IF(ISBLANK(VLOOKUP($A34,'Section 2'!$E$17:$V$216,COLUMNS('Section 2'!$E$13:S$14),0)),\"\",VLOOKUP($A34,'Section 2'!$E$17:$V$216,COLUMNS('Section 2'!$E$13:S$14),0)))","v":""},{"$f":"IF($C34=\"\",\"\",IF(ISBLANK(VLOOKUP($A34,'Section 2'!$E$17:$V$216,COLUMNS('Section 2'!$E$13:T$14),0)),\"\",VLOOKUP($A34,'Section 2'!$E$17:$V$216,COLUMNS('Section 2'!$E$13:T$14),0)))","v":""},{"$f":"IF($C34=\"\",\"\",IF(ISBLANK(VLOOKUP($A34,'Section 2'!$E$17:$V$216,COLUMNS('Section 2'!$E$13:U$14),0)),\"\",VLOOKUP($A34,'Section 2'!$E$17:$V$216,COLUMNS('Section 2'!$E$13:U$14),0)))","v":""},{"$f":"IF($C34=\"\",\"\",IF(ISBLANK(VLOOKUP($A34,'Section 2'!$E$17:$V$216,COLUMNS('Section 2'!$E$13:V$14),0)),\"\",VLOOKUP($A34,'Section 2'!$E$17:$V$216,COLUMNS('Section 2'!$E$13:V$14),0)))","v":""}]
[34,"",{"$f":"IFERROR(VLOOKUP($A35,'Section 2'!$E$17:$V$216,COLUMNS('Section 2'!$E$13:E$14),0),\"\")","v":""},{"$f":"IF($C35=\"\",\"\",IF(ISBLANK(VLOOKUP($A35,'Section 2'!$E$17:$V$216,COLUMNS('Section 2'!$E$13:F$14),0)),\"\",VLOOKUP($A35,'Section 2'!$E$17:$V$216,COLUMNS('Section 2'!$E$13:F$14),0)))","v":""},{"$f":"IF($C35=\"\",\"\",IF(ISBLANK(VLOOKUP($A35,'Section 2'!$E$17:$V$216,COLUMNS('Section 2'!$E$13:G$14),0)),\"\",VLOOKUP($A35,'Section 2'!$E$17:$V$216,COLUMNS('Section 2'!$E$13:G$14),0)))","v":""},{"$f":"IF($C35=\"\",\"\",IF(ISBLANK(VLOOKUP($A35,'Section 2'!$E$17:$V$216,COLUMNS('Section 2'!$E$13:H$14),0)),\"\",VLOOKUP($A35,'Section 2'!$E$17:$V$216,COLUMNS('Section 2'!$E$13:H$14),0)))","v":""},{"$f":"IF($C35=\"\",\"\",IF(ISBLANK(VLOOKUP($A35,'Section 2'!$E$17:$V$216,COLUMNS('Section 2'!$E$13:I$14),0)),\"\",VLOOKUP($A35,'Section 2'!$E$17:$V$216,COLUMNS('Section 2'!$E$13:I$14),0)))","v":""},{"$f":"IF($C35=\"\",\"\",IF(ISBLANK(VLOOKUP($A35,'Section 2'!$E$17:$V$216,COLUMNS('Section 2'!$E$13:J$14),0)),\"\",VLOOKUP($A35,'Section 2'!$E$17:$V$216,COLUMNS('Section 2'!$E$13:J$14),0)))","v":""},{"$f":"IF($C35=\"\",\"\",IF(ISBLANK(VLOOKUP($A35,'Section 2'!$E$17:$V$216,COLUMNS('Section 2'!$E$13:K$14),0)),\"\",VLOOKUP($A35,'Section 2'!$E$17:$V$216,COLUMNS('Section 2'!$E$13:K$14),0)))","v":""},{"$f":"IF($C35=\"\",\"\",IF(ISBLANK(VLOOKUP($A35,'Section 2'!$E$17:$V$216,COLUMNS('Section 2'!$E$13:L$14),0)),\"\",VLOOKUP($A35,'Section 2'!$E$17:$V$216,COLUMNS('Section 2'!$E$13:L$14),0)))","v":""},{"$f":"IF($C35=\"\",\"\",IF(ISBLANK(VLOOKUP($A35,'Section 2'!$E$17:$V$216,COLUMNS('Section 2'!$E$13:M$14),0)),\"\",VLOOKUP($A35,'Section 2'!$E$17:$V$216,COLUMNS('Section 2'!$E$13:M$14),0)))","v":""},{"$f":"IF($C35=\"\",\"\",IF(ISBLANK(VLOOKUP($A35,'Section 2'!$E$17:$V$216,COLUMNS('Section 2'!$E$13:N$14),0)),\"\",VLOOKUP($A35,'Section 2'!$E$17:$V$216,COLUMNS('Section 2'!$E$13:N$14),0)))","v":""},{"$f":"IF($C35=\"\",\"\",IF(ISBLANK(VLOOKUP($A35,'Section 2'!$E$17:$V$216,COLUMNS('Section 2'!$E$13:O$14),0)),\"\",VLOOKUP($A35,'Section 2'!$E$17:$V$216,COLUMNS('Section 2'!$E$13:O$14),0)))","v":""},{"$f":"IF($C35=\"\",\"\",IF(ISBLANK(VLOOKUP($A35,'Section 2'!$E$17:$V$216,COLUMNS('Section 2'!$E$13:P$14),0)),\"\",VLOOKUP($A35,'Section 2'!$E$17:$V$216,COLUMNS('Section 2'!$E$13:P$14),0)))","v":""},{"$f":"IF($C35=\"\",\"\",IF(ISBLANK(VLOOKUP($A35,'Section 2'!$E$17:$V$216,COLUMNS('Section 2'!$E$13:Q$14),0)),\"\",VLOOKUP($A35,'Section 2'!$E$17:$V$216,COLUMNS('Section 2'!$E$13:Q$14),0)))","v":""},{"$f":"IF($C35=\"\",\"\",IF(ISBLANK(VLOOKUP($A35,'Section 2'!$E$17:$V$216,COLUMNS('Section 2'!$E$13:R$14),0)),\"\",VLOOKUP($A35,'Section 2'!$E$17:$V$216,COLUMNS('Section 2'!$E$13:R$14),0)))","v":""},{"$f":"IF($C35=\"\",\"\",IF(ISBLANK(VLOOKUP($A35,'Section 2'!$E$17:$V$216,COLUMNS('Section 2'!$E$13:S$14),0)),\"\",VLOOKUP($A35,'Section 2'!$E$17:$V$216,COLUMNS('Section 2'!$E$13:S$14),0)))","v":""},{"$f":"IF($C35=\"\",\"\",IF(ISBLANK(VLOOKUP($A35,'Section 2'!$E$17:$V$216,COLUMNS('Section 2'!$E$13:T$14),0)),\"\",VLOOKUP($A35,'Section 2'!$E$17:$V$216,COLUMNS('Section 2'!$E$13:T$14),0)))","v":""},{"$f":"IF($C35=\"\",\"\",IF(ISBLANK(VLOOKUP($A35,'Section 2'!$E$17:$V$216,COLUMNS('Section 2'!$E$13:U$14),0)),\"\",VLOOKUP($A35,'Section 2'!$E$17:$V$216,COLUMNS('Section 2'!$E$13:U$14),0)))","v":""},{"$f":"IF($C35=\"\",\"\",IF(ISBLANK(VLOOKUP($A35,'Section 2'!$E$17:$V$216,COLUMNS('Section 2'!$E$13:V$14),0)),\"\",VLOOKUP($A35,'Section 2'!$E$17:$V$216,COLUMNS('Section 2'!$E$13:V$14),0)))","v":""}]
[35,"",{"$f":"IFERROR(VLOOKUP($A36,'Section 2'!$E$17:$V$216,COLUMNS('Section 2'!$E$13:E$14),0),\"\")","v":""},{"$f":"IF($C36=\"\",\"\",IF(ISBLANK(VLOOKUP($A36,'Section 2'!$E$17:$V$216,COLUMNS('Section 2'!$E$13:F$14),0)),\"\",VLOOKUP($A36,'Section 2'!$E$17:$V$216,COLUMNS('Section 2'!$E$13:F$14),0)))","v":""},{"$f":"IF($C36=\"\",\"\",IF(ISBLANK(VLOOKUP($A36,'Section 2'!$E$17:$V$216,COLUMNS('Section 2'!$E$13:G$14),0)),\"\",VLOOKUP($A36,'Section 2'!$E$17:$V$216,COLUMNS('Section 2'!$E$13:G$14),0)))","v":""},{"$f":"IF($C36=\"\",\"\",IF(ISBLANK(VLOOKUP($A36,'Section 2'!$E$17:$V$216,COLUMNS('Section 2'!$E$13:H$14),0)),\"\",VLOOKUP($A36,'Section 2'!$E$17:$V$216,COLUMNS('Section 2'!$E$13:H$14),0)))","v":""},{"$f":"IF($C36=\"\",\"\",IF(ISBLANK(VLOOKUP($A36,'Section 2'!$E$17:$V$216,COLUMNS('Section 2'!$E$13:I$14),0)),\"\",VLOOKUP($A36,'Section 2'!$E$17:$V$216,COLUMNS('Section 2'!$E$13:I$14),0)))","v":""},{"$f":"IF($C36=\"\",\"\",IF(ISBLANK(VLOOKUP($A36,'Section 2'!$E$17:$V$216,COLUMNS('Section 2'!$E$13:J$14),0)),\"\",VLOOKUP($A36,'Section 2'!$E$17:$V$216,COLUMNS('Section 2'!$E$13:J$14),0)))","v":""},{"$f":"IF($C36=\"\",\"\",IF(ISBLANK(VLOOKUP($A36,'Section 2'!$E$17:$V$216,COLUMNS('Section 2'!$E$13:K$14),0)),\"\",VLOOKUP($A36,'Section 2'!$E$17:$V$216,COLUMNS('Section 2'!$E$13:K$14),0)))","v":""},{"$f":"IF($C36=\"\",\"\",IF(ISBLANK(VLOOKUP($A36,'Section 2'!$E$17:$V$216,COLUMNS('Section 2'!$E$13:L$14),0)),\"\",VLOOKUP($A36,'Section 2'!$E$17:$V$216,COLUMNS('Section 2'!$E$13:L$14),0)))","v":""},{"$f":"IF($C36=\"\",\"\",IF(ISBLANK(VLOOKUP($A36,'Section 2'!$E$17:$V$216,COLUMNS('Section 2'!$E$13:M$14),0)),\"\",VLOOKUP($A36,'Section 2'!$E$17:$V$216,COLUMNS('Section 2'!$E$13:M$14),0)))","v":""},{"$f":"IF($C36=\"\",\"\",IF(ISBLANK(VLOOKUP($A36,'Section 2'!$E$17:$V$216,COLUMNS('Section 2'!$E$13:N$14),0)),\"\",VLOOKUP($A36,'Section 2'!$E$17:$V$216,COLUMNS('Section 2'!$E$13:N$14),0)))","v":""},{"$f":"IF($C36=\"\",\"\",IF(ISBLANK(VLOOKUP($A36,'Section 2'!$E$17:$V$216,COLUMNS('Section 2'!$E$13:O$14),0)),\"\",VLOOKUP($A36,'Section 2'!$E$17:$V$216,COLUMNS('Section 2'!$E$13:O$14),0)))","v":""},{"$f":"IF($C36=\"\",\"\",IF(ISBLANK(VLOOKUP($A36,'Section 2'!$E$17:$V$216,COLUMNS('Section 2'!$E$13:P$14),0)),\"\",VLOOKUP($A36,'Section 2'!$E$17:$V$216,COLUMNS('Section 2'!$E$13:P$14),0)))","v":""},{"$f":"IF($C36=\"\",\"\",IF(ISBLANK(VLOOKUP($A36,'Section 2'!$E$17:$V$216,COLUMNS('Section 2'!$E$13:Q$14),0)),\"\",VLOOKUP($A36,'Section 2'!$E$17:$V$216,COLUMNS('Section 2'!$E$13:Q$14),0)))","v":""},{"$f":"IF($C36=\"\",\"\",IF(ISBLANK(VLOOKUP($A36,'Section 2'!$E$17:$V$216,COLUMNS('Section 2'!$E$13:R$14),0)),\"\",VLOOKUP($A36,'Section 2'!$E$17:$V$216,COLUMNS('Section 2'!$E$13:R$14),0)))","v":""},{"$f":"IF($C36=\"\",\"\",IF(ISBLANK(VLOOKUP($A36,'Section 2'!$E$17:$V$216,COLUMNS('Section 2'!$E$13:S$14),0)),\"\",VLOOKUP($A36,'Section 2'!$E$17:$V$216,COLUMNS('Section 2'!$E$13:S$14),0)))","v":""},{"$f":"IF($C36=\"\",\"\",IF(ISBLANK(VLOOKUP($A36,'Section 2'!$E$17:$V$216,COLUMNS('Section 2'!$E$13:T$14),0)),\"\",VLOOKUP($A36,'Section 2'!$E$17:$V$216,COLUMNS('Section 2'!$E$13:T$14),0)))","v":""},{"$f":"IF($C36=\"\",\"\",IF(ISBLANK(VLOOKUP($A36,'Section 2'!$E$17:$V$216,COLUMNS('Section 2'!$E$13:U$14),0)),\"\",VLOOKUP($A36,'Section 2'!$E$17:$V$216,COLUMNS('Section 2'!$E$13:U$14),0)))","v":""},{"$f":"IF($C36=\"\",\"\",IF(ISBLANK(VLOOKUP($A36,'Section 2'!$E$17:$V$216,COLUMNS('Section 2'!$E$13:V$14),0)),\"\",VLOOKUP($A36,'Section 2'!$E$17:$V$216,COLUMNS('Section 2'!$E$13:V$14),0)))","v":""}]
[36,"",{"$f":"IFERROR(VLOOKUP($A37,'Section 2'!$E$17:$V$216,COLUMNS('Section 2'!$E$13:E$14),0),\"\")","v":""},{"$f":"IF($C37=\"\",\"\",IF(ISBLANK(VLOOKUP($A37,'Section 2'!$E$17:$V$216,COLUMNS('Section 2'!$E$13:F$14),0)),\"\",VLOOKUP($A37,'Section 2'!$E$17:$V$216,COLUMNS('Section 2'!$E$13:F$14),0)))","v":""},{"$f":"IF($C37=\"\",\"\",IF(ISBLANK(VLOOKUP($A37,'Section 2'!$E$17:$V$216,COLUMNS('Section 2'!$E$13:G$14),0)),\"\",VLOOKUP($A37,'Section 2'!$E$17:$V$216,COLUMNS('Section 2'!$E$13:G$14),0)))","v":""},{"$f":"IF($C37=\"\",\"\",IF(ISBLANK(VLOOKUP($A37,'Section 2'!$E$17:$V$216,COLUMNS('Section 2'!$E$13:H$14),0)),\"\",VLOOKUP($A37,'Section 2'!$E$17:$V$216,COLUMNS('Section 2'!$E$13:H$14),0)))","v":""},{"$f":"IF($C37=\"\",\"\",IF(ISBLANK(VLOOKUP($A37,'Section 2'!$E$17:$V$216,COLUMNS('Section 2'!$E$13:I$14),0)),\"\",VLOOKUP($A37,'Section 2'!$E$17:$V$216,COLUMNS('Section 2'!$E$13:I$14),0)))","v":""},{"$f":"IF($C37=\"\",\"\",IF(ISBLANK(VLOOKUP($A37,'Section 2'!$E$17:$V$216,COLUMNS('Section 2'!$E$13:J$14),0)),\"\",VLOOKUP($A37,'Section 2'!$E$17:$V$216,COLUMNS('Section 2'!$E$13:J$14),0)))","v":""},{"$f":"IF($C37=\"\",\"\",IF(ISBLANK(VLOOKUP($A37,'Section 2'!$E$17:$V$216,COLUMNS('Section 2'!$E$13:K$14),0)),\"\",VLOOKUP($A37,'Section 2'!$E$17:$V$216,COLUMNS('Section 2'!$E$13:K$14),0)))","v":""},{"$f":"IF($C37=\"\",\"\",IF(ISBLANK(VLOOKUP($A37,'Section 2'!$E$17:$V$216,COLUMNS('Section 2'!$E$13:L$14),0)),\"\",VLOOKUP($A37,'Section 2'!$E$17:$V$216,COLUMNS('Section 2'!$E$13:L$14),0)))","v":""},{"$f":"IF($C37=\"\",\"\",IF(ISBLANK(VLOOKUP($A37,'Section 2'!$E$17:$V$216,COLUMNS('Section 2'!$E$13:M$14),0)),\"\",VLOOKUP($A37,'Section 2'!$E$17:$V$216,COLUMNS('Section 2'!$E$13:M$14),0)))","v":""},{"$f":"IF($C37=\"\",\"\",IF(ISBLANK(VLOOKUP($A37,'Section 2'!$E$17:$V$216,COLUMNS('Section 2'!$E$13:N$14),0)),\"\",VLOOKUP($A37,'Section 2'!$E$17:$V$216,COLUMNS('Section 2'!$E$13:N$14),0)))","v":""},{"$f":"IF($C37=\"\",\"\",IF(ISBLANK(VLOOKUP($A37,'Section 2'!$E$17:$V$216,COLUMNS('Section 2'!$E$13:O$14),0)),\"\",VLOOKUP($A37,'Section 2'!$E$17:$V$216,COLUMNS('Section 2'!$E$13:O$14),0)))","v":""},{"$f":"IF($C37=\"\",\"\",IF(ISBLANK(VLOOKUP($A37,'Section 2'!$E$17:$V$216,COLUMNS('Section 2'!$E$13:P$14),0)),\"\",VLOOKUP($A37,'Section 2'!$E$17:$V$216,COLUMNS('Section 2'!$E$13:P$14),0)))","v":""},{"$f":"IF($C37=\"\",\"\",IF(ISBLANK(VLOOKUP($A37,'Section 2'!$E$17:$V$216,COLUMNS('Section 2'!$E$13:Q$14),0)),\"\",VLOOKUP($A37,'Section 2'!$E$17:$V$216,COLUMNS('Section 2'!$E$13:Q$14),0)))","v":""},{"$f":"IF($C37=\"\",\"\",IF(ISBLANK(VLOOKUP($A37,'Section 2'!$E$17:$V$216,COLUMNS('Section 2'!$E$13:R$14),0)),\"\",VLOOKUP($A37,'Section 2'!$E$17:$V$216,COLUMNS('Section 2'!$E$13:R$14),0)))","v":""},{"$f":"IF($C37=\"\",\"\",IF(ISBLANK(VLOOKUP($A37,'Section 2'!$E$17:$V$216,COLUMNS('Section 2'!$E$13:S$14),0)),\"\",VLOOKUP($A37,'Section 2'!$E$17:$V$216,COLUMNS('Section 2'!$E$13:S$14),0)))","v":""},{"$f":"IF($C37=\"\",\"\",IF(ISBLANK(VLOOKUP($A37,'Section 2'!$E$17:$V$216,COLUMNS('Section 2'!$E$13:T$14),0)),\"\",VLOOKUP($A37,'Section 2'!$E$17:$V$216,COLUMNS('Section 2'!$E$13:T$14),0)))","v":""},{"$f":"IF($C37=\"\",\"\",IF(ISBLANK(VLOOKUP($A37,'Section 2'!$E$17:$V$216,COLUMNS('Section 2'!$E$13:U$14),0)),\"\",VLOOKUP($A37,'Section 2'!$E$17:$V$216,COLUMNS('Section 2'!$E$13:U$14),0)))","v":""},{"$f":"IF($C37=\"\",\"\",IF(ISBLANK(VLOOKUP($A37,'Section 2'!$E$17:$V$216,COLUMNS('Section 2'!$E$13:V$14),0)),\"\",VLOOKUP($A37,'Section 2'!$E$17:$V$216,COLUMNS('Section 2'!$E$13:V$14),0)))","v":""}]
[37,"",{"$f":"IFERROR(VLOOKUP($A38,'Section 2'!$E$17:$V$216,COLUMNS('Section 2'!$E$13:E$14),0),\"\")","v":""},{"$f":"IF($C38=\"\",\"\",IF(ISBLANK(VLOOKUP($A38,'Section 2'!$E$17:$V$216,COLUMNS('Section 2'!$E$13:F$14),0)),\"\",VLOOKUP($A38,'Section 2'!$E$17:$V$216,COLUMNS('Section 2'!$E$13:F$14),0)))","v":""},{"$f":"IF($C38=\"\",\"\",IF(ISBLANK(VLOOKUP($A38,'Section 2'!$E$17:$V$216,COLUMNS('Section 2'!$E$13:G$14),0)),\"\",VLOOKUP($A38,'Section 2'!$E$17:$V$216,COLUMNS('Section 2'!$E$13:G$14),0)))","v":""},{"$f":"IF($C38=\"\",\"\",IF(ISBLANK(VLOOKUP($A38,'Section 2'!$E$17:$V$216,COLUMNS('Section 2'!$E$13:H$14),0)),\"\",VLOOKUP($A38,'Section 2'!$E$17:$V$216,COLUMNS('Section 2'!$E$13:H$14),0)))","v":""},{"$f":"IF($C38=\"\",\"\",IF(ISBLANK(VLOOKUP($A38,'Section 2'!$E$17:$V$216,COLUMNS('Section 2'!$E$13:I$14),0)),\"\",VLOOKUP($A38,'Section 2'!$E$17:$V$216,COLUMNS('Section 2'!$E$13:I$14),0)))","v":""},{"$f":"IF($C38=\"\",\"\",IF(ISBLANK(VLOOKUP($A38,'Section 2'!$E$17:$V$216,COLUMNS('Section 2'!$E$13:J$14),0)),\"\",VLOOKUP($A38,'Section 2'!$E$17:$V$216,COLUMNS('Section 2'!$E$13:J$14),0)))","v":""},{"$f":"IF($C38=\"\",\"\",IF(ISBLANK(VLOOKUP($A38,'Section 2'!$E$17:$V$216,COLUMNS('Section 2'!$E$13:K$14),0)),\"\",VLOOKUP($A38,'Section 2'!$E$17:$V$216,COLUMNS('Section 2'!$E$13:K$14),0)))","v":""},{"$f":"IF($C38=\"\",\"\",IF(ISBLANK(VLOOKUP($A38,'Section 2'!$E$17:$V$216,COLUMNS('Section 2'!$E$13:L$14),0)),\"\",VLOOKUP($A38,'Section 2'!$E$17:$V$216,COLUMNS('Section 2'!$E$13:L$14),0)))","v":""},{"$f":"IF($C38=\"\",\"\",IF(ISBLANK(VLOOKUP($A38,'Section 2'!$E$17:$V$216,COLUMNS('Section 2'!$E$13:M$14),0)),\"\",VLOOKUP($A38,'Section 2'!$E$17:$V$216,COLUMNS('Section 2'!$E$13:M$14),0)))","v":""},{"$f":"IF($C38=\"\",\"\",IF(ISBLANK(VLOOKUP($A38,'Section 2'!$E$17:$V$216,COLUMNS('Section 2'!$E$13:N$14),0)),\"\",VLOOKUP($A38,'Section 2'!$E$17:$V$216,COLUMNS('Section 2'!$E$13:N$14),0)))","v":""},{"$f":"IF($C38=\"\",\"\",IF(ISBLANK(VLOOKUP($A38,'Section 2'!$E$17:$V$216,COLUMNS('Section 2'!$E$13:O$14),0)),\"\",VLOOKUP($A38,'Section 2'!$E$17:$V$216,COLUMNS('Section 2'!$E$13:O$14),0)))","v":""},{"$f":"IF($C38=\"\",\"\",IF(ISBLANK(VLOOKUP($A38,'Section 2'!$E$17:$V$216,COLUMNS('Section 2'!$E$13:P$14),0)),\"\",VLOOKUP($A38,'Section 2'!$E$17:$V$216,COLUMNS('Section 2'!$E$13:P$14),0)))","v":""},{"$f":"IF($C38=\"\",\"\",IF(ISBLANK(VLOOKUP($A38,'Section 2'!$E$17:$V$216,COLUMNS('Section 2'!$E$13:Q$14),0)),\"\",VLOOKUP($A38,'Section 2'!$E$17:$V$216,COLUMNS('Section 2'!$E$13:Q$14),0)))","v":""},{"$f":"IF($C38=\"\",\"\",IF(ISBLANK(VLOOKUP($A38,'Section 2'!$E$17:$V$216,COLUMNS('Section 2'!$E$13:R$14),0)),\"\",VLOOKUP($A38,'Section 2'!$E$17:$V$216,COLUMNS('Section 2'!$E$13:R$14),0)))","v":""},{"$f":"IF($C38=\"\",\"\",IF(ISBLANK(VLOOKUP($A38,'Section 2'!$E$17:$V$216,COLUMNS('Section 2'!$E$13:S$14),0)),\"\",VLOOKUP($A38,'Section 2'!$E$17:$V$216,COLUMNS('Section 2'!$E$13:S$14),0)))","v":""},{"$f":"IF($C38=\"\",\"\",IF(ISBLANK(VLOOKUP($A38,'Section 2'!$E$17:$V$216,COLUMNS('Section 2'!$E$13:T$14),0)),\"\",VLOOKUP($A38,'Section 2'!$E$17:$V$216,COLUMNS('Section 2'!$E$13:T$14),0)))","v":""},{"$f":"IF($C38=\"\",\"\",IF(ISBLANK(VLOOKUP($A38,'Section 2'!$E$17:$V$216,COLUMNS('Section 2'!$E$13:U$14),0)),\"\",VLOOKUP($A38,'Section 2'!$E$17:$V$216,COLUMNS('Section 2'!$E$13:U$14),0)))","v":""},{"$f":"IF($C38=\"\",\"\",IF(ISBLANK(VLOOKUP($A38,'Section 2'!$E$17:$V$216,COLUMNS('Section 2'!$E$13:V$14),0)),\"\",VLOOKUP($A38,'Section 2'!$E$17:$V$216,COLUMNS('Section 2'!$E$13:V$14),0)))","v":""}]
[38,"",{"$f":"IFERROR(VLOOKUP($A39,'Section 2'!$E$17:$V$216,COLUMNS('Section 2'!$E$13:E$14),0),\"\")","v":""},{"$f":"IF($C39=\"\",\"\",IF(ISBLANK(VLOOKUP($A39,'Section 2'!$E$17:$V$216,COLUMNS('Section 2'!$E$13:F$14),0)),\"\",VLOOKUP($A39,'Section 2'!$E$17:$V$216,COLUMNS('Section 2'!$E$13:F$14),0)))","v":""},{"$f":"IF($C39=\"\",\"\",IF(ISBLANK(VLOOKUP($A39,'Section 2'!$E$17:$V$216,COLUMNS('Section 2'!$E$13:G$14),0)),\"\",VLOOKUP($A39,'Section 2'!$E$17:$V$216,COLUMNS('Section 2'!$E$13:G$14),0)))","v":""},{"$f":"IF($C39=\"\",\"\",IF(ISBLANK(VLOOKUP($A39,'Section 2'!$E$17:$V$216,COLUMNS('Section 2'!$E$13:H$14),0)),\"\",VLOOKUP($A39,'Section 2'!$E$17:$V$216,COLUMNS('Section 2'!$E$13:H$14),0)))","v":""},{"$f":"IF($C39=\"\",\"\",IF(ISBLANK(VLOOKUP($A39,'Section 2'!$E$17:$V$216,COLUMNS('Section 2'!$E$13:I$14),0)),\"\",VLOOKUP($A39,'Section 2'!$E$17:$V$216,COLUMNS('Section 2'!$E$13:I$14),0)))","v":""},{"$f":"IF($C39=\"\",\"\",IF(ISBLANK(VLOOKUP($A39,'Section 2'!$E$17:$V$216,COLUMNS('Section 2'!$E$13:J$14),0)),\"\",VLOOKUP($A39,'Section 2'!$E$17:$V$216,COLUMNS('Section 2'!$E$13:J$14),0)))","v":""},{"$f":"IF($C39=\"\",\"\",IF(ISBLANK(VLOOKUP($A39,'Section 2'!$E$17:$V$216,COLUMNS('Section 2'!$E$13:K$14),0)),\"\",VLOOKUP($A39,'Section 2'!$E$17:$V$216,COLUMNS('Section 2'!$E$13:K$14),0)))","v":""},{"$f":"IF($C39=\"\",\"\",IF(ISBLANK(VLOOKUP($A39,'Section 2'!$E$17:$V$216,COLUMNS('Section 2'!$E$13:L$14),0)),\"\",VLOOKUP($A39,'Section 2'!$E$17:$V$216,COLUMNS('Section 2'!$E$13:L$14),0)))","v":""},{"$f":"IF($C39=\"\",\"\",IF(ISBLANK(VLOOKUP($A39,'Section 2'!$E$17:$V$216,COLUMNS('Section 2'!$E$13:M$14),0)),\"\",VLOOKUP($A39,'Section 2'!$E$17:$V$216,COLUMNS('Section 2'!$E$13:M$14),0)))","v":""},{"$f":"IF($C39=\"\",\"\",IF(ISBLANK(VLOOKUP($A39,'Section 2'!$E$17:$V$216,COLUMNS('Section 2'!$E$13:N$14),0)),\"\",VLOOKUP($A39,'Section 2'!$E$17:$V$216,COLUMNS('Section 2'!$E$13:N$14),0)))","v":""},{"$f":"IF($C39=\"\",\"\",IF(ISBLANK(VLOOKUP($A39,'Section 2'!$E$17:$V$216,COLUMNS('Section 2'!$E$13:O$14),0)),\"\",VLOOKUP($A39,'Section 2'!$E$17:$V$216,COLUMNS('Section 2'!$E$13:O$14),0)))","v":""},{"$f":"IF($C39=\"\",\"\",IF(ISBLANK(VLOOKUP($A39,'Section 2'!$E$17:$V$216,COLUMNS('Section 2'!$E$13:P$14),0)),\"\",VLOOKUP($A39,'Section 2'!$E$17:$V$216,COLUMNS('Section 2'!$E$13:P$14),0)))","v":""},{"$f":"IF($C39=\"\",\"\",IF(ISBLANK(VLOOKUP($A39,'Section 2'!$E$17:$V$216,COLUMNS('Section 2'!$E$13:Q$14),0)),\"\",VLOOKUP($A39,'Section 2'!$E$17:$V$216,COLUMNS('Section 2'!$E$13:Q$14),0)))","v":""},{"$f":"IF($C39=\"\",\"\",IF(ISBLANK(VLOOKUP($A39,'Section 2'!$E$17:$V$216,COLUMNS('Section 2'!$E$13:R$14),0)),\"\",VLOOKUP($A39,'Section 2'!$E$17:$V$216,COLUMNS('Section 2'!$E$13:R$14),0)))","v":""},{"$f":"IF($C39=\"\",\"\",IF(ISBLANK(VLOOKUP($A39,'Section 2'!$E$17:$V$216,COLUMNS('Section 2'!$E$13:S$14),0)),\"\",VLOOKUP($A39,'Section 2'!$E$17:$V$216,COLUMNS('Section 2'!$E$13:S$14),0)))","v":""},{"$f":"IF($C39=\"\",\"\",IF(ISBLANK(VLOOKUP($A39,'Section 2'!$E$17:$V$216,COLUMNS('Section 2'!$E$13:T$14),0)),\"\",VLOOKUP($A39,'Section 2'!$E$17:$V$216,COLUMNS('Section 2'!$E$13:T$14),0)))","v":""},{"$f":"IF($C39=\"\",\"\",IF(ISBLANK(VLOOKUP($A39,'Section 2'!$E$17:$V$216,COLUMNS('Section 2'!$E$13:U$14),0)),\"\",VLOOKUP($A39,'Section 2'!$E$17:$V$216,COLUMNS('Section 2'!$E$13:U$14),0)))","v":""},{"$f":"IF($C39=\"\",\"\",IF(ISBLANK(VLOOKUP($A39,'Section 2'!$E$17:$V$216,COLUMNS('Section 2'!$E$13:V$14),0)),\"\",VLOOKUP($A39,'Section 2'!$E$17:$V$216,COLUMNS('Section 2'!$E$13:V$14),0)))","v":""}]
[39,"",{"$f":"IFERROR(VLOOKUP($A40,'Section 2'!$E$17:$V$216,COLUMNS('Section 2'!$E$13:E$14),0),\"\")","v":""},{"$f":"IF($C40=\"\",\"\",IF(ISBLANK(VLOOKUP($A40,'Section 2'!$E$17:$V$216,COLUMNS('Section 2'!$E$13:F$14),0)),\"\",VLOOKUP($A40,'Section 2'!$E$17:$V$216,COLUMNS('Section 2'!$E$13:F$14),0)))","v":""},{"$f":"IF($C40=\"\",\"\",IF(ISBLANK(VLOOKUP($A40,'Section 2'!$E$17:$V$216,COLUMNS('Section 2'!$E$13:G$14),0)),\"\",VLOOKUP($A40,'Section 2'!$E$17:$V$216,COLUMNS('Section 2'!$E$13:G$14),0)))","v":""},{"$f":"IF($C40=\"\",\"\",IF(ISBLANK(VLOOKUP($A40,'Section 2'!$E$17:$V$216,COLUMNS('Section 2'!$E$13:H$14),0)),\"\",VLOOKUP($A40,'Section 2'!$E$17:$V$216,COLUMNS('Section 2'!$E$13:H$14),0)))","v":""},{"$f":"IF($C40=\"\",\"\",IF(ISBLANK(VLOOKUP($A40,'Section 2'!$E$17:$V$216,COLUMNS('Section 2'!$E$13:I$14),0)),\"\",VLOOKUP($A40,'Section 2'!$E$17:$V$216,COLUMNS('Section 2'!$E$13:I$14),0)))","v":""},{"$f":"IF($C40=\"\",\"\",IF(ISBLANK(VLOOKUP($A40,'Section 2'!$E$17:$V$216,COLUMNS('Section 2'!$E$13:J$14),0)),\"\",VLOOKUP($A40,'Section 2'!$E$17:$V$216,COLUMNS('Section 2'!$E$13:J$14),0)))","v":""},{"$f":"IF($C40=\"\",\"\",IF(ISBLANK(VLOOKUP($A40,'Section 2'!$E$17:$V$216,COLUMNS('Section 2'!$E$13:K$14),0)),\"\",VLOOKUP($A40,'Section 2'!$E$17:$V$216,COLUMNS('Section 2'!$E$13:K$14),0)))","v":""},{"$f":"IF($C40=\"\",\"\",IF(ISBLANK(VLOOKUP($A40,'Section 2'!$E$17:$V$216,COLUMNS('Section 2'!$E$13:L$14),0)),\"\",VLOOKUP($A40,'Section 2'!$E$17:$V$216,COLUMNS('Section 2'!$E$13:L$14),0)))","v":""},{"$f":"IF($C40=\"\",\"\",IF(ISBLANK(VLOOKUP($A40,'Section 2'!$E$17:$V$216,COLUMNS('Section 2'!$E$13:M$14),0)),\"\",VLOOKUP($A40,'Section 2'!$E$17:$V$216,COLUMNS('Section 2'!$E$13:M$14),0)))","v":""},{"$f":"IF($C40=\"\",\"\",IF(ISBLANK(VLOOKUP($A40,'Section 2'!$E$17:$V$216,COLUMNS('Section 2'!$E$13:N$14),0)),\"\",VLOOKUP($A40,'Section 2'!$E$17:$V$216,COLUMNS('Section 2'!$E$13:N$14),0)))","v":""},{"$f":"IF($C40=\"\",\"\",IF(ISBLANK(VLOOKUP($A40,'Section 2'!$E$17:$V$216,COLUMNS('Section 2'!$E$13:O$14),0)),\"\",VLOOKUP($A40,'Section 2'!$E$17:$V$216,COLUMNS('Section 2'!$E$13:O$14),0)))","v":""},{"$f":"IF($C40=\"\",\"\",IF(ISBLANK(VLOOKUP($A40,'Section 2'!$E$17:$V$216,COLUMNS('Section 2'!$E$13:P$14),0)),\"\",VLOOKUP($A40,'Section 2'!$E$17:$V$216,COLUMNS('Section 2'!$E$13:P$14),0)))","v":""},{"$f":"IF($C40=\"\",\"\",IF(ISBLANK(VLOOKUP($A40,'Section 2'!$E$17:$V$216,COLUMNS('Section 2'!$E$13:Q$14),0)),\"\",VLOOKUP($A40,'Section 2'!$E$17:$V$216,COLUMNS('Section 2'!$E$13:Q$14),0)))","v":""},{"$f":"IF($C40=\"\",\"\",IF(ISBLANK(VLOOKUP($A40,'Section 2'!$E$17:$V$216,COLUMNS('Section 2'!$E$13:R$14),0)),\"\",VLOOKUP($A40,'Section 2'!$E$17:$V$216,COLUMNS('Section 2'!$E$13:R$14),0)))","v":""},{"$f":"IF($C40=\"\",\"\",IF(ISBLANK(VLOOKUP($A40,'Section 2'!$E$17:$V$216,COLUMNS('Section 2'!$E$13:S$14),0)),\"\",VLOOKUP($A40,'Section 2'!$E$17:$V$216,COLUMNS('Section 2'!$E$13:S$14),0)))","v":""},{"$f":"IF($C40=\"\",\"\",IF(ISBLANK(VLOOKUP($A40,'Section 2'!$E$17:$V$216,COLUMNS('Section 2'!$E$13:T$14),0)),\"\",VLOOKUP($A40,'Section 2'!$E$17:$V$216,COLUMNS('Section 2'!$E$13:T$14),0)))","v":""},{"$f":"IF($C40=\"\",\"\",IF(ISBLANK(VLOOKUP($A40,'Section 2'!$E$17:$V$216,COLUMNS('Section 2'!$E$13:U$14),0)),\"\",VLOOKUP($A40,'Section 2'!$E$17:$V$216,COLUMNS('Section 2'!$E$13:U$14),0)))","v":""},{"$f":"IF($C40=\"\",\"\",IF(ISBLANK(VLOOKUP($A40,'Section 2'!$E$17:$V$216,COLUMNS('Section 2'!$E$13:V$14),0)),\"\",VLOOKUP($A40,'Section 2'!$E$17:$V$216,COLUMNS('Section 2'!$E$13:V$14),0)))","v":""}]
[40,"",{"$f":"IFERROR(VLOOKUP($A41,'Section 2'!$E$17:$V$216,COLUMNS('Section 2'!$E$13:E$14),0),\"\")","v":""},{"$f":"IF($C41=\"\",\"\",IF(ISBLANK(VLOOKUP($A41,'Section 2'!$E$17:$V$216,COLUMNS('Section 2'!$E$13:F$14),0)),\"\",VLOOKUP($A41,'Section 2'!$E$17:$V$216,COLUMNS('Section 2'!$E$13:F$14),0)))","v":""},{"$f":"IF($C41=\"\",\"\",IF(ISBLANK(VLOOKUP($A41,'Section 2'!$E$17:$V$216,COLUMNS('Section 2'!$E$13:G$14),0)),\"\",VLOOKUP($A41,'Section 2'!$E$17:$V$216,COLUMNS('Section 2'!$E$13:G$14),0)))","v":""},{"$f":"IF($C41=\"\",\"\",IF(ISBLANK(VLOOKUP($A41,'Section 2'!$E$17:$V$216,COLUMNS('Section 2'!$E$13:H$14),0)),\"\",VLOOKUP($A41,'Section 2'!$E$17:$V$216,COLUMNS('Section 2'!$E$13:H$14),0)))","v":""},{"$f":"IF($C41=\"\",\"\",IF(ISBLANK(VLOOKUP($A41,'Section 2'!$E$17:$V$216,COLUMNS('Section 2'!$E$13:I$14),0)),\"\",VLOOKUP($A41,'Section 2'!$E$17:$V$216,COLUMNS('Section 2'!$E$13:I$14),0)))","v":""},{"$f":"IF($C41=\"\",\"\",IF(ISBLANK(VLOOKUP($A41,'Section 2'!$E$17:$V$216,COLUMNS('Section 2'!$E$13:J$14),0)),\"\",VLOOKUP($A41,'Section 2'!$E$17:$V$216,COLUMNS('Section 2'!$E$13:J$14),0)))","v":""},{"$f":"IF($C41=\"\",\"\",IF(ISBLANK(VLOOKUP($A41,'Section 2'!$E$17:$V$216,COLUMNS('Section 2'!$E$13:K$14),0)),\"\",VLOOKUP($A41,'Section 2'!$E$17:$V$216,COLUMNS('Section 2'!$E$13:K$14),0)))","v":""},{"$f":"IF($C41=\"\",\"\",IF(ISBLANK(VLOOKUP($A41,'Section 2'!$E$17:$V$216,COLUMNS('Section 2'!$E$13:L$14),0)),\"\",VLOOKUP($A41,'Section 2'!$E$17:$V$216,COLUMNS('Section 2'!$E$13:L$14),0)))","v":""},{"$f":"IF($C41=\"\",\"\",IF(ISBLANK(VLOOKUP($A41,'Section 2'!$E$17:$V$216,COLUMNS('Section 2'!$E$13:M$14),0)),\"\",VLOOKUP($A41,'Section 2'!$E$17:$V$216,COLUMNS('Section 2'!$E$13:M$14),0)))","v":""},{"$f":"IF($C41=\"\",\"\",IF(ISBLANK(VLOOKUP($A41,'Section 2'!$E$17:$V$216,COLUMNS('Section 2'!$E$13:N$14),0)),\"\",VLOOKUP($A41,'Section 2'!$E$17:$V$216,COLUMNS('Section 2'!$E$13:N$14),0)))","v":""},{"$f":"IF($C41=\"\",\"\",IF(ISBLANK(VLOOKUP($A41,'Section 2'!$E$17:$V$216,COLUMNS('Section 2'!$E$13:O$14),0)),\"\",VLOOKUP($A41,'Section 2'!$E$17:$V$216,COLUMNS('Section 2'!$E$13:O$14),0)))","v":""},{"$f":"IF($C41=\"\",\"\",IF(ISBLANK(VLOOKUP($A41,'Section 2'!$E$17:$V$216,COLUMNS('Section 2'!$E$13:P$14),0)),\"\",VLOOKUP($A41,'Section 2'!$E$17:$V$216,COLUMNS('Section 2'!$E$13:P$14),0)))","v":""},{"$f":"IF($C41=\"\",\"\",IF(ISBLANK(VLOOKUP($A41,'Section 2'!$E$17:$V$216,COLUMNS('Section 2'!$E$13:Q$14),0)),\"\",VLOOKUP($A41,'Section 2'!$E$17:$V$216,COLUMNS('Section 2'!$E$13:Q$14),0)))","v":""},{"$f":"IF($C41=\"\",\"\",IF(ISBLANK(VLOOKUP($A41,'Section 2'!$E$17:$V$216,COLUMNS('Section 2'!$E$13:R$14),0)),\"\",VLOOKUP($A41,'Section 2'!$E$17:$V$216,COLUMNS('Section 2'!$E$13:R$14),0)))","v":""},{"$f":"IF($C41=\"\",\"\",IF(ISBLANK(VLOOKUP($A41,'Section 2'!$E$17:$V$216,COLUMNS('Section 2'!$E$13:S$14),0)),\"\",VLOOKUP($A41,'Section 2'!$E$17:$V$216,COLUMNS('Section 2'!$E$13:S$14),0)))","v":""},{"$f":"IF($C41=\"\",\"\",IF(ISBLANK(VLOOKUP($A41,'Section 2'!$E$17:$V$216,COLUMNS('Section 2'!$E$13:T$14),0)),\"\",VLOOKUP($A41,'Section 2'!$E$17:$V$216,COLUMNS('Section 2'!$E$13:T$14),0)))","v":""},{"$f":"IF($C41=\"\",\"\",IF(ISBLANK(VLOOKUP($A41,'Section 2'!$E$17:$V$216,COLUMNS('Section 2'!$E$13:U$14),0)),\"\",VLOOKUP($A41,'Section 2'!$E$17:$V$216,COLUMNS('Section 2'!$E$13:U$14),0)))","v":""},{"$f":"IF($C41=\"\",\"\",IF(ISBLANK(VLOOKUP($A41,'Section 2'!$E$17:$V$216,COLUMNS('Section 2'!$E$13:V$14),0)),\"\",VLOOKUP($A41,'Section 2'!$E$17:$V$216,COLUMNS('Section 2'!$E$13:V$14),0)))","v":""}]
[41,"",{"$f":"IFERROR(VLOOKUP($A42,'Section 2'!$E$17:$V$216,COLUMNS('Section 2'!$E$13:E$14),0),\"\")","v":""},{"$f":"IF($C42=\"\",\"\",IF(ISBLANK(VLOOKUP($A42,'Section 2'!$E$17:$V$216,COLUMNS('Section 2'!$E$13:F$14),0)),\"\",VLOOKUP($A42,'Section 2'!$E$17:$V$216,COLUMNS('Section 2'!$E$13:F$14),0)))","v":""},{"$f":"IF($C42=\"\",\"\",IF(ISBLANK(VLOOKUP($A42,'Section 2'!$E$17:$V$216,COLUMNS('Section 2'!$E$13:G$14),0)),\"\",VLOOKUP($A42,'Section 2'!$E$17:$V$216,COLUMNS('Section 2'!$E$13:G$14),0)))","v":""},{"$f":"IF($C42=\"\",\"\",IF(ISBLANK(VLOOKUP($A42,'Section 2'!$E$17:$V$216,COLUMNS('Section 2'!$E$13:H$14),0)),\"\",VLOOKUP($A42,'Section 2'!$E$17:$V$216,COLUMNS('Section 2'!$E$13:H$14),0)))","v":""},{"$f":"IF($C42=\"\",\"\",IF(ISBLANK(VLOOKUP($A42,'Section 2'!$E$17:$V$216,COLUMNS('Section 2'!$E$13:I$14),0)),\"\",VLOOKUP($A42,'Section 2'!$E$17:$V$216,COLUMNS('Section 2'!$E$13:I$14),0)))","v":""},{"$f":"IF($C42=\"\",\"\",IF(ISBLANK(VLOOKUP($A42,'Section 2'!$E$17:$V$216,COLUMNS('Section 2'!$E$13:J$14),0)),\"\",VLOOKUP($A42,'Section 2'!$E$17:$V$216,COLUMNS('Section 2'!$E$13:J$14),0)))","v":""},{"$f":"IF($C42=\"\",\"\",IF(ISBLANK(VLOOKUP($A42,'Section 2'!$E$17:$V$216,COLUMNS('Section 2'!$E$13:K$14),0)),\"\",VLOOKUP($A42,'Section 2'!$E$17:$V$216,COLUMNS('Section 2'!$E$13:K$14),0)))","v":""},{"$f":"IF($C42=\"\",\"\",IF(ISBLANK(VLOOKUP($A42,'Section 2'!$E$17:$V$216,COLUMNS('Section 2'!$E$13:L$14),0)),\"\",VLOOKUP($A42,'Section 2'!$E$17:$V$216,COLUMNS('Section 2'!$E$13:L$14),0)))","v":""},{"$f":"IF($C42=\"\",\"\",IF(ISBLANK(VLOOKUP($A42,'Section 2'!$E$17:$V$216,COLUMNS('Section 2'!$E$13:M$14),0)),\"\",VLOOKUP($A42,'Section 2'!$E$17:$V$216,COLUMNS('Section 2'!$E$13:M$14),0)))","v":""},{"$f":"IF($C42=\"\",\"\",IF(ISBLANK(VLOOKUP($A42,'Section 2'!$E$17:$V$216,COLUMNS('Section 2'!$E$13:N$14),0)),\"\",VLOOKUP($A42,'Section 2'!$E$17:$V$216,COLUMNS('Section 2'!$E$13:N$14),0)))","v":""},{"$f":"IF($C42=\"\",\"\",IF(ISBLANK(VLOOKUP($A42,'Section 2'!$E$17:$V$216,COLUMNS('Section 2'!$E$13:O$14),0)),\"\",VLOOKUP($A42,'Section 2'!$E$17:$V$216,COLUMNS('Section 2'!$E$13:O$14),0)))","v":""},{"$f":"IF($C42=\"\",\"\",IF(ISBLANK(VLOOKUP($A42,'Section 2'!$E$17:$V$216,COLUMNS('Section 2'!$E$13:P$14),0)),\"\",VLOOKUP($A42,'Section 2'!$E$17:$V$216,COLUMNS('Section 2'!$E$13:P$14),0)))","v":""},{"$f":"IF($C42=\"\",\"\",IF(ISBLANK(VLOOKUP($A42,'Section 2'!$E$17:$V$216,COLUMNS('Section 2'!$E$13:Q$14),0)),\"\",VLOOKUP($A42,'Section 2'!$E$17:$V$216,COLUMNS('Section 2'!$E$13:Q$14),0)))","v":""},{"$f":"IF($C42=\"\",\"\",IF(ISBLANK(VLOOKUP($A42,'Section 2'!$E$17:$V$216,COLUMNS('Section 2'!$E$13:R$14),0)),\"\",VLOOKUP($A42,'Section 2'!$E$17:$V$216,COLUMNS('Section 2'!$E$13:R$14),0)))","v":""},{"$f":"IF($C42=\"\",\"\",IF(ISBLANK(VLOOKUP($A42,'Section 2'!$E$17:$V$216,COLUMNS('Section 2'!$E$13:S$14),0)),\"\",VLOOKUP($A42,'Section 2'!$E$17:$V$216,COLUMNS('Section 2'!$E$13:S$14),0)))","v":""},{"$f":"IF($C42=\"\",\"\",IF(ISBLANK(VLOOKUP($A42,'Section 2'!$E$17:$V$216,COLUMNS('Section 2'!$E$13:T$14),0)),\"\",VLOOKUP($A42,'Section 2'!$E$17:$V$216,COLUMNS('Section 2'!$E$13:T$14),0)))","v":""},{"$f":"IF($C42=\"\",\"\",IF(ISBLANK(VLOOKUP($A42,'Section 2'!$E$17:$V$216,COLUMNS('Section 2'!$E$13:U$14),0)),\"\",VLOOKUP($A42,'Section 2'!$E$17:$V$216,COLUMNS('Section 2'!$E$13:U$14),0)))","v":""},{"$f":"IF($C42=\"\",\"\",IF(ISBLANK(VLOOKUP($A42,'Section 2'!$E$17:$V$216,COLUMNS('Section 2'!$E$13:V$14),0)),\"\",VLOOKUP($A42,'Section 2'!$E$17:$V$216,COLUMNS('Section 2'!$E$13:V$14),0)))","v":""}]
[42,"",{"$f":"IFERROR(VLOOKUP($A43,'Section 2'!$E$17:$V$216,COLUMNS('Section 2'!$E$13:E$14),0),\"\")","v":""},{"$f":"IF($C43=\"\",\"\",IF(ISBLANK(VLOOKUP($A43,'Section 2'!$E$17:$V$216,COLUMNS('Section 2'!$E$13:F$14),0)),\"\",VLOOKUP($A43,'Section 2'!$E$17:$V$216,COLUMNS('Section 2'!$E$13:F$14),0)))","v":""},{"$f":"IF($C43=\"\",\"\",IF(ISBLANK(VLOOKUP($A43,'Section 2'!$E$17:$V$216,COLUMNS('Section 2'!$E$13:G$14),0)),\"\",VLOOKUP($A43,'Section 2'!$E$17:$V$216,COLUMNS('Section 2'!$E$13:G$14),0)))","v":""},{"$f":"IF($C43=\"\",\"\",IF(ISBLANK(VLOOKUP($A43,'Section 2'!$E$17:$V$216,COLUMNS('Section 2'!$E$13:H$14),0)),\"\",VLOOKUP($A43,'Section 2'!$E$17:$V$216,COLUMNS('Section 2'!$E$13:H$14),0)))","v":""},{"$f":"IF($C43=\"\",\"\",IF(ISBLANK(VLOOKUP($A43,'Section 2'!$E$17:$V$216,COLUMNS('Section 2'!$E$13:I$14),0)),\"\",VLOOKUP($A43,'Section 2'!$E$17:$V$216,COLUMNS('Section 2'!$E$13:I$14),0)))","v":""},{"$f":"IF($C43=\"\",\"\",IF(ISBLANK(VLOOKUP($A43,'Section 2'!$E$17:$V$216,COLUMNS('Section 2'!$E$13:J$14),0)),\"\",VLOOKUP($A43,'Section 2'!$E$17:$V$216,COLUMNS('Section 2'!$E$13:J$14),0)))","v":""},{"$f":"IF($C43=\"\",\"\",IF(ISBLANK(VLOOKUP($A43,'Section 2'!$E$17:$V$216,COLUMNS('Section 2'!$E$13:K$14),0)),\"\",VLOOKUP($A43,'Section 2'!$E$17:$V$216,COLUMNS('Section 2'!$E$13:K$14),0)))","v":""},{"$f":"IF($C43=\"\",\"\",IF(ISBLANK(VLOOKUP($A43,'Section 2'!$E$17:$V$216,COLUMNS('Section 2'!$E$13:L$14),0)),\"\",VLOOKUP($A43,'Section 2'!$E$17:$V$216,COLUMNS('Section 2'!$E$13:L$14),0)))","v":""},{"$f":"IF($C43=\"\",\"\",IF(ISBLANK(VLOOKUP($A43,'Section 2'!$E$17:$V$216,COLUMNS('Section 2'!$E$13:M$14),0)),\"\",VLOOKUP($A43,'Section 2'!$E$17:$V$216,COLUMNS('Section 2'!$E$13:M$14),0)))","v":""},{"$f":"IF($C43=\"\",\"\",IF(ISBLANK(VLOOKUP($A43,'Section 2'!$E$17:$V$216,COLUMNS('Section 2'!$E$13:N$14),0)),\"\",VLOOKUP($A43,'Section 2'!$E$17:$V$216,COLUMNS('Section 2'!$E$13:N$14),0)))","v":""},{"$f":"IF($C43=\"\",\"\",IF(ISBLANK(VLOOKUP($A43,'Section 2'!$E$17:$V$216,COLUMNS('Section 2'!$E$13:O$14),0)),\"\",VLOOKUP($A43,'Section 2'!$E$17:$V$216,COLUMNS('Section 2'!$E$13:O$14),0)))","v":""},{"$f":"IF($C43=\"\",\"\",IF(ISBLANK(VLOOKUP($A43,'Section 2'!$E$17:$V$216,COLUMNS('Section 2'!$E$13:P$14),0)),\"\",VLOOKUP($A43,'Section 2'!$E$17:$V$216,COLUMNS('Section 2'!$E$13:P$14),0)))","v":""},{"$f":"IF($C43=\"\",\"\",IF(ISBLANK(VLOOKUP($A43,'Section 2'!$E$17:$V$216,COLUMNS('Section 2'!$E$13:Q$14),0)),\"\",VLOOKUP($A43,'Section 2'!$E$17:$V$216,COLUMNS('Section 2'!$E$13:Q$14),0)))","v":""},{"$f":"IF($C43=\"\",\"\",IF(ISBLANK(VLOOKUP($A43,'Section 2'!$E$17:$V$216,COLUMNS('Section 2'!$E$13:R$14),0)),\"\",VLOOKUP($A43,'Section 2'!$E$17:$V$216,COLUMNS('Section 2'!$E$13:R$14),0)))","v":""},{"$f":"IF($C43=\"\",\"\",IF(ISBLANK(VLOOKUP($A43,'Section 2'!$E$17:$V$216,COLUMNS('Section 2'!$E$13:S$14),0)),\"\",VLOOKUP($A43,'Section 2'!$E$17:$V$216,COLUMNS('Section 2'!$E$13:S$14),0)))","v":""},{"$f":"IF($C43=\"\",\"\",IF(ISBLANK(VLOOKUP($A43,'Section 2'!$E$17:$V$216,COLUMNS('Section 2'!$E$13:T$14),0)),\"\",VLOOKUP($A43,'Section 2'!$E$17:$V$216,COLUMNS('Section 2'!$E$13:T$14),0)))","v":""},{"$f":"IF($C43=\"\",\"\",IF(ISBLANK(VLOOKUP($A43,'Section 2'!$E$17:$V$216,COLUMNS('Section 2'!$E$13:U$14),0)),\"\",VLOOKUP($A43,'Section 2'!$E$17:$V$216,COLUMNS('Section 2'!$E$13:U$14),0)))","v":""},{"$f":"IF($C43=\"\",\"\",IF(ISBLANK(VLOOKUP($A43,'Section 2'!$E$17:$V$216,COLUMNS('Section 2'!$E$13:V$14),0)),\"\",VLOOKUP($A43,'Section 2'!$E$17:$V$216,COLUMNS('Section 2'!$E$13:V$14),0)))","v":""}]
[43,"",{"$f":"IFERROR(VLOOKUP($A44,'Section 2'!$E$17:$V$216,COLUMNS('Section 2'!$E$13:E$14),0),\"\")","v":""},{"$f":"IF($C44=\"\",\"\",IF(ISBLANK(VLOOKUP($A44,'Section 2'!$E$17:$V$216,COLUMNS('Section 2'!$E$13:F$14),0)),\"\",VLOOKUP($A44,'Section 2'!$E$17:$V$216,COLUMNS('Section 2'!$E$13:F$14),0)))","v":""},{"$f":"IF($C44=\"\",\"\",IF(ISBLANK(VLOOKUP($A44,'Section 2'!$E$17:$V$216,COLUMNS('Section 2'!$E$13:G$14),0)),\"\",VLOOKUP($A44,'Section 2'!$E$17:$V$216,COLUMNS('Section 2'!$E$13:G$14),0)))","v":""},{"$f":"IF($C44=\"\",\"\",IF(ISBLANK(VLOOKUP($A44,'Section 2'!$E$17:$V$216,COLUMNS('Section 2'!$E$13:H$14),0)),\"\",VLOOKUP($A44,'Section 2'!$E$17:$V$216,COLUMNS('Section 2'!$E$13:H$14),0)))","v":""},{"$f":"IF($C44=\"\",\"\",IF(ISBLANK(VLOOKUP($A44,'Section 2'!$E$17:$V$216,COLUMNS('Section 2'!$E$13:I$14),0)),\"\",VLOOKUP($A44,'Section 2'!$E$17:$V$216,COLUMNS('Section 2'!$E$13:I$14),0)))","v":""},{"$f":"IF($C44=\"\",\"\",IF(ISBLANK(VLOOKUP($A44,'Section 2'!$E$17:$V$216,COLUMNS('Section 2'!$E$13:J$14),0)),\"\",VLOOKUP($A44,'Section 2'!$E$17:$V$216,COLUMNS('Section 2'!$E$13:J$14),0)))","v":""},{"$f":"IF($C44=\"\",\"\",IF(ISBLANK(VLOOKUP($A44,'Section 2'!$E$17:$V$216,COLUMNS('Section 2'!$E$13:K$14),0)),\"\",VLOOKUP($A44,'Section 2'!$E$17:$V$216,COLUMNS('Section 2'!$E$13:K$14),0)))","v":""},{"$f":"IF($C44=\"\",\"\",IF(ISBLANK(VLOOKUP($A44,'Section 2'!$E$17:$V$216,COLUMNS('Section 2'!$E$13:L$14),0)),\"\",VLOOKUP($A44,'Section 2'!$E$17:$V$216,COLUMNS('Section 2'!$E$13:L$14),0)))","v":""},{"$f":"IF($C44=\"\",\"\",IF(ISBLANK(VLOOKUP($A44,'Section 2'!$E$17:$V$216,COLUMNS('Section 2'!$E$13:M$14),0)),\"\",VLOOKUP($A44,'Section 2'!$E$17:$V$216,COLUMNS('Section 2'!$E$13:M$14),0)))","v":""},{"$f":"IF($C44=\"\",\"\",IF(ISBLANK(VLOOKUP($A44,'Section 2'!$E$17:$V$216,COLUMNS('Section 2'!$E$13:N$14),0)),\"\",VLOOKUP($A44,'Section 2'!$E$17:$V$216,COLUMNS('Section 2'!$E$13:N$14),0)))","v":""},{"$f":"IF($C44=\"\",\"\",IF(ISBLANK(VLOOKUP($A44,'Section 2'!$E$17:$V$216,COLUMNS('Section 2'!$E$13:O$14),0)),\"\",VLOOKUP($A44,'Section 2'!$E$17:$V$216,COLUMNS('Section 2'!$E$13:O$14),0)))","v":""},{"$f":"IF($C44=\"\",\"\",IF(ISBLANK(VLOOKUP($A44,'Section 2'!$E$17:$V$216,COLUMNS('Section 2'!$E$13:P$14),0)),\"\",VLOOKUP($A44,'Section 2'!$E$17:$V$216,COLUMNS('Section 2'!$E$13:P$14),0)))","v":""},{"$f":"IF($C44=\"\",\"\",IF(ISBLANK(VLOOKUP($A44,'Section 2'!$E$17:$V$216,COLUMNS('Section 2'!$E$13:Q$14),0)),\"\",VLOOKUP($A44,'Section 2'!$E$17:$V$216,COLUMNS('Section 2'!$E$13:Q$14),0)))","v":""},{"$f":"IF($C44=\"\",\"\",IF(ISBLANK(VLOOKUP($A44,'Section 2'!$E$17:$V$216,COLUMNS('Section 2'!$E$13:R$14),0)),\"\",VLOOKUP($A44,'Section 2'!$E$17:$V$216,COLUMNS('Section 2'!$E$13:R$14),0)))","v":""},{"$f":"IF($C44=\"\",\"\",IF(ISBLANK(VLOOKUP($A44,'Section 2'!$E$17:$V$216,COLUMNS('Section 2'!$E$13:S$14),0)),\"\",VLOOKUP($A44,'Section 2'!$E$17:$V$216,COLUMNS('Section 2'!$E$13:S$14),0)))","v":""},{"$f":"IF($C44=\"\",\"\",IF(ISBLANK(VLOOKUP($A44,'Section 2'!$E$17:$V$216,COLUMNS('Section 2'!$E$13:T$14),0)),\"\",VLOOKUP($A44,'Section 2'!$E$17:$V$216,COLUMNS('Section 2'!$E$13:T$14),0)))","v":""},{"$f":"IF($C44=\"\",\"\",IF(ISBLANK(VLOOKUP($A44,'Section 2'!$E$17:$V$216,COLUMNS('Section 2'!$E$13:U$14),0)),\"\",VLOOKUP($A44,'Section 2'!$E$17:$V$216,COLUMNS('Section 2'!$E$13:U$14),0)))","v":""},{"$f":"IF($C44=\"\",\"\",IF(ISBLANK(VLOOKUP($A44,'Section 2'!$E$17:$V$216,COLUMNS('Section 2'!$E$13:V$14),0)),\"\",VLOOKUP($A44,'Section 2'!$E$17:$V$216,COLUMNS('Section 2'!$E$13:V$14),0)))","v":""}]
[44,"",{"$f":"IFERROR(VLOOKUP($A45,'Section 2'!$E$17:$V$216,COLUMNS('Section 2'!$E$13:E$14),0),\"\")","v":""},{"$f":"IF($C45=\"\",\"\",IF(ISBLANK(VLOOKUP($A45,'Section 2'!$E$17:$V$216,COLUMNS('Section 2'!$E$13:F$14),0)),\"\",VLOOKUP($A45,'Section 2'!$E$17:$V$216,COLUMNS('Section 2'!$E$13:F$14),0)))","v":""},{"$f":"IF($C45=\"\",\"\",IF(ISBLANK(VLOOKUP($A45,'Section 2'!$E$17:$V$216,COLUMNS('Section 2'!$E$13:G$14),0)),\"\",VLOOKUP($A45,'Section 2'!$E$17:$V$216,COLUMNS('Section 2'!$E$13:G$14),0)))","v":""},{"$f":"IF($C45=\"\",\"\",IF(ISBLANK(VLOOKUP($A45,'Section 2'!$E$17:$V$216,COLUMNS('Section 2'!$E$13:H$14),0)),\"\",VLOOKUP($A45,'Section 2'!$E$17:$V$216,COLUMNS('Section 2'!$E$13:H$14),0)))","v":""},{"$f":"IF($C45=\"\",\"\",IF(ISBLANK(VLOOKUP($A45,'Section 2'!$E$17:$V$216,COLUMNS('Section 2'!$E$13:I$14),0)),\"\",VLOOKUP($A45,'Section 2'!$E$17:$V$216,COLUMNS('Section 2'!$E$13:I$14),0)))","v":""},{"$f":"IF($C45=\"\",\"\",IF(ISBLANK(VLOOKUP($A45,'Section 2'!$E$17:$V$216,COLUMNS('Section 2'!$E$13:J$14),0)),\"\",VLOOKUP($A45,'Section 2'!$E$17:$V$216,COLUMNS('Section 2'!$E$13:J$14),0)))","v":""},{"$f":"IF($C45=\"\",\"\",IF(ISBLANK(VLOOKUP($A45,'Section 2'!$E$17:$V$216,COLUMNS('Section 2'!$E$13:K$14),0)),\"\",VLOOKUP($A45,'Section 2'!$E$17:$V$216,COLUMNS('Section 2'!$E$13:K$14),0)))","v":""},{"$f":"IF($C45=\"\",\"\",IF(ISBLANK(VLOOKUP($A45,'Section 2'!$E$17:$V$216,COLUMNS('Section 2'!$E$13:L$14),0)),\"\",VLOOKUP($A45,'Section 2'!$E$17:$V$216,COLUMNS('Section 2'!$E$13:L$14),0)))","v":""},{"$f":"IF($C45=\"\",\"\",IF(ISBLANK(VLOOKUP($A45,'Section 2'!$E$17:$V$216,COLUMNS('Section 2'!$E$13:M$14),0)),\"\",VLOOKUP($A45,'Section 2'!$E$17:$V$216,COLUMNS('Section 2'!$E$13:M$14),0)))","v":""},{"$f":"IF($C45=\"\",\"\",IF(ISBLANK(VLOOKUP($A45,'Section 2'!$E$17:$V$216,COLUMNS('Section 2'!$E$13:N$14),0)),\"\",VLOOKUP($A45,'Section 2'!$E$17:$V$216,COLUMNS('Section 2'!$E$13:N$14),0)))","v":""},{"$f":"IF($C45=\"\",\"\",IF(ISBLANK(VLOOKUP($A45,'Section 2'!$E$17:$V$216,COLUMNS('Section 2'!$E$13:O$14),0)),\"\",VLOOKUP($A45,'Section 2'!$E$17:$V$216,COLUMNS('Section 2'!$E$13:O$14),0)))","v":""},{"$f":"IF($C45=\"\",\"\",IF(ISBLANK(VLOOKUP($A45,'Section 2'!$E$17:$V$216,COLUMNS('Section 2'!$E$13:P$14),0)),\"\",VLOOKUP($A45,'Section 2'!$E$17:$V$216,COLUMNS('Section 2'!$E$13:P$14),0)))","v":""},{"$f":"IF($C45=\"\",\"\",IF(ISBLANK(VLOOKUP($A45,'Section 2'!$E$17:$V$216,COLUMNS('Section 2'!$E$13:Q$14),0)),\"\",VLOOKUP($A45,'Section 2'!$E$17:$V$216,COLUMNS('Section 2'!$E$13:Q$14),0)))","v":""},{"$f":"IF($C45=\"\",\"\",IF(ISBLANK(VLOOKUP($A45,'Section 2'!$E$17:$V$216,COLUMNS('Section 2'!$E$13:R$14),0)),\"\",VLOOKUP($A45,'Section 2'!$E$17:$V$216,COLUMNS('Section 2'!$E$13:R$14),0)))","v":""},{"$f":"IF($C45=\"\",\"\",IF(ISBLANK(VLOOKUP($A45,'Section 2'!$E$17:$V$216,COLUMNS('Section 2'!$E$13:S$14),0)),\"\",VLOOKUP($A45,'Section 2'!$E$17:$V$216,COLUMNS('Section 2'!$E$13:S$14),0)))","v":""},{"$f":"IF($C45=\"\",\"\",IF(ISBLANK(VLOOKUP($A45,'Section 2'!$E$17:$V$216,COLUMNS('Section 2'!$E$13:T$14),0)),\"\",VLOOKUP($A45,'Section 2'!$E$17:$V$216,COLUMNS('Section 2'!$E$13:T$14),0)))","v":""},{"$f":"IF($C45=\"\",\"\",IF(ISBLANK(VLOOKUP($A45,'Section 2'!$E$17:$V$216,COLUMNS('Section 2'!$E$13:U$14),0)),\"\",VLOOKUP($A45,'Section 2'!$E$17:$V$216,COLUMNS('Section 2'!$E$13:U$14),0)))","v":""},{"$f":"IF($C45=\"\",\"\",IF(ISBLANK(VLOOKUP($A45,'Section 2'!$E$17:$V$216,COLUMNS('Section 2'!$E$13:V$14),0)),\"\",VLOOKUP($A45,'Section 2'!$E$17:$V$216,COLUMNS('Section 2'!$E$13:V$14),0)))","v":""}]
[45,"",{"$f":"IFERROR(VLOOKUP($A46,'Section 2'!$E$17:$V$216,COLUMNS('Section 2'!$E$13:E$14),0),\"\")","v":""},{"$f":"IF($C46=\"\",\"\",IF(ISBLANK(VLOOKUP($A46,'Section 2'!$E$17:$V$216,COLUMNS('Section 2'!$E$13:F$14),0)),\"\",VLOOKUP($A46,'Section 2'!$E$17:$V$216,COLUMNS('Section 2'!$E$13:F$14),0)))","v":""},{"$f":"IF($C46=\"\",\"\",IF(ISBLANK(VLOOKUP($A46,'Section 2'!$E$17:$V$216,COLUMNS('Section 2'!$E$13:G$14),0)),\"\",VLOOKUP($A46,'Section 2'!$E$17:$V$216,COLUMNS('Section 2'!$E$13:G$14),0)))","v":""},{"$f":"IF($C46=\"\",\"\",IF(ISBLANK(VLOOKUP($A46,'Section 2'!$E$17:$V$216,COLUMNS('Section 2'!$E$13:H$14),0)),\"\",VLOOKUP($A46,'Section 2'!$E$17:$V$216,COLUMNS('Section 2'!$E$13:H$14),0)))","v":""},{"$f":"IF($C46=\"\",\"\",IF(ISBLANK(VLOOKUP($A46,'Section 2'!$E$17:$V$216,COLUMNS('Section 2'!$E$13:I$14),0)),\"\",VLOOKUP($A46,'Section 2'!$E$17:$V$216,COLUMNS('Section 2'!$E$13:I$14),0)))","v":""},{"$f":"IF($C46=\"\",\"\",IF(ISBLANK(VLOOKUP($A46,'Section 2'!$E$17:$V$216,COLUMNS('Section 2'!$E$13:J$14),0)),\"\",VLOOKUP($A46,'Section 2'!$E$17:$V$216,COLUMNS('Section 2'!$E$13:J$14),0)))","v":""},{"$f":"IF($C46=\"\",\"\",IF(ISBLANK(VLOOKUP($A46,'Section 2'!$E$17:$V$216,COLUMNS('Section 2'!$E$13:K$14),0)),\"\",VLOOKUP($A46,'Section 2'!$E$17:$V$216,COLUMNS('Section 2'!$E$13:K$14),0)))","v":""},{"$f":"IF($C46=\"\",\"\",IF(ISBLANK(VLOOKUP($A46,'Section 2'!$E$17:$V$216,COLUMNS('Section 2'!$E$13:L$14),0)),\"\",VLOOKUP($A46,'Section 2'!$E$17:$V$216,COLUMNS('Section 2'!$E$13:L$14),0)))","v":""},{"$f":"IF($C46=\"\",\"\",IF(ISBLANK(VLOOKUP($A46,'Section 2'!$E$17:$V$216,COLUMNS('Section 2'!$E$13:M$14),0)),\"\",VLOOKUP($A46,'Section 2'!$E$17:$V$216,COLUMNS('Section 2'!$E$13:M$14),0)))","v":""},{"$f":"IF($C46=\"\",\"\",IF(ISBLANK(VLOOKUP($A46,'Section 2'!$E$17:$V$216,COLUMNS('Section 2'!$E$13:N$14),0)),\"\",VLOOKUP($A46,'Section 2'!$E$17:$V$216,COLUMNS('Section 2'!$E$13:N$14),0)))","v":""},{"$f":"IF($C46=\"\",\"\",IF(ISBLANK(VLOOKUP($A46,'Section 2'!$E$17:$V$216,COLUMNS('Section 2'!$E$13:O$14),0)),\"\",VLOOKUP($A46,'Section 2'!$E$17:$V$216,COLUMNS('Section 2'!$E$13:O$14),0)))","v":""},{"$f":"IF($C46=\"\",\"\",IF(ISBLANK(VLOOKUP($A46,'Section 2'!$E$17:$V$216,COLUMNS('Section 2'!$E$13:P$14),0)),\"\",VLOOKUP($A46,'Section 2'!$E$17:$V$216,COLUMNS('Section 2'!$E$13:P$14),0)))","v":""},{"$f":"IF($C46=\"\",\"\",IF(ISBLANK(VLOOKUP($A46,'Section 2'!$E$17:$V$216,COLUMNS('Section 2'!$E$13:Q$14),0)),\"\",VLOOKUP($A46,'Section 2'!$E$17:$V$216,COLUMNS('Section 2'!$E$13:Q$14),0)))","v":""},{"$f":"IF($C46=\"\",\"\",IF(ISBLANK(VLOOKUP($A46,'Section 2'!$E$17:$V$216,COLUMNS('Section 2'!$E$13:R$14),0)),\"\",VLOOKUP($A46,'Section 2'!$E$17:$V$216,COLUMNS('Section 2'!$E$13:R$14),0)))","v":""},{"$f":"IF($C46=\"\",\"\",IF(ISBLANK(VLOOKUP($A46,'Section 2'!$E$17:$V$216,COLUMNS('Section 2'!$E$13:S$14),0)),\"\",VLOOKUP($A46,'Section 2'!$E$17:$V$216,COLUMNS('Section 2'!$E$13:S$14),0)))","v":""},{"$f":"IF($C46=\"\",\"\",IF(ISBLANK(VLOOKUP($A46,'Section 2'!$E$17:$V$216,COLUMNS('Section 2'!$E$13:T$14),0)),\"\",VLOOKUP($A46,'Section 2'!$E$17:$V$216,COLUMNS('Section 2'!$E$13:T$14),0)))","v":""},{"$f":"IF($C46=\"\",\"\",IF(ISBLANK(VLOOKUP($A46,'Section 2'!$E$17:$V$216,COLUMNS('Section 2'!$E$13:U$14),0)),\"\",VLOOKUP($A46,'Section 2'!$E$17:$V$216,COLUMNS('Section 2'!$E$13:U$14),0)))","v":""},{"$f":"IF($C46=\"\",\"\",IF(ISBLANK(VLOOKUP($A46,'Section 2'!$E$17:$V$216,COLUMNS('Section 2'!$E$13:V$14),0)),\"\",VLOOKUP($A46,'Section 2'!$E$17:$V$216,COLUMNS('Section 2'!$E$13:V$14),0)))","v":""}]
[46,"",{"$f":"IFERROR(VLOOKUP($A47,'Section 2'!$E$17:$V$216,COLUMNS('Section 2'!$E$13:E$14),0),\"\")","v":""},{"$f":"IF($C47=\"\",\"\",IF(ISBLANK(VLOOKUP($A47,'Section 2'!$E$17:$V$216,COLUMNS('Section 2'!$E$13:F$14),0)),\"\",VLOOKUP($A47,'Section 2'!$E$17:$V$216,COLUMNS('Section 2'!$E$13:F$14),0)))","v":""},{"$f":"IF($C47=\"\",\"\",IF(ISBLANK(VLOOKUP($A47,'Section 2'!$E$17:$V$216,COLUMNS('Section 2'!$E$13:G$14),0)),\"\",VLOOKUP($A47,'Section 2'!$E$17:$V$216,COLUMNS('Section 2'!$E$13:G$14),0)))","v":""},{"$f":"IF($C47=\"\",\"\",IF(ISBLANK(VLOOKUP($A47,'Section 2'!$E$17:$V$216,COLUMNS('Section 2'!$E$13:H$14),0)),\"\",VLOOKUP($A47,'Section 2'!$E$17:$V$216,COLUMNS('Section 2'!$E$13:H$14),0)))","v":""},{"$f":"IF($C47=\"\",\"\",IF(ISBLANK(VLOOKUP($A47,'Section 2'!$E$17:$V$216,COLUMNS('Section 2'!$E$13:I$14),0)),\"\",VLOOKUP($A47,'Section 2'!$E$17:$V$216,COLUMNS('Section 2'!$E$13:I$14),0)))","v":""},{"$f":"IF($C47=\"\",\"\",IF(ISBLANK(VLOOKUP($A47,'Section 2'!$E$17:$V$216,COLUMNS('Section 2'!$E$13:J$14),0)),\"\",VLOOKUP($A47,'Section 2'!$E$17:$V$216,COLUMNS('Section 2'!$E$13:J$14),0)))","v":""},{"$f":"IF($C47=\"\",\"\",IF(ISBLANK(VLOOKUP($A47,'Section 2'!$E$17:$V$216,COLUMNS('Section 2'!$E$13:K$14),0)),\"\",VLOOKUP($A47,'Section 2'!$E$17:$V$216,COLUMNS('Section 2'!$E$13:K$14),0)))","v":""},{"$f":"IF($C47=\"\",\"\",IF(ISBLANK(VLOOKUP($A47,'Section 2'!$E$17:$V$216,COLUMNS('Section 2'!$E$13:L$14),0)),\"\",VLOOKUP($A47,'Section 2'!$E$17:$V$216,COLUMNS('Section 2'!$E$13:L$14),0)))","v":""},{"$f":"IF($C47=\"\",\"\",IF(ISBLANK(VLOOKUP($A47,'Section 2'!$E$17:$V$216,COLUMNS('Section 2'!$E$13:M$14),0)),\"\",VLOOKUP($A47,'Section 2'!$E$17:$V$216,COLUMNS('Section 2'!$E$13:M$14),0)))","v":""},{"$f":"IF($C47=\"\",\"\",IF(ISBLANK(VLOOKUP($A47,'Section 2'!$E$17:$V$216,COLUMNS('Section 2'!$E$13:N$14),0)),\"\",VLOOKUP($A47,'Section 2'!$E$17:$V$216,COLUMNS('Section 2'!$E$13:N$14),0)))","v":""},{"$f":"IF($C47=\"\",\"\",IF(ISBLANK(VLOOKUP($A47,'Section 2'!$E$17:$V$216,COLUMNS('Section 2'!$E$13:O$14),0)),\"\",VLOOKUP($A47,'Section 2'!$E$17:$V$216,COLUMNS('Section 2'!$E$13:O$14),0)))","v":""},{"$f":"IF($C47=\"\",\"\",IF(ISBLANK(VLOOKUP($A47,'Section 2'!$E$17:$V$216,COLUMNS('Section 2'!$E$13:P$14),0)),\"\",VLOOKUP($A47,'Section 2'!$E$17:$V$216,COLUMNS('Section 2'!$E$13:P$14),0)))","v":""},{"$f":"IF($C47=\"\",\"\",IF(ISBLANK(VLOOKUP($A47,'Section 2'!$E$17:$V$216,COLUMNS('Section 2'!$E$13:Q$14),0)),\"\",VLOOKUP($A47,'Section 2'!$E$17:$V$216,COLUMNS('Section 2'!$E$13:Q$14),0)))","v":""},{"$f":"IF($C47=\"\",\"\",IF(ISBLANK(VLOOKUP($A47,'Section 2'!$E$17:$V$216,COLUMNS('Section 2'!$E$13:R$14),0)),\"\",VLOOKUP($A47,'Section 2'!$E$17:$V$216,COLUMNS('Section 2'!$E$13:R$14),0)))","v":""},{"$f":"IF($C47=\"\",\"\",IF(ISBLANK(VLOOKUP($A47,'Section 2'!$E$17:$V$216,COLUMNS('Section 2'!$E$13:S$14),0)),\"\",VLOOKUP($A47,'Section 2'!$E$17:$V$216,COLUMNS('Section 2'!$E$13:S$14),0)))","v":""},{"$f":"IF($C47=\"\",\"\",IF(ISBLANK(VLOOKUP($A47,'Section 2'!$E$17:$V$216,COLUMNS('Section 2'!$E$13:T$14),0)),\"\",VLOOKUP($A47,'Section 2'!$E$17:$V$216,COLUMNS('Section 2'!$E$13:T$14),0)))","v":""},{"$f":"IF($C47=\"\",\"\",IF(ISBLANK(VLOOKUP($A47,'Section 2'!$E$17:$V$216,COLUMNS('Section 2'!$E$13:U$14),0)),\"\",VLOOKUP($A47,'Section 2'!$E$17:$V$216,COLUMNS('Section 2'!$E$13:U$14),0)))","v":""},{"$f":"IF($C47=\"\",\"\",IF(ISBLANK(VLOOKUP($A47,'Section 2'!$E$17:$V$216,COLUMNS('Section 2'!$E$13:V$14),0)),\"\",VLOOKUP($A47,'Section 2'!$E$17:$V$216,COLUMNS('Section 2'!$E$13:V$14),0)))","v":""}]
[47,"",{"$f":"IFERROR(VLOOKUP($A48,'Section 2'!$E$17:$V$216,COLUMNS('Section 2'!$E$13:E$14),0),\"\")","v":""},{"$f":"IF($C48=\"\",\"\",IF(ISBLANK(VLOOKUP($A48,'Section 2'!$E$17:$V$216,COLUMNS('Section 2'!$E$13:F$14),0)),\"\",VLOOKUP($A48,'Section 2'!$E$17:$V$216,COLUMNS('Section 2'!$E$13:F$14),0)))","v":""},{"$f":"IF($C48=\"\",\"\",IF(ISBLANK(VLOOKUP($A48,'Section 2'!$E$17:$V$216,COLUMNS('Section 2'!$E$13:G$14),0)),\"\",VLOOKUP($A48,'Section 2'!$E$17:$V$216,COLUMNS('Section 2'!$E$13:G$14),0)))","v":""},{"$f":"IF($C48=\"\",\"\",IF(ISBLANK(VLOOKUP($A48,'Section 2'!$E$17:$V$216,COLUMNS('Section 2'!$E$13:H$14),0)),\"\",VLOOKUP($A48,'Section 2'!$E$17:$V$216,COLUMNS('Section 2'!$E$13:H$14),0)))","v":""},{"$f":"IF($C48=\"\",\"\",IF(ISBLANK(VLOOKUP($A48,'Section 2'!$E$17:$V$216,COLUMNS('Section 2'!$E$13:I$14),0)),\"\",VLOOKUP($A48,'Section 2'!$E$17:$V$216,COLUMNS('Section 2'!$E$13:I$14),0)))","v":""},{"$f":"IF($C48=\"\",\"\",IF(ISBLANK(VLOOKUP($A48,'Section 2'!$E$17:$V$216,COLUMNS('Section 2'!$E$13:J$14),0)),\"\",VLOOKUP($A48,'Section 2'!$E$17:$V$216,COLUMNS('Section 2'!$E$13:J$14),0)))","v":""},{"$f":"IF($C48=\"\",\"\",IF(ISBLANK(VLOOKUP($A48,'Section 2'!$E$17:$V$216,COLUMNS('Section 2'!$E$13:K$14),0)),\"\",VLOOKUP($A48,'Section 2'!$E$17:$V$216,COLUMNS('Section 2'!$E$13:K$14),0)))","v":""},{"$f":"IF($C48=\"\",\"\",IF(ISBLANK(VLOOKUP($A48,'Section 2'!$E$17:$V$216,COLUMNS('Section 2'!$E$13:L$14),0)),\"\",VLOOKUP($A48,'Section 2'!$E$17:$V$216,COLUMNS('Section 2'!$E$13:L$14),0)))","v":""},{"$f":"IF($C48=\"\",\"\",IF(ISBLANK(VLOOKUP($A48,'Section 2'!$E$17:$V$216,COLUMNS('Section 2'!$E$13:M$14),0)),\"\",VLOOKUP($A48,'Section 2'!$E$17:$V$216,COLUMNS('Section 2'!$E$13:M$14),0)))","v":""},{"$f":"IF($C48=\"\",\"\",IF(ISBLANK(VLOOKUP($A48,'Section 2'!$E$17:$V$216,COLUMNS('Section 2'!$E$13:N$14),0)),\"\",VLOOKUP($A48,'Section 2'!$E$17:$V$216,COLUMNS('Section 2'!$E$13:N$14),0)))","v":""},{"$f":"IF($C48=\"\",\"\",IF(ISBLANK(VLOOKUP($A48,'Section 2'!$E$17:$V$216,COLUMNS('Section 2'!$E$13:O$14),0)),\"\",VLOOKUP($A48,'Section 2'!$E$17:$V$216,COLUMNS('Section 2'!$E$13:O$14),0)))","v":""},{"$f":"IF($C48=\"\",\"\",IF(ISBLANK(VLOOKUP($A48,'Section 2'!$E$17:$V$216,COLUMNS('Section 2'!$E$13:P$14),0)),\"\",VLOOKUP($A48,'Section 2'!$E$17:$V$216,COLUMNS('Section 2'!$E$13:P$14),0)))","v":""},{"$f":"IF($C48=\"\",\"\",IF(ISBLANK(VLOOKUP($A48,'Section 2'!$E$17:$V$216,COLUMNS('Section 2'!$E$13:Q$14),0)),\"\",VLOOKUP($A48,'Section 2'!$E$17:$V$216,COLUMNS('Section 2'!$E$13:Q$14),0)))","v":""},{"$f":"IF($C48=\"\",\"\",IF(ISBLANK(VLOOKUP($A48,'Section 2'!$E$17:$V$216,COLUMNS('Section 2'!$E$13:R$14),0)),\"\",VLOOKUP($A48,'Section 2'!$E$17:$V$216,COLUMNS('Section 2'!$E$13:R$14),0)))","v":""},{"$f":"IF($C48=\"\",\"\",IF(ISBLANK(VLOOKUP($A48,'Section 2'!$E$17:$V$216,COLUMNS('Section 2'!$E$13:S$14),0)),\"\",VLOOKUP($A48,'Section 2'!$E$17:$V$216,COLUMNS('Section 2'!$E$13:S$14),0)))","v":""},{"$f":"IF($C48=\"\",\"\",IF(ISBLANK(VLOOKUP($A48,'Section 2'!$E$17:$V$216,COLUMNS('Section 2'!$E$13:T$14),0)),\"\",VLOOKUP($A48,'Section 2'!$E$17:$V$216,COLUMNS('Section 2'!$E$13:T$14),0)))","v":""},{"$f":"IF($C48=\"\",\"\",IF(ISBLANK(VLOOKUP($A48,'Section 2'!$E$17:$V$216,COLUMNS('Section 2'!$E$13:U$14),0)),\"\",VLOOKUP($A48,'Section 2'!$E$17:$V$216,COLUMNS('Section 2'!$E$13:U$14),0)))","v":""},{"$f":"IF($C48=\"\",\"\",IF(ISBLANK(VLOOKUP($A48,'Section 2'!$E$17:$V$216,COLUMNS('Section 2'!$E$13:V$14),0)),\"\",VLOOKUP($A48,'Section 2'!$E$17:$V$216,COLUMNS('Section 2'!$E$13:V$14),0)))","v":""}]
[48,"",{"$f":"IFERROR(VLOOKUP($A49,'Section 2'!$E$17:$V$216,COLUMNS('Section 2'!$E$13:E$14),0),\"\")","v":""},{"$f":"IF($C49=\"\",\"\",IF(ISBLANK(VLOOKUP($A49,'Section 2'!$E$17:$V$216,COLUMNS('Section 2'!$E$13:F$14),0)),\"\",VLOOKUP($A49,'Section 2'!$E$17:$V$216,COLUMNS('Section 2'!$E$13:F$14),0)))","v":""},{"$f":"IF($C49=\"\",\"\",IF(ISBLANK(VLOOKUP($A49,'Section 2'!$E$17:$V$216,COLUMNS('Section 2'!$E$13:G$14),0)),\"\",VLOOKUP($A49,'Section 2'!$E$17:$V$216,COLUMNS('Section 2'!$E$13:G$14),0)))","v":""},{"$f":"IF($C49=\"\",\"\",IF(ISBLANK(VLOOKUP($A49,'Section 2'!$E$17:$V$216,COLUMNS('Section 2'!$E$13:H$14),0)),\"\",VLOOKUP($A49,'Section 2'!$E$17:$V$216,COLUMNS('Section 2'!$E$13:H$14),0)))","v":""},{"$f":"IF($C49=\"\",\"\",IF(ISBLANK(VLOOKUP($A49,'Section 2'!$E$17:$V$216,COLUMNS('Section 2'!$E$13:I$14),0)),\"\",VLOOKUP($A49,'Section 2'!$E$17:$V$216,COLUMNS('Section 2'!$E$13:I$14),0)))","v":""},{"$f":"IF($C49=\"\",\"\",IF(ISBLANK(VLOOKUP($A49,'Section 2'!$E$17:$V$216,COLUMNS('Section 2'!$E$13:J$14),0)),\"\",VLOOKUP($A49,'Section 2'!$E$17:$V$216,COLUMNS('Section 2'!$E$13:J$14),0)))","v":""},{"$f":"IF($C49=\"\",\"\",IF(ISBLANK(VLOOKUP($A49,'Section 2'!$E$17:$V$216,COLUMNS('Section 2'!$E$13:K$14),0)),\"\",VLOOKUP($A49,'Section 2'!$E$17:$V$216,COLUMNS('Section 2'!$E$13:K$14),0)))","v":""},{"$f":"IF($C49=\"\",\"\",IF(ISBLANK(VLOOKUP($A49,'Section 2'!$E$17:$V$216,COLUMNS('Section 2'!$E$13:L$14),0)),\"\",VLOOKUP($A49,'Section 2'!$E$17:$V$216,COLUMNS('Section 2'!$E$13:L$14),0)))","v":""},{"$f":"IF($C49=\"\",\"\",IF(ISBLANK(VLOOKUP($A49,'Section 2'!$E$17:$V$216,COLUMNS('Section 2'!$E$13:M$14),0)),\"\",VLOOKUP($A49,'Section 2'!$E$17:$V$216,COLUMNS('Section 2'!$E$13:M$14),0)))","v":""},{"$f":"IF($C49=\"\",\"\",IF(ISBLANK(VLOOKUP($A49,'Section 2'!$E$17:$V$216,COLUMNS('Section 2'!$E$13:N$14),0)),\"\",VLOOKUP($A49,'Section 2'!$E$17:$V$216,COLUMNS('Section 2'!$E$13:N$14),0)))","v":""},{"$f":"IF($C49=\"\",\"\",IF(ISBLANK(VLOOKUP($A49,'Section 2'!$E$17:$V$216,COLUMNS('Section 2'!$E$13:O$14),0)),\"\",VLOOKUP($A49,'Section 2'!$E$17:$V$216,COLUMNS('Section 2'!$E$13:O$14),0)))","v":""},{"$f":"IF($C49=\"\",\"\",IF(ISBLANK(VLOOKUP($A49,'Section 2'!$E$17:$V$216,COLUMNS('Section 2'!$E$13:P$14),0)),\"\",VLOOKUP($A49,'Section 2'!$E$17:$V$216,COLUMNS('Section 2'!$E$13:P$14),0)))","v":""},{"$f":"IF($C49=\"\",\"\",IF(ISBLANK(VLOOKUP($A49,'Section 2'!$E$17:$V$216,COLUMNS('Section 2'!$E$13:Q$14),0)),\"\",VLOOKUP($A49,'Section 2'!$E$17:$V$216,COLUMNS('Section 2'!$E$13:Q$14),0)))","v":""},{"$f":"IF($C49=\"\",\"\",IF(ISBLANK(VLOOKUP($A49,'Section 2'!$E$17:$V$216,COLUMNS('Section 2'!$E$13:R$14),0)),\"\",VLOOKUP($A49,'Section 2'!$E$17:$V$216,COLUMNS('Section 2'!$E$13:R$14),0)))","v":""},{"$f":"IF($C49=\"\",\"\",IF(ISBLANK(VLOOKUP($A49,'Section 2'!$E$17:$V$216,COLUMNS('Section 2'!$E$13:S$14),0)),\"\",VLOOKUP($A49,'Section 2'!$E$17:$V$216,COLUMNS('Section 2'!$E$13:S$14),0)))","v":""},{"$f":"IF($C49=\"\",\"\",IF(ISBLANK(VLOOKUP($A49,'Section 2'!$E$17:$V$216,COLUMNS('Section 2'!$E$13:T$14),0)),\"\",VLOOKUP($A49,'Section 2'!$E$17:$V$216,COLUMNS('Section 2'!$E$13:T$14),0)))","v":""},{"$f":"IF($C49=\"\",\"\",IF(ISBLANK(VLOOKUP($A49,'Section 2'!$E$17:$V$216,COLUMNS('Section 2'!$E$13:U$14),0)),\"\",VLOOKUP($A49,'Section 2'!$E$17:$V$216,COLUMNS('Section 2'!$E$13:U$14),0)))","v":""},{"$f":"IF($C49=\"\",\"\",IF(ISBLANK(VLOOKUP($A49,'Section 2'!$E$17:$V$216,COLUMNS('Section 2'!$E$13:V$14),0)),\"\",VLOOKUP($A49,'Section 2'!$E$17:$V$216,COLUMNS('Section 2'!$E$13:V$14),0)))","v":""}]
[49,"",{"$f":"IFERROR(VLOOKUP($A50,'Section 2'!$E$17:$V$216,COLUMNS('Section 2'!$E$13:E$14),0),\"\")","v":""},{"$f":"IF($C50=\"\",\"\",IF(ISBLANK(VLOOKUP($A50,'Section 2'!$E$17:$V$216,COLUMNS('Section 2'!$E$13:F$14),0)),\"\",VLOOKUP($A50,'Section 2'!$E$17:$V$216,COLUMNS('Section 2'!$E$13:F$14),0)))","v":""},{"$f":"IF($C50=\"\",\"\",IF(ISBLANK(VLOOKUP($A50,'Section 2'!$E$17:$V$216,COLUMNS('Section 2'!$E$13:G$14),0)),\"\",VLOOKUP($A50,'Section 2'!$E$17:$V$216,COLUMNS('Section 2'!$E$13:G$14),0)))","v":""},{"$f":"IF($C50=\"\",\"\",IF(ISBLANK(VLOOKUP($A50,'Section 2'!$E$17:$V$216,COLUMNS('Section 2'!$E$13:H$14),0)),\"\",VLOOKUP($A50,'Section 2'!$E$17:$V$216,COLUMNS('Section 2'!$E$13:H$14),0)))","v":""},{"$f":"IF($C50=\"\",\"\",IF(ISBLANK(VLOOKUP($A50,'Section 2'!$E$17:$V$216,COLUMNS('Section 2'!$E$13:I$14),0)),\"\",VLOOKUP($A50,'Section 2'!$E$17:$V$216,COLUMNS('Section 2'!$E$13:I$14),0)))","v":""},{"$f":"IF($C50=\"\",\"\",IF(ISBLANK(VLOOKUP($A50,'Section 2'!$E$17:$V$216,COLUMNS('Section 2'!$E$13:J$14),0)),\"\",VLOOKUP($A50,'Section 2'!$E$17:$V$216,COLUMNS('Section 2'!$E$13:J$14),0)))","v":""},{"$f":"IF($C50=\"\",\"\",IF(ISBLANK(VLOOKUP($A50,'Section 2'!$E$17:$V$216,COLUMNS('Section 2'!$E$13:K$14),0)),\"\",VLOOKUP($A50,'Section 2'!$E$17:$V$216,COLUMNS('Section 2'!$E$13:K$14),0)))","v":""},{"$f":"IF($C50=\"\",\"\",IF(ISBLANK(VLOOKUP($A50,'Section 2'!$E$17:$V$216,COLUMNS('Section 2'!$E$13:L$14),0)),\"\",VLOOKUP($A50,'Section 2'!$E$17:$V$216,COLUMNS('Section 2'!$E$13:L$14),0)))","v":""},{"$f":"IF($C50=\"\",\"\",IF(ISBLANK(VLOOKUP($A50,'Section 2'!$E$17:$V$216,COLUMNS('Section 2'!$E$13:M$14),0)),\"\",VLOOKUP($A50,'Section 2'!$E$17:$V$216,COLUMNS('Section 2'!$E$13:M$14),0)))","v":""},{"$f":"IF($C50=\"\",\"\",IF(ISBLANK(VLOOKUP($A50,'Section 2'!$E$17:$V$216,COLUMNS('Section 2'!$E$13:N$14),0)),\"\",VLOOKUP($A50,'Section 2'!$E$17:$V$216,COLUMNS('Section 2'!$E$13:N$14),0)))","v":""},{"$f":"IF($C50=\"\",\"\",IF(ISBLANK(VLOOKUP($A50,'Section 2'!$E$17:$V$216,COLUMNS('Section 2'!$E$13:O$14),0)),\"\",VLOOKUP($A50,'Section 2'!$E$17:$V$216,COLUMNS('Section 2'!$E$13:O$14),0)))","v":""},{"$f":"IF($C50=\"\",\"\",IF(ISBLANK(VLOOKUP($A50,'Section 2'!$E$17:$V$216,COLUMNS('Section 2'!$E$13:P$14),0)),\"\",VLOOKUP($A50,'Section 2'!$E$17:$V$216,COLUMNS('Section 2'!$E$13:P$14),0)))","v":""},{"$f":"IF($C50=\"\",\"\",IF(ISBLANK(VLOOKUP($A50,'Section 2'!$E$17:$V$216,COLUMNS('Section 2'!$E$13:Q$14),0)),\"\",VLOOKUP($A50,'Section 2'!$E$17:$V$216,COLUMNS('Section 2'!$E$13:Q$14),0)))","v":""},{"$f":"IF($C50=\"\",\"\",IF(ISBLANK(VLOOKUP($A50,'Section 2'!$E$17:$V$216,COLUMNS('Section 2'!$E$13:R$14),0)),\"\",VLOOKUP($A50,'Section 2'!$E$17:$V$216,COLUMNS('Section 2'!$E$13:R$14),0)))","v":""},{"$f":"IF($C50=\"\",\"\",IF(ISBLANK(VLOOKUP($A50,'Section 2'!$E$17:$V$216,COLUMNS('Section 2'!$E$13:S$14),0)),\"\",VLOOKUP($A50,'Section 2'!$E$17:$V$216,COLUMNS('Section 2'!$E$13:S$14),0)))","v":""},{"$f":"IF($C50=\"\",\"\",IF(ISBLANK(VLOOKUP($A50,'Section 2'!$E$17:$V$216,COLUMNS('Section 2'!$E$13:T$14),0)),\"\",VLOOKUP($A50,'Section 2'!$E$17:$V$216,COLUMNS('Section 2'!$E$13:T$14),0)))","v":""},{"$f":"IF($C50=\"\",\"\",IF(ISBLANK(VLOOKUP($A50,'Section 2'!$E$17:$V$216,COLUMNS('Section 2'!$E$13:U$14),0)),\"\",VLOOKUP($A50,'Section 2'!$E$17:$V$216,COLUMNS('Section 2'!$E$13:U$14),0)))","v":""},{"$f":"IF($C50=\"\",\"\",IF(ISBLANK(VLOOKUP($A50,'Section 2'!$E$17:$V$216,COLUMNS('Section 2'!$E$13:V$14),0)),\"\",VLOOKUP($A50,'Section 2'!$E$17:$V$216,COLUMNS('Section 2'!$E$13:V$14),0)))","v":""}]
[50,"",{"$f":"IFERROR(VLOOKUP($A51,'Section 2'!$E$17:$V$216,COLUMNS('Section 2'!$E$13:E$14),0),\"\")","v":""},{"$f":"IF($C51=\"\",\"\",IF(ISBLANK(VLOOKUP($A51,'Section 2'!$E$17:$V$216,COLUMNS('Section 2'!$E$13:F$14),0)),\"\",VLOOKUP($A51,'Section 2'!$E$17:$V$216,COLUMNS('Section 2'!$E$13:F$14),0)))","v":""},{"$f":"IF($C51=\"\",\"\",IF(ISBLANK(VLOOKUP($A51,'Section 2'!$E$17:$V$216,COLUMNS('Section 2'!$E$13:G$14),0)),\"\",VLOOKUP($A51,'Section 2'!$E$17:$V$216,COLUMNS('Section 2'!$E$13:G$14),0)))","v":""},{"$f":"IF($C51=\"\",\"\",IF(ISBLANK(VLOOKUP($A51,'Section 2'!$E$17:$V$216,COLUMNS('Section 2'!$E$13:H$14),0)),\"\",VLOOKUP($A51,'Section 2'!$E$17:$V$216,COLUMNS('Section 2'!$E$13:H$14),0)))","v":""},{"$f":"IF($C51=\"\",\"\",IF(ISBLANK(VLOOKUP($A51,'Section 2'!$E$17:$V$216,COLUMNS('Section 2'!$E$13:I$14),0)),\"\",VLOOKUP($A51,'Section 2'!$E$17:$V$216,COLUMNS('Section 2'!$E$13:I$14),0)))","v":""},{"$f":"IF($C51=\"\",\"\",IF(ISBLANK(VLOOKUP($A51,'Section 2'!$E$17:$V$216,COLUMNS('Section 2'!$E$13:J$14),0)),\"\",VLOOKUP($A51,'Section 2'!$E$17:$V$216,COLUMNS('Section 2'!$E$13:J$14),0)))","v":""},{"$f":"IF($C51=\"\",\"\",IF(ISBLANK(VLOOKUP($A51,'Section 2'!$E$17:$V$216,COLUMNS('Section 2'!$E$13:K$14),0)),\"\",VLOOKUP($A51,'Section 2'!$E$17:$V$216,COLUMNS('Section 2'!$E$13:K$14),0)))","v":""},{"$f":"IF($C51=\"\",\"\",IF(ISBLANK(VLOOKUP($A51,'Section 2'!$E$17:$V$216,COLUMNS('Section 2'!$E$13:L$14),0)),\"\",VLOOKUP($A51,'Section 2'!$E$17:$V$216,COLUMNS('Section 2'!$E$13:L$14),0)))","v":""},{"$f":"IF($C51=\"\",\"\",IF(ISBLANK(VLOOKUP($A51,'Section 2'!$E$17:$V$216,COLUMNS('Section 2'!$E$13:M$14),0)),\"\",VLOOKUP($A51,'Section 2'!$E$17:$V$216,COLUMNS('Section 2'!$E$13:M$14),0)))","v":""},{"$f":"IF($C51=\"\",\"\",IF(ISBLANK(VLOOKUP($A51,'Section 2'!$E$17:$V$216,COLUMNS('Section 2'!$E$13:N$14),0)),\"\",VLOOKUP($A51,'Section 2'!$E$17:$V$216,COLUMNS('Section 2'!$E$13:N$14),0)))","v":""},{"$f":"IF($C51=\"\",\"\",IF(ISBLANK(VLOOKUP($A51,'Section 2'!$E$17:$V$216,COLUMNS('Section 2'!$E$13:O$14),0)),\"\",VLOOKUP($A51,'Section 2'!$E$17:$V$216,COLUMNS('Section 2'!$E$13:O$14),0)))","v":""},{"$f":"IF($C51=\"\",\"\",IF(ISBLANK(VLOOKUP($A51,'Section 2'!$E$17:$V$216,COLUMNS('Section 2'!$E$13:P$14),0)),\"\",VLOOKUP($A51,'Section 2'!$E$17:$V$216,COLUMNS('Section 2'!$E$13:P$14),0)))","v":""},{"$f":"IF($C51=\"\",\"\",IF(ISBLANK(VLOOKUP($A51,'Section 2'!$E$17:$V$216,COLUMNS('Section 2'!$E$13:Q$14),0)),\"\",VLOOKUP($A51,'Section 2'!$E$17:$V$216,COLUMNS('Section 2'!$E$13:Q$14),0)))","v":""},{"$f":"IF($C51=\"\",\"\",IF(ISBLANK(VLOOKUP($A51,'Section 2'!$E$17:$V$216,COLUMNS('Section 2'!$E$13:R$14),0)),\"\",VLOOKUP($A51,'Section 2'!$E$17:$V$216,COLUMNS('Section 2'!$E$13:R$14),0)))","v":""},{"$f":"IF($C51=\"\",\"\",IF(ISBLANK(VLOOKUP($A51,'Section 2'!$E$17:$V$216,COLUMNS('Section 2'!$E$13:S$14),0)),\"\",VLOOKUP($A51,'Section 2'!$E$17:$V$216,COLUMNS('Section 2'!$E$13:S$14),0)))","v":""},{"$f":"IF($C51=\"\",\"\",IF(ISBLANK(VLOOKUP($A51,'Section 2'!$E$17:$V$216,COLUMNS('Section 2'!$E$13:T$14),0)),\"\",VLOOKUP($A51,'Section 2'!$E$17:$V$216,COLUMNS('Section 2'!$E$13:T$14),0)))","v":""},{"$f":"IF($C51=\"\",\"\",IF(ISBLANK(VLOOKUP($A51,'Section 2'!$E$17:$V$216,COLUMNS('Section 2'!$E$13:U$14),0)),\"\",VLOOKUP($A51,'Section 2'!$E$17:$V$216,COLUMNS('Section 2'!$E$13:U$14),0)))","v":""},{"$f":"IF($C51=\"\",\"\",IF(ISBLANK(VLOOKUP($A51,'Section 2'!$E$17:$V$216,COLUMNS('Section 2'!$E$13:V$14),0)),\"\",VLOOKUP($A51,'Section 2'!$E$17:$V$216,COLUMNS('Section 2'!$E$13:V$14),0)))","v":""}]
[51,"",{"$f":"IFERROR(VLOOKUP($A52,'Section 2'!$E$17:$V$216,COLUMNS('Section 2'!$E$13:E$14),0),\"\")","v":""},{"$f":"IF($C52=\"\",\"\",IF(ISBLANK(VLOOKUP($A52,'Section 2'!$E$17:$V$216,COLUMNS('Section 2'!$E$13:F$14),0)),\"\",VLOOKUP($A52,'Section 2'!$E$17:$V$216,COLUMNS('Section 2'!$E$13:F$14),0)))","v":""},{"$f":"IF($C52=\"\",\"\",IF(ISBLANK(VLOOKUP($A52,'Section 2'!$E$17:$V$216,COLUMNS('Section 2'!$E$13:G$14),0)),\"\",VLOOKUP($A52,'Section 2'!$E$17:$V$216,COLUMNS('Section 2'!$E$13:G$14),0)))","v":""},{"$f":"IF($C52=\"\",\"\",IF(ISBLANK(VLOOKUP($A52,'Section 2'!$E$17:$V$216,COLUMNS('Section 2'!$E$13:H$14),0)),\"\",VLOOKUP($A52,'Section 2'!$E$17:$V$216,COLUMNS('Section 2'!$E$13:H$14),0)))","v":""},{"$f":"IF($C52=\"\",\"\",IF(ISBLANK(VLOOKUP($A52,'Section 2'!$E$17:$V$216,COLUMNS('Section 2'!$E$13:I$14),0)),\"\",VLOOKUP($A52,'Section 2'!$E$17:$V$216,COLUMNS('Section 2'!$E$13:I$14),0)))","v":""},{"$f":"IF($C52=\"\",\"\",IF(ISBLANK(VLOOKUP($A52,'Section 2'!$E$17:$V$216,COLUMNS('Section 2'!$E$13:J$14),0)),\"\",VLOOKUP($A52,'Section 2'!$E$17:$V$216,COLUMNS('Section 2'!$E$13:J$14),0)))","v":""},{"$f":"IF($C52=\"\",\"\",IF(ISBLANK(VLOOKUP($A52,'Section 2'!$E$17:$V$216,COLUMNS('Section 2'!$E$13:K$14),0)),\"\",VLOOKUP($A52,'Section 2'!$E$17:$V$216,COLUMNS('Section 2'!$E$13:K$14),0)))","v":""},{"$f":"IF($C52=\"\",\"\",IF(ISBLANK(VLOOKUP($A52,'Section 2'!$E$17:$V$216,COLUMNS('Section 2'!$E$13:L$14),0)),\"\",VLOOKUP($A52,'Section 2'!$E$17:$V$216,COLUMNS('Section 2'!$E$13:L$14),0)))","v":""},{"$f":"IF($C52=\"\",\"\",IF(ISBLANK(VLOOKUP($A52,'Section 2'!$E$17:$V$216,COLUMNS('Section 2'!$E$13:M$14),0)),\"\",VLOOKUP($A52,'Section 2'!$E$17:$V$216,COLUMNS('Section 2'!$E$13:M$14),0)))","v":""},{"$f":"IF($C52=\"\",\"\",IF(ISBLANK(VLOOKUP($A52,'Section 2'!$E$17:$V$216,COLUMNS('Section 2'!$E$13:N$14),0)),\"\",VLOOKUP($A52,'Section 2'!$E$17:$V$216,COLUMNS('Section 2'!$E$13:N$14),0)))","v":""},{"$f":"IF($C52=\"\",\"\",IF(ISBLANK(VLOOKUP($A52,'Section 2'!$E$17:$V$216,COLUMNS('Section 2'!$E$13:O$14),0)),\"\",VLOOKUP($A52,'Section 2'!$E$17:$V$216,COLUMNS('Section 2'!$E$13:O$14),0)))","v":""},{"$f":"IF($C52=\"\",\"\",IF(ISBLANK(VLOOKUP($A52,'Section 2'!$E$17:$V$216,COLUMNS('Section 2'!$E$13:P$14),0)),\"\",VLOOKUP($A52,'Section 2'!$E$17:$V$216,COLUMNS('Section 2'!$E$13:P$14),0)))","v":""},{"$f":"IF($C52=\"\",\"\",IF(ISBLANK(VLOOKUP($A52,'Section 2'!$E$17:$V$216,COLUMNS('Section 2'!$E$13:Q$14),0)),\"\",VLOOKUP($A52,'Section 2'!$E$17:$V$216,COLUMNS('Section 2'!$E$13:Q$14),0)))","v":""},{"$f":"IF($C52=\"\",\"\",IF(ISBLANK(VLOOKUP($A52,'Section 2'!$E$17:$V$216,COLUMNS('Section 2'!$E$13:R$14),0)),\"\",VLOOKUP($A52,'Section 2'!$E$17:$V$216,COLUMNS('Section 2'!$E$13:R$14),0)))","v":""},{"$f":"IF($C52=\"\",\"\",IF(ISBLANK(VLOOKUP($A52,'Section 2'!$E$17:$V$216,COLUMNS('Section 2'!$E$13:S$14),0)),\"\",VLOOKUP($A52,'Section 2'!$E$17:$V$216,COLUMNS('Section 2'!$E$13:S$14),0)))","v":""},{"$f":"IF($C52=\"\",\"\",IF(ISBLANK(VLOOKUP($A52,'Section 2'!$E$17:$V$216,COLUMNS('Section 2'!$E$13:T$14),0)),\"\",VLOOKUP($A52,'Section 2'!$E$17:$V$216,COLUMNS('Section 2'!$E$13:T$14),0)))","v":""},{"$f":"IF($C52=\"\",\"\",IF(ISBLANK(VLOOKUP($A52,'Section 2'!$E$17:$V$216,COLUMNS('Section 2'!$E$13:U$14),0)),\"\",VLOOKUP($A52,'Section 2'!$E$17:$V$216,COLUMNS('Section 2'!$E$13:U$14),0)))","v":""},{"$f":"IF($C52=\"\",\"\",IF(ISBLANK(VLOOKUP($A52,'Section 2'!$E$17:$V$216,COLUMNS('Section 2'!$E$13:V$14),0)),\"\",VLOOKUP($A52,'Section 2'!$E$17:$V$216,COLUMNS('Section 2'!$E$13:V$14),0)))","v":""}]
[52,"",{"$f":"IFERROR(VLOOKUP($A53,'Section 2'!$E$17:$V$216,COLUMNS('Section 2'!$E$13:E$14),0),\"\")","v":""},{"$f":"IF($C53=\"\",\"\",IF(ISBLANK(VLOOKUP($A53,'Section 2'!$E$17:$V$216,COLUMNS('Section 2'!$E$13:F$14),0)),\"\",VLOOKUP($A53,'Section 2'!$E$17:$V$216,COLUMNS('Section 2'!$E$13:F$14),0)))","v":""},{"$f":"IF($C53=\"\",\"\",IF(ISBLANK(VLOOKUP($A53,'Section 2'!$E$17:$V$216,COLUMNS('Section 2'!$E$13:G$14),0)),\"\",VLOOKUP($A53,'Section 2'!$E$17:$V$216,COLUMNS('Section 2'!$E$13:G$14),0)))","v":""},{"$f":"IF($C53=\"\",\"\",IF(ISBLANK(VLOOKUP($A53,'Section 2'!$E$17:$V$216,COLUMNS('Section 2'!$E$13:H$14),0)),\"\",VLOOKUP($A53,'Section 2'!$E$17:$V$216,COLUMNS('Section 2'!$E$13:H$14),0)))","v":""},{"$f":"IF($C53=\"\",\"\",IF(ISBLANK(VLOOKUP($A53,'Section 2'!$E$17:$V$216,COLUMNS('Section 2'!$E$13:I$14),0)),\"\",VLOOKUP($A53,'Section 2'!$E$17:$V$216,COLUMNS('Section 2'!$E$13:I$14),0)))","v":""},{"$f":"IF($C53=\"\",\"\",IF(ISBLANK(VLOOKUP($A53,'Section 2'!$E$17:$V$216,COLUMNS('Section 2'!$E$13:J$14),0)),\"\",VLOOKUP($A53,'Section 2'!$E$17:$V$216,COLUMNS('Section 2'!$E$13:J$14),0)))","v":""},{"$f":"IF($C53=\"\",\"\",IF(ISBLANK(VLOOKUP($A53,'Section 2'!$E$17:$V$216,COLUMNS('Section 2'!$E$13:K$14),0)),\"\",VLOOKUP($A53,'Section 2'!$E$17:$V$216,COLUMNS('Section 2'!$E$13:K$14),0)))","v":""},{"$f":"IF($C53=\"\",\"\",IF(ISBLANK(VLOOKUP($A53,'Section 2'!$E$17:$V$216,COLUMNS('Section 2'!$E$13:L$14),0)),\"\",VLOOKUP($A53,'Section 2'!$E$17:$V$216,COLUMNS('Section 2'!$E$13:L$14),0)))","v":""},{"$f":"IF($C53=\"\",\"\",IF(ISBLANK(VLOOKUP($A53,'Section 2'!$E$17:$V$216,COLUMNS('Section 2'!$E$13:M$14),0)),\"\",VLOOKUP($A53,'Section 2'!$E$17:$V$216,COLUMNS('Section 2'!$E$13:M$14),0)))","v":""},{"$f":"IF($C53=\"\",\"\",IF(ISBLANK(VLOOKUP($A53,'Section 2'!$E$17:$V$216,COLUMNS('Section 2'!$E$13:N$14),0)),\"\",VLOOKUP($A53,'Section 2'!$E$17:$V$216,COLUMNS('Section 2'!$E$13:N$14),0)))","v":""},{"$f":"IF($C53=\"\",\"\",IF(ISBLANK(VLOOKUP($A53,'Section 2'!$E$17:$V$216,COLUMNS('Section 2'!$E$13:O$14),0)),\"\",VLOOKUP($A53,'Section 2'!$E$17:$V$216,COLUMNS('Section 2'!$E$13:O$14),0)))","v":""},{"$f":"IF($C53=\"\",\"\",IF(ISBLANK(VLOOKUP($A53,'Section 2'!$E$17:$V$216,COLUMNS('Section 2'!$E$13:P$14),0)),\"\",VLOOKUP($A53,'Section 2'!$E$17:$V$216,COLUMNS('Section 2'!$E$13:P$14),0)))","v":""},{"$f":"IF($C53=\"\",\"\",IF(ISBLANK(VLOOKUP($A53,'Section 2'!$E$17:$V$216,COLUMNS('Section 2'!$E$13:Q$14),0)),\"\",VLOOKUP($A53,'Section 2'!$E$17:$V$216,COLUMNS('Section 2'!$E$13:Q$14),0)))","v":""},{"$f":"IF($C53=\"\",\"\",IF(ISBLANK(VLOOKUP($A53,'Section 2'!$E$17:$V$216,COLUMNS('Section 2'!$E$13:R$14),0)),\"\",VLOOKUP($A53,'Section 2'!$E$17:$V$216,COLUMNS('Section 2'!$E$13:R$14),0)))","v":""},{"$f":"IF($C53=\"\",\"\",IF(ISBLANK(VLOOKUP($A53,'Section 2'!$E$17:$V$216,COLUMNS('Section 2'!$E$13:S$14),0)),\"\",VLOOKUP($A53,'Section 2'!$E$17:$V$216,COLUMNS('Section 2'!$E$13:S$14),0)))","v":""},{"$f":"IF($C53=\"\",\"\",IF(ISBLANK(VLOOKUP($A53,'Section 2'!$E$17:$V$216,COLUMNS('Section 2'!$E$13:T$14),0)),\"\",VLOOKUP($A53,'Section 2'!$E$17:$V$216,COLUMNS('Section 2'!$E$13:T$14),0)))","v":""},{"$f":"IF($C53=\"\",\"\",IF(ISBLANK(VLOOKUP($A53,'Section 2'!$E$17:$V$216,COLUMNS('Section 2'!$E$13:U$14),0)),\"\",VLOOKUP($A53,'Section 2'!$E$17:$V$216,COLUMNS('Section 2'!$E$13:U$14),0)))","v":""},{"$f":"IF($C53=\"\",\"\",IF(ISBLANK(VLOOKUP($A53,'Section 2'!$E$17:$V$216,COLUMNS('Section 2'!$E$13:V$14),0)),\"\",VLOOKUP($A53,'Section 2'!$E$17:$V$216,COLUMNS('Section 2'!$E$13:V$14),0)))","v":""}]
[53,"",{"$f":"IFERROR(VLOOKUP($A54,'Section 2'!$E$17:$V$216,COLUMNS('Section 2'!$E$13:E$14),0),\"\")","v":""},{"$f":"IF($C54=\"\",\"\",IF(ISBLANK(VLOOKUP($A54,'Section 2'!$E$17:$V$216,COLUMNS('Section 2'!$E$13:F$14),0)),\"\",VLOOKUP($A54,'Section 2'!$E$17:$V$216,COLUMNS('Section 2'!$E$13:F$14),0)))","v":""},{"$f":"IF($C54=\"\",\"\",IF(ISBLANK(VLOOKUP($A54,'Section 2'!$E$17:$V$216,COLUMNS('Section 2'!$E$13:G$14),0)),\"\",VLOOKUP($A54,'Section 2'!$E$17:$V$216,COLUMNS('Section 2'!$E$13:G$14),0)))","v":""},{"$f":"IF($C54=\"\",\"\",IF(ISBLANK(VLOOKUP($A54,'Section 2'!$E$17:$V$216,COLUMNS('Section 2'!$E$13:H$14),0)),\"\",VLOOKUP($A54,'Section 2'!$E$17:$V$216,COLUMNS('Section 2'!$E$13:H$14),0)))","v":""},{"$f":"IF($C54=\"\",\"\",IF(ISBLANK(VLOOKUP($A54,'Section 2'!$E$17:$V$216,COLUMNS('Section 2'!$E$13:I$14),0)),\"\",VLOOKUP($A54,'Section 2'!$E$17:$V$216,COLUMNS('Section 2'!$E$13:I$14),0)))","v":""},{"$f":"IF($C54=\"\",\"\",IF(ISBLANK(VLOOKUP($A54,'Section 2'!$E$17:$V$216,COLUMNS('Section 2'!$E$13:J$14),0)),\"\",VLOOKUP($A54,'Section 2'!$E$17:$V$216,COLUMNS('Section 2'!$E$13:J$14),0)))","v":""},{"$f":"IF($C54=\"\",\"\",IF(ISBLANK(VLOOKUP($A54,'Section 2'!$E$17:$V$216,COLUMNS('Section 2'!$E$13:K$14),0)),\"\",VLOOKUP($A54,'Section 2'!$E$17:$V$216,COLUMNS('Section 2'!$E$13:K$14),0)))","v":""},{"$f":"IF($C54=\"\",\"\",IF(ISBLANK(VLOOKUP($A54,'Section 2'!$E$17:$V$216,COLUMNS('Section 2'!$E$13:L$14),0)),\"\",VLOOKUP($A54,'Section 2'!$E$17:$V$216,COLUMNS('Section 2'!$E$13:L$14),0)))","v":""},{"$f":"IF($C54=\"\",\"\",IF(ISBLANK(VLOOKUP($A54,'Section 2'!$E$17:$V$216,COLUMNS('Section 2'!$E$13:M$14),0)),\"\",VLOOKUP($A54,'Section 2'!$E$17:$V$216,COLUMNS('Section 2'!$E$13:M$14),0)))","v":""},{"$f":"IF($C54=\"\",\"\",IF(ISBLANK(VLOOKUP($A54,'Section 2'!$E$17:$V$216,COLUMNS('Section 2'!$E$13:N$14),0)),\"\",VLOOKUP($A54,'Section 2'!$E$17:$V$216,COLUMNS('Section 2'!$E$13:N$14),0)))","v":""},{"$f":"IF($C54=\"\",\"\",IF(ISBLANK(VLOOKUP($A54,'Section 2'!$E$17:$V$216,COLUMNS('Section 2'!$E$13:O$14),0)),\"\",VLOOKUP($A54,'Section 2'!$E$17:$V$216,COLUMNS('Section 2'!$E$13:O$14),0)))","v":""},{"$f":"IF($C54=\"\",\"\",IF(ISBLANK(VLOOKUP($A54,'Section 2'!$E$17:$V$216,COLUMNS('Section 2'!$E$13:P$14),0)),\"\",VLOOKUP($A54,'Section 2'!$E$17:$V$216,COLUMNS('Section 2'!$E$13:P$14),0)))","v":""},{"$f":"IF($C54=\"\",\"\",IF(ISBLANK(VLOOKUP($A54,'Section 2'!$E$17:$V$216,COLUMNS('Section 2'!$E$13:Q$14),0)),\"\",VLOOKUP($A54,'Section 2'!$E$17:$V$216,COLUMNS('Section 2'!$E$13:Q$14),0)))","v":""},{"$f":"IF($C54=\"\",\"\",IF(ISBLANK(VLOOKUP($A54,'Section 2'!$E$17:$V$216,COLUMNS('Section 2'!$E$13:R$14),0)),\"\",VLOOKUP($A54,'Section 2'!$E$17:$V$216,COLUMNS('Section 2'!$E$13:R$14),0)))","v":""},{"$f":"IF($C54=\"\",\"\",IF(ISBLANK(VLOOKUP($A54,'Section 2'!$E$17:$V$216,COLUMNS('Section 2'!$E$13:S$14),0)),\"\",VLOOKUP($A54,'Section 2'!$E$17:$V$216,COLUMNS('Section 2'!$E$13:S$14),0)))","v":""},{"$f":"IF($C54=\"\",\"\",IF(ISBLANK(VLOOKUP($A54,'Section 2'!$E$17:$V$216,COLUMNS('Section 2'!$E$13:T$14),0)),\"\",VLOOKUP($A54,'Section 2'!$E$17:$V$216,COLUMNS('Section 2'!$E$13:T$14),0)))","v":""},{"$f":"IF($C54=\"\",\"\",IF(ISBLANK(VLOOKUP($A54,'Section 2'!$E$17:$V$216,COLUMNS('Section 2'!$E$13:U$14),0)),\"\",VLOOKUP($A54,'Section 2'!$E$17:$V$216,COLUMNS('Section 2'!$E$13:U$14),0)))","v":""},{"$f":"IF($C54=\"\",\"\",IF(ISBLANK(VLOOKUP($A54,'Section 2'!$E$17:$V$216,COLUMNS('Section 2'!$E$13:V$14),0)),\"\",VLOOKUP($A54,'Section 2'!$E$17:$V$216,COLUMNS('Section 2'!$E$13:V$14),0)))","v":""}]
[54,"",{"$f":"IFERROR(VLOOKUP($A55,'Section 2'!$E$17:$V$216,COLUMNS('Section 2'!$E$13:E$14),0),\"\")","v":""},{"$f":"IF($C55=\"\",\"\",IF(ISBLANK(VLOOKUP($A55,'Section 2'!$E$17:$V$216,COLUMNS('Section 2'!$E$13:F$14),0)),\"\",VLOOKUP($A55,'Section 2'!$E$17:$V$216,COLUMNS('Section 2'!$E$13:F$14),0)))","v":""},{"$f":"IF($C55=\"\",\"\",IF(ISBLANK(VLOOKUP($A55,'Section 2'!$E$17:$V$216,COLUMNS('Section 2'!$E$13:G$14),0)),\"\",VLOOKUP($A55,'Section 2'!$E$17:$V$216,COLUMNS('Section 2'!$E$13:G$14),0)))","v":""},{"$f":"IF($C55=\"\",\"\",IF(ISBLANK(VLOOKUP($A55,'Section 2'!$E$17:$V$216,COLUMNS('Section 2'!$E$13:H$14),0)),\"\",VLOOKUP($A55,'Section 2'!$E$17:$V$216,COLUMNS('Section 2'!$E$13:H$14),0)))","v":""},{"$f":"IF($C55=\"\",\"\",IF(ISBLANK(VLOOKUP($A55,'Section 2'!$E$17:$V$216,COLUMNS('Section 2'!$E$13:I$14),0)),\"\",VLOOKUP($A55,'Section 2'!$E$17:$V$216,COLUMNS('Section 2'!$E$13:I$14),0)))","v":""},{"$f":"IF($C55=\"\",\"\",IF(ISBLANK(VLOOKUP($A55,'Section 2'!$E$17:$V$216,COLUMNS('Section 2'!$E$13:J$14),0)),\"\",VLOOKUP($A55,'Section 2'!$E$17:$V$216,COLUMNS('Section 2'!$E$13:J$14),0)))","v":""},{"$f":"IF($C55=\"\",\"\",IF(ISBLANK(VLOOKUP($A55,'Section 2'!$E$17:$V$216,COLUMNS('Section 2'!$E$13:K$14),0)),\"\",VLOOKUP($A55,'Section 2'!$E$17:$V$216,COLUMNS('Section 2'!$E$13:K$14),0)))","v":""},{"$f":"IF($C55=\"\",\"\",IF(ISBLANK(VLOOKUP($A55,'Section 2'!$E$17:$V$216,COLUMNS('Section 2'!$E$13:L$14),0)),\"\",VLOOKUP($A55,'Section 2'!$E$17:$V$216,COLUMNS('Section 2'!$E$13:L$14),0)))","v":""},{"$f":"IF($C55=\"\",\"\",IF(ISBLANK(VLOOKUP($A55,'Section 2'!$E$17:$V$216,COLUMNS('Section 2'!$E$13:M$14),0)),\"\",VLOOKUP($A55,'Section 2'!$E$17:$V$216,COLUMNS('Section 2'!$E$13:M$14),0)))","v":""},{"$f":"IF($C55=\"\",\"\",IF(ISBLANK(VLOOKUP($A55,'Section 2'!$E$17:$V$216,COLUMNS('Section 2'!$E$13:N$14),0)),\"\",VLOOKUP($A55,'Section 2'!$E$17:$V$216,COLUMNS('Section 2'!$E$13:N$14),0)))","v":""},{"$f":"IF($C55=\"\",\"\",IF(ISBLANK(VLOOKUP($A55,'Section 2'!$E$17:$V$216,COLUMNS('Section 2'!$E$13:O$14),0)),\"\",VLOOKUP($A55,'Section 2'!$E$17:$V$216,COLUMNS('Section 2'!$E$13:O$14),0)))","v":""},{"$f":"IF($C55=\"\",\"\",IF(ISBLANK(VLOOKUP($A55,'Section 2'!$E$17:$V$216,COLUMNS('Section 2'!$E$13:P$14),0)),\"\",VLOOKUP($A55,'Section 2'!$E$17:$V$216,COLUMNS('Section 2'!$E$13:P$14),0)))","v":""},{"$f":"IF($C55=\"\",\"\",IF(ISBLANK(VLOOKUP($A55,'Section 2'!$E$17:$V$216,COLUMNS('Section 2'!$E$13:Q$14),0)),\"\",VLOOKUP($A55,'Section 2'!$E$17:$V$216,COLUMNS('Section 2'!$E$13:Q$14),0)))","v":""},{"$f":"IF($C55=\"\",\"\",IF(ISBLANK(VLOOKUP($A55,'Section 2'!$E$17:$V$216,COLUMNS('Section 2'!$E$13:R$14),0)),\"\",VLOOKUP($A55,'Section 2'!$E$17:$V$216,COLUMNS('Section 2'!$E$13:R$14),0)))","v":""},{"$f":"IF($C55=\"\",\"\",IF(ISBLANK(VLOOKUP($A55,'Section 2'!$E$17:$V$216,COLUMNS('Section 2'!$E$13:S$14),0)),\"\",VLOOKUP($A55,'Section 2'!$E$17:$V$216,COLUMNS('Section 2'!$E$13:S$14),0)))","v":""},{"$f":"IF($C55=\"\",\"\",IF(ISBLANK(VLOOKUP($A55,'Section 2'!$E$17:$V$216,COLUMNS('Section 2'!$E$13:T$14),0)),\"\",VLOOKUP($A55,'Section 2'!$E$17:$V$216,COLUMNS('Section 2'!$E$13:T$14),0)))","v":""},{"$f":"IF($C55=\"\",\"\",IF(ISBLANK(VLOOKUP($A55,'Section 2'!$E$17:$V$216,COLUMNS('Section 2'!$E$13:U$14),0)),\"\",VLOOKUP($A55,'Section 2'!$E$17:$V$216,COLUMNS('Section 2'!$E$13:U$14),0)))","v":""},{"$f":"IF($C55=\"\",\"\",IF(ISBLANK(VLOOKUP($A55,'Section 2'!$E$17:$V$216,COLUMNS('Section 2'!$E$13:V$14),0)),\"\",VLOOKUP($A55,'Section 2'!$E$17:$V$216,COLUMNS('Section 2'!$E$13:V$14),0)))","v":""}]
[55,"",{"$f":"IFERROR(VLOOKUP($A56,'Section 2'!$E$17:$V$216,COLUMNS('Section 2'!$E$13:E$14),0),\"\")","v":""},{"$f":"IF($C56=\"\",\"\",IF(ISBLANK(VLOOKUP($A56,'Section 2'!$E$17:$V$216,COLUMNS('Section 2'!$E$13:F$14),0)),\"\",VLOOKUP($A56,'Section 2'!$E$17:$V$216,COLUMNS('Section 2'!$E$13:F$14),0)))","v":""},{"$f":"IF($C56=\"\",\"\",IF(ISBLANK(VLOOKUP($A56,'Section 2'!$E$17:$V$216,COLUMNS('Section 2'!$E$13:G$14),0)),\"\",VLOOKUP($A56,'Section 2'!$E$17:$V$216,COLUMNS('Section 2'!$E$13:G$14),0)))","v":""},{"$f":"IF($C56=\"\",\"\",IF(ISBLANK(VLOOKUP($A56,'Section 2'!$E$17:$V$216,COLUMNS('Section 2'!$E$13:H$14),0)),\"\",VLOOKUP($A56,'Section 2'!$E$17:$V$216,COLUMNS('Section 2'!$E$13:H$14),0)))","v":""},{"$f":"IF($C56=\"\",\"\",IF(ISBLANK(VLOOKUP($A56,'Section 2'!$E$17:$V$216,COLUMNS('Section 2'!$E$13:I$14),0)),\"\",VLOOKUP($A56,'Section 2'!$E$17:$V$216,COLUMNS('Section 2'!$E$13:I$14),0)))","v":""},{"$f":"IF($C56=\"\",\"\",IF(ISBLANK(VLOOKUP($A56,'Section 2'!$E$17:$V$216,COLUMNS('Section 2'!$E$13:J$14),0)),\"\",VLOOKUP($A56,'Section 2'!$E$17:$V$216,COLUMNS('Section 2'!$E$13:J$14),0)))","v":""},{"$f":"IF($C56=\"\",\"\",IF(ISBLANK(VLOOKUP($A56,'Section 2'!$E$17:$V$216,COLUMNS('Section 2'!$E$13:K$14),0)),\"\",VLOOKUP($A56,'Section 2'!$E$17:$V$216,COLUMNS('Section 2'!$E$13:K$14),0)))","v":""},{"$f":"IF($C56=\"\",\"\",IF(ISBLANK(VLOOKUP($A56,'Section 2'!$E$17:$V$216,COLUMNS('Section 2'!$E$13:L$14),0)),\"\",VLOOKUP($A56,'Section 2'!$E$17:$V$216,COLUMNS('Section 2'!$E$13:L$14),0)))","v":""},{"$f":"IF($C56=\"\",\"\",IF(ISBLANK(VLOOKUP($A56,'Section 2'!$E$17:$V$216,COLUMNS('Section 2'!$E$13:M$14),0)),\"\",VLOOKUP($A56,'Section 2'!$E$17:$V$216,COLUMNS('Section 2'!$E$13:M$14),0)))","v":""},{"$f":"IF($C56=\"\",\"\",IF(ISBLANK(VLOOKUP($A56,'Section 2'!$E$17:$V$216,COLUMNS('Section 2'!$E$13:N$14),0)),\"\",VLOOKUP($A56,'Section 2'!$E$17:$V$216,COLUMNS('Section 2'!$E$13:N$14),0)))","v":""},{"$f":"IF($C56=\"\",\"\",IF(ISBLANK(VLOOKUP($A56,'Section 2'!$E$17:$V$216,COLUMNS('Section 2'!$E$13:O$14),0)),\"\",VLOOKUP($A56,'Section 2'!$E$17:$V$216,COLUMNS('Section 2'!$E$13:O$14),0)))","v":""},{"$f":"IF($C56=\"\",\"\",IF(ISBLANK(VLOOKUP($A56,'Section 2'!$E$17:$V$216,COLUMNS('Section 2'!$E$13:P$14),0)),\"\",VLOOKUP($A56,'Section 2'!$E$17:$V$216,COLUMNS('Section 2'!$E$13:P$14),0)))","v":""},{"$f":"IF($C56=\"\",\"\",IF(ISBLANK(VLOOKUP($A56,'Section 2'!$E$17:$V$216,COLUMNS('Section 2'!$E$13:Q$14),0)),\"\",VLOOKUP($A56,'Section 2'!$E$17:$V$216,COLUMNS('Section 2'!$E$13:Q$14),0)))","v":""},{"$f":"IF($C56=\"\",\"\",IF(ISBLANK(VLOOKUP($A56,'Section 2'!$E$17:$V$216,COLUMNS('Section 2'!$E$13:R$14),0)),\"\",VLOOKUP($A56,'Section 2'!$E$17:$V$216,COLUMNS('Section 2'!$E$13:R$14),0)))","v":""},{"$f":"IF($C56=\"\",\"\",IF(ISBLANK(VLOOKUP($A56,'Section 2'!$E$17:$V$216,COLUMNS('Section 2'!$E$13:S$14),0)),\"\",VLOOKUP($A56,'Section 2'!$E$17:$V$216,COLUMNS('Section 2'!$E$13:S$14),0)))","v":""},{"$f":"IF($C56=\"\",\"\",IF(ISBLANK(VLOOKUP($A56,'Section 2'!$E$17:$V$216,COLUMNS('Section 2'!$E$13:T$14),0)),\"\",VLOOKUP($A56,'Section 2'!$E$17:$V$216,COLUMNS('Section 2'!$E$13:T$14),0)))","v":""},{"$f":"IF($C56=\"\",\"\",IF(ISBLANK(VLOOKUP($A56,'Section 2'!$E$17:$V$216,COLUMNS('Section 2'!$E$13:U$14),0)),\"\",VLOOKUP($A56,'Section 2'!$E$17:$V$216,COLUMNS('Section 2'!$E$13:U$14),0)))","v":""},{"$f":"IF($C56=\"\",\"\",IF(ISBLANK(VLOOKUP($A56,'Section 2'!$E$17:$V$216,COLUMNS('Section 2'!$E$13:V$14),0)),\"\",VLOOKUP($A56,'Section 2'!$E$17:$V$216,COLUMNS('Section 2'!$E$13:V$14),0)))","v":""}]
[56,"",{"$f":"IFERROR(VLOOKUP($A57,'Section 2'!$E$17:$V$216,COLUMNS('Section 2'!$E$13:E$14),0),\"\")","v":""},{"$f":"IF($C57=\"\",\"\",IF(ISBLANK(VLOOKUP($A57,'Section 2'!$E$17:$V$216,COLUMNS('Section 2'!$E$13:F$14),0)),\"\",VLOOKUP($A57,'Section 2'!$E$17:$V$216,COLUMNS('Section 2'!$E$13:F$14),0)))","v":""},{"$f":"IF($C57=\"\",\"\",IF(ISBLANK(VLOOKUP($A57,'Section 2'!$E$17:$V$216,COLUMNS('Section 2'!$E$13:G$14),0)),\"\",VLOOKUP($A57,'Section 2'!$E$17:$V$216,COLUMNS('Section 2'!$E$13:G$14),0)))","v":""},{"$f":"IF($C57=\"\",\"\",IF(ISBLANK(VLOOKUP($A57,'Section 2'!$E$17:$V$216,COLUMNS('Section 2'!$E$13:H$14),0)),\"\",VLOOKUP($A57,'Section 2'!$E$17:$V$216,COLUMNS('Section 2'!$E$13:H$14),0)))","v":""},{"$f":"IF($C57=\"\",\"\",IF(ISBLANK(VLOOKUP($A57,'Section 2'!$E$17:$V$216,COLUMNS('Section 2'!$E$13:I$14),0)),\"\",VLOOKUP($A57,'Section 2'!$E$17:$V$216,COLUMNS('Section 2'!$E$13:I$14),0)))","v":""},{"$f":"IF($C57=\"\",\"\",IF(ISBLANK(VLOOKUP($A57,'Section 2'!$E$17:$V$216,COLUMNS('Section 2'!$E$13:J$14),0)),\"\",VLOOKUP($A57,'Section 2'!$E$17:$V$216,COLUMNS('Section 2'!$E$13:J$14),0)))","v":""},{"$f":"IF($C57=\"\",\"\",IF(ISBLANK(VLOOKUP($A57,'Section 2'!$E$17:$V$216,COLUMNS('Section 2'!$E$13:K$14),0)),\"\",VLOOKUP($A57,'Section 2'!$E$17:$V$216,COLUMNS('Section 2'!$E$13:K$14),0)))","v":""},{"$f":"IF($C57=\"\",\"\",IF(ISBLANK(VLOOKUP($A57,'Section 2'!$E$17:$V$216,COLUMNS('Section 2'!$E$13:L$14),0)),\"\",VLOOKUP($A57,'Section 2'!$E$17:$V$216,COLUMNS('Section 2'!$E$13:L$14),0)))","v":""},{"$f":"IF($C57=\"\",\"\",IF(ISBLANK(VLOOKUP($A57,'Section 2'!$E$17:$V$216,COLUMNS('Section 2'!$E$13:M$14),0)),\"\",VLOOKUP($A57,'Section 2'!$E$17:$V$216,COLUMNS('Section 2'!$E$13:M$14),0)))","v":""},{"$f":"IF($C57=\"\",\"\",IF(ISBLANK(VLOOKUP($A57,'Section 2'!$E$17:$V$216,COLUMNS('Section 2'!$E$13:N$14),0)),\"\",VLOOKUP($A57,'Section 2'!$E$17:$V$216,COLUMNS('Section 2'!$E$13:N$14),0)))","v":""},{"$f":"IF($C57=\"\",\"\",IF(ISBLANK(VLOOKUP($A57,'Section 2'!$E$17:$V$216,COLUMNS('Section 2'!$E$13:O$14),0)),\"\",VLOOKUP($A57,'Section 2'!$E$17:$V$216,COLUMNS('Section 2'!$E$13:O$14),0)))","v":""},{"$f":"IF($C57=\"\",\"\",IF(ISBLANK(VLOOKUP($A57,'Section 2'!$E$17:$V$216,COLUMNS('Section 2'!$E$13:P$14),0)),\"\",VLOOKUP($A57,'Section 2'!$E$17:$V$216,COLUMNS('Section 2'!$E$13:P$14),0)))","v":""},{"$f":"IF($C57=\"\",\"\",IF(ISBLANK(VLOOKUP($A57,'Section 2'!$E$17:$V$216,COLUMNS('Section 2'!$E$13:Q$14),0)),\"\",VLOOKUP($A57,'Section 2'!$E$17:$V$216,COLUMNS('Section 2'!$E$13:Q$14),0)))","v":""},{"$f":"IF($C57=\"\",\"\",IF(ISBLANK(VLOOKUP($A57,'Section 2'!$E$17:$V$216,COLUMNS('Section 2'!$E$13:R$14),0)),\"\",VLOOKUP($A57,'Section 2'!$E$17:$V$216,COLUMNS('Section 2'!$E$13:R$14),0)))","v":""},{"$f":"IF($C57=\"\",\"\",IF(ISBLANK(VLOOKUP($A57,'Section 2'!$E$17:$V$216,COLUMNS('Section 2'!$E$13:S$14),0)),\"\",VLOOKUP($A57,'Section 2'!$E$17:$V$216,COLUMNS('Section 2'!$E$13:S$14),0)))","v":""},{"$f":"IF($C57=\"\",\"\",IF(ISBLANK(VLOOKUP($A57,'Section 2'!$E$17:$V$216,COLUMNS('Section 2'!$E$13:T$14),0)),\"\",VLOOKUP($A57,'Section 2'!$E$17:$V$216,COLUMNS('Section 2'!$E$13:T$14),0)))","v":""},{"$f":"IF($C57=\"\",\"\",IF(ISBLANK(VLOOKUP($A57,'Section 2'!$E$17:$V$216,COLUMNS('Section 2'!$E$13:U$14),0)),\"\",VLOOKUP($A57,'Section 2'!$E$17:$V$216,COLUMNS('Section 2'!$E$13:U$14),0)))","v":""},{"$f":"IF($C57=\"\",\"\",IF(ISBLANK(VLOOKUP($A57,'Section 2'!$E$17:$V$216,COLUMNS('Section 2'!$E$13:V$14),0)),\"\",VLOOKUP($A57,'Section 2'!$E$17:$V$216,COLUMNS('Section 2'!$E$13:V$14),0)))","v":""}]
[57,"",{"$f":"IFERROR(VLOOKUP($A58,'Section 2'!$E$17:$V$216,COLUMNS('Section 2'!$E$13:E$14),0),\"\")","v":""},{"$f":"IF($C58=\"\",\"\",IF(ISBLANK(VLOOKUP($A58,'Section 2'!$E$17:$V$216,COLUMNS('Section 2'!$E$13:F$14),0)),\"\",VLOOKUP($A58,'Section 2'!$E$17:$V$216,COLUMNS('Section 2'!$E$13:F$14),0)))","v":""},{"$f":"IF($C58=\"\",\"\",IF(ISBLANK(VLOOKUP($A58,'Section 2'!$E$17:$V$216,COLUMNS('Section 2'!$E$13:G$14),0)),\"\",VLOOKUP($A58,'Section 2'!$E$17:$V$216,COLUMNS('Section 2'!$E$13:G$14),0)))","v":""},{"$f":"IF($C58=\"\",\"\",IF(ISBLANK(VLOOKUP($A58,'Section 2'!$E$17:$V$216,COLUMNS('Section 2'!$E$13:H$14),0)),\"\",VLOOKUP($A58,'Section 2'!$E$17:$V$216,COLUMNS('Section 2'!$E$13:H$14),0)))","v":""},{"$f":"IF($C58=\"\",\"\",IF(ISBLANK(VLOOKUP($A58,'Section 2'!$E$17:$V$216,COLUMNS('Section 2'!$E$13:I$14),0)),\"\",VLOOKUP($A58,'Section 2'!$E$17:$V$216,COLUMNS('Section 2'!$E$13:I$14),0)))","v":""},{"$f":"IF($C58=\"\",\"\",IF(ISBLANK(VLOOKUP($A58,'Section 2'!$E$17:$V$216,COLUMNS('Section 2'!$E$13:J$14),0)),\"\",VLOOKUP($A58,'Section 2'!$E$17:$V$216,COLUMNS('Section 2'!$E$13:J$14),0)))","v":""},{"$f":"IF($C58=\"\",\"\",IF(ISBLANK(VLOOKUP($A58,'Section 2'!$E$17:$V$216,COLUMNS('Section 2'!$E$13:K$14),0)),\"\",VLOOKUP($A58,'Section 2'!$E$17:$V$216,COLUMNS('Section 2'!$E$13:K$14),0)))","v":""},{"$f":"IF($C58=\"\",\"\",IF(ISBLANK(VLOOKUP($A58,'Section 2'!$E$17:$V$216,COLUMNS('Section 2'!$E$13:L$14),0)),\"\",VLOOKUP($A58,'Section 2'!$E$17:$V$216,COLUMNS('Section 2'!$E$13:L$14),0)))","v":""},{"$f":"IF($C58=\"\",\"\",IF(ISBLANK(VLOOKUP($A58,'Section 2'!$E$17:$V$216,COLUMNS('Section 2'!$E$13:M$14),0)),\"\",VLOOKUP($A58,'Section 2'!$E$17:$V$216,COLUMNS('Section 2'!$E$13:M$14),0)))","v":""},{"$f":"IF($C58=\"\",\"\",IF(ISBLANK(VLOOKUP($A58,'Section 2'!$E$17:$V$216,COLUMNS('Section 2'!$E$13:N$14),0)),\"\",VLOOKUP($A58,'Section 2'!$E$17:$V$216,COLUMNS('Section 2'!$E$13:N$14),0)))","v":""},{"$f":"IF($C58=\"\",\"\",IF(ISBLANK(VLOOKUP($A58,'Section 2'!$E$17:$V$216,COLUMNS('Section 2'!$E$13:O$14),0)),\"\",VLOOKUP($A58,'Section 2'!$E$17:$V$216,COLUMNS('Section 2'!$E$13:O$14),0)))","v":""},{"$f":"IF($C58=\"\",\"\",IF(ISBLANK(VLOOKUP($A58,'Section 2'!$E$17:$V$216,COLUMNS('Section 2'!$E$13:P$14),0)),\"\",VLOOKUP($A58,'Section 2'!$E$17:$V$216,COLUMNS('Section 2'!$E$13:P$14),0)))","v":""},{"$f":"IF($C58=\"\",\"\",IF(ISBLANK(VLOOKUP($A58,'Section 2'!$E$17:$V$216,COLUMNS('Section 2'!$E$13:Q$14),0)),\"\",VLOOKUP($A58,'Section 2'!$E$17:$V$216,COLUMNS('Section 2'!$E$13:Q$14),0)))","v":""},{"$f":"IF($C58=\"\",\"\",IF(ISBLANK(VLOOKUP($A58,'Section 2'!$E$17:$V$216,COLUMNS('Section 2'!$E$13:R$14),0)),\"\",VLOOKUP($A58,'Section 2'!$E$17:$V$216,COLUMNS('Section 2'!$E$13:R$14),0)))","v":""},{"$f":"IF($C58=\"\",\"\",IF(ISBLANK(VLOOKUP($A58,'Section 2'!$E$17:$V$216,COLUMNS('Section 2'!$E$13:S$14),0)),\"\",VLOOKUP($A58,'Section 2'!$E$17:$V$216,COLUMNS('Section 2'!$E$13:S$14),0)))","v":""},{"$f":"IF($C58=\"\",\"\",IF(ISBLANK(VLOOKUP($A58,'Section 2'!$E$17:$V$216,COLUMNS('Section 2'!$E$13:T$14),0)),\"\",VLOOKUP($A58,'Section 2'!$E$17:$V$216,COLUMNS('Section 2'!$E$13:T$14),0)))","v":""},{"$f":"IF($C58=\"\",\"\",IF(ISBLANK(VLOOKUP($A58,'Section 2'!$E$17:$V$216,COLUMNS('Section 2'!$E$13:U$14),0)),\"\",VLOOKUP($A58,'Section 2'!$E$17:$V$216,COLUMNS('Section 2'!$E$13:U$14),0)))","v":""},{"$f":"IF($C58=\"\",\"\",IF(ISBLANK(VLOOKUP($A58,'Section 2'!$E$17:$V$216,COLUMNS('Section 2'!$E$13:V$14),0)),\"\",VLOOKUP($A58,'Section 2'!$E$17:$V$216,COLUMNS('Section 2'!$E$13:V$14),0)))","v":""}]
[58,"",{"$f":"IFERROR(VLOOKUP($A59,'Section 2'!$E$17:$V$216,COLUMNS('Section 2'!$E$13:E$14),0),\"\")","v":""},{"$f":"IF($C59=\"\",\"\",IF(ISBLANK(VLOOKUP($A59,'Section 2'!$E$17:$V$216,COLUMNS('Section 2'!$E$13:F$14),0)),\"\",VLOOKUP($A59,'Section 2'!$E$17:$V$216,COLUMNS('Section 2'!$E$13:F$14),0)))","v":""},{"$f":"IF($C59=\"\",\"\",IF(ISBLANK(VLOOKUP($A59,'Section 2'!$E$17:$V$216,COLUMNS('Section 2'!$E$13:G$14),0)),\"\",VLOOKUP($A59,'Section 2'!$E$17:$V$216,COLUMNS('Section 2'!$E$13:G$14),0)))","v":""},{"$f":"IF($C59=\"\",\"\",IF(ISBLANK(VLOOKUP($A59,'Section 2'!$E$17:$V$216,COLUMNS('Section 2'!$E$13:H$14),0)),\"\",VLOOKUP($A59,'Section 2'!$E$17:$V$216,COLUMNS('Section 2'!$E$13:H$14),0)))","v":""},{"$f":"IF($C59=\"\",\"\",IF(ISBLANK(VLOOKUP($A59,'Section 2'!$E$17:$V$216,COLUMNS('Section 2'!$E$13:I$14),0)),\"\",VLOOKUP($A59,'Section 2'!$E$17:$V$216,COLUMNS('Section 2'!$E$13:I$14),0)))","v":""},{"$f":"IF($C59=\"\",\"\",IF(ISBLANK(VLOOKUP($A59,'Section 2'!$E$17:$V$216,COLUMNS('Section 2'!$E$13:J$14),0)),\"\",VLOOKUP($A59,'Section 2'!$E$17:$V$216,COLUMNS('Section 2'!$E$13:J$14),0)))","v":""},{"$f":"IF($C59=\"\",\"\",IF(ISBLANK(VLOOKUP($A59,'Section 2'!$E$17:$V$216,COLUMNS('Section 2'!$E$13:K$14),0)),\"\",VLOOKUP($A59,'Section 2'!$E$17:$V$216,COLUMNS('Section 2'!$E$13:K$14),0)))","v":""},{"$f":"IF($C59=\"\",\"\",IF(ISBLANK(VLOOKUP($A59,'Section 2'!$E$17:$V$216,COLUMNS('Section 2'!$E$13:L$14),0)),\"\",VLOOKUP($A59,'Section 2'!$E$17:$V$216,COLUMNS('Section 2'!$E$13:L$14),0)))","v":""},{"$f":"IF($C59=\"\",\"\",IF(ISBLANK(VLOOKUP($A59,'Section 2'!$E$17:$V$216,COLUMNS('Section 2'!$E$13:M$14),0)),\"\",VLOOKUP($A59,'Section 2'!$E$17:$V$216,COLUMNS('Section 2'!$E$13:M$14),0)))","v":""},{"$f":"IF($C59=\"\",\"\",IF(ISBLANK(VLOOKUP($A59,'Section 2'!$E$17:$V$216,COLUMNS('Section 2'!$E$13:N$14),0)),\"\",VLOOKUP($A59,'Section 2'!$E$17:$V$216,COLUMNS('Section 2'!$E$13:N$14),0)))","v":""},{"$f":"IF($C59=\"\",\"\",IF(ISBLANK(VLOOKUP($A59,'Section 2'!$E$17:$V$216,COLUMNS('Section 2'!$E$13:O$14),0)),\"\",VLOOKUP($A59,'Section 2'!$E$17:$V$216,COLUMNS('Section 2'!$E$13:O$14),0)))","v":""},{"$f":"IF($C59=\"\",\"\",IF(ISBLANK(VLOOKUP($A59,'Section 2'!$E$17:$V$216,COLUMNS('Section 2'!$E$13:P$14),0)),\"\",VLOOKUP($A59,'Section 2'!$E$17:$V$216,COLUMNS('Section 2'!$E$13:P$14),0)))","v":""},{"$f":"IF($C59=\"\",\"\",IF(ISBLANK(VLOOKUP($A59,'Section 2'!$E$17:$V$216,COLUMNS('Section 2'!$E$13:Q$14),0)),\"\",VLOOKUP($A59,'Section 2'!$E$17:$V$216,COLUMNS('Section 2'!$E$13:Q$14),0)))","v":""},{"$f":"IF($C59=\"\",\"\",IF(ISBLANK(VLOOKUP($A59,'Section 2'!$E$17:$V$216,COLUMNS('Section 2'!$E$13:R$14),0)),\"\",VLOOKUP($A59,'Section 2'!$E$17:$V$216,COLUMNS('Section 2'!$E$13:R$14),0)))","v":""},{"$f":"IF($C59=\"\",\"\",IF(ISBLANK(VLOOKUP($A59,'Section 2'!$E$17:$V$216,COLUMNS('Section 2'!$E$13:S$14),0)),\"\",VLOOKUP($A59,'Section 2'!$E$17:$V$216,COLUMNS('Section 2'!$E$13:S$14),0)))","v":""},{"$f":"IF($C59=\"\",\"\",IF(ISBLANK(VLOOKUP($A59,'Section 2'!$E$17:$V$216,COLUMNS('Section 2'!$E$13:T$14),0)),\"\",VLOOKUP($A59,'Section 2'!$E$17:$V$216,COLUMNS('Section 2'!$E$13:T$14),0)))","v":""},{"$f":"IF($C59=\"\",\"\",IF(ISBLANK(VLOOKUP($A59,'Section 2'!$E$17:$V$216,COLUMNS('Section 2'!$E$13:U$14),0)),\"\",VLOOKUP($A59,'Section 2'!$E$17:$V$216,COLUMNS('Section 2'!$E$13:U$14),0)))","v":""},{"$f":"IF($C59=\"\",\"\",IF(ISBLANK(VLOOKUP($A59,'Section 2'!$E$17:$V$216,COLUMNS('Section 2'!$E$13:V$14),0)),\"\",VLOOKUP($A59,'Section 2'!$E$17:$V$216,COLUMNS('Section 2'!$E$13:V$14),0)))","v":""}]
[59,"",{"$f":"IFERROR(VLOOKUP($A60,'Section 2'!$E$17:$V$216,COLUMNS('Section 2'!$E$13:E$14),0),\"\")","v":""},{"$f":"IF($C60=\"\",\"\",IF(ISBLANK(VLOOKUP($A60,'Section 2'!$E$17:$V$216,COLUMNS('Section 2'!$E$13:F$14),0)),\"\",VLOOKUP($A60,'Section 2'!$E$17:$V$216,COLUMNS('Section 2'!$E$13:F$14),0)))","v":""},{"$f":"IF($C60=\"\",\"\",IF(ISBLANK(VLOOKUP($A60,'Section 2'!$E$17:$V$216,COLUMNS('Section 2'!$E$13:G$14),0)),\"\",VLOOKUP($A60,'Section 2'!$E$17:$V$216,COLUMNS('Section 2'!$E$13:G$14),0)))","v":""},{"$f":"IF($C60=\"\",\"\",IF(ISBLANK(VLOOKUP($A60,'Section 2'!$E$17:$V$216,COLUMNS('Section 2'!$E$13:H$14),0)),\"\",VLOOKUP($A60,'Section 2'!$E$17:$V$216,COLUMNS('Section 2'!$E$13:H$14),0)))","v":""},{"$f":"IF($C60=\"\",\"\",IF(ISBLANK(VLOOKUP($A60,'Section 2'!$E$17:$V$216,COLUMNS('Section 2'!$E$13:I$14),0)),\"\",VLOOKUP($A60,'Section 2'!$E$17:$V$216,COLUMNS('Section 2'!$E$13:I$14),0)))","v":""},{"$f":"IF($C60=\"\",\"\",IF(ISBLANK(VLOOKUP($A60,'Section 2'!$E$17:$V$216,COLUMNS('Section 2'!$E$13:J$14),0)),\"\",VLOOKUP($A60,'Section 2'!$E$17:$V$216,COLUMNS('Section 2'!$E$13:J$14),0)))","v":""},{"$f":"IF($C60=\"\",\"\",IF(ISBLANK(VLOOKUP($A60,'Section 2'!$E$17:$V$216,COLUMNS('Section 2'!$E$13:K$14),0)),\"\",VLOOKUP($A60,'Section 2'!$E$17:$V$216,COLUMNS('Section 2'!$E$13:K$14),0)))","v":""},{"$f":"IF($C60=\"\",\"\",IF(ISBLANK(VLOOKUP($A60,'Section 2'!$E$17:$V$216,COLUMNS('Section 2'!$E$13:L$14),0)),\"\",VLOOKUP($A60,'Section 2'!$E$17:$V$216,COLUMNS('Section 2'!$E$13:L$14),0)))","v":""},{"$f":"IF($C60=\"\",\"\",IF(ISBLANK(VLOOKUP($A60,'Section 2'!$E$17:$V$216,COLUMNS('Section 2'!$E$13:M$14),0)),\"\",VLOOKUP($A60,'Section 2'!$E$17:$V$216,COLUMNS('Section 2'!$E$13:M$14),0)))","v":""},{"$f":"IF($C60=\"\",\"\",IF(ISBLANK(VLOOKUP($A60,'Section 2'!$E$17:$V$216,COLUMNS('Section 2'!$E$13:N$14),0)),\"\",VLOOKUP($A60,'Section 2'!$E$17:$V$216,COLUMNS('Section 2'!$E$13:N$14),0)))","v":""},{"$f":"IF($C60=\"\",\"\",IF(ISBLANK(VLOOKUP($A60,'Section 2'!$E$17:$V$216,COLUMNS('Section 2'!$E$13:O$14),0)),\"\",VLOOKUP($A60,'Section 2'!$E$17:$V$216,COLUMNS('Section 2'!$E$13:O$14),0)))","v":""},{"$f":"IF($C60=\"\",\"\",IF(ISBLANK(VLOOKUP($A60,'Section 2'!$E$17:$V$216,COLUMNS('Section 2'!$E$13:P$14),0)),\"\",VLOOKUP($A60,'Section 2'!$E$17:$V$216,COLUMNS('Section 2'!$E$13:P$14),0)))","v":""},{"$f":"IF($C60=\"\",\"\",IF(ISBLANK(VLOOKUP($A60,'Section 2'!$E$17:$V$216,COLUMNS('Section 2'!$E$13:Q$14),0)),\"\",VLOOKUP($A60,'Section 2'!$E$17:$V$216,COLUMNS('Section 2'!$E$13:Q$14),0)))","v":""},{"$f":"IF($C60=\"\",\"\",IF(ISBLANK(VLOOKUP($A60,'Section 2'!$E$17:$V$216,COLUMNS('Section 2'!$E$13:R$14),0)),\"\",VLOOKUP($A60,'Section 2'!$E$17:$V$216,COLUMNS('Section 2'!$E$13:R$14),0)))","v":""},{"$f":"IF($C60=\"\",\"\",IF(ISBLANK(VLOOKUP($A60,'Section 2'!$E$17:$V$216,COLUMNS('Section 2'!$E$13:S$14),0)),\"\",VLOOKUP($A60,'Section 2'!$E$17:$V$216,COLUMNS('Section 2'!$E$13:S$14),0)))","v":""},{"$f":"IF($C60=\"\",\"\",IF(ISBLANK(VLOOKUP($A60,'Section 2'!$E$17:$V$216,COLUMNS('Section 2'!$E$13:T$14),0)),\"\",VLOOKUP($A60,'Section 2'!$E$17:$V$216,COLUMNS('Section 2'!$E$13:T$14),0)))","v":""},{"$f":"IF($C60=\"\",\"\",IF(ISBLANK(VLOOKUP($A60,'Section 2'!$E$17:$V$216,COLUMNS('Section 2'!$E$13:U$14),0)),\"\",VLOOKUP($A60,'Section 2'!$E$17:$V$216,COLUMNS('Section 2'!$E$13:U$14),0)))","v":""},{"$f":"IF($C60=\"\",\"\",IF(ISBLANK(VLOOKUP($A60,'Section 2'!$E$17:$V$216,COLUMNS('Section 2'!$E$13:V$14),0)),\"\",VLOOKUP($A60,'Section 2'!$E$17:$V$216,COLUMNS('Section 2'!$E$13:V$14),0)))","v":""}]
[60,"",{"$f":"IFERROR(VLOOKUP($A61,'Section 2'!$E$17:$V$216,COLUMNS('Section 2'!$E$13:E$14),0),\"\")","v":""},{"$f":"IF($C61=\"\",\"\",IF(ISBLANK(VLOOKUP($A61,'Section 2'!$E$17:$V$216,COLUMNS('Section 2'!$E$13:F$14),0)),\"\",VLOOKUP($A61,'Section 2'!$E$17:$V$216,COLUMNS('Section 2'!$E$13:F$14),0)))","v":""},{"$f":"IF($C61=\"\",\"\",IF(ISBLANK(VLOOKUP($A61,'Section 2'!$E$17:$V$216,COLUMNS('Section 2'!$E$13:G$14),0)),\"\",VLOOKUP($A61,'Section 2'!$E$17:$V$216,COLUMNS('Section 2'!$E$13:G$14),0)))","v":""},{"$f":"IF($C61=\"\",\"\",IF(ISBLANK(VLOOKUP($A61,'Section 2'!$E$17:$V$216,COLUMNS('Section 2'!$E$13:H$14),0)),\"\",VLOOKUP($A61,'Section 2'!$E$17:$V$216,COLUMNS('Section 2'!$E$13:H$14),0)))","v":""},{"$f":"IF($C61=\"\",\"\",IF(ISBLANK(VLOOKUP($A61,'Section 2'!$E$17:$V$216,COLUMNS('Section 2'!$E$13:I$14),0)),\"\",VLOOKUP($A61,'Section 2'!$E$17:$V$216,COLUMNS('Section 2'!$E$13:I$14),0)))","v":""},{"$f":"IF($C61=\"\",\"\",IF(ISBLANK(VLOOKUP($A61,'Section 2'!$E$17:$V$216,COLUMNS('Section 2'!$E$13:J$14),0)),\"\",VLOOKUP($A61,'Section 2'!$E$17:$V$216,COLUMNS('Section 2'!$E$13:J$14),0)))","v":""},{"$f":"IF($C61=\"\",\"\",IF(ISBLANK(VLOOKUP($A61,'Section 2'!$E$17:$V$216,COLUMNS('Section 2'!$E$13:K$14),0)),\"\",VLOOKUP($A61,'Section 2'!$E$17:$V$216,COLUMNS('Section 2'!$E$13:K$14),0)))","v":""},{"$f":"IF($C61=\"\",\"\",IF(ISBLANK(VLOOKUP($A61,'Section 2'!$E$17:$V$216,COLUMNS('Section 2'!$E$13:L$14),0)),\"\",VLOOKUP($A61,'Section 2'!$E$17:$V$216,COLUMNS('Section 2'!$E$13:L$14),0)))","v":""},{"$f":"IF($C61=\"\",\"\",IF(ISBLANK(VLOOKUP($A61,'Section 2'!$E$17:$V$216,COLUMNS('Section 2'!$E$13:M$14),0)),\"\",VLOOKUP($A61,'Section 2'!$E$17:$V$216,COLUMNS('Section 2'!$E$13:M$14),0)))","v":""},{"$f":"IF($C61=\"\",\"\",IF(ISBLANK(VLOOKUP($A61,'Section 2'!$E$17:$V$216,COLUMNS('Section 2'!$E$13:N$14),0)),\"\",VLOOKUP($A61,'Section 2'!$E$17:$V$216,COLUMNS('Section 2'!$E$13:N$14),0)))","v":""},{"$f":"IF($C61=\"\",\"\",IF(ISBLANK(VLOOKUP($A61,'Section 2'!$E$17:$V$216,COLUMNS('Section 2'!$E$13:O$14),0)),\"\",VLOOKUP($A61,'Section 2'!$E$17:$V$216,COLUMNS('Section 2'!$E$13:O$14),0)))","v":""},{"$f":"IF($C61=\"\",\"\",IF(ISBLANK(VLOOKUP($A61,'Section 2'!$E$17:$V$216,COLUMNS('Section 2'!$E$13:P$14),0)),\"\",VLOOKUP($A61,'Section 2'!$E$17:$V$216,COLUMNS('Section 2'!$E$13:P$14),0)))","v":""},{"$f":"IF($C61=\"\",\"\",IF(ISBLANK(VLOOKUP($A61,'Section 2'!$E$17:$V$216,COLUMNS('Section 2'!$E$13:Q$14),0)),\"\",VLOOKUP($A61,'Section 2'!$E$17:$V$216,COLUMNS('Section 2'!$E$13:Q$14),0)))","v":""},{"$f":"IF($C61=\"\",\"\",IF(ISBLANK(VLOOKUP($A61,'Section 2'!$E$17:$V$216,COLUMNS('Section 2'!$E$13:R$14),0)),\"\",VLOOKUP($A61,'Section 2'!$E$17:$V$216,COLUMNS('Section 2'!$E$13:R$14),0)))","v":""},{"$f":"IF($C61=\"\",\"\",IF(ISBLANK(VLOOKUP($A61,'Section 2'!$E$17:$V$216,COLUMNS('Section 2'!$E$13:S$14),0)),\"\",VLOOKUP($A61,'Section 2'!$E$17:$V$216,COLUMNS('Section 2'!$E$13:S$14),0)))","v":""},{"$f":"IF($C61=\"\",\"\",IF(ISBLANK(VLOOKUP($A61,'Section 2'!$E$17:$V$216,COLUMNS('Section 2'!$E$13:T$14),0)),\"\",VLOOKUP($A61,'Section 2'!$E$17:$V$216,COLUMNS('Section 2'!$E$13:T$14),0)))","v":""},{"$f":"IF($C61=\"\",\"\",IF(ISBLANK(VLOOKUP($A61,'Section 2'!$E$17:$V$216,COLUMNS('Section 2'!$E$13:U$14),0)),\"\",VLOOKUP($A61,'Section 2'!$E$17:$V$216,COLUMNS('Section 2'!$E$13:U$14),0)))","v":""},{"$f":"IF($C61=\"\",\"\",IF(ISBLANK(VLOOKUP($A61,'Section 2'!$E$17:$V$216,COLUMNS('Section 2'!$E$13:V$14),0)),\"\",VLOOKUP($A61,'Section 2'!$E$17:$V$216,COLUMNS('Section 2'!$E$13:V$14),0)))","v":""}]
[61,"",{"$f":"IFERROR(VLOOKUP($A62,'Section 2'!$E$17:$V$216,COLUMNS('Section 2'!$E$13:E$14),0),\"\")","v":""},{"$f":"IF($C62=\"\",\"\",IF(ISBLANK(VLOOKUP($A62,'Section 2'!$E$17:$V$216,COLUMNS('Section 2'!$E$13:F$14),0)),\"\",VLOOKUP($A62,'Section 2'!$E$17:$V$216,COLUMNS('Section 2'!$E$13:F$14),0)))","v":""},{"$f":"IF($C62=\"\",\"\",IF(ISBLANK(VLOOKUP($A62,'Section 2'!$E$17:$V$216,COLUMNS('Section 2'!$E$13:G$14),0)),\"\",VLOOKUP($A62,'Section 2'!$E$17:$V$216,COLUMNS('Section 2'!$E$13:G$14),0)))","v":""},{"$f":"IF($C62=\"\",\"\",IF(ISBLANK(VLOOKUP($A62,'Section 2'!$E$17:$V$216,COLUMNS('Section 2'!$E$13:H$14),0)),\"\",VLOOKUP($A62,'Section 2'!$E$17:$V$216,COLUMNS('Section 2'!$E$13:H$14),0)))","v":""},{"$f":"IF($C62=\"\",\"\",IF(ISBLANK(VLOOKUP($A62,'Section 2'!$E$17:$V$216,COLUMNS('Section 2'!$E$13:I$14),0)),\"\",VLOOKUP($A62,'Section 2'!$E$17:$V$216,COLUMNS('Section 2'!$E$13:I$14),0)))","v":""},{"$f":"IF($C62=\"\",\"\",IF(ISBLANK(VLOOKUP($A62,'Section 2'!$E$17:$V$216,COLUMNS('Section 2'!$E$13:J$14),0)),\"\",VLOOKUP($A62,'Section 2'!$E$17:$V$216,COLUMNS('Section 2'!$E$13:J$14),0)))","v":""},{"$f":"IF($C62=\"\",\"\",IF(ISBLANK(VLOOKUP($A62,'Section 2'!$E$17:$V$216,COLUMNS('Section 2'!$E$13:K$14),0)),\"\",VLOOKUP($A62,'Section 2'!$E$17:$V$216,COLUMNS('Section 2'!$E$13:K$14),0)))","v":""},{"$f":"IF($C62=\"\",\"\",IF(ISBLANK(VLOOKUP($A62,'Section 2'!$E$17:$V$216,COLUMNS('Section 2'!$E$13:L$14),0)),\"\",VLOOKUP($A62,'Section 2'!$E$17:$V$216,COLUMNS('Section 2'!$E$13:L$14),0)))","v":""},{"$f":"IF($C62=\"\",\"\",IF(ISBLANK(VLOOKUP($A62,'Section 2'!$E$17:$V$216,COLUMNS('Section 2'!$E$13:M$14),0)),\"\",VLOOKUP($A62,'Section 2'!$E$17:$V$216,COLUMNS('Section 2'!$E$13:M$14),0)))","v":""},{"$f":"IF($C62=\"\",\"\",IF(ISBLANK(VLOOKUP($A62,'Section 2'!$E$17:$V$216,COLUMNS('Section 2'!$E$13:N$14),0)),\"\",VLOOKUP($A62,'Section 2'!$E$17:$V$216,COLUMNS('Section 2'!$E$13:N$14),0)))","v":""},{"$f":"IF($C62=\"\",\"\",IF(ISBLANK(VLOOKUP($A62,'Section 2'!$E$17:$V$216,COLUMNS('Section 2'!$E$13:O$14),0)),\"\",VLOOKUP($A62,'Section 2'!$E$17:$V$216,COLUMNS('Section 2'!$E$13:O$14),0)))","v":""},{"$f":"IF($C62=\"\",\"\",IF(ISBLANK(VLOOKUP($A62,'Section 2'!$E$17:$V$216,COLUMNS('Section 2'!$E$13:P$14),0)),\"\",VLOOKUP($A62,'Section 2'!$E$17:$V$216,COLUMNS('Section 2'!$E$13:P$14),0)))","v":""},{"$f":"IF($C62=\"\",\"\",IF(ISBLANK(VLOOKUP($A62,'Section 2'!$E$17:$V$216,COLUMNS('Section 2'!$E$13:Q$14),0)),\"\",VLOOKUP($A62,'Section 2'!$E$17:$V$216,COLUMNS('Section 2'!$E$13:Q$14),0)))","v":""},{"$f":"IF($C62=\"\",\"\",IF(ISBLANK(VLOOKUP($A62,'Section 2'!$E$17:$V$216,COLUMNS('Section 2'!$E$13:R$14),0)),\"\",VLOOKUP($A62,'Section 2'!$E$17:$V$216,COLUMNS('Section 2'!$E$13:R$14),0)))","v":""},{"$f":"IF($C62=\"\",\"\",IF(ISBLANK(VLOOKUP($A62,'Section 2'!$E$17:$V$216,COLUMNS('Section 2'!$E$13:S$14),0)),\"\",VLOOKUP($A62,'Section 2'!$E$17:$V$216,COLUMNS('Section 2'!$E$13:S$14),0)))","v":""},{"$f":"IF($C62=\"\",\"\",IF(ISBLANK(VLOOKUP($A62,'Section 2'!$E$17:$V$216,COLUMNS('Section 2'!$E$13:T$14),0)),\"\",VLOOKUP($A62,'Section 2'!$E$17:$V$216,COLUMNS('Section 2'!$E$13:T$14),0)))","v":""},{"$f":"IF($C62=\"\",\"\",IF(ISBLANK(VLOOKUP($A62,'Section 2'!$E$17:$V$216,COLUMNS('Section 2'!$E$13:U$14),0)),\"\",VLOOKUP($A62,'Section 2'!$E$17:$V$216,COLUMNS('Section 2'!$E$13:U$14),0)))","v":""},{"$f":"IF($C62=\"\",\"\",IF(ISBLANK(VLOOKUP($A62,'Section 2'!$E$17:$V$216,COLUMNS('Section 2'!$E$13:V$14),0)),\"\",VLOOKUP($A62,'Section 2'!$E$17:$V$216,COLUMNS('Section 2'!$E$13:V$14),0)))","v":""}]
[62,"",{"$f":"IFERROR(VLOOKUP($A63,'Section 2'!$E$17:$V$216,COLUMNS('Section 2'!$E$13:E$14),0),\"\")","v":""},{"$f":"IF($C63=\"\",\"\",IF(ISBLANK(VLOOKUP($A63,'Section 2'!$E$17:$V$216,COLUMNS('Section 2'!$E$13:F$14),0)),\"\",VLOOKUP($A63,'Section 2'!$E$17:$V$216,COLUMNS('Section 2'!$E$13:F$14),0)))","v":""},{"$f":"IF($C63=\"\",\"\",IF(ISBLANK(VLOOKUP($A63,'Section 2'!$E$17:$V$216,COLUMNS('Section 2'!$E$13:G$14),0)),\"\",VLOOKUP($A63,'Section 2'!$E$17:$V$216,COLUMNS('Section 2'!$E$13:G$14),0)))","v":""},{"$f":"IF($C63=\"\",\"\",IF(ISBLANK(VLOOKUP($A63,'Section 2'!$E$17:$V$216,COLUMNS('Section 2'!$E$13:H$14),0)),\"\",VLOOKUP($A63,'Section 2'!$E$17:$V$216,COLUMNS('Section 2'!$E$13:H$14),0)))","v":""},{"$f":"IF($C63=\"\",\"\",IF(ISBLANK(VLOOKUP($A63,'Section 2'!$E$17:$V$216,COLUMNS('Section 2'!$E$13:I$14),0)),\"\",VLOOKUP($A63,'Section 2'!$E$17:$V$216,COLUMNS('Section 2'!$E$13:I$14),0)))","v":""},{"$f":"IF($C63=\"\",\"\",IF(ISBLANK(VLOOKUP($A63,'Section 2'!$E$17:$V$216,COLUMNS('Section 2'!$E$13:J$14),0)),\"\",VLOOKUP($A63,'Section 2'!$E$17:$V$216,COLUMNS('Section 2'!$E$13:J$14),0)))","v":""},{"$f":"IF($C63=\"\",\"\",IF(ISBLANK(VLOOKUP($A63,'Section 2'!$E$17:$V$216,COLUMNS('Section 2'!$E$13:K$14),0)),\"\",VLOOKUP($A63,'Section 2'!$E$17:$V$216,COLUMNS('Section 2'!$E$13:K$14),0)))","v":""},{"$f":"IF($C63=\"\",\"\",IF(ISBLANK(VLOOKUP($A63,'Section 2'!$E$17:$V$216,COLUMNS('Section 2'!$E$13:L$14),0)),\"\",VLOOKUP($A63,'Section 2'!$E$17:$V$216,COLUMNS('Section 2'!$E$13:L$14),0)))","v":""},{"$f":"IF($C63=\"\",\"\",IF(ISBLANK(VLOOKUP($A63,'Section 2'!$E$17:$V$216,COLUMNS('Section 2'!$E$13:M$14),0)),\"\",VLOOKUP($A63,'Section 2'!$E$17:$V$216,COLUMNS('Section 2'!$E$13:M$14),0)))","v":""},{"$f":"IF($C63=\"\",\"\",IF(ISBLANK(VLOOKUP($A63,'Section 2'!$E$17:$V$216,COLUMNS('Section 2'!$E$13:N$14),0)),\"\",VLOOKUP($A63,'Section 2'!$E$17:$V$216,COLUMNS('Section 2'!$E$13:N$14),0)))","v":""},{"$f":"IF($C63=\"\",\"\",IF(ISBLANK(VLOOKUP($A63,'Section 2'!$E$17:$V$216,COLUMNS('Section 2'!$E$13:O$14),0)),\"\",VLOOKUP($A63,'Section 2'!$E$17:$V$216,COLUMNS('Section 2'!$E$13:O$14),0)))","v":""},{"$f":"IF($C63=\"\",\"\",IF(ISBLANK(VLOOKUP($A63,'Section 2'!$E$17:$V$216,COLUMNS('Section 2'!$E$13:P$14),0)),\"\",VLOOKUP($A63,'Section 2'!$E$17:$V$216,COLUMNS('Section 2'!$E$13:P$14),0)))","v":""},{"$f":"IF($C63=\"\",\"\",IF(ISBLANK(VLOOKUP($A63,'Section 2'!$E$17:$V$216,COLUMNS('Section 2'!$E$13:Q$14),0)),\"\",VLOOKUP($A63,'Section 2'!$E$17:$V$216,COLUMNS('Section 2'!$E$13:Q$14),0)))","v":""},{"$f":"IF($C63=\"\",\"\",IF(ISBLANK(VLOOKUP($A63,'Section 2'!$E$17:$V$216,COLUMNS('Section 2'!$E$13:R$14),0)),\"\",VLOOKUP($A63,'Section 2'!$E$17:$V$216,COLUMNS('Section 2'!$E$13:R$14),0)))","v":""},{"$f":"IF($C63=\"\",\"\",IF(ISBLANK(VLOOKUP($A63,'Section 2'!$E$17:$V$216,COLUMNS('Section 2'!$E$13:S$14),0)),\"\",VLOOKUP($A63,'Section 2'!$E$17:$V$216,COLUMNS('Section 2'!$E$13:S$14),0)))","v":""},{"$f":"IF($C63=\"\",\"\",IF(ISBLANK(VLOOKUP($A63,'Section 2'!$E$17:$V$216,COLUMNS('Section 2'!$E$13:T$14),0)),\"\",VLOOKUP($A63,'Section 2'!$E$17:$V$216,COLUMNS('Section 2'!$E$13:T$14),0)))","v":""},{"$f":"IF($C63=\"\",\"\",IF(ISBLANK(VLOOKUP($A63,'Section 2'!$E$17:$V$216,COLUMNS('Section 2'!$E$13:U$14),0)),\"\",VLOOKUP($A63,'Section 2'!$E$17:$V$216,COLUMNS('Section 2'!$E$13:U$14),0)))","v":""},{"$f":"IF($C63=\"\",\"\",IF(ISBLANK(VLOOKUP($A63,'Section 2'!$E$17:$V$216,COLUMNS('Section 2'!$E$13:V$14),0)),\"\",VLOOKUP($A63,'Section 2'!$E$17:$V$216,COLUMNS('Section 2'!$E$13:V$14),0)))","v":""}]
[63,"",{"$f":"IFERROR(VLOOKUP($A64,'Section 2'!$E$17:$V$216,COLUMNS('Section 2'!$E$13:E$14),0),\"\")","v":""},{"$f":"IF($C64=\"\",\"\",IF(ISBLANK(VLOOKUP($A64,'Section 2'!$E$17:$V$216,COLUMNS('Section 2'!$E$13:F$14),0)),\"\",VLOOKUP($A64,'Section 2'!$E$17:$V$216,COLUMNS('Section 2'!$E$13:F$14),0)))","v":""},{"$f":"IF($C64=\"\",\"\",IF(ISBLANK(VLOOKUP($A64,'Section 2'!$E$17:$V$216,COLUMNS('Section 2'!$E$13:G$14),0)),\"\",VLOOKUP($A64,'Section 2'!$E$17:$V$216,COLUMNS('Section 2'!$E$13:G$14),0)))","v":""},{"$f":"IF($C64=\"\",\"\",IF(ISBLANK(VLOOKUP($A64,'Section 2'!$E$17:$V$216,COLUMNS('Section 2'!$E$13:H$14),0)),\"\",VLOOKUP($A64,'Section 2'!$E$17:$V$216,COLUMNS('Section 2'!$E$13:H$14),0)))","v":""},{"$f":"IF($C64=\"\",\"\",IF(ISBLANK(VLOOKUP($A64,'Section 2'!$E$17:$V$216,COLUMNS('Section 2'!$E$13:I$14),0)),\"\",VLOOKUP($A64,'Section 2'!$E$17:$V$216,COLUMNS('Section 2'!$E$13:I$14),0)))","v":""},{"$f":"IF($C64=\"\",\"\",IF(ISBLANK(VLOOKUP($A64,'Section 2'!$E$17:$V$216,COLUMNS('Section 2'!$E$13:J$14),0)),\"\",VLOOKUP($A64,'Section 2'!$E$17:$V$216,COLUMNS('Section 2'!$E$13:J$14),0)))","v":""},{"$f":"IF($C64=\"\",\"\",IF(ISBLANK(VLOOKUP($A64,'Section 2'!$E$17:$V$216,COLUMNS('Section 2'!$E$13:K$14),0)),\"\",VLOOKUP($A64,'Section 2'!$E$17:$V$216,COLUMNS('Section 2'!$E$13:K$14),0)))","v":""},{"$f":"IF($C64=\"\",\"\",IF(ISBLANK(VLOOKUP($A64,'Section 2'!$E$17:$V$216,COLUMNS('Section 2'!$E$13:L$14),0)),\"\",VLOOKUP($A64,'Section 2'!$E$17:$V$216,COLUMNS('Section 2'!$E$13:L$14),0)))","v":""},{"$f":"IF($C64=\"\",\"\",IF(ISBLANK(VLOOKUP($A64,'Section 2'!$E$17:$V$216,COLUMNS('Section 2'!$E$13:M$14),0)),\"\",VLOOKUP($A64,'Section 2'!$E$17:$V$216,COLUMNS('Section 2'!$E$13:M$14),0)))","v":""},{"$f":"IF($C64=\"\",\"\",IF(ISBLANK(VLOOKUP($A64,'Section 2'!$E$17:$V$216,COLUMNS('Section 2'!$E$13:N$14),0)),\"\",VLOOKUP($A64,'Section 2'!$E$17:$V$216,COLUMNS('Section 2'!$E$13:N$14),0)))","v":""},{"$f":"IF($C64=\"\",\"\",IF(ISBLANK(VLOOKUP($A64,'Section 2'!$E$17:$V$216,COLUMNS('Section 2'!$E$13:O$14),0)),\"\",VLOOKUP($A64,'Section 2'!$E$17:$V$216,COLUMNS('Section 2'!$E$13:O$14),0)))","v":""},{"$f":"IF($C64=\"\",\"\",IF(ISBLANK(VLOOKUP($A64,'Section 2'!$E$17:$V$216,COLUMNS('Section 2'!$E$13:P$14),0)),\"\",VLOOKUP($A64,'Section 2'!$E$17:$V$216,COLUMNS('Section 2'!$E$13:P$14),0)))","v":""},{"$f":"IF($C64=\"\",\"\",IF(ISBLANK(VLOOKUP($A64,'Section 2'!$E$17:$V$216,COLUMNS('Section 2'!$E$13:Q$14),0)),\"\",VLOOKUP($A64,'Section 2'!$E$17:$V$216,COLUMNS('Section 2'!$E$13:Q$14),0)))","v":""},{"$f":"IF($C64=\"\",\"\",IF(ISBLANK(VLOOKUP($A64,'Section 2'!$E$17:$V$216,COLUMNS('Section 2'!$E$13:R$14),0)),\"\",VLOOKUP($A64,'Section 2'!$E$17:$V$216,COLUMNS('Section 2'!$E$13:R$14),0)))","v":""},{"$f":"IF($C64=\"\",\"\",IF(ISBLANK(VLOOKUP($A64,'Section 2'!$E$17:$V$216,COLUMNS('Section 2'!$E$13:S$14),0)),\"\",VLOOKUP($A64,'Section 2'!$E$17:$V$216,COLUMNS('Section 2'!$E$13:S$14),0)))","v":""},{"$f":"IF($C64=\"\",\"\",IF(ISBLANK(VLOOKUP($A64,'Section 2'!$E$17:$V$216,COLUMNS('Section 2'!$E$13:T$14),0)),\"\",VLOOKUP($A64,'Section 2'!$E$17:$V$216,COLUMNS('Section 2'!$E$13:T$14),0)))","v":""},{"$f":"IF($C64=\"\",\"\",IF(ISBLANK(VLOOKUP($A64,'Section 2'!$E$17:$V$216,COLUMNS('Section 2'!$E$13:U$14),0)),\"\",VLOOKUP($A64,'Section 2'!$E$17:$V$216,COLUMNS('Section 2'!$E$13:U$14),0)))","v":""},{"$f":"IF($C64=\"\",\"\",IF(ISBLANK(VLOOKUP($A64,'Section 2'!$E$17:$V$216,COLUMNS('Section 2'!$E$13:V$14),0)),\"\",VLOOKUP($A64,'Section 2'!$E$17:$V$216,COLUMNS('Section 2'!$E$13:V$14),0)))","v":""}]
[64,"",{"$f":"IFERROR(VLOOKUP($A65,'Section 2'!$E$17:$V$216,COLUMNS('Section 2'!$E$13:E$14),0),\"\")","v":""},{"$f":"IF($C65=\"\",\"\",IF(ISBLANK(VLOOKUP($A65,'Section 2'!$E$17:$V$216,COLUMNS('Section 2'!$E$13:F$14),0)),\"\",VLOOKUP($A65,'Section 2'!$E$17:$V$216,COLUMNS('Section 2'!$E$13:F$14),0)))","v":""},{"$f":"IF($C65=\"\",\"\",IF(ISBLANK(VLOOKUP($A65,'Section 2'!$E$17:$V$216,COLUMNS('Section 2'!$E$13:G$14),0)),\"\",VLOOKUP($A65,'Section 2'!$E$17:$V$216,COLUMNS('Section 2'!$E$13:G$14),0)))","v":""},{"$f":"IF($C65=\"\",\"\",IF(ISBLANK(VLOOKUP($A65,'Section 2'!$E$17:$V$216,COLUMNS('Section 2'!$E$13:H$14),0)),\"\",VLOOKUP($A65,'Section 2'!$E$17:$V$216,COLUMNS('Section 2'!$E$13:H$14),0)))","v":""},{"$f":"IF($C65=\"\",\"\",IF(ISBLANK(VLOOKUP($A65,'Section 2'!$E$17:$V$216,COLUMNS('Section 2'!$E$13:I$14),0)),\"\",VLOOKUP($A65,'Section 2'!$E$17:$V$216,COLUMNS('Section 2'!$E$13:I$14),0)))","v":""},{"$f":"IF($C65=\"\",\"\",IF(ISBLANK(VLOOKUP($A65,'Section 2'!$E$17:$V$216,COLUMNS('Section 2'!$E$13:J$14),0)),\"\",VLOOKUP($A65,'Section 2'!$E$17:$V$216,COLUMNS('Section 2'!$E$13:J$14),0)))","v":""},{"$f":"IF($C65=\"\",\"\",IF(ISBLANK(VLOOKUP($A65,'Section 2'!$E$17:$V$216,COLUMNS('Section 2'!$E$13:K$14),0)),\"\",VLOOKUP($A65,'Section 2'!$E$17:$V$216,COLUMNS('Section 2'!$E$13:K$14),0)))","v":""},{"$f":"IF($C65=\"\",\"\",IF(ISBLANK(VLOOKUP($A65,'Section 2'!$E$17:$V$216,COLUMNS('Section 2'!$E$13:L$14),0)),\"\",VLOOKUP($A65,'Section 2'!$E$17:$V$216,COLUMNS('Section 2'!$E$13:L$14),0)))","v":""},{"$f":"IF($C65=\"\",\"\",IF(ISBLANK(VLOOKUP($A65,'Section 2'!$E$17:$V$216,COLUMNS('Section 2'!$E$13:M$14),0)),\"\",VLOOKUP($A65,'Section 2'!$E$17:$V$216,COLUMNS('Section 2'!$E$13:M$14),0)))","v":""},{"$f":"IF($C65=\"\",\"\",IF(ISBLANK(VLOOKUP($A65,'Section 2'!$E$17:$V$216,COLUMNS('Section 2'!$E$13:N$14),0)),\"\",VLOOKUP($A65,'Section 2'!$E$17:$V$216,COLUMNS('Section 2'!$E$13:N$14),0)))","v":""},{"$f":"IF($C65=\"\",\"\",IF(ISBLANK(VLOOKUP($A65,'Section 2'!$E$17:$V$216,COLUMNS('Section 2'!$E$13:O$14),0)),\"\",VLOOKUP($A65,'Section 2'!$E$17:$V$216,COLUMNS('Section 2'!$E$13:O$14),0)))","v":""},{"$f":"IF($C65=\"\",\"\",IF(ISBLANK(VLOOKUP($A65,'Section 2'!$E$17:$V$216,COLUMNS('Section 2'!$E$13:P$14),0)),\"\",VLOOKUP($A65,'Section 2'!$E$17:$V$216,COLUMNS('Section 2'!$E$13:P$14),0)))","v":""},{"$f":"IF($C65=\"\",\"\",IF(ISBLANK(VLOOKUP($A65,'Section 2'!$E$17:$V$216,COLUMNS('Section 2'!$E$13:Q$14),0)),\"\",VLOOKUP($A65,'Section 2'!$E$17:$V$216,COLUMNS('Section 2'!$E$13:Q$14),0)))","v":""},{"$f":"IF($C65=\"\",\"\",IF(ISBLANK(VLOOKUP($A65,'Section 2'!$E$17:$V$216,COLUMNS('Section 2'!$E$13:R$14),0)),\"\",VLOOKUP($A65,'Section 2'!$E$17:$V$216,COLUMNS('Section 2'!$E$13:R$14),0)))","v":""},{"$f":"IF($C65=\"\",\"\",IF(ISBLANK(VLOOKUP($A65,'Section 2'!$E$17:$V$216,COLUMNS('Section 2'!$E$13:S$14),0)),\"\",VLOOKUP($A65,'Section 2'!$E$17:$V$216,COLUMNS('Section 2'!$E$13:S$14),0)))","v":""},{"$f":"IF($C65=\"\",\"\",IF(ISBLANK(VLOOKUP($A65,'Section 2'!$E$17:$V$216,COLUMNS('Section 2'!$E$13:T$14),0)),\"\",VLOOKUP($A65,'Section 2'!$E$17:$V$216,COLUMNS('Section 2'!$E$13:T$14),0)))","v":""},{"$f":"IF($C65=\"\",\"\",IF(ISBLANK(VLOOKUP($A65,'Section 2'!$E$17:$V$216,COLUMNS('Section 2'!$E$13:U$14),0)),\"\",VLOOKUP($A65,'Section 2'!$E$17:$V$216,COLUMNS('Section 2'!$E$13:U$14),0)))","v":""},{"$f":"IF($C65=\"\",\"\",IF(ISBLANK(VLOOKUP($A65,'Section 2'!$E$17:$V$216,COLUMNS('Section 2'!$E$13:V$14),0)),\"\",VLOOKUP($A65,'Section 2'!$E$17:$V$216,COLUMNS('Section 2'!$E$13:V$14),0)))","v":""}]
[65,"",{"$f":"IFERROR(VLOOKUP($A66,'Section 2'!$E$17:$V$216,COLUMNS('Section 2'!$E$13:E$14),0),\"\")","v":""},{"$f":"IF($C66=\"\",\"\",IF(ISBLANK(VLOOKUP($A66,'Section 2'!$E$17:$V$216,COLUMNS('Section 2'!$E$13:F$14),0)),\"\",VLOOKUP($A66,'Section 2'!$E$17:$V$216,COLUMNS('Section 2'!$E$13:F$14),0)))","v":""},{"$f":"IF($C66=\"\",\"\",IF(ISBLANK(VLOOKUP($A66,'Section 2'!$E$17:$V$216,COLUMNS('Section 2'!$E$13:G$14),0)),\"\",VLOOKUP($A66,'Section 2'!$E$17:$V$216,COLUMNS('Section 2'!$E$13:G$14),0)))","v":""},{"$f":"IF($C66=\"\",\"\",IF(ISBLANK(VLOOKUP($A66,'Section 2'!$E$17:$V$216,COLUMNS('Section 2'!$E$13:H$14),0)),\"\",VLOOKUP($A66,'Section 2'!$E$17:$V$216,COLUMNS('Section 2'!$E$13:H$14),0)))","v":""},{"$f":"IF($C66=\"\",\"\",IF(ISBLANK(VLOOKUP($A66,'Section 2'!$E$17:$V$216,COLUMNS('Section 2'!$E$13:I$14),0)),\"\",VLOOKUP($A66,'Section 2'!$E$17:$V$216,COLUMNS('Section 2'!$E$13:I$14),0)))","v":""},{"$f":"IF($C66=\"\",\"\",IF(ISBLANK(VLOOKUP($A66,'Section 2'!$E$17:$V$216,COLUMNS('Section 2'!$E$13:J$14),0)),\"\",VLOOKUP($A66,'Section 2'!$E$17:$V$216,COLUMNS('Section 2'!$E$13:J$14),0)))","v":""},{"$f":"IF($C66=\"\",\"\",IF(ISBLANK(VLOOKUP($A66,'Section 2'!$E$17:$V$216,COLUMNS('Section 2'!$E$13:K$14),0)),\"\",VLOOKUP($A66,'Section 2'!$E$17:$V$216,COLUMNS('Section 2'!$E$13:K$14),0)))","v":""},{"$f":"IF($C66=\"\",\"\",IF(ISBLANK(VLOOKUP($A66,'Section 2'!$E$17:$V$216,COLUMNS('Section 2'!$E$13:L$14),0)),\"\",VLOOKUP($A66,'Section 2'!$E$17:$V$216,COLUMNS('Section 2'!$E$13:L$14),0)))","v":""},{"$f":"IF($C66=\"\",\"\",IF(ISBLANK(VLOOKUP($A66,'Section 2'!$E$17:$V$216,COLUMNS('Section 2'!$E$13:M$14),0)),\"\",VLOOKUP($A66,'Section 2'!$E$17:$V$216,COLUMNS('Section 2'!$E$13:M$14),0)))","v":""},{"$f":"IF($C66=\"\",\"\",IF(ISBLANK(VLOOKUP($A66,'Section 2'!$E$17:$V$216,COLUMNS('Section 2'!$E$13:N$14),0)),\"\",VLOOKUP($A66,'Section 2'!$E$17:$V$216,COLUMNS('Section 2'!$E$13:N$14),0)))","v":""},{"$f":"IF($C66=\"\",\"\",IF(ISBLANK(VLOOKUP($A66,'Section 2'!$E$17:$V$216,COLUMNS('Section 2'!$E$13:O$14),0)),\"\",VLOOKUP($A66,'Section 2'!$E$17:$V$216,COLUMNS('Section 2'!$E$13:O$14),0)))","v":""},{"$f":"IF($C66=\"\",\"\",IF(ISBLANK(VLOOKUP($A66,'Section 2'!$E$17:$V$216,COLUMNS('Section 2'!$E$13:P$14),0)),\"\",VLOOKUP($A66,'Section 2'!$E$17:$V$216,COLUMNS('Section 2'!$E$13:P$14),0)))","v":""},{"$f":"IF($C66=\"\",\"\",IF(ISBLANK(VLOOKUP($A66,'Section 2'!$E$17:$V$216,COLUMNS('Section 2'!$E$13:Q$14),0)),\"\",VLOOKUP($A66,'Section 2'!$E$17:$V$216,COLUMNS('Section 2'!$E$13:Q$14),0)))","v":""},{"$f":"IF($C66=\"\",\"\",IF(ISBLANK(VLOOKUP($A66,'Section 2'!$E$17:$V$216,COLUMNS('Section 2'!$E$13:R$14),0)),\"\",VLOOKUP($A66,'Section 2'!$E$17:$V$216,COLUMNS('Section 2'!$E$13:R$14),0)))","v":""},{"$f":"IF($C66=\"\",\"\",IF(ISBLANK(VLOOKUP($A66,'Section 2'!$E$17:$V$216,COLUMNS('Section 2'!$E$13:S$14),0)),\"\",VLOOKUP($A66,'Section 2'!$E$17:$V$216,COLUMNS('Section 2'!$E$13:S$14),0)))","v":""},{"$f":"IF($C66=\"\",\"\",IF(ISBLANK(VLOOKUP($A66,'Section 2'!$E$17:$V$216,COLUMNS('Section 2'!$E$13:T$14),0)),\"\",VLOOKUP($A66,'Section 2'!$E$17:$V$216,COLUMNS('Section 2'!$E$13:T$14),0)))","v":""},{"$f":"IF($C66=\"\",\"\",IF(ISBLANK(VLOOKUP($A66,'Section 2'!$E$17:$V$216,COLUMNS('Section 2'!$E$13:U$14),0)),\"\",VLOOKUP($A66,'Section 2'!$E$17:$V$216,COLUMNS('Section 2'!$E$13:U$14),0)))","v":""},{"$f":"IF($C66=\"\",\"\",IF(ISBLANK(VLOOKUP($A66,'Section 2'!$E$17:$V$216,COLUMNS('Section 2'!$E$13:V$14),0)),\"\",VLOOKUP($A66,'Section 2'!$E$17:$V$216,COLUMNS('Section 2'!$E$13:V$14),0)))","v":""}]
[66,{"$f":"IF(C67=\"\",\"\",2)","v":""},{"$f":"IFERROR(VLOOKUP($A67,'Section 2'!$E$17:$V$216,COLUMNS('Section 2'!$E$13:E$14),0),\"\")","v":""},{"$f":"IF($C67=\"\",\"\",IF(ISBLANK(VLOOKUP($A67,'Section 2'!$E$17:$V$216,COLUMNS('Section 2'!$E$13:F$14),0)),\"\",VLOOKUP($A67,'Section 2'!$E$17:$V$216,COLUMNS('Section 2'!$E$13:F$14),0)))","v":""},{"$f":"IF($C67=\"\",\"\",IF(ISBLANK(VLOOKUP($A67,'Section 2'!$E$17:$V$216,COLUMNS('Section 2'!$E$13:G$14),0)),\"\",VLOOKUP($A67,'Section 2'!$E$17:$V$216,COLUMNS('Section 2'!$E$13:G$14),0)))","v":""},{"$f":"IF($C67=\"\",\"\",IF(ISBLANK(VLOOKUP($A67,'Section 2'!$E$17:$V$216,COLUMNS('Section 2'!$E$13:H$14),0)),\"\",VLOOKUP($A67,'Section 2'!$E$17:$V$216,COLUMNS('Section 2'!$E$13:H$14),0)))","v":""},{"$f":"IF($C67=\"\",\"\",IF(ISBLANK(VLOOKUP($A67,'Section 2'!$E$17:$V$216,COLUMNS('Section 2'!$E$13:I$14),0)),\"\",VLOOKUP($A67,'Section 2'!$E$17:$V$216,COLUMNS('Section 2'!$E$13:I$14),0)))","v":""},{"$f":"IF($C67=\"\",\"\",IF(ISBLANK(VLOOKUP($A67,'Section 2'!$E$17:$V$216,COLUMNS('Section 2'!$E$13:J$14),0)),\"\",VLOOKUP($A67,'Section 2'!$E$17:$V$216,COLUMNS('Section 2'!$E$13:J$14),0)))","v":""},{"$f":"IF($C67=\"\",\"\",IF(ISBLANK(VLOOKUP($A67,'Section 2'!$E$17:$V$216,COLUMNS('Section 2'!$E$13:K$14),0)),\"\",VLOOKUP($A67,'Section 2'!$E$17:$V$216,COLUMNS('Section 2'!$E$13:K$14),0)))","v":""},{"$f":"IF($C67=\"\",\"\",IF(ISBLANK(VLOOKUP($A67,'Section 2'!$E$17:$V$216,COLUMNS('Section 2'!$E$13:L$14),0)),\"\",VLOOKUP($A67,'Section 2'!$E$17:$V$216,COLUMNS('Section 2'!$E$13:L$14),0)))","v":""},{"$f":"IF($C67=\"\",\"\",IF(ISBLANK(VLOOKUP($A67,'Section 2'!$E$17:$V$216,COLUMNS('Section 2'!$E$13:M$14),0)),\"\",VLOOKUP($A67,'Section 2'!$E$17:$V$216,COLUMNS('Section 2'!$E$13:M$14),0)))","v":""},{"$f":"IF($C67=\"\",\"\",IF(ISBLANK(VLOOKUP($A67,'Section 2'!$E$17:$V$216,COLUMNS('Section 2'!$E$13:N$14),0)),\"\",VLOOKUP($A67,'Section 2'!$E$17:$V$216,COLUMNS('Section 2'!$E$13:N$14),0)))","v":""},{"$f":"IF($C67=\"\",\"\",IF(ISBLANK(VLOOKUP($A67,'Section 2'!$E$17:$V$216,COLUMNS('Section 2'!$E$13:O$14),0)),\"\",VLOOKUP($A67,'Section 2'!$E$17:$V$216,COLUMNS('Section 2'!$E$13:O$14),0)))","v":""},{"$f":"IF($C67=\"\",\"\",IF(ISBLANK(VLOOKUP($A67,'Section 2'!$E$17:$V$216,COLUMNS('Section 2'!$E$13:P$14),0)),\"\",VLOOKUP($A67,'Section 2'!$E$17:$V$216,COLUMNS('Section 2'!$E$13:P$14),0)))","v":""},{"$f":"IF($C67=\"\",\"\",IF(ISBLANK(VLOOKUP($A67,'Section 2'!$E$17:$V$216,COLUMNS('Section 2'!$E$13:Q$14),0)),\"\",VLOOKUP($A67,'Section 2'!$E$17:$V$216,COLUMNS('Section 2'!$E$13:Q$14),0)))","v":""},{"$f":"IF($C67=\"\",\"\",IF(ISBLANK(VLOOKUP($A67,'Section 2'!$E$17:$V$216,COLUMNS('Section 2'!$E$13:R$14),0)),\"\",VLOOKUP($A67,'Section 2'!$E$17:$V$216,COLUMNS('Section 2'!$E$13:R$14),0)))","v":""},{"$f":"IF($C67=\"\",\"\",IF(ISBLANK(VLOOKUP($A67,'Section 2'!$E$17:$V$216,COLUMNS('Section 2'!$E$13:S$14),0)),\"\",VLOOKUP($A67,'Section 2'!$E$17:$V$216,COLUMNS('Section 2'!$E$13:S$14),0)))","v":""},{"$f":"IF($C67=\"\",\"\",IF(ISBLANK(VLOOKUP($A67,'Section 2'!$E$17:$V$216,COLUMNS('Section 2'!$E$13:T$14),0)),\"\",VLOOKUP($A67,'Section 2'!$E$17:$V$216,COLUMNS('Section 2'!$E$13:T$14),0)))","v":""},{"$f":"IF($C67=\"\",\"\",IF(ISBLANK(VLOOKUP($A67,'Section 2'!$E$17:$V$216,COLUMNS('Section 2'!$E$13:U$14),0)),\"\",VLOOKUP($A67,'Section 2'!$E$17:$V$216,COLUMNS('Section 2'!$E$13:U$14),0)))","v":""},{"$f":"IF($C67=\"\",\"\",IF(ISBLANK(VLOOKUP($A67,'Section 2'!$E$17:$V$216,COLUMNS('Section 2'!$E$13:V$14),0)),\"\",VLOOKUP($A67,'Section 2'!$E$17:$V$216,COLUMNS('Section 2'!$E$13:V$14),0)))","v":""}]
[67,"",{"$f":"IFERROR(VLOOKUP($A68,'Section 2'!$E$17:$V$216,COLUMNS('Section 2'!$E$13:E$14),0),\"\")","v":""},{"$f":"IF($C68=\"\",\"\",IF(ISBLANK(VLOOKUP($A68,'Section 2'!$E$17:$V$216,COLUMNS('Section 2'!$E$13:F$14),0)),\"\",VLOOKUP($A68,'Section 2'!$E$17:$V$216,COLUMNS('Section 2'!$E$13:F$14),0)))","v":""},{"$f":"IF($C68=\"\",\"\",IF(ISBLANK(VLOOKUP($A68,'Section 2'!$E$17:$V$216,COLUMNS('Section 2'!$E$13:G$14),0)),\"\",VLOOKUP($A68,'Section 2'!$E$17:$V$216,COLUMNS('Section 2'!$E$13:G$14),0)))","v":""},{"$f":"IF($C68=\"\",\"\",IF(ISBLANK(VLOOKUP($A68,'Section 2'!$E$17:$V$216,COLUMNS('Section 2'!$E$13:H$14),0)),\"\",VLOOKUP($A68,'Section 2'!$E$17:$V$216,COLUMNS('Section 2'!$E$13:H$14),0)))","v":""},{"$f":"IF($C68=\"\",\"\",IF(ISBLANK(VLOOKUP($A68,'Section 2'!$E$17:$V$216,COLUMNS('Section 2'!$E$13:I$14),0)),\"\",VLOOKUP($A68,'Section 2'!$E$17:$V$216,COLUMNS('Section 2'!$E$13:I$14),0)))","v":""},{"$f":"IF($C68=\"\",\"\",IF(ISBLANK(VLOOKUP($A68,'Section 2'!$E$17:$V$216,COLUMNS('Section 2'!$E$13:J$14),0)),\"\",VLOOKUP($A68,'Section 2'!$E$17:$V$216,COLUMNS('Section 2'!$E$13:J$14),0)))","v":""},{"$f":"IF($C68=\"\",\"\",IF(ISBLANK(VLOOKUP($A68,'Section 2'!$E$17:$V$216,COLUMNS('Section 2'!$E$13:K$14),0)),\"\",VLOOKUP($A68,'Section 2'!$E$17:$V$216,COLUMNS('Section 2'!$E$13:K$14),0)))","v":""},{"$f":"IF($C68=\"\",\"\",IF(ISBLANK(VLOOKUP($A68,'Section 2'!$E$17:$V$216,COLUMNS('Section 2'!$E$13:L$14),0)),\"\",VLOOKUP($A68,'Section 2'!$E$17:$V$216,COLUMNS('Section 2'!$E$13:L$14),0)))","v":""},{"$f":"IF($C68=\"\",\"\",IF(ISBLANK(VLOOKUP($A68,'Section 2'!$E$17:$V$216,COLUMNS('Section 2'!$E$13:M$14),0)),\"\",VLOOKUP($A68,'Section 2'!$E$17:$V$216,COLUMNS('Section 2'!$E$13:M$14),0)))","v":""},{"$f":"IF($C68=\"\",\"\",IF(ISBLANK(VLOOKUP($A68,'Section 2'!$E$17:$V$216,COLUMNS('Section 2'!$E$13:N$14),0)),\"\",VLOOKUP($A68,'Section 2'!$E$17:$V$216,COLUMNS('Section 2'!$E$13:N$14),0)))","v":""},{"$f":"IF($C68=\"\",\"\",IF(ISBLANK(VLOOKUP($A68,'Section 2'!$E$17:$V$216,COLUMNS('Section 2'!$E$13:O$14),0)),\"\",VLOOKUP($A68,'Section 2'!$E$17:$V$216,COLUMNS('Section 2'!$E$13:O$14),0)))","v":""},{"$f":"IF($C68=\"\",\"\",IF(ISBLANK(VLOOKUP($A68,'Section 2'!$E$17:$V$216,COLUMNS('Section 2'!$E$13:P$14),0)),\"\",VLOOKUP($A68,'Section 2'!$E$17:$V$216,COLUMNS('Section 2'!$E$13:P$14),0)))","v":""},{"$f":"IF($C68=\"\",\"\",IF(ISBLANK(VLOOKUP($A68,'Section 2'!$E$17:$V$216,COLUMNS('Section 2'!$E$13:Q$14),0)),\"\",VLOOKUP($A68,'Section 2'!$E$17:$V$216,COLUMNS('Section 2'!$E$13:Q$14),0)))","v":""},{"$f":"IF($C68=\"\",\"\",IF(ISBLANK(VLOOKUP($A68,'Section 2'!$E$17:$V$216,COLUMNS('Section 2'!$E$13:R$14),0)),\"\",VLOOKUP($A68,'Section 2'!$E$17:$V$216,COLUMNS('Section 2'!$E$13:R$14),0)))","v":""},{"$f":"IF($C68=\"\",\"\",IF(ISBLANK(VLOOKUP($A68,'Section 2'!$E$17:$V$216,COLUMNS('Section 2'!$E$13:S$14),0)),\"\",VLOOKUP($A68,'Section 2'!$E$17:$V$216,COLUMNS('Section 2'!$E$13:S$14),0)))","v":""},{"$f":"IF($C68=\"\",\"\",IF(ISBLANK(VLOOKUP($A68,'Section 2'!$E$17:$V$216,COLUMNS('Section 2'!$E$13:T$14),0)),\"\",VLOOKUP($A68,'Section 2'!$E$17:$V$216,COLUMNS('Section 2'!$E$13:T$14),0)))","v":""},{"$f":"IF($C68=\"\",\"\",IF(ISBLANK(VLOOKUP($A68,'Section 2'!$E$17:$V$216,COLUMNS('Section 2'!$E$13:U$14),0)),\"\",VLOOKUP($A68,'Section 2'!$E$17:$V$216,COLUMNS('Section 2'!$E$13:U$14),0)))","v":""},{"$f":"IF($C68=\"\",\"\",IF(ISBLANK(VLOOKUP($A68,'Section 2'!$E$17:$V$216,COLUMNS('Section 2'!$E$13:V$14),0)),\"\",VLOOKUP($A68,'Section 2'!$E$17:$V$216,COLUMNS('Section 2'!$E$13:V$14),0)))","v":""}]
[68,"",{"$f":"IFERROR(VLOOKUP($A69,'Section 2'!$E$17:$V$216,COLUMNS('Section 2'!$E$13:E$14),0),\"\")","v":""},{"$f":"IF($C69=\"\",\"\",IF(ISBLANK(VLOOKUP($A69,'Section 2'!$E$17:$V$216,COLUMNS('Section 2'!$E$13:F$14),0)),\"\",VLOOKUP($A69,'Section 2'!$E$17:$V$216,COLUMNS('Section 2'!$E$13:F$14),0)))","v":""},{"$f":"IF($C69=\"\",\"\",IF(ISBLANK(VLOOKUP($A69,'Section 2'!$E$17:$V$216,COLUMNS('Section 2'!$E$13:G$14),0)),\"\",VLOOKUP($A69,'Section 2'!$E$17:$V$216,COLUMNS('Section 2'!$E$13:G$14),0)))","v":""},{"$f":"IF($C69=\"\",\"\",IF(ISBLANK(VLOOKUP($A69,'Section 2'!$E$17:$V$216,COLUMNS('Section 2'!$E$13:H$14),0)),\"\",VLOOKUP($A69,'Section 2'!$E$17:$V$216,COLUMNS('Section 2'!$E$13:H$14),0)))","v":""},{"$f":"IF($C69=\"\",\"\",IF(ISBLANK(VLOOKUP($A69,'Section 2'!$E$17:$V$216,COLUMNS('Section 2'!$E$13:I$14),0)),\"\",VLOOKUP($A69,'Section 2'!$E$17:$V$216,COLUMNS('Section 2'!$E$13:I$14),0)))","v":""},{"$f":"IF($C69=\"\",\"\",IF(ISBLANK(VLOOKUP($A69,'Section 2'!$E$17:$V$216,COLUMNS('Section 2'!$E$13:J$14),0)),\"\",VLOOKUP($A69,'Section 2'!$E$17:$V$216,COLUMNS('Section 2'!$E$13:J$14),0)))","v":""},{"$f":"IF($C69=\"\",\"\",IF(ISBLANK(VLOOKUP($A69,'Section 2'!$E$17:$V$216,COLUMNS('Section 2'!$E$13:K$14),0)),\"\",VLOOKUP($A69,'Section 2'!$E$17:$V$216,COLUMNS('Section 2'!$E$13:K$14),0)))","v":""},{"$f":"IF($C69=\"\",\"\",IF(ISBLANK(VLOOKUP($A69,'Section 2'!$E$17:$V$216,COLUMNS('Section 2'!$E$13:L$14),0)),\"\",VLOOKUP($A69,'Section 2'!$E$17:$V$216,COLUMNS('Section 2'!$E$13:L$14),0)))","v":""},{"$f":"IF($C69=\"\",\"\",IF(ISBLANK(VLOOKUP($A69,'Section 2'!$E$17:$V$216,COLUMNS('Section 2'!$E$13:M$14),0)),\"\",VLOOKUP($A69,'Section 2'!$E$17:$V$216,COLUMNS('Section 2'!$E$13:M$14),0)))","v":""},{"$f":"IF($C69=\"\",\"\",IF(ISBLANK(VLOOKUP($A69,'Section 2'!$E$17:$V$216,COLUMNS('Section 2'!$E$13:N$14),0)),\"\",VLOOKUP($A69,'Section 2'!$E$17:$V$216,COLUMNS('Section 2'!$E$13:N$14),0)))","v":""},{"$f":"IF($C69=\"\",\"\",IF(ISBLANK(VLOOKUP($A69,'Section 2'!$E$17:$V$216,COLUMNS('Section 2'!$E$13:O$14),0)),\"\",VLOOKUP($A69,'Section 2'!$E$17:$V$216,COLUMNS('Section 2'!$E$13:O$14),0)))","v":""},{"$f":"IF($C69=\"\",\"\",IF(ISBLANK(VLOOKUP($A69,'Section 2'!$E$17:$V$216,COLUMNS('Section 2'!$E$13:P$14),0)),\"\",VLOOKUP($A69,'Section 2'!$E$17:$V$216,COLUMNS('Section 2'!$E$13:P$14),0)))","v":""},{"$f":"IF($C69=\"\",\"\",IF(ISBLANK(VLOOKUP($A69,'Section 2'!$E$17:$V$216,COLUMNS('Section 2'!$E$13:Q$14),0)),\"\",VLOOKUP($A69,'Section 2'!$E$17:$V$216,COLUMNS('Section 2'!$E$13:Q$14),0)))","v":""},{"$f":"IF($C69=\"\",\"\",IF(ISBLANK(VLOOKUP($A69,'Section 2'!$E$17:$V$216,COLUMNS('Section 2'!$E$13:R$14),0)),\"\",VLOOKUP($A69,'Section 2'!$E$17:$V$216,COLUMNS('Section 2'!$E$13:R$14),0)))","v":""},{"$f":"IF($C69=\"\",\"\",IF(ISBLANK(VLOOKUP($A69,'Section 2'!$E$17:$V$216,COLUMNS('Section 2'!$E$13:S$14),0)),\"\",VLOOKUP($A69,'Section 2'!$E$17:$V$216,COLUMNS('Section 2'!$E$13:S$14),0)))","v":""},{"$f":"IF($C69=\"\",\"\",IF(ISBLANK(VLOOKUP($A69,'Section 2'!$E$17:$V$216,COLUMNS('Section 2'!$E$13:T$14),0)),\"\",VLOOKUP($A69,'Section 2'!$E$17:$V$216,COLUMNS('Section 2'!$E$13:T$14),0)))","v":""},{"$f":"IF($C69=\"\",\"\",IF(ISBLANK(VLOOKUP($A69,'Section 2'!$E$17:$V$216,COLUMNS('Section 2'!$E$13:U$14),0)),\"\",VLOOKUP($A69,'Section 2'!$E$17:$V$216,COLUMNS('Section 2'!$E$13:U$14),0)))","v":""},{"$f":"IF($C69=\"\",\"\",IF(ISBLANK(VLOOKUP($A69,'Section 2'!$E$17:$V$216,COLUMNS('Section 2'!$E$13:V$14),0)),\"\",VLOOKUP($A69,'Section 2'!$E$17:$V$216,COLUMNS('Section 2'!$E$13:V$14),0)))","v":""}]
[69,"",{"$f":"IFERROR(VLOOKUP($A70,'Section 2'!$E$17:$V$216,COLUMNS('Section 2'!$E$13:E$14),0),\"\")","v":""},{"$f":"IF($C70=\"\",\"\",IF(ISBLANK(VLOOKUP($A70,'Section 2'!$E$17:$V$216,COLUMNS('Section 2'!$E$13:F$14),0)),\"\",VLOOKUP($A70,'Section 2'!$E$17:$V$216,COLUMNS('Section 2'!$E$13:F$14),0)))","v":""},{"$f":"IF($C70=\"\",\"\",IF(ISBLANK(VLOOKUP($A70,'Section 2'!$E$17:$V$216,COLUMNS('Section 2'!$E$13:G$14),0)),\"\",VLOOKUP($A70,'Section 2'!$E$17:$V$216,COLUMNS('Section 2'!$E$13:G$14),0)))","v":""},{"$f":"IF($C70=\"\",\"\",IF(ISBLANK(VLOOKUP($A70,'Section 2'!$E$17:$V$216,COLUMNS('Section 2'!$E$13:H$14),0)),\"\",VLOOKUP($A70,'Section 2'!$E$17:$V$216,COLUMNS('Section 2'!$E$13:H$14),0)))","v":""},{"$f":"IF($C70=\"\",\"\",IF(ISBLANK(VLOOKUP($A70,'Section 2'!$E$17:$V$216,COLUMNS('Section 2'!$E$13:I$14),0)),\"\",VLOOKUP($A70,'Section 2'!$E$17:$V$216,COLUMNS('Section 2'!$E$13:I$14),0)))","v":""},{"$f":"IF($C70=\"\",\"\",IF(ISBLANK(VLOOKUP($A70,'Section 2'!$E$17:$V$216,COLUMNS('Section 2'!$E$13:J$14),0)),\"\",VLOOKUP($A70,'Section 2'!$E$17:$V$216,COLUMNS('Section 2'!$E$13:J$14),0)))","v":""},{"$f":"IF($C70=\"\",\"\",IF(ISBLANK(VLOOKUP($A70,'Section 2'!$E$17:$V$216,COLUMNS('Section 2'!$E$13:K$14),0)),\"\",VLOOKUP($A70,'Section 2'!$E$17:$V$216,COLUMNS('Section 2'!$E$13:K$14),0)))","v":""},{"$f":"IF($C70=\"\",\"\",IF(ISBLANK(VLOOKUP($A70,'Section 2'!$E$17:$V$216,COLUMNS('Section 2'!$E$13:L$14),0)),\"\",VLOOKUP($A70,'Section 2'!$E$17:$V$216,COLUMNS('Section 2'!$E$13:L$14),0)))","v":""},{"$f":"IF($C70=\"\",\"\",IF(ISBLANK(VLOOKUP($A70,'Section 2'!$E$17:$V$216,COLUMNS('Section 2'!$E$13:M$14),0)),\"\",VLOOKUP($A70,'Section 2'!$E$17:$V$216,COLUMNS('Section 2'!$E$13:M$14),0)))","v":""},{"$f":"IF($C70=\"\",\"\",IF(ISBLANK(VLOOKUP($A70,'Section 2'!$E$17:$V$216,COLUMNS('Section 2'!$E$13:N$14),0)),\"\",VLOOKUP($A70,'Section 2'!$E$17:$V$216,COLUMNS('Section 2'!$E$13:N$14),0)))","v":""},{"$f":"IF($C70=\"\",\"\",IF(ISBLANK(VLOOKUP($A70,'Section 2'!$E$17:$V$216,COLUMNS('Section 2'!$E$13:O$14),0)),\"\",VLOOKUP($A70,'Section 2'!$E$17:$V$216,COLUMNS('Section 2'!$E$13:O$14),0)))","v":""},{"$f":"IF($C70=\"\",\"\",IF(ISBLANK(VLOOKUP($A70,'Section 2'!$E$17:$V$216,COLUMNS('Section 2'!$E$13:P$14),0)),\"\",VLOOKUP($A70,'Section 2'!$E$17:$V$216,COLUMNS('Section 2'!$E$13:P$14),0)))","v":""},{"$f":"IF($C70=\"\",\"\",IF(ISBLANK(VLOOKUP($A70,'Section 2'!$E$17:$V$216,COLUMNS('Section 2'!$E$13:Q$14),0)),\"\",VLOOKUP($A70,'Section 2'!$E$17:$V$216,COLUMNS('Section 2'!$E$13:Q$14),0)))","v":""},{"$f":"IF($C70=\"\",\"\",IF(ISBLANK(VLOOKUP($A70,'Section 2'!$E$17:$V$216,COLUMNS('Section 2'!$E$13:R$14),0)),\"\",VLOOKUP($A70,'Section 2'!$E$17:$V$216,COLUMNS('Section 2'!$E$13:R$14),0)))","v":""},{"$f":"IF($C70=\"\",\"\",IF(ISBLANK(VLOOKUP($A70,'Section 2'!$E$17:$V$216,COLUMNS('Section 2'!$E$13:S$14),0)),\"\",VLOOKUP($A70,'Section 2'!$E$17:$V$216,COLUMNS('Section 2'!$E$13:S$14),0)))","v":""},{"$f":"IF($C70=\"\",\"\",IF(ISBLANK(VLOOKUP($A70,'Section 2'!$E$17:$V$216,COLUMNS('Section 2'!$E$13:T$14),0)),\"\",VLOOKUP($A70,'Section 2'!$E$17:$V$216,COLUMNS('Section 2'!$E$13:T$14),0)))","v":""},{"$f":"IF($C70=\"\",\"\",IF(ISBLANK(VLOOKUP($A70,'Section 2'!$E$17:$V$216,COLUMNS('Section 2'!$E$13:U$14),0)),\"\",VLOOKUP($A70,'Section 2'!$E$17:$V$216,COLUMNS('Section 2'!$E$13:U$14),0)))","v":""},{"$f":"IF($C70=\"\",\"\",IF(ISBLANK(VLOOKUP($A70,'Section 2'!$E$17:$V$216,COLUMNS('Section 2'!$E$13:V$14),0)),\"\",VLOOKUP($A70,'Section 2'!$E$17:$V$216,COLUMNS('Section 2'!$E$13:V$14),0)))","v":""}]
[70,"",{"$f":"IFERROR(VLOOKUP($A71,'Section 2'!$E$17:$V$216,COLUMNS('Section 2'!$E$13:E$14),0),\"\")","v":""},{"$f":"IF($C71=\"\",\"\",IF(ISBLANK(VLOOKUP($A71,'Section 2'!$E$17:$V$216,COLUMNS('Section 2'!$E$13:F$14),0)),\"\",VLOOKUP($A71,'Section 2'!$E$17:$V$216,COLUMNS('Section 2'!$E$13:F$14),0)))","v":""},{"$f":"IF($C71=\"\",\"\",IF(ISBLANK(VLOOKUP($A71,'Section 2'!$E$17:$V$216,COLUMNS('Section 2'!$E$13:G$14),0)),\"\",VLOOKUP($A71,'Section 2'!$E$17:$V$216,COLUMNS('Section 2'!$E$13:G$14),0)))","v":""},{"$f":"IF($C71=\"\",\"\",IF(ISBLANK(VLOOKUP($A71,'Section 2'!$E$17:$V$216,COLUMNS('Section 2'!$E$13:H$14),0)),\"\",VLOOKUP($A71,'Section 2'!$E$17:$V$216,COLUMNS('Section 2'!$E$13:H$14),0)))","v":""},{"$f":"IF($C71=\"\",\"\",IF(ISBLANK(VLOOKUP($A71,'Section 2'!$E$17:$V$216,COLUMNS('Section 2'!$E$13:I$14),0)),\"\",VLOOKUP($A71,'Section 2'!$E$17:$V$216,COLUMNS('Section 2'!$E$13:I$14),0)))","v":""},{"$f":"IF($C71=\"\",\"\",IF(ISBLANK(VLOOKUP($A71,'Section 2'!$E$17:$V$216,COLUMNS('Section 2'!$E$13:J$14),0)),\"\",VLOOKUP($A71,'Section 2'!$E$17:$V$216,COLUMNS('Section 2'!$E$13:J$14),0)))","v":""},{"$f":"IF($C71=\"\",\"\",IF(ISBLANK(VLOOKUP($A71,'Section 2'!$E$17:$V$216,COLUMNS('Section 2'!$E$13:K$14),0)),\"\",VLOOKUP($A71,'Section 2'!$E$17:$V$216,COLUMNS('Section 2'!$E$13:K$14),0)))","v":""},{"$f":"IF($C71=\"\",\"\",IF(ISBLANK(VLOOKUP($A71,'Section 2'!$E$17:$V$216,COLUMNS('Section 2'!$E$13:L$14),0)),\"\",VLOOKUP($A71,'Section 2'!$E$17:$V$216,COLUMNS('Section 2'!$E$13:L$14),0)))","v":""},{"$f":"IF($C71=\"\",\"\",IF(ISBLANK(VLOOKUP($A71,'Section 2'!$E$17:$V$216,COLUMNS('Section 2'!$E$13:M$14),0)),\"\",VLOOKUP($A71,'Section 2'!$E$17:$V$216,COLUMNS('Section 2'!$E$13:M$14),0)))","v":""},{"$f":"IF($C71=\"\",\"\",IF(ISBLANK(VLOOKUP($A71,'Section 2'!$E$17:$V$216,COLUMNS('Section 2'!$E$13:N$14),0)),\"\",VLOOKUP($A71,'Section 2'!$E$17:$V$216,COLUMNS('Section 2'!$E$13:N$14),0)))","v":""},{"$f":"IF($C71=\"\",\"\",IF(ISBLANK(VLOOKUP($A71,'Section 2'!$E$17:$V$216,COLUMNS('Section 2'!$E$13:O$14),0)),\"\",VLOOKUP($A71,'Section 2'!$E$17:$V$216,COLUMNS('Section 2'!$E$13:O$14),0)))","v":""},{"$f":"IF($C71=\"\",\"\",IF(ISBLANK(VLOOKUP($A71,'Section 2'!$E$17:$V$216,COLUMNS('Section 2'!$E$13:P$14),0)),\"\",VLOOKUP($A71,'Section 2'!$E$17:$V$216,COLUMNS('Section 2'!$E$13:P$14),0)))","v":""},{"$f":"IF($C71=\"\",\"\",IF(ISBLANK(VLOOKUP($A71,'Section 2'!$E$17:$V$216,COLUMNS('Section 2'!$E$13:Q$14),0)),\"\",VLOOKUP($A71,'Section 2'!$E$17:$V$216,COLUMNS('Section 2'!$E$13:Q$14),0)))","v":""},{"$f":"IF($C71=\"\",\"\",IF(ISBLANK(VLOOKUP($A71,'Section 2'!$E$17:$V$216,COLUMNS('Section 2'!$E$13:R$14),0)),\"\",VLOOKUP($A71,'Section 2'!$E$17:$V$216,COLUMNS('Section 2'!$E$13:R$14),0)))","v":""},{"$f":"IF($C71=\"\",\"\",IF(ISBLANK(VLOOKUP($A71,'Section 2'!$E$17:$V$216,COLUMNS('Section 2'!$E$13:S$14),0)),\"\",VLOOKUP($A71,'Section 2'!$E$17:$V$216,COLUMNS('Section 2'!$E$13:S$14),0)))","v":""},{"$f":"IF($C71=\"\",\"\",IF(ISBLANK(VLOOKUP($A71,'Section 2'!$E$17:$V$216,COLUMNS('Section 2'!$E$13:T$14),0)),\"\",VLOOKUP($A71,'Section 2'!$E$17:$V$216,COLUMNS('Section 2'!$E$13:T$14),0)))","v":""},{"$f":"IF($C71=\"\",\"\",IF(ISBLANK(VLOOKUP($A71,'Section 2'!$E$17:$V$216,COLUMNS('Section 2'!$E$13:U$14),0)),\"\",VLOOKUP($A71,'Section 2'!$E$17:$V$216,COLUMNS('Section 2'!$E$13:U$14),0)))","v":""},{"$f":"IF($C71=\"\",\"\",IF(ISBLANK(VLOOKUP($A71,'Section 2'!$E$17:$V$216,COLUMNS('Section 2'!$E$13:V$14),0)),\"\",VLOOKUP($A71,'Section 2'!$E$17:$V$216,COLUMNS('Section 2'!$E$13:V$14),0)))","v":""}]
[71,"",{"$f":"IFERROR(VLOOKUP($A72,'Section 2'!$E$17:$V$216,COLUMNS('Section 2'!$E$13:E$14),0),\"\")","v":""},{"$f":"IF($C72=\"\",\"\",IF(ISBLANK(VLOOKUP($A72,'Section 2'!$E$17:$V$216,COLUMNS('Section 2'!$E$13:F$14),0)),\"\",VLOOKUP($A72,'Section 2'!$E$17:$V$216,COLUMNS('Section 2'!$E$13:F$14),0)))","v":""},{"$f":"IF($C72=\"\",\"\",IF(ISBLANK(VLOOKUP($A72,'Section 2'!$E$17:$V$216,COLUMNS('Section 2'!$E$13:G$14),0)),\"\",VLOOKUP($A72,'Section 2'!$E$17:$V$216,COLUMNS('Section 2'!$E$13:G$14),0)))","v":""},{"$f":"IF($C72=\"\",\"\",IF(ISBLANK(VLOOKUP($A72,'Section 2'!$E$17:$V$216,COLUMNS('Section 2'!$E$13:H$14),0)),\"\",VLOOKUP($A72,'Section 2'!$E$17:$V$216,COLUMNS('Section 2'!$E$13:H$14),0)))","v":""},{"$f":"IF($C72=\"\",\"\",IF(ISBLANK(VLOOKUP($A72,'Section 2'!$E$17:$V$216,COLUMNS('Section 2'!$E$13:I$14),0)),\"\",VLOOKUP($A72,'Section 2'!$E$17:$V$216,COLUMNS('Section 2'!$E$13:I$14),0)))","v":""},{"$f":"IF($C72=\"\",\"\",IF(ISBLANK(VLOOKUP($A72,'Section 2'!$E$17:$V$216,COLUMNS('Section 2'!$E$13:J$14),0)),\"\",VLOOKUP($A72,'Section 2'!$E$17:$V$216,COLUMNS('Section 2'!$E$13:J$14),0)))","v":""},{"$f":"IF($C72=\"\",\"\",IF(ISBLANK(VLOOKUP($A72,'Section 2'!$E$17:$V$216,COLUMNS('Section 2'!$E$13:K$14),0)),\"\",VLOOKUP($A72,'Section 2'!$E$17:$V$216,COLUMNS('Section 2'!$E$13:K$14),0)))","v":""},{"$f":"IF($C72=\"\",\"\",IF(ISBLANK(VLOOKUP($A72,'Section 2'!$E$17:$V$216,COLUMNS('Section 2'!$E$13:L$14),0)),\"\",VLOOKUP($A72,'Section 2'!$E$17:$V$216,COLUMNS('Section 2'!$E$13:L$14),0)))","v":""},{"$f":"IF($C72=\"\",\"\",IF(ISBLANK(VLOOKUP($A72,'Section 2'!$E$17:$V$216,COLUMNS('Section 2'!$E$13:M$14),0)),\"\",VLOOKUP($A72,'Section 2'!$E$17:$V$216,COLUMNS('Section 2'!$E$13:M$14),0)))","v":""},{"$f":"IF($C72=\"\",\"\",IF(ISBLANK(VLOOKUP($A72,'Section 2'!$E$17:$V$216,COLUMNS('Section 2'!$E$13:N$14),0)),\"\",VLOOKUP($A72,'Section 2'!$E$17:$V$216,COLUMNS('Section 2'!$E$13:N$14),0)))","v":""},{"$f":"IF($C72=\"\",\"\",IF(ISBLANK(VLOOKUP($A72,'Section 2'!$E$17:$V$216,COLUMNS('Section 2'!$E$13:O$14),0)),\"\",VLOOKUP($A72,'Section 2'!$E$17:$V$216,COLUMNS('Section 2'!$E$13:O$14),0)))","v":""},{"$f":"IF($C72=\"\",\"\",IF(ISBLANK(VLOOKUP($A72,'Section 2'!$E$17:$V$216,COLUMNS('Section 2'!$E$13:P$14),0)),\"\",VLOOKUP($A72,'Section 2'!$E$17:$V$216,COLUMNS('Section 2'!$E$13:P$14),0)))","v":""},{"$f":"IF($C72=\"\",\"\",IF(ISBLANK(VLOOKUP($A72,'Section 2'!$E$17:$V$216,COLUMNS('Section 2'!$E$13:Q$14),0)),\"\",VLOOKUP($A72,'Section 2'!$E$17:$V$216,COLUMNS('Section 2'!$E$13:Q$14),0)))","v":""},{"$f":"IF($C72=\"\",\"\",IF(ISBLANK(VLOOKUP($A72,'Section 2'!$E$17:$V$216,COLUMNS('Section 2'!$E$13:R$14),0)),\"\",VLOOKUP($A72,'Section 2'!$E$17:$V$216,COLUMNS('Section 2'!$E$13:R$14),0)))","v":""},{"$f":"IF($C72=\"\",\"\",IF(ISBLANK(VLOOKUP($A72,'Section 2'!$E$17:$V$216,COLUMNS('Section 2'!$E$13:S$14),0)),\"\",VLOOKUP($A72,'Section 2'!$E$17:$V$216,COLUMNS('Section 2'!$E$13:S$14),0)))","v":""},{"$f":"IF($C72=\"\",\"\",IF(ISBLANK(VLOOKUP($A72,'Section 2'!$E$17:$V$216,COLUMNS('Section 2'!$E$13:T$14),0)),\"\",VLOOKUP($A72,'Section 2'!$E$17:$V$216,COLUMNS('Section 2'!$E$13:T$14),0)))","v":""},{"$f":"IF($C72=\"\",\"\",IF(ISBLANK(VLOOKUP($A72,'Section 2'!$E$17:$V$216,COLUMNS('Section 2'!$E$13:U$14),0)),\"\",VLOOKUP($A72,'Section 2'!$E$17:$V$216,COLUMNS('Section 2'!$E$13:U$14),0)))","v":""},{"$f":"IF($C72=\"\",\"\",IF(ISBLANK(VLOOKUP($A72,'Section 2'!$E$17:$V$216,COLUMNS('Section 2'!$E$13:V$14),0)),\"\",VLOOKUP($A72,'Section 2'!$E$17:$V$216,COLUMNS('Section 2'!$E$13:V$14),0)))","v":""}]
[72,"",{"$f":"IFERROR(VLOOKUP($A73,'Section 2'!$E$17:$V$216,COLUMNS('Section 2'!$E$13:E$14),0),\"\")","v":""},{"$f":"IF($C73=\"\",\"\",IF(ISBLANK(VLOOKUP($A73,'Section 2'!$E$17:$V$216,COLUMNS('Section 2'!$E$13:F$14),0)),\"\",VLOOKUP($A73,'Section 2'!$E$17:$V$216,COLUMNS('Section 2'!$E$13:F$14),0)))","v":""},{"$f":"IF($C73=\"\",\"\",IF(ISBLANK(VLOOKUP($A73,'Section 2'!$E$17:$V$216,COLUMNS('Section 2'!$E$13:G$14),0)),\"\",VLOOKUP($A73,'Section 2'!$E$17:$V$216,COLUMNS('Section 2'!$E$13:G$14),0)))","v":""},{"$f":"IF($C73=\"\",\"\",IF(ISBLANK(VLOOKUP($A73,'Section 2'!$E$17:$V$216,COLUMNS('Section 2'!$E$13:H$14),0)),\"\",VLOOKUP($A73,'Section 2'!$E$17:$V$216,COLUMNS('Section 2'!$E$13:H$14),0)))","v":""},{"$f":"IF($C73=\"\",\"\",IF(ISBLANK(VLOOKUP($A73,'Section 2'!$E$17:$V$216,COLUMNS('Section 2'!$E$13:I$14),0)),\"\",VLOOKUP($A73,'Section 2'!$E$17:$V$216,COLUMNS('Section 2'!$E$13:I$14),0)))","v":""},{"$f":"IF($C73=\"\",\"\",IF(ISBLANK(VLOOKUP($A73,'Section 2'!$E$17:$V$216,COLUMNS('Section 2'!$E$13:J$14),0)),\"\",VLOOKUP($A73,'Section 2'!$E$17:$V$216,COLUMNS('Section 2'!$E$13:J$14),0)))","v":""},{"$f":"IF($C73=\"\",\"\",IF(ISBLANK(VLOOKUP($A73,'Section 2'!$E$17:$V$216,COLUMNS('Section 2'!$E$13:K$14),0)),\"\",VLOOKUP($A73,'Section 2'!$E$17:$V$216,COLUMNS('Section 2'!$E$13:K$14),0)))","v":""},{"$f":"IF($C73=\"\",\"\",IF(ISBLANK(VLOOKUP($A73,'Section 2'!$E$17:$V$216,COLUMNS('Section 2'!$E$13:L$14),0)),\"\",VLOOKUP($A73,'Section 2'!$E$17:$V$216,COLUMNS('Section 2'!$E$13:L$14),0)))","v":""},{"$f":"IF($C73=\"\",\"\",IF(ISBLANK(VLOOKUP($A73,'Section 2'!$E$17:$V$216,COLUMNS('Section 2'!$E$13:M$14),0)),\"\",VLOOKUP($A73,'Section 2'!$E$17:$V$216,COLUMNS('Section 2'!$E$13:M$14),0)))","v":""},{"$f":"IF($C73=\"\",\"\",IF(ISBLANK(VLOOKUP($A73,'Section 2'!$E$17:$V$216,COLUMNS('Section 2'!$E$13:N$14),0)),\"\",VLOOKUP($A73,'Section 2'!$E$17:$V$216,COLUMNS('Section 2'!$E$13:N$14),0)))","v":""},{"$f":"IF($C73=\"\",\"\",IF(ISBLANK(VLOOKUP($A73,'Section 2'!$E$17:$V$216,COLUMNS('Section 2'!$E$13:O$14),0)),\"\",VLOOKUP($A73,'Section 2'!$E$17:$V$216,COLUMNS('Section 2'!$E$13:O$14),0)))","v":""},{"$f":"IF($C73=\"\",\"\",IF(ISBLANK(VLOOKUP($A73,'Section 2'!$E$17:$V$216,COLUMNS('Section 2'!$E$13:P$14),0)),\"\",VLOOKUP($A73,'Section 2'!$E$17:$V$216,COLUMNS('Section 2'!$E$13:P$14),0)))","v":""},{"$f":"IF($C73=\"\",\"\",IF(ISBLANK(VLOOKUP($A73,'Section 2'!$E$17:$V$216,COLUMNS('Section 2'!$E$13:Q$14),0)),\"\",VLOOKUP($A73,'Section 2'!$E$17:$V$216,COLUMNS('Section 2'!$E$13:Q$14),0)))","v":""},{"$f":"IF($C73=\"\",\"\",IF(ISBLANK(VLOOKUP($A73,'Section 2'!$E$17:$V$216,COLUMNS('Section 2'!$E$13:R$14),0)),\"\",VLOOKUP($A73,'Section 2'!$E$17:$V$216,COLUMNS('Section 2'!$E$13:R$14),0)))","v":""},{"$f":"IF($C73=\"\",\"\",IF(ISBLANK(VLOOKUP($A73,'Section 2'!$E$17:$V$216,COLUMNS('Section 2'!$E$13:S$14),0)),\"\",VLOOKUP($A73,'Section 2'!$E$17:$V$216,COLUMNS('Section 2'!$E$13:S$14),0)))","v":""},{"$f":"IF($C73=\"\",\"\",IF(ISBLANK(VLOOKUP($A73,'Section 2'!$E$17:$V$216,COLUMNS('Section 2'!$E$13:T$14),0)),\"\",VLOOKUP($A73,'Section 2'!$E$17:$V$216,COLUMNS('Section 2'!$E$13:T$14),0)))","v":""},{"$f":"IF($C73=\"\",\"\",IF(ISBLANK(VLOOKUP($A73,'Section 2'!$E$17:$V$216,COLUMNS('Section 2'!$E$13:U$14),0)),\"\",VLOOKUP($A73,'Section 2'!$E$17:$V$216,COLUMNS('Section 2'!$E$13:U$14),0)))","v":""},{"$f":"IF($C73=\"\",\"\",IF(ISBLANK(VLOOKUP($A73,'Section 2'!$E$17:$V$216,COLUMNS('Section 2'!$E$13:V$14),0)),\"\",VLOOKUP($A73,'Section 2'!$E$17:$V$216,COLUMNS('Section 2'!$E$13:V$14),0)))","v":""}]
[73,"",{"$f":"IFERROR(VLOOKUP($A74,'Section 2'!$E$17:$V$216,COLUMNS('Section 2'!$E$13:E$14),0),\"\")","v":""},{"$f":"IF($C74=\"\",\"\",IF(ISBLANK(VLOOKUP($A74,'Section 2'!$E$17:$V$216,COLUMNS('Section 2'!$E$13:F$14),0)),\"\",VLOOKUP($A74,'Section 2'!$E$17:$V$216,COLUMNS('Section 2'!$E$13:F$14),0)))","v":""},{"$f":"IF($C74=\"\",\"\",IF(ISBLANK(VLOOKUP($A74,'Section 2'!$E$17:$V$216,COLUMNS('Section 2'!$E$13:G$14),0)),\"\",VLOOKUP($A74,'Section 2'!$E$17:$V$216,COLUMNS('Section 2'!$E$13:G$14),0)))","v":""},{"$f":"IF($C74=\"\",\"\",IF(ISBLANK(VLOOKUP($A74,'Section 2'!$E$17:$V$216,COLUMNS('Section 2'!$E$13:H$14),0)),\"\",VLOOKUP($A74,'Section 2'!$E$17:$V$216,COLUMNS('Section 2'!$E$13:H$14),0)))","v":""},{"$f":"IF($C74=\"\",\"\",IF(ISBLANK(VLOOKUP($A74,'Section 2'!$E$17:$V$216,COLUMNS('Section 2'!$E$13:I$14),0)),\"\",VLOOKUP($A74,'Section 2'!$E$17:$V$216,COLUMNS('Section 2'!$E$13:I$14),0)))","v":""},{"$f":"IF($C74=\"\",\"\",IF(ISBLANK(VLOOKUP($A74,'Section 2'!$E$17:$V$216,COLUMNS('Section 2'!$E$13:J$14),0)),\"\",VLOOKUP($A74,'Section 2'!$E$17:$V$216,COLUMNS('Section 2'!$E$13:J$14),0)))","v":""},{"$f":"IF($C74=\"\",\"\",IF(ISBLANK(VLOOKUP($A74,'Section 2'!$E$17:$V$216,COLUMNS('Section 2'!$E$13:K$14),0)),\"\",VLOOKUP($A74,'Section 2'!$E$17:$V$216,COLUMNS('Section 2'!$E$13:K$14),0)))","v":""},{"$f":"IF($C74=\"\",\"\",IF(ISBLANK(VLOOKUP($A74,'Section 2'!$E$17:$V$216,COLUMNS('Section 2'!$E$13:L$14),0)),\"\",VLOOKUP($A74,'Section 2'!$E$17:$V$216,COLUMNS('Section 2'!$E$13:L$14),0)))","v":""},{"$f":"IF($C74=\"\",\"\",IF(ISBLANK(VLOOKUP($A74,'Section 2'!$E$17:$V$216,COLUMNS('Section 2'!$E$13:M$14),0)),\"\",VLOOKUP($A74,'Section 2'!$E$17:$V$216,COLUMNS('Section 2'!$E$13:M$14),0)))","v":""},{"$f":"IF($C74=\"\",\"\",IF(ISBLANK(VLOOKUP($A74,'Section 2'!$E$17:$V$216,COLUMNS('Section 2'!$E$13:N$14),0)),\"\",VLOOKUP($A74,'Section 2'!$E$17:$V$216,COLUMNS('Section 2'!$E$13:N$14),0)))","v":""},{"$f":"IF($C74=\"\",\"\",IF(ISBLANK(VLOOKUP($A74,'Section 2'!$E$17:$V$216,COLUMNS('Section 2'!$E$13:O$14),0)),\"\",VLOOKUP($A74,'Section 2'!$E$17:$V$216,COLUMNS('Section 2'!$E$13:O$14),0)))","v":""},{"$f":"IF($C74=\"\",\"\",IF(ISBLANK(VLOOKUP($A74,'Section 2'!$E$17:$V$216,COLUMNS('Section 2'!$E$13:P$14),0)),\"\",VLOOKUP($A74,'Section 2'!$E$17:$V$216,COLUMNS('Section 2'!$E$13:P$14),0)))","v":""},{"$f":"IF($C74=\"\",\"\",IF(ISBLANK(VLOOKUP($A74,'Section 2'!$E$17:$V$216,COLUMNS('Section 2'!$E$13:Q$14),0)),\"\",VLOOKUP($A74,'Section 2'!$E$17:$V$216,COLUMNS('Section 2'!$E$13:Q$14),0)))","v":""},{"$f":"IF($C74=\"\",\"\",IF(ISBLANK(VLOOKUP($A74,'Section 2'!$E$17:$V$216,COLUMNS('Section 2'!$E$13:R$14),0)),\"\",VLOOKUP($A74,'Section 2'!$E$17:$V$216,COLUMNS('Section 2'!$E$13:R$14),0)))","v":""},{"$f":"IF($C74=\"\",\"\",IF(ISBLANK(VLOOKUP($A74,'Section 2'!$E$17:$V$216,COLUMNS('Section 2'!$E$13:S$14),0)),\"\",VLOOKUP($A74,'Section 2'!$E$17:$V$216,COLUMNS('Section 2'!$E$13:S$14),0)))","v":""},{"$f":"IF($C74=\"\",\"\",IF(ISBLANK(VLOOKUP($A74,'Section 2'!$E$17:$V$216,COLUMNS('Section 2'!$E$13:T$14),0)),\"\",VLOOKUP($A74,'Section 2'!$E$17:$V$216,COLUMNS('Section 2'!$E$13:T$14),0)))","v":""},{"$f":"IF($C74=\"\",\"\",IF(ISBLANK(VLOOKUP($A74,'Section 2'!$E$17:$V$216,COLUMNS('Section 2'!$E$13:U$14),0)),\"\",VLOOKUP($A74,'Section 2'!$E$17:$V$216,COLUMNS('Section 2'!$E$13:U$14),0)))","v":""},{"$f":"IF($C74=\"\",\"\",IF(ISBLANK(VLOOKUP($A74,'Section 2'!$E$17:$V$216,COLUMNS('Section 2'!$E$13:V$14),0)),\"\",VLOOKUP($A74,'Section 2'!$E$17:$V$216,COLUMNS('Section 2'!$E$13:V$14),0)))","v":""}]
[74,"",{"$f":"IFERROR(VLOOKUP($A75,'Section 2'!$E$17:$V$216,COLUMNS('Section 2'!$E$13:E$14),0),\"\")","v":""},{"$f":"IF($C75=\"\",\"\",IF(ISBLANK(VLOOKUP($A75,'Section 2'!$E$17:$V$216,COLUMNS('Section 2'!$E$13:F$14),0)),\"\",VLOOKUP($A75,'Section 2'!$E$17:$V$216,COLUMNS('Section 2'!$E$13:F$14),0)))","v":""},{"$f":"IF($C75=\"\",\"\",IF(ISBLANK(VLOOKUP($A75,'Section 2'!$E$17:$V$216,COLUMNS('Section 2'!$E$13:G$14),0)),\"\",VLOOKUP($A75,'Section 2'!$E$17:$V$216,COLUMNS('Section 2'!$E$13:G$14),0)))","v":""},{"$f":"IF($C75=\"\",\"\",IF(ISBLANK(VLOOKUP($A75,'Section 2'!$E$17:$V$216,COLUMNS('Section 2'!$E$13:H$14),0)),\"\",VLOOKUP($A75,'Section 2'!$E$17:$V$216,COLUMNS('Section 2'!$E$13:H$14),0)))","v":""},{"$f":"IF($C75=\"\",\"\",IF(ISBLANK(VLOOKUP($A75,'Section 2'!$E$17:$V$216,COLUMNS('Section 2'!$E$13:I$14),0)),\"\",VLOOKUP($A75,'Section 2'!$E$17:$V$216,COLUMNS('Section 2'!$E$13:I$14),0)))","v":""},{"$f":"IF($C75=\"\",\"\",IF(ISBLANK(VLOOKUP($A75,'Section 2'!$E$17:$V$216,COLUMNS('Section 2'!$E$13:J$14),0)),\"\",VLOOKUP($A75,'Section 2'!$E$17:$V$216,COLUMNS('Section 2'!$E$13:J$14),0)))","v":""},{"$f":"IF($C75=\"\",\"\",IF(ISBLANK(VLOOKUP($A75,'Section 2'!$E$17:$V$216,COLUMNS('Section 2'!$E$13:K$14),0)),\"\",VLOOKUP($A75,'Section 2'!$E$17:$V$216,COLUMNS('Section 2'!$E$13:K$14),0)))","v":""},{"$f":"IF($C75=\"\",\"\",IF(ISBLANK(VLOOKUP($A75,'Section 2'!$E$17:$V$216,COLUMNS('Section 2'!$E$13:L$14),0)),\"\",VLOOKUP($A75,'Section 2'!$E$17:$V$216,COLUMNS('Section 2'!$E$13:L$14),0)))","v":""},{"$f":"IF($C75=\"\",\"\",IF(ISBLANK(VLOOKUP($A75,'Section 2'!$E$17:$V$216,COLUMNS('Section 2'!$E$13:M$14),0)),\"\",VLOOKUP($A75,'Section 2'!$E$17:$V$216,COLUMNS('Section 2'!$E$13:M$14),0)))","v":""},{"$f":"IF($C75=\"\",\"\",IF(ISBLANK(VLOOKUP($A75,'Section 2'!$E$17:$V$216,COLUMNS('Section 2'!$E$13:N$14),0)),\"\",VLOOKUP($A75,'Section 2'!$E$17:$V$216,COLUMNS('Section 2'!$E$13:N$14),0)))","v":""},{"$f":"IF($C75=\"\",\"\",IF(ISBLANK(VLOOKUP($A75,'Section 2'!$E$17:$V$216,COLUMNS('Section 2'!$E$13:O$14),0)),\"\",VLOOKUP($A75,'Section 2'!$E$17:$V$216,COLUMNS('Section 2'!$E$13:O$14),0)))","v":""},{"$f":"IF($C75=\"\",\"\",IF(ISBLANK(VLOOKUP($A75,'Section 2'!$E$17:$V$216,COLUMNS('Section 2'!$E$13:P$14),0)),\"\",VLOOKUP($A75,'Section 2'!$E$17:$V$216,COLUMNS('Section 2'!$E$13:P$14),0)))","v":""},{"$f":"IF($C75=\"\",\"\",IF(ISBLANK(VLOOKUP($A75,'Section 2'!$E$17:$V$216,COLUMNS('Section 2'!$E$13:Q$14),0)),\"\",VLOOKUP($A75,'Section 2'!$E$17:$V$216,COLUMNS('Section 2'!$E$13:Q$14),0)))","v":""},{"$f":"IF($C75=\"\",\"\",IF(ISBLANK(VLOOKUP($A75,'Section 2'!$E$17:$V$216,COLUMNS('Section 2'!$E$13:R$14),0)),\"\",VLOOKUP($A75,'Section 2'!$E$17:$V$216,COLUMNS('Section 2'!$E$13:R$14),0)))","v":""},{"$f":"IF($C75=\"\",\"\",IF(ISBLANK(VLOOKUP($A75,'Section 2'!$E$17:$V$216,COLUMNS('Section 2'!$E$13:S$14),0)),\"\",VLOOKUP($A75,'Section 2'!$E$17:$V$216,COLUMNS('Section 2'!$E$13:S$14),0)))","v":""},{"$f":"IF($C75=\"\",\"\",IF(ISBLANK(VLOOKUP($A75,'Section 2'!$E$17:$V$216,COLUMNS('Section 2'!$E$13:T$14),0)),\"\",VLOOKUP($A75,'Section 2'!$E$17:$V$216,COLUMNS('Section 2'!$E$13:T$14),0)))","v":""},{"$f":"IF($C75=\"\",\"\",IF(ISBLANK(VLOOKUP($A75,'Section 2'!$E$17:$V$216,COLUMNS('Section 2'!$E$13:U$14),0)),\"\",VLOOKUP($A75,'Section 2'!$E$17:$V$216,COLUMNS('Section 2'!$E$13:U$14),0)))","v":""},{"$f":"IF($C75=\"\",\"\",IF(ISBLANK(VLOOKUP($A75,'Section 2'!$E$17:$V$216,COLUMNS('Section 2'!$E$13:V$14),0)),\"\",VLOOKUP($A75,'Section 2'!$E$17:$V$216,COLUMNS('Section 2'!$E$13:V$14),0)))","v":""}]
[75,"",{"$f":"IFERROR(VLOOKUP($A76,'Section 2'!$E$17:$V$216,COLUMNS('Section 2'!$E$13:E$14),0),\"\")","v":""},{"$f":"IF($C76=\"\",\"\",IF(ISBLANK(VLOOKUP($A76,'Section 2'!$E$17:$V$216,COLUMNS('Section 2'!$E$13:F$14),0)),\"\",VLOOKUP($A76,'Section 2'!$E$17:$V$216,COLUMNS('Section 2'!$E$13:F$14),0)))","v":""},{"$f":"IF($C76=\"\",\"\",IF(ISBLANK(VLOOKUP($A76,'Section 2'!$E$17:$V$216,COLUMNS('Section 2'!$E$13:G$14),0)),\"\",VLOOKUP($A76,'Section 2'!$E$17:$V$216,COLUMNS('Section 2'!$E$13:G$14),0)))","v":""},{"$f":"IF($C76=\"\",\"\",IF(ISBLANK(VLOOKUP($A76,'Section 2'!$E$17:$V$216,COLUMNS('Section 2'!$E$13:H$14),0)),\"\",VLOOKUP($A76,'Section 2'!$E$17:$V$216,COLUMNS('Section 2'!$E$13:H$14),0)))","v":""},{"$f":"IF($C76=\"\",\"\",IF(ISBLANK(VLOOKUP($A76,'Section 2'!$E$17:$V$216,COLUMNS('Section 2'!$E$13:I$14),0)),\"\",VLOOKUP($A76,'Section 2'!$E$17:$V$216,COLUMNS('Section 2'!$E$13:I$14),0)))","v":""},{"$f":"IF($C76=\"\",\"\",IF(ISBLANK(VLOOKUP($A76,'Section 2'!$E$17:$V$216,COLUMNS('Section 2'!$E$13:J$14),0)),\"\",VLOOKUP($A76,'Section 2'!$E$17:$V$216,COLUMNS('Section 2'!$E$13:J$14),0)))","v":""},{"$f":"IF($C76=\"\",\"\",IF(ISBLANK(VLOOKUP($A76,'Section 2'!$E$17:$V$216,COLUMNS('Section 2'!$E$13:K$14),0)),\"\",VLOOKUP($A76,'Section 2'!$E$17:$V$216,COLUMNS('Section 2'!$E$13:K$14),0)))","v":""},{"$f":"IF($C76=\"\",\"\",IF(ISBLANK(VLOOKUP($A76,'Section 2'!$E$17:$V$216,COLUMNS('Section 2'!$E$13:L$14),0)),\"\",VLOOKUP($A76,'Section 2'!$E$17:$V$216,COLUMNS('Section 2'!$E$13:L$14),0)))","v":""},{"$f":"IF($C76=\"\",\"\",IF(ISBLANK(VLOOKUP($A76,'Section 2'!$E$17:$V$216,COLUMNS('Section 2'!$E$13:M$14),0)),\"\",VLOOKUP($A76,'Section 2'!$E$17:$V$216,COLUMNS('Section 2'!$E$13:M$14),0)))","v":""},{"$f":"IF($C76=\"\",\"\",IF(ISBLANK(VLOOKUP($A76,'Section 2'!$E$17:$V$216,COLUMNS('Section 2'!$E$13:N$14),0)),\"\",VLOOKUP($A76,'Section 2'!$E$17:$V$216,COLUMNS('Section 2'!$E$13:N$14),0)))","v":""},{"$f":"IF($C76=\"\",\"\",IF(ISBLANK(VLOOKUP($A76,'Section 2'!$E$17:$V$216,COLUMNS('Section 2'!$E$13:O$14),0)),\"\",VLOOKUP($A76,'Section 2'!$E$17:$V$216,COLUMNS('Section 2'!$E$13:O$14),0)))","v":""},{"$f":"IF($C76=\"\",\"\",IF(ISBLANK(VLOOKUP($A76,'Section 2'!$E$17:$V$216,COLUMNS('Section 2'!$E$13:P$14),0)),\"\",VLOOKUP($A76,'Section 2'!$E$17:$V$216,COLUMNS('Section 2'!$E$13:P$14),0)))","v":""},{"$f":"IF($C76=\"\",\"\",IF(ISBLANK(VLOOKUP($A76,'Section 2'!$E$17:$V$216,COLUMNS('Section 2'!$E$13:Q$14),0)),\"\",VLOOKUP($A76,'Section 2'!$E$17:$V$216,COLUMNS('Section 2'!$E$13:Q$14),0)))","v":""},{"$f":"IF($C76=\"\",\"\",IF(ISBLANK(VLOOKUP($A76,'Section 2'!$E$17:$V$216,COLUMNS('Section 2'!$E$13:R$14),0)),\"\",VLOOKUP($A76,'Section 2'!$E$17:$V$216,COLUMNS('Section 2'!$E$13:R$14),0)))","v":""},{"$f":"IF($C76=\"\",\"\",IF(ISBLANK(VLOOKUP($A76,'Section 2'!$E$17:$V$216,COLUMNS('Section 2'!$E$13:S$14),0)),\"\",VLOOKUP($A76,'Section 2'!$E$17:$V$216,COLUMNS('Section 2'!$E$13:S$14),0)))","v":""},{"$f":"IF($C76=\"\",\"\",IF(ISBLANK(VLOOKUP($A76,'Section 2'!$E$17:$V$216,COLUMNS('Section 2'!$E$13:T$14),0)),\"\",VLOOKUP($A76,'Section 2'!$E$17:$V$216,COLUMNS('Section 2'!$E$13:T$14),0)))","v":""},{"$f":"IF($C76=\"\",\"\",IF(ISBLANK(VLOOKUP($A76,'Section 2'!$E$17:$V$216,COLUMNS('Section 2'!$E$13:U$14),0)),\"\",VLOOKUP($A76,'Section 2'!$E$17:$V$216,COLUMNS('Section 2'!$E$13:U$14),0)))","v":""},{"$f":"IF($C76=\"\",\"\",IF(ISBLANK(VLOOKUP($A76,'Section 2'!$E$17:$V$216,COLUMNS('Section 2'!$E$13:V$14),0)),\"\",VLOOKUP($A76,'Section 2'!$E$17:$V$216,COLUMNS('Section 2'!$E$13:V$14),0)))","v":""}]
[76,"",{"$f":"IFERROR(VLOOKUP($A77,'Section 2'!$E$17:$V$216,COLUMNS('Section 2'!$E$13:E$14),0),\"\")","v":""},{"$f":"IF($C77=\"\",\"\",IF(ISBLANK(VLOOKUP($A77,'Section 2'!$E$17:$V$216,COLUMNS('Section 2'!$E$13:F$14),0)),\"\",VLOOKUP($A77,'Section 2'!$E$17:$V$216,COLUMNS('Section 2'!$E$13:F$14),0)))","v":""},{"$f":"IF($C77=\"\",\"\",IF(ISBLANK(VLOOKUP($A77,'Section 2'!$E$17:$V$216,COLUMNS('Section 2'!$E$13:G$14),0)),\"\",VLOOKUP($A77,'Section 2'!$E$17:$V$216,COLUMNS('Section 2'!$E$13:G$14),0)))","v":""},{"$f":"IF($C77=\"\",\"\",IF(ISBLANK(VLOOKUP($A77,'Section 2'!$E$17:$V$216,COLUMNS('Section 2'!$E$13:H$14),0)),\"\",VLOOKUP($A77,'Section 2'!$E$17:$V$216,COLUMNS('Section 2'!$E$13:H$14),0)))","v":""},{"$f":"IF($C77=\"\",\"\",IF(ISBLANK(VLOOKUP($A77,'Section 2'!$E$17:$V$216,COLUMNS('Section 2'!$E$13:I$14),0)),\"\",VLOOKUP($A77,'Section 2'!$E$17:$V$216,COLUMNS('Section 2'!$E$13:I$14),0)))","v":""},{"$f":"IF($C77=\"\",\"\",IF(ISBLANK(VLOOKUP($A77,'Section 2'!$E$17:$V$216,COLUMNS('Section 2'!$E$13:J$14),0)),\"\",VLOOKUP($A77,'Section 2'!$E$17:$V$216,COLUMNS('Section 2'!$E$13:J$14),0)))","v":""},{"$f":"IF($C77=\"\",\"\",IF(ISBLANK(VLOOKUP($A77,'Section 2'!$E$17:$V$216,COLUMNS('Section 2'!$E$13:K$14),0)),\"\",VLOOKUP($A77,'Section 2'!$E$17:$V$216,COLUMNS('Section 2'!$E$13:K$14),0)))","v":""},{"$f":"IF($C77=\"\",\"\",IF(ISBLANK(VLOOKUP($A77,'Section 2'!$E$17:$V$216,COLUMNS('Section 2'!$E$13:L$14),0)),\"\",VLOOKUP($A77,'Section 2'!$E$17:$V$216,COLUMNS('Section 2'!$E$13:L$14),0)))","v":""},{"$f":"IF($C77=\"\",\"\",IF(ISBLANK(VLOOKUP($A77,'Section 2'!$E$17:$V$216,COLUMNS('Section 2'!$E$13:M$14),0)),\"\",VLOOKUP($A77,'Section 2'!$E$17:$V$216,COLUMNS('Section 2'!$E$13:M$14),0)))","v":""},{"$f":"IF($C77=\"\",\"\",IF(ISBLANK(VLOOKUP($A77,'Section 2'!$E$17:$V$216,COLUMNS('Section 2'!$E$13:N$14),0)),\"\",VLOOKUP($A77,'Section 2'!$E$17:$V$216,COLUMNS('Section 2'!$E$13:N$14),0)))","v":""},{"$f":"IF($C77=\"\",\"\",IF(ISBLANK(VLOOKUP($A77,'Section 2'!$E$17:$V$216,COLUMNS('Section 2'!$E$13:O$14),0)),\"\",VLOOKUP($A77,'Section 2'!$E$17:$V$216,COLUMNS('Section 2'!$E$13:O$14),0)))","v":""},{"$f":"IF($C77=\"\",\"\",IF(ISBLANK(VLOOKUP($A77,'Section 2'!$E$17:$V$216,COLUMNS('Section 2'!$E$13:P$14),0)),\"\",VLOOKUP($A77,'Section 2'!$E$17:$V$216,COLUMNS('Section 2'!$E$13:P$14),0)))","v":""},{"$f":"IF($C77=\"\",\"\",IF(ISBLANK(VLOOKUP($A77,'Section 2'!$E$17:$V$216,COLUMNS('Section 2'!$E$13:Q$14),0)),\"\",VLOOKUP($A77,'Section 2'!$E$17:$V$216,COLUMNS('Section 2'!$E$13:Q$14),0)))","v":""},{"$f":"IF($C77=\"\",\"\",IF(ISBLANK(VLOOKUP($A77,'Section 2'!$E$17:$V$216,COLUMNS('Section 2'!$E$13:R$14),0)),\"\",VLOOKUP($A77,'Section 2'!$E$17:$V$216,COLUMNS('Section 2'!$E$13:R$14),0)))","v":""},{"$f":"IF($C77=\"\",\"\",IF(ISBLANK(VLOOKUP($A77,'Section 2'!$E$17:$V$216,COLUMNS('Section 2'!$E$13:S$14),0)),\"\",VLOOKUP($A77,'Section 2'!$E$17:$V$216,COLUMNS('Section 2'!$E$13:S$14),0)))","v":""},{"$f":"IF($C77=\"\",\"\",IF(ISBLANK(VLOOKUP($A77,'Section 2'!$E$17:$V$216,COLUMNS('Section 2'!$E$13:T$14),0)),\"\",VLOOKUP($A77,'Section 2'!$E$17:$V$216,COLUMNS('Section 2'!$E$13:T$14),0)))","v":""},{"$f":"IF($C77=\"\",\"\",IF(ISBLANK(VLOOKUP($A77,'Section 2'!$E$17:$V$216,COLUMNS('Section 2'!$E$13:U$14),0)),\"\",VLOOKUP($A77,'Section 2'!$E$17:$V$216,COLUMNS('Section 2'!$E$13:U$14),0)))","v":""},{"$f":"IF($C77=\"\",\"\",IF(ISBLANK(VLOOKUP($A77,'Section 2'!$E$17:$V$216,COLUMNS('Section 2'!$E$13:V$14),0)),\"\",VLOOKUP($A77,'Section 2'!$E$17:$V$216,COLUMNS('Section 2'!$E$13:V$14),0)))","v":""}]
[77,"",{"$f":"IFERROR(VLOOKUP($A78,'Section 2'!$E$17:$V$216,COLUMNS('Section 2'!$E$13:E$14),0),\"\")","v":""},{"$f":"IF($C78=\"\",\"\",IF(ISBLANK(VLOOKUP($A78,'Section 2'!$E$17:$V$216,COLUMNS('Section 2'!$E$13:F$14),0)),\"\",VLOOKUP($A78,'Section 2'!$E$17:$V$216,COLUMNS('Section 2'!$E$13:F$14),0)))","v":""},{"$f":"IF($C78=\"\",\"\",IF(ISBLANK(VLOOKUP($A78,'Section 2'!$E$17:$V$216,COLUMNS('Section 2'!$E$13:G$14),0)),\"\",VLOOKUP($A78,'Section 2'!$E$17:$V$216,COLUMNS('Section 2'!$E$13:G$14),0)))","v":""},{"$f":"IF($C78=\"\",\"\",IF(ISBLANK(VLOOKUP($A78,'Section 2'!$E$17:$V$216,COLUMNS('Section 2'!$E$13:H$14),0)),\"\",VLOOKUP($A78,'Section 2'!$E$17:$V$216,COLUMNS('Section 2'!$E$13:H$14),0)))","v":""},{"$f":"IF($C78=\"\",\"\",IF(ISBLANK(VLOOKUP($A78,'Section 2'!$E$17:$V$216,COLUMNS('Section 2'!$E$13:I$14),0)),\"\",VLOOKUP($A78,'Section 2'!$E$17:$V$216,COLUMNS('Section 2'!$E$13:I$14),0)))","v":""},{"$f":"IF($C78=\"\",\"\",IF(ISBLANK(VLOOKUP($A78,'Section 2'!$E$17:$V$216,COLUMNS('Section 2'!$E$13:J$14),0)),\"\",VLOOKUP($A78,'Section 2'!$E$17:$V$216,COLUMNS('Section 2'!$E$13:J$14),0)))","v":""},{"$f":"IF($C78=\"\",\"\",IF(ISBLANK(VLOOKUP($A78,'Section 2'!$E$17:$V$216,COLUMNS('Section 2'!$E$13:K$14),0)),\"\",VLOOKUP($A78,'Section 2'!$E$17:$V$216,COLUMNS('Section 2'!$E$13:K$14),0)))","v":""},{"$f":"IF($C78=\"\",\"\",IF(ISBLANK(VLOOKUP($A78,'Section 2'!$E$17:$V$216,COLUMNS('Section 2'!$E$13:L$14),0)),\"\",VLOOKUP($A78,'Section 2'!$E$17:$V$216,COLUMNS('Section 2'!$E$13:L$14),0)))","v":""},{"$f":"IF($C78=\"\",\"\",IF(ISBLANK(VLOOKUP($A78,'Section 2'!$E$17:$V$216,COLUMNS('Section 2'!$E$13:M$14),0)),\"\",VLOOKUP($A78,'Section 2'!$E$17:$V$216,COLUMNS('Section 2'!$E$13:M$14),0)))","v":""},{"$f":"IF($C78=\"\",\"\",IF(ISBLANK(VLOOKUP($A78,'Section 2'!$E$17:$V$216,COLUMNS('Section 2'!$E$13:N$14),0)),\"\",VLOOKUP($A78,'Section 2'!$E$17:$V$216,COLUMNS('Section 2'!$E$13:N$14),0)))","v":""},{"$f":"IF($C78=\"\",\"\",IF(ISBLANK(VLOOKUP($A78,'Section 2'!$E$17:$V$216,COLUMNS('Section 2'!$E$13:O$14),0)),\"\",VLOOKUP($A78,'Section 2'!$E$17:$V$216,COLUMNS('Section 2'!$E$13:O$14),0)))","v":""},{"$f":"IF($C78=\"\",\"\",IF(ISBLANK(VLOOKUP($A78,'Section 2'!$E$17:$V$216,COLUMNS('Section 2'!$E$13:P$14),0)),\"\",VLOOKUP($A78,'Section 2'!$E$17:$V$216,COLUMNS('Section 2'!$E$13:P$14),0)))","v":""},{"$f":"IF($C78=\"\",\"\",IF(ISBLANK(VLOOKUP($A78,'Section 2'!$E$17:$V$216,COLUMNS('Section 2'!$E$13:Q$14),0)),\"\",VLOOKUP($A78,'Section 2'!$E$17:$V$216,COLUMNS('Section 2'!$E$13:Q$14),0)))","v":""},{"$f":"IF($C78=\"\",\"\",IF(ISBLANK(VLOOKUP($A78,'Section 2'!$E$17:$V$216,COLUMNS('Section 2'!$E$13:R$14),0)),\"\",VLOOKUP($A78,'Section 2'!$E$17:$V$216,COLUMNS('Section 2'!$E$13:R$14),0)))","v":""},{"$f":"IF($C78=\"\",\"\",IF(ISBLANK(VLOOKUP($A78,'Section 2'!$E$17:$V$216,COLUMNS('Section 2'!$E$13:S$14),0)),\"\",VLOOKUP($A78,'Section 2'!$E$17:$V$216,COLUMNS('Section 2'!$E$13:S$14),0)))","v":""},{"$f":"IF($C78=\"\",\"\",IF(ISBLANK(VLOOKUP($A78,'Section 2'!$E$17:$V$216,COLUMNS('Section 2'!$E$13:T$14),0)),\"\",VLOOKUP($A78,'Section 2'!$E$17:$V$216,COLUMNS('Section 2'!$E$13:T$14),0)))","v":""},{"$f":"IF($C78=\"\",\"\",IF(ISBLANK(VLOOKUP($A78,'Section 2'!$E$17:$V$216,COLUMNS('Section 2'!$E$13:U$14),0)),\"\",VLOOKUP($A78,'Section 2'!$E$17:$V$216,COLUMNS('Section 2'!$E$13:U$14),0)))","v":""},{"$f":"IF($C78=\"\",\"\",IF(ISBLANK(VLOOKUP($A78,'Section 2'!$E$17:$V$216,COLUMNS('Section 2'!$E$13:V$14),0)),\"\",VLOOKUP($A78,'Section 2'!$E$17:$V$216,COLUMNS('Section 2'!$E$13:V$14),0)))","v":""}]
[78,"",{"$f":"IFERROR(VLOOKUP($A79,'Section 2'!$E$17:$V$216,COLUMNS('Section 2'!$E$13:E$14),0),\"\")","v":""},{"$f":"IF($C79=\"\",\"\",IF(ISBLANK(VLOOKUP($A79,'Section 2'!$E$17:$V$216,COLUMNS('Section 2'!$E$13:F$14),0)),\"\",VLOOKUP($A79,'Section 2'!$E$17:$V$216,COLUMNS('Section 2'!$E$13:F$14),0)))","v":""},{"$f":"IF($C79=\"\",\"\",IF(ISBLANK(VLOOKUP($A79,'Section 2'!$E$17:$V$216,COLUMNS('Section 2'!$E$13:G$14),0)),\"\",VLOOKUP($A79,'Section 2'!$E$17:$V$216,COLUMNS('Section 2'!$E$13:G$14),0)))","v":""},{"$f":"IF($C79=\"\",\"\",IF(ISBLANK(VLOOKUP($A79,'Section 2'!$E$17:$V$216,COLUMNS('Section 2'!$E$13:H$14),0)),\"\",VLOOKUP($A79,'Section 2'!$E$17:$V$216,COLUMNS('Section 2'!$E$13:H$14),0)))","v":""},{"$f":"IF($C79=\"\",\"\",IF(ISBLANK(VLOOKUP($A79,'Section 2'!$E$17:$V$216,COLUMNS('Section 2'!$E$13:I$14),0)),\"\",VLOOKUP($A79,'Section 2'!$E$17:$V$216,COLUMNS('Section 2'!$E$13:I$14),0)))","v":""},{"$f":"IF($C79=\"\",\"\",IF(ISBLANK(VLOOKUP($A79,'Section 2'!$E$17:$V$216,COLUMNS('Section 2'!$E$13:J$14),0)),\"\",VLOOKUP($A79,'Section 2'!$E$17:$V$216,COLUMNS('Section 2'!$E$13:J$14),0)))","v":""},{"$f":"IF($C79=\"\",\"\",IF(ISBLANK(VLOOKUP($A79,'Section 2'!$E$17:$V$216,COLUMNS('Section 2'!$E$13:K$14),0)),\"\",VLOOKUP($A79,'Section 2'!$E$17:$V$216,COLUMNS('Section 2'!$E$13:K$14),0)))","v":""},{"$f":"IF($C79=\"\",\"\",IF(ISBLANK(VLOOKUP($A79,'Section 2'!$E$17:$V$216,COLUMNS('Section 2'!$E$13:L$14),0)),\"\",VLOOKUP($A79,'Section 2'!$E$17:$V$216,COLUMNS('Section 2'!$E$13:L$14),0)))","v":""},{"$f":"IF($C79=\"\",\"\",IF(ISBLANK(VLOOKUP($A79,'Section 2'!$E$17:$V$216,COLUMNS('Section 2'!$E$13:M$14),0)),\"\",VLOOKUP($A79,'Section 2'!$E$17:$V$216,COLUMNS('Section 2'!$E$13:M$14),0)))","v":""},{"$f":"IF($C79=\"\",\"\",IF(ISBLANK(VLOOKUP($A79,'Section 2'!$E$17:$V$216,COLUMNS('Section 2'!$E$13:N$14),0)),\"\",VLOOKUP($A79,'Section 2'!$E$17:$V$216,COLUMNS('Section 2'!$E$13:N$14),0)))","v":""},{"$f":"IF($C79=\"\",\"\",IF(ISBLANK(VLOOKUP($A79,'Section 2'!$E$17:$V$216,COLUMNS('Section 2'!$E$13:O$14),0)),\"\",VLOOKUP($A79,'Section 2'!$E$17:$V$216,COLUMNS('Section 2'!$E$13:O$14),0)))","v":""},{"$f":"IF($C79=\"\",\"\",IF(ISBLANK(VLOOKUP($A79,'Section 2'!$E$17:$V$216,COLUMNS('Section 2'!$E$13:P$14),0)),\"\",VLOOKUP($A79,'Section 2'!$E$17:$V$216,COLUMNS('Section 2'!$E$13:P$14),0)))","v":""},{"$f":"IF($C79=\"\",\"\",IF(ISBLANK(VLOOKUP($A79,'Section 2'!$E$17:$V$216,COLUMNS('Section 2'!$E$13:Q$14),0)),\"\",VLOOKUP($A79,'Section 2'!$E$17:$V$216,COLUMNS('Section 2'!$E$13:Q$14),0)))","v":""},{"$f":"IF($C79=\"\",\"\",IF(ISBLANK(VLOOKUP($A79,'Section 2'!$E$17:$V$216,COLUMNS('Section 2'!$E$13:R$14),0)),\"\",VLOOKUP($A79,'Section 2'!$E$17:$V$216,COLUMNS('Section 2'!$E$13:R$14),0)))","v":""},{"$f":"IF($C79=\"\",\"\",IF(ISBLANK(VLOOKUP($A79,'Section 2'!$E$17:$V$216,COLUMNS('Section 2'!$E$13:S$14),0)),\"\",VLOOKUP($A79,'Section 2'!$E$17:$V$216,COLUMNS('Section 2'!$E$13:S$14),0)))","v":""},{"$f":"IF($C79=\"\",\"\",IF(ISBLANK(VLOOKUP($A79,'Section 2'!$E$17:$V$216,COLUMNS('Section 2'!$E$13:T$14),0)),\"\",VLOOKUP($A79,'Section 2'!$E$17:$V$216,COLUMNS('Section 2'!$E$13:T$14),0)))","v":""},{"$f":"IF($C79=\"\",\"\",IF(ISBLANK(VLOOKUP($A79,'Section 2'!$E$17:$V$216,COLUMNS('Section 2'!$E$13:U$14),0)),\"\",VLOOKUP($A79,'Section 2'!$E$17:$V$216,COLUMNS('Section 2'!$E$13:U$14),0)))","v":""},{"$f":"IF($C79=\"\",\"\",IF(ISBLANK(VLOOKUP($A79,'Section 2'!$E$17:$V$216,COLUMNS('Section 2'!$E$13:V$14),0)),\"\",VLOOKUP($A79,'Section 2'!$E$17:$V$216,COLUMNS('Section 2'!$E$13:V$14),0)))","v":""}]
[79,"",{"$f":"IFERROR(VLOOKUP($A80,'Section 2'!$E$17:$V$216,COLUMNS('Section 2'!$E$13:E$14),0),\"\")","v":""},{"$f":"IF($C80=\"\",\"\",IF(ISBLANK(VLOOKUP($A80,'Section 2'!$E$17:$V$216,COLUMNS('Section 2'!$E$13:F$14),0)),\"\",VLOOKUP($A80,'Section 2'!$E$17:$V$216,COLUMNS('Section 2'!$E$13:F$14),0)))","v":""},{"$f":"IF($C80=\"\",\"\",IF(ISBLANK(VLOOKUP($A80,'Section 2'!$E$17:$V$216,COLUMNS('Section 2'!$E$13:G$14),0)),\"\",VLOOKUP($A80,'Section 2'!$E$17:$V$216,COLUMNS('Section 2'!$E$13:G$14),0)))","v":""},{"$f":"IF($C80=\"\",\"\",IF(ISBLANK(VLOOKUP($A80,'Section 2'!$E$17:$V$216,COLUMNS('Section 2'!$E$13:H$14),0)),\"\",VLOOKUP($A80,'Section 2'!$E$17:$V$216,COLUMNS('Section 2'!$E$13:H$14),0)))","v":""},{"$f":"IF($C80=\"\",\"\",IF(ISBLANK(VLOOKUP($A80,'Section 2'!$E$17:$V$216,COLUMNS('Section 2'!$E$13:I$14),0)),\"\",VLOOKUP($A80,'Section 2'!$E$17:$V$216,COLUMNS('Section 2'!$E$13:I$14),0)))","v":""},{"$f":"IF($C80=\"\",\"\",IF(ISBLANK(VLOOKUP($A80,'Section 2'!$E$17:$V$216,COLUMNS('Section 2'!$E$13:J$14),0)),\"\",VLOOKUP($A80,'Section 2'!$E$17:$V$216,COLUMNS('Section 2'!$E$13:J$14),0)))","v":""},{"$f":"IF($C80=\"\",\"\",IF(ISBLANK(VLOOKUP($A80,'Section 2'!$E$17:$V$216,COLUMNS('Section 2'!$E$13:K$14),0)),\"\",VLOOKUP($A80,'Section 2'!$E$17:$V$216,COLUMNS('Section 2'!$E$13:K$14),0)))","v":""},{"$f":"IF($C80=\"\",\"\",IF(ISBLANK(VLOOKUP($A80,'Section 2'!$E$17:$V$216,COLUMNS('Section 2'!$E$13:L$14),0)),\"\",VLOOKUP($A80,'Section 2'!$E$17:$V$216,COLUMNS('Section 2'!$E$13:L$14),0)))","v":""},{"$f":"IF($C80=\"\",\"\",IF(ISBLANK(VLOOKUP($A80,'Section 2'!$E$17:$V$216,COLUMNS('Section 2'!$E$13:M$14),0)),\"\",VLOOKUP($A80,'Section 2'!$E$17:$V$216,COLUMNS('Section 2'!$E$13:M$14),0)))","v":""},{"$f":"IF($C80=\"\",\"\",IF(ISBLANK(VLOOKUP($A80,'Section 2'!$E$17:$V$216,COLUMNS('Section 2'!$E$13:N$14),0)),\"\",VLOOKUP($A80,'Section 2'!$E$17:$V$216,COLUMNS('Section 2'!$E$13:N$14),0)))","v":""},{"$f":"IF($C80=\"\",\"\",IF(ISBLANK(VLOOKUP($A80,'Section 2'!$E$17:$V$216,COLUMNS('Section 2'!$E$13:O$14),0)),\"\",VLOOKUP($A80,'Section 2'!$E$17:$V$216,COLUMNS('Section 2'!$E$13:O$14),0)))","v":""},{"$f":"IF($C80=\"\",\"\",IF(ISBLANK(VLOOKUP($A80,'Section 2'!$E$17:$V$216,COLUMNS('Section 2'!$E$13:P$14),0)),\"\",VLOOKUP($A80,'Section 2'!$E$17:$V$216,COLUMNS('Section 2'!$E$13:P$14),0)))","v":""},{"$f":"IF($C80=\"\",\"\",IF(ISBLANK(VLOOKUP($A80,'Section 2'!$E$17:$V$216,COLUMNS('Section 2'!$E$13:Q$14),0)),\"\",VLOOKUP($A80,'Section 2'!$E$17:$V$216,COLUMNS('Section 2'!$E$13:Q$14),0)))","v":""},{"$f":"IF($C80=\"\",\"\",IF(ISBLANK(VLOOKUP($A80,'Section 2'!$E$17:$V$216,COLUMNS('Section 2'!$E$13:R$14),0)),\"\",VLOOKUP($A80,'Section 2'!$E$17:$V$216,COLUMNS('Section 2'!$E$13:R$14),0)))","v":""},{"$f":"IF($C80=\"\",\"\",IF(ISBLANK(VLOOKUP($A80,'Section 2'!$E$17:$V$216,COLUMNS('Section 2'!$E$13:S$14),0)),\"\",VLOOKUP($A80,'Section 2'!$E$17:$V$216,COLUMNS('Section 2'!$E$13:S$14),0)))","v":""},{"$f":"IF($C80=\"\",\"\",IF(ISBLANK(VLOOKUP($A80,'Section 2'!$E$17:$V$216,COLUMNS('Section 2'!$E$13:T$14),0)),\"\",VLOOKUP($A80,'Section 2'!$E$17:$V$216,COLUMNS('Section 2'!$E$13:T$14),0)))","v":""},{"$f":"IF($C80=\"\",\"\",IF(ISBLANK(VLOOKUP($A80,'Section 2'!$E$17:$V$216,COLUMNS('Section 2'!$E$13:U$14),0)),\"\",VLOOKUP($A80,'Section 2'!$E$17:$V$216,COLUMNS('Section 2'!$E$13:U$14),0)))","v":""},{"$f":"IF($C80=\"\",\"\",IF(ISBLANK(VLOOKUP($A80,'Section 2'!$E$17:$V$216,COLUMNS('Section 2'!$E$13:V$14),0)),\"\",VLOOKUP($A80,'Section 2'!$E$17:$V$216,COLUMNS('Section 2'!$E$13:V$14),0)))","v":""}]
[80,"",{"$f":"IFERROR(VLOOKUP($A81,'Section 2'!$E$17:$V$216,COLUMNS('Section 2'!$E$13:E$14),0),\"\")","v":""},{"$f":"IF($C81=\"\",\"\",IF(ISBLANK(VLOOKUP($A81,'Section 2'!$E$17:$V$216,COLUMNS('Section 2'!$E$13:F$14),0)),\"\",VLOOKUP($A81,'Section 2'!$E$17:$V$216,COLUMNS('Section 2'!$E$13:F$14),0)))","v":""},{"$f":"IF($C81=\"\",\"\",IF(ISBLANK(VLOOKUP($A81,'Section 2'!$E$17:$V$216,COLUMNS('Section 2'!$E$13:G$14),0)),\"\",VLOOKUP($A81,'Section 2'!$E$17:$V$216,COLUMNS('Section 2'!$E$13:G$14),0)))","v":""},{"$f":"IF($C81=\"\",\"\",IF(ISBLANK(VLOOKUP($A81,'Section 2'!$E$17:$V$216,COLUMNS('Section 2'!$E$13:H$14),0)),\"\",VLOOKUP($A81,'Section 2'!$E$17:$V$216,COLUMNS('Section 2'!$E$13:H$14),0)))","v":""},{"$f":"IF($C81=\"\",\"\",IF(ISBLANK(VLOOKUP($A81,'Section 2'!$E$17:$V$216,COLUMNS('Section 2'!$E$13:I$14),0)),\"\",VLOOKUP($A81,'Section 2'!$E$17:$V$216,COLUMNS('Section 2'!$E$13:I$14),0)))","v":""},{"$f":"IF($C81=\"\",\"\",IF(ISBLANK(VLOOKUP($A81,'Section 2'!$E$17:$V$216,COLUMNS('Section 2'!$E$13:J$14),0)),\"\",VLOOKUP($A81,'Section 2'!$E$17:$V$216,COLUMNS('Section 2'!$E$13:J$14),0)))","v":""},{"$f":"IF($C81=\"\",\"\",IF(ISBLANK(VLOOKUP($A81,'Section 2'!$E$17:$V$216,COLUMNS('Section 2'!$E$13:K$14),0)),\"\",VLOOKUP($A81,'Section 2'!$E$17:$V$216,COLUMNS('Section 2'!$E$13:K$14),0)))","v":""},{"$f":"IF($C81=\"\",\"\",IF(ISBLANK(VLOOKUP($A81,'Section 2'!$E$17:$V$216,COLUMNS('Section 2'!$E$13:L$14),0)),\"\",VLOOKUP($A81,'Section 2'!$E$17:$V$216,COLUMNS('Section 2'!$E$13:L$14),0)))","v":""},{"$f":"IF($C81=\"\",\"\",IF(ISBLANK(VLOOKUP($A81,'Section 2'!$E$17:$V$216,COLUMNS('Section 2'!$E$13:M$14),0)),\"\",VLOOKUP($A81,'Section 2'!$E$17:$V$216,COLUMNS('Section 2'!$E$13:M$14),0)))","v":""},{"$f":"IF($C81=\"\",\"\",IF(ISBLANK(VLOOKUP($A81,'Section 2'!$E$17:$V$216,COLUMNS('Section 2'!$E$13:N$14),0)),\"\",VLOOKUP($A81,'Section 2'!$E$17:$V$216,COLUMNS('Section 2'!$E$13:N$14),0)))","v":""},{"$f":"IF($C81=\"\",\"\",IF(ISBLANK(VLOOKUP($A81,'Section 2'!$E$17:$V$216,COLUMNS('Section 2'!$E$13:O$14),0)),\"\",VLOOKUP($A81,'Section 2'!$E$17:$V$216,COLUMNS('Section 2'!$E$13:O$14),0)))","v":""},{"$f":"IF($C81=\"\",\"\",IF(ISBLANK(VLOOKUP($A81,'Section 2'!$E$17:$V$216,COLUMNS('Section 2'!$E$13:P$14),0)),\"\",VLOOKUP($A81,'Section 2'!$E$17:$V$216,COLUMNS('Section 2'!$E$13:P$14),0)))","v":""},{"$f":"IF($C81=\"\",\"\",IF(ISBLANK(VLOOKUP($A81,'Section 2'!$E$17:$V$216,COLUMNS('Section 2'!$E$13:Q$14),0)),\"\",VLOOKUP($A81,'Section 2'!$E$17:$V$216,COLUMNS('Section 2'!$E$13:Q$14),0)))","v":""},{"$f":"IF($C81=\"\",\"\",IF(ISBLANK(VLOOKUP($A81,'Section 2'!$E$17:$V$216,COLUMNS('Section 2'!$E$13:R$14),0)),\"\",VLOOKUP($A81,'Section 2'!$E$17:$V$216,COLUMNS('Section 2'!$E$13:R$14),0)))","v":""},{"$f":"IF($C81=\"\",\"\",IF(ISBLANK(VLOOKUP($A81,'Section 2'!$E$17:$V$216,COLUMNS('Section 2'!$E$13:S$14),0)),\"\",VLOOKUP($A81,'Section 2'!$E$17:$V$216,COLUMNS('Section 2'!$E$13:S$14),0)))","v":""},{"$f":"IF($C81=\"\",\"\",IF(ISBLANK(VLOOKUP($A81,'Section 2'!$E$17:$V$216,COLUMNS('Section 2'!$E$13:T$14),0)),\"\",VLOOKUP($A81,'Section 2'!$E$17:$V$216,COLUMNS('Section 2'!$E$13:T$14),0)))","v":""},{"$f":"IF($C81=\"\",\"\",IF(ISBLANK(VLOOKUP($A81,'Section 2'!$E$17:$V$216,COLUMNS('Section 2'!$E$13:U$14),0)),\"\",VLOOKUP($A81,'Section 2'!$E$17:$V$216,COLUMNS('Section 2'!$E$13:U$14),0)))","v":""},{"$f":"IF($C81=\"\",\"\",IF(ISBLANK(VLOOKUP($A81,'Section 2'!$E$17:$V$216,COLUMNS('Section 2'!$E$13:V$14),0)),\"\",VLOOKUP($A81,'Section 2'!$E$17:$V$216,COLUMNS('Section 2'!$E$13:V$14),0)))","v":""}]
[81,"",{"$f":"IFERROR(VLOOKUP($A82,'Section 2'!$E$17:$V$216,COLUMNS('Section 2'!$E$13:E$14),0),\"\")","v":""},{"$f":"IF($C82=\"\",\"\",IF(ISBLANK(VLOOKUP($A82,'Section 2'!$E$17:$V$216,COLUMNS('Section 2'!$E$13:F$14),0)),\"\",VLOOKUP($A82,'Section 2'!$E$17:$V$216,COLUMNS('Section 2'!$E$13:F$14),0)))","v":""},{"$f":"IF($C82=\"\",\"\",IF(ISBLANK(VLOOKUP($A82,'Section 2'!$E$17:$V$216,COLUMNS('Section 2'!$E$13:G$14),0)),\"\",VLOOKUP($A82,'Section 2'!$E$17:$V$216,COLUMNS('Section 2'!$E$13:G$14),0)))","v":""},{"$f":"IF($C82=\"\",\"\",IF(ISBLANK(VLOOKUP($A82,'Section 2'!$E$17:$V$216,COLUMNS('Section 2'!$E$13:H$14),0)),\"\",VLOOKUP($A82,'Section 2'!$E$17:$V$216,COLUMNS('Section 2'!$E$13:H$14),0)))","v":""},{"$f":"IF($C82=\"\",\"\",IF(ISBLANK(VLOOKUP($A82,'Section 2'!$E$17:$V$216,COLUMNS('Section 2'!$E$13:I$14),0)),\"\",VLOOKUP($A82,'Section 2'!$E$17:$V$216,COLUMNS('Section 2'!$E$13:I$14),0)))","v":""},{"$f":"IF($C82=\"\",\"\",IF(ISBLANK(VLOOKUP($A82,'Section 2'!$E$17:$V$216,COLUMNS('Section 2'!$E$13:J$14),0)),\"\",VLOOKUP($A82,'Section 2'!$E$17:$V$216,COLUMNS('Section 2'!$E$13:J$14),0)))","v":""},{"$f":"IF($C82=\"\",\"\",IF(ISBLANK(VLOOKUP($A82,'Section 2'!$E$17:$V$216,COLUMNS('Section 2'!$E$13:K$14),0)),\"\",VLOOKUP($A82,'Section 2'!$E$17:$V$216,COLUMNS('Section 2'!$E$13:K$14),0)))","v":""},{"$f":"IF($C82=\"\",\"\",IF(ISBLANK(VLOOKUP($A82,'Section 2'!$E$17:$V$216,COLUMNS('Section 2'!$E$13:L$14),0)),\"\",VLOOKUP($A82,'Section 2'!$E$17:$V$216,COLUMNS('Section 2'!$E$13:L$14),0)))","v":""},{"$f":"IF($C82=\"\",\"\",IF(ISBLANK(VLOOKUP($A82,'Section 2'!$E$17:$V$216,COLUMNS('Section 2'!$E$13:M$14),0)),\"\",VLOOKUP($A82,'Section 2'!$E$17:$V$216,COLUMNS('Section 2'!$E$13:M$14),0)))","v":""},{"$f":"IF($C82=\"\",\"\",IF(ISBLANK(VLOOKUP($A82,'Section 2'!$E$17:$V$216,COLUMNS('Section 2'!$E$13:N$14),0)),\"\",VLOOKUP($A82,'Section 2'!$E$17:$V$216,COLUMNS('Section 2'!$E$13:N$14),0)))","v":""},{"$f":"IF($C82=\"\",\"\",IF(ISBLANK(VLOOKUP($A82,'Section 2'!$E$17:$V$216,COLUMNS('Section 2'!$E$13:O$14),0)),\"\",VLOOKUP($A82,'Section 2'!$E$17:$V$216,COLUMNS('Section 2'!$E$13:O$14),0)))","v":""},{"$f":"IF($C82=\"\",\"\",IF(ISBLANK(VLOOKUP($A82,'Section 2'!$E$17:$V$216,COLUMNS('Section 2'!$E$13:P$14),0)),\"\",VLOOKUP($A82,'Section 2'!$E$17:$V$216,COLUMNS('Section 2'!$E$13:P$14),0)))","v":""},{"$f":"IF($C82=\"\",\"\",IF(ISBLANK(VLOOKUP($A82,'Section 2'!$E$17:$V$216,COLUMNS('Section 2'!$E$13:Q$14),0)),\"\",VLOOKUP($A82,'Section 2'!$E$17:$V$216,COLUMNS('Section 2'!$E$13:Q$14),0)))","v":""},{"$f":"IF($C82=\"\",\"\",IF(ISBLANK(VLOOKUP($A82,'Section 2'!$E$17:$V$216,COLUMNS('Section 2'!$E$13:R$14),0)),\"\",VLOOKUP($A82,'Section 2'!$E$17:$V$216,COLUMNS('Section 2'!$E$13:R$14),0)))","v":""},{"$f":"IF($C82=\"\",\"\",IF(ISBLANK(VLOOKUP($A82,'Section 2'!$E$17:$V$216,COLUMNS('Section 2'!$E$13:S$14),0)),\"\",VLOOKUP($A82,'Section 2'!$E$17:$V$216,COLUMNS('Section 2'!$E$13:S$14),0)))","v":""},{"$f":"IF($C82=\"\",\"\",IF(ISBLANK(VLOOKUP($A82,'Section 2'!$E$17:$V$216,COLUMNS('Section 2'!$E$13:T$14),0)),\"\",VLOOKUP($A82,'Section 2'!$E$17:$V$216,COLUMNS('Section 2'!$E$13:T$14),0)))","v":""},{"$f":"IF($C82=\"\",\"\",IF(ISBLANK(VLOOKUP($A82,'Section 2'!$E$17:$V$216,COLUMNS('Section 2'!$E$13:U$14),0)),\"\",VLOOKUP($A82,'Section 2'!$E$17:$V$216,COLUMNS('Section 2'!$E$13:U$14),0)))","v":""},{"$f":"IF($C82=\"\",\"\",IF(ISBLANK(VLOOKUP($A82,'Section 2'!$E$17:$V$216,COLUMNS('Section 2'!$E$13:V$14),0)),\"\",VLOOKUP($A82,'Section 2'!$E$17:$V$216,COLUMNS('Section 2'!$E$13:V$14),0)))","v":""}]
[82,"",{"$f":"IFERROR(VLOOKUP($A83,'Section 2'!$E$17:$V$216,COLUMNS('Section 2'!$E$13:E$14),0),\"\")","v":""},{"$f":"IF($C83=\"\",\"\",IF(ISBLANK(VLOOKUP($A83,'Section 2'!$E$17:$V$216,COLUMNS('Section 2'!$E$13:F$14),0)),\"\",VLOOKUP($A83,'Section 2'!$E$17:$V$216,COLUMNS('Section 2'!$E$13:F$14),0)))","v":""},{"$f":"IF($C83=\"\",\"\",IF(ISBLANK(VLOOKUP($A83,'Section 2'!$E$17:$V$216,COLUMNS('Section 2'!$E$13:G$14),0)),\"\",VLOOKUP($A83,'Section 2'!$E$17:$V$216,COLUMNS('Section 2'!$E$13:G$14),0)))","v":""},{"$f":"IF($C83=\"\",\"\",IF(ISBLANK(VLOOKUP($A83,'Section 2'!$E$17:$V$216,COLUMNS('Section 2'!$E$13:H$14),0)),\"\",VLOOKUP($A83,'Section 2'!$E$17:$V$216,COLUMNS('Section 2'!$E$13:H$14),0)))","v":""},{"$f":"IF($C83=\"\",\"\",IF(ISBLANK(VLOOKUP($A83,'Section 2'!$E$17:$V$216,COLUMNS('Section 2'!$E$13:I$14),0)),\"\",VLOOKUP($A83,'Section 2'!$E$17:$V$216,COLUMNS('Section 2'!$E$13:I$14),0)))","v":""},{"$f":"IF($C83=\"\",\"\",IF(ISBLANK(VLOOKUP($A83,'Section 2'!$E$17:$V$216,COLUMNS('Section 2'!$E$13:J$14),0)),\"\",VLOOKUP($A83,'Section 2'!$E$17:$V$216,COLUMNS('Section 2'!$E$13:J$14),0)))","v":""},{"$f":"IF($C83=\"\",\"\",IF(ISBLANK(VLOOKUP($A83,'Section 2'!$E$17:$V$216,COLUMNS('Section 2'!$E$13:K$14),0)),\"\",VLOOKUP($A83,'Section 2'!$E$17:$V$216,COLUMNS('Section 2'!$E$13:K$14),0)))","v":""},{"$f":"IF($C83=\"\",\"\",IF(ISBLANK(VLOOKUP($A83,'Section 2'!$E$17:$V$216,COLUMNS('Section 2'!$E$13:L$14),0)),\"\",VLOOKUP($A83,'Section 2'!$E$17:$V$216,COLUMNS('Section 2'!$E$13:L$14),0)))","v":""},{"$f":"IF($C83=\"\",\"\",IF(ISBLANK(VLOOKUP($A83,'Section 2'!$E$17:$V$216,COLUMNS('Section 2'!$E$13:M$14),0)),\"\",VLOOKUP($A83,'Section 2'!$E$17:$V$216,COLUMNS('Section 2'!$E$13:M$14),0)))","v":""},{"$f":"IF($C83=\"\",\"\",IF(ISBLANK(VLOOKUP($A83,'Section 2'!$E$17:$V$216,COLUMNS('Section 2'!$E$13:N$14),0)),\"\",VLOOKUP($A83,'Section 2'!$E$17:$V$216,COLUMNS('Section 2'!$E$13:N$14),0)))","v":""},{"$f":"IF($C83=\"\",\"\",IF(ISBLANK(VLOOKUP($A83,'Section 2'!$E$17:$V$216,COLUMNS('Section 2'!$E$13:O$14),0)),\"\",VLOOKUP($A83,'Section 2'!$E$17:$V$216,COLUMNS('Section 2'!$E$13:O$14),0)))","v":""},{"$f":"IF($C83=\"\",\"\",IF(ISBLANK(VLOOKUP($A83,'Section 2'!$E$17:$V$216,COLUMNS('Section 2'!$E$13:P$14),0)),\"\",VLOOKUP($A83,'Section 2'!$E$17:$V$216,COLUMNS('Section 2'!$E$13:P$14),0)))","v":""},{"$f":"IF($C83=\"\",\"\",IF(ISBLANK(VLOOKUP($A83,'Section 2'!$E$17:$V$216,COLUMNS('Section 2'!$E$13:Q$14),0)),\"\",VLOOKUP($A83,'Section 2'!$E$17:$V$216,COLUMNS('Section 2'!$E$13:Q$14),0)))","v":""},{"$f":"IF($C83=\"\",\"\",IF(ISBLANK(VLOOKUP($A83,'Section 2'!$E$17:$V$216,COLUMNS('Section 2'!$E$13:R$14),0)),\"\",VLOOKUP($A83,'Section 2'!$E$17:$V$216,COLUMNS('Section 2'!$E$13:R$14),0)))","v":""},{"$f":"IF($C83=\"\",\"\",IF(ISBLANK(VLOOKUP($A83,'Section 2'!$E$17:$V$216,COLUMNS('Section 2'!$E$13:S$14),0)),\"\",VLOOKUP($A83,'Section 2'!$E$17:$V$216,COLUMNS('Section 2'!$E$13:S$14),0)))","v":""},{"$f":"IF($C83=\"\",\"\",IF(ISBLANK(VLOOKUP($A83,'Section 2'!$E$17:$V$216,COLUMNS('Section 2'!$E$13:T$14),0)),\"\",VLOOKUP($A83,'Section 2'!$E$17:$V$216,COLUMNS('Section 2'!$E$13:T$14),0)))","v":""},{"$f":"IF($C83=\"\",\"\",IF(ISBLANK(VLOOKUP($A83,'Section 2'!$E$17:$V$216,COLUMNS('Section 2'!$E$13:U$14),0)),\"\",VLOOKUP($A83,'Section 2'!$E$17:$V$216,COLUMNS('Section 2'!$E$13:U$14),0)))","v":""},{"$f":"IF($C83=\"\",\"\",IF(ISBLANK(VLOOKUP($A83,'Section 2'!$E$17:$V$216,COLUMNS('Section 2'!$E$13:V$14),0)),\"\",VLOOKUP($A83,'Section 2'!$E$17:$V$216,COLUMNS('Section 2'!$E$13:V$14),0)))","v":""}]
[83,"",{"$f":"IFERROR(VLOOKUP($A84,'Section 2'!$E$17:$V$216,COLUMNS('Section 2'!$E$13:E$14),0),\"\")","v":""},{"$f":"IF($C84=\"\",\"\",IF(ISBLANK(VLOOKUP($A84,'Section 2'!$E$17:$V$216,COLUMNS('Section 2'!$E$13:F$14),0)),\"\",VLOOKUP($A84,'Section 2'!$E$17:$V$216,COLUMNS('Section 2'!$E$13:F$14),0)))","v":""},{"$f":"IF($C84=\"\",\"\",IF(ISBLANK(VLOOKUP($A84,'Section 2'!$E$17:$V$216,COLUMNS('Section 2'!$E$13:G$14),0)),\"\",VLOOKUP($A84,'Section 2'!$E$17:$V$216,COLUMNS('Section 2'!$E$13:G$14),0)))","v":""},{"$f":"IF($C84=\"\",\"\",IF(ISBLANK(VLOOKUP($A84,'Section 2'!$E$17:$V$216,COLUMNS('Section 2'!$E$13:H$14),0)),\"\",VLOOKUP($A84,'Section 2'!$E$17:$V$216,COLUMNS('Section 2'!$E$13:H$14),0)))","v":""},{"$f":"IF($C84=\"\",\"\",IF(ISBLANK(VLOOKUP($A84,'Section 2'!$E$17:$V$216,COLUMNS('Section 2'!$E$13:I$14),0)),\"\",VLOOKUP($A84,'Section 2'!$E$17:$V$216,COLUMNS('Section 2'!$E$13:I$14),0)))","v":""},{"$f":"IF($C84=\"\",\"\",IF(ISBLANK(VLOOKUP($A84,'Section 2'!$E$17:$V$216,COLUMNS('Section 2'!$E$13:J$14),0)),\"\",VLOOKUP($A84,'Section 2'!$E$17:$V$216,COLUMNS('Section 2'!$E$13:J$14),0)))","v":""},{"$f":"IF($C84=\"\",\"\",IF(ISBLANK(VLOOKUP($A84,'Section 2'!$E$17:$V$216,COLUMNS('Section 2'!$E$13:K$14),0)),\"\",VLOOKUP($A84,'Section 2'!$E$17:$V$216,COLUMNS('Section 2'!$E$13:K$14),0)))","v":""},{"$f":"IF($C84=\"\",\"\",IF(ISBLANK(VLOOKUP($A84,'Section 2'!$E$17:$V$216,COLUMNS('Section 2'!$E$13:L$14),0)),\"\",VLOOKUP($A84,'Section 2'!$E$17:$V$216,COLUMNS('Section 2'!$E$13:L$14),0)))","v":""},{"$f":"IF($C84=\"\",\"\",IF(ISBLANK(VLOOKUP($A84,'Section 2'!$E$17:$V$216,COLUMNS('Section 2'!$E$13:M$14),0)),\"\",VLOOKUP($A84,'Section 2'!$E$17:$V$216,COLUMNS('Section 2'!$E$13:M$14),0)))","v":""},{"$f":"IF($C84=\"\",\"\",IF(ISBLANK(VLOOKUP($A84,'Section 2'!$E$17:$V$216,COLUMNS('Section 2'!$E$13:N$14),0)),\"\",VLOOKUP($A84,'Section 2'!$E$17:$V$216,COLUMNS('Section 2'!$E$13:N$14),0)))","v":""},{"$f":"IF($C84=\"\",\"\",IF(ISBLANK(VLOOKUP($A84,'Section 2'!$E$17:$V$216,COLUMNS('Section 2'!$E$13:O$14),0)),\"\",VLOOKUP($A84,'Section 2'!$E$17:$V$216,COLUMNS('Section 2'!$E$13:O$14),0)))","v":""},{"$f":"IF($C84=\"\",\"\",IF(ISBLANK(VLOOKUP($A84,'Section 2'!$E$17:$V$216,COLUMNS('Section 2'!$E$13:P$14),0)),\"\",VLOOKUP($A84,'Section 2'!$E$17:$V$216,COLUMNS('Section 2'!$E$13:P$14),0)))","v":""},{"$f":"IF($C84=\"\",\"\",IF(ISBLANK(VLOOKUP($A84,'Section 2'!$E$17:$V$216,COLUMNS('Section 2'!$E$13:Q$14),0)),\"\",VLOOKUP($A84,'Section 2'!$E$17:$V$216,COLUMNS('Section 2'!$E$13:Q$14),0)))","v":""},{"$f":"IF($C84=\"\",\"\",IF(ISBLANK(VLOOKUP($A84,'Section 2'!$E$17:$V$216,COLUMNS('Section 2'!$E$13:R$14),0)),\"\",VLOOKUP($A84,'Section 2'!$E$17:$V$216,COLUMNS('Section 2'!$E$13:R$14),0)))","v":""},{"$f":"IF($C84=\"\",\"\",IF(ISBLANK(VLOOKUP($A84,'Section 2'!$E$17:$V$216,COLUMNS('Section 2'!$E$13:S$14),0)),\"\",VLOOKUP($A84,'Section 2'!$E$17:$V$216,COLUMNS('Section 2'!$E$13:S$14),0)))","v":""},{"$f":"IF($C84=\"\",\"\",IF(ISBLANK(VLOOKUP($A84,'Section 2'!$E$17:$V$216,COLUMNS('Section 2'!$E$13:T$14),0)),\"\",VLOOKUP($A84,'Section 2'!$E$17:$V$216,COLUMNS('Section 2'!$E$13:T$14),0)))","v":""},{"$f":"IF($C84=\"\",\"\",IF(ISBLANK(VLOOKUP($A84,'Section 2'!$E$17:$V$216,COLUMNS('Section 2'!$E$13:U$14),0)),\"\",VLOOKUP($A84,'Section 2'!$E$17:$V$216,COLUMNS('Section 2'!$E$13:U$14),0)))","v":""},{"$f":"IF($C84=\"\",\"\",IF(ISBLANK(VLOOKUP($A84,'Section 2'!$E$17:$V$216,COLUMNS('Section 2'!$E$13:V$14),0)),\"\",VLOOKUP($A84,'Section 2'!$E$17:$V$216,COLUMNS('Section 2'!$E$13:V$14),0)))","v":""}]
[84,"",{"$f":"IFERROR(VLOOKUP($A85,'Section 2'!$E$17:$V$216,COLUMNS('Section 2'!$E$13:E$14),0),\"\")","v":""},{"$f":"IF($C85=\"\",\"\",IF(ISBLANK(VLOOKUP($A85,'Section 2'!$E$17:$V$216,COLUMNS('Section 2'!$E$13:F$14),0)),\"\",VLOOKUP($A85,'Section 2'!$E$17:$V$216,COLUMNS('Section 2'!$E$13:F$14),0)))","v":""},{"$f":"IF($C85=\"\",\"\",IF(ISBLANK(VLOOKUP($A85,'Section 2'!$E$17:$V$216,COLUMNS('Section 2'!$E$13:G$14),0)),\"\",VLOOKUP($A85,'Section 2'!$E$17:$V$216,COLUMNS('Section 2'!$E$13:G$14),0)))","v":""},{"$f":"IF($C85=\"\",\"\",IF(ISBLANK(VLOOKUP($A85,'Section 2'!$E$17:$V$216,COLUMNS('Section 2'!$E$13:H$14),0)),\"\",VLOOKUP($A85,'Section 2'!$E$17:$V$216,COLUMNS('Section 2'!$E$13:H$14),0)))","v":""},{"$f":"IF($C85=\"\",\"\",IF(ISBLANK(VLOOKUP($A85,'Section 2'!$E$17:$V$216,COLUMNS('Section 2'!$E$13:I$14),0)),\"\",VLOOKUP($A85,'Section 2'!$E$17:$V$216,COLUMNS('Section 2'!$E$13:I$14),0)))","v":""},{"$f":"IF($C85=\"\",\"\",IF(ISBLANK(VLOOKUP($A85,'Section 2'!$E$17:$V$216,COLUMNS('Section 2'!$E$13:J$14),0)),\"\",VLOOKUP($A85,'Section 2'!$E$17:$V$216,COLUMNS('Section 2'!$E$13:J$14),0)))","v":""},{"$f":"IF($C85=\"\",\"\",IF(ISBLANK(VLOOKUP($A85,'Section 2'!$E$17:$V$216,COLUMNS('Section 2'!$E$13:K$14),0)),\"\",VLOOKUP($A85,'Section 2'!$E$17:$V$216,COLUMNS('Section 2'!$E$13:K$14),0)))","v":""},{"$f":"IF($C85=\"\",\"\",IF(ISBLANK(VLOOKUP($A85,'Section 2'!$E$17:$V$216,COLUMNS('Section 2'!$E$13:L$14),0)),\"\",VLOOKUP($A85,'Section 2'!$E$17:$V$216,COLUMNS('Section 2'!$E$13:L$14),0)))","v":""},{"$f":"IF($C85=\"\",\"\",IF(ISBLANK(VLOOKUP($A85,'Section 2'!$E$17:$V$216,COLUMNS('Section 2'!$E$13:M$14),0)),\"\",VLOOKUP($A85,'Section 2'!$E$17:$V$216,COLUMNS('Section 2'!$E$13:M$14),0)))","v":""},{"$f":"IF($C85=\"\",\"\",IF(ISBLANK(VLOOKUP($A85,'Section 2'!$E$17:$V$216,COLUMNS('Section 2'!$E$13:N$14),0)),\"\",VLOOKUP($A85,'Section 2'!$E$17:$V$216,COLUMNS('Section 2'!$E$13:N$14),0)))","v":""},{"$f":"IF($C85=\"\",\"\",IF(ISBLANK(VLOOKUP($A85,'Section 2'!$E$17:$V$216,COLUMNS('Section 2'!$E$13:O$14),0)),\"\",VLOOKUP($A85,'Section 2'!$E$17:$V$216,COLUMNS('Section 2'!$E$13:O$14),0)))","v":""},{"$f":"IF($C85=\"\",\"\",IF(ISBLANK(VLOOKUP($A85,'Section 2'!$E$17:$V$216,COLUMNS('Section 2'!$E$13:P$14),0)),\"\",VLOOKUP($A85,'Section 2'!$E$17:$V$216,COLUMNS('Section 2'!$E$13:P$14),0)))","v":""},{"$f":"IF($C85=\"\",\"\",IF(ISBLANK(VLOOKUP($A85,'Section 2'!$E$17:$V$216,COLUMNS('Section 2'!$E$13:Q$14),0)),\"\",VLOOKUP($A85,'Section 2'!$E$17:$V$216,COLUMNS('Section 2'!$E$13:Q$14),0)))","v":""},{"$f":"IF($C85=\"\",\"\",IF(ISBLANK(VLOOKUP($A85,'Section 2'!$E$17:$V$216,COLUMNS('Section 2'!$E$13:R$14),0)),\"\",VLOOKUP($A85,'Section 2'!$E$17:$V$216,COLUMNS('Section 2'!$E$13:R$14),0)))","v":""},{"$f":"IF($C85=\"\",\"\",IF(ISBLANK(VLOOKUP($A85,'Section 2'!$E$17:$V$216,COLUMNS('Section 2'!$E$13:S$14),0)),\"\",VLOOKUP($A85,'Section 2'!$E$17:$V$216,COLUMNS('Section 2'!$E$13:S$14),0)))","v":""},{"$f":"IF($C85=\"\",\"\",IF(ISBLANK(VLOOKUP($A85,'Section 2'!$E$17:$V$216,COLUMNS('Section 2'!$E$13:T$14),0)),\"\",VLOOKUP($A85,'Section 2'!$E$17:$V$216,COLUMNS('Section 2'!$E$13:T$14),0)))","v":""},{"$f":"IF($C85=\"\",\"\",IF(ISBLANK(VLOOKUP($A85,'Section 2'!$E$17:$V$216,COLUMNS('Section 2'!$E$13:U$14),0)),\"\",VLOOKUP($A85,'Section 2'!$E$17:$V$216,COLUMNS('Section 2'!$E$13:U$14),0)))","v":""},{"$f":"IF($C85=\"\",\"\",IF(ISBLANK(VLOOKUP($A85,'Section 2'!$E$17:$V$216,COLUMNS('Section 2'!$E$13:V$14),0)),\"\",VLOOKUP($A85,'Section 2'!$E$17:$V$216,COLUMNS('Section 2'!$E$13:V$14),0)))","v":""}]
[85,"",{"$f":"IFERROR(VLOOKUP($A86,'Section 2'!$E$17:$V$216,COLUMNS('Section 2'!$E$13:E$14),0),\"\")","v":""},{"$f":"IF($C86=\"\",\"\",IF(ISBLANK(VLOOKUP($A86,'Section 2'!$E$17:$V$216,COLUMNS('Section 2'!$E$13:F$14),0)),\"\",VLOOKUP($A86,'Section 2'!$E$17:$V$216,COLUMNS('Section 2'!$E$13:F$14),0)))","v":""},{"$f":"IF($C86=\"\",\"\",IF(ISBLANK(VLOOKUP($A86,'Section 2'!$E$17:$V$216,COLUMNS('Section 2'!$E$13:G$14),0)),\"\",VLOOKUP($A86,'Section 2'!$E$17:$V$216,COLUMNS('Section 2'!$E$13:G$14),0)))","v":""},{"$f":"IF($C86=\"\",\"\",IF(ISBLANK(VLOOKUP($A86,'Section 2'!$E$17:$V$216,COLUMNS('Section 2'!$E$13:H$14),0)),\"\",VLOOKUP($A86,'Section 2'!$E$17:$V$216,COLUMNS('Section 2'!$E$13:H$14),0)))","v":""},{"$f":"IF($C86=\"\",\"\",IF(ISBLANK(VLOOKUP($A86,'Section 2'!$E$17:$V$216,COLUMNS('Section 2'!$E$13:I$14),0)),\"\",VLOOKUP($A86,'Section 2'!$E$17:$V$216,COLUMNS('Section 2'!$E$13:I$14),0)))","v":""},{"$f":"IF($C86=\"\",\"\",IF(ISBLANK(VLOOKUP($A86,'Section 2'!$E$17:$V$216,COLUMNS('Section 2'!$E$13:J$14),0)),\"\",VLOOKUP($A86,'Section 2'!$E$17:$V$216,COLUMNS('Section 2'!$E$13:J$14),0)))","v":""},{"$f":"IF($C86=\"\",\"\",IF(ISBLANK(VLOOKUP($A86,'Section 2'!$E$17:$V$216,COLUMNS('Section 2'!$E$13:K$14),0)),\"\",VLOOKUP($A86,'Section 2'!$E$17:$V$216,COLUMNS('Section 2'!$E$13:K$14),0)))","v":""},{"$f":"IF($C86=\"\",\"\",IF(ISBLANK(VLOOKUP($A86,'Section 2'!$E$17:$V$216,COLUMNS('Section 2'!$E$13:L$14),0)),\"\",VLOOKUP($A86,'Section 2'!$E$17:$V$216,COLUMNS('Section 2'!$E$13:L$14),0)))","v":""},{"$f":"IF($C86=\"\",\"\",IF(ISBLANK(VLOOKUP($A86,'Section 2'!$E$17:$V$216,COLUMNS('Section 2'!$E$13:M$14),0)),\"\",VLOOKUP($A86,'Section 2'!$E$17:$V$216,COLUMNS('Section 2'!$E$13:M$14),0)))","v":""},{"$f":"IF($C86=\"\",\"\",IF(ISBLANK(VLOOKUP($A86,'Section 2'!$E$17:$V$216,COLUMNS('Section 2'!$E$13:N$14),0)),\"\",VLOOKUP($A86,'Section 2'!$E$17:$V$216,COLUMNS('Section 2'!$E$13:N$14),0)))","v":""},{"$f":"IF($C86=\"\",\"\",IF(ISBLANK(VLOOKUP($A86,'Section 2'!$E$17:$V$216,COLUMNS('Section 2'!$E$13:O$14),0)),\"\",VLOOKUP($A86,'Section 2'!$E$17:$V$216,COLUMNS('Section 2'!$E$13:O$14),0)))","v":""},{"$f":"IF($C86=\"\",\"\",IF(ISBLANK(VLOOKUP($A86,'Section 2'!$E$17:$V$216,COLUMNS('Section 2'!$E$13:P$14),0)),\"\",VLOOKUP($A86,'Section 2'!$E$17:$V$216,COLUMNS('Section 2'!$E$13:P$14),0)))","v":""},{"$f":"IF($C86=\"\",\"\",IF(ISBLANK(VLOOKUP($A86,'Section 2'!$E$17:$V$216,COLUMNS('Section 2'!$E$13:Q$14),0)),\"\",VLOOKUP($A86,'Section 2'!$E$17:$V$216,COLUMNS('Section 2'!$E$13:Q$14),0)))","v":""},{"$f":"IF($C86=\"\",\"\",IF(ISBLANK(VLOOKUP($A86,'Section 2'!$E$17:$V$216,COLUMNS('Section 2'!$E$13:R$14),0)),\"\",VLOOKUP($A86,'Section 2'!$E$17:$V$216,COLUMNS('Section 2'!$E$13:R$14),0)))","v":""},{"$f":"IF($C86=\"\",\"\",IF(ISBLANK(VLOOKUP($A86,'Section 2'!$E$17:$V$216,COLUMNS('Section 2'!$E$13:S$14),0)),\"\",VLOOKUP($A86,'Section 2'!$E$17:$V$216,COLUMNS('Section 2'!$E$13:S$14),0)))","v":""},{"$f":"IF($C86=\"\",\"\",IF(ISBLANK(VLOOKUP($A86,'Section 2'!$E$17:$V$216,COLUMNS('Section 2'!$E$13:T$14),0)),\"\",VLOOKUP($A86,'Section 2'!$E$17:$V$216,COLUMNS('Section 2'!$E$13:T$14),0)))","v":""},{"$f":"IF($C86=\"\",\"\",IF(ISBLANK(VLOOKUP($A86,'Section 2'!$E$17:$V$216,COLUMNS('Section 2'!$E$13:U$14),0)),\"\",VLOOKUP($A86,'Section 2'!$E$17:$V$216,COLUMNS('Section 2'!$E$13:U$14),0)))","v":""},{"$f":"IF($C86=\"\",\"\",IF(ISBLANK(VLOOKUP($A86,'Section 2'!$E$17:$V$216,COLUMNS('Section 2'!$E$13:V$14),0)),\"\",VLOOKUP($A86,'Section 2'!$E$17:$V$216,COLUMNS('Section 2'!$E$13:V$14),0)))","v":""}]
[86,"",{"$f":"IFERROR(VLOOKUP($A87,'Section 2'!$E$17:$V$216,COLUMNS('Section 2'!$E$13:E$14),0),\"\")","v":""},{"$f":"IF($C87=\"\",\"\",IF(ISBLANK(VLOOKUP($A87,'Section 2'!$E$17:$V$216,COLUMNS('Section 2'!$E$13:F$14),0)),\"\",VLOOKUP($A87,'Section 2'!$E$17:$V$216,COLUMNS('Section 2'!$E$13:F$14),0)))","v":""},{"$f":"IF($C87=\"\",\"\",IF(ISBLANK(VLOOKUP($A87,'Section 2'!$E$17:$V$216,COLUMNS('Section 2'!$E$13:G$14),0)),\"\",VLOOKUP($A87,'Section 2'!$E$17:$V$216,COLUMNS('Section 2'!$E$13:G$14),0)))","v":""},{"$f":"IF($C87=\"\",\"\",IF(ISBLANK(VLOOKUP($A87,'Section 2'!$E$17:$V$216,COLUMNS('Section 2'!$E$13:H$14),0)),\"\",VLOOKUP($A87,'Section 2'!$E$17:$V$216,COLUMNS('Section 2'!$E$13:H$14),0)))","v":""},{"$f":"IF($C87=\"\",\"\",IF(ISBLANK(VLOOKUP($A87,'Section 2'!$E$17:$V$216,COLUMNS('Section 2'!$E$13:I$14),0)),\"\",VLOOKUP($A87,'Section 2'!$E$17:$V$216,COLUMNS('Section 2'!$E$13:I$14),0)))","v":""},{"$f":"IF($C87=\"\",\"\",IF(ISBLANK(VLOOKUP($A87,'Section 2'!$E$17:$V$216,COLUMNS('Section 2'!$E$13:J$14),0)),\"\",VLOOKUP($A87,'Section 2'!$E$17:$V$216,COLUMNS('Section 2'!$E$13:J$14),0)))","v":""},{"$f":"IF($C87=\"\",\"\",IF(ISBLANK(VLOOKUP($A87,'Section 2'!$E$17:$V$216,COLUMNS('Section 2'!$E$13:K$14),0)),\"\",VLOOKUP($A87,'Section 2'!$E$17:$V$216,COLUMNS('Section 2'!$E$13:K$14),0)))","v":""},{"$f":"IF($C87=\"\",\"\",IF(ISBLANK(VLOOKUP($A87,'Section 2'!$E$17:$V$216,COLUMNS('Section 2'!$E$13:L$14),0)),\"\",VLOOKUP($A87,'Section 2'!$E$17:$V$216,COLUMNS('Section 2'!$E$13:L$14),0)))","v":""},{"$f":"IF($C87=\"\",\"\",IF(ISBLANK(VLOOKUP($A87,'Section 2'!$E$17:$V$216,COLUMNS('Section 2'!$E$13:M$14),0)),\"\",VLOOKUP($A87,'Section 2'!$E$17:$V$216,COLUMNS('Section 2'!$E$13:M$14),0)))","v":""},{"$f":"IF($C87=\"\",\"\",IF(ISBLANK(VLOOKUP($A87,'Section 2'!$E$17:$V$216,COLUMNS('Section 2'!$E$13:N$14),0)),\"\",VLOOKUP($A87,'Section 2'!$E$17:$V$216,COLUMNS('Section 2'!$E$13:N$14),0)))","v":""},{"$f":"IF($C87=\"\",\"\",IF(ISBLANK(VLOOKUP($A87,'Section 2'!$E$17:$V$216,COLUMNS('Section 2'!$E$13:O$14),0)),\"\",VLOOKUP($A87,'Section 2'!$E$17:$V$216,COLUMNS('Section 2'!$E$13:O$14),0)))","v":""},{"$f":"IF($C87=\"\",\"\",IF(ISBLANK(VLOOKUP($A87,'Section 2'!$E$17:$V$216,COLUMNS('Section 2'!$E$13:P$14),0)),\"\",VLOOKUP($A87,'Section 2'!$E$17:$V$216,COLUMNS('Section 2'!$E$13:P$14),0)))","v":""},{"$f":"IF($C87=\"\",\"\",IF(ISBLANK(VLOOKUP($A87,'Section 2'!$E$17:$V$216,COLUMNS('Section 2'!$E$13:Q$14),0)),\"\",VLOOKUP($A87,'Section 2'!$E$17:$V$216,COLUMNS('Section 2'!$E$13:Q$14),0)))","v":""},{"$f":"IF($C87=\"\",\"\",IF(ISBLANK(VLOOKUP($A87,'Section 2'!$E$17:$V$216,COLUMNS('Section 2'!$E$13:R$14),0)),\"\",VLOOKUP($A87,'Section 2'!$E$17:$V$216,COLUMNS('Section 2'!$E$13:R$14),0)))","v":""},{"$f":"IF($C87=\"\",\"\",IF(ISBLANK(VLOOKUP($A87,'Section 2'!$E$17:$V$216,COLUMNS('Section 2'!$E$13:S$14),0)),\"\",VLOOKUP($A87,'Section 2'!$E$17:$V$216,COLUMNS('Section 2'!$E$13:S$14),0)))","v":""},{"$f":"IF($C87=\"\",\"\",IF(ISBLANK(VLOOKUP($A87,'Section 2'!$E$17:$V$216,COLUMNS('Section 2'!$E$13:T$14),0)),\"\",VLOOKUP($A87,'Section 2'!$E$17:$V$216,COLUMNS('Section 2'!$E$13:T$14),0)))","v":""},{"$f":"IF($C87=\"\",\"\",IF(ISBLANK(VLOOKUP($A87,'Section 2'!$E$17:$V$216,COLUMNS('Section 2'!$E$13:U$14),0)),\"\",VLOOKUP($A87,'Section 2'!$E$17:$V$216,COLUMNS('Section 2'!$E$13:U$14),0)))","v":""},{"$f":"IF($C87=\"\",\"\",IF(ISBLANK(VLOOKUP($A87,'Section 2'!$E$17:$V$216,COLUMNS('Section 2'!$E$13:V$14),0)),\"\",VLOOKUP($A87,'Section 2'!$E$17:$V$216,COLUMNS('Section 2'!$E$13:V$14),0)))","v":""}]
[87,"",{"$f":"IFERROR(VLOOKUP($A88,'Section 2'!$E$17:$V$216,COLUMNS('Section 2'!$E$13:E$14),0),\"\")","v":""},{"$f":"IF($C88=\"\",\"\",IF(ISBLANK(VLOOKUP($A88,'Section 2'!$E$17:$V$216,COLUMNS('Section 2'!$E$13:F$14),0)),\"\",VLOOKUP($A88,'Section 2'!$E$17:$V$216,COLUMNS('Section 2'!$E$13:F$14),0)))","v":""},{"$f":"IF($C88=\"\",\"\",IF(ISBLANK(VLOOKUP($A88,'Section 2'!$E$17:$V$216,COLUMNS('Section 2'!$E$13:G$14),0)),\"\",VLOOKUP($A88,'Section 2'!$E$17:$V$216,COLUMNS('Section 2'!$E$13:G$14),0)))","v":""},{"$f":"IF($C88=\"\",\"\",IF(ISBLANK(VLOOKUP($A88,'Section 2'!$E$17:$V$216,COLUMNS('Section 2'!$E$13:H$14),0)),\"\",VLOOKUP($A88,'Section 2'!$E$17:$V$216,COLUMNS('Section 2'!$E$13:H$14),0)))","v":""},{"$f":"IF($C88=\"\",\"\",IF(ISBLANK(VLOOKUP($A88,'Section 2'!$E$17:$V$216,COLUMNS('Section 2'!$E$13:I$14),0)),\"\",VLOOKUP($A88,'Section 2'!$E$17:$V$216,COLUMNS('Section 2'!$E$13:I$14),0)))","v":""},{"$f":"IF($C88=\"\",\"\",IF(ISBLANK(VLOOKUP($A88,'Section 2'!$E$17:$V$216,COLUMNS('Section 2'!$E$13:J$14),0)),\"\",VLOOKUP($A88,'Section 2'!$E$17:$V$216,COLUMNS('Section 2'!$E$13:J$14),0)))","v":""},{"$f":"IF($C88=\"\",\"\",IF(ISBLANK(VLOOKUP($A88,'Section 2'!$E$17:$V$216,COLUMNS('Section 2'!$E$13:K$14),0)),\"\",VLOOKUP($A88,'Section 2'!$E$17:$V$216,COLUMNS('Section 2'!$E$13:K$14),0)))","v":""},{"$f":"IF($C88=\"\",\"\",IF(ISBLANK(VLOOKUP($A88,'Section 2'!$E$17:$V$216,COLUMNS('Section 2'!$E$13:L$14),0)),\"\",VLOOKUP($A88,'Section 2'!$E$17:$V$216,COLUMNS('Section 2'!$E$13:L$14),0)))","v":""},{"$f":"IF($C88=\"\",\"\",IF(ISBLANK(VLOOKUP($A88,'Section 2'!$E$17:$V$216,COLUMNS('Section 2'!$E$13:M$14),0)),\"\",VLOOKUP($A88,'Section 2'!$E$17:$V$216,COLUMNS('Section 2'!$E$13:M$14),0)))","v":""},{"$f":"IF($C88=\"\",\"\",IF(ISBLANK(VLOOKUP($A88,'Section 2'!$E$17:$V$216,COLUMNS('Section 2'!$E$13:N$14),0)),\"\",VLOOKUP($A88,'Section 2'!$E$17:$V$216,COLUMNS('Section 2'!$E$13:N$14),0)))","v":""},{"$f":"IF($C88=\"\",\"\",IF(ISBLANK(VLOOKUP($A88,'Section 2'!$E$17:$V$216,COLUMNS('Section 2'!$E$13:O$14),0)),\"\",VLOOKUP($A88,'Section 2'!$E$17:$V$216,COLUMNS('Section 2'!$E$13:O$14),0)))","v":""},{"$f":"IF($C88=\"\",\"\",IF(ISBLANK(VLOOKUP($A88,'Section 2'!$E$17:$V$216,COLUMNS('Section 2'!$E$13:P$14),0)),\"\",VLOOKUP($A88,'Section 2'!$E$17:$V$216,COLUMNS('Section 2'!$E$13:P$14),0)))","v":""},{"$f":"IF($C88=\"\",\"\",IF(ISBLANK(VLOOKUP($A88,'Section 2'!$E$17:$V$216,COLUMNS('Section 2'!$E$13:Q$14),0)),\"\",VLOOKUP($A88,'Section 2'!$E$17:$V$216,COLUMNS('Section 2'!$E$13:Q$14),0)))","v":""},{"$f":"IF($C88=\"\",\"\",IF(ISBLANK(VLOOKUP($A88,'Section 2'!$E$17:$V$216,COLUMNS('Section 2'!$E$13:R$14),0)),\"\",VLOOKUP($A88,'Section 2'!$E$17:$V$216,COLUMNS('Section 2'!$E$13:R$14),0)))","v":""},{"$f":"IF($C88=\"\",\"\",IF(ISBLANK(VLOOKUP($A88,'Section 2'!$E$17:$V$216,COLUMNS('Section 2'!$E$13:S$14),0)),\"\",VLOOKUP($A88,'Section 2'!$E$17:$V$216,COLUMNS('Section 2'!$E$13:S$14),0)))","v":""},{"$f":"IF($C88=\"\",\"\",IF(ISBLANK(VLOOKUP($A88,'Section 2'!$E$17:$V$216,COLUMNS('Section 2'!$E$13:T$14),0)),\"\",VLOOKUP($A88,'Section 2'!$E$17:$V$216,COLUMNS('Section 2'!$E$13:T$14),0)))","v":""},{"$f":"IF($C88=\"\",\"\",IF(ISBLANK(VLOOKUP($A88,'Section 2'!$E$17:$V$216,COLUMNS('Section 2'!$E$13:U$14),0)),\"\",VLOOKUP($A88,'Section 2'!$E$17:$V$216,COLUMNS('Section 2'!$E$13:U$14),0)))","v":""},{"$f":"IF($C88=\"\",\"\",IF(ISBLANK(VLOOKUP($A88,'Section 2'!$E$17:$V$216,COLUMNS('Section 2'!$E$13:V$14),0)),\"\",VLOOKUP($A88,'Section 2'!$E$17:$V$216,COLUMNS('Section 2'!$E$13:V$14),0)))","v":""}]
[88,"",{"$f":"IFERROR(VLOOKUP($A89,'Section 2'!$E$17:$V$216,COLUMNS('Section 2'!$E$13:E$14),0),\"\")","v":""},{"$f":"IF($C89=\"\",\"\",IF(ISBLANK(VLOOKUP($A89,'Section 2'!$E$17:$V$216,COLUMNS('Section 2'!$E$13:F$14),0)),\"\",VLOOKUP($A89,'Section 2'!$E$17:$V$216,COLUMNS('Section 2'!$E$13:F$14),0)))","v":""},{"$f":"IF($C89=\"\",\"\",IF(ISBLANK(VLOOKUP($A89,'Section 2'!$E$17:$V$216,COLUMNS('Section 2'!$E$13:G$14),0)),\"\",VLOOKUP($A89,'Section 2'!$E$17:$V$216,COLUMNS('Section 2'!$E$13:G$14),0)))","v":""},{"$f":"IF($C89=\"\",\"\",IF(ISBLANK(VLOOKUP($A89,'Section 2'!$E$17:$V$216,COLUMNS('Section 2'!$E$13:H$14),0)),\"\",VLOOKUP($A89,'Section 2'!$E$17:$V$216,COLUMNS('Section 2'!$E$13:H$14),0)))","v":""},{"$f":"IF($C89=\"\",\"\",IF(ISBLANK(VLOOKUP($A89,'Section 2'!$E$17:$V$216,COLUMNS('Section 2'!$E$13:I$14),0)),\"\",VLOOKUP($A89,'Section 2'!$E$17:$V$216,COLUMNS('Section 2'!$E$13:I$14),0)))","v":""},{"$f":"IF($C89=\"\",\"\",IF(ISBLANK(VLOOKUP($A89,'Section 2'!$E$17:$V$216,COLUMNS('Section 2'!$E$13:J$14),0)),\"\",VLOOKUP($A89,'Section 2'!$E$17:$V$216,COLUMNS('Section 2'!$E$13:J$14),0)))","v":""},{"$f":"IF($C89=\"\",\"\",IF(ISBLANK(VLOOKUP($A89,'Section 2'!$E$17:$V$216,COLUMNS('Section 2'!$E$13:K$14),0)),\"\",VLOOKUP($A89,'Section 2'!$E$17:$V$216,COLUMNS('Section 2'!$E$13:K$14),0)))","v":""},{"$f":"IF($C89=\"\",\"\",IF(ISBLANK(VLOOKUP($A89,'Section 2'!$E$17:$V$216,COLUMNS('Section 2'!$E$13:L$14),0)),\"\",VLOOKUP($A89,'Section 2'!$E$17:$V$216,COLUMNS('Section 2'!$E$13:L$14),0)))","v":""},{"$f":"IF($C89=\"\",\"\",IF(ISBLANK(VLOOKUP($A89,'Section 2'!$E$17:$V$216,COLUMNS('Section 2'!$E$13:M$14),0)),\"\",VLOOKUP($A89,'Section 2'!$E$17:$V$216,COLUMNS('Section 2'!$E$13:M$14),0)))","v":""},{"$f":"IF($C89=\"\",\"\",IF(ISBLANK(VLOOKUP($A89,'Section 2'!$E$17:$V$216,COLUMNS('Section 2'!$E$13:N$14),0)),\"\",VLOOKUP($A89,'Section 2'!$E$17:$V$216,COLUMNS('Section 2'!$E$13:N$14),0)))","v":""},{"$f":"IF($C89=\"\",\"\",IF(ISBLANK(VLOOKUP($A89,'Section 2'!$E$17:$V$216,COLUMNS('Section 2'!$E$13:O$14),0)),\"\",VLOOKUP($A89,'Section 2'!$E$17:$V$216,COLUMNS('Section 2'!$E$13:O$14),0)))","v":""},{"$f":"IF($C89=\"\",\"\",IF(ISBLANK(VLOOKUP($A89,'Section 2'!$E$17:$V$216,COLUMNS('Section 2'!$E$13:P$14),0)),\"\",VLOOKUP($A89,'Section 2'!$E$17:$V$216,COLUMNS('Section 2'!$E$13:P$14),0)))","v":""},{"$f":"IF($C89=\"\",\"\",IF(ISBLANK(VLOOKUP($A89,'Section 2'!$E$17:$V$216,COLUMNS('Section 2'!$E$13:Q$14),0)),\"\",VLOOKUP($A89,'Section 2'!$E$17:$V$216,COLUMNS('Section 2'!$E$13:Q$14),0)))","v":""},{"$f":"IF($C89=\"\",\"\",IF(ISBLANK(VLOOKUP($A89,'Section 2'!$E$17:$V$216,COLUMNS('Section 2'!$E$13:R$14),0)),\"\",VLOOKUP($A89,'Section 2'!$E$17:$V$216,COLUMNS('Section 2'!$E$13:R$14),0)))","v":""},{"$f":"IF($C89=\"\",\"\",IF(ISBLANK(VLOOKUP($A89,'Section 2'!$E$17:$V$216,COLUMNS('Section 2'!$E$13:S$14),0)),\"\",VLOOKUP($A89,'Section 2'!$E$17:$V$216,COLUMNS('Section 2'!$E$13:S$14),0)))","v":""},{"$f":"IF($C89=\"\",\"\",IF(ISBLANK(VLOOKUP($A89,'Section 2'!$E$17:$V$216,COLUMNS('Section 2'!$E$13:T$14),0)),\"\",VLOOKUP($A89,'Section 2'!$E$17:$V$216,COLUMNS('Section 2'!$E$13:T$14),0)))","v":""},{"$f":"IF($C89=\"\",\"\",IF(ISBLANK(VLOOKUP($A89,'Section 2'!$E$17:$V$216,COLUMNS('Section 2'!$E$13:U$14),0)),\"\",VLOOKUP($A89,'Section 2'!$E$17:$V$216,COLUMNS('Section 2'!$E$13:U$14),0)))","v":""},{"$f":"IF($C89=\"\",\"\",IF(ISBLANK(VLOOKUP($A89,'Section 2'!$E$17:$V$216,COLUMNS('Section 2'!$E$13:V$14),0)),\"\",VLOOKUP($A89,'Section 2'!$E$17:$V$216,COLUMNS('Section 2'!$E$13:V$14),0)))","v":""}]
[89,"",{"$f":"IFERROR(VLOOKUP($A90,'Section 2'!$E$17:$V$216,COLUMNS('Section 2'!$E$13:E$14),0),\"\")","v":""},{"$f":"IF($C90=\"\",\"\",IF(ISBLANK(VLOOKUP($A90,'Section 2'!$E$17:$V$216,COLUMNS('Section 2'!$E$13:F$14),0)),\"\",VLOOKUP($A90,'Section 2'!$E$17:$V$216,COLUMNS('Section 2'!$E$13:F$14),0)))","v":""},{"$f":"IF($C90=\"\",\"\",IF(ISBLANK(VLOOKUP($A90,'Section 2'!$E$17:$V$216,COLUMNS('Section 2'!$E$13:G$14),0)),\"\",VLOOKUP($A90,'Section 2'!$E$17:$V$216,COLUMNS('Section 2'!$E$13:G$14),0)))","v":""},{"$f":"IF($C90=\"\",\"\",IF(ISBLANK(VLOOKUP($A90,'Section 2'!$E$17:$V$216,COLUMNS('Section 2'!$E$13:H$14),0)),\"\",VLOOKUP($A90,'Section 2'!$E$17:$V$216,COLUMNS('Section 2'!$E$13:H$14),0)))","v":""},{"$f":"IF($C90=\"\",\"\",IF(ISBLANK(VLOOKUP($A90,'Section 2'!$E$17:$V$216,COLUMNS('Section 2'!$E$13:I$14),0)),\"\",VLOOKUP($A90,'Section 2'!$E$17:$V$216,COLUMNS('Section 2'!$E$13:I$14),0)))","v":""},{"$f":"IF($C90=\"\",\"\",IF(ISBLANK(VLOOKUP($A90,'Section 2'!$E$17:$V$216,COLUMNS('Section 2'!$E$13:J$14),0)),\"\",VLOOKUP($A90,'Section 2'!$E$17:$V$216,COLUMNS('Section 2'!$E$13:J$14),0)))","v":""},{"$f":"IF($C90=\"\",\"\",IF(ISBLANK(VLOOKUP($A90,'Section 2'!$E$17:$V$216,COLUMNS('Section 2'!$E$13:K$14),0)),\"\",VLOOKUP($A90,'Section 2'!$E$17:$V$216,COLUMNS('Section 2'!$E$13:K$14),0)))","v":""},{"$f":"IF($C90=\"\",\"\",IF(ISBLANK(VLOOKUP($A90,'Section 2'!$E$17:$V$216,COLUMNS('Section 2'!$E$13:L$14),0)),\"\",VLOOKUP($A90,'Section 2'!$E$17:$V$216,COLUMNS('Section 2'!$E$13:L$14),0)))","v":""},{"$f":"IF($C90=\"\",\"\",IF(ISBLANK(VLOOKUP($A90,'Section 2'!$E$17:$V$216,COLUMNS('Section 2'!$E$13:M$14),0)),\"\",VLOOKUP($A90,'Section 2'!$E$17:$V$216,COLUMNS('Section 2'!$E$13:M$14),0)))","v":""},{"$f":"IF($C90=\"\",\"\",IF(ISBLANK(VLOOKUP($A90,'Section 2'!$E$17:$V$216,COLUMNS('Section 2'!$E$13:N$14),0)),\"\",VLOOKUP($A90,'Section 2'!$E$17:$V$216,COLUMNS('Section 2'!$E$13:N$14),0)))","v":""},{"$f":"IF($C90=\"\",\"\",IF(ISBLANK(VLOOKUP($A90,'Section 2'!$E$17:$V$216,COLUMNS('Section 2'!$E$13:O$14),0)),\"\",VLOOKUP($A90,'Section 2'!$E$17:$V$216,COLUMNS('Section 2'!$E$13:O$14),0)))","v":""},{"$f":"IF($C90=\"\",\"\",IF(ISBLANK(VLOOKUP($A90,'Section 2'!$E$17:$V$216,COLUMNS('Section 2'!$E$13:P$14),0)),\"\",VLOOKUP($A90,'Section 2'!$E$17:$V$216,COLUMNS('Section 2'!$E$13:P$14),0)))","v":""},{"$f":"IF($C90=\"\",\"\",IF(ISBLANK(VLOOKUP($A90,'Section 2'!$E$17:$V$216,COLUMNS('Section 2'!$E$13:Q$14),0)),\"\",VLOOKUP($A90,'Section 2'!$E$17:$V$216,COLUMNS('Section 2'!$E$13:Q$14),0)))","v":""},{"$f":"IF($C90=\"\",\"\",IF(ISBLANK(VLOOKUP($A90,'Section 2'!$E$17:$V$216,COLUMNS('Section 2'!$E$13:R$14),0)),\"\",VLOOKUP($A90,'Section 2'!$E$17:$V$216,COLUMNS('Section 2'!$E$13:R$14),0)))","v":""},{"$f":"IF($C90=\"\",\"\",IF(ISBLANK(VLOOKUP($A90,'Section 2'!$E$17:$V$216,COLUMNS('Section 2'!$E$13:S$14),0)),\"\",VLOOKUP($A90,'Section 2'!$E$17:$V$216,COLUMNS('Section 2'!$E$13:S$14),0)))","v":""},{"$f":"IF($C90=\"\",\"\",IF(ISBLANK(VLOOKUP($A90,'Section 2'!$E$17:$V$216,COLUMNS('Section 2'!$E$13:T$14),0)),\"\",VLOOKUP($A90,'Section 2'!$E$17:$V$216,COLUMNS('Section 2'!$E$13:T$14),0)))","v":""},{"$f":"IF($C90=\"\",\"\",IF(ISBLANK(VLOOKUP($A90,'Section 2'!$E$17:$V$216,COLUMNS('Section 2'!$E$13:U$14),0)),\"\",VLOOKUP($A90,'Section 2'!$E$17:$V$216,COLUMNS('Section 2'!$E$13:U$14),0)))","v":""},{"$f":"IF($C90=\"\",\"\",IF(ISBLANK(VLOOKUP($A90,'Section 2'!$E$17:$V$216,COLUMNS('Section 2'!$E$13:V$14),0)),\"\",VLOOKUP($A90,'Section 2'!$E$17:$V$216,COLUMNS('Section 2'!$E$13:V$14),0)))","v":""}]
[90,"",{"$f":"IFERROR(VLOOKUP($A91,'Section 2'!$E$17:$V$216,COLUMNS('Section 2'!$E$13:E$14),0),\"\")","v":""},{"$f":"IF($C91=\"\",\"\",IF(ISBLANK(VLOOKUP($A91,'Section 2'!$E$17:$V$216,COLUMNS('Section 2'!$E$13:F$14),0)),\"\",VLOOKUP($A91,'Section 2'!$E$17:$V$216,COLUMNS('Section 2'!$E$13:F$14),0)))","v":""},{"$f":"IF($C91=\"\",\"\",IF(ISBLANK(VLOOKUP($A91,'Section 2'!$E$17:$V$216,COLUMNS('Section 2'!$E$13:G$14),0)),\"\",VLOOKUP($A91,'Section 2'!$E$17:$V$216,COLUMNS('Section 2'!$E$13:G$14),0)))","v":""},{"$f":"IF($C91=\"\",\"\",IF(ISBLANK(VLOOKUP($A91,'Section 2'!$E$17:$V$216,COLUMNS('Section 2'!$E$13:H$14),0)),\"\",VLOOKUP($A91,'Section 2'!$E$17:$V$216,COLUMNS('Section 2'!$E$13:H$14),0)))","v":""},{"$f":"IF($C91=\"\",\"\",IF(ISBLANK(VLOOKUP($A91,'Section 2'!$E$17:$V$216,COLUMNS('Section 2'!$E$13:I$14),0)),\"\",VLOOKUP($A91,'Section 2'!$E$17:$V$216,COLUMNS('Section 2'!$E$13:I$14),0)))","v":""},{"$f":"IF($C91=\"\",\"\",IF(ISBLANK(VLOOKUP($A91,'Section 2'!$E$17:$V$216,COLUMNS('Section 2'!$E$13:J$14),0)),\"\",VLOOKUP($A91,'Section 2'!$E$17:$V$216,COLUMNS('Section 2'!$E$13:J$14),0)))","v":""},{"$f":"IF($C91=\"\",\"\",IF(ISBLANK(VLOOKUP($A91,'Section 2'!$E$17:$V$216,COLUMNS('Section 2'!$E$13:K$14),0)),\"\",VLOOKUP($A91,'Section 2'!$E$17:$V$216,COLUMNS('Section 2'!$E$13:K$14),0)))","v":""},{"$f":"IF($C91=\"\",\"\",IF(ISBLANK(VLOOKUP($A91,'Section 2'!$E$17:$V$216,COLUMNS('Section 2'!$E$13:L$14),0)),\"\",VLOOKUP($A91,'Section 2'!$E$17:$V$216,COLUMNS('Section 2'!$E$13:L$14),0)))","v":""},{"$f":"IF($C91=\"\",\"\",IF(ISBLANK(VLOOKUP($A91,'Section 2'!$E$17:$V$216,COLUMNS('Section 2'!$E$13:M$14),0)),\"\",VLOOKUP($A91,'Section 2'!$E$17:$V$216,COLUMNS('Section 2'!$E$13:M$14),0)))","v":""},{"$f":"IF($C91=\"\",\"\",IF(ISBLANK(VLOOKUP($A91,'Section 2'!$E$17:$V$216,COLUMNS('Section 2'!$E$13:N$14),0)),\"\",VLOOKUP($A91,'Section 2'!$E$17:$V$216,COLUMNS('Section 2'!$E$13:N$14),0)))","v":""},{"$f":"IF($C91=\"\",\"\",IF(ISBLANK(VLOOKUP($A91,'Section 2'!$E$17:$V$216,COLUMNS('Section 2'!$E$13:O$14),0)),\"\",VLOOKUP($A91,'Section 2'!$E$17:$V$216,COLUMNS('Section 2'!$E$13:O$14),0)))","v":""},{"$f":"IF($C91=\"\",\"\",IF(ISBLANK(VLOOKUP($A91,'Section 2'!$E$17:$V$216,COLUMNS('Section 2'!$E$13:P$14),0)),\"\",VLOOKUP($A91,'Section 2'!$E$17:$V$216,COLUMNS('Section 2'!$E$13:P$14),0)))","v":""},{"$f":"IF($C91=\"\",\"\",IF(ISBLANK(VLOOKUP($A91,'Section 2'!$E$17:$V$216,COLUMNS('Section 2'!$E$13:Q$14),0)),\"\",VLOOKUP($A91,'Section 2'!$E$17:$V$216,COLUMNS('Section 2'!$E$13:Q$14),0)))","v":""},{"$f":"IF($C91=\"\",\"\",IF(ISBLANK(VLOOKUP($A91,'Section 2'!$E$17:$V$216,COLUMNS('Section 2'!$E$13:R$14),0)),\"\",VLOOKUP($A91,'Section 2'!$E$17:$V$216,COLUMNS('Section 2'!$E$13:R$14),0)))","v":""},{"$f":"IF($C91=\"\",\"\",IF(ISBLANK(VLOOKUP($A91,'Section 2'!$E$17:$V$216,COLUMNS('Section 2'!$E$13:S$14),0)),\"\",VLOOKUP($A91,'Section 2'!$E$17:$V$216,COLUMNS('Section 2'!$E$13:S$14),0)))","v":""},{"$f":"IF($C91=\"\",\"\",IF(ISBLANK(VLOOKUP($A91,'Section 2'!$E$17:$V$216,COLUMNS('Section 2'!$E$13:T$14),0)),\"\",VLOOKUP($A91,'Section 2'!$E$17:$V$216,COLUMNS('Section 2'!$E$13:T$14),0)))","v":""},{"$f":"IF($C91=\"\",\"\",IF(ISBLANK(VLOOKUP($A91,'Section 2'!$E$17:$V$216,COLUMNS('Section 2'!$E$13:U$14),0)),\"\",VLOOKUP($A91,'Section 2'!$E$17:$V$216,COLUMNS('Section 2'!$E$13:U$14),0)))","v":""},{"$f":"IF($C91=\"\",\"\",IF(ISBLANK(VLOOKUP($A91,'Section 2'!$E$17:$V$216,COLUMNS('Section 2'!$E$13:V$14),0)),\"\",VLOOKUP($A91,'Section 2'!$E$17:$V$216,COLUMNS('Section 2'!$E$13:V$14),0)))","v":""}]
[91,"",{"$f":"IFERROR(VLOOKUP($A92,'Section 2'!$E$17:$V$216,COLUMNS('Section 2'!$E$13:E$14),0),\"\")","v":""},{"$f":"IF($C92=\"\",\"\",IF(ISBLANK(VLOOKUP($A92,'Section 2'!$E$17:$V$216,COLUMNS('Section 2'!$E$13:F$14),0)),\"\",VLOOKUP($A92,'Section 2'!$E$17:$V$216,COLUMNS('Section 2'!$E$13:F$14),0)))","v":""},{"$f":"IF($C92=\"\",\"\",IF(ISBLANK(VLOOKUP($A92,'Section 2'!$E$17:$V$216,COLUMNS('Section 2'!$E$13:G$14),0)),\"\",VLOOKUP($A92,'Section 2'!$E$17:$V$216,COLUMNS('Section 2'!$E$13:G$14),0)))","v":""},{"$f":"IF($C92=\"\",\"\",IF(ISBLANK(VLOOKUP($A92,'Section 2'!$E$17:$V$216,COLUMNS('Section 2'!$E$13:H$14),0)),\"\",VLOOKUP($A92,'Section 2'!$E$17:$V$216,COLUMNS('Section 2'!$E$13:H$14),0)))","v":""},{"$f":"IF($C92=\"\",\"\",IF(ISBLANK(VLOOKUP($A92,'Section 2'!$E$17:$V$216,COLUMNS('Section 2'!$E$13:I$14),0)),\"\",VLOOKUP($A92,'Section 2'!$E$17:$V$216,COLUMNS('Section 2'!$E$13:I$14),0)))","v":""},{"$f":"IF($C92=\"\",\"\",IF(ISBLANK(VLOOKUP($A92,'Section 2'!$E$17:$V$216,COLUMNS('Section 2'!$E$13:J$14),0)),\"\",VLOOKUP($A92,'Section 2'!$E$17:$V$216,COLUMNS('Section 2'!$E$13:J$14),0)))","v":""},{"$f":"IF($C92=\"\",\"\",IF(ISBLANK(VLOOKUP($A92,'Section 2'!$E$17:$V$216,COLUMNS('Section 2'!$E$13:K$14),0)),\"\",VLOOKUP($A92,'Section 2'!$E$17:$V$216,COLUMNS('Section 2'!$E$13:K$14),0)))","v":""},{"$f":"IF($C92=\"\",\"\",IF(ISBLANK(VLOOKUP($A92,'Section 2'!$E$17:$V$216,COLUMNS('Section 2'!$E$13:L$14),0)),\"\",VLOOKUP($A92,'Section 2'!$E$17:$V$216,COLUMNS('Section 2'!$E$13:L$14),0)))","v":""},{"$f":"IF($C92=\"\",\"\",IF(ISBLANK(VLOOKUP($A92,'Section 2'!$E$17:$V$216,COLUMNS('Section 2'!$E$13:M$14),0)),\"\",VLOOKUP($A92,'Section 2'!$E$17:$V$216,COLUMNS('Section 2'!$E$13:M$14),0)))","v":""},{"$f":"IF($C92=\"\",\"\",IF(ISBLANK(VLOOKUP($A92,'Section 2'!$E$17:$V$216,COLUMNS('Section 2'!$E$13:N$14),0)),\"\",VLOOKUP($A92,'Section 2'!$E$17:$V$216,COLUMNS('Section 2'!$E$13:N$14),0)))","v":""},{"$f":"IF($C92=\"\",\"\",IF(ISBLANK(VLOOKUP($A92,'Section 2'!$E$17:$V$216,COLUMNS('Section 2'!$E$13:O$14),0)),\"\",VLOOKUP($A92,'Section 2'!$E$17:$V$216,COLUMNS('Section 2'!$E$13:O$14),0)))","v":""},{"$f":"IF($C92=\"\",\"\",IF(ISBLANK(VLOOKUP($A92,'Section 2'!$E$17:$V$216,COLUMNS('Section 2'!$E$13:P$14),0)),\"\",VLOOKUP($A92,'Section 2'!$E$17:$V$216,COLUMNS('Section 2'!$E$13:P$14),0)))","v":""},{"$f":"IF($C92=\"\",\"\",IF(ISBLANK(VLOOKUP($A92,'Section 2'!$E$17:$V$216,COLUMNS('Section 2'!$E$13:Q$14),0)),\"\",VLOOKUP($A92,'Section 2'!$E$17:$V$216,COLUMNS('Section 2'!$E$13:Q$14),0)))","v":""},{"$f":"IF($C92=\"\",\"\",IF(ISBLANK(VLOOKUP($A92,'Section 2'!$E$17:$V$216,COLUMNS('Section 2'!$E$13:R$14),0)),\"\",VLOOKUP($A92,'Section 2'!$E$17:$V$216,COLUMNS('Section 2'!$E$13:R$14),0)))","v":""},{"$f":"IF($C92=\"\",\"\",IF(ISBLANK(VLOOKUP($A92,'Section 2'!$E$17:$V$216,COLUMNS('Section 2'!$E$13:S$14),0)),\"\",VLOOKUP($A92,'Section 2'!$E$17:$V$216,COLUMNS('Section 2'!$E$13:S$14),0)))","v":""},{"$f":"IF($C92=\"\",\"\",IF(ISBLANK(VLOOKUP($A92,'Section 2'!$E$17:$V$216,COLUMNS('Section 2'!$E$13:T$14),0)),\"\",VLOOKUP($A92,'Section 2'!$E$17:$V$216,COLUMNS('Section 2'!$E$13:T$14),0)))","v":""},{"$f":"IF($C92=\"\",\"\",IF(ISBLANK(VLOOKUP($A92,'Section 2'!$E$17:$V$216,COLUMNS('Section 2'!$E$13:U$14),0)),\"\",VLOOKUP($A92,'Section 2'!$E$17:$V$216,COLUMNS('Section 2'!$E$13:U$14),0)))","v":""},{"$f":"IF($C92=\"\",\"\",IF(ISBLANK(VLOOKUP($A92,'Section 2'!$E$17:$V$216,COLUMNS('Section 2'!$E$13:V$14),0)),\"\",VLOOKUP($A92,'Section 2'!$E$17:$V$216,COLUMNS('Section 2'!$E$13:V$14),0)))","v":""}]
[92,"",{"$f":"IFERROR(VLOOKUP($A93,'Section 2'!$E$17:$V$216,COLUMNS('Section 2'!$E$13:E$14),0),\"\")","v":""},{"$f":"IF($C93=\"\",\"\",IF(ISBLANK(VLOOKUP($A93,'Section 2'!$E$17:$V$216,COLUMNS('Section 2'!$E$13:F$14),0)),\"\",VLOOKUP($A93,'Section 2'!$E$17:$V$216,COLUMNS('Section 2'!$E$13:F$14),0)))","v":""},{"$f":"IF($C93=\"\",\"\",IF(ISBLANK(VLOOKUP($A93,'Section 2'!$E$17:$V$216,COLUMNS('Section 2'!$E$13:G$14),0)),\"\",VLOOKUP($A93,'Section 2'!$E$17:$V$216,COLUMNS('Section 2'!$E$13:G$14),0)))","v":""},{"$f":"IF($C93=\"\",\"\",IF(ISBLANK(VLOOKUP($A93,'Section 2'!$E$17:$V$216,COLUMNS('Section 2'!$E$13:H$14),0)),\"\",VLOOKUP($A93,'Section 2'!$E$17:$V$216,COLUMNS('Section 2'!$E$13:H$14),0)))","v":""},{"$f":"IF($C93=\"\",\"\",IF(ISBLANK(VLOOKUP($A93,'Section 2'!$E$17:$V$216,COLUMNS('Section 2'!$E$13:I$14),0)),\"\",VLOOKUP($A93,'Section 2'!$E$17:$V$216,COLUMNS('Section 2'!$E$13:I$14),0)))","v":""},{"$f":"IF($C93=\"\",\"\",IF(ISBLANK(VLOOKUP($A93,'Section 2'!$E$17:$V$216,COLUMNS('Section 2'!$E$13:J$14),0)),\"\",VLOOKUP($A93,'Section 2'!$E$17:$V$216,COLUMNS('Section 2'!$E$13:J$14),0)))","v":""},{"$f":"IF($C93=\"\",\"\",IF(ISBLANK(VLOOKUP($A93,'Section 2'!$E$17:$V$216,COLUMNS('Section 2'!$E$13:K$14),0)),\"\",VLOOKUP($A93,'Section 2'!$E$17:$V$216,COLUMNS('Section 2'!$E$13:K$14),0)))","v":""},{"$f":"IF($C93=\"\",\"\",IF(ISBLANK(VLOOKUP($A93,'Section 2'!$E$17:$V$216,COLUMNS('Section 2'!$E$13:L$14),0)),\"\",VLOOKUP($A93,'Section 2'!$E$17:$V$216,COLUMNS('Section 2'!$E$13:L$14),0)))","v":""},{"$f":"IF($C93=\"\",\"\",IF(ISBLANK(VLOOKUP($A93,'Section 2'!$E$17:$V$216,COLUMNS('Section 2'!$E$13:M$14),0)),\"\",VLOOKUP($A93,'Section 2'!$E$17:$V$216,COLUMNS('Section 2'!$E$13:M$14),0)))","v":""},{"$f":"IF($C93=\"\",\"\",IF(ISBLANK(VLOOKUP($A93,'Section 2'!$E$17:$V$216,COLUMNS('Section 2'!$E$13:N$14),0)),\"\",VLOOKUP($A93,'Section 2'!$E$17:$V$216,COLUMNS('Section 2'!$E$13:N$14),0)))","v":""},{"$f":"IF($C93=\"\",\"\",IF(ISBLANK(VLOOKUP($A93,'Section 2'!$E$17:$V$216,COLUMNS('Section 2'!$E$13:O$14),0)),\"\",VLOOKUP($A93,'Section 2'!$E$17:$V$216,COLUMNS('Section 2'!$E$13:O$14),0)))","v":""},{"$f":"IF($C93=\"\",\"\",IF(ISBLANK(VLOOKUP($A93,'Section 2'!$E$17:$V$216,COLUMNS('Section 2'!$E$13:P$14),0)),\"\",VLOOKUP($A93,'Section 2'!$E$17:$V$216,COLUMNS('Section 2'!$E$13:P$14),0)))","v":""},{"$f":"IF($C93=\"\",\"\",IF(ISBLANK(VLOOKUP($A93,'Section 2'!$E$17:$V$216,COLUMNS('Section 2'!$E$13:Q$14),0)),\"\",VLOOKUP($A93,'Section 2'!$E$17:$V$216,COLUMNS('Section 2'!$E$13:Q$14),0)))","v":""},{"$f":"IF($C93=\"\",\"\",IF(ISBLANK(VLOOKUP($A93,'Section 2'!$E$17:$V$216,COLUMNS('Section 2'!$E$13:R$14),0)),\"\",VLOOKUP($A93,'Section 2'!$E$17:$V$216,COLUMNS('Section 2'!$E$13:R$14),0)))","v":""},{"$f":"IF($C93=\"\",\"\",IF(ISBLANK(VLOOKUP($A93,'Section 2'!$E$17:$V$216,COLUMNS('Section 2'!$E$13:S$14),0)),\"\",VLOOKUP($A93,'Section 2'!$E$17:$V$216,COLUMNS('Section 2'!$E$13:S$14),0)))","v":""},{"$f":"IF($C93=\"\",\"\",IF(ISBLANK(VLOOKUP($A93,'Section 2'!$E$17:$V$216,COLUMNS('Section 2'!$E$13:T$14),0)),\"\",VLOOKUP($A93,'Section 2'!$E$17:$V$216,COLUMNS('Section 2'!$E$13:T$14),0)))","v":""},{"$f":"IF($C93=\"\",\"\",IF(ISBLANK(VLOOKUP($A93,'Section 2'!$E$17:$V$216,COLUMNS('Section 2'!$E$13:U$14),0)),\"\",VLOOKUP($A93,'Section 2'!$E$17:$V$216,COLUMNS('Section 2'!$E$13:U$14),0)))","v":""},{"$f":"IF($C93=\"\",\"\",IF(ISBLANK(VLOOKUP($A93,'Section 2'!$E$17:$V$216,COLUMNS('Section 2'!$E$13:V$14),0)),\"\",VLOOKUP($A93,'Section 2'!$E$17:$V$216,COLUMNS('Section 2'!$E$13:V$14),0)))","v":""}]
[93,"",{"$f":"IFERROR(VLOOKUP($A94,'Section 2'!$E$17:$V$216,COLUMNS('Section 2'!$E$13:E$14),0),\"\")","v":""},{"$f":"IF($C94=\"\",\"\",IF(ISBLANK(VLOOKUP($A94,'Section 2'!$E$17:$V$216,COLUMNS('Section 2'!$E$13:F$14),0)),\"\",VLOOKUP($A94,'Section 2'!$E$17:$V$216,COLUMNS('Section 2'!$E$13:F$14),0)))","v":""},{"$f":"IF($C94=\"\",\"\",IF(ISBLANK(VLOOKUP($A94,'Section 2'!$E$17:$V$216,COLUMNS('Section 2'!$E$13:G$14),0)),\"\",VLOOKUP($A94,'Section 2'!$E$17:$V$216,COLUMNS('Section 2'!$E$13:G$14),0)))","v":""},{"$f":"IF($C94=\"\",\"\",IF(ISBLANK(VLOOKUP($A94,'Section 2'!$E$17:$V$216,COLUMNS('Section 2'!$E$13:H$14),0)),\"\",VLOOKUP($A94,'Section 2'!$E$17:$V$216,COLUMNS('Section 2'!$E$13:H$14),0)))","v":""},{"$f":"IF($C94=\"\",\"\",IF(ISBLANK(VLOOKUP($A94,'Section 2'!$E$17:$V$216,COLUMNS('Section 2'!$E$13:I$14),0)),\"\",VLOOKUP($A94,'Section 2'!$E$17:$V$216,COLUMNS('Section 2'!$E$13:I$14),0)))","v":""},{"$f":"IF($C94=\"\",\"\",IF(ISBLANK(VLOOKUP($A94,'Section 2'!$E$17:$V$216,COLUMNS('Section 2'!$E$13:J$14),0)),\"\",VLOOKUP($A94,'Section 2'!$E$17:$V$216,COLUMNS('Section 2'!$E$13:J$14),0)))","v":""},{"$f":"IF($C94=\"\",\"\",IF(ISBLANK(VLOOKUP($A94,'Section 2'!$E$17:$V$216,COLUMNS('Section 2'!$E$13:K$14),0)),\"\",VLOOKUP($A94,'Section 2'!$E$17:$V$216,COLUMNS('Section 2'!$E$13:K$14),0)))","v":""},{"$f":"IF($C94=\"\",\"\",IF(ISBLANK(VLOOKUP($A94,'Section 2'!$E$17:$V$216,COLUMNS('Section 2'!$E$13:L$14),0)),\"\",VLOOKUP($A94,'Section 2'!$E$17:$V$216,COLUMNS('Section 2'!$E$13:L$14),0)))","v":""},{"$f":"IF($C94=\"\",\"\",IF(ISBLANK(VLOOKUP($A94,'Section 2'!$E$17:$V$216,COLUMNS('Section 2'!$E$13:M$14),0)),\"\",VLOOKUP($A94,'Section 2'!$E$17:$V$216,COLUMNS('Section 2'!$E$13:M$14),0)))","v":""},{"$f":"IF($C94=\"\",\"\",IF(ISBLANK(VLOOKUP($A94,'Section 2'!$E$17:$V$216,COLUMNS('Section 2'!$E$13:N$14),0)),\"\",VLOOKUP($A94,'Section 2'!$E$17:$V$216,COLUMNS('Section 2'!$E$13:N$14),0)))","v":""},{"$f":"IF($C94=\"\",\"\",IF(ISBLANK(VLOOKUP($A94,'Section 2'!$E$17:$V$216,COLUMNS('Section 2'!$E$13:O$14),0)),\"\",VLOOKUP($A94,'Section 2'!$E$17:$V$216,COLUMNS('Section 2'!$E$13:O$14),0)))","v":""},{"$f":"IF($C94=\"\",\"\",IF(ISBLANK(VLOOKUP($A94,'Section 2'!$E$17:$V$216,COLUMNS('Section 2'!$E$13:P$14),0)),\"\",VLOOKUP($A94,'Section 2'!$E$17:$V$216,COLUMNS('Section 2'!$E$13:P$14),0)))","v":""},{"$f":"IF($C94=\"\",\"\",IF(ISBLANK(VLOOKUP($A94,'Section 2'!$E$17:$V$216,COLUMNS('Section 2'!$E$13:Q$14),0)),\"\",VLOOKUP($A94,'Section 2'!$E$17:$V$216,COLUMNS('Section 2'!$E$13:Q$14),0)))","v":""},{"$f":"IF($C94=\"\",\"\",IF(ISBLANK(VLOOKUP($A94,'Section 2'!$E$17:$V$216,COLUMNS('Section 2'!$E$13:R$14),0)),\"\",VLOOKUP($A94,'Section 2'!$E$17:$V$216,COLUMNS('Section 2'!$E$13:R$14),0)))","v":""},{"$f":"IF($C94=\"\",\"\",IF(ISBLANK(VLOOKUP($A94,'Section 2'!$E$17:$V$216,COLUMNS('Section 2'!$E$13:S$14),0)),\"\",VLOOKUP($A94,'Section 2'!$E$17:$V$216,COLUMNS('Section 2'!$E$13:S$14),0)))","v":""},{"$f":"IF($C94=\"\",\"\",IF(ISBLANK(VLOOKUP($A94,'Section 2'!$E$17:$V$216,COLUMNS('Section 2'!$E$13:T$14),0)),\"\",VLOOKUP($A94,'Section 2'!$E$17:$V$216,COLUMNS('Section 2'!$E$13:T$14),0)))","v":""},{"$f":"IF($C94=\"\",\"\",IF(ISBLANK(VLOOKUP($A94,'Section 2'!$E$17:$V$216,COLUMNS('Section 2'!$E$13:U$14),0)),\"\",VLOOKUP($A94,'Section 2'!$E$17:$V$216,COLUMNS('Section 2'!$E$13:U$14),0)))","v":""},{"$f":"IF($C94=\"\",\"\",IF(ISBLANK(VLOOKUP($A94,'Section 2'!$E$17:$V$216,COLUMNS('Section 2'!$E$13:V$14),0)),\"\",VLOOKUP($A94,'Section 2'!$E$17:$V$216,COLUMNS('Section 2'!$E$13:V$14),0)))","v":""}]
[94,"",{"$f":"IFERROR(VLOOKUP($A95,'Section 2'!$E$17:$V$216,COLUMNS('Section 2'!$E$13:E$14),0),\"\")","v":""},{"$f":"IF($C95=\"\",\"\",IF(ISBLANK(VLOOKUP($A95,'Section 2'!$E$17:$V$216,COLUMNS('Section 2'!$E$13:F$14),0)),\"\",VLOOKUP($A95,'Section 2'!$E$17:$V$216,COLUMNS('Section 2'!$E$13:F$14),0)))","v":""},{"$f":"IF($C95=\"\",\"\",IF(ISBLANK(VLOOKUP($A95,'Section 2'!$E$17:$V$216,COLUMNS('Section 2'!$E$13:G$14),0)),\"\",VLOOKUP($A95,'Section 2'!$E$17:$V$216,COLUMNS('Section 2'!$E$13:G$14),0)))","v":""},{"$f":"IF($C95=\"\",\"\",IF(ISBLANK(VLOOKUP($A95,'Section 2'!$E$17:$V$216,COLUMNS('Section 2'!$E$13:H$14),0)),\"\",VLOOKUP($A95,'Section 2'!$E$17:$V$216,COLUMNS('Section 2'!$E$13:H$14),0)))","v":""},{"$f":"IF($C95=\"\",\"\",IF(ISBLANK(VLOOKUP($A95,'Section 2'!$E$17:$V$216,COLUMNS('Section 2'!$E$13:I$14),0)),\"\",VLOOKUP($A95,'Section 2'!$E$17:$V$216,COLUMNS('Section 2'!$E$13:I$14),0)))","v":""},{"$f":"IF($C95=\"\",\"\",IF(ISBLANK(VLOOKUP($A95,'Section 2'!$E$17:$V$216,COLUMNS('Section 2'!$E$13:J$14),0)),\"\",VLOOKUP($A95,'Section 2'!$E$17:$V$216,COLUMNS('Section 2'!$E$13:J$14),0)))","v":""},{"$f":"IF($C95=\"\",\"\",IF(ISBLANK(VLOOKUP($A95,'Section 2'!$E$17:$V$216,COLUMNS('Section 2'!$E$13:K$14),0)),\"\",VLOOKUP($A95,'Section 2'!$E$17:$V$216,COLUMNS('Section 2'!$E$13:K$14),0)))","v":""},{"$f":"IF($C95=\"\",\"\",IF(ISBLANK(VLOOKUP($A95,'Section 2'!$E$17:$V$216,COLUMNS('Section 2'!$E$13:L$14),0)),\"\",VLOOKUP($A95,'Section 2'!$E$17:$V$216,COLUMNS('Section 2'!$E$13:L$14),0)))","v":""},{"$f":"IF($C95=\"\",\"\",IF(ISBLANK(VLOOKUP($A95,'Section 2'!$E$17:$V$216,COLUMNS('Section 2'!$E$13:M$14),0)),\"\",VLOOKUP($A95,'Section 2'!$E$17:$V$216,COLUMNS('Section 2'!$E$13:M$14),0)))","v":""},{"$f":"IF($C95=\"\",\"\",IF(ISBLANK(VLOOKUP($A95,'Section 2'!$E$17:$V$216,COLUMNS('Section 2'!$E$13:N$14),0)),\"\",VLOOKUP($A95,'Section 2'!$E$17:$V$216,COLUMNS('Section 2'!$E$13:N$14),0)))","v":""},{"$f":"IF($C95=\"\",\"\",IF(ISBLANK(VLOOKUP($A95,'Section 2'!$E$17:$V$216,COLUMNS('Section 2'!$E$13:O$14),0)),\"\",VLOOKUP($A95,'Section 2'!$E$17:$V$216,COLUMNS('Section 2'!$E$13:O$14),0)))","v":""},{"$f":"IF($C95=\"\",\"\",IF(ISBLANK(VLOOKUP($A95,'Section 2'!$E$17:$V$216,COLUMNS('Section 2'!$E$13:P$14),0)),\"\",VLOOKUP($A95,'Section 2'!$E$17:$V$216,COLUMNS('Section 2'!$E$13:P$14),0)))","v":""},{"$f":"IF($C95=\"\",\"\",IF(ISBLANK(VLOOKUP($A95,'Section 2'!$E$17:$V$216,COLUMNS('Section 2'!$E$13:Q$14),0)),\"\",VLOOKUP($A95,'Section 2'!$E$17:$V$216,COLUMNS('Section 2'!$E$13:Q$14),0)))","v":""},{"$f":"IF($C95=\"\",\"\",IF(ISBLANK(VLOOKUP($A95,'Section 2'!$E$17:$V$216,COLUMNS('Section 2'!$E$13:R$14),0)),\"\",VLOOKUP($A95,'Section 2'!$E$17:$V$216,COLUMNS('Section 2'!$E$13:R$14),0)))","v":""},{"$f":"IF($C95=\"\",\"\",IF(ISBLANK(VLOOKUP($A95,'Section 2'!$E$17:$V$216,COLUMNS('Section 2'!$E$13:S$14),0)),\"\",VLOOKUP($A95,'Section 2'!$E$17:$V$216,COLUMNS('Section 2'!$E$13:S$14),0)))","v":""},{"$f":"IF($C95=\"\",\"\",IF(ISBLANK(VLOOKUP($A95,'Section 2'!$E$17:$V$216,COLUMNS('Section 2'!$E$13:T$14),0)),\"\",VLOOKUP($A95,'Section 2'!$E$17:$V$216,COLUMNS('Section 2'!$E$13:T$14),0)))","v":""},{"$f":"IF($C95=\"\",\"\",IF(ISBLANK(VLOOKUP($A95,'Section 2'!$E$17:$V$216,COLUMNS('Section 2'!$E$13:U$14),0)),\"\",VLOOKUP($A95,'Section 2'!$E$17:$V$216,COLUMNS('Section 2'!$E$13:U$14),0)))","v":""},{"$f":"IF($C95=\"\",\"\",IF(ISBLANK(VLOOKUP($A95,'Section 2'!$E$17:$V$216,COLUMNS('Section 2'!$E$13:V$14),0)),\"\",VLOOKUP($A95,'Section 2'!$E$17:$V$216,COLUMNS('Section 2'!$E$13:V$14),0)))","v":""}]
[95,"",{"$f":"IFERROR(VLOOKUP($A96,'Section 2'!$E$17:$V$216,COLUMNS('Section 2'!$E$13:E$14),0),\"\")","v":""},{"$f":"IF($C96=\"\",\"\",IF(ISBLANK(VLOOKUP($A96,'Section 2'!$E$17:$V$216,COLUMNS('Section 2'!$E$13:F$14),0)),\"\",VLOOKUP($A96,'Section 2'!$E$17:$V$216,COLUMNS('Section 2'!$E$13:F$14),0)))","v":""},{"$f":"IF($C96=\"\",\"\",IF(ISBLANK(VLOOKUP($A96,'Section 2'!$E$17:$V$216,COLUMNS('Section 2'!$E$13:G$14),0)),\"\",VLOOKUP($A96,'Section 2'!$E$17:$V$216,COLUMNS('Section 2'!$E$13:G$14),0)))","v":""},{"$f":"IF($C96=\"\",\"\",IF(ISBLANK(VLOOKUP($A96,'Section 2'!$E$17:$V$216,COLUMNS('Section 2'!$E$13:H$14),0)),\"\",VLOOKUP($A96,'Section 2'!$E$17:$V$216,COLUMNS('Section 2'!$E$13:H$14),0)))","v":""},{"$f":"IF($C96=\"\",\"\",IF(ISBLANK(VLOOKUP($A96,'Section 2'!$E$17:$V$216,COLUMNS('Section 2'!$E$13:I$14),0)),\"\",VLOOKUP($A96,'Section 2'!$E$17:$V$216,COLUMNS('Section 2'!$E$13:I$14),0)))","v":""},{"$f":"IF($C96=\"\",\"\",IF(ISBLANK(VLOOKUP($A96,'Section 2'!$E$17:$V$216,COLUMNS('Section 2'!$E$13:J$14),0)),\"\",VLOOKUP($A96,'Section 2'!$E$17:$V$216,COLUMNS('Section 2'!$E$13:J$14),0)))","v":""},{"$f":"IF($C96=\"\",\"\",IF(ISBLANK(VLOOKUP($A96,'Section 2'!$E$17:$V$216,COLUMNS('Section 2'!$E$13:K$14),0)),\"\",VLOOKUP($A96,'Section 2'!$E$17:$V$216,COLUMNS('Section 2'!$E$13:K$14),0)))","v":""},{"$f":"IF($C96=\"\",\"\",IF(ISBLANK(VLOOKUP($A96,'Section 2'!$E$17:$V$216,COLUMNS('Section 2'!$E$13:L$14),0)),\"\",VLOOKUP($A96,'Section 2'!$E$17:$V$216,COLUMNS('Section 2'!$E$13:L$14),0)))","v":""},{"$f":"IF($C96=\"\",\"\",IF(ISBLANK(VLOOKUP($A96,'Section 2'!$E$17:$V$216,COLUMNS('Section 2'!$E$13:M$14),0)),\"\",VLOOKUP($A96,'Section 2'!$E$17:$V$216,COLUMNS('Section 2'!$E$13:M$14),0)))","v":""},{"$f":"IF($C96=\"\",\"\",IF(ISBLANK(VLOOKUP($A96,'Section 2'!$E$17:$V$216,COLUMNS('Section 2'!$E$13:N$14),0)),\"\",VLOOKUP($A96,'Section 2'!$E$17:$V$216,COLUMNS('Section 2'!$E$13:N$14),0)))","v":""},{"$f":"IF($C96=\"\",\"\",IF(ISBLANK(VLOOKUP($A96,'Section 2'!$E$17:$V$216,COLUMNS('Section 2'!$E$13:O$14),0)),\"\",VLOOKUP($A96,'Section 2'!$E$17:$V$216,COLUMNS('Section 2'!$E$13:O$14),0)))","v":""},{"$f":"IF($C96=\"\",\"\",IF(ISBLANK(VLOOKUP($A96,'Section 2'!$E$17:$V$216,COLUMNS('Section 2'!$E$13:P$14),0)),\"\",VLOOKUP($A96,'Section 2'!$E$17:$V$216,COLUMNS('Section 2'!$E$13:P$14),0)))","v":""},{"$f":"IF($C96=\"\",\"\",IF(ISBLANK(VLOOKUP($A96,'Section 2'!$E$17:$V$216,COLUMNS('Section 2'!$E$13:Q$14),0)),\"\",VLOOKUP($A96,'Section 2'!$E$17:$V$216,COLUMNS('Section 2'!$E$13:Q$14),0)))","v":""},{"$f":"IF($C96=\"\",\"\",IF(ISBLANK(VLOOKUP($A96,'Section 2'!$E$17:$V$216,COLUMNS('Section 2'!$E$13:R$14),0)),\"\",VLOOKUP($A96,'Section 2'!$E$17:$V$216,COLUMNS('Section 2'!$E$13:R$14),0)))","v":""},{"$f":"IF($C96=\"\",\"\",IF(ISBLANK(VLOOKUP($A96,'Section 2'!$E$17:$V$216,COLUMNS('Section 2'!$E$13:S$14),0)),\"\",VLOOKUP($A96,'Section 2'!$E$17:$V$216,COLUMNS('Section 2'!$E$13:S$14),0)))","v":""},{"$f":"IF($C96=\"\",\"\",IF(ISBLANK(VLOOKUP($A96,'Section 2'!$E$17:$V$216,COLUMNS('Section 2'!$E$13:T$14),0)),\"\",VLOOKUP($A96,'Section 2'!$E$17:$V$216,COLUMNS('Section 2'!$E$13:T$14),0)))","v":""},{"$f":"IF($C96=\"\",\"\",IF(ISBLANK(VLOOKUP($A96,'Section 2'!$E$17:$V$216,COLUMNS('Section 2'!$E$13:U$14),0)),\"\",VLOOKUP($A96,'Section 2'!$E$17:$V$216,COLUMNS('Section 2'!$E$13:U$14),0)))","v":""},{"$f":"IF($C96=\"\",\"\",IF(ISBLANK(VLOOKUP($A96,'Section 2'!$E$17:$V$216,COLUMNS('Section 2'!$E$13:V$14),0)),\"\",VLOOKUP($A96,'Section 2'!$E$17:$V$216,COLUMNS('Section 2'!$E$13:V$14),0)))","v":""}]
[96,"",{"$f":"IFERROR(VLOOKUP($A97,'Section 2'!$E$17:$V$216,COLUMNS('Section 2'!$E$13:E$14),0),\"\")","v":""},{"$f":"IF($C97=\"\",\"\",IF(ISBLANK(VLOOKUP($A97,'Section 2'!$E$17:$V$216,COLUMNS('Section 2'!$E$13:F$14),0)),\"\",VLOOKUP($A97,'Section 2'!$E$17:$V$216,COLUMNS('Section 2'!$E$13:F$14),0)))","v":""},{"$f":"IF($C97=\"\",\"\",IF(ISBLANK(VLOOKUP($A97,'Section 2'!$E$17:$V$216,COLUMNS('Section 2'!$E$13:G$14),0)),\"\",VLOOKUP($A97,'Section 2'!$E$17:$V$216,COLUMNS('Section 2'!$E$13:G$14),0)))","v":""},{"$f":"IF($C97=\"\",\"\",IF(ISBLANK(VLOOKUP($A97,'Section 2'!$E$17:$V$216,COLUMNS('Section 2'!$E$13:H$14),0)),\"\",VLOOKUP($A97,'Section 2'!$E$17:$V$216,COLUMNS('Section 2'!$E$13:H$14),0)))","v":""},{"$f":"IF($C97=\"\",\"\",IF(ISBLANK(VLOOKUP($A97,'Section 2'!$E$17:$V$216,COLUMNS('Section 2'!$E$13:I$14),0)),\"\",VLOOKUP($A97,'Section 2'!$E$17:$V$216,COLUMNS('Section 2'!$E$13:I$14),0)))","v":""},{"$f":"IF($C97=\"\",\"\",IF(ISBLANK(VLOOKUP($A97,'Section 2'!$E$17:$V$216,COLUMNS('Section 2'!$E$13:J$14),0)),\"\",VLOOKUP($A97,'Section 2'!$E$17:$V$216,COLUMNS('Section 2'!$E$13:J$14),0)))","v":""},{"$f":"IF($C97=\"\",\"\",IF(ISBLANK(VLOOKUP($A97,'Section 2'!$E$17:$V$216,COLUMNS('Section 2'!$E$13:K$14),0)),\"\",VLOOKUP($A97,'Section 2'!$E$17:$V$216,COLUMNS('Section 2'!$E$13:K$14),0)))","v":""},{"$f":"IF($C97=\"\",\"\",IF(ISBLANK(VLOOKUP($A97,'Section 2'!$E$17:$V$216,COLUMNS('Section 2'!$E$13:L$14),0)),\"\",VLOOKUP($A97,'Section 2'!$E$17:$V$216,COLUMNS('Section 2'!$E$13:L$14),0)))","v":""},{"$f":"IF($C97=\"\",\"\",IF(ISBLANK(VLOOKUP($A97,'Section 2'!$E$17:$V$216,COLUMNS('Section 2'!$E$13:M$14),0)),\"\",VLOOKUP($A97,'Section 2'!$E$17:$V$216,COLUMNS('Section 2'!$E$13:M$14),0)))","v":""},{"$f":"IF($C97=\"\",\"\",IF(ISBLANK(VLOOKUP($A97,'Section 2'!$E$17:$V$216,COLUMNS('Section 2'!$E$13:N$14),0)),\"\",VLOOKUP($A97,'Section 2'!$E$17:$V$216,COLUMNS('Section 2'!$E$13:N$14),0)))","v":""},{"$f":"IF($C97=\"\",\"\",IF(ISBLANK(VLOOKUP($A97,'Section 2'!$E$17:$V$216,COLUMNS('Section 2'!$E$13:O$14),0)),\"\",VLOOKUP($A97,'Section 2'!$E$17:$V$216,COLUMNS('Section 2'!$E$13:O$14),0)))","v":""},{"$f":"IF($C97=\"\",\"\",IF(ISBLANK(VLOOKUP($A97,'Section 2'!$E$17:$V$216,COLUMNS('Section 2'!$E$13:P$14),0)),\"\",VLOOKUP($A97,'Section 2'!$E$17:$V$216,COLUMNS('Section 2'!$E$13:P$14),0)))","v":""},{"$f":"IF($C97=\"\",\"\",IF(ISBLANK(VLOOKUP($A97,'Section 2'!$E$17:$V$216,COLUMNS('Section 2'!$E$13:Q$14),0)),\"\",VLOOKUP($A97,'Section 2'!$E$17:$V$216,COLUMNS('Section 2'!$E$13:Q$14),0)))","v":""},{"$f":"IF($C97=\"\",\"\",IF(ISBLANK(VLOOKUP($A97,'Section 2'!$E$17:$V$216,COLUMNS('Section 2'!$E$13:R$14),0)),\"\",VLOOKUP($A97,'Section 2'!$E$17:$V$216,COLUMNS('Section 2'!$E$13:R$14),0)))","v":""},{"$f":"IF($C97=\"\",\"\",IF(ISBLANK(VLOOKUP($A97,'Section 2'!$E$17:$V$216,COLUMNS('Section 2'!$E$13:S$14),0)),\"\",VLOOKUP($A97,'Section 2'!$E$17:$V$216,COLUMNS('Section 2'!$E$13:S$14),0)))","v":""},{"$f":"IF($C97=\"\",\"\",IF(ISBLANK(VLOOKUP($A97,'Section 2'!$E$17:$V$216,COLUMNS('Section 2'!$E$13:T$14),0)),\"\",VLOOKUP($A97,'Section 2'!$E$17:$V$216,COLUMNS('Section 2'!$E$13:T$14),0)))","v":""},{"$f":"IF($C97=\"\",\"\",IF(ISBLANK(VLOOKUP($A97,'Section 2'!$E$17:$V$216,COLUMNS('Section 2'!$E$13:U$14),0)),\"\",VLOOKUP($A97,'Section 2'!$E$17:$V$216,COLUMNS('Section 2'!$E$13:U$14),0)))","v":""},{"$f":"IF($C97=\"\",\"\",IF(ISBLANK(VLOOKUP($A97,'Section 2'!$E$17:$V$216,COLUMNS('Section 2'!$E$13:V$14),0)),\"\",VLOOKUP($A97,'Section 2'!$E$17:$V$216,COLUMNS('Section 2'!$E$13:V$14),0)))","v":""}]
[97,"",{"$f":"IFERROR(VLOOKUP($A98,'Section 2'!$E$17:$V$216,COLUMNS('Section 2'!$E$13:E$14),0),\"\")","v":""},{"$f":"IF($C98=\"\",\"\",IF(ISBLANK(VLOOKUP($A98,'Section 2'!$E$17:$V$216,COLUMNS('Section 2'!$E$13:F$14),0)),\"\",VLOOKUP($A98,'Section 2'!$E$17:$V$216,COLUMNS('Section 2'!$E$13:F$14),0)))","v":""},{"$f":"IF($C98=\"\",\"\",IF(ISBLANK(VLOOKUP($A98,'Section 2'!$E$17:$V$216,COLUMNS('Section 2'!$E$13:G$14),0)),\"\",VLOOKUP($A98,'Section 2'!$E$17:$V$216,COLUMNS('Section 2'!$E$13:G$14),0)))","v":""},{"$f":"IF($C98=\"\",\"\",IF(ISBLANK(VLOOKUP($A98,'Section 2'!$E$17:$V$216,COLUMNS('Section 2'!$E$13:H$14),0)),\"\",VLOOKUP($A98,'Section 2'!$E$17:$V$216,COLUMNS('Section 2'!$E$13:H$14),0)))","v":""},{"$f":"IF($C98=\"\",\"\",IF(ISBLANK(VLOOKUP($A98,'Section 2'!$E$17:$V$216,COLUMNS('Section 2'!$E$13:I$14),0)),\"\",VLOOKUP($A98,'Section 2'!$E$17:$V$216,COLUMNS('Section 2'!$E$13:I$14),0)))","v":""},{"$f":"IF($C98=\"\",\"\",IF(ISBLANK(VLOOKUP($A98,'Section 2'!$E$17:$V$216,COLUMNS('Section 2'!$E$13:J$14),0)),\"\",VLOOKUP($A98,'Section 2'!$E$17:$V$216,COLUMNS('Section 2'!$E$13:J$14),0)))","v":""},{"$f":"IF($C98=\"\",\"\",IF(ISBLANK(VLOOKUP($A98,'Section 2'!$E$17:$V$216,COLUMNS('Section 2'!$E$13:K$14),0)),\"\",VLOOKUP($A98,'Section 2'!$E$17:$V$216,COLUMNS('Section 2'!$E$13:K$14),0)))","v":""},{"$f":"IF($C98=\"\",\"\",IF(ISBLANK(VLOOKUP($A98,'Section 2'!$E$17:$V$216,COLUMNS('Section 2'!$E$13:L$14),0)),\"\",VLOOKUP($A98,'Section 2'!$E$17:$V$216,COLUMNS('Section 2'!$E$13:L$14),0)))","v":""},{"$f":"IF($C98=\"\",\"\",IF(ISBLANK(VLOOKUP($A98,'Section 2'!$E$17:$V$216,COLUMNS('Section 2'!$E$13:M$14),0)),\"\",VLOOKUP($A98,'Section 2'!$E$17:$V$216,COLUMNS('Section 2'!$E$13:M$14),0)))","v":""},{"$f":"IF($C98=\"\",\"\",IF(ISBLANK(VLOOKUP($A98,'Section 2'!$E$17:$V$216,COLUMNS('Section 2'!$E$13:N$14),0)),\"\",VLOOKUP($A98,'Section 2'!$E$17:$V$216,COLUMNS('Section 2'!$E$13:N$14),0)))","v":""},{"$f":"IF($C98=\"\",\"\",IF(ISBLANK(VLOOKUP($A98,'Section 2'!$E$17:$V$216,COLUMNS('Section 2'!$E$13:O$14),0)),\"\",VLOOKUP($A98,'Section 2'!$E$17:$V$216,COLUMNS('Section 2'!$E$13:O$14),0)))","v":""},{"$f":"IF($C98=\"\",\"\",IF(ISBLANK(VLOOKUP($A98,'Section 2'!$E$17:$V$216,COLUMNS('Section 2'!$E$13:P$14),0)),\"\",VLOOKUP($A98,'Section 2'!$E$17:$V$216,COLUMNS('Section 2'!$E$13:P$14),0)))","v":""},{"$f":"IF($C98=\"\",\"\",IF(ISBLANK(VLOOKUP($A98,'Section 2'!$E$17:$V$216,COLUMNS('Section 2'!$E$13:Q$14),0)),\"\",VLOOKUP($A98,'Section 2'!$E$17:$V$216,COLUMNS('Section 2'!$E$13:Q$14),0)))","v":""},{"$f":"IF($C98=\"\",\"\",IF(ISBLANK(VLOOKUP($A98,'Section 2'!$E$17:$V$216,COLUMNS('Section 2'!$E$13:R$14),0)),\"\",VLOOKUP($A98,'Section 2'!$E$17:$V$216,COLUMNS('Section 2'!$E$13:R$14),0)))","v":""},{"$f":"IF($C98=\"\",\"\",IF(ISBLANK(VLOOKUP($A98,'Section 2'!$E$17:$V$216,COLUMNS('Section 2'!$E$13:S$14),0)),\"\",VLOOKUP($A98,'Section 2'!$E$17:$V$216,COLUMNS('Section 2'!$E$13:S$14),0)))","v":""},{"$f":"IF($C98=\"\",\"\",IF(ISBLANK(VLOOKUP($A98,'Section 2'!$E$17:$V$216,COLUMNS('Section 2'!$E$13:T$14),0)),\"\",VLOOKUP($A98,'Section 2'!$E$17:$V$216,COLUMNS('Section 2'!$E$13:T$14),0)))","v":""},{"$f":"IF($C98=\"\",\"\",IF(ISBLANK(VLOOKUP($A98,'Section 2'!$E$17:$V$216,COLUMNS('Section 2'!$E$13:U$14),0)),\"\",VLOOKUP($A98,'Section 2'!$E$17:$V$216,COLUMNS('Section 2'!$E$13:U$14),0)))","v":""},{"$f":"IF($C98=\"\",\"\",IF(ISBLANK(VLOOKUP($A98,'Section 2'!$E$17:$V$216,COLUMNS('Section 2'!$E$13:V$14),0)),\"\",VLOOKUP($A98,'Section 2'!$E$17:$V$216,COLUMNS('Section 2'!$E$13:V$14),0)))","v":""}]
[98,"",{"$f":"IFERROR(VLOOKUP($A99,'Section 2'!$E$17:$V$216,COLUMNS('Section 2'!$E$13:E$14),0),\"\")","v":""},{"$f":"IF($C99=\"\",\"\",IF(ISBLANK(VLOOKUP($A99,'Section 2'!$E$17:$V$216,COLUMNS('Section 2'!$E$13:F$14),0)),\"\",VLOOKUP($A99,'Section 2'!$E$17:$V$216,COLUMNS('Section 2'!$E$13:F$14),0)))","v":""},{"$f":"IF($C99=\"\",\"\",IF(ISBLANK(VLOOKUP($A99,'Section 2'!$E$17:$V$216,COLUMNS('Section 2'!$E$13:G$14),0)),\"\",VLOOKUP($A99,'Section 2'!$E$17:$V$216,COLUMNS('Section 2'!$E$13:G$14),0)))","v":""},{"$f":"IF($C99=\"\",\"\",IF(ISBLANK(VLOOKUP($A99,'Section 2'!$E$17:$V$216,COLUMNS('Section 2'!$E$13:H$14),0)),\"\",VLOOKUP($A99,'Section 2'!$E$17:$V$216,COLUMNS('Section 2'!$E$13:H$14),0)))","v":""},{"$f":"IF($C99=\"\",\"\",IF(ISBLANK(VLOOKUP($A99,'Section 2'!$E$17:$V$216,COLUMNS('Section 2'!$E$13:I$14),0)),\"\",VLOOKUP($A99,'Section 2'!$E$17:$V$216,COLUMNS('Section 2'!$E$13:I$14),0)))","v":""},{"$f":"IF($C99=\"\",\"\",IF(ISBLANK(VLOOKUP($A99,'Section 2'!$E$17:$V$216,COLUMNS('Section 2'!$E$13:J$14),0)),\"\",VLOOKUP($A99,'Section 2'!$E$17:$V$216,COLUMNS('Section 2'!$E$13:J$14),0)))","v":""},{"$f":"IF($C99=\"\",\"\",IF(ISBLANK(VLOOKUP($A99,'Section 2'!$E$17:$V$216,COLUMNS('Section 2'!$E$13:K$14),0)),\"\",VLOOKUP($A99,'Section 2'!$E$17:$V$216,COLUMNS('Section 2'!$E$13:K$14),0)))","v":""},{"$f":"IF($C99=\"\",\"\",IF(ISBLANK(VLOOKUP($A99,'Section 2'!$E$17:$V$216,COLUMNS('Section 2'!$E$13:L$14),0)),\"\",VLOOKUP($A99,'Section 2'!$E$17:$V$216,COLUMNS('Section 2'!$E$13:L$14),0)))","v":""},{"$f":"IF($C99=\"\",\"\",IF(ISBLANK(VLOOKUP($A99,'Section 2'!$E$17:$V$216,COLUMNS('Section 2'!$E$13:M$14),0)),\"\",VLOOKUP($A99,'Section 2'!$E$17:$V$216,COLUMNS('Section 2'!$E$13:M$14),0)))","v":""},{"$f":"IF($C99=\"\",\"\",IF(ISBLANK(VLOOKUP($A99,'Section 2'!$E$17:$V$216,COLUMNS('Section 2'!$E$13:N$14),0)),\"\",VLOOKUP($A99,'Section 2'!$E$17:$V$216,COLUMNS('Section 2'!$E$13:N$14),0)))","v":""},{"$f":"IF($C99=\"\",\"\",IF(ISBLANK(VLOOKUP($A99,'Section 2'!$E$17:$V$216,COLUMNS('Section 2'!$E$13:O$14),0)),\"\",VLOOKUP($A99,'Section 2'!$E$17:$V$216,COLUMNS('Section 2'!$E$13:O$14),0)))","v":""},{"$f":"IF($C99=\"\",\"\",IF(ISBLANK(VLOOKUP($A99,'Section 2'!$E$17:$V$216,COLUMNS('Section 2'!$E$13:P$14),0)),\"\",VLOOKUP($A99,'Section 2'!$E$17:$V$216,COLUMNS('Section 2'!$E$13:P$14),0)))","v":""},{"$f":"IF($C99=\"\",\"\",IF(ISBLANK(VLOOKUP($A99,'Section 2'!$E$17:$V$216,COLUMNS('Section 2'!$E$13:Q$14),0)),\"\",VLOOKUP($A99,'Section 2'!$E$17:$V$216,COLUMNS('Section 2'!$E$13:Q$14),0)))","v":""},{"$f":"IF($C99=\"\",\"\",IF(ISBLANK(VLOOKUP($A99,'Section 2'!$E$17:$V$216,COLUMNS('Section 2'!$E$13:R$14),0)),\"\",VLOOKUP($A99,'Section 2'!$E$17:$V$216,COLUMNS('Section 2'!$E$13:R$14),0)))","v":""},{"$f":"IF($C99=\"\",\"\",IF(ISBLANK(VLOOKUP($A99,'Section 2'!$E$17:$V$216,COLUMNS('Section 2'!$E$13:S$14),0)),\"\",VLOOKUP($A99,'Section 2'!$E$17:$V$216,COLUMNS('Section 2'!$E$13:S$14),0)))","v":""},{"$f":"IF($C99=\"\",\"\",IF(ISBLANK(VLOOKUP($A99,'Section 2'!$E$17:$V$216,COLUMNS('Section 2'!$E$13:T$14),0)),\"\",VLOOKUP($A99,'Section 2'!$E$17:$V$216,COLUMNS('Section 2'!$E$13:T$14),0)))","v":""},{"$f":"IF($C99=\"\",\"\",IF(ISBLANK(VLOOKUP($A99,'Section 2'!$E$17:$V$216,COLUMNS('Section 2'!$E$13:U$14),0)),\"\",VLOOKUP($A99,'Section 2'!$E$17:$V$216,COLUMNS('Section 2'!$E$13:U$14),0)))","v":""},{"$f":"IF($C99=\"\",\"\",IF(ISBLANK(VLOOKUP($A99,'Section 2'!$E$17:$V$216,COLUMNS('Section 2'!$E$13:V$14),0)),\"\",VLOOKUP($A99,'Section 2'!$E$17:$V$216,COLUMNS('Section 2'!$E$13:V$14),0)))","v":""}]
[99,"",{"$f":"IFERROR(VLOOKUP($A100,'Section 2'!$E$17:$V$216,COLUMNS('Section 2'!$E$13:E$14),0),\"\")","v":""},{"$f":"IF($C100=\"\",\"\",IF(ISBLANK(VLOOKUP($A100,'Section 2'!$E$17:$V$216,COLUMNS('Section 2'!$E$13:F$14),0)),\"\",VLOOKUP($A100,'Section 2'!$E$17:$V$216,COLUMNS('Section 2'!$E$13:F$14),0)))","v":""},{"$f":"IF($C100=\"\",\"\",IF(ISBLANK(VLOOKUP($A100,'Section 2'!$E$17:$V$216,COLUMNS('Section 2'!$E$13:G$14),0)),\"\",VLOOKUP($A100,'Section 2'!$E$17:$V$216,COLUMNS('Section 2'!$E$13:G$14),0)))","v":""},{"$f":"IF($C100=\"\",\"\",IF(ISBLANK(VLOOKUP($A100,'Section 2'!$E$17:$V$216,COLUMNS('Section 2'!$E$13:H$14),0)),\"\",VLOOKUP($A100,'Section 2'!$E$17:$V$216,COLUMNS('Section 2'!$E$13:H$14),0)))","v":""},{"$f":"IF($C100=\"\",\"\",IF(ISBLANK(VLOOKUP($A100,'Section 2'!$E$17:$V$216,COLUMNS('Section 2'!$E$13:I$14),0)),\"\",VLOOKUP($A100,'Section 2'!$E$17:$V$216,COLUMNS('Section 2'!$E$13:I$14),0)))","v":""},{"$f":"IF($C100=\"\",\"\",IF(ISBLANK(VLOOKUP($A100,'Section 2'!$E$17:$V$216,COLUMNS('Section 2'!$E$13:J$14),0)),\"\",VLOOKUP($A100,'Section 2'!$E$17:$V$216,COLUMNS('Section 2'!$E$13:J$14),0)))","v":""},{"$f":"IF($C100=\"\",\"\",IF(ISBLANK(VLOOKUP($A100,'Section 2'!$E$17:$V$216,COLUMNS('Section 2'!$E$13:K$14),0)),\"\",VLOOKUP($A100,'Section 2'!$E$17:$V$216,COLUMNS('Section 2'!$E$13:K$14),0)))","v":""},{"$f":"IF($C100=\"\",\"\",IF(ISBLANK(VLOOKUP($A100,'Section 2'!$E$17:$V$216,COLUMNS('Section 2'!$E$13:L$14),0)),\"\",VLOOKUP($A100,'Section 2'!$E$17:$V$216,COLUMNS('Section 2'!$E$13:L$14),0)))","v":""},{"$f":"IF($C100=\"\",\"\",IF(ISBLANK(VLOOKUP($A100,'Section 2'!$E$17:$V$216,COLUMNS('Section 2'!$E$13:M$14),0)),\"\",VLOOKUP($A100,'Section 2'!$E$17:$V$216,COLUMNS('Section 2'!$E$13:M$14),0)))","v":""},{"$f":"IF($C100=\"\",\"\",IF(ISBLANK(VLOOKUP($A100,'Section 2'!$E$17:$V$216,COLUMNS('Section 2'!$E$13:N$14),0)),\"\",VLOOKUP($A100,'Section 2'!$E$17:$V$216,COLUMNS('Section 2'!$E$13:N$14),0)))","v":""},{"$f":"IF($C100=\"\",\"\",IF(ISBLANK(VLOOKUP($A100,'Section 2'!$E$17:$V$216,COLUMNS('Section 2'!$E$13:O$14),0)),\"\",VLOOKUP($A100,'Section 2'!$E$17:$V$216,COLUMNS('Section 2'!$E$13:O$14),0)))","v":""},{"$f":"IF($C100=\"\",\"\",IF(ISBLANK(VLOOKUP($A100,'Section 2'!$E$17:$V$216,COLUMNS('Section 2'!$E$13:P$14),0)),\"\",VLOOKUP($A100,'Section 2'!$E$17:$V$216,COLUMNS('Section 2'!$E$13:P$14),0)))","v":""},{"$f":"IF($C100=\"\",\"\",IF(ISBLANK(VLOOKUP($A100,'Section 2'!$E$17:$V$216,COLUMNS('Section 2'!$E$13:Q$14),0)),\"\",VLOOKUP($A100,'Section 2'!$E$17:$V$216,COLUMNS('Section 2'!$E$13:Q$14),0)))","v":""},{"$f":"IF($C100=\"\",\"\",IF(ISBLANK(VLOOKUP($A100,'Section 2'!$E$17:$V$216,COLUMNS('Section 2'!$E$13:R$14),0)),\"\",VLOOKUP($A100,'Section 2'!$E$17:$V$216,COLUMNS('Section 2'!$E$13:R$14),0)))","v":""},{"$f":"IF($C100=\"\",\"\",IF(ISBLANK(VLOOKUP($A100,'Section 2'!$E$17:$V$216,COLUMNS('Section 2'!$E$13:S$14),0)),\"\",VLOOKUP($A100,'Section 2'!$E$17:$V$216,COLUMNS('Section 2'!$E$13:S$14),0)))","v":""},{"$f":"IF($C100=\"\",\"\",IF(ISBLANK(VLOOKUP($A100,'Section 2'!$E$17:$V$216,COLUMNS('Section 2'!$E$13:T$14),0)),\"\",VLOOKUP($A100,'Section 2'!$E$17:$V$216,COLUMNS('Section 2'!$E$13:T$14),0)))","v":""},{"$f":"IF($C100=\"\",\"\",IF(ISBLANK(VLOOKUP($A100,'Section 2'!$E$17:$V$216,COLUMNS('Section 2'!$E$13:U$14),0)),\"\",VLOOKUP($A100,'Section 2'!$E$17:$V$216,COLUMNS('Section 2'!$E$13:U$14),0)))","v":""},{"$f":"IF($C100=\"\",\"\",IF(ISBLANK(VLOOKUP($A100,'Section 2'!$E$17:$V$216,COLUMNS('Section 2'!$E$13:V$14),0)),\"\",VLOOKUP($A100,'Section 2'!$E$17:$V$216,COLUMNS('Section 2'!$E$13:V$14),0)))","v":""}]
[100,"",{"$f":"IFERROR(VLOOKUP($A101,'Section 2'!$E$17:$V$216,COLUMNS('Section 2'!$E$13:E$14),0),\"\")","v":""},{"$f":"IF($C101=\"\",\"\",IF(ISBLANK(VLOOKUP($A101,'Section 2'!$E$17:$V$216,COLUMNS('Section 2'!$E$13:F$14),0)),\"\",VLOOKUP($A101,'Section 2'!$E$17:$V$216,COLUMNS('Section 2'!$E$13:F$14),0)))","v":""},{"$f":"IF($C101=\"\",\"\",IF(ISBLANK(VLOOKUP($A101,'Section 2'!$E$17:$V$216,COLUMNS('Section 2'!$E$13:G$14),0)),\"\",VLOOKUP($A101,'Section 2'!$E$17:$V$216,COLUMNS('Section 2'!$E$13:G$14),0)))","v":""},{"$f":"IF($C101=\"\",\"\",IF(ISBLANK(VLOOKUP($A101,'Section 2'!$E$17:$V$216,COLUMNS('Section 2'!$E$13:H$14),0)),\"\",VLOOKUP($A101,'Section 2'!$E$17:$V$216,COLUMNS('Section 2'!$E$13:H$14),0)))","v":""},{"$f":"IF($C101=\"\",\"\",IF(ISBLANK(VLOOKUP($A101,'Section 2'!$E$17:$V$216,COLUMNS('Section 2'!$E$13:I$14),0)),\"\",VLOOKUP($A101,'Section 2'!$E$17:$V$216,COLUMNS('Section 2'!$E$13:I$14),0)))","v":""},{"$f":"IF($C101=\"\",\"\",IF(ISBLANK(VLOOKUP($A101,'Section 2'!$E$17:$V$216,COLUMNS('Section 2'!$E$13:J$14),0)),\"\",VLOOKUP($A101,'Section 2'!$E$17:$V$216,COLUMNS('Section 2'!$E$13:J$14),0)))","v":""},{"$f":"IF($C101=\"\",\"\",IF(ISBLANK(VLOOKUP($A101,'Section 2'!$E$17:$V$216,COLUMNS('Section 2'!$E$13:K$14),0)),\"\",VLOOKUP($A101,'Section 2'!$E$17:$V$216,COLUMNS('Section 2'!$E$13:K$14),0)))","v":""},{"$f":"IF($C101=\"\",\"\",IF(ISBLANK(VLOOKUP($A101,'Section 2'!$E$17:$V$216,COLUMNS('Section 2'!$E$13:L$14),0)),\"\",VLOOKUP($A101,'Section 2'!$E$17:$V$216,COLUMNS('Section 2'!$E$13:L$14),0)))","v":""},{"$f":"IF($C101=\"\",\"\",IF(ISBLANK(VLOOKUP($A101,'Section 2'!$E$17:$V$216,COLUMNS('Section 2'!$E$13:M$14),0)),\"\",VLOOKUP($A101,'Section 2'!$E$17:$V$216,COLUMNS('Section 2'!$E$13:M$14),0)))","v":""},{"$f":"IF($C101=\"\",\"\",IF(ISBLANK(VLOOKUP($A101,'Section 2'!$E$17:$V$216,COLUMNS('Section 2'!$E$13:N$14),0)),\"\",VLOOKUP($A101,'Section 2'!$E$17:$V$216,COLUMNS('Section 2'!$E$13:N$14),0)))","v":""},{"$f":"IF($C101=\"\",\"\",IF(ISBLANK(VLOOKUP($A101,'Section 2'!$E$17:$V$216,COLUMNS('Section 2'!$E$13:O$14),0)),\"\",VLOOKUP($A101,'Section 2'!$E$17:$V$216,COLUMNS('Section 2'!$E$13:O$14),0)))","v":""},{"$f":"IF($C101=\"\",\"\",IF(ISBLANK(VLOOKUP($A101,'Section 2'!$E$17:$V$216,COLUMNS('Section 2'!$E$13:P$14),0)),\"\",VLOOKUP($A101,'Section 2'!$E$17:$V$216,COLUMNS('Section 2'!$E$13:P$14),0)))","v":""},{"$f":"IF($C101=\"\",\"\",IF(ISBLANK(VLOOKUP($A101,'Section 2'!$E$17:$V$216,COLUMNS('Section 2'!$E$13:Q$14),0)),\"\",VLOOKUP($A101,'Section 2'!$E$17:$V$216,COLUMNS('Section 2'!$E$13:Q$14),0)))","v":""},{"$f":"IF($C101=\"\",\"\",IF(ISBLANK(VLOOKUP($A101,'Section 2'!$E$17:$V$216,COLUMNS('Section 2'!$E$13:R$14),0)),\"\",VLOOKUP($A101,'Section 2'!$E$17:$V$216,COLUMNS('Section 2'!$E$13:R$14),0)))","v":""},{"$f":"IF($C101=\"\",\"\",IF(ISBLANK(VLOOKUP($A101,'Section 2'!$E$17:$V$216,COLUMNS('Section 2'!$E$13:S$14),0)),\"\",VLOOKUP($A101,'Section 2'!$E$17:$V$216,COLUMNS('Section 2'!$E$13:S$14),0)))","v":""},{"$f":"IF($C101=\"\",\"\",IF(ISBLANK(VLOOKUP($A101,'Section 2'!$E$17:$V$216,COLUMNS('Section 2'!$E$13:T$14),0)),\"\",VLOOKUP($A101,'Section 2'!$E$17:$V$216,COLUMNS('Section 2'!$E$13:T$14),0)))","v":""},{"$f":"IF($C101=\"\",\"\",IF(ISBLANK(VLOOKUP($A101,'Section 2'!$E$17:$V$216,COLUMNS('Section 2'!$E$13:U$14),0)),\"\",VLOOKUP($A101,'Section 2'!$E$17:$V$216,COLUMNS('Section 2'!$E$13:U$14),0)))","v":""},{"$f":"IF($C101=\"\",\"\",IF(ISBLANK(VLOOKUP($A101,'Section 2'!$E$17:$V$216,COLUMNS('Section 2'!$E$13:V$14),0)),\"\",VLOOKUP($A101,'Section 2'!$E$17:$V$216,COLUMNS('Section 2'!$E$13:V$14),0)))","v":""}]
[101,"",{"$f":"IFERROR(VLOOKUP($A102,'Section 2'!$E$17:$V$216,COLUMNS('Section 2'!$E$13:E$14),0),\"\")","v":""},{"$f":"IF($C102=\"\",\"\",IF(ISBLANK(VLOOKUP($A102,'Section 2'!$E$17:$V$216,COLUMNS('Section 2'!$E$13:F$14),0)),\"\",VLOOKUP($A102,'Section 2'!$E$17:$V$216,COLUMNS('Section 2'!$E$13:F$14),0)))","v":""},{"$f":"IF($C102=\"\",\"\",IF(ISBLANK(VLOOKUP($A102,'Section 2'!$E$17:$V$216,COLUMNS('Section 2'!$E$13:G$14),0)),\"\",VLOOKUP($A102,'Section 2'!$E$17:$V$216,COLUMNS('Section 2'!$E$13:G$14),0)))","v":""},{"$f":"IF($C102=\"\",\"\",IF(ISBLANK(VLOOKUP($A102,'Section 2'!$E$17:$V$216,COLUMNS('Section 2'!$E$13:H$14),0)),\"\",VLOOKUP($A102,'Section 2'!$E$17:$V$216,COLUMNS('Section 2'!$E$13:H$14),0)))","v":""},{"$f":"IF($C102=\"\",\"\",IF(ISBLANK(VLOOKUP($A102,'Section 2'!$E$17:$V$216,COLUMNS('Section 2'!$E$13:I$14),0)),\"\",VLOOKUP($A102,'Section 2'!$E$17:$V$216,COLUMNS('Section 2'!$E$13:I$14),0)))","v":""},{"$f":"IF($C102=\"\",\"\",IF(ISBLANK(VLOOKUP($A102,'Section 2'!$E$17:$V$216,COLUMNS('Section 2'!$E$13:J$14),0)),\"\",VLOOKUP($A102,'Section 2'!$E$17:$V$216,COLUMNS('Section 2'!$E$13:J$14),0)))","v":""},{"$f":"IF($C102=\"\",\"\",IF(ISBLANK(VLOOKUP($A102,'Section 2'!$E$17:$V$216,COLUMNS('Section 2'!$E$13:K$14),0)),\"\",VLOOKUP($A102,'Section 2'!$E$17:$V$216,COLUMNS('Section 2'!$E$13:K$14),0)))","v":""},{"$f":"IF($C102=\"\",\"\",IF(ISBLANK(VLOOKUP($A102,'Section 2'!$E$17:$V$216,COLUMNS('Section 2'!$E$13:L$14),0)),\"\",VLOOKUP($A102,'Section 2'!$E$17:$V$216,COLUMNS('Section 2'!$E$13:L$14),0)))","v":""},{"$f":"IF($C102=\"\",\"\",IF(ISBLANK(VLOOKUP($A102,'Section 2'!$E$17:$V$216,COLUMNS('Section 2'!$E$13:M$14),0)),\"\",VLOOKUP($A102,'Section 2'!$E$17:$V$216,COLUMNS('Section 2'!$E$13:M$14),0)))","v":""},{"$f":"IF($C102=\"\",\"\",IF(ISBLANK(VLOOKUP($A102,'Section 2'!$E$17:$V$216,COLUMNS('Section 2'!$E$13:N$14),0)),\"\",VLOOKUP($A102,'Section 2'!$E$17:$V$216,COLUMNS('Section 2'!$E$13:N$14),0)))","v":""},{"$f":"IF($C102=\"\",\"\",IF(ISBLANK(VLOOKUP($A102,'Section 2'!$E$17:$V$216,COLUMNS('Section 2'!$E$13:O$14),0)),\"\",VLOOKUP($A102,'Section 2'!$E$17:$V$216,COLUMNS('Section 2'!$E$13:O$14),0)))","v":""},{"$f":"IF($C102=\"\",\"\",IF(ISBLANK(VLOOKUP($A102,'Section 2'!$E$17:$V$216,COLUMNS('Section 2'!$E$13:P$14),0)),\"\",VLOOKUP($A102,'Section 2'!$E$17:$V$216,COLUMNS('Section 2'!$E$13:P$14),0)))","v":""},{"$f":"IF($C102=\"\",\"\",IF(ISBLANK(VLOOKUP($A102,'Section 2'!$E$17:$V$216,COLUMNS('Section 2'!$E$13:Q$14),0)),\"\",VLOOKUP($A102,'Section 2'!$E$17:$V$216,COLUMNS('Section 2'!$E$13:Q$14),0)))","v":""},{"$f":"IF($C102=\"\",\"\",IF(ISBLANK(VLOOKUP($A102,'Section 2'!$E$17:$V$216,COLUMNS('Section 2'!$E$13:R$14),0)),\"\",VLOOKUP($A102,'Section 2'!$E$17:$V$216,COLUMNS('Section 2'!$E$13:R$14),0)))","v":""},{"$f":"IF($C102=\"\",\"\",IF(ISBLANK(VLOOKUP($A102,'Section 2'!$E$17:$V$216,COLUMNS('Section 2'!$E$13:S$14),0)),\"\",VLOOKUP($A102,'Section 2'!$E$17:$V$216,COLUMNS('Section 2'!$E$13:S$14),0)))","v":""},{"$f":"IF($C102=\"\",\"\",IF(ISBLANK(VLOOKUP($A102,'Section 2'!$E$17:$V$216,COLUMNS('Section 2'!$E$13:T$14),0)),\"\",VLOOKUP($A102,'Section 2'!$E$17:$V$216,COLUMNS('Section 2'!$E$13:T$14),0)))","v":""},{"$f":"IF($C102=\"\",\"\",IF(ISBLANK(VLOOKUP($A102,'Section 2'!$E$17:$V$216,COLUMNS('Section 2'!$E$13:U$14),0)),\"\",VLOOKUP($A102,'Section 2'!$E$17:$V$216,COLUMNS('Section 2'!$E$13:U$14),0)))","v":""},{"$f":"IF($C102=\"\",\"\",IF(ISBLANK(VLOOKUP($A102,'Section 2'!$E$17:$V$216,COLUMNS('Section 2'!$E$13:V$14),0)),\"\",VLOOKUP($A102,'Section 2'!$E$17:$V$216,COLUMNS('Section 2'!$E$13:V$14),0)))","v":""}]
[102,"",{"$f":"IFERROR(VLOOKUP($A103,'Section 2'!$E$17:$V$216,COLUMNS('Section 2'!$E$13:E$14),0),\"\")","v":""},{"$f":"IF($C103=\"\",\"\",IF(ISBLANK(VLOOKUP($A103,'Section 2'!$E$17:$V$216,COLUMNS('Section 2'!$E$13:F$14),0)),\"\",VLOOKUP($A103,'Section 2'!$E$17:$V$216,COLUMNS('Section 2'!$E$13:F$14),0)))","v":""},{"$f":"IF($C103=\"\",\"\",IF(ISBLANK(VLOOKUP($A103,'Section 2'!$E$17:$V$216,COLUMNS('Section 2'!$E$13:G$14),0)),\"\",VLOOKUP($A103,'Section 2'!$E$17:$V$216,COLUMNS('Section 2'!$E$13:G$14),0)))","v":""},{"$f":"IF($C103=\"\",\"\",IF(ISBLANK(VLOOKUP($A103,'Section 2'!$E$17:$V$216,COLUMNS('Section 2'!$E$13:H$14),0)),\"\",VLOOKUP($A103,'Section 2'!$E$17:$V$216,COLUMNS('Section 2'!$E$13:H$14),0)))","v":""},{"$f":"IF($C103=\"\",\"\",IF(ISBLANK(VLOOKUP($A103,'Section 2'!$E$17:$V$216,COLUMNS('Section 2'!$E$13:I$14),0)),\"\",VLOOKUP($A103,'Section 2'!$E$17:$V$216,COLUMNS('Section 2'!$E$13:I$14),0)))","v":""},{"$f":"IF($C103=\"\",\"\",IF(ISBLANK(VLOOKUP($A103,'Section 2'!$E$17:$V$216,COLUMNS('Section 2'!$E$13:J$14),0)),\"\",VLOOKUP($A103,'Section 2'!$E$17:$V$216,COLUMNS('Section 2'!$E$13:J$14),0)))","v":""},{"$f":"IF($C103=\"\",\"\",IF(ISBLANK(VLOOKUP($A103,'Section 2'!$E$17:$V$216,COLUMNS('Section 2'!$E$13:K$14),0)),\"\",VLOOKUP($A103,'Section 2'!$E$17:$V$216,COLUMNS('Section 2'!$E$13:K$14),0)))","v":""},{"$f":"IF($C103=\"\",\"\",IF(ISBLANK(VLOOKUP($A103,'Section 2'!$E$17:$V$216,COLUMNS('Section 2'!$E$13:L$14),0)),\"\",VLOOKUP($A103,'Section 2'!$E$17:$V$216,COLUMNS('Section 2'!$E$13:L$14),0)))","v":""},{"$f":"IF($C103=\"\",\"\",IF(ISBLANK(VLOOKUP($A103,'Section 2'!$E$17:$V$216,COLUMNS('Section 2'!$E$13:M$14),0)),\"\",VLOOKUP($A103,'Section 2'!$E$17:$V$216,COLUMNS('Section 2'!$E$13:M$14),0)))","v":""},{"$f":"IF($C103=\"\",\"\",IF(ISBLANK(VLOOKUP($A103,'Section 2'!$E$17:$V$216,COLUMNS('Section 2'!$E$13:N$14),0)),\"\",VLOOKUP($A103,'Section 2'!$E$17:$V$216,COLUMNS('Section 2'!$E$13:N$14),0)))","v":""},{"$f":"IF($C103=\"\",\"\",IF(ISBLANK(VLOOKUP($A103,'Section 2'!$E$17:$V$216,COLUMNS('Section 2'!$E$13:O$14),0)),\"\",VLOOKUP($A103,'Section 2'!$E$17:$V$216,COLUMNS('Section 2'!$E$13:O$14),0)))","v":""},{"$f":"IF($C103=\"\",\"\",IF(ISBLANK(VLOOKUP($A103,'Section 2'!$E$17:$V$216,COLUMNS('Section 2'!$E$13:P$14),0)),\"\",VLOOKUP($A103,'Section 2'!$E$17:$V$216,COLUMNS('Section 2'!$E$13:P$14),0)))","v":""},{"$f":"IF($C103=\"\",\"\",IF(ISBLANK(VLOOKUP($A103,'Section 2'!$E$17:$V$216,COLUMNS('Section 2'!$E$13:Q$14),0)),\"\",VLOOKUP($A103,'Section 2'!$E$17:$V$216,COLUMNS('Section 2'!$E$13:Q$14),0)))","v":""},{"$f":"IF($C103=\"\",\"\",IF(ISBLANK(VLOOKUP($A103,'Section 2'!$E$17:$V$216,COLUMNS('Section 2'!$E$13:R$14),0)),\"\",VLOOKUP($A103,'Section 2'!$E$17:$V$216,COLUMNS('Section 2'!$E$13:R$14),0)))","v":""},{"$f":"IF($C103=\"\",\"\",IF(ISBLANK(VLOOKUP($A103,'Section 2'!$E$17:$V$216,COLUMNS('Section 2'!$E$13:S$14),0)),\"\",VLOOKUP($A103,'Section 2'!$E$17:$V$216,COLUMNS('Section 2'!$E$13:S$14),0)))","v":""},{"$f":"IF($C103=\"\",\"\",IF(ISBLANK(VLOOKUP($A103,'Section 2'!$E$17:$V$216,COLUMNS('Section 2'!$E$13:T$14),0)),\"\",VLOOKUP($A103,'Section 2'!$E$17:$V$216,COLUMNS('Section 2'!$E$13:T$14),0)))","v":""},{"$f":"IF($C103=\"\",\"\",IF(ISBLANK(VLOOKUP($A103,'Section 2'!$E$17:$V$216,COLUMNS('Section 2'!$E$13:U$14),0)),\"\",VLOOKUP($A103,'Section 2'!$E$17:$V$216,COLUMNS('Section 2'!$E$13:U$14),0)))","v":""},{"$f":"IF($C103=\"\",\"\",IF(ISBLANK(VLOOKUP($A103,'Section 2'!$E$17:$V$216,COLUMNS('Section 2'!$E$13:V$14),0)),\"\",VLOOKUP($A103,'Section 2'!$E$17:$V$216,COLUMNS('Section 2'!$E$13:V$14),0)))","v":""}]
[103,"",{"$f":"IFERROR(VLOOKUP($A104,'Section 2'!$E$17:$V$216,COLUMNS('Section 2'!$E$13:E$14),0),\"\")","v":""},{"$f":"IF($C104=\"\",\"\",IF(ISBLANK(VLOOKUP($A104,'Section 2'!$E$17:$V$216,COLUMNS('Section 2'!$E$13:F$14),0)),\"\",VLOOKUP($A104,'Section 2'!$E$17:$V$216,COLUMNS('Section 2'!$E$13:F$14),0)))","v":""},{"$f":"IF($C104=\"\",\"\",IF(ISBLANK(VLOOKUP($A104,'Section 2'!$E$17:$V$216,COLUMNS('Section 2'!$E$13:G$14),0)),\"\",VLOOKUP($A104,'Section 2'!$E$17:$V$216,COLUMNS('Section 2'!$E$13:G$14),0)))","v":""},{"$f":"IF($C104=\"\",\"\",IF(ISBLANK(VLOOKUP($A104,'Section 2'!$E$17:$V$216,COLUMNS('Section 2'!$E$13:H$14),0)),\"\",VLOOKUP($A104,'Section 2'!$E$17:$V$216,COLUMNS('Section 2'!$E$13:H$14),0)))","v":""},{"$f":"IF($C104=\"\",\"\",IF(ISBLANK(VLOOKUP($A104,'Section 2'!$E$17:$V$216,COLUMNS('Section 2'!$E$13:I$14),0)),\"\",VLOOKUP($A104,'Section 2'!$E$17:$V$216,COLUMNS('Section 2'!$E$13:I$14),0)))","v":""},{"$f":"IF($C104=\"\",\"\",IF(ISBLANK(VLOOKUP($A104,'Section 2'!$E$17:$V$216,COLUMNS('Section 2'!$E$13:J$14),0)),\"\",VLOOKUP($A104,'Section 2'!$E$17:$V$216,COLUMNS('Section 2'!$E$13:J$14),0)))","v":""},{"$f":"IF($C104=\"\",\"\",IF(ISBLANK(VLOOKUP($A104,'Section 2'!$E$17:$V$216,COLUMNS('Section 2'!$E$13:K$14),0)),\"\",VLOOKUP($A104,'Section 2'!$E$17:$V$216,COLUMNS('Section 2'!$E$13:K$14),0)))","v":""},{"$f":"IF($C104=\"\",\"\",IF(ISBLANK(VLOOKUP($A104,'Section 2'!$E$17:$V$216,COLUMNS('Section 2'!$E$13:L$14),0)),\"\",VLOOKUP($A104,'Section 2'!$E$17:$V$216,COLUMNS('Section 2'!$E$13:L$14),0)))","v":""},{"$f":"IF($C104=\"\",\"\",IF(ISBLANK(VLOOKUP($A104,'Section 2'!$E$17:$V$216,COLUMNS('Section 2'!$E$13:M$14),0)),\"\",VLOOKUP($A104,'Section 2'!$E$17:$V$216,COLUMNS('Section 2'!$E$13:M$14),0)))","v":""},{"$f":"IF($C104=\"\",\"\",IF(ISBLANK(VLOOKUP($A104,'Section 2'!$E$17:$V$216,COLUMNS('Section 2'!$E$13:N$14),0)),\"\",VLOOKUP($A104,'Section 2'!$E$17:$V$216,COLUMNS('Section 2'!$E$13:N$14),0)))","v":""},{"$f":"IF($C104=\"\",\"\",IF(ISBLANK(VLOOKUP($A104,'Section 2'!$E$17:$V$216,COLUMNS('Section 2'!$E$13:O$14),0)),\"\",VLOOKUP($A104,'Section 2'!$E$17:$V$216,COLUMNS('Section 2'!$E$13:O$14),0)))","v":""},{"$f":"IF($C104=\"\",\"\",IF(ISBLANK(VLOOKUP($A104,'Section 2'!$E$17:$V$216,COLUMNS('Section 2'!$E$13:P$14),0)),\"\",VLOOKUP($A104,'Section 2'!$E$17:$V$216,COLUMNS('Section 2'!$E$13:P$14),0)))","v":""},{"$f":"IF($C104=\"\",\"\",IF(ISBLANK(VLOOKUP($A104,'Section 2'!$E$17:$V$216,COLUMNS('Section 2'!$E$13:Q$14),0)),\"\",VLOOKUP($A104,'Section 2'!$E$17:$V$216,COLUMNS('Section 2'!$E$13:Q$14),0)))","v":""},{"$f":"IF($C104=\"\",\"\",IF(ISBLANK(VLOOKUP($A104,'Section 2'!$E$17:$V$216,COLUMNS('Section 2'!$E$13:R$14),0)),\"\",VLOOKUP($A104,'Section 2'!$E$17:$V$216,COLUMNS('Section 2'!$E$13:R$14),0)))","v":""},{"$f":"IF($C104=\"\",\"\",IF(ISBLANK(VLOOKUP($A104,'Section 2'!$E$17:$V$216,COLUMNS('Section 2'!$E$13:S$14),0)),\"\",VLOOKUP($A104,'Section 2'!$E$17:$V$216,COLUMNS('Section 2'!$E$13:S$14),0)))","v":""},{"$f":"IF($C104=\"\",\"\",IF(ISBLANK(VLOOKUP($A104,'Section 2'!$E$17:$V$216,COLUMNS('Section 2'!$E$13:T$14),0)),\"\",VLOOKUP($A104,'Section 2'!$E$17:$V$216,COLUMNS('Section 2'!$E$13:T$14),0)))","v":""},{"$f":"IF($C104=\"\",\"\",IF(ISBLANK(VLOOKUP($A104,'Section 2'!$E$17:$V$216,COLUMNS('Section 2'!$E$13:U$14),0)),\"\",VLOOKUP($A104,'Section 2'!$E$17:$V$216,COLUMNS('Section 2'!$E$13:U$14),0)))","v":""},{"$f":"IF($C104=\"\",\"\",IF(ISBLANK(VLOOKUP($A104,'Section 2'!$E$17:$V$216,COLUMNS('Section 2'!$E$13:V$14),0)),\"\",VLOOKUP($A104,'Section 2'!$E$17:$V$216,COLUMNS('Section 2'!$E$13:V$14),0)))","v":""}]
[104,"",{"$f":"IFERROR(VLOOKUP($A105,'Section 2'!$E$17:$V$216,COLUMNS('Section 2'!$E$13:E$14),0),\"\")","v":""},{"$f":"IF($C105=\"\",\"\",IF(ISBLANK(VLOOKUP($A105,'Section 2'!$E$17:$V$216,COLUMNS('Section 2'!$E$13:F$14),0)),\"\",VLOOKUP($A105,'Section 2'!$E$17:$V$216,COLUMNS('Section 2'!$E$13:F$14),0)))","v":""},{"$f":"IF($C105=\"\",\"\",IF(ISBLANK(VLOOKUP($A105,'Section 2'!$E$17:$V$216,COLUMNS('Section 2'!$E$13:G$14),0)),\"\",VLOOKUP($A105,'Section 2'!$E$17:$V$216,COLUMNS('Section 2'!$E$13:G$14),0)))","v":""},{"$f":"IF($C105=\"\",\"\",IF(ISBLANK(VLOOKUP($A105,'Section 2'!$E$17:$V$216,COLUMNS('Section 2'!$E$13:H$14),0)),\"\",VLOOKUP($A105,'Section 2'!$E$17:$V$216,COLUMNS('Section 2'!$E$13:H$14),0)))","v":""},{"$f":"IF($C105=\"\",\"\",IF(ISBLANK(VLOOKUP($A105,'Section 2'!$E$17:$V$216,COLUMNS('Section 2'!$E$13:I$14),0)),\"\",VLOOKUP($A105,'Section 2'!$E$17:$V$216,COLUMNS('Section 2'!$E$13:I$14),0)))","v":""},{"$f":"IF($C105=\"\",\"\",IF(ISBLANK(VLOOKUP($A105,'Section 2'!$E$17:$V$216,COLUMNS('Section 2'!$E$13:J$14),0)),\"\",VLOOKUP($A105,'Section 2'!$E$17:$V$216,COLUMNS('Section 2'!$E$13:J$14),0)))","v":""},{"$f":"IF($C105=\"\",\"\",IF(ISBLANK(VLOOKUP($A105,'Section 2'!$E$17:$V$216,COLUMNS('Section 2'!$E$13:K$14),0)),\"\",VLOOKUP($A105,'Section 2'!$E$17:$V$216,COLUMNS('Section 2'!$E$13:K$14),0)))","v":""},{"$f":"IF($C105=\"\",\"\",IF(ISBLANK(VLOOKUP($A105,'Section 2'!$E$17:$V$216,COLUMNS('Section 2'!$E$13:L$14),0)),\"\",VLOOKUP($A105,'Section 2'!$E$17:$V$216,COLUMNS('Section 2'!$E$13:L$14),0)))","v":""},{"$f":"IF($C105=\"\",\"\",IF(ISBLANK(VLOOKUP($A105,'Section 2'!$E$17:$V$216,COLUMNS('Section 2'!$E$13:M$14),0)),\"\",VLOOKUP($A105,'Section 2'!$E$17:$V$216,COLUMNS('Section 2'!$E$13:M$14),0)))","v":""},{"$f":"IF($C105=\"\",\"\",IF(ISBLANK(VLOOKUP($A105,'Section 2'!$E$17:$V$216,COLUMNS('Section 2'!$E$13:N$14),0)),\"\",VLOOKUP($A105,'Section 2'!$E$17:$V$216,COLUMNS('Section 2'!$E$13:N$14),0)))","v":""},{"$f":"IF($C105=\"\",\"\",IF(ISBLANK(VLOOKUP($A105,'Section 2'!$E$17:$V$216,COLUMNS('Section 2'!$E$13:O$14),0)),\"\",VLOOKUP($A105,'Section 2'!$E$17:$V$216,COLUMNS('Section 2'!$E$13:O$14),0)))","v":""},{"$f":"IF($C105=\"\",\"\",IF(ISBLANK(VLOOKUP($A105,'Section 2'!$E$17:$V$216,COLUMNS('Section 2'!$E$13:P$14),0)),\"\",VLOOKUP($A105,'Section 2'!$E$17:$V$216,COLUMNS('Section 2'!$E$13:P$14),0)))","v":""},{"$f":"IF($C105=\"\",\"\",IF(ISBLANK(VLOOKUP($A105,'Section 2'!$E$17:$V$216,COLUMNS('Section 2'!$E$13:Q$14),0)),\"\",VLOOKUP($A105,'Section 2'!$E$17:$V$216,COLUMNS('Section 2'!$E$13:Q$14),0)))","v":""},{"$f":"IF($C105=\"\",\"\",IF(ISBLANK(VLOOKUP($A105,'Section 2'!$E$17:$V$216,COLUMNS('Section 2'!$E$13:R$14),0)),\"\",VLOOKUP($A105,'Section 2'!$E$17:$V$216,COLUMNS('Section 2'!$E$13:R$14),0)))","v":""},{"$f":"IF($C105=\"\",\"\",IF(ISBLANK(VLOOKUP($A105,'Section 2'!$E$17:$V$216,COLUMNS('Section 2'!$E$13:S$14),0)),\"\",VLOOKUP($A105,'Section 2'!$E$17:$V$216,COLUMNS('Section 2'!$E$13:S$14),0)))","v":""},{"$f":"IF($C105=\"\",\"\",IF(ISBLANK(VLOOKUP($A105,'Section 2'!$E$17:$V$216,COLUMNS('Section 2'!$E$13:T$14),0)),\"\",VLOOKUP($A105,'Section 2'!$E$17:$V$216,COLUMNS('Section 2'!$E$13:T$14),0)))","v":""},{"$f":"IF($C105=\"\",\"\",IF(ISBLANK(VLOOKUP($A105,'Section 2'!$E$17:$V$216,COLUMNS('Section 2'!$E$13:U$14),0)),\"\",VLOOKUP($A105,'Section 2'!$E$17:$V$216,COLUMNS('Section 2'!$E$13:U$14),0)))","v":""},{"$f":"IF($C105=\"\",\"\",IF(ISBLANK(VLOOKUP($A105,'Section 2'!$E$17:$V$216,COLUMNS('Section 2'!$E$13:V$14),0)),\"\",VLOOKUP($A105,'Section 2'!$E$17:$V$216,COLUMNS('Section 2'!$E$13:V$14),0)))","v":""}]
[105,"",{"$f":"IFERROR(VLOOKUP($A106,'Section 2'!$E$17:$V$216,COLUMNS('Section 2'!$E$13:E$14),0),\"\")","v":""},{"$f":"IF($C106=\"\",\"\",IF(ISBLANK(VLOOKUP($A106,'Section 2'!$E$17:$V$216,COLUMNS('Section 2'!$E$13:F$14),0)),\"\",VLOOKUP($A106,'Section 2'!$E$17:$V$216,COLUMNS('Section 2'!$E$13:F$14),0)))","v":""},{"$f":"IF($C106=\"\",\"\",IF(ISBLANK(VLOOKUP($A106,'Section 2'!$E$17:$V$216,COLUMNS('Section 2'!$E$13:G$14),0)),\"\",VLOOKUP($A106,'Section 2'!$E$17:$V$216,COLUMNS('Section 2'!$E$13:G$14),0)))","v":""},{"$f":"IF($C106=\"\",\"\",IF(ISBLANK(VLOOKUP($A106,'Section 2'!$E$17:$V$216,COLUMNS('Section 2'!$E$13:H$14),0)),\"\",VLOOKUP($A106,'Section 2'!$E$17:$V$216,COLUMNS('Section 2'!$E$13:H$14),0)))","v":""},{"$f":"IF($C106=\"\",\"\",IF(ISBLANK(VLOOKUP($A106,'Section 2'!$E$17:$V$216,COLUMNS('Section 2'!$E$13:I$14),0)),\"\",VLOOKUP($A106,'Section 2'!$E$17:$V$216,COLUMNS('Section 2'!$E$13:I$14),0)))","v":""},{"$f":"IF($C106=\"\",\"\",IF(ISBLANK(VLOOKUP($A106,'Section 2'!$E$17:$V$216,COLUMNS('Section 2'!$E$13:J$14),0)),\"\",VLOOKUP($A106,'Section 2'!$E$17:$V$216,COLUMNS('Section 2'!$E$13:J$14),0)))","v":""},{"$f":"IF($C106=\"\",\"\",IF(ISBLANK(VLOOKUP($A106,'Section 2'!$E$17:$V$216,COLUMNS('Section 2'!$E$13:K$14),0)),\"\",VLOOKUP($A106,'Section 2'!$E$17:$V$216,COLUMNS('Section 2'!$E$13:K$14),0)))","v":""},{"$f":"IF($C106=\"\",\"\",IF(ISBLANK(VLOOKUP($A106,'Section 2'!$E$17:$V$216,COLUMNS('Section 2'!$E$13:L$14),0)),\"\",VLOOKUP($A106,'Section 2'!$E$17:$V$216,COLUMNS('Section 2'!$E$13:L$14),0)))","v":""},{"$f":"IF($C106=\"\",\"\",IF(ISBLANK(VLOOKUP($A106,'Section 2'!$E$17:$V$216,COLUMNS('Section 2'!$E$13:M$14),0)),\"\",VLOOKUP($A106,'Section 2'!$E$17:$V$216,COLUMNS('Section 2'!$E$13:M$14),0)))","v":""},{"$f":"IF($C106=\"\",\"\",IF(ISBLANK(VLOOKUP($A106,'Section 2'!$E$17:$V$216,COLUMNS('Section 2'!$E$13:N$14),0)),\"\",VLOOKUP($A106,'Section 2'!$E$17:$V$216,COLUMNS('Section 2'!$E$13:N$14),0)))","v":""},{"$f":"IF($C106=\"\",\"\",IF(ISBLANK(VLOOKUP($A106,'Section 2'!$E$17:$V$216,COLUMNS('Section 2'!$E$13:O$14),0)),\"\",VLOOKUP($A106,'Section 2'!$E$17:$V$216,COLUMNS('Section 2'!$E$13:O$14),0)))","v":""},{"$f":"IF($C106=\"\",\"\",IF(ISBLANK(VLOOKUP($A106,'Section 2'!$E$17:$V$216,COLUMNS('Section 2'!$E$13:P$14),0)),\"\",VLOOKUP($A106,'Section 2'!$E$17:$V$216,COLUMNS('Section 2'!$E$13:P$14),0)))","v":""},{"$f":"IF($C106=\"\",\"\",IF(ISBLANK(VLOOKUP($A106,'Section 2'!$E$17:$V$216,COLUMNS('Section 2'!$E$13:Q$14),0)),\"\",VLOOKUP($A106,'Section 2'!$E$17:$V$216,COLUMNS('Section 2'!$E$13:Q$14),0)))","v":""},{"$f":"IF($C106=\"\",\"\",IF(ISBLANK(VLOOKUP($A106,'Section 2'!$E$17:$V$216,COLUMNS('Section 2'!$E$13:R$14),0)),\"\",VLOOKUP($A106,'Section 2'!$E$17:$V$216,COLUMNS('Section 2'!$E$13:R$14),0)))","v":""},{"$f":"IF($C106=\"\",\"\",IF(ISBLANK(VLOOKUP($A106,'Section 2'!$E$17:$V$216,COLUMNS('Section 2'!$E$13:S$14),0)),\"\",VLOOKUP($A106,'Section 2'!$E$17:$V$216,COLUMNS('Section 2'!$E$13:S$14),0)))","v":""},{"$f":"IF($C106=\"\",\"\",IF(ISBLANK(VLOOKUP($A106,'Section 2'!$E$17:$V$216,COLUMNS('Section 2'!$E$13:T$14),0)),\"\",VLOOKUP($A106,'Section 2'!$E$17:$V$216,COLUMNS('Section 2'!$E$13:T$14),0)))","v":""},{"$f":"IF($C106=\"\",\"\",IF(ISBLANK(VLOOKUP($A106,'Section 2'!$E$17:$V$216,COLUMNS('Section 2'!$E$13:U$14),0)),\"\",VLOOKUP($A106,'Section 2'!$E$17:$V$216,COLUMNS('Section 2'!$E$13:U$14),0)))","v":""},{"$f":"IF($C106=\"\",\"\",IF(ISBLANK(VLOOKUP($A106,'Section 2'!$E$17:$V$216,COLUMNS('Section 2'!$E$13:V$14),0)),\"\",VLOOKUP($A106,'Section 2'!$E$17:$V$216,COLUMNS('Section 2'!$E$13:V$14),0)))","v":""}]
[106,"",{"$f":"IFERROR(VLOOKUP($A107,'Section 2'!$E$17:$V$216,COLUMNS('Section 2'!$E$13:E$14),0),\"\")","v":""},{"$f":"IF($C107=\"\",\"\",IF(ISBLANK(VLOOKUP($A107,'Section 2'!$E$17:$V$216,COLUMNS('Section 2'!$E$13:F$14),0)),\"\",VLOOKUP($A107,'Section 2'!$E$17:$V$216,COLUMNS('Section 2'!$E$13:F$14),0)))","v":""},{"$f":"IF($C107=\"\",\"\",IF(ISBLANK(VLOOKUP($A107,'Section 2'!$E$17:$V$216,COLUMNS('Section 2'!$E$13:G$14),0)),\"\",VLOOKUP($A107,'Section 2'!$E$17:$V$216,COLUMNS('Section 2'!$E$13:G$14),0)))","v":""},{"$f":"IF($C107=\"\",\"\",IF(ISBLANK(VLOOKUP($A107,'Section 2'!$E$17:$V$216,COLUMNS('Section 2'!$E$13:H$14),0)),\"\",VLOOKUP($A107,'Section 2'!$E$17:$V$216,COLUMNS('Section 2'!$E$13:H$14),0)))","v":""},{"$f":"IF($C107=\"\",\"\",IF(ISBLANK(VLOOKUP($A107,'Section 2'!$E$17:$V$216,COLUMNS('Section 2'!$E$13:I$14),0)),\"\",VLOOKUP($A107,'Section 2'!$E$17:$V$216,COLUMNS('Section 2'!$E$13:I$14),0)))","v":""},{"$f":"IF($C107=\"\",\"\",IF(ISBLANK(VLOOKUP($A107,'Section 2'!$E$17:$V$216,COLUMNS('Section 2'!$E$13:J$14),0)),\"\",VLOOKUP($A107,'Section 2'!$E$17:$V$216,COLUMNS('Section 2'!$E$13:J$14),0)))","v":""},{"$f":"IF($C107=\"\",\"\",IF(ISBLANK(VLOOKUP($A107,'Section 2'!$E$17:$V$216,COLUMNS('Section 2'!$E$13:K$14),0)),\"\",VLOOKUP($A107,'Section 2'!$E$17:$V$216,COLUMNS('Section 2'!$E$13:K$14),0)))","v":""},{"$f":"IF($C107=\"\",\"\",IF(ISBLANK(VLOOKUP($A107,'Section 2'!$E$17:$V$216,COLUMNS('Section 2'!$E$13:L$14),0)),\"\",VLOOKUP($A107,'Section 2'!$E$17:$V$216,COLUMNS('Section 2'!$E$13:L$14),0)))","v":""},{"$f":"IF($C107=\"\",\"\",IF(ISBLANK(VLOOKUP($A107,'Section 2'!$E$17:$V$216,COLUMNS('Section 2'!$E$13:M$14),0)),\"\",VLOOKUP($A107,'Section 2'!$E$17:$V$216,COLUMNS('Section 2'!$E$13:M$14),0)))","v":""},{"$f":"IF($C107=\"\",\"\",IF(ISBLANK(VLOOKUP($A107,'Section 2'!$E$17:$V$216,COLUMNS('Section 2'!$E$13:N$14),0)),\"\",VLOOKUP($A107,'Section 2'!$E$17:$V$216,COLUMNS('Section 2'!$E$13:N$14),0)))","v":""},{"$f":"IF($C107=\"\",\"\",IF(ISBLANK(VLOOKUP($A107,'Section 2'!$E$17:$V$216,COLUMNS('Section 2'!$E$13:O$14),0)),\"\",VLOOKUP($A107,'Section 2'!$E$17:$V$216,COLUMNS('Section 2'!$E$13:O$14),0)))","v":""},{"$f":"IF($C107=\"\",\"\",IF(ISBLANK(VLOOKUP($A107,'Section 2'!$E$17:$V$216,COLUMNS('Section 2'!$E$13:P$14),0)),\"\",VLOOKUP($A107,'Section 2'!$E$17:$V$216,COLUMNS('Section 2'!$E$13:P$14),0)))","v":""},{"$f":"IF($C107=\"\",\"\",IF(ISBLANK(VLOOKUP($A107,'Section 2'!$E$17:$V$216,COLUMNS('Section 2'!$E$13:Q$14),0)),\"\",VLOOKUP($A107,'Section 2'!$E$17:$V$216,COLUMNS('Section 2'!$E$13:Q$14),0)))","v":""},{"$f":"IF($C107=\"\",\"\",IF(ISBLANK(VLOOKUP($A107,'Section 2'!$E$17:$V$216,COLUMNS('Section 2'!$E$13:R$14),0)),\"\",VLOOKUP($A107,'Section 2'!$E$17:$V$216,COLUMNS('Section 2'!$E$13:R$14),0)))","v":""},{"$f":"IF($C107=\"\",\"\",IF(ISBLANK(VLOOKUP($A107,'Section 2'!$E$17:$V$216,COLUMNS('Section 2'!$E$13:S$14),0)),\"\",VLOOKUP($A107,'Section 2'!$E$17:$V$216,COLUMNS('Section 2'!$E$13:S$14),0)))","v":""},{"$f":"IF($C107=\"\",\"\",IF(ISBLANK(VLOOKUP($A107,'Section 2'!$E$17:$V$216,COLUMNS('Section 2'!$E$13:T$14),0)),\"\",VLOOKUP($A107,'Section 2'!$E$17:$V$216,COLUMNS('Section 2'!$E$13:T$14),0)))","v":""},{"$f":"IF($C107=\"\",\"\",IF(ISBLANK(VLOOKUP($A107,'Section 2'!$E$17:$V$216,COLUMNS('Section 2'!$E$13:U$14),0)),\"\",VLOOKUP($A107,'Section 2'!$E$17:$V$216,COLUMNS('Section 2'!$E$13:U$14),0)))","v":""},{"$f":"IF($C107=\"\",\"\",IF(ISBLANK(VLOOKUP($A107,'Section 2'!$E$17:$V$216,COLUMNS('Section 2'!$E$13:V$14),0)),\"\",VLOOKUP($A107,'Section 2'!$E$17:$V$216,COLUMNS('Section 2'!$E$13:V$14),0)))","v":""}]
[107,"",{"$f":"IFERROR(VLOOKUP($A108,'Section 2'!$E$17:$V$216,COLUMNS('Section 2'!$E$13:E$14),0),\"\")","v":""},{"$f":"IF($C108=\"\",\"\",IF(ISBLANK(VLOOKUP($A108,'Section 2'!$E$17:$V$216,COLUMNS('Section 2'!$E$13:F$14),0)),\"\",VLOOKUP($A108,'Section 2'!$E$17:$V$216,COLUMNS('Section 2'!$E$13:F$14),0)))","v":""},{"$f":"IF($C108=\"\",\"\",IF(ISBLANK(VLOOKUP($A108,'Section 2'!$E$17:$V$216,COLUMNS('Section 2'!$E$13:G$14),0)),\"\",VLOOKUP($A108,'Section 2'!$E$17:$V$216,COLUMNS('Section 2'!$E$13:G$14),0)))","v":""},{"$f":"IF($C108=\"\",\"\",IF(ISBLANK(VLOOKUP($A108,'Section 2'!$E$17:$V$216,COLUMNS('Section 2'!$E$13:H$14),0)),\"\",VLOOKUP($A108,'Section 2'!$E$17:$V$216,COLUMNS('Section 2'!$E$13:H$14),0)))","v":""},{"$f":"IF($C108=\"\",\"\",IF(ISBLANK(VLOOKUP($A108,'Section 2'!$E$17:$V$216,COLUMNS('Section 2'!$E$13:I$14),0)),\"\",VLOOKUP($A108,'Section 2'!$E$17:$V$216,COLUMNS('Section 2'!$E$13:I$14),0)))","v":""},{"$f":"IF($C108=\"\",\"\",IF(ISBLANK(VLOOKUP($A108,'Section 2'!$E$17:$V$216,COLUMNS('Section 2'!$E$13:J$14),0)),\"\",VLOOKUP($A108,'Section 2'!$E$17:$V$216,COLUMNS('Section 2'!$E$13:J$14),0)))","v":""},{"$f":"IF($C108=\"\",\"\",IF(ISBLANK(VLOOKUP($A108,'Section 2'!$E$17:$V$216,COLUMNS('Section 2'!$E$13:K$14),0)),\"\",VLOOKUP($A108,'Section 2'!$E$17:$V$216,COLUMNS('Section 2'!$E$13:K$14),0)))","v":""},{"$f":"IF($C108=\"\",\"\",IF(ISBLANK(VLOOKUP($A108,'Section 2'!$E$17:$V$216,COLUMNS('Section 2'!$E$13:L$14),0)),\"\",VLOOKUP($A108,'Section 2'!$E$17:$V$216,COLUMNS('Section 2'!$E$13:L$14),0)))","v":""},{"$f":"IF($C108=\"\",\"\",IF(ISBLANK(VLOOKUP($A108,'Section 2'!$E$17:$V$216,COLUMNS('Section 2'!$E$13:M$14),0)),\"\",VLOOKUP($A108,'Section 2'!$E$17:$V$216,COLUMNS('Section 2'!$E$13:M$14),0)))","v":""},{"$f":"IF($C108=\"\",\"\",IF(ISBLANK(VLOOKUP($A108,'Section 2'!$E$17:$V$216,COLUMNS('Section 2'!$E$13:N$14),0)),\"\",VLOOKUP($A108,'Section 2'!$E$17:$V$216,COLUMNS('Section 2'!$E$13:N$14),0)))","v":""},{"$f":"IF($C108=\"\",\"\",IF(ISBLANK(VLOOKUP($A108,'Section 2'!$E$17:$V$216,COLUMNS('Section 2'!$E$13:O$14),0)),\"\",VLOOKUP($A108,'Section 2'!$E$17:$V$216,COLUMNS('Section 2'!$E$13:O$14),0)))","v":""},{"$f":"IF($C108=\"\",\"\",IF(ISBLANK(VLOOKUP($A108,'Section 2'!$E$17:$V$216,COLUMNS('Section 2'!$E$13:P$14),0)),\"\",VLOOKUP($A108,'Section 2'!$E$17:$V$216,COLUMNS('Section 2'!$E$13:P$14),0)))","v":""},{"$f":"IF($C108=\"\",\"\",IF(ISBLANK(VLOOKUP($A108,'Section 2'!$E$17:$V$216,COLUMNS('Section 2'!$E$13:Q$14),0)),\"\",VLOOKUP($A108,'Section 2'!$E$17:$V$216,COLUMNS('Section 2'!$E$13:Q$14),0)))","v":""},{"$f":"IF($C108=\"\",\"\",IF(ISBLANK(VLOOKUP($A108,'Section 2'!$E$17:$V$216,COLUMNS('Section 2'!$E$13:R$14),0)),\"\",VLOOKUP($A108,'Section 2'!$E$17:$V$216,COLUMNS('Section 2'!$E$13:R$14),0)))","v":""},{"$f":"IF($C108=\"\",\"\",IF(ISBLANK(VLOOKUP($A108,'Section 2'!$E$17:$V$216,COLUMNS('Section 2'!$E$13:S$14),0)),\"\",VLOOKUP($A108,'Section 2'!$E$17:$V$216,COLUMNS('Section 2'!$E$13:S$14),0)))","v":""},{"$f":"IF($C108=\"\",\"\",IF(ISBLANK(VLOOKUP($A108,'Section 2'!$E$17:$V$216,COLUMNS('Section 2'!$E$13:T$14),0)),\"\",VLOOKUP($A108,'Section 2'!$E$17:$V$216,COLUMNS('Section 2'!$E$13:T$14),0)))","v":""},{"$f":"IF($C108=\"\",\"\",IF(ISBLANK(VLOOKUP($A108,'Section 2'!$E$17:$V$216,COLUMNS('Section 2'!$E$13:U$14),0)),\"\",VLOOKUP($A108,'Section 2'!$E$17:$V$216,COLUMNS('Section 2'!$E$13:U$14),0)))","v":""},{"$f":"IF($C108=\"\",\"\",IF(ISBLANK(VLOOKUP($A108,'Section 2'!$E$17:$V$216,COLUMNS('Section 2'!$E$13:V$14),0)),\"\",VLOOKUP($A108,'Section 2'!$E$17:$V$216,COLUMNS('Section 2'!$E$13:V$14),0)))","v":""}]
[108,"",{"$f":"IFERROR(VLOOKUP($A109,'Section 2'!$E$17:$V$216,COLUMNS('Section 2'!$E$13:E$14),0),\"\")","v":""},{"$f":"IF($C109=\"\",\"\",IF(ISBLANK(VLOOKUP($A109,'Section 2'!$E$17:$V$216,COLUMNS('Section 2'!$E$13:F$14),0)),\"\",VLOOKUP($A109,'Section 2'!$E$17:$V$216,COLUMNS('Section 2'!$E$13:F$14),0)))","v":""},{"$f":"IF($C109=\"\",\"\",IF(ISBLANK(VLOOKUP($A109,'Section 2'!$E$17:$V$216,COLUMNS('Section 2'!$E$13:G$14),0)),\"\",VLOOKUP($A109,'Section 2'!$E$17:$V$216,COLUMNS('Section 2'!$E$13:G$14),0)))","v":""},{"$f":"IF($C109=\"\",\"\",IF(ISBLANK(VLOOKUP($A109,'Section 2'!$E$17:$V$216,COLUMNS('Section 2'!$E$13:H$14),0)),\"\",VLOOKUP($A109,'Section 2'!$E$17:$V$216,COLUMNS('Section 2'!$E$13:H$14),0)))","v":""},{"$f":"IF($C109=\"\",\"\",IF(ISBLANK(VLOOKUP($A109,'Section 2'!$E$17:$V$216,COLUMNS('Section 2'!$E$13:I$14),0)),\"\",VLOOKUP($A109,'Section 2'!$E$17:$V$216,COLUMNS('Section 2'!$E$13:I$14),0)))","v":""},{"$f":"IF($C109=\"\",\"\",IF(ISBLANK(VLOOKUP($A109,'Section 2'!$E$17:$V$216,COLUMNS('Section 2'!$E$13:J$14),0)),\"\",VLOOKUP($A109,'Section 2'!$E$17:$V$216,COLUMNS('Section 2'!$E$13:J$14),0)))","v":""},{"$f":"IF($C109=\"\",\"\",IF(ISBLANK(VLOOKUP($A109,'Section 2'!$E$17:$V$216,COLUMNS('Section 2'!$E$13:K$14),0)),\"\",VLOOKUP($A109,'Section 2'!$E$17:$V$216,COLUMNS('Section 2'!$E$13:K$14),0)))","v":""},{"$f":"IF($C109=\"\",\"\",IF(ISBLANK(VLOOKUP($A109,'Section 2'!$E$17:$V$216,COLUMNS('Section 2'!$E$13:L$14),0)),\"\",VLOOKUP($A109,'Section 2'!$E$17:$V$216,COLUMNS('Section 2'!$E$13:L$14),0)))","v":""},{"$f":"IF($C109=\"\",\"\",IF(ISBLANK(VLOOKUP($A109,'Section 2'!$E$17:$V$216,COLUMNS('Section 2'!$E$13:M$14),0)),\"\",VLOOKUP($A109,'Section 2'!$E$17:$V$216,COLUMNS('Section 2'!$E$13:M$14),0)))","v":""},{"$f":"IF($C109=\"\",\"\",IF(ISBLANK(VLOOKUP($A109,'Section 2'!$E$17:$V$216,COLUMNS('Section 2'!$E$13:N$14),0)),\"\",VLOOKUP($A109,'Section 2'!$E$17:$V$216,COLUMNS('Section 2'!$E$13:N$14),0)))","v":""},{"$f":"IF($C109=\"\",\"\",IF(ISBLANK(VLOOKUP($A109,'Section 2'!$E$17:$V$216,COLUMNS('Section 2'!$E$13:O$14),0)),\"\",VLOOKUP($A109,'Section 2'!$E$17:$V$216,COLUMNS('Section 2'!$E$13:O$14),0)))","v":""},{"$f":"IF($C109=\"\",\"\",IF(ISBLANK(VLOOKUP($A109,'Section 2'!$E$17:$V$216,COLUMNS('Section 2'!$E$13:P$14),0)),\"\",VLOOKUP($A109,'Section 2'!$E$17:$V$216,COLUMNS('Section 2'!$E$13:P$14),0)))","v":""},{"$f":"IF($C109=\"\",\"\",IF(ISBLANK(VLOOKUP($A109,'Section 2'!$E$17:$V$216,COLUMNS('Section 2'!$E$13:Q$14),0)),\"\",VLOOKUP($A109,'Section 2'!$E$17:$V$216,COLUMNS('Section 2'!$E$13:Q$14),0)))","v":""},{"$f":"IF($C109=\"\",\"\",IF(ISBLANK(VLOOKUP($A109,'Section 2'!$E$17:$V$216,COLUMNS('Section 2'!$E$13:R$14),0)),\"\",VLOOKUP($A109,'Section 2'!$E$17:$V$216,COLUMNS('Section 2'!$E$13:R$14),0)))","v":""},{"$f":"IF($C109=\"\",\"\",IF(ISBLANK(VLOOKUP($A109,'Section 2'!$E$17:$V$216,COLUMNS('Section 2'!$E$13:S$14),0)),\"\",VLOOKUP($A109,'Section 2'!$E$17:$V$216,COLUMNS('Section 2'!$E$13:S$14),0)))","v":""},{"$f":"IF($C109=\"\",\"\",IF(ISBLANK(VLOOKUP($A109,'Section 2'!$E$17:$V$216,COLUMNS('Section 2'!$E$13:T$14),0)),\"\",VLOOKUP($A109,'Section 2'!$E$17:$V$216,COLUMNS('Section 2'!$E$13:T$14),0)))","v":""},{"$f":"IF($C109=\"\",\"\",IF(ISBLANK(VLOOKUP($A109,'Section 2'!$E$17:$V$216,COLUMNS('Section 2'!$E$13:U$14),0)),\"\",VLOOKUP($A109,'Section 2'!$E$17:$V$216,COLUMNS('Section 2'!$E$13:U$14),0)))","v":""},{"$f":"IF($C109=\"\",\"\",IF(ISBLANK(VLOOKUP($A109,'Section 2'!$E$17:$V$216,COLUMNS('Section 2'!$E$13:V$14),0)),\"\",VLOOKUP($A109,'Section 2'!$E$17:$V$216,COLUMNS('Section 2'!$E$13:V$14),0)))","v":""}]
[109,"",{"$f":"IFERROR(VLOOKUP($A110,'Section 2'!$E$17:$V$216,COLUMNS('Section 2'!$E$13:E$14),0),\"\")","v":""},{"$f":"IF($C110=\"\",\"\",IF(ISBLANK(VLOOKUP($A110,'Section 2'!$E$17:$V$216,COLUMNS('Section 2'!$E$13:F$14),0)),\"\",VLOOKUP($A110,'Section 2'!$E$17:$V$216,COLUMNS('Section 2'!$E$13:F$14),0)))","v":""},{"$f":"IF($C110=\"\",\"\",IF(ISBLANK(VLOOKUP($A110,'Section 2'!$E$17:$V$216,COLUMNS('Section 2'!$E$13:G$14),0)),\"\",VLOOKUP($A110,'Section 2'!$E$17:$V$216,COLUMNS('Section 2'!$E$13:G$14),0)))","v":""},{"$f":"IF($C110=\"\",\"\",IF(ISBLANK(VLOOKUP($A110,'Section 2'!$E$17:$V$216,COLUMNS('Section 2'!$E$13:H$14),0)),\"\",VLOOKUP($A110,'Section 2'!$E$17:$V$216,COLUMNS('Section 2'!$E$13:H$14),0)))","v":""},{"$f":"IF($C110=\"\",\"\",IF(ISBLANK(VLOOKUP($A110,'Section 2'!$E$17:$V$216,COLUMNS('Section 2'!$E$13:I$14),0)),\"\",VLOOKUP($A110,'Section 2'!$E$17:$V$216,COLUMNS('Section 2'!$E$13:I$14),0)))","v":""},{"$f":"IF($C110=\"\",\"\",IF(ISBLANK(VLOOKUP($A110,'Section 2'!$E$17:$V$216,COLUMNS('Section 2'!$E$13:J$14),0)),\"\",VLOOKUP($A110,'Section 2'!$E$17:$V$216,COLUMNS('Section 2'!$E$13:J$14),0)))","v":""},{"$f":"IF($C110=\"\",\"\",IF(ISBLANK(VLOOKUP($A110,'Section 2'!$E$17:$V$216,COLUMNS('Section 2'!$E$13:K$14),0)),\"\",VLOOKUP($A110,'Section 2'!$E$17:$V$216,COLUMNS('Section 2'!$E$13:K$14),0)))","v":""},{"$f":"IF($C110=\"\",\"\",IF(ISBLANK(VLOOKUP($A110,'Section 2'!$E$17:$V$216,COLUMNS('Section 2'!$E$13:L$14),0)),\"\",VLOOKUP($A110,'Section 2'!$E$17:$V$216,COLUMNS('Section 2'!$E$13:L$14),0)))","v":""},{"$f":"IF($C110=\"\",\"\",IF(ISBLANK(VLOOKUP($A110,'Section 2'!$E$17:$V$216,COLUMNS('Section 2'!$E$13:M$14),0)),\"\",VLOOKUP($A110,'Section 2'!$E$17:$V$216,COLUMNS('Section 2'!$E$13:M$14),0)))","v":""},{"$f":"IF($C110=\"\",\"\",IF(ISBLANK(VLOOKUP($A110,'Section 2'!$E$17:$V$216,COLUMNS('Section 2'!$E$13:N$14),0)),\"\",VLOOKUP($A110,'Section 2'!$E$17:$V$216,COLUMNS('Section 2'!$E$13:N$14),0)))","v":""},{"$f":"IF($C110=\"\",\"\",IF(ISBLANK(VLOOKUP($A110,'Section 2'!$E$17:$V$216,COLUMNS('Section 2'!$E$13:O$14),0)),\"\",VLOOKUP($A110,'Section 2'!$E$17:$V$216,COLUMNS('Section 2'!$E$13:O$14),0)))","v":""},{"$f":"IF($C110=\"\",\"\",IF(ISBLANK(VLOOKUP($A110,'Section 2'!$E$17:$V$216,COLUMNS('Section 2'!$E$13:P$14),0)),\"\",VLOOKUP($A110,'Section 2'!$E$17:$V$216,COLUMNS('Section 2'!$E$13:P$14),0)))","v":""},{"$f":"IF($C110=\"\",\"\",IF(ISBLANK(VLOOKUP($A110,'Section 2'!$E$17:$V$216,COLUMNS('Section 2'!$E$13:Q$14),0)),\"\",VLOOKUP($A110,'Section 2'!$E$17:$V$216,COLUMNS('Section 2'!$E$13:Q$14),0)))","v":""},{"$f":"IF($C110=\"\",\"\",IF(ISBLANK(VLOOKUP($A110,'Section 2'!$E$17:$V$216,COLUMNS('Section 2'!$E$13:R$14),0)),\"\",VLOOKUP($A110,'Section 2'!$E$17:$V$216,COLUMNS('Section 2'!$E$13:R$14),0)))","v":""},{"$f":"IF($C110=\"\",\"\",IF(ISBLANK(VLOOKUP($A110,'Section 2'!$E$17:$V$216,COLUMNS('Section 2'!$E$13:S$14),0)),\"\",VLOOKUP($A110,'Section 2'!$E$17:$V$216,COLUMNS('Section 2'!$E$13:S$14),0)))","v":""},{"$f":"IF($C110=\"\",\"\",IF(ISBLANK(VLOOKUP($A110,'Section 2'!$E$17:$V$216,COLUMNS('Section 2'!$E$13:T$14),0)),\"\",VLOOKUP($A110,'Section 2'!$E$17:$V$216,COLUMNS('Section 2'!$E$13:T$14),0)))","v":""},{"$f":"IF($C110=\"\",\"\",IF(ISBLANK(VLOOKUP($A110,'Section 2'!$E$17:$V$216,COLUMNS('Section 2'!$E$13:U$14),0)),\"\",VLOOKUP($A110,'Section 2'!$E$17:$V$216,COLUMNS('Section 2'!$E$13:U$14),0)))","v":""},{"$f":"IF($C110=\"\",\"\",IF(ISBLANK(VLOOKUP($A110,'Section 2'!$E$17:$V$216,COLUMNS('Section 2'!$E$13:V$14),0)),\"\",VLOOKUP($A110,'Section 2'!$E$17:$V$216,COLUMNS('Section 2'!$E$13:V$14),0)))","v":""}]
[110,"",{"$f":"IFERROR(VLOOKUP($A111,'Section 2'!$E$17:$V$216,COLUMNS('Section 2'!$E$13:E$14),0),\"\")","v":""},{"$f":"IF($C111=\"\",\"\",IF(ISBLANK(VLOOKUP($A111,'Section 2'!$E$17:$V$216,COLUMNS('Section 2'!$E$13:F$14),0)),\"\",VLOOKUP($A111,'Section 2'!$E$17:$V$216,COLUMNS('Section 2'!$E$13:F$14),0)))","v":""},{"$f":"IF($C111=\"\",\"\",IF(ISBLANK(VLOOKUP($A111,'Section 2'!$E$17:$V$216,COLUMNS('Section 2'!$E$13:G$14),0)),\"\",VLOOKUP($A111,'Section 2'!$E$17:$V$216,COLUMNS('Section 2'!$E$13:G$14),0)))","v":""},{"$f":"IF($C111=\"\",\"\",IF(ISBLANK(VLOOKUP($A111,'Section 2'!$E$17:$V$216,COLUMNS('Section 2'!$E$13:H$14),0)),\"\",VLOOKUP($A111,'Section 2'!$E$17:$V$216,COLUMNS('Section 2'!$E$13:H$14),0)))","v":""},{"$f":"IF($C111=\"\",\"\",IF(ISBLANK(VLOOKUP($A111,'Section 2'!$E$17:$V$216,COLUMNS('Section 2'!$E$13:I$14),0)),\"\",VLOOKUP($A111,'Section 2'!$E$17:$V$216,COLUMNS('Section 2'!$E$13:I$14),0)))","v":""},{"$f":"IF($C111=\"\",\"\",IF(ISBLANK(VLOOKUP($A111,'Section 2'!$E$17:$V$216,COLUMNS('Section 2'!$E$13:J$14),0)),\"\",VLOOKUP($A111,'Section 2'!$E$17:$V$216,COLUMNS('Section 2'!$E$13:J$14),0)))","v":""},{"$f":"IF($C111=\"\",\"\",IF(ISBLANK(VLOOKUP($A111,'Section 2'!$E$17:$V$216,COLUMNS('Section 2'!$E$13:K$14),0)),\"\",VLOOKUP($A111,'Section 2'!$E$17:$V$216,COLUMNS('Section 2'!$E$13:K$14),0)))","v":""},{"$f":"IF($C111=\"\",\"\",IF(ISBLANK(VLOOKUP($A111,'Section 2'!$E$17:$V$216,COLUMNS('Section 2'!$E$13:L$14),0)),\"\",VLOOKUP($A111,'Section 2'!$E$17:$V$216,COLUMNS('Section 2'!$E$13:L$14),0)))","v":""},{"$f":"IF($C111=\"\",\"\",IF(ISBLANK(VLOOKUP($A111,'Section 2'!$E$17:$V$216,COLUMNS('Section 2'!$E$13:M$14),0)),\"\",VLOOKUP($A111,'Section 2'!$E$17:$V$216,COLUMNS('Section 2'!$E$13:M$14),0)))","v":""},{"$f":"IF($C111=\"\",\"\",IF(ISBLANK(VLOOKUP($A111,'Section 2'!$E$17:$V$216,COLUMNS('Section 2'!$E$13:N$14),0)),\"\",VLOOKUP($A111,'Section 2'!$E$17:$V$216,COLUMNS('Section 2'!$E$13:N$14),0)))","v":""},{"$f":"IF($C111=\"\",\"\",IF(ISBLANK(VLOOKUP($A111,'Section 2'!$E$17:$V$216,COLUMNS('Section 2'!$E$13:O$14),0)),\"\",VLOOKUP($A111,'Section 2'!$E$17:$V$216,COLUMNS('Section 2'!$E$13:O$14),0)))","v":""},{"$f":"IF($C111=\"\",\"\",IF(ISBLANK(VLOOKUP($A111,'Section 2'!$E$17:$V$216,COLUMNS('Section 2'!$E$13:P$14),0)),\"\",VLOOKUP($A111,'Section 2'!$E$17:$V$216,COLUMNS('Section 2'!$E$13:P$14),0)))","v":""},{"$f":"IF($C111=\"\",\"\",IF(ISBLANK(VLOOKUP($A111,'Section 2'!$E$17:$V$216,COLUMNS('Section 2'!$E$13:Q$14),0)),\"\",VLOOKUP($A111,'Section 2'!$E$17:$V$216,COLUMNS('Section 2'!$E$13:Q$14),0)))","v":""},{"$f":"IF($C111=\"\",\"\",IF(ISBLANK(VLOOKUP($A111,'Section 2'!$E$17:$V$216,COLUMNS('Section 2'!$E$13:R$14),0)),\"\",VLOOKUP($A111,'Section 2'!$E$17:$V$216,COLUMNS('Section 2'!$E$13:R$14),0)))","v":""},{"$f":"IF($C111=\"\",\"\",IF(ISBLANK(VLOOKUP($A111,'Section 2'!$E$17:$V$216,COLUMNS('Section 2'!$E$13:S$14),0)),\"\",VLOOKUP($A111,'Section 2'!$E$17:$V$216,COLUMNS('Section 2'!$E$13:S$14),0)))","v":""},{"$f":"IF($C111=\"\",\"\",IF(ISBLANK(VLOOKUP($A111,'Section 2'!$E$17:$V$216,COLUMNS('Section 2'!$E$13:T$14),0)),\"\",VLOOKUP($A111,'Section 2'!$E$17:$V$216,COLUMNS('Section 2'!$E$13:T$14),0)))","v":""},{"$f":"IF($C111=\"\",\"\",IF(ISBLANK(VLOOKUP($A111,'Section 2'!$E$17:$V$216,COLUMNS('Section 2'!$E$13:U$14),0)),\"\",VLOOKUP($A111,'Section 2'!$E$17:$V$216,COLUMNS('Section 2'!$E$13:U$14),0)))","v":""},{"$f":"IF($C111=\"\",\"\",IF(ISBLANK(VLOOKUP($A111,'Section 2'!$E$17:$V$216,COLUMNS('Section 2'!$E$13:V$14),0)),\"\",VLOOKUP($A111,'Section 2'!$E$17:$V$216,COLUMNS('Section 2'!$E$13:V$14),0)))","v":""}]
[111,"",{"$f":"IFERROR(VLOOKUP($A112,'Section 2'!$E$17:$V$216,COLUMNS('Section 2'!$E$13:E$14),0),\"\")","v":""},{"$f":"IF($C112=\"\",\"\",IF(ISBLANK(VLOOKUP($A112,'Section 2'!$E$17:$V$216,COLUMNS('Section 2'!$E$13:F$14),0)),\"\",VLOOKUP($A112,'Section 2'!$E$17:$V$216,COLUMNS('Section 2'!$E$13:F$14),0)))","v":""},{"$f":"IF($C112=\"\",\"\",IF(ISBLANK(VLOOKUP($A112,'Section 2'!$E$17:$V$216,COLUMNS('Section 2'!$E$13:G$14),0)),\"\",VLOOKUP($A112,'Section 2'!$E$17:$V$216,COLUMNS('Section 2'!$E$13:G$14),0)))","v":""},{"$f":"IF($C112=\"\",\"\",IF(ISBLANK(VLOOKUP($A112,'Section 2'!$E$17:$V$216,COLUMNS('Section 2'!$E$13:H$14),0)),\"\",VLOOKUP($A112,'Section 2'!$E$17:$V$216,COLUMNS('Section 2'!$E$13:H$14),0)))","v":""},{"$f":"IF($C112=\"\",\"\",IF(ISBLANK(VLOOKUP($A112,'Section 2'!$E$17:$V$216,COLUMNS('Section 2'!$E$13:I$14),0)),\"\",VLOOKUP($A112,'Section 2'!$E$17:$V$216,COLUMNS('Section 2'!$E$13:I$14),0)))","v":""},{"$f":"IF($C112=\"\",\"\",IF(ISBLANK(VLOOKUP($A112,'Section 2'!$E$17:$V$216,COLUMNS('Section 2'!$E$13:J$14),0)),\"\",VLOOKUP($A112,'Section 2'!$E$17:$V$216,COLUMNS('Section 2'!$E$13:J$14),0)))","v":""},{"$f":"IF($C112=\"\",\"\",IF(ISBLANK(VLOOKUP($A112,'Section 2'!$E$17:$V$216,COLUMNS('Section 2'!$E$13:K$14),0)),\"\",VLOOKUP($A112,'Section 2'!$E$17:$V$216,COLUMNS('Section 2'!$E$13:K$14),0)))","v":""},{"$f":"IF($C112=\"\",\"\",IF(ISBLANK(VLOOKUP($A112,'Section 2'!$E$17:$V$216,COLUMNS('Section 2'!$E$13:L$14),0)),\"\",VLOOKUP($A112,'Section 2'!$E$17:$V$216,COLUMNS('Section 2'!$E$13:L$14),0)))","v":""},{"$f":"IF($C112=\"\",\"\",IF(ISBLANK(VLOOKUP($A112,'Section 2'!$E$17:$V$216,COLUMNS('Section 2'!$E$13:M$14),0)),\"\",VLOOKUP($A112,'Section 2'!$E$17:$V$216,COLUMNS('Section 2'!$E$13:M$14),0)))","v":""},{"$f":"IF($C112=\"\",\"\",IF(ISBLANK(VLOOKUP($A112,'Section 2'!$E$17:$V$216,COLUMNS('Section 2'!$E$13:N$14),0)),\"\",VLOOKUP($A112,'Section 2'!$E$17:$V$216,COLUMNS('Section 2'!$E$13:N$14),0)))","v":""},{"$f":"IF($C112=\"\",\"\",IF(ISBLANK(VLOOKUP($A112,'Section 2'!$E$17:$V$216,COLUMNS('Section 2'!$E$13:O$14),0)),\"\",VLOOKUP($A112,'Section 2'!$E$17:$V$216,COLUMNS('Section 2'!$E$13:O$14),0)))","v":""},{"$f":"IF($C112=\"\",\"\",IF(ISBLANK(VLOOKUP($A112,'Section 2'!$E$17:$V$216,COLUMNS('Section 2'!$E$13:P$14),0)),\"\",VLOOKUP($A112,'Section 2'!$E$17:$V$216,COLUMNS('Section 2'!$E$13:P$14),0)))","v":""},{"$f":"IF($C112=\"\",\"\",IF(ISBLANK(VLOOKUP($A112,'Section 2'!$E$17:$V$216,COLUMNS('Section 2'!$E$13:Q$14),0)),\"\",VLOOKUP($A112,'Section 2'!$E$17:$V$216,COLUMNS('Section 2'!$E$13:Q$14),0)))","v":""},{"$f":"IF($C112=\"\",\"\",IF(ISBLANK(VLOOKUP($A112,'Section 2'!$E$17:$V$216,COLUMNS('Section 2'!$E$13:R$14),0)),\"\",VLOOKUP($A112,'Section 2'!$E$17:$V$216,COLUMNS('Section 2'!$E$13:R$14),0)))","v":""},{"$f":"IF($C112=\"\",\"\",IF(ISBLANK(VLOOKUP($A112,'Section 2'!$E$17:$V$216,COLUMNS('Section 2'!$E$13:S$14),0)),\"\",VLOOKUP($A112,'Section 2'!$E$17:$V$216,COLUMNS('Section 2'!$E$13:S$14),0)))","v":""},{"$f":"IF($C112=\"\",\"\",IF(ISBLANK(VLOOKUP($A112,'Section 2'!$E$17:$V$216,COLUMNS('Section 2'!$E$13:T$14),0)),\"\",VLOOKUP($A112,'Section 2'!$E$17:$V$216,COLUMNS('Section 2'!$E$13:T$14),0)))","v":""},{"$f":"IF($C112=\"\",\"\",IF(ISBLANK(VLOOKUP($A112,'Section 2'!$E$17:$V$216,COLUMNS('Section 2'!$E$13:U$14),0)),\"\",VLOOKUP($A112,'Section 2'!$E$17:$V$216,COLUMNS('Section 2'!$E$13:U$14),0)))","v":""},{"$f":"IF($C112=\"\",\"\",IF(ISBLANK(VLOOKUP($A112,'Section 2'!$E$17:$V$216,COLUMNS('Section 2'!$E$13:V$14),0)),\"\",VLOOKUP($A112,'Section 2'!$E$17:$V$216,COLUMNS('Section 2'!$E$13:V$14),0)))","v":""}]
[112,"",{"$f":"IFERROR(VLOOKUP($A113,'Section 2'!$E$17:$V$216,COLUMNS('Section 2'!$E$13:E$14),0),\"\")","v":""},{"$f":"IF($C113=\"\",\"\",IF(ISBLANK(VLOOKUP($A113,'Section 2'!$E$17:$V$216,COLUMNS('Section 2'!$E$13:F$14),0)),\"\",VLOOKUP($A113,'Section 2'!$E$17:$V$216,COLUMNS('Section 2'!$E$13:F$14),0)))","v":""},{"$f":"IF($C113=\"\",\"\",IF(ISBLANK(VLOOKUP($A113,'Section 2'!$E$17:$V$216,COLUMNS('Section 2'!$E$13:G$14),0)),\"\",VLOOKUP($A113,'Section 2'!$E$17:$V$216,COLUMNS('Section 2'!$E$13:G$14),0)))","v":""},{"$f":"IF($C113=\"\",\"\",IF(ISBLANK(VLOOKUP($A113,'Section 2'!$E$17:$V$216,COLUMNS('Section 2'!$E$13:H$14),0)),\"\",VLOOKUP($A113,'Section 2'!$E$17:$V$216,COLUMNS('Section 2'!$E$13:H$14),0)))","v":""},{"$f":"IF($C113=\"\",\"\",IF(ISBLANK(VLOOKUP($A113,'Section 2'!$E$17:$V$216,COLUMNS('Section 2'!$E$13:I$14),0)),\"\",VLOOKUP($A113,'Section 2'!$E$17:$V$216,COLUMNS('Section 2'!$E$13:I$14),0)))","v":""},{"$f":"IF($C113=\"\",\"\",IF(ISBLANK(VLOOKUP($A113,'Section 2'!$E$17:$V$216,COLUMNS('Section 2'!$E$13:J$14),0)),\"\",VLOOKUP($A113,'Section 2'!$E$17:$V$216,COLUMNS('Section 2'!$E$13:J$14),0)))","v":""},{"$f":"IF($C113=\"\",\"\",IF(ISBLANK(VLOOKUP($A113,'Section 2'!$E$17:$V$216,COLUMNS('Section 2'!$E$13:K$14),0)),\"\",VLOOKUP($A113,'Section 2'!$E$17:$V$216,COLUMNS('Section 2'!$E$13:K$14),0)))","v":""},{"$f":"IF($C113=\"\",\"\",IF(ISBLANK(VLOOKUP($A113,'Section 2'!$E$17:$V$216,COLUMNS('Section 2'!$E$13:L$14),0)),\"\",VLOOKUP($A113,'Section 2'!$E$17:$V$216,COLUMNS('Section 2'!$E$13:L$14),0)))","v":""},{"$f":"IF($C113=\"\",\"\",IF(ISBLANK(VLOOKUP($A113,'Section 2'!$E$17:$V$216,COLUMNS('Section 2'!$E$13:M$14),0)),\"\",VLOOKUP($A113,'Section 2'!$E$17:$V$216,COLUMNS('Section 2'!$E$13:M$14),0)))","v":""},{"$f":"IF($C113=\"\",\"\",IF(ISBLANK(VLOOKUP($A113,'Section 2'!$E$17:$V$216,COLUMNS('Section 2'!$E$13:N$14),0)),\"\",VLOOKUP($A113,'Section 2'!$E$17:$V$216,COLUMNS('Section 2'!$E$13:N$14),0)))","v":""},{"$f":"IF($C113=\"\",\"\",IF(ISBLANK(VLOOKUP($A113,'Section 2'!$E$17:$V$216,COLUMNS('Section 2'!$E$13:O$14),0)),\"\",VLOOKUP($A113,'Section 2'!$E$17:$V$216,COLUMNS('Section 2'!$E$13:O$14),0)))","v":""},{"$f":"IF($C113=\"\",\"\",IF(ISBLANK(VLOOKUP($A113,'Section 2'!$E$17:$V$216,COLUMNS('Section 2'!$E$13:P$14),0)),\"\",VLOOKUP($A113,'Section 2'!$E$17:$V$216,COLUMNS('Section 2'!$E$13:P$14),0)))","v":""},{"$f":"IF($C113=\"\",\"\",IF(ISBLANK(VLOOKUP($A113,'Section 2'!$E$17:$V$216,COLUMNS('Section 2'!$E$13:Q$14),0)),\"\",VLOOKUP($A113,'Section 2'!$E$17:$V$216,COLUMNS('Section 2'!$E$13:Q$14),0)))","v":""},{"$f":"IF($C113=\"\",\"\",IF(ISBLANK(VLOOKUP($A113,'Section 2'!$E$17:$V$216,COLUMNS('Section 2'!$E$13:R$14),0)),\"\",VLOOKUP($A113,'Section 2'!$E$17:$V$216,COLUMNS('Section 2'!$E$13:R$14),0)))","v":""},{"$f":"IF($C113=\"\",\"\",IF(ISBLANK(VLOOKUP($A113,'Section 2'!$E$17:$V$216,COLUMNS('Section 2'!$E$13:S$14),0)),\"\",VLOOKUP($A113,'Section 2'!$E$17:$V$216,COLUMNS('Section 2'!$E$13:S$14),0)))","v":""},{"$f":"IF($C113=\"\",\"\",IF(ISBLANK(VLOOKUP($A113,'Section 2'!$E$17:$V$216,COLUMNS('Section 2'!$E$13:T$14),0)),\"\",VLOOKUP($A113,'Section 2'!$E$17:$V$216,COLUMNS('Section 2'!$E$13:T$14),0)))","v":""},{"$f":"IF($C113=\"\",\"\",IF(ISBLANK(VLOOKUP($A113,'Section 2'!$E$17:$V$216,COLUMNS('Section 2'!$E$13:U$14),0)),\"\",VLOOKUP($A113,'Section 2'!$E$17:$V$216,COLUMNS('Section 2'!$E$13:U$14),0)))","v":""},{"$f":"IF($C113=\"\",\"\",IF(ISBLANK(VLOOKUP($A113,'Section 2'!$E$17:$V$216,COLUMNS('Section 2'!$E$13:V$14),0)),\"\",VLOOKUP($A113,'Section 2'!$E$17:$V$216,COLUMNS('Section 2'!$E$13:V$14),0)))","v":""}]
[113,"",{"$f":"IFERROR(VLOOKUP($A114,'Section 2'!$E$17:$V$216,COLUMNS('Section 2'!$E$13:E$14),0),\"\")","v":""},{"$f":"IF($C114=\"\",\"\",IF(ISBLANK(VLOOKUP($A114,'Section 2'!$E$17:$V$216,COLUMNS('Section 2'!$E$13:F$14),0)),\"\",VLOOKUP($A114,'Section 2'!$E$17:$V$216,COLUMNS('Section 2'!$E$13:F$14),0)))","v":""},{"$f":"IF($C114=\"\",\"\",IF(ISBLANK(VLOOKUP($A114,'Section 2'!$E$17:$V$216,COLUMNS('Section 2'!$E$13:G$14),0)),\"\",VLOOKUP($A114,'Section 2'!$E$17:$V$216,COLUMNS('Section 2'!$E$13:G$14),0)))","v":""},{"$f":"IF($C114=\"\",\"\",IF(ISBLANK(VLOOKUP($A114,'Section 2'!$E$17:$V$216,COLUMNS('Section 2'!$E$13:H$14),0)),\"\",VLOOKUP($A114,'Section 2'!$E$17:$V$216,COLUMNS('Section 2'!$E$13:H$14),0)))","v":""},{"$f":"IF($C114=\"\",\"\",IF(ISBLANK(VLOOKUP($A114,'Section 2'!$E$17:$V$216,COLUMNS('Section 2'!$E$13:I$14),0)),\"\",VLOOKUP($A114,'Section 2'!$E$17:$V$216,COLUMNS('Section 2'!$E$13:I$14),0)))","v":""},{"$f":"IF($C114=\"\",\"\",IF(ISBLANK(VLOOKUP($A114,'Section 2'!$E$17:$V$216,COLUMNS('Section 2'!$E$13:J$14),0)),\"\",VLOOKUP($A114,'Section 2'!$E$17:$V$216,COLUMNS('Section 2'!$E$13:J$14),0)))","v":""},{"$f":"IF($C114=\"\",\"\",IF(ISBLANK(VLOOKUP($A114,'Section 2'!$E$17:$V$216,COLUMNS('Section 2'!$E$13:K$14),0)),\"\",VLOOKUP($A114,'Section 2'!$E$17:$V$216,COLUMNS('Section 2'!$E$13:K$14),0)))","v":""},{"$f":"IF($C114=\"\",\"\",IF(ISBLANK(VLOOKUP($A114,'Section 2'!$E$17:$V$216,COLUMNS('Section 2'!$E$13:L$14),0)),\"\",VLOOKUP($A114,'Section 2'!$E$17:$V$216,COLUMNS('Section 2'!$E$13:L$14),0)))","v":""},{"$f":"IF($C114=\"\",\"\",IF(ISBLANK(VLOOKUP($A114,'Section 2'!$E$17:$V$216,COLUMNS('Section 2'!$E$13:M$14),0)),\"\",VLOOKUP($A114,'Section 2'!$E$17:$V$216,COLUMNS('Section 2'!$E$13:M$14),0)))","v":""},{"$f":"IF($C114=\"\",\"\",IF(ISBLANK(VLOOKUP($A114,'Section 2'!$E$17:$V$216,COLUMNS('Section 2'!$E$13:N$14),0)),\"\",VLOOKUP($A114,'Section 2'!$E$17:$V$216,COLUMNS('Section 2'!$E$13:N$14),0)))","v":""},{"$f":"IF($C114=\"\",\"\",IF(ISBLANK(VLOOKUP($A114,'Section 2'!$E$17:$V$216,COLUMNS('Section 2'!$E$13:O$14),0)),\"\",VLOOKUP($A114,'Section 2'!$E$17:$V$216,COLUMNS('Section 2'!$E$13:O$14),0)))","v":""},{"$f":"IF($C114=\"\",\"\",IF(ISBLANK(VLOOKUP($A114,'Section 2'!$E$17:$V$216,COLUMNS('Section 2'!$E$13:P$14),0)),\"\",VLOOKUP($A114,'Section 2'!$E$17:$V$216,COLUMNS('Section 2'!$E$13:P$14),0)))","v":""},{"$f":"IF($C114=\"\",\"\",IF(ISBLANK(VLOOKUP($A114,'Section 2'!$E$17:$V$216,COLUMNS('Section 2'!$E$13:Q$14),0)),\"\",VLOOKUP($A114,'Section 2'!$E$17:$V$216,COLUMNS('Section 2'!$E$13:Q$14),0)))","v":""},{"$f":"IF($C114=\"\",\"\",IF(ISBLANK(VLOOKUP($A114,'Section 2'!$E$17:$V$216,COLUMNS('Section 2'!$E$13:R$14),0)),\"\",VLOOKUP($A114,'Section 2'!$E$17:$V$216,COLUMNS('Section 2'!$E$13:R$14),0)))","v":""},{"$f":"IF($C114=\"\",\"\",IF(ISBLANK(VLOOKUP($A114,'Section 2'!$E$17:$V$216,COLUMNS('Section 2'!$E$13:S$14),0)),\"\",VLOOKUP($A114,'Section 2'!$E$17:$V$216,COLUMNS('Section 2'!$E$13:S$14),0)))","v":""},{"$f":"IF($C114=\"\",\"\",IF(ISBLANK(VLOOKUP($A114,'Section 2'!$E$17:$V$216,COLUMNS('Section 2'!$E$13:T$14),0)),\"\",VLOOKUP($A114,'Section 2'!$E$17:$V$216,COLUMNS('Section 2'!$E$13:T$14),0)))","v":""},{"$f":"IF($C114=\"\",\"\",IF(ISBLANK(VLOOKUP($A114,'Section 2'!$E$17:$V$216,COLUMNS('Section 2'!$E$13:U$14),0)),\"\",VLOOKUP($A114,'Section 2'!$E$17:$V$216,COLUMNS('Section 2'!$E$13:U$14),0)))","v":""},{"$f":"IF($C114=\"\",\"\",IF(ISBLANK(VLOOKUP($A114,'Section 2'!$E$17:$V$216,COLUMNS('Section 2'!$E$13:V$14),0)),\"\",VLOOKUP($A114,'Section 2'!$E$17:$V$216,COLUMNS('Section 2'!$E$13:V$14),0)))","v":""}]
[114,"",{"$f":"IFERROR(VLOOKUP($A115,'Section 2'!$E$17:$V$216,COLUMNS('Section 2'!$E$13:E$14),0),\"\")","v":""},{"$f":"IF($C115=\"\",\"\",IF(ISBLANK(VLOOKUP($A115,'Section 2'!$E$17:$V$216,COLUMNS('Section 2'!$E$13:F$14),0)),\"\",VLOOKUP($A115,'Section 2'!$E$17:$V$216,COLUMNS('Section 2'!$E$13:F$14),0)))","v":""},{"$f":"IF($C115=\"\",\"\",IF(ISBLANK(VLOOKUP($A115,'Section 2'!$E$17:$V$216,COLUMNS('Section 2'!$E$13:G$14),0)),\"\",VLOOKUP($A115,'Section 2'!$E$17:$V$216,COLUMNS('Section 2'!$E$13:G$14),0)))","v":""},{"$f":"IF($C115=\"\",\"\",IF(ISBLANK(VLOOKUP($A115,'Section 2'!$E$17:$V$216,COLUMNS('Section 2'!$E$13:H$14),0)),\"\",VLOOKUP($A115,'Section 2'!$E$17:$V$216,COLUMNS('Section 2'!$E$13:H$14),0)))","v":""},{"$f":"IF($C115=\"\",\"\",IF(ISBLANK(VLOOKUP($A115,'Section 2'!$E$17:$V$216,COLUMNS('Section 2'!$E$13:I$14),0)),\"\",VLOOKUP($A115,'Section 2'!$E$17:$V$216,COLUMNS('Section 2'!$E$13:I$14),0)))","v":""},{"$f":"IF($C115=\"\",\"\",IF(ISBLANK(VLOOKUP($A115,'Section 2'!$E$17:$V$216,COLUMNS('Section 2'!$E$13:J$14),0)),\"\",VLOOKUP($A115,'Section 2'!$E$17:$V$216,COLUMNS('Section 2'!$E$13:J$14),0)))","v":""},{"$f":"IF($C115=\"\",\"\",IF(ISBLANK(VLOOKUP($A115,'Section 2'!$E$17:$V$216,COLUMNS('Section 2'!$E$13:K$14),0)),\"\",VLOOKUP($A115,'Section 2'!$E$17:$V$216,COLUMNS('Section 2'!$E$13:K$14),0)))","v":""},{"$f":"IF($C115=\"\",\"\",IF(ISBLANK(VLOOKUP($A115,'Section 2'!$E$17:$V$216,COLUMNS('Section 2'!$E$13:L$14),0)),\"\",VLOOKUP($A115,'Section 2'!$E$17:$V$216,COLUMNS('Section 2'!$E$13:L$14),0)))","v":""},{"$f":"IF($C115=\"\",\"\",IF(ISBLANK(VLOOKUP($A115,'Section 2'!$E$17:$V$216,COLUMNS('Section 2'!$E$13:M$14),0)),\"\",VLOOKUP($A115,'Section 2'!$E$17:$V$216,COLUMNS('Section 2'!$E$13:M$14),0)))","v":""},{"$f":"IF($C115=\"\",\"\",IF(ISBLANK(VLOOKUP($A115,'Section 2'!$E$17:$V$216,COLUMNS('Section 2'!$E$13:N$14),0)),\"\",VLOOKUP($A115,'Section 2'!$E$17:$V$216,COLUMNS('Section 2'!$E$13:N$14),0)))","v":""},{"$f":"IF($C115=\"\",\"\",IF(ISBLANK(VLOOKUP($A115,'Section 2'!$E$17:$V$216,COLUMNS('Section 2'!$E$13:O$14),0)),\"\",VLOOKUP($A115,'Section 2'!$E$17:$V$216,COLUMNS('Section 2'!$E$13:O$14),0)))","v":""},{"$f":"IF($C115=\"\",\"\",IF(ISBLANK(VLOOKUP($A115,'Section 2'!$E$17:$V$216,COLUMNS('Section 2'!$E$13:P$14),0)),\"\",VLOOKUP($A115,'Section 2'!$E$17:$V$216,COLUMNS('Section 2'!$E$13:P$14),0)))","v":""},{"$f":"IF($C115=\"\",\"\",IF(ISBLANK(VLOOKUP($A115,'Section 2'!$E$17:$V$216,COLUMNS('Section 2'!$E$13:Q$14),0)),\"\",VLOOKUP($A115,'Section 2'!$E$17:$V$216,COLUMNS('Section 2'!$E$13:Q$14),0)))","v":""},{"$f":"IF($C115=\"\",\"\",IF(ISBLANK(VLOOKUP($A115,'Section 2'!$E$17:$V$216,COLUMNS('Section 2'!$E$13:R$14),0)),\"\",VLOOKUP($A115,'Section 2'!$E$17:$V$216,COLUMNS('Section 2'!$E$13:R$14),0)))","v":""},{"$f":"IF($C115=\"\",\"\",IF(ISBLANK(VLOOKUP($A115,'Section 2'!$E$17:$V$216,COLUMNS('Section 2'!$E$13:S$14),0)),\"\",VLOOKUP($A115,'Section 2'!$E$17:$V$216,COLUMNS('Section 2'!$E$13:S$14),0)))","v":""},{"$f":"IF($C115=\"\",\"\",IF(ISBLANK(VLOOKUP($A115,'Section 2'!$E$17:$V$216,COLUMNS('Section 2'!$E$13:T$14),0)),\"\",VLOOKUP($A115,'Section 2'!$E$17:$V$216,COLUMNS('Section 2'!$E$13:T$14),0)))","v":""},{"$f":"IF($C115=\"\",\"\",IF(ISBLANK(VLOOKUP($A115,'Section 2'!$E$17:$V$216,COLUMNS('Section 2'!$E$13:U$14),0)),\"\",VLOOKUP($A115,'Section 2'!$E$17:$V$216,COLUMNS('Section 2'!$E$13:U$14),0)))","v":""},{"$f":"IF($C115=\"\",\"\",IF(ISBLANK(VLOOKUP($A115,'Section 2'!$E$17:$V$216,COLUMNS('Section 2'!$E$13:V$14),0)),\"\",VLOOKUP($A115,'Section 2'!$E$17:$V$216,COLUMNS('Section 2'!$E$13:V$14),0)))","v":""}]
[115,"",{"$f":"IFERROR(VLOOKUP($A116,'Section 2'!$E$17:$V$216,COLUMNS('Section 2'!$E$13:E$14),0),\"\")","v":""},{"$f":"IF($C116=\"\",\"\",IF(ISBLANK(VLOOKUP($A116,'Section 2'!$E$17:$V$216,COLUMNS('Section 2'!$E$13:F$14),0)),\"\",VLOOKUP($A116,'Section 2'!$E$17:$V$216,COLUMNS('Section 2'!$E$13:F$14),0)))","v":""},{"$f":"IF($C116=\"\",\"\",IF(ISBLANK(VLOOKUP($A116,'Section 2'!$E$17:$V$216,COLUMNS('Section 2'!$E$13:G$14),0)),\"\",VLOOKUP($A116,'Section 2'!$E$17:$V$216,COLUMNS('Section 2'!$E$13:G$14),0)))","v":""},{"$f":"IF($C116=\"\",\"\",IF(ISBLANK(VLOOKUP($A116,'Section 2'!$E$17:$V$216,COLUMNS('Section 2'!$E$13:H$14),0)),\"\",VLOOKUP($A116,'Section 2'!$E$17:$V$216,COLUMNS('Section 2'!$E$13:H$14),0)))","v":""},{"$f":"IF($C116=\"\",\"\",IF(ISBLANK(VLOOKUP($A116,'Section 2'!$E$17:$V$216,COLUMNS('Section 2'!$E$13:I$14),0)),\"\",VLOOKUP($A116,'Section 2'!$E$17:$V$216,COLUMNS('Section 2'!$E$13:I$14),0)))","v":""},{"$f":"IF($C116=\"\",\"\",IF(ISBLANK(VLOOKUP($A116,'Section 2'!$E$17:$V$216,COLUMNS('Section 2'!$E$13:J$14),0)),\"\",VLOOKUP($A116,'Section 2'!$E$17:$V$216,COLUMNS('Section 2'!$E$13:J$14),0)))","v":""},{"$f":"IF($C116=\"\",\"\",IF(ISBLANK(VLOOKUP($A116,'Section 2'!$E$17:$V$216,COLUMNS('Section 2'!$E$13:K$14),0)),\"\",VLOOKUP($A116,'Section 2'!$E$17:$V$216,COLUMNS('Section 2'!$E$13:K$14),0)))","v":""},{"$f":"IF($C116=\"\",\"\",IF(ISBLANK(VLOOKUP($A116,'Section 2'!$E$17:$V$216,COLUMNS('Section 2'!$E$13:L$14),0)),\"\",VLOOKUP($A116,'Section 2'!$E$17:$V$216,COLUMNS('Section 2'!$E$13:L$14),0)))","v":""},{"$f":"IF($C116=\"\",\"\",IF(ISBLANK(VLOOKUP($A116,'Section 2'!$E$17:$V$216,COLUMNS('Section 2'!$E$13:M$14),0)),\"\",VLOOKUP($A116,'Section 2'!$E$17:$V$216,COLUMNS('Section 2'!$E$13:M$14),0)))","v":""},{"$f":"IF($C116=\"\",\"\",IF(ISBLANK(VLOOKUP($A116,'Section 2'!$E$17:$V$216,COLUMNS('Section 2'!$E$13:N$14),0)),\"\",VLOOKUP($A116,'Section 2'!$E$17:$V$216,COLUMNS('Section 2'!$E$13:N$14),0)))","v":""},{"$f":"IF($C116=\"\",\"\",IF(ISBLANK(VLOOKUP($A116,'Section 2'!$E$17:$V$216,COLUMNS('Section 2'!$E$13:O$14),0)),\"\",VLOOKUP($A116,'Section 2'!$E$17:$V$216,COLUMNS('Section 2'!$E$13:O$14),0)))","v":""},{"$f":"IF($C116=\"\",\"\",IF(ISBLANK(VLOOKUP($A116,'Section 2'!$E$17:$V$216,COLUMNS('Section 2'!$E$13:P$14),0)),\"\",VLOOKUP($A116,'Section 2'!$E$17:$V$216,COLUMNS('Section 2'!$E$13:P$14),0)))","v":""},{"$f":"IF($C116=\"\",\"\",IF(ISBLANK(VLOOKUP($A116,'Section 2'!$E$17:$V$216,COLUMNS('Section 2'!$E$13:Q$14),0)),\"\",VLOOKUP($A116,'Section 2'!$E$17:$V$216,COLUMNS('Section 2'!$E$13:Q$14),0)))","v":""},{"$f":"IF($C116=\"\",\"\",IF(ISBLANK(VLOOKUP($A116,'Section 2'!$E$17:$V$216,COLUMNS('Section 2'!$E$13:R$14),0)),\"\",VLOOKUP($A116,'Section 2'!$E$17:$V$216,COLUMNS('Section 2'!$E$13:R$14),0)))","v":""},{"$f":"IF($C116=\"\",\"\",IF(ISBLANK(VLOOKUP($A116,'Section 2'!$E$17:$V$216,COLUMNS('Section 2'!$E$13:S$14),0)),\"\",VLOOKUP($A116,'Section 2'!$E$17:$V$216,COLUMNS('Section 2'!$E$13:S$14),0)))","v":""},{"$f":"IF($C116=\"\",\"\",IF(ISBLANK(VLOOKUP($A116,'Section 2'!$E$17:$V$216,COLUMNS('Section 2'!$E$13:T$14),0)),\"\",VLOOKUP($A116,'Section 2'!$E$17:$V$216,COLUMNS('Section 2'!$E$13:T$14),0)))","v":""},{"$f":"IF($C116=\"\",\"\",IF(ISBLANK(VLOOKUP($A116,'Section 2'!$E$17:$V$216,COLUMNS('Section 2'!$E$13:U$14),0)),\"\",VLOOKUP($A116,'Section 2'!$E$17:$V$216,COLUMNS('Section 2'!$E$13:U$14),0)))","v":""},{"$f":"IF($C116=\"\",\"\",IF(ISBLANK(VLOOKUP($A116,'Section 2'!$E$17:$V$216,COLUMNS('Section 2'!$E$13:V$14),0)),\"\",VLOOKUP($A116,'Section 2'!$E$17:$V$216,COLUMNS('Section 2'!$E$13:V$14),0)))","v":""}]
[116,"",{"$f":"IFERROR(VLOOKUP($A117,'Section 2'!$E$17:$V$216,COLUMNS('Section 2'!$E$13:E$14),0),\"\")","v":""},{"$f":"IF($C117=\"\",\"\",IF(ISBLANK(VLOOKUP($A117,'Section 2'!$E$17:$V$216,COLUMNS('Section 2'!$E$13:F$14),0)),\"\",VLOOKUP($A117,'Section 2'!$E$17:$V$216,COLUMNS('Section 2'!$E$13:F$14),0)))","v":""},{"$f":"IF($C117=\"\",\"\",IF(ISBLANK(VLOOKUP($A117,'Section 2'!$E$17:$V$216,COLUMNS('Section 2'!$E$13:G$14),0)),\"\",VLOOKUP($A117,'Section 2'!$E$17:$V$216,COLUMNS('Section 2'!$E$13:G$14),0)))","v":""},{"$f":"IF($C117=\"\",\"\",IF(ISBLANK(VLOOKUP($A117,'Section 2'!$E$17:$V$216,COLUMNS('Section 2'!$E$13:H$14),0)),\"\",VLOOKUP($A117,'Section 2'!$E$17:$V$216,COLUMNS('Section 2'!$E$13:H$14),0)))","v":""},{"$f":"IF($C117=\"\",\"\",IF(ISBLANK(VLOOKUP($A117,'Section 2'!$E$17:$V$216,COLUMNS('Section 2'!$E$13:I$14),0)),\"\",VLOOKUP($A117,'Section 2'!$E$17:$V$216,COLUMNS('Section 2'!$E$13:I$14),0)))","v":""},{"$f":"IF($C117=\"\",\"\",IF(ISBLANK(VLOOKUP($A117,'Section 2'!$E$17:$V$216,COLUMNS('Section 2'!$E$13:J$14),0)),\"\",VLOOKUP($A117,'Section 2'!$E$17:$V$216,COLUMNS('Section 2'!$E$13:J$14),0)))","v":""},{"$f":"IF($C117=\"\",\"\",IF(ISBLANK(VLOOKUP($A117,'Section 2'!$E$17:$V$216,COLUMNS('Section 2'!$E$13:K$14),0)),\"\",VLOOKUP($A117,'Section 2'!$E$17:$V$216,COLUMNS('Section 2'!$E$13:K$14),0)))","v":""},{"$f":"IF($C117=\"\",\"\",IF(ISBLANK(VLOOKUP($A117,'Section 2'!$E$17:$V$216,COLUMNS('Section 2'!$E$13:L$14),0)),\"\",VLOOKUP($A117,'Section 2'!$E$17:$V$216,COLUMNS('Section 2'!$E$13:L$14),0)))","v":""},{"$f":"IF($C117=\"\",\"\",IF(ISBLANK(VLOOKUP($A117,'Section 2'!$E$17:$V$216,COLUMNS('Section 2'!$E$13:M$14),0)),\"\",VLOOKUP($A117,'Section 2'!$E$17:$V$216,COLUMNS('Section 2'!$E$13:M$14),0)))","v":""},{"$f":"IF($C117=\"\",\"\",IF(ISBLANK(VLOOKUP($A117,'Section 2'!$E$17:$V$216,COLUMNS('Section 2'!$E$13:N$14),0)),\"\",VLOOKUP($A117,'Section 2'!$E$17:$V$216,COLUMNS('Section 2'!$E$13:N$14),0)))","v":""},{"$f":"IF($C117=\"\",\"\",IF(ISBLANK(VLOOKUP($A117,'Section 2'!$E$17:$V$216,COLUMNS('Section 2'!$E$13:O$14),0)),\"\",VLOOKUP($A117,'Section 2'!$E$17:$V$216,COLUMNS('Section 2'!$E$13:O$14),0)))","v":""},{"$f":"IF($C117=\"\",\"\",IF(ISBLANK(VLOOKUP($A117,'Section 2'!$E$17:$V$216,COLUMNS('Section 2'!$E$13:P$14),0)),\"\",VLOOKUP($A117,'Section 2'!$E$17:$V$216,COLUMNS('Section 2'!$E$13:P$14),0)))","v":""},{"$f":"IF($C117=\"\",\"\",IF(ISBLANK(VLOOKUP($A117,'Section 2'!$E$17:$V$216,COLUMNS('Section 2'!$E$13:Q$14),0)),\"\",VLOOKUP($A117,'Section 2'!$E$17:$V$216,COLUMNS('Section 2'!$E$13:Q$14),0)))","v":""},{"$f":"IF($C117=\"\",\"\",IF(ISBLANK(VLOOKUP($A117,'Section 2'!$E$17:$V$216,COLUMNS('Section 2'!$E$13:R$14),0)),\"\",VLOOKUP($A117,'Section 2'!$E$17:$V$216,COLUMNS('Section 2'!$E$13:R$14),0)))","v":""},{"$f":"IF($C117=\"\",\"\",IF(ISBLANK(VLOOKUP($A117,'Section 2'!$E$17:$V$216,COLUMNS('Section 2'!$E$13:S$14),0)),\"\",VLOOKUP($A117,'Section 2'!$E$17:$V$216,COLUMNS('Section 2'!$E$13:S$14),0)))","v":""},{"$f":"IF($C117=\"\",\"\",IF(ISBLANK(VLOOKUP($A117,'Section 2'!$E$17:$V$216,COLUMNS('Section 2'!$E$13:T$14),0)),\"\",VLOOKUP($A117,'Section 2'!$E$17:$V$216,COLUMNS('Section 2'!$E$13:T$14),0)))","v":""},{"$f":"IF($C117=\"\",\"\",IF(ISBLANK(VLOOKUP($A117,'Section 2'!$E$17:$V$216,COLUMNS('Section 2'!$E$13:U$14),0)),\"\",VLOOKUP($A117,'Section 2'!$E$17:$V$216,COLUMNS('Section 2'!$E$13:U$14),0)))","v":""},{"$f":"IF($C117=\"\",\"\",IF(ISBLANK(VLOOKUP($A117,'Section 2'!$E$17:$V$216,COLUMNS('Section 2'!$E$13:V$14),0)),\"\",VLOOKUP($A117,'Section 2'!$E$17:$V$216,COLUMNS('Section 2'!$E$13:V$14),0)))","v":""}]
[117,"",{"$f":"IFERROR(VLOOKUP($A118,'Section 2'!$E$17:$V$216,COLUMNS('Section 2'!$E$13:E$14),0),\"\")","v":""},{"$f":"IF($C118=\"\",\"\",IF(ISBLANK(VLOOKUP($A118,'Section 2'!$E$17:$V$216,COLUMNS('Section 2'!$E$13:F$14),0)),\"\",VLOOKUP($A118,'Section 2'!$E$17:$V$216,COLUMNS('Section 2'!$E$13:F$14),0)))","v":""},{"$f":"IF($C118=\"\",\"\",IF(ISBLANK(VLOOKUP($A118,'Section 2'!$E$17:$V$216,COLUMNS('Section 2'!$E$13:G$14),0)),\"\",VLOOKUP($A118,'Section 2'!$E$17:$V$216,COLUMNS('Section 2'!$E$13:G$14),0)))","v":""},{"$f":"IF($C118=\"\",\"\",IF(ISBLANK(VLOOKUP($A118,'Section 2'!$E$17:$V$216,COLUMNS('Section 2'!$E$13:H$14),0)),\"\",VLOOKUP($A118,'Section 2'!$E$17:$V$216,COLUMNS('Section 2'!$E$13:H$14),0)))","v":""},{"$f":"IF($C118=\"\",\"\",IF(ISBLANK(VLOOKUP($A118,'Section 2'!$E$17:$V$216,COLUMNS('Section 2'!$E$13:I$14),0)),\"\",VLOOKUP($A118,'Section 2'!$E$17:$V$216,COLUMNS('Section 2'!$E$13:I$14),0)))","v":""},{"$f":"IF($C118=\"\",\"\",IF(ISBLANK(VLOOKUP($A118,'Section 2'!$E$17:$V$216,COLUMNS('Section 2'!$E$13:J$14),0)),\"\",VLOOKUP($A118,'Section 2'!$E$17:$V$216,COLUMNS('Section 2'!$E$13:J$14),0)))","v":""},{"$f":"IF($C118=\"\",\"\",IF(ISBLANK(VLOOKUP($A118,'Section 2'!$E$17:$V$216,COLUMNS('Section 2'!$E$13:K$14),0)),\"\",VLOOKUP($A118,'Section 2'!$E$17:$V$216,COLUMNS('Section 2'!$E$13:K$14),0)))","v":""},{"$f":"IF($C118=\"\",\"\",IF(ISBLANK(VLOOKUP($A118,'Section 2'!$E$17:$V$216,COLUMNS('Section 2'!$E$13:L$14),0)),\"\",VLOOKUP($A118,'Section 2'!$E$17:$V$216,COLUMNS('Section 2'!$E$13:L$14),0)))","v":""},{"$f":"IF($C118=\"\",\"\",IF(ISBLANK(VLOOKUP($A118,'Section 2'!$E$17:$V$216,COLUMNS('Section 2'!$E$13:M$14),0)),\"\",VLOOKUP($A118,'Section 2'!$E$17:$V$216,COLUMNS('Section 2'!$E$13:M$14),0)))","v":""},{"$f":"IF($C118=\"\",\"\",IF(ISBLANK(VLOOKUP($A118,'Section 2'!$E$17:$V$216,COLUMNS('Section 2'!$E$13:N$14),0)),\"\",VLOOKUP($A118,'Section 2'!$E$17:$V$216,COLUMNS('Section 2'!$E$13:N$14),0)))","v":""},{"$f":"IF($C118=\"\",\"\",IF(ISBLANK(VLOOKUP($A118,'Section 2'!$E$17:$V$216,COLUMNS('Section 2'!$E$13:O$14),0)),\"\",VLOOKUP($A118,'Section 2'!$E$17:$V$216,COLUMNS('Section 2'!$E$13:O$14),0)))","v":""},{"$f":"IF($C118=\"\",\"\",IF(ISBLANK(VLOOKUP($A118,'Section 2'!$E$17:$V$216,COLUMNS('Section 2'!$E$13:P$14),0)),\"\",VLOOKUP($A118,'Section 2'!$E$17:$V$216,COLUMNS('Section 2'!$E$13:P$14),0)))","v":""},{"$f":"IF($C118=\"\",\"\",IF(ISBLANK(VLOOKUP($A118,'Section 2'!$E$17:$V$216,COLUMNS('Section 2'!$E$13:Q$14),0)),\"\",VLOOKUP($A118,'Section 2'!$E$17:$V$216,COLUMNS('Section 2'!$E$13:Q$14),0)))","v":""},{"$f":"IF($C118=\"\",\"\",IF(ISBLANK(VLOOKUP($A118,'Section 2'!$E$17:$V$216,COLUMNS('Section 2'!$E$13:R$14),0)),\"\",VLOOKUP($A118,'Section 2'!$E$17:$V$216,COLUMNS('Section 2'!$E$13:R$14),0)))","v":""},{"$f":"IF($C118=\"\",\"\",IF(ISBLANK(VLOOKUP($A118,'Section 2'!$E$17:$V$216,COLUMNS('Section 2'!$E$13:S$14),0)),\"\",VLOOKUP($A118,'Section 2'!$E$17:$V$216,COLUMNS('Section 2'!$E$13:S$14),0)))","v":""},{"$f":"IF($C118=\"\",\"\",IF(ISBLANK(VLOOKUP($A118,'Section 2'!$E$17:$V$216,COLUMNS('Section 2'!$E$13:T$14),0)),\"\",VLOOKUP($A118,'Section 2'!$E$17:$V$216,COLUMNS('Section 2'!$E$13:T$14),0)))","v":""},{"$f":"IF($C118=\"\",\"\",IF(ISBLANK(VLOOKUP($A118,'Section 2'!$E$17:$V$216,COLUMNS('Section 2'!$E$13:U$14),0)),\"\",VLOOKUP($A118,'Section 2'!$E$17:$V$216,COLUMNS('Section 2'!$E$13:U$14),0)))","v":""},{"$f":"IF($C118=\"\",\"\",IF(ISBLANK(VLOOKUP($A118,'Section 2'!$E$17:$V$216,COLUMNS('Section 2'!$E$13:V$14),0)),\"\",VLOOKUP($A118,'Section 2'!$E$17:$V$216,COLUMNS('Section 2'!$E$13:V$14),0)))","v":""}]
[118,"",{"$f":"IFERROR(VLOOKUP($A119,'Section 2'!$E$17:$V$216,COLUMNS('Section 2'!$E$13:E$14),0),\"\")","v":""},{"$f":"IF($C119=\"\",\"\",IF(ISBLANK(VLOOKUP($A119,'Section 2'!$E$17:$V$216,COLUMNS('Section 2'!$E$13:F$14),0)),\"\",VLOOKUP($A119,'Section 2'!$E$17:$V$216,COLUMNS('Section 2'!$E$13:F$14),0)))","v":""},{"$f":"IF($C119=\"\",\"\",IF(ISBLANK(VLOOKUP($A119,'Section 2'!$E$17:$V$216,COLUMNS('Section 2'!$E$13:G$14),0)),\"\",VLOOKUP($A119,'Section 2'!$E$17:$V$216,COLUMNS('Section 2'!$E$13:G$14),0)))","v":""},{"$f":"IF($C119=\"\",\"\",IF(ISBLANK(VLOOKUP($A119,'Section 2'!$E$17:$V$216,COLUMNS('Section 2'!$E$13:H$14),0)),\"\",VLOOKUP($A119,'Section 2'!$E$17:$V$216,COLUMNS('Section 2'!$E$13:H$14),0)))","v":""},{"$f":"IF($C119=\"\",\"\",IF(ISBLANK(VLOOKUP($A119,'Section 2'!$E$17:$V$216,COLUMNS('Section 2'!$E$13:I$14),0)),\"\",VLOOKUP($A119,'Section 2'!$E$17:$V$216,COLUMNS('Section 2'!$E$13:I$14),0)))","v":""},{"$f":"IF($C119=\"\",\"\",IF(ISBLANK(VLOOKUP($A119,'Section 2'!$E$17:$V$216,COLUMNS('Section 2'!$E$13:J$14),0)),\"\",VLOOKUP($A119,'Section 2'!$E$17:$V$216,COLUMNS('Section 2'!$E$13:J$14),0)))","v":""},{"$f":"IF($C119=\"\",\"\",IF(ISBLANK(VLOOKUP($A119,'Section 2'!$E$17:$V$216,COLUMNS('Section 2'!$E$13:K$14),0)),\"\",VLOOKUP($A119,'Section 2'!$E$17:$V$216,COLUMNS('Section 2'!$E$13:K$14),0)))","v":""},{"$f":"IF($C119=\"\",\"\",IF(ISBLANK(VLOOKUP($A119,'Section 2'!$E$17:$V$216,COLUMNS('Section 2'!$E$13:L$14),0)),\"\",VLOOKUP($A119,'Section 2'!$E$17:$V$216,COLUMNS('Section 2'!$E$13:L$14),0)))","v":""},{"$f":"IF($C119=\"\",\"\",IF(ISBLANK(VLOOKUP($A119,'Section 2'!$E$17:$V$216,COLUMNS('Section 2'!$E$13:M$14),0)),\"\",VLOOKUP($A119,'Section 2'!$E$17:$V$216,COLUMNS('Section 2'!$E$13:M$14),0)))","v":""},{"$f":"IF($C119=\"\",\"\",IF(ISBLANK(VLOOKUP($A119,'Section 2'!$E$17:$V$216,COLUMNS('Section 2'!$E$13:N$14),0)),\"\",VLOOKUP($A119,'Section 2'!$E$17:$V$216,COLUMNS('Section 2'!$E$13:N$14),0)))","v":""},{"$f":"IF($C119=\"\",\"\",IF(ISBLANK(VLOOKUP($A119,'Section 2'!$E$17:$V$216,COLUMNS('Section 2'!$E$13:O$14),0)),\"\",VLOOKUP($A119,'Section 2'!$E$17:$V$216,COLUMNS('Section 2'!$E$13:O$14),0)))","v":""},{"$f":"IF($C119=\"\",\"\",IF(ISBLANK(VLOOKUP($A119,'Section 2'!$E$17:$V$216,COLUMNS('Section 2'!$E$13:P$14),0)),\"\",VLOOKUP($A119,'Section 2'!$E$17:$V$216,COLUMNS('Section 2'!$E$13:P$14),0)))","v":""},{"$f":"IF($C119=\"\",\"\",IF(ISBLANK(VLOOKUP($A119,'Section 2'!$E$17:$V$216,COLUMNS('Section 2'!$E$13:Q$14),0)),\"\",VLOOKUP($A119,'Section 2'!$E$17:$V$216,COLUMNS('Section 2'!$E$13:Q$14),0)))","v":""},{"$f":"IF($C119=\"\",\"\",IF(ISBLANK(VLOOKUP($A119,'Section 2'!$E$17:$V$216,COLUMNS('Section 2'!$E$13:R$14),0)),\"\",VLOOKUP($A119,'Section 2'!$E$17:$V$216,COLUMNS('Section 2'!$E$13:R$14),0)))","v":""},{"$f":"IF($C119=\"\",\"\",IF(ISBLANK(VLOOKUP($A119,'Section 2'!$E$17:$V$216,COLUMNS('Section 2'!$E$13:S$14),0)),\"\",VLOOKUP($A119,'Section 2'!$E$17:$V$216,COLUMNS('Section 2'!$E$13:S$14),0)))","v":""},{"$f":"IF($C119=\"\",\"\",IF(ISBLANK(VLOOKUP($A119,'Section 2'!$E$17:$V$216,COLUMNS('Section 2'!$E$13:T$14),0)),\"\",VLOOKUP($A119,'Section 2'!$E$17:$V$216,COLUMNS('Section 2'!$E$13:T$14),0)))","v":""},{"$f":"IF($C119=\"\",\"\",IF(ISBLANK(VLOOKUP($A119,'Section 2'!$E$17:$V$216,COLUMNS('Section 2'!$E$13:U$14),0)),\"\",VLOOKUP($A119,'Section 2'!$E$17:$V$216,COLUMNS('Section 2'!$E$13:U$14),0)))","v":""},{"$f":"IF($C119=\"\",\"\",IF(ISBLANK(VLOOKUP($A119,'Section 2'!$E$17:$V$216,COLUMNS('Section 2'!$E$13:V$14),0)),\"\",VLOOKUP($A119,'Section 2'!$E$17:$V$216,COLUMNS('Section 2'!$E$13:V$14),0)))","v":""}]
[119,"",{"$f":"IFERROR(VLOOKUP($A120,'Section 2'!$E$17:$V$216,COLUMNS('Section 2'!$E$13:E$14),0),\"\")","v":""},{"$f":"IF($C120=\"\",\"\",IF(ISBLANK(VLOOKUP($A120,'Section 2'!$E$17:$V$216,COLUMNS('Section 2'!$E$13:F$14),0)),\"\",VLOOKUP($A120,'Section 2'!$E$17:$V$216,COLUMNS('Section 2'!$E$13:F$14),0)))","v":""},{"$f":"IF($C120=\"\",\"\",IF(ISBLANK(VLOOKUP($A120,'Section 2'!$E$17:$V$216,COLUMNS('Section 2'!$E$13:G$14),0)),\"\",VLOOKUP($A120,'Section 2'!$E$17:$V$216,COLUMNS('Section 2'!$E$13:G$14),0)))","v":""},{"$f":"IF($C120=\"\",\"\",IF(ISBLANK(VLOOKUP($A120,'Section 2'!$E$17:$V$216,COLUMNS('Section 2'!$E$13:H$14),0)),\"\",VLOOKUP($A120,'Section 2'!$E$17:$V$216,COLUMNS('Section 2'!$E$13:H$14),0)))","v":""},{"$f":"IF($C120=\"\",\"\",IF(ISBLANK(VLOOKUP($A120,'Section 2'!$E$17:$V$216,COLUMNS('Section 2'!$E$13:I$14),0)),\"\",VLOOKUP($A120,'Section 2'!$E$17:$V$216,COLUMNS('Section 2'!$E$13:I$14),0)))","v":""},{"$f":"IF($C120=\"\",\"\",IF(ISBLANK(VLOOKUP($A120,'Section 2'!$E$17:$V$216,COLUMNS('Section 2'!$E$13:J$14),0)),\"\",VLOOKUP($A120,'Section 2'!$E$17:$V$216,COLUMNS('Section 2'!$E$13:J$14),0)))","v":""},{"$f":"IF($C120=\"\",\"\",IF(ISBLANK(VLOOKUP($A120,'Section 2'!$E$17:$V$216,COLUMNS('Section 2'!$E$13:K$14),0)),\"\",VLOOKUP($A120,'Section 2'!$E$17:$V$216,COLUMNS('Section 2'!$E$13:K$14),0)))","v":""},{"$f":"IF($C120=\"\",\"\",IF(ISBLANK(VLOOKUP($A120,'Section 2'!$E$17:$V$216,COLUMNS('Section 2'!$E$13:L$14),0)),\"\",VLOOKUP($A120,'Section 2'!$E$17:$V$216,COLUMNS('Section 2'!$E$13:L$14),0)))","v":""},{"$f":"IF($C120=\"\",\"\",IF(ISBLANK(VLOOKUP($A120,'Section 2'!$E$17:$V$216,COLUMNS('Section 2'!$E$13:M$14),0)),\"\",VLOOKUP($A120,'Section 2'!$E$17:$V$216,COLUMNS('Section 2'!$E$13:M$14),0)))","v":""},{"$f":"IF($C120=\"\",\"\",IF(ISBLANK(VLOOKUP($A120,'Section 2'!$E$17:$V$216,COLUMNS('Section 2'!$E$13:N$14),0)),\"\",VLOOKUP($A120,'Section 2'!$E$17:$V$216,COLUMNS('Section 2'!$E$13:N$14),0)))","v":""},{"$f":"IF($C120=\"\",\"\",IF(ISBLANK(VLOOKUP($A120,'Section 2'!$E$17:$V$216,COLUMNS('Section 2'!$E$13:O$14),0)),\"\",VLOOKUP($A120,'Section 2'!$E$17:$V$216,COLUMNS('Section 2'!$E$13:O$14),0)))","v":""},{"$f":"IF($C120=\"\",\"\",IF(ISBLANK(VLOOKUP($A120,'Section 2'!$E$17:$V$216,COLUMNS('Section 2'!$E$13:P$14),0)),\"\",VLOOKUP($A120,'Section 2'!$E$17:$V$216,COLUMNS('Section 2'!$E$13:P$14),0)))","v":""},{"$f":"IF($C120=\"\",\"\",IF(ISBLANK(VLOOKUP($A120,'Section 2'!$E$17:$V$216,COLUMNS('Section 2'!$E$13:Q$14),0)),\"\",VLOOKUP($A120,'Section 2'!$E$17:$V$216,COLUMNS('Section 2'!$E$13:Q$14),0)))","v":""},{"$f":"IF($C120=\"\",\"\",IF(ISBLANK(VLOOKUP($A120,'Section 2'!$E$17:$V$216,COLUMNS('Section 2'!$E$13:R$14),0)),\"\",VLOOKUP($A120,'Section 2'!$E$17:$V$216,COLUMNS('Section 2'!$E$13:R$14),0)))","v":""},{"$f":"IF($C120=\"\",\"\",IF(ISBLANK(VLOOKUP($A120,'Section 2'!$E$17:$V$216,COLUMNS('Section 2'!$E$13:S$14),0)),\"\",VLOOKUP($A120,'Section 2'!$E$17:$V$216,COLUMNS('Section 2'!$E$13:S$14),0)))","v":""},{"$f":"IF($C120=\"\",\"\",IF(ISBLANK(VLOOKUP($A120,'Section 2'!$E$17:$V$216,COLUMNS('Section 2'!$E$13:T$14),0)),\"\",VLOOKUP($A120,'Section 2'!$E$17:$V$216,COLUMNS('Section 2'!$E$13:T$14),0)))","v":""},{"$f":"IF($C120=\"\",\"\",IF(ISBLANK(VLOOKUP($A120,'Section 2'!$E$17:$V$216,COLUMNS('Section 2'!$E$13:U$14),0)),\"\",VLOOKUP($A120,'Section 2'!$E$17:$V$216,COLUMNS('Section 2'!$E$13:U$14),0)))","v":""},{"$f":"IF($C120=\"\",\"\",IF(ISBLANK(VLOOKUP($A120,'Section 2'!$E$17:$V$216,COLUMNS('Section 2'!$E$13:V$14),0)),\"\",VLOOKUP($A120,'Section 2'!$E$17:$V$216,COLUMNS('Section 2'!$E$13:V$14),0)))","v":""}]
[120,"",{"$f":"IFERROR(VLOOKUP($A121,'Section 2'!$E$17:$V$216,COLUMNS('Section 2'!$E$13:E$14),0),\"\")","v":""},{"$f":"IF($C121=\"\",\"\",IF(ISBLANK(VLOOKUP($A121,'Section 2'!$E$17:$V$216,COLUMNS('Section 2'!$E$13:F$14),0)),\"\",VLOOKUP($A121,'Section 2'!$E$17:$V$216,COLUMNS('Section 2'!$E$13:F$14),0)))","v":""},{"$f":"IF($C121=\"\",\"\",IF(ISBLANK(VLOOKUP($A121,'Section 2'!$E$17:$V$216,COLUMNS('Section 2'!$E$13:G$14),0)),\"\",VLOOKUP($A121,'Section 2'!$E$17:$V$216,COLUMNS('Section 2'!$E$13:G$14),0)))","v":""},{"$f":"IF($C121=\"\",\"\",IF(ISBLANK(VLOOKUP($A121,'Section 2'!$E$17:$V$216,COLUMNS('Section 2'!$E$13:H$14),0)),\"\",VLOOKUP($A121,'Section 2'!$E$17:$V$216,COLUMNS('Section 2'!$E$13:H$14),0)))","v":""},{"$f":"IF($C121=\"\",\"\",IF(ISBLANK(VLOOKUP($A121,'Section 2'!$E$17:$V$216,COLUMNS('Section 2'!$E$13:I$14),0)),\"\",VLOOKUP($A121,'Section 2'!$E$17:$V$216,COLUMNS('Section 2'!$E$13:I$14),0)))","v":""},{"$f":"IF($C121=\"\",\"\",IF(ISBLANK(VLOOKUP($A121,'Section 2'!$E$17:$V$216,COLUMNS('Section 2'!$E$13:J$14),0)),\"\",VLOOKUP($A121,'Section 2'!$E$17:$V$216,COLUMNS('Section 2'!$E$13:J$14),0)))","v":""},{"$f":"IF($C121=\"\",\"\",IF(ISBLANK(VLOOKUP($A121,'Section 2'!$E$17:$V$216,COLUMNS('Section 2'!$E$13:K$14),0)),\"\",VLOOKUP($A121,'Section 2'!$E$17:$V$216,COLUMNS('Section 2'!$E$13:K$14),0)))","v":""},{"$f":"IF($C121=\"\",\"\",IF(ISBLANK(VLOOKUP($A121,'Section 2'!$E$17:$V$216,COLUMNS('Section 2'!$E$13:L$14),0)),\"\",VLOOKUP($A121,'Section 2'!$E$17:$V$216,COLUMNS('Section 2'!$E$13:L$14),0)))","v":""},{"$f":"IF($C121=\"\",\"\",IF(ISBLANK(VLOOKUP($A121,'Section 2'!$E$17:$V$216,COLUMNS('Section 2'!$E$13:M$14),0)),\"\",VLOOKUP($A121,'Section 2'!$E$17:$V$216,COLUMNS('Section 2'!$E$13:M$14),0)))","v":""},{"$f":"IF($C121=\"\",\"\",IF(ISBLANK(VLOOKUP($A121,'Section 2'!$E$17:$V$216,COLUMNS('Section 2'!$E$13:N$14),0)),\"\",VLOOKUP($A121,'Section 2'!$E$17:$V$216,COLUMNS('Section 2'!$E$13:N$14),0)))","v":""},{"$f":"IF($C121=\"\",\"\",IF(ISBLANK(VLOOKUP($A121,'Section 2'!$E$17:$V$216,COLUMNS('Section 2'!$E$13:O$14),0)),\"\",VLOOKUP($A121,'Section 2'!$E$17:$V$216,COLUMNS('Section 2'!$E$13:O$14),0)))","v":""},{"$f":"IF($C121=\"\",\"\",IF(ISBLANK(VLOOKUP($A121,'Section 2'!$E$17:$V$216,COLUMNS('Section 2'!$E$13:P$14),0)),\"\",VLOOKUP($A121,'Section 2'!$E$17:$V$216,COLUMNS('Section 2'!$E$13:P$14),0)))","v":""},{"$f":"IF($C121=\"\",\"\",IF(ISBLANK(VLOOKUP($A121,'Section 2'!$E$17:$V$216,COLUMNS('Section 2'!$E$13:Q$14),0)),\"\",VLOOKUP($A121,'Section 2'!$E$17:$V$216,COLUMNS('Section 2'!$E$13:Q$14),0)))","v":""},{"$f":"IF($C121=\"\",\"\",IF(ISBLANK(VLOOKUP($A121,'Section 2'!$E$17:$V$216,COLUMNS('Section 2'!$E$13:R$14),0)),\"\",VLOOKUP($A121,'Section 2'!$E$17:$V$216,COLUMNS('Section 2'!$E$13:R$14),0)))","v":""},{"$f":"IF($C121=\"\",\"\",IF(ISBLANK(VLOOKUP($A121,'Section 2'!$E$17:$V$216,COLUMNS('Section 2'!$E$13:S$14),0)),\"\",VLOOKUP($A121,'Section 2'!$E$17:$V$216,COLUMNS('Section 2'!$E$13:S$14),0)))","v":""},{"$f":"IF($C121=\"\",\"\",IF(ISBLANK(VLOOKUP($A121,'Section 2'!$E$17:$V$216,COLUMNS('Section 2'!$E$13:T$14),0)),\"\",VLOOKUP($A121,'Section 2'!$E$17:$V$216,COLUMNS('Section 2'!$E$13:T$14),0)))","v":""},{"$f":"IF($C121=\"\",\"\",IF(ISBLANK(VLOOKUP($A121,'Section 2'!$E$17:$V$216,COLUMNS('Section 2'!$E$13:U$14),0)),\"\",VLOOKUP($A121,'Section 2'!$E$17:$V$216,COLUMNS('Section 2'!$E$13:U$14),0)))","v":""},{"$f":"IF($C121=\"\",\"\",IF(ISBLANK(VLOOKUP($A121,'Section 2'!$E$17:$V$216,COLUMNS('Section 2'!$E$13:V$14),0)),\"\",VLOOKUP($A121,'Section 2'!$E$17:$V$216,COLUMNS('Section 2'!$E$13:V$14),0)))","v":""}]
[121,"",{"$f":"IFERROR(VLOOKUP($A122,'Section 2'!$E$17:$V$216,COLUMNS('Section 2'!$E$13:E$14),0),\"\")","v":""},{"$f":"IF($C122=\"\",\"\",IF(ISBLANK(VLOOKUP($A122,'Section 2'!$E$17:$V$216,COLUMNS('Section 2'!$E$13:F$14),0)),\"\",VLOOKUP($A122,'Section 2'!$E$17:$V$216,COLUMNS('Section 2'!$E$13:F$14),0)))","v":""},{"$f":"IF($C122=\"\",\"\",IF(ISBLANK(VLOOKUP($A122,'Section 2'!$E$17:$V$216,COLUMNS('Section 2'!$E$13:G$14),0)),\"\",VLOOKUP($A122,'Section 2'!$E$17:$V$216,COLUMNS('Section 2'!$E$13:G$14),0)))","v":""},{"$f":"IF($C122=\"\",\"\",IF(ISBLANK(VLOOKUP($A122,'Section 2'!$E$17:$V$216,COLUMNS('Section 2'!$E$13:H$14),0)),\"\",VLOOKUP($A122,'Section 2'!$E$17:$V$216,COLUMNS('Section 2'!$E$13:H$14),0)))","v":""},{"$f":"IF($C122=\"\",\"\",IF(ISBLANK(VLOOKUP($A122,'Section 2'!$E$17:$V$216,COLUMNS('Section 2'!$E$13:I$14),0)),\"\",VLOOKUP($A122,'Section 2'!$E$17:$V$216,COLUMNS('Section 2'!$E$13:I$14),0)))","v":""},{"$f":"IF($C122=\"\",\"\",IF(ISBLANK(VLOOKUP($A122,'Section 2'!$E$17:$V$216,COLUMNS('Section 2'!$E$13:J$14),0)),\"\",VLOOKUP($A122,'Section 2'!$E$17:$V$216,COLUMNS('Section 2'!$E$13:J$14),0)))","v":""},{"$f":"IF($C122=\"\",\"\",IF(ISBLANK(VLOOKUP($A122,'Section 2'!$E$17:$V$216,COLUMNS('Section 2'!$E$13:K$14),0)),\"\",VLOOKUP($A122,'Section 2'!$E$17:$V$216,COLUMNS('Section 2'!$E$13:K$14),0)))","v":""},{"$f":"IF($C122=\"\",\"\",IF(ISBLANK(VLOOKUP($A122,'Section 2'!$E$17:$V$216,COLUMNS('Section 2'!$E$13:L$14),0)),\"\",VLOOKUP($A122,'Section 2'!$E$17:$V$216,COLUMNS('Section 2'!$E$13:L$14),0)))","v":""},{"$f":"IF($C122=\"\",\"\",IF(ISBLANK(VLOOKUP($A122,'Section 2'!$E$17:$V$216,COLUMNS('Section 2'!$E$13:M$14),0)),\"\",VLOOKUP($A122,'Section 2'!$E$17:$V$216,COLUMNS('Section 2'!$E$13:M$14),0)))","v":""},{"$f":"IF($C122=\"\",\"\",IF(ISBLANK(VLOOKUP($A122,'Section 2'!$E$17:$V$216,COLUMNS('Section 2'!$E$13:N$14),0)),\"\",VLOOKUP($A122,'Section 2'!$E$17:$V$216,COLUMNS('Section 2'!$E$13:N$14),0)))","v":""},{"$f":"IF($C122=\"\",\"\",IF(ISBLANK(VLOOKUP($A122,'Section 2'!$E$17:$V$216,COLUMNS('Section 2'!$E$13:O$14),0)),\"\",VLOOKUP($A122,'Section 2'!$E$17:$V$216,COLUMNS('Section 2'!$E$13:O$14),0)))","v":""},{"$f":"IF($C122=\"\",\"\",IF(ISBLANK(VLOOKUP($A122,'Section 2'!$E$17:$V$216,COLUMNS('Section 2'!$E$13:P$14),0)),\"\",VLOOKUP($A122,'Section 2'!$E$17:$V$216,COLUMNS('Section 2'!$E$13:P$14),0)))","v":""},{"$f":"IF($C122=\"\",\"\",IF(ISBLANK(VLOOKUP($A122,'Section 2'!$E$17:$V$216,COLUMNS('Section 2'!$E$13:Q$14),0)),\"\",VLOOKUP($A122,'Section 2'!$E$17:$V$216,COLUMNS('Section 2'!$E$13:Q$14),0)))","v":""},{"$f":"IF($C122=\"\",\"\",IF(ISBLANK(VLOOKUP($A122,'Section 2'!$E$17:$V$216,COLUMNS('Section 2'!$E$13:R$14),0)),\"\",VLOOKUP($A122,'Section 2'!$E$17:$V$216,COLUMNS('Section 2'!$E$13:R$14),0)))","v":""},{"$f":"IF($C122=\"\",\"\",IF(ISBLANK(VLOOKUP($A122,'Section 2'!$E$17:$V$216,COLUMNS('Section 2'!$E$13:S$14),0)),\"\",VLOOKUP($A122,'Section 2'!$E$17:$V$216,COLUMNS('Section 2'!$E$13:S$14),0)))","v":""},{"$f":"IF($C122=\"\",\"\",IF(ISBLANK(VLOOKUP($A122,'Section 2'!$E$17:$V$216,COLUMNS('Section 2'!$E$13:T$14),0)),\"\",VLOOKUP($A122,'Section 2'!$E$17:$V$216,COLUMNS('Section 2'!$E$13:T$14),0)))","v":""},{"$f":"IF($C122=\"\",\"\",IF(ISBLANK(VLOOKUP($A122,'Section 2'!$E$17:$V$216,COLUMNS('Section 2'!$E$13:U$14),0)),\"\",VLOOKUP($A122,'Section 2'!$E$17:$V$216,COLUMNS('Section 2'!$E$13:U$14),0)))","v":""},{"$f":"IF($C122=\"\",\"\",IF(ISBLANK(VLOOKUP($A122,'Section 2'!$E$17:$V$216,COLUMNS('Section 2'!$E$13:V$14),0)),\"\",VLOOKUP($A122,'Section 2'!$E$17:$V$216,COLUMNS('Section 2'!$E$13:V$14),0)))","v":""}]
[122,"",{"$f":"IFERROR(VLOOKUP($A123,'Section 2'!$E$17:$V$216,COLUMNS('Section 2'!$E$13:E$14),0),\"\")","v":""},{"$f":"IF($C123=\"\",\"\",IF(ISBLANK(VLOOKUP($A123,'Section 2'!$E$17:$V$216,COLUMNS('Section 2'!$E$13:F$14),0)),\"\",VLOOKUP($A123,'Section 2'!$E$17:$V$216,COLUMNS('Section 2'!$E$13:F$14),0)))","v":""},{"$f":"IF($C123=\"\",\"\",IF(ISBLANK(VLOOKUP($A123,'Section 2'!$E$17:$V$216,COLUMNS('Section 2'!$E$13:G$14),0)),\"\",VLOOKUP($A123,'Section 2'!$E$17:$V$216,COLUMNS('Section 2'!$E$13:G$14),0)))","v":""},{"$f":"IF($C123=\"\",\"\",IF(ISBLANK(VLOOKUP($A123,'Section 2'!$E$17:$V$216,COLUMNS('Section 2'!$E$13:H$14),0)),\"\",VLOOKUP($A123,'Section 2'!$E$17:$V$216,COLUMNS('Section 2'!$E$13:H$14),0)))","v":""},{"$f":"IF($C123=\"\",\"\",IF(ISBLANK(VLOOKUP($A123,'Section 2'!$E$17:$V$216,COLUMNS('Section 2'!$E$13:I$14),0)),\"\",VLOOKUP($A123,'Section 2'!$E$17:$V$216,COLUMNS('Section 2'!$E$13:I$14),0)))","v":""},{"$f":"IF($C123=\"\",\"\",IF(ISBLANK(VLOOKUP($A123,'Section 2'!$E$17:$V$216,COLUMNS('Section 2'!$E$13:J$14),0)),\"\",VLOOKUP($A123,'Section 2'!$E$17:$V$216,COLUMNS('Section 2'!$E$13:J$14),0)))","v":""},{"$f":"IF($C123=\"\",\"\",IF(ISBLANK(VLOOKUP($A123,'Section 2'!$E$17:$V$216,COLUMNS('Section 2'!$E$13:K$14),0)),\"\",VLOOKUP($A123,'Section 2'!$E$17:$V$216,COLUMNS('Section 2'!$E$13:K$14),0)))","v":""},{"$f":"IF($C123=\"\",\"\",IF(ISBLANK(VLOOKUP($A123,'Section 2'!$E$17:$V$216,COLUMNS('Section 2'!$E$13:L$14),0)),\"\",VLOOKUP($A123,'Section 2'!$E$17:$V$216,COLUMNS('Section 2'!$E$13:L$14),0)))","v":""},{"$f":"IF($C123=\"\",\"\",IF(ISBLANK(VLOOKUP($A123,'Section 2'!$E$17:$V$216,COLUMNS('Section 2'!$E$13:M$14),0)),\"\",VLOOKUP($A123,'Section 2'!$E$17:$V$216,COLUMNS('Section 2'!$E$13:M$14),0)))","v":""},{"$f":"IF($C123=\"\",\"\",IF(ISBLANK(VLOOKUP($A123,'Section 2'!$E$17:$V$216,COLUMNS('Section 2'!$E$13:N$14),0)),\"\",VLOOKUP($A123,'Section 2'!$E$17:$V$216,COLUMNS('Section 2'!$E$13:N$14),0)))","v":""},{"$f":"IF($C123=\"\",\"\",IF(ISBLANK(VLOOKUP($A123,'Section 2'!$E$17:$V$216,COLUMNS('Section 2'!$E$13:O$14),0)),\"\",VLOOKUP($A123,'Section 2'!$E$17:$V$216,COLUMNS('Section 2'!$E$13:O$14),0)))","v":""},{"$f":"IF($C123=\"\",\"\",IF(ISBLANK(VLOOKUP($A123,'Section 2'!$E$17:$V$216,COLUMNS('Section 2'!$E$13:P$14),0)),\"\",VLOOKUP($A123,'Section 2'!$E$17:$V$216,COLUMNS('Section 2'!$E$13:P$14),0)))","v":""},{"$f":"IF($C123=\"\",\"\",IF(ISBLANK(VLOOKUP($A123,'Section 2'!$E$17:$V$216,COLUMNS('Section 2'!$E$13:Q$14),0)),\"\",VLOOKUP($A123,'Section 2'!$E$17:$V$216,COLUMNS('Section 2'!$E$13:Q$14),0)))","v":""},{"$f":"IF($C123=\"\",\"\",IF(ISBLANK(VLOOKUP($A123,'Section 2'!$E$17:$V$216,COLUMNS('Section 2'!$E$13:R$14),0)),\"\",VLOOKUP($A123,'Section 2'!$E$17:$V$216,COLUMNS('Section 2'!$E$13:R$14),0)))","v":""},{"$f":"IF($C123=\"\",\"\",IF(ISBLANK(VLOOKUP($A123,'Section 2'!$E$17:$V$216,COLUMNS('Section 2'!$E$13:S$14),0)),\"\",VLOOKUP($A123,'Section 2'!$E$17:$V$216,COLUMNS('Section 2'!$E$13:S$14),0)))","v":""},{"$f":"IF($C123=\"\",\"\",IF(ISBLANK(VLOOKUP($A123,'Section 2'!$E$17:$V$216,COLUMNS('Section 2'!$E$13:T$14),0)),\"\",VLOOKUP($A123,'Section 2'!$E$17:$V$216,COLUMNS('Section 2'!$E$13:T$14),0)))","v":""},{"$f":"IF($C123=\"\",\"\",IF(ISBLANK(VLOOKUP($A123,'Section 2'!$E$17:$V$216,COLUMNS('Section 2'!$E$13:U$14),0)),\"\",VLOOKUP($A123,'Section 2'!$E$17:$V$216,COLUMNS('Section 2'!$E$13:U$14),0)))","v":""},{"$f":"IF($C123=\"\",\"\",IF(ISBLANK(VLOOKUP($A123,'Section 2'!$E$17:$V$216,COLUMNS('Section 2'!$E$13:V$14),0)),\"\",VLOOKUP($A123,'Section 2'!$E$17:$V$216,COLUMNS('Section 2'!$E$13:V$14),0)))","v":""}]
[123,"",{"$f":"IFERROR(VLOOKUP($A124,'Section 2'!$E$17:$V$216,COLUMNS('Section 2'!$E$13:E$14),0),\"\")","v":""},{"$f":"IF($C124=\"\",\"\",IF(ISBLANK(VLOOKUP($A124,'Section 2'!$E$17:$V$216,COLUMNS('Section 2'!$E$13:F$14),0)),\"\",VLOOKUP($A124,'Section 2'!$E$17:$V$216,COLUMNS('Section 2'!$E$13:F$14),0)))","v":""},{"$f":"IF($C124=\"\",\"\",IF(ISBLANK(VLOOKUP($A124,'Section 2'!$E$17:$V$216,COLUMNS('Section 2'!$E$13:G$14),0)),\"\",VLOOKUP($A124,'Section 2'!$E$17:$V$216,COLUMNS('Section 2'!$E$13:G$14),0)))","v":""},{"$f":"IF($C124=\"\",\"\",IF(ISBLANK(VLOOKUP($A124,'Section 2'!$E$17:$V$216,COLUMNS('Section 2'!$E$13:H$14),0)),\"\",VLOOKUP($A124,'Section 2'!$E$17:$V$216,COLUMNS('Section 2'!$E$13:H$14),0)))","v":""},{"$f":"IF($C124=\"\",\"\",IF(ISBLANK(VLOOKUP($A124,'Section 2'!$E$17:$V$216,COLUMNS('Section 2'!$E$13:I$14),0)),\"\",VLOOKUP($A124,'Section 2'!$E$17:$V$216,COLUMNS('Section 2'!$E$13:I$14),0)))","v":""},{"$f":"IF($C124=\"\",\"\",IF(ISBLANK(VLOOKUP($A124,'Section 2'!$E$17:$V$216,COLUMNS('Section 2'!$E$13:J$14),0)),\"\",VLOOKUP($A124,'Section 2'!$E$17:$V$216,COLUMNS('Section 2'!$E$13:J$14),0)))","v":""},{"$f":"IF($C124=\"\",\"\",IF(ISBLANK(VLOOKUP($A124,'Section 2'!$E$17:$V$216,COLUMNS('Section 2'!$E$13:K$14),0)),\"\",VLOOKUP($A124,'Section 2'!$E$17:$V$216,COLUMNS('Section 2'!$E$13:K$14),0)))","v":""},{"$f":"IF($C124=\"\",\"\",IF(ISBLANK(VLOOKUP($A124,'Section 2'!$E$17:$V$216,COLUMNS('Section 2'!$E$13:L$14),0)),\"\",VLOOKUP($A124,'Section 2'!$E$17:$V$216,COLUMNS('Section 2'!$E$13:L$14),0)))","v":""},{"$f":"IF($C124=\"\",\"\",IF(ISBLANK(VLOOKUP($A124,'Section 2'!$E$17:$V$216,COLUMNS('Section 2'!$E$13:M$14),0)),\"\",VLOOKUP($A124,'Section 2'!$E$17:$V$216,COLUMNS('Section 2'!$E$13:M$14),0)))","v":""},{"$f":"IF($C124=\"\",\"\",IF(ISBLANK(VLOOKUP($A124,'Section 2'!$E$17:$V$216,COLUMNS('Section 2'!$E$13:N$14),0)),\"\",VLOOKUP($A124,'Section 2'!$E$17:$V$216,COLUMNS('Section 2'!$E$13:N$14),0)))","v":""},{"$f":"IF($C124=\"\",\"\",IF(ISBLANK(VLOOKUP($A124,'Section 2'!$E$17:$V$216,COLUMNS('Section 2'!$E$13:O$14),0)),\"\",VLOOKUP($A124,'Section 2'!$E$17:$V$216,COLUMNS('Section 2'!$E$13:O$14),0)))","v":""},{"$f":"IF($C124=\"\",\"\",IF(ISBLANK(VLOOKUP($A124,'Section 2'!$E$17:$V$216,COLUMNS('Section 2'!$E$13:P$14),0)),\"\",VLOOKUP($A124,'Section 2'!$E$17:$V$216,COLUMNS('Section 2'!$E$13:P$14),0)))","v":""},{"$f":"IF($C124=\"\",\"\",IF(ISBLANK(VLOOKUP($A124,'Section 2'!$E$17:$V$216,COLUMNS('Section 2'!$E$13:Q$14),0)),\"\",VLOOKUP($A124,'Section 2'!$E$17:$V$216,COLUMNS('Section 2'!$E$13:Q$14),0)))","v":""},{"$f":"IF($C124=\"\",\"\",IF(ISBLANK(VLOOKUP($A124,'Section 2'!$E$17:$V$216,COLUMNS('Section 2'!$E$13:R$14),0)),\"\",VLOOKUP($A124,'Section 2'!$E$17:$V$216,COLUMNS('Section 2'!$E$13:R$14),0)))","v":""},{"$f":"IF($C124=\"\",\"\",IF(ISBLANK(VLOOKUP($A124,'Section 2'!$E$17:$V$216,COLUMNS('Section 2'!$E$13:S$14),0)),\"\",VLOOKUP($A124,'Section 2'!$E$17:$V$216,COLUMNS('Section 2'!$E$13:S$14),0)))","v":""},{"$f":"IF($C124=\"\",\"\",IF(ISBLANK(VLOOKUP($A124,'Section 2'!$E$17:$V$216,COLUMNS('Section 2'!$E$13:T$14),0)),\"\",VLOOKUP($A124,'Section 2'!$E$17:$V$216,COLUMNS('Section 2'!$E$13:T$14),0)))","v":""},{"$f":"IF($C124=\"\",\"\",IF(ISBLANK(VLOOKUP($A124,'Section 2'!$E$17:$V$216,COLUMNS('Section 2'!$E$13:U$14),0)),\"\",VLOOKUP($A124,'Section 2'!$E$17:$V$216,COLUMNS('Section 2'!$E$13:U$14),0)))","v":""},{"$f":"IF($C124=\"\",\"\",IF(ISBLANK(VLOOKUP($A124,'Section 2'!$E$17:$V$216,COLUMNS('Section 2'!$E$13:V$14),0)),\"\",VLOOKUP($A124,'Section 2'!$E$17:$V$216,COLUMNS('Section 2'!$E$13:V$14),0)))","v":""}]
[124,"",{"$f":"IFERROR(VLOOKUP($A125,'Section 2'!$E$17:$V$216,COLUMNS('Section 2'!$E$13:E$14),0),\"\")","v":""},{"$f":"IF($C125=\"\",\"\",IF(ISBLANK(VLOOKUP($A125,'Section 2'!$E$17:$V$216,COLUMNS('Section 2'!$E$13:F$14),0)),\"\",VLOOKUP($A125,'Section 2'!$E$17:$V$216,COLUMNS('Section 2'!$E$13:F$14),0)))","v":""},{"$f":"IF($C125=\"\",\"\",IF(ISBLANK(VLOOKUP($A125,'Section 2'!$E$17:$V$216,COLUMNS('Section 2'!$E$13:G$14),0)),\"\",VLOOKUP($A125,'Section 2'!$E$17:$V$216,COLUMNS('Section 2'!$E$13:G$14),0)))","v":""},{"$f":"IF($C125=\"\",\"\",IF(ISBLANK(VLOOKUP($A125,'Section 2'!$E$17:$V$216,COLUMNS('Section 2'!$E$13:H$14),0)),\"\",VLOOKUP($A125,'Section 2'!$E$17:$V$216,COLUMNS('Section 2'!$E$13:H$14),0)))","v":""},{"$f":"IF($C125=\"\",\"\",IF(ISBLANK(VLOOKUP($A125,'Section 2'!$E$17:$V$216,COLUMNS('Section 2'!$E$13:I$14),0)),\"\",VLOOKUP($A125,'Section 2'!$E$17:$V$216,COLUMNS('Section 2'!$E$13:I$14),0)))","v":""},{"$f":"IF($C125=\"\",\"\",IF(ISBLANK(VLOOKUP($A125,'Section 2'!$E$17:$V$216,COLUMNS('Section 2'!$E$13:J$14),0)),\"\",VLOOKUP($A125,'Section 2'!$E$17:$V$216,COLUMNS('Section 2'!$E$13:J$14),0)))","v":""},{"$f":"IF($C125=\"\",\"\",IF(ISBLANK(VLOOKUP($A125,'Section 2'!$E$17:$V$216,COLUMNS('Section 2'!$E$13:K$14),0)),\"\",VLOOKUP($A125,'Section 2'!$E$17:$V$216,COLUMNS('Section 2'!$E$13:K$14),0)))","v":""},{"$f":"IF($C125=\"\",\"\",IF(ISBLANK(VLOOKUP($A125,'Section 2'!$E$17:$V$216,COLUMNS('Section 2'!$E$13:L$14),0)),\"\",VLOOKUP($A125,'Section 2'!$E$17:$V$216,COLUMNS('Section 2'!$E$13:L$14),0)))","v":""},{"$f":"IF($C125=\"\",\"\",IF(ISBLANK(VLOOKUP($A125,'Section 2'!$E$17:$V$216,COLUMNS('Section 2'!$E$13:M$14),0)),\"\",VLOOKUP($A125,'Section 2'!$E$17:$V$216,COLUMNS('Section 2'!$E$13:M$14),0)))","v":""},{"$f":"IF($C125=\"\",\"\",IF(ISBLANK(VLOOKUP($A125,'Section 2'!$E$17:$V$216,COLUMNS('Section 2'!$E$13:N$14),0)),\"\",VLOOKUP($A125,'Section 2'!$E$17:$V$216,COLUMNS('Section 2'!$E$13:N$14),0)))","v":""},{"$f":"IF($C125=\"\",\"\",IF(ISBLANK(VLOOKUP($A125,'Section 2'!$E$17:$V$216,COLUMNS('Section 2'!$E$13:O$14),0)),\"\",VLOOKUP($A125,'Section 2'!$E$17:$V$216,COLUMNS('Section 2'!$E$13:O$14),0)))","v":""},{"$f":"IF($C125=\"\",\"\",IF(ISBLANK(VLOOKUP($A125,'Section 2'!$E$17:$V$216,COLUMNS('Section 2'!$E$13:P$14),0)),\"\",VLOOKUP($A125,'Section 2'!$E$17:$V$216,COLUMNS('Section 2'!$E$13:P$14),0)))","v":""},{"$f":"IF($C125=\"\",\"\",IF(ISBLANK(VLOOKUP($A125,'Section 2'!$E$17:$V$216,COLUMNS('Section 2'!$E$13:Q$14),0)),\"\",VLOOKUP($A125,'Section 2'!$E$17:$V$216,COLUMNS('Section 2'!$E$13:Q$14),0)))","v":""},{"$f":"IF($C125=\"\",\"\",IF(ISBLANK(VLOOKUP($A125,'Section 2'!$E$17:$V$216,COLUMNS('Section 2'!$E$13:R$14),0)),\"\",VLOOKUP($A125,'Section 2'!$E$17:$V$216,COLUMNS('Section 2'!$E$13:R$14),0)))","v":""},{"$f":"IF($C125=\"\",\"\",IF(ISBLANK(VLOOKUP($A125,'Section 2'!$E$17:$V$216,COLUMNS('Section 2'!$E$13:S$14),0)),\"\",VLOOKUP($A125,'Section 2'!$E$17:$V$216,COLUMNS('Section 2'!$E$13:S$14),0)))","v":""},{"$f":"IF($C125=\"\",\"\",IF(ISBLANK(VLOOKUP($A125,'Section 2'!$E$17:$V$216,COLUMNS('Section 2'!$E$13:T$14),0)),\"\",VLOOKUP($A125,'Section 2'!$E$17:$V$216,COLUMNS('Section 2'!$E$13:T$14),0)))","v":""},{"$f":"IF($C125=\"\",\"\",IF(ISBLANK(VLOOKUP($A125,'Section 2'!$E$17:$V$216,COLUMNS('Section 2'!$E$13:U$14),0)),\"\",VLOOKUP($A125,'Section 2'!$E$17:$V$216,COLUMNS('Section 2'!$E$13:U$14),0)))","v":""},{"$f":"IF($C125=\"\",\"\",IF(ISBLANK(VLOOKUP($A125,'Section 2'!$E$17:$V$216,COLUMNS('Section 2'!$E$13:V$14),0)),\"\",VLOOKUP($A125,'Section 2'!$E$17:$V$216,COLUMNS('Section 2'!$E$13:V$14),0)))","v":""}]
[125,"",{"$f":"IFERROR(VLOOKUP($A126,'Section 2'!$E$17:$V$216,COLUMNS('Section 2'!$E$13:E$14),0),\"\")","v":""},{"$f":"IF($C126=\"\",\"\",IF(ISBLANK(VLOOKUP($A126,'Section 2'!$E$17:$V$216,COLUMNS('Section 2'!$E$13:F$14),0)),\"\",VLOOKUP($A126,'Section 2'!$E$17:$V$216,COLUMNS('Section 2'!$E$13:F$14),0)))","v":""},{"$f":"IF($C126=\"\",\"\",IF(ISBLANK(VLOOKUP($A126,'Section 2'!$E$17:$V$216,COLUMNS('Section 2'!$E$13:G$14),0)),\"\",VLOOKUP($A126,'Section 2'!$E$17:$V$216,COLUMNS('Section 2'!$E$13:G$14),0)))","v":""},{"$f":"IF($C126=\"\",\"\",IF(ISBLANK(VLOOKUP($A126,'Section 2'!$E$17:$V$216,COLUMNS('Section 2'!$E$13:H$14),0)),\"\",VLOOKUP($A126,'Section 2'!$E$17:$V$216,COLUMNS('Section 2'!$E$13:H$14),0)))","v":""},{"$f":"IF($C126=\"\",\"\",IF(ISBLANK(VLOOKUP($A126,'Section 2'!$E$17:$V$216,COLUMNS('Section 2'!$E$13:I$14),0)),\"\",VLOOKUP($A126,'Section 2'!$E$17:$V$216,COLUMNS('Section 2'!$E$13:I$14),0)))","v":""},{"$f":"IF($C126=\"\",\"\",IF(ISBLANK(VLOOKUP($A126,'Section 2'!$E$17:$V$216,COLUMNS('Section 2'!$E$13:J$14),0)),\"\",VLOOKUP($A126,'Section 2'!$E$17:$V$216,COLUMNS('Section 2'!$E$13:J$14),0)))","v":""},{"$f":"IF($C126=\"\",\"\",IF(ISBLANK(VLOOKUP($A126,'Section 2'!$E$17:$V$216,COLUMNS('Section 2'!$E$13:K$14),0)),\"\",VLOOKUP($A126,'Section 2'!$E$17:$V$216,COLUMNS('Section 2'!$E$13:K$14),0)))","v":""},{"$f":"IF($C126=\"\",\"\",IF(ISBLANK(VLOOKUP($A126,'Section 2'!$E$17:$V$216,COLUMNS('Section 2'!$E$13:L$14),0)),\"\",VLOOKUP($A126,'Section 2'!$E$17:$V$216,COLUMNS('Section 2'!$E$13:L$14),0)))","v":""},{"$f":"IF($C126=\"\",\"\",IF(ISBLANK(VLOOKUP($A126,'Section 2'!$E$17:$V$216,COLUMNS('Section 2'!$E$13:M$14),0)),\"\",VLOOKUP($A126,'Section 2'!$E$17:$V$216,COLUMNS('Section 2'!$E$13:M$14),0)))","v":""},{"$f":"IF($C126=\"\",\"\",IF(ISBLANK(VLOOKUP($A126,'Section 2'!$E$17:$V$216,COLUMNS('Section 2'!$E$13:N$14),0)),\"\",VLOOKUP($A126,'Section 2'!$E$17:$V$216,COLUMNS('Section 2'!$E$13:N$14),0)))","v":""},{"$f":"IF($C126=\"\",\"\",IF(ISBLANK(VLOOKUP($A126,'Section 2'!$E$17:$V$216,COLUMNS('Section 2'!$E$13:O$14),0)),\"\",VLOOKUP($A126,'Section 2'!$E$17:$V$216,COLUMNS('Section 2'!$E$13:O$14),0)))","v":""},{"$f":"IF($C126=\"\",\"\",IF(ISBLANK(VLOOKUP($A126,'Section 2'!$E$17:$V$216,COLUMNS('Section 2'!$E$13:P$14),0)),\"\",VLOOKUP($A126,'Section 2'!$E$17:$V$216,COLUMNS('Section 2'!$E$13:P$14),0)))","v":""},{"$f":"IF($C126=\"\",\"\",IF(ISBLANK(VLOOKUP($A126,'Section 2'!$E$17:$V$216,COLUMNS('Section 2'!$E$13:Q$14),0)),\"\",VLOOKUP($A126,'Section 2'!$E$17:$V$216,COLUMNS('Section 2'!$E$13:Q$14),0)))","v":""},{"$f":"IF($C126=\"\",\"\",IF(ISBLANK(VLOOKUP($A126,'Section 2'!$E$17:$V$216,COLUMNS('Section 2'!$E$13:R$14),0)),\"\",VLOOKUP($A126,'Section 2'!$E$17:$V$216,COLUMNS('Section 2'!$E$13:R$14),0)))","v":""},{"$f":"IF($C126=\"\",\"\",IF(ISBLANK(VLOOKUP($A126,'Section 2'!$E$17:$V$216,COLUMNS('Section 2'!$E$13:S$14),0)),\"\",VLOOKUP($A126,'Section 2'!$E$17:$V$216,COLUMNS('Section 2'!$E$13:S$14),0)))","v":""},{"$f":"IF($C126=\"\",\"\",IF(ISBLANK(VLOOKUP($A126,'Section 2'!$E$17:$V$216,COLUMNS('Section 2'!$E$13:T$14),0)),\"\",VLOOKUP($A126,'Section 2'!$E$17:$V$216,COLUMNS('Section 2'!$E$13:T$14),0)))","v":""},{"$f":"IF($C126=\"\",\"\",IF(ISBLANK(VLOOKUP($A126,'Section 2'!$E$17:$V$216,COLUMNS('Section 2'!$E$13:U$14),0)),\"\",VLOOKUP($A126,'Section 2'!$E$17:$V$216,COLUMNS('Section 2'!$E$13:U$14),0)))","v":""},{"$f":"IF($C126=\"\",\"\",IF(ISBLANK(VLOOKUP($A126,'Section 2'!$E$17:$V$216,COLUMNS('Section 2'!$E$13:V$14),0)),\"\",VLOOKUP($A126,'Section 2'!$E$17:$V$216,COLUMNS('Section 2'!$E$13:V$14),0)))","v":""}]
[126,"",{"$f":"IFERROR(VLOOKUP($A127,'Section 2'!$E$17:$V$216,COLUMNS('Section 2'!$E$13:E$14),0),\"\")","v":""},{"$f":"IF($C127=\"\",\"\",IF(ISBLANK(VLOOKUP($A127,'Section 2'!$E$17:$V$216,COLUMNS('Section 2'!$E$13:F$14),0)),\"\",VLOOKUP($A127,'Section 2'!$E$17:$V$216,COLUMNS('Section 2'!$E$13:F$14),0)))","v":""},{"$f":"IF($C127=\"\",\"\",IF(ISBLANK(VLOOKUP($A127,'Section 2'!$E$17:$V$216,COLUMNS('Section 2'!$E$13:G$14),0)),\"\",VLOOKUP($A127,'Section 2'!$E$17:$V$216,COLUMNS('Section 2'!$E$13:G$14),0)))","v":""},{"$f":"IF($C127=\"\",\"\",IF(ISBLANK(VLOOKUP($A127,'Section 2'!$E$17:$V$216,COLUMNS('Section 2'!$E$13:H$14),0)),\"\",VLOOKUP($A127,'Section 2'!$E$17:$V$216,COLUMNS('Section 2'!$E$13:H$14),0)))","v":""},{"$f":"IF($C127=\"\",\"\",IF(ISBLANK(VLOOKUP($A127,'Section 2'!$E$17:$V$216,COLUMNS('Section 2'!$E$13:I$14),0)),\"\",VLOOKUP($A127,'Section 2'!$E$17:$V$216,COLUMNS('Section 2'!$E$13:I$14),0)))","v":""},{"$f":"IF($C127=\"\",\"\",IF(ISBLANK(VLOOKUP($A127,'Section 2'!$E$17:$V$216,COLUMNS('Section 2'!$E$13:J$14),0)),\"\",VLOOKUP($A127,'Section 2'!$E$17:$V$216,COLUMNS('Section 2'!$E$13:J$14),0)))","v":""},{"$f":"IF($C127=\"\",\"\",IF(ISBLANK(VLOOKUP($A127,'Section 2'!$E$17:$V$216,COLUMNS('Section 2'!$E$13:K$14),0)),\"\",VLOOKUP($A127,'Section 2'!$E$17:$V$216,COLUMNS('Section 2'!$E$13:K$14),0)))","v":""},{"$f":"IF($C127=\"\",\"\",IF(ISBLANK(VLOOKUP($A127,'Section 2'!$E$17:$V$216,COLUMNS('Section 2'!$E$13:L$14),0)),\"\",VLOOKUP($A127,'Section 2'!$E$17:$V$216,COLUMNS('Section 2'!$E$13:L$14),0)))","v":""},{"$f":"IF($C127=\"\",\"\",IF(ISBLANK(VLOOKUP($A127,'Section 2'!$E$17:$V$216,COLUMNS('Section 2'!$E$13:M$14),0)),\"\",VLOOKUP($A127,'Section 2'!$E$17:$V$216,COLUMNS('Section 2'!$E$13:M$14),0)))","v":""},{"$f":"IF($C127=\"\",\"\",IF(ISBLANK(VLOOKUP($A127,'Section 2'!$E$17:$V$216,COLUMNS('Section 2'!$E$13:N$14),0)),\"\",VLOOKUP($A127,'Section 2'!$E$17:$V$216,COLUMNS('Section 2'!$E$13:N$14),0)))","v":""},{"$f":"IF($C127=\"\",\"\",IF(ISBLANK(VLOOKUP($A127,'Section 2'!$E$17:$V$216,COLUMNS('Section 2'!$E$13:O$14),0)),\"\",VLOOKUP($A127,'Section 2'!$E$17:$V$216,COLUMNS('Section 2'!$E$13:O$14),0)))","v":""},{"$f":"IF($C127=\"\",\"\",IF(ISBLANK(VLOOKUP($A127,'Section 2'!$E$17:$V$216,COLUMNS('Section 2'!$E$13:P$14),0)),\"\",VLOOKUP($A127,'Section 2'!$E$17:$V$216,COLUMNS('Section 2'!$E$13:P$14),0)))","v":""},{"$f":"IF($C127=\"\",\"\",IF(ISBLANK(VLOOKUP($A127,'Section 2'!$E$17:$V$216,COLUMNS('Section 2'!$E$13:Q$14),0)),\"\",VLOOKUP($A127,'Section 2'!$E$17:$V$216,COLUMNS('Section 2'!$E$13:Q$14),0)))","v":""},{"$f":"IF($C127=\"\",\"\",IF(ISBLANK(VLOOKUP($A127,'Section 2'!$E$17:$V$216,COLUMNS('Section 2'!$E$13:R$14),0)),\"\",VLOOKUP($A127,'Section 2'!$E$17:$V$216,COLUMNS('Section 2'!$E$13:R$14),0)))","v":""},{"$f":"IF($C127=\"\",\"\",IF(ISBLANK(VLOOKUP($A127,'Section 2'!$E$17:$V$216,COLUMNS('Section 2'!$E$13:S$14),0)),\"\",VLOOKUP($A127,'Section 2'!$E$17:$V$216,COLUMNS('Section 2'!$E$13:S$14),0)))","v":""},{"$f":"IF($C127=\"\",\"\",IF(ISBLANK(VLOOKUP($A127,'Section 2'!$E$17:$V$216,COLUMNS('Section 2'!$E$13:T$14),0)),\"\",VLOOKUP($A127,'Section 2'!$E$17:$V$216,COLUMNS('Section 2'!$E$13:T$14),0)))","v":""},{"$f":"IF($C127=\"\",\"\",IF(ISBLANK(VLOOKUP($A127,'Section 2'!$E$17:$V$216,COLUMNS('Section 2'!$E$13:U$14),0)),\"\",VLOOKUP($A127,'Section 2'!$E$17:$V$216,COLUMNS('Section 2'!$E$13:U$14),0)))","v":""},{"$f":"IF($C127=\"\",\"\",IF(ISBLANK(VLOOKUP($A127,'Section 2'!$E$17:$V$216,COLUMNS('Section 2'!$E$13:V$14),0)),\"\",VLOOKUP($A127,'Section 2'!$E$17:$V$216,COLUMNS('Section 2'!$E$13:V$14),0)))","v":""}]
[127,"",{"$f":"IFERROR(VLOOKUP($A128,'Section 2'!$E$17:$V$216,COLUMNS('Section 2'!$E$13:E$14),0),\"\")","v":""},{"$f":"IF($C128=\"\",\"\",IF(ISBLANK(VLOOKUP($A128,'Section 2'!$E$17:$V$216,COLUMNS('Section 2'!$E$13:F$14),0)),\"\",VLOOKUP($A128,'Section 2'!$E$17:$V$216,COLUMNS('Section 2'!$E$13:F$14),0)))","v":""},{"$f":"IF($C128=\"\",\"\",IF(ISBLANK(VLOOKUP($A128,'Section 2'!$E$17:$V$216,COLUMNS('Section 2'!$E$13:G$14),0)),\"\",VLOOKUP($A128,'Section 2'!$E$17:$V$216,COLUMNS('Section 2'!$E$13:G$14),0)))","v":""},{"$f":"IF($C128=\"\",\"\",IF(ISBLANK(VLOOKUP($A128,'Section 2'!$E$17:$V$216,COLUMNS('Section 2'!$E$13:H$14),0)),\"\",VLOOKUP($A128,'Section 2'!$E$17:$V$216,COLUMNS('Section 2'!$E$13:H$14),0)))","v":""},{"$f":"IF($C128=\"\",\"\",IF(ISBLANK(VLOOKUP($A128,'Section 2'!$E$17:$V$216,COLUMNS('Section 2'!$E$13:I$14),0)),\"\",VLOOKUP($A128,'Section 2'!$E$17:$V$216,COLUMNS('Section 2'!$E$13:I$14),0)))","v":""},{"$f":"IF($C128=\"\",\"\",IF(ISBLANK(VLOOKUP($A128,'Section 2'!$E$17:$V$216,COLUMNS('Section 2'!$E$13:J$14),0)),\"\",VLOOKUP($A128,'Section 2'!$E$17:$V$216,COLUMNS('Section 2'!$E$13:J$14),0)))","v":""},{"$f":"IF($C128=\"\",\"\",IF(ISBLANK(VLOOKUP($A128,'Section 2'!$E$17:$V$216,COLUMNS('Section 2'!$E$13:K$14),0)),\"\",VLOOKUP($A128,'Section 2'!$E$17:$V$216,COLUMNS('Section 2'!$E$13:K$14),0)))","v":""},{"$f":"IF($C128=\"\",\"\",IF(ISBLANK(VLOOKUP($A128,'Section 2'!$E$17:$V$216,COLUMNS('Section 2'!$E$13:L$14),0)),\"\",VLOOKUP($A128,'Section 2'!$E$17:$V$216,COLUMNS('Section 2'!$E$13:L$14),0)))","v":""},{"$f":"IF($C128=\"\",\"\",IF(ISBLANK(VLOOKUP($A128,'Section 2'!$E$17:$V$216,COLUMNS('Section 2'!$E$13:M$14),0)),\"\",VLOOKUP($A128,'Section 2'!$E$17:$V$216,COLUMNS('Section 2'!$E$13:M$14),0)))","v":""},{"$f":"IF($C128=\"\",\"\",IF(ISBLANK(VLOOKUP($A128,'Section 2'!$E$17:$V$216,COLUMNS('Section 2'!$E$13:N$14),0)),\"\",VLOOKUP($A128,'Section 2'!$E$17:$V$216,COLUMNS('Section 2'!$E$13:N$14),0)))","v":""},{"$f":"IF($C128=\"\",\"\",IF(ISBLANK(VLOOKUP($A128,'Section 2'!$E$17:$V$216,COLUMNS('Section 2'!$E$13:O$14),0)),\"\",VLOOKUP($A128,'Section 2'!$E$17:$V$216,COLUMNS('Section 2'!$E$13:O$14),0)))","v":""},{"$f":"IF($C128=\"\",\"\",IF(ISBLANK(VLOOKUP($A128,'Section 2'!$E$17:$V$216,COLUMNS('Section 2'!$E$13:P$14),0)),\"\",VLOOKUP($A128,'Section 2'!$E$17:$V$216,COLUMNS('Section 2'!$E$13:P$14),0)))","v":""},{"$f":"IF($C128=\"\",\"\",IF(ISBLANK(VLOOKUP($A128,'Section 2'!$E$17:$V$216,COLUMNS('Section 2'!$E$13:Q$14),0)),\"\",VLOOKUP($A128,'Section 2'!$E$17:$V$216,COLUMNS('Section 2'!$E$13:Q$14),0)))","v":""},{"$f":"IF($C128=\"\",\"\",IF(ISBLANK(VLOOKUP($A128,'Section 2'!$E$17:$V$216,COLUMNS('Section 2'!$E$13:R$14),0)),\"\",VLOOKUP($A128,'Section 2'!$E$17:$V$216,COLUMNS('Section 2'!$E$13:R$14),0)))","v":""},{"$f":"IF($C128=\"\",\"\",IF(ISBLANK(VLOOKUP($A128,'Section 2'!$E$17:$V$216,COLUMNS('Section 2'!$E$13:S$14),0)),\"\",VLOOKUP($A128,'Section 2'!$E$17:$V$216,COLUMNS('Section 2'!$E$13:S$14),0)))","v":""},{"$f":"IF($C128=\"\",\"\",IF(ISBLANK(VLOOKUP($A128,'Section 2'!$E$17:$V$216,COLUMNS('Section 2'!$E$13:T$14),0)),\"\",VLOOKUP($A128,'Section 2'!$E$17:$V$216,COLUMNS('Section 2'!$E$13:T$14),0)))","v":""},{"$f":"IF($C128=\"\",\"\",IF(ISBLANK(VLOOKUP($A128,'Section 2'!$E$17:$V$216,COLUMNS('Section 2'!$E$13:U$14),0)),\"\",VLOOKUP($A128,'Section 2'!$E$17:$V$216,COLUMNS('Section 2'!$E$13:U$14),0)))","v":""},{"$f":"IF($C128=\"\",\"\",IF(ISBLANK(VLOOKUP($A128,'Section 2'!$E$17:$V$216,COLUMNS('Section 2'!$E$13:V$14),0)),\"\",VLOOKUP($A128,'Section 2'!$E$17:$V$216,COLUMNS('Section 2'!$E$13:V$14),0)))","v":""}]
[128,"",{"$f":"IFERROR(VLOOKUP($A129,'Section 2'!$E$17:$V$216,COLUMNS('Section 2'!$E$13:E$14),0),\"\")","v":""},{"$f":"IF($C129=\"\",\"\",IF(ISBLANK(VLOOKUP($A129,'Section 2'!$E$17:$V$216,COLUMNS('Section 2'!$E$13:F$14),0)),\"\",VLOOKUP($A129,'Section 2'!$E$17:$V$216,COLUMNS('Section 2'!$E$13:F$14),0)))","v":""},{"$f":"IF($C129=\"\",\"\",IF(ISBLANK(VLOOKUP($A129,'Section 2'!$E$17:$V$216,COLUMNS('Section 2'!$E$13:G$14),0)),\"\",VLOOKUP($A129,'Section 2'!$E$17:$V$216,COLUMNS('Section 2'!$E$13:G$14),0)))","v":""},{"$f":"IF($C129=\"\",\"\",IF(ISBLANK(VLOOKUP($A129,'Section 2'!$E$17:$V$216,COLUMNS('Section 2'!$E$13:H$14),0)),\"\",VLOOKUP($A129,'Section 2'!$E$17:$V$216,COLUMNS('Section 2'!$E$13:H$14),0)))","v":""},{"$f":"IF($C129=\"\",\"\",IF(ISBLANK(VLOOKUP($A129,'Section 2'!$E$17:$V$216,COLUMNS('Section 2'!$E$13:I$14),0)),\"\",VLOOKUP($A129,'Section 2'!$E$17:$V$216,COLUMNS('Section 2'!$E$13:I$14),0)))","v":""},{"$f":"IF($C129=\"\",\"\",IF(ISBLANK(VLOOKUP($A129,'Section 2'!$E$17:$V$216,COLUMNS('Section 2'!$E$13:J$14),0)),\"\",VLOOKUP($A129,'Section 2'!$E$17:$V$216,COLUMNS('Section 2'!$E$13:J$14),0)))","v":""},{"$f":"IF($C129=\"\",\"\",IF(ISBLANK(VLOOKUP($A129,'Section 2'!$E$17:$V$216,COLUMNS('Section 2'!$E$13:K$14),0)),\"\",VLOOKUP($A129,'Section 2'!$E$17:$V$216,COLUMNS('Section 2'!$E$13:K$14),0)))","v":""},{"$f":"IF($C129=\"\",\"\",IF(ISBLANK(VLOOKUP($A129,'Section 2'!$E$17:$V$216,COLUMNS('Section 2'!$E$13:L$14),0)),\"\",VLOOKUP($A129,'Section 2'!$E$17:$V$216,COLUMNS('Section 2'!$E$13:L$14),0)))","v":""},{"$f":"IF($C129=\"\",\"\",IF(ISBLANK(VLOOKUP($A129,'Section 2'!$E$17:$V$216,COLUMNS('Section 2'!$E$13:M$14),0)),\"\",VLOOKUP($A129,'Section 2'!$E$17:$V$216,COLUMNS('Section 2'!$E$13:M$14),0)))","v":""},{"$f":"IF($C129=\"\",\"\",IF(ISBLANK(VLOOKUP($A129,'Section 2'!$E$17:$V$216,COLUMNS('Section 2'!$E$13:N$14),0)),\"\",VLOOKUP($A129,'Section 2'!$E$17:$V$216,COLUMNS('Section 2'!$E$13:N$14),0)))","v":""},{"$f":"IF($C129=\"\",\"\",IF(ISBLANK(VLOOKUP($A129,'Section 2'!$E$17:$V$216,COLUMNS('Section 2'!$E$13:O$14),0)),\"\",VLOOKUP($A129,'Section 2'!$E$17:$V$216,COLUMNS('Section 2'!$E$13:O$14),0)))","v":""},{"$f":"IF($C129=\"\",\"\",IF(ISBLANK(VLOOKUP($A129,'Section 2'!$E$17:$V$216,COLUMNS('Section 2'!$E$13:P$14),0)),\"\",VLOOKUP($A129,'Section 2'!$E$17:$V$216,COLUMNS('Section 2'!$E$13:P$14),0)))","v":""},{"$f":"IF($C129=\"\",\"\",IF(ISBLANK(VLOOKUP($A129,'Section 2'!$E$17:$V$216,COLUMNS('Section 2'!$E$13:Q$14),0)),\"\",VLOOKUP($A129,'Section 2'!$E$17:$V$216,COLUMNS('Section 2'!$E$13:Q$14),0)))","v":""},{"$f":"IF($C129=\"\",\"\",IF(ISBLANK(VLOOKUP($A129,'Section 2'!$E$17:$V$216,COLUMNS('Section 2'!$E$13:R$14),0)),\"\",VLOOKUP($A129,'Section 2'!$E$17:$V$216,COLUMNS('Section 2'!$E$13:R$14),0)))","v":""},{"$f":"IF($C129=\"\",\"\",IF(ISBLANK(VLOOKUP($A129,'Section 2'!$E$17:$V$216,COLUMNS('Section 2'!$E$13:S$14),0)),\"\",VLOOKUP($A129,'Section 2'!$E$17:$V$216,COLUMNS('Section 2'!$E$13:S$14),0)))","v":""},{"$f":"IF($C129=\"\",\"\",IF(ISBLANK(VLOOKUP($A129,'Section 2'!$E$17:$V$216,COLUMNS('Section 2'!$E$13:T$14),0)),\"\",VLOOKUP($A129,'Section 2'!$E$17:$V$216,COLUMNS('Section 2'!$E$13:T$14),0)))","v":""},{"$f":"IF($C129=\"\",\"\",IF(ISBLANK(VLOOKUP($A129,'Section 2'!$E$17:$V$216,COLUMNS('Section 2'!$E$13:U$14),0)),\"\",VLOOKUP($A129,'Section 2'!$E$17:$V$216,COLUMNS('Section 2'!$E$13:U$14),0)))","v":""},{"$f":"IF($C129=\"\",\"\",IF(ISBLANK(VLOOKUP($A129,'Section 2'!$E$17:$V$216,COLUMNS('Section 2'!$E$13:V$14),0)),\"\",VLOOKUP($A129,'Section 2'!$E$17:$V$216,COLUMNS('Section 2'!$E$13:V$14),0)))","v":""}]
[129,"",{"$f":"IFERROR(VLOOKUP($A130,'Section 2'!$E$17:$V$216,COLUMNS('Section 2'!$E$13:E$14),0),\"\")","v":""},{"$f":"IF($C130=\"\",\"\",IF(ISBLANK(VLOOKUP($A130,'Section 2'!$E$17:$V$216,COLUMNS('Section 2'!$E$13:F$14),0)),\"\",VLOOKUP($A130,'Section 2'!$E$17:$V$216,COLUMNS('Section 2'!$E$13:F$14),0)))","v":""},{"$f":"IF($C130=\"\",\"\",IF(ISBLANK(VLOOKUP($A130,'Section 2'!$E$17:$V$216,COLUMNS('Section 2'!$E$13:G$14),0)),\"\",VLOOKUP($A130,'Section 2'!$E$17:$V$216,COLUMNS('Section 2'!$E$13:G$14),0)))","v":""},{"$f":"IF($C130=\"\",\"\",IF(ISBLANK(VLOOKUP($A130,'Section 2'!$E$17:$V$216,COLUMNS('Section 2'!$E$13:H$14),0)),\"\",VLOOKUP($A130,'Section 2'!$E$17:$V$216,COLUMNS('Section 2'!$E$13:H$14),0)))","v":""},{"$f":"IF($C130=\"\",\"\",IF(ISBLANK(VLOOKUP($A130,'Section 2'!$E$17:$V$216,COLUMNS('Section 2'!$E$13:I$14),0)),\"\",VLOOKUP($A130,'Section 2'!$E$17:$V$216,COLUMNS('Section 2'!$E$13:I$14),0)))","v":""},{"$f":"IF($C130=\"\",\"\",IF(ISBLANK(VLOOKUP($A130,'Section 2'!$E$17:$V$216,COLUMNS('Section 2'!$E$13:J$14),0)),\"\",VLOOKUP($A130,'Section 2'!$E$17:$V$216,COLUMNS('Section 2'!$E$13:J$14),0)))","v":""},{"$f":"IF($C130=\"\",\"\",IF(ISBLANK(VLOOKUP($A130,'Section 2'!$E$17:$V$216,COLUMNS('Section 2'!$E$13:K$14),0)),\"\",VLOOKUP($A130,'Section 2'!$E$17:$V$216,COLUMNS('Section 2'!$E$13:K$14),0)))","v":""},{"$f":"IF($C130=\"\",\"\",IF(ISBLANK(VLOOKUP($A130,'Section 2'!$E$17:$V$216,COLUMNS('Section 2'!$E$13:L$14),0)),\"\",VLOOKUP($A130,'Section 2'!$E$17:$V$216,COLUMNS('Section 2'!$E$13:L$14),0)))","v":""},{"$f":"IF($C130=\"\",\"\",IF(ISBLANK(VLOOKUP($A130,'Section 2'!$E$17:$V$216,COLUMNS('Section 2'!$E$13:M$14),0)),\"\",VLOOKUP($A130,'Section 2'!$E$17:$V$216,COLUMNS('Section 2'!$E$13:M$14),0)))","v":""},{"$f":"IF($C130=\"\",\"\",IF(ISBLANK(VLOOKUP($A130,'Section 2'!$E$17:$V$216,COLUMNS('Section 2'!$E$13:N$14),0)),\"\",VLOOKUP($A130,'Section 2'!$E$17:$V$216,COLUMNS('Section 2'!$E$13:N$14),0)))","v":""},{"$f":"IF($C130=\"\",\"\",IF(ISBLANK(VLOOKUP($A130,'Section 2'!$E$17:$V$216,COLUMNS('Section 2'!$E$13:O$14),0)),\"\",VLOOKUP($A130,'Section 2'!$E$17:$V$216,COLUMNS('Section 2'!$E$13:O$14),0)))","v":""},{"$f":"IF($C130=\"\",\"\",IF(ISBLANK(VLOOKUP($A130,'Section 2'!$E$17:$V$216,COLUMNS('Section 2'!$E$13:P$14),0)),\"\",VLOOKUP($A130,'Section 2'!$E$17:$V$216,COLUMNS('Section 2'!$E$13:P$14),0)))","v":""},{"$f":"IF($C130=\"\",\"\",IF(ISBLANK(VLOOKUP($A130,'Section 2'!$E$17:$V$216,COLUMNS('Section 2'!$E$13:Q$14),0)),\"\",VLOOKUP($A130,'Section 2'!$E$17:$V$216,COLUMNS('Section 2'!$E$13:Q$14),0)))","v":""},{"$f":"IF($C130=\"\",\"\",IF(ISBLANK(VLOOKUP($A130,'Section 2'!$E$17:$V$216,COLUMNS('Section 2'!$E$13:R$14),0)),\"\",VLOOKUP($A130,'Section 2'!$E$17:$V$216,COLUMNS('Section 2'!$E$13:R$14),0)))","v":""},{"$f":"IF($C130=\"\",\"\",IF(ISBLANK(VLOOKUP($A130,'Section 2'!$E$17:$V$216,COLUMNS('Section 2'!$E$13:S$14),0)),\"\",VLOOKUP($A130,'Section 2'!$E$17:$V$216,COLUMNS('Section 2'!$E$13:S$14),0)))","v":""},{"$f":"IF($C130=\"\",\"\",IF(ISBLANK(VLOOKUP($A130,'Section 2'!$E$17:$V$216,COLUMNS('Section 2'!$E$13:T$14),0)),\"\",VLOOKUP($A130,'Section 2'!$E$17:$V$216,COLUMNS('Section 2'!$E$13:T$14),0)))","v":""},{"$f":"IF($C130=\"\",\"\",IF(ISBLANK(VLOOKUP($A130,'Section 2'!$E$17:$V$216,COLUMNS('Section 2'!$E$13:U$14),0)),\"\",VLOOKUP($A130,'Section 2'!$E$17:$V$216,COLUMNS('Section 2'!$E$13:U$14),0)))","v":""},{"$f":"IF($C130=\"\",\"\",IF(ISBLANK(VLOOKUP($A130,'Section 2'!$E$17:$V$216,COLUMNS('Section 2'!$E$13:V$14),0)),\"\",VLOOKUP($A130,'Section 2'!$E$17:$V$216,COLUMNS('Section 2'!$E$13:V$14),0)))","v":""}]
[130,{"$f":"IF(C131=\"\",\"\",2)","v":""},{"$f":"IFERROR(VLOOKUP($A131,'Section 2'!$E$17:$V$216,COLUMNS('Section 2'!$E$13:E$14),0),\"\")","v":""},{"$f":"IF($C131=\"\",\"\",IF(ISBLANK(VLOOKUP($A131,'Section 2'!$E$17:$V$216,COLUMNS('Section 2'!$E$13:F$14),0)),\"\",VLOOKUP($A131,'Section 2'!$E$17:$V$216,COLUMNS('Section 2'!$E$13:F$14),0)))","v":""},{"$f":"IF($C131=\"\",\"\",IF(ISBLANK(VLOOKUP($A131,'Section 2'!$E$17:$V$216,COLUMNS('Section 2'!$E$13:G$14),0)),\"\",VLOOKUP($A131,'Section 2'!$E$17:$V$216,COLUMNS('Section 2'!$E$13:G$14),0)))","v":""},{"$f":"IF($C131=\"\",\"\",IF(ISBLANK(VLOOKUP($A131,'Section 2'!$E$17:$V$216,COLUMNS('Section 2'!$E$13:H$14),0)),\"\",VLOOKUP($A131,'Section 2'!$E$17:$V$216,COLUMNS('Section 2'!$E$13:H$14),0)))","v":""},{"$f":"IF($C131=\"\",\"\",IF(ISBLANK(VLOOKUP($A131,'Section 2'!$E$17:$V$216,COLUMNS('Section 2'!$E$13:I$14),0)),\"\",VLOOKUP($A131,'Section 2'!$E$17:$V$216,COLUMNS('Section 2'!$E$13:I$14),0)))","v":""},{"$f":"IF($C131=\"\",\"\",IF(ISBLANK(VLOOKUP($A131,'Section 2'!$E$17:$V$216,COLUMNS('Section 2'!$E$13:J$14),0)),\"\",VLOOKUP($A131,'Section 2'!$E$17:$V$216,COLUMNS('Section 2'!$E$13:J$14),0)))","v":""},{"$f":"IF($C131=\"\",\"\",IF(ISBLANK(VLOOKUP($A131,'Section 2'!$E$17:$V$216,COLUMNS('Section 2'!$E$13:K$14),0)),\"\",VLOOKUP($A131,'Section 2'!$E$17:$V$216,COLUMNS('Section 2'!$E$13:K$14),0)))","v":""},{"$f":"IF($C131=\"\",\"\",IF(ISBLANK(VLOOKUP($A131,'Section 2'!$E$17:$V$216,COLUMNS('Section 2'!$E$13:L$14),0)),\"\",VLOOKUP($A131,'Section 2'!$E$17:$V$216,COLUMNS('Section 2'!$E$13:L$14),0)))","v":""},{"$f":"IF($C131=\"\",\"\",IF(ISBLANK(VLOOKUP($A131,'Section 2'!$E$17:$V$216,COLUMNS('Section 2'!$E$13:M$14),0)),\"\",VLOOKUP($A131,'Section 2'!$E$17:$V$216,COLUMNS('Section 2'!$E$13:M$14),0)))","v":""},{"$f":"IF($C131=\"\",\"\",IF(ISBLANK(VLOOKUP($A131,'Section 2'!$E$17:$V$216,COLUMNS('Section 2'!$E$13:N$14),0)),\"\",VLOOKUP($A131,'Section 2'!$E$17:$V$216,COLUMNS('Section 2'!$E$13:N$14),0)))","v":""},{"$f":"IF($C131=\"\",\"\",IF(ISBLANK(VLOOKUP($A131,'Section 2'!$E$17:$V$216,COLUMNS('Section 2'!$E$13:O$14),0)),\"\",VLOOKUP($A131,'Section 2'!$E$17:$V$216,COLUMNS('Section 2'!$E$13:O$14),0)))","v":""},{"$f":"IF($C131=\"\",\"\",IF(ISBLANK(VLOOKUP($A131,'Section 2'!$E$17:$V$216,COLUMNS('Section 2'!$E$13:P$14),0)),\"\",VLOOKUP($A131,'Section 2'!$E$17:$V$216,COLUMNS('Section 2'!$E$13:P$14),0)))","v":""},{"$f":"IF($C131=\"\",\"\",IF(ISBLANK(VLOOKUP($A131,'Section 2'!$E$17:$V$216,COLUMNS('Section 2'!$E$13:Q$14),0)),\"\",VLOOKUP($A131,'Section 2'!$E$17:$V$216,COLUMNS('Section 2'!$E$13:Q$14),0)))","v":""},{"$f":"IF($C131=\"\",\"\",IF(ISBLANK(VLOOKUP($A131,'Section 2'!$E$17:$V$216,COLUMNS('Section 2'!$E$13:R$14),0)),\"\",VLOOKUP($A131,'Section 2'!$E$17:$V$216,COLUMNS('Section 2'!$E$13:R$14),0)))","v":""},{"$f":"IF($C131=\"\",\"\",IF(ISBLANK(VLOOKUP($A131,'Section 2'!$E$17:$V$216,COLUMNS('Section 2'!$E$13:S$14),0)),\"\",VLOOKUP($A131,'Section 2'!$E$17:$V$216,COLUMNS('Section 2'!$E$13:S$14),0)))","v":""},{"$f":"IF($C131=\"\",\"\",IF(ISBLANK(VLOOKUP($A131,'Section 2'!$E$17:$V$216,COLUMNS('Section 2'!$E$13:T$14),0)),\"\",VLOOKUP($A131,'Section 2'!$E$17:$V$216,COLUMNS('Section 2'!$E$13:T$14),0)))","v":""},{"$f":"IF($C131=\"\",\"\",IF(ISBLANK(VLOOKUP($A131,'Section 2'!$E$17:$V$216,COLUMNS('Section 2'!$E$13:U$14),0)),\"\",VLOOKUP($A131,'Section 2'!$E$17:$V$216,COLUMNS('Section 2'!$E$13:U$14),0)))","v":""},{"$f":"IF($C131=\"\",\"\",IF(ISBLANK(VLOOKUP($A131,'Section 2'!$E$17:$V$216,COLUMNS('Section 2'!$E$13:V$14),0)),\"\",VLOOKUP($A131,'Section 2'!$E$17:$V$216,COLUMNS('Section 2'!$E$13:V$14),0)))","v":""}]
[131,"",{"$f":"IFERROR(VLOOKUP($A132,'Section 2'!$E$17:$V$216,COLUMNS('Section 2'!$E$13:E$14),0),\"\")","v":""},{"$f":"IF($C132=\"\",\"\",IF(ISBLANK(VLOOKUP($A132,'Section 2'!$E$17:$V$216,COLUMNS('Section 2'!$E$13:F$14),0)),\"\",VLOOKUP($A132,'Section 2'!$E$17:$V$216,COLUMNS('Section 2'!$E$13:F$14),0)))","v":""},{"$f":"IF($C132=\"\",\"\",IF(ISBLANK(VLOOKUP($A132,'Section 2'!$E$17:$V$216,COLUMNS('Section 2'!$E$13:G$14),0)),\"\",VLOOKUP($A132,'Section 2'!$E$17:$V$216,COLUMNS('Section 2'!$E$13:G$14),0)))","v":""},{"$f":"IF($C132=\"\",\"\",IF(ISBLANK(VLOOKUP($A132,'Section 2'!$E$17:$V$216,COLUMNS('Section 2'!$E$13:H$14),0)),\"\",VLOOKUP($A132,'Section 2'!$E$17:$V$216,COLUMNS('Section 2'!$E$13:H$14),0)))","v":""},{"$f":"IF($C132=\"\",\"\",IF(ISBLANK(VLOOKUP($A132,'Section 2'!$E$17:$V$216,COLUMNS('Section 2'!$E$13:I$14),0)),\"\",VLOOKUP($A132,'Section 2'!$E$17:$V$216,COLUMNS('Section 2'!$E$13:I$14),0)))","v":""},{"$f":"IF($C132=\"\",\"\",IF(ISBLANK(VLOOKUP($A132,'Section 2'!$E$17:$V$216,COLUMNS('Section 2'!$E$13:J$14),0)),\"\",VLOOKUP($A132,'Section 2'!$E$17:$V$216,COLUMNS('Section 2'!$E$13:J$14),0)))","v":""},{"$f":"IF($C132=\"\",\"\",IF(ISBLANK(VLOOKUP($A132,'Section 2'!$E$17:$V$216,COLUMNS('Section 2'!$E$13:K$14),0)),\"\",VLOOKUP($A132,'Section 2'!$E$17:$V$216,COLUMNS('Section 2'!$E$13:K$14),0)))","v":""},{"$f":"IF($C132=\"\",\"\",IF(ISBLANK(VLOOKUP($A132,'Section 2'!$E$17:$V$216,COLUMNS('Section 2'!$E$13:L$14),0)),\"\",VLOOKUP($A132,'Section 2'!$E$17:$V$216,COLUMNS('Section 2'!$E$13:L$14),0)))","v":""},{"$f":"IF($C132=\"\",\"\",IF(ISBLANK(VLOOKUP($A132,'Section 2'!$E$17:$V$216,COLUMNS('Section 2'!$E$13:M$14),0)),\"\",VLOOKUP($A132,'Section 2'!$E$17:$V$216,COLUMNS('Section 2'!$E$13:M$14),0)))","v":""},{"$f":"IF($C132=\"\",\"\",IF(ISBLANK(VLOOKUP($A132,'Section 2'!$E$17:$V$216,COLUMNS('Section 2'!$E$13:N$14),0)),\"\",VLOOKUP($A132,'Section 2'!$E$17:$V$216,COLUMNS('Section 2'!$E$13:N$14),0)))","v":""},{"$f":"IF($C132=\"\",\"\",IF(ISBLANK(VLOOKUP($A132,'Section 2'!$E$17:$V$216,COLUMNS('Section 2'!$E$13:O$14),0)),\"\",VLOOKUP($A132,'Section 2'!$E$17:$V$216,COLUMNS('Section 2'!$E$13:O$14),0)))","v":""},{"$f":"IF($C132=\"\",\"\",IF(ISBLANK(VLOOKUP($A132,'Section 2'!$E$17:$V$216,COLUMNS('Section 2'!$E$13:P$14),0)),\"\",VLOOKUP($A132,'Section 2'!$E$17:$V$216,COLUMNS('Section 2'!$E$13:P$14),0)))","v":""},{"$f":"IF($C132=\"\",\"\",IF(ISBLANK(VLOOKUP($A132,'Section 2'!$E$17:$V$216,COLUMNS('Section 2'!$E$13:Q$14),0)),\"\",VLOOKUP($A132,'Section 2'!$E$17:$V$216,COLUMNS('Section 2'!$E$13:Q$14),0)))","v":""},{"$f":"IF($C132=\"\",\"\",IF(ISBLANK(VLOOKUP($A132,'Section 2'!$E$17:$V$216,COLUMNS('Section 2'!$E$13:R$14),0)),\"\",VLOOKUP($A132,'Section 2'!$E$17:$V$216,COLUMNS('Section 2'!$E$13:R$14),0)))","v":""},{"$f":"IF($C132=\"\",\"\",IF(ISBLANK(VLOOKUP($A132,'Section 2'!$E$17:$V$216,COLUMNS('Section 2'!$E$13:S$14),0)),\"\",VLOOKUP($A132,'Section 2'!$E$17:$V$216,COLUMNS('Section 2'!$E$13:S$14),0)))","v":""},{"$f":"IF($C132=\"\",\"\",IF(ISBLANK(VLOOKUP($A132,'Section 2'!$E$17:$V$216,COLUMNS('Section 2'!$E$13:T$14),0)),\"\",VLOOKUP($A132,'Section 2'!$E$17:$V$216,COLUMNS('Section 2'!$E$13:T$14),0)))","v":""},{"$f":"IF($C132=\"\",\"\",IF(ISBLANK(VLOOKUP($A132,'Section 2'!$E$17:$V$216,COLUMNS('Section 2'!$E$13:U$14),0)),\"\",VLOOKUP($A132,'Section 2'!$E$17:$V$216,COLUMNS('Section 2'!$E$13:U$14),0)))","v":""},{"$f":"IF($C132=\"\",\"\",IF(ISBLANK(VLOOKUP($A132,'Section 2'!$E$17:$V$216,COLUMNS('Section 2'!$E$13:V$14),0)),\"\",VLOOKUP($A132,'Section 2'!$E$17:$V$216,COLUMNS('Section 2'!$E$13:V$14),0)))","v":""}]
[132,"",{"$f":"IFERROR(VLOOKUP($A133,'Section 2'!$E$17:$V$216,COLUMNS('Section 2'!$E$13:E$14),0),\"\")","v":""},{"$f":"IF($C133=\"\",\"\",IF(ISBLANK(VLOOKUP($A133,'Section 2'!$E$17:$V$216,COLUMNS('Section 2'!$E$13:F$14),0)),\"\",VLOOKUP($A133,'Section 2'!$E$17:$V$216,COLUMNS('Section 2'!$E$13:F$14),0)))","v":""},{"$f":"IF($C133=\"\",\"\",IF(ISBLANK(VLOOKUP($A133,'Section 2'!$E$17:$V$216,COLUMNS('Section 2'!$E$13:G$14),0)),\"\",VLOOKUP($A133,'Section 2'!$E$17:$V$216,COLUMNS('Section 2'!$E$13:G$14),0)))","v":""},{"$f":"IF($C133=\"\",\"\",IF(ISBLANK(VLOOKUP($A133,'Section 2'!$E$17:$V$216,COLUMNS('Section 2'!$E$13:H$14),0)),\"\",VLOOKUP($A133,'Section 2'!$E$17:$V$216,COLUMNS('Section 2'!$E$13:H$14),0)))","v":""},{"$f":"IF($C133=\"\",\"\",IF(ISBLANK(VLOOKUP($A133,'Section 2'!$E$17:$V$216,COLUMNS('Section 2'!$E$13:I$14),0)),\"\",VLOOKUP($A133,'Section 2'!$E$17:$V$216,COLUMNS('Section 2'!$E$13:I$14),0)))","v":""},{"$f":"IF($C133=\"\",\"\",IF(ISBLANK(VLOOKUP($A133,'Section 2'!$E$17:$V$216,COLUMNS('Section 2'!$E$13:J$14),0)),\"\",VLOOKUP($A133,'Section 2'!$E$17:$V$216,COLUMNS('Section 2'!$E$13:J$14),0)))","v":""},{"$f":"IF($C133=\"\",\"\",IF(ISBLANK(VLOOKUP($A133,'Section 2'!$E$17:$V$216,COLUMNS('Section 2'!$E$13:K$14),0)),\"\",VLOOKUP($A133,'Section 2'!$E$17:$V$216,COLUMNS('Section 2'!$E$13:K$14),0)))","v":""},{"$f":"IF($C133=\"\",\"\",IF(ISBLANK(VLOOKUP($A133,'Section 2'!$E$17:$V$216,COLUMNS('Section 2'!$E$13:L$14),0)),\"\",VLOOKUP($A133,'Section 2'!$E$17:$V$216,COLUMNS('Section 2'!$E$13:L$14),0)))","v":""},{"$f":"IF($C133=\"\",\"\",IF(ISBLANK(VLOOKUP($A133,'Section 2'!$E$17:$V$216,COLUMNS('Section 2'!$E$13:M$14),0)),\"\",VLOOKUP($A133,'Section 2'!$E$17:$V$216,COLUMNS('Section 2'!$E$13:M$14),0)))","v":""},{"$f":"IF($C133=\"\",\"\",IF(ISBLANK(VLOOKUP($A133,'Section 2'!$E$17:$V$216,COLUMNS('Section 2'!$E$13:N$14),0)),\"\",VLOOKUP($A133,'Section 2'!$E$17:$V$216,COLUMNS('Section 2'!$E$13:N$14),0)))","v":""},{"$f":"IF($C133=\"\",\"\",IF(ISBLANK(VLOOKUP($A133,'Section 2'!$E$17:$V$216,COLUMNS('Section 2'!$E$13:O$14),0)),\"\",VLOOKUP($A133,'Section 2'!$E$17:$V$216,COLUMNS('Section 2'!$E$13:O$14),0)))","v":""},{"$f":"IF($C133=\"\",\"\",IF(ISBLANK(VLOOKUP($A133,'Section 2'!$E$17:$V$216,COLUMNS('Section 2'!$E$13:P$14),0)),\"\",VLOOKUP($A133,'Section 2'!$E$17:$V$216,COLUMNS('Section 2'!$E$13:P$14),0)))","v":""},{"$f":"IF($C133=\"\",\"\",IF(ISBLANK(VLOOKUP($A133,'Section 2'!$E$17:$V$216,COLUMNS('Section 2'!$E$13:Q$14),0)),\"\",VLOOKUP($A133,'Section 2'!$E$17:$V$216,COLUMNS('Section 2'!$E$13:Q$14),0)))","v":""},{"$f":"IF($C133=\"\",\"\",IF(ISBLANK(VLOOKUP($A133,'Section 2'!$E$17:$V$216,COLUMNS('Section 2'!$E$13:R$14),0)),\"\",VLOOKUP($A133,'Section 2'!$E$17:$V$216,COLUMNS('Section 2'!$E$13:R$14),0)))","v":""},{"$f":"IF($C133=\"\",\"\",IF(ISBLANK(VLOOKUP($A133,'Section 2'!$E$17:$V$216,COLUMNS('Section 2'!$E$13:S$14),0)),\"\",VLOOKUP($A133,'Section 2'!$E$17:$V$216,COLUMNS('Section 2'!$E$13:S$14),0)))","v":""},{"$f":"IF($C133=\"\",\"\",IF(ISBLANK(VLOOKUP($A133,'Section 2'!$E$17:$V$216,COLUMNS('Section 2'!$E$13:T$14),0)),\"\",VLOOKUP($A133,'Section 2'!$E$17:$V$216,COLUMNS('Section 2'!$E$13:T$14),0)))","v":""},{"$f":"IF($C133=\"\",\"\",IF(ISBLANK(VLOOKUP($A133,'Section 2'!$E$17:$V$216,COLUMNS('Section 2'!$E$13:U$14),0)),\"\",VLOOKUP($A133,'Section 2'!$E$17:$V$216,COLUMNS('Section 2'!$E$13:U$14),0)))","v":""},{"$f":"IF($C133=\"\",\"\",IF(ISBLANK(VLOOKUP($A133,'Section 2'!$E$17:$V$216,COLUMNS('Section 2'!$E$13:V$14),0)),\"\",VLOOKUP($A133,'Section 2'!$E$17:$V$216,COLUMNS('Section 2'!$E$13:V$14),0)))","v":""}]
[133,"",{"$f":"IFERROR(VLOOKUP($A134,'Section 2'!$E$17:$V$216,COLUMNS('Section 2'!$E$13:E$14),0),\"\")","v":""},{"$f":"IF($C134=\"\",\"\",IF(ISBLANK(VLOOKUP($A134,'Section 2'!$E$17:$V$216,COLUMNS('Section 2'!$E$13:F$14),0)),\"\",VLOOKUP($A134,'Section 2'!$E$17:$V$216,COLUMNS('Section 2'!$E$13:F$14),0)))","v":""},{"$f":"IF($C134=\"\",\"\",IF(ISBLANK(VLOOKUP($A134,'Section 2'!$E$17:$V$216,COLUMNS('Section 2'!$E$13:G$14),0)),\"\",VLOOKUP($A134,'Section 2'!$E$17:$V$216,COLUMNS('Section 2'!$E$13:G$14),0)))","v":""},{"$f":"IF($C134=\"\",\"\",IF(ISBLANK(VLOOKUP($A134,'Section 2'!$E$17:$V$216,COLUMNS('Section 2'!$E$13:H$14),0)),\"\",VLOOKUP($A134,'Section 2'!$E$17:$V$216,COLUMNS('Section 2'!$E$13:H$14),0)))","v":""},{"$f":"IF($C134=\"\",\"\",IF(ISBLANK(VLOOKUP($A134,'Section 2'!$E$17:$V$216,COLUMNS('Section 2'!$E$13:I$14),0)),\"\",VLOOKUP($A134,'Section 2'!$E$17:$V$216,COLUMNS('Section 2'!$E$13:I$14),0)))","v":""},{"$f":"IF($C134=\"\",\"\",IF(ISBLANK(VLOOKUP($A134,'Section 2'!$E$17:$V$216,COLUMNS('Section 2'!$E$13:J$14),0)),\"\",VLOOKUP($A134,'Section 2'!$E$17:$V$216,COLUMNS('Section 2'!$E$13:J$14),0)))","v":""},{"$f":"IF($C134=\"\",\"\",IF(ISBLANK(VLOOKUP($A134,'Section 2'!$E$17:$V$216,COLUMNS('Section 2'!$E$13:K$14),0)),\"\",VLOOKUP($A134,'Section 2'!$E$17:$V$216,COLUMNS('Section 2'!$E$13:K$14),0)))","v":""},{"$f":"IF($C134=\"\",\"\",IF(ISBLANK(VLOOKUP($A134,'Section 2'!$E$17:$V$216,COLUMNS('Section 2'!$E$13:L$14),0)),\"\",VLOOKUP($A134,'Section 2'!$E$17:$V$216,COLUMNS('Section 2'!$E$13:L$14),0)))","v":""},{"$f":"IF($C134=\"\",\"\",IF(ISBLANK(VLOOKUP($A134,'Section 2'!$E$17:$V$216,COLUMNS('Section 2'!$E$13:M$14),0)),\"\",VLOOKUP($A134,'Section 2'!$E$17:$V$216,COLUMNS('Section 2'!$E$13:M$14),0)))","v":""},{"$f":"IF($C134=\"\",\"\",IF(ISBLANK(VLOOKUP($A134,'Section 2'!$E$17:$V$216,COLUMNS('Section 2'!$E$13:N$14),0)),\"\",VLOOKUP($A134,'Section 2'!$E$17:$V$216,COLUMNS('Section 2'!$E$13:N$14),0)))","v":""},{"$f":"IF($C134=\"\",\"\",IF(ISBLANK(VLOOKUP($A134,'Section 2'!$E$17:$V$216,COLUMNS('Section 2'!$E$13:O$14),0)),\"\",VLOOKUP($A134,'Section 2'!$E$17:$V$216,COLUMNS('Section 2'!$E$13:O$14),0)))","v":""},{"$f":"IF($C134=\"\",\"\",IF(ISBLANK(VLOOKUP($A134,'Section 2'!$E$17:$V$216,COLUMNS('Section 2'!$E$13:P$14),0)),\"\",VLOOKUP($A134,'Section 2'!$E$17:$V$216,COLUMNS('Section 2'!$E$13:P$14),0)))","v":""},{"$f":"IF($C134=\"\",\"\",IF(ISBLANK(VLOOKUP($A134,'Section 2'!$E$17:$V$216,COLUMNS('Section 2'!$E$13:Q$14),0)),\"\",VLOOKUP($A134,'Section 2'!$E$17:$V$216,COLUMNS('Section 2'!$E$13:Q$14),0)))","v":""},{"$f":"IF($C134=\"\",\"\",IF(ISBLANK(VLOOKUP($A134,'Section 2'!$E$17:$V$216,COLUMNS('Section 2'!$E$13:R$14),0)),\"\",VLOOKUP($A134,'Section 2'!$E$17:$V$216,COLUMNS('Section 2'!$E$13:R$14),0)))","v":""},{"$f":"IF($C134=\"\",\"\",IF(ISBLANK(VLOOKUP($A134,'Section 2'!$E$17:$V$216,COLUMNS('Section 2'!$E$13:S$14),0)),\"\",VLOOKUP($A134,'Section 2'!$E$17:$V$216,COLUMNS('Section 2'!$E$13:S$14),0)))","v":""},{"$f":"IF($C134=\"\",\"\",IF(ISBLANK(VLOOKUP($A134,'Section 2'!$E$17:$V$216,COLUMNS('Section 2'!$E$13:T$14),0)),\"\",VLOOKUP($A134,'Section 2'!$E$17:$V$216,COLUMNS('Section 2'!$E$13:T$14),0)))","v":""},{"$f":"IF($C134=\"\",\"\",IF(ISBLANK(VLOOKUP($A134,'Section 2'!$E$17:$V$216,COLUMNS('Section 2'!$E$13:U$14),0)),\"\",VLOOKUP($A134,'Section 2'!$E$17:$V$216,COLUMNS('Section 2'!$E$13:U$14),0)))","v":""},{"$f":"IF($C134=\"\",\"\",IF(ISBLANK(VLOOKUP($A134,'Section 2'!$E$17:$V$216,COLUMNS('Section 2'!$E$13:V$14),0)),\"\",VLOOKUP($A134,'Section 2'!$E$17:$V$216,COLUMNS('Section 2'!$E$13:V$14),0)))","v":""}]
[134,"",{"$f":"IFERROR(VLOOKUP($A135,'Section 2'!$E$17:$V$216,COLUMNS('Section 2'!$E$13:E$14),0),\"\")","v":""},{"$f":"IF($C135=\"\",\"\",IF(ISBLANK(VLOOKUP($A135,'Section 2'!$E$17:$V$216,COLUMNS('Section 2'!$E$13:F$14),0)),\"\",VLOOKUP($A135,'Section 2'!$E$17:$V$216,COLUMNS('Section 2'!$E$13:F$14),0)))","v":""},{"$f":"IF($C135=\"\",\"\",IF(ISBLANK(VLOOKUP($A135,'Section 2'!$E$17:$V$216,COLUMNS('Section 2'!$E$13:G$14),0)),\"\",VLOOKUP($A135,'Section 2'!$E$17:$V$216,COLUMNS('Section 2'!$E$13:G$14),0)))","v":""},{"$f":"IF($C135=\"\",\"\",IF(ISBLANK(VLOOKUP($A135,'Section 2'!$E$17:$V$216,COLUMNS('Section 2'!$E$13:H$14),0)),\"\",VLOOKUP($A135,'Section 2'!$E$17:$V$216,COLUMNS('Section 2'!$E$13:H$14),0)))","v":""},{"$f":"IF($C135=\"\",\"\",IF(ISBLANK(VLOOKUP($A135,'Section 2'!$E$17:$V$216,COLUMNS('Section 2'!$E$13:I$14),0)),\"\",VLOOKUP($A135,'Section 2'!$E$17:$V$216,COLUMNS('Section 2'!$E$13:I$14),0)))","v":""},{"$f":"IF($C135=\"\",\"\",IF(ISBLANK(VLOOKUP($A135,'Section 2'!$E$17:$V$216,COLUMNS('Section 2'!$E$13:J$14),0)),\"\",VLOOKUP($A135,'Section 2'!$E$17:$V$216,COLUMNS('Section 2'!$E$13:J$14),0)))","v":""},{"$f":"IF($C135=\"\",\"\",IF(ISBLANK(VLOOKUP($A135,'Section 2'!$E$17:$V$216,COLUMNS('Section 2'!$E$13:K$14),0)),\"\",VLOOKUP($A135,'Section 2'!$E$17:$V$216,COLUMNS('Section 2'!$E$13:K$14),0)))","v":""},{"$f":"IF($C135=\"\",\"\",IF(ISBLANK(VLOOKUP($A135,'Section 2'!$E$17:$V$216,COLUMNS('Section 2'!$E$13:L$14),0)),\"\",VLOOKUP($A135,'Section 2'!$E$17:$V$216,COLUMNS('Section 2'!$E$13:L$14),0)))","v":""},{"$f":"IF($C135=\"\",\"\",IF(ISBLANK(VLOOKUP($A135,'Section 2'!$E$17:$V$216,COLUMNS('Section 2'!$E$13:M$14),0)),\"\",VLOOKUP($A135,'Section 2'!$E$17:$V$216,COLUMNS('Section 2'!$E$13:M$14),0)))","v":""},{"$f":"IF($C135=\"\",\"\",IF(ISBLANK(VLOOKUP($A135,'Section 2'!$E$17:$V$216,COLUMNS('Section 2'!$E$13:N$14),0)),\"\",VLOOKUP($A135,'Section 2'!$E$17:$V$216,COLUMNS('Section 2'!$E$13:N$14),0)))","v":""},{"$f":"IF($C135=\"\",\"\",IF(ISBLANK(VLOOKUP($A135,'Section 2'!$E$17:$V$216,COLUMNS('Section 2'!$E$13:O$14),0)),\"\",VLOOKUP($A135,'Section 2'!$E$17:$V$216,COLUMNS('Section 2'!$E$13:O$14),0)))","v":""},{"$f":"IF($C135=\"\",\"\",IF(ISBLANK(VLOOKUP($A135,'Section 2'!$E$17:$V$216,COLUMNS('Section 2'!$E$13:P$14),0)),\"\",VLOOKUP($A135,'Section 2'!$E$17:$V$216,COLUMNS('Section 2'!$E$13:P$14),0)))","v":""},{"$f":"IF($C135=\"\",\"\",IF(ISBLANK(VLOOKUP($A135,'Section 2'!$E$17:$V$216,COLUMNS('Section 2'!$E$13:Q$14),0)),\"\",VLOOKUP($A135,'Section 2'!$E$17:$V$216,COLUMNS('Section 2'!$E$13:Q$14),0)))","v":""},{"$f":"IF($C135=\"\",\"\",IF(ISBLANK(VLOOKUP($A135,'Section 2'!$E$17:$V$216,COLUMNS('Section 2'!$E$13:R$14),0)),\"\",VLOOKUP($A135,'Section 2'!$E$17:$V$216,COLUMNS('Section 2'!$E$13:R$14),0)))","v":""},{"$f":"IF($C135=\"\",\"\",IF(ISBLANK(VLOOKUP($A135,'Section 2'!$E$17:$V$216,COLUMNS('Section 2'!$E$13:S$14),0)),\"\",VLOOKUP($A135,'Section 2'!$E$17:$V$216,COLUMNS('Section 2'!$E$13:S$14),0)))","v":""},{"$f":"IF($C135=\"\",\"\",IF(ISBLANK(VLOOKUP($A135,'Section 2'!$E$17:$V$216,COLUMNS('Section 2'!$E$13:T$14),0)),\"\",VLOOKUP($A135,'Section 2'!$E$17:$V$216,COLUMNS('Section 2'!$E$13:T$14),0)))","v":""},{"$f":"IF($C135=\"\",\"\",IF(ISBLANK(VLOOKUP($A135,'Section 2'!$E$17:$V$216,COLUMNS('Section 2'!$E$13:U$14),0)),\"\",VLOOKUP($A135,'Section 2'!$E$17:$V$216,COLUMNS('Section 2'!$E$13:U$14),0)))","v":""},{"$f":"IF($C135=\"\",\"\",IF(ISBLANK(VLOOKUP($A135,'Section 2'!$E$17:$V$216,COLUMNS('Section 2'!$E$13:V$14),0)),\"\",VLOOKUP($A135,'Section 2'!$E$17:$V$216,COLUMNS('Section 2'!$E$13:V$14),0)))","v":""}]
[135,"",{"$f":"IFERROR(VLOOKUP($A136,'Section 2'!$E$17:$V$216,COLUMNS('Section 2'!$E$13:E$14),0),\"\")","v":""},{"$f":"IF($C136=\"\",\"\",IF(ISBLANK(VLOOKUP($A136,'Section 2'!$E$17:$V$216,COLUMNS('Section 2'!$E$13:F$14),0)),\"\",VLOOKUP($A136,'Section 2'!$E$17:$V$216,COLUMNS('Section 2'!$E$13:F$14),0)))","v":""},{"$f":"IF($C136=\"\",\"\",IF(ISBLANK(VLOOKUP($A136,'Section 2'!$E$17:$V$216,COLUMNS('Section 2'!$E$13:G$14),0)),\"\",VLOOKUP($A136,'Section 2'!$E$17:$V$216,COLUMNS('Section 2'!$E$13:G$14),0)))","v":""},{"$f":"IF($C136=\"\",\"\",IF(ISBLANK(VLOOKUP($A136,'Section 2'!$E$17:$V$216,COLUMNS('Section 2'!$E$13:H$14),0)),\"\",VLOOKUP($A136,'Section 2'!$E$17:$V$216,COLUMNS('Section 2'!$E$13:H$14),0)))","v":""},{"$f":"IF($C136=\"\",\"\",IF(ISBLANK(VLOOKUP($A136,'Section 2'!$E$17:$V$216,COLUMNS('Section 2'!$E$13:I$14),0)),\"\",VLOOKUP($A136,'Section 2'!$E$17:$V$216,COLUMNS('Section 2'!$E$13:I$14),0)))","v":""},{"$f":"IF($C136=\"\",\"\",IF(ISBLANK(VLOOKUP($A136,'Section 2'!$E$17:$V$216,COLUMNS('Section 2'!$E$13:J$14),0)),\"\",VLOOKUP($A136,'Section 2'!$E$17:$V$216,COLUMNS('Section 2'!$E$13:J$14),0)))","v":""},{"$f":"IF($C136=\"\",\"\",IF(ISBLANK(VLOOKUP($A136,'Section 2'!$E$17:$V$216,COLUMNS('Section 2'!$E$13:K$14),0)),\"\",VLOOKUP($A136,'Section 2'!$E$17:$V$216,COLUMNS('Section 2'!$E$13:K$14),0)))","v":""},{"$f":"IF($C136=\"\",\"\",IF(ISBLANK(VLOOKUP($A136,'Section 2'!$E$17:$V$216,COLUMNS('Section 2'!$E$13:L$14),0)),\"\",VLOOKUP($A136,'Section 2'!$E$17:$V$216,COLUMNS('Section 2'!$E$13:L$14),0)))","v":""},{"$f":"IF($C136=\"\",\"\",IF(ISBLANK(VLOOKUP($A136,'Section 2'!$E$17:$V$216,COLUMNS('Section 2'!$E$13:M$14),0)),\"\",VLOOKUP($A136,'Section 2'!$E$17:$V$216,COLUMNS('Section 2'!$E$13:M$14),0)))","v":""},{"$f":"IF($C136=\"\",\"\",IF(ISBLANK(VLOOKUP($A136,'Section 2'!$E$17:$V$216,COLUMNS('Section 2'!$E$13:N$14),0)),\"\",VLOOKUP($A136,'Section 2'!$E$17:$V$216,COLUMNS('Section 2'!$E$13:N$14),0)))","v":""},{"$f":"IF($C136=\"\",\"\",IF(ISBLANK(VLOOKUP($A136,'Section 2'!$E$17:$V$216,COLUMNS('Section 2'!$E$13:O$14),0)),\"\",VLOOKUP($A136,'Section 2'!$E$17:$V$216,COLUMNS('Section 2'!$E$13:O$14),0)))","v":""},{"$f":"IF($C136=\"\",\"\",IF(ISBLANK(VLOOKUP($A136,'Section 2'!$E$17:$V$216,COLUMNS('Section 2'!$E$13:P$14),0)),\"\",VLOOKUP($A136,'Section 2'!$E$17:$V$216,COLUMNS('Section 2'!$E$13:P$14),0)))","v":""},{"$f":"IF($C136=\"\",\"\",IF(ISBLANK(VLOOKUP($A136,'Section 2'!$E$17:$V$216,COLUMNS('Section 2'!$E$13:Q$14),0)),\"\",VLOOKUP($A136,'Section 2'!$E$17:$V$216,COLUMNS('Section 2'!$E$13:Q$14),0)))","v":""},{"$f":"IF($C136=\"\",\"\",IF(ISBLANK(VLOOKUP($A136,'Section 2'!$E$17:$V$216,COLUMNS('Section 2'!$E$13:R$14),0)),\"\",VLOOKUP($A136,'Section 2'!$E$17:$V$216,COLUMNS('Section 2'!$E$13:R$14),0)))","v":""},{"$f":"IF($C136=\"\",\"\",IF(ISBLANK(VLOOKUP($A136,'Section 2'!$E$17:$V$216,COLUMNS('Section 2'!$E$13:S$14),0)),\"\",VLOOKUP($A136,'Section 2'!$E$17:$V$216,COLUMNS('Section 2'!$E$13:S$14),0)))","v":""},{"$f":"IF($C136=\"\",\"\",IF(ISBLANK(VLOOKUP($A136,'Section 2'!$E$17:$V$216,COLUMNS('Section 2'!$E$13:T$14),0)),\"\",VLOOKUP($A136,'Section 2'!$E$17:$V$216,COLUMNS('Section 2'!$E$13:T$14),0)))","v":""},{"$f":"IF($C136=\"\",\"\",IF(ISBLANK(VLOOKUP($A136,'Section 2'!$E$17:$V$216,COLUMNS('Section 2'!$E$13:U$14),0)),\"\",VLOOKUP($A136,'Section 2'!$E$17:$V$216,COLUMNS('Section 2'!$E$13:U$14),0)))","v":""},{"$f":"IF($C136=\"\",\"\",IF(ISBLANK(VLOOKUP($A136,'Section 2'!$E$17:$V$216,COLUMNS('Section 2'!$E$13:V$14),0)),\"\",VLOOKUP($A136,'Section 2'!$E$17:$V$216,COLUMNS('Section 2'!$E$13:V$14),0)))","v":""}]
[136,"",{"$f":"IFERROR(VLOOKUP($A137,'Section 2'!$E$17:$V$216,COLUMNS('Section 2'!$E$13:E$14),0),\"\")","v":""},{"$f":"IF($C137=\"\",\"\",IF(ISBLANK(VLOOKUP($A137,'Section 2'!$E$17:$V$216,COLUMNS('Section 2'!$E$13:F$14),0)),\"\",VLOOKUP($A137,'Section 2'!$E$17:$V$216,COLUMNS('Section 2'!$E$13:F$14),0)))","v":""},{"$f":"IF($C137=\"\",\"\",IF(ISBLANK(VLOOKUP($A137,'Section 2'!$E$17:$V$216,COLUMNS('Section 2'!$E$13:G$14),0)),\"\",VLOOKUP($A137,'Section 2'!$E$17:$V$216,COLUMNS('Section 2'!$E$13:G$14),0)))","v":""},{"$f":"IF($C137=\"\",\"\",IF(ISBLANK(VLOOKUP($A137,'Section 2'!$E$17:$V$216,COLUMNS('Section 2'!$E$13:H$14),0)),\"\",VLOOKUP($A137,'Section 2'!$E$17:$V$216,COLUMNS('Section 2'!$E$13:H$14),0)))","v":""},{"$f":"IF($C137=\"\",\"\",IF(ISBLANK(VLOOKUP($A137,'Section 2'!$E$17:$V$216,COLUMNS('Section 2'!$E$13:I$14),0)),\"\",VLOOKUP($A137,'Section 2'!$E$17:$V$216,COLUMNS('Section 2'!$E$13:I$14),0)))","v":""},{"$f":"IF($C137=\"\",\"\",IF(ISBLANK(VLOOKUP($A137,'Section 2'!$E$17:$V$216,COLUMNS('Section 2'!$E$13:J$14),0)),\"\",VLOOKUP($A137,'Section 2'!$E$17:$V$216,COLUMNS('Section 2'!$E$13:J$14),0)))","v":""},{"$f":"IF($C137=\"\",\"\",IF(ISBLANK(VLOOKUP($A137,'Section 2'!$E$17:$V$216,COLUMNS('Section 2'!$E$13:K$14),0)),\"\",VLOOKUP($A137,'Section 2'!$E$17:$V$216,COLUMNS('Section 2'!$E$13:K$14),0)))","v":""},{"$f":"IF($C137=\"\",\"\",IF(ISBLANK(VLOOKUP($A137,'Section 2'!$E$17:$V$216,COLUMNS('Section 2'!$E$13:L$14),0)),\"\",VLOOKUP($A137,'Section 2'!$E$17:$V$216,COLUMNS('Section 2'!$E$13:L$14),0)))","v":""},{"$f":"IF($C137=\"\",\"\",IF(ISBLANK(VLOOKUP($A137,'Section 2'!$E$17:$V$216,COLUMNS('Section 2'!$E$13:M$14),0)),\"\",VLOOKUP($A137,'Section 2'!$E$17:$V$216,COLUMNS('Section 2'!$E$13:M$14),0)))","v":""},{"$f":"IF($C137=\"\",\"\",IF(ISBLANK(VLOOKUP($A137,'Section 2'!$E$17:$V$216,COLUMNS('Section 2'!$E$13:N$14),0)),\"\",VLOOKUP($A137,'Section 2'!$E$17:$V$216,COLUMNS('Section 2'!$E$13:N$14),0)))","v":""},{"$f":"IF($C137=\"\",\"\",IF(ISBLANK(VLOOKUP($A137,'Section 2'!$E$17:$V$216,COLUMNS('Section 2'!$E$13:O$14),0)),\"\",VLOOKUP($A137,'Section 2'!$E$17:$V$216,COLUMNS('Section 2'!$E$13:O$14),0)))","v":""},{"$f":"IF($C137=\"\",\"\",IF(ISBLANK(VLOOKUP($A137,'Section 2'!$E$17:$V$216,COLUMNS('Section 2'!$E$13:P$14),0)),\"\",VLOOKUP($A137,'Section 2'!$E$17:$V$216,COLUMNS('Section 2'!$E$13:P$14),0)))","v":""},{"$f":"IF($C137=\"\",\"\",IF(ISBLANK(VLOOKUP($A137,'Section 2'!$E$17:$V$216,COLUMNS('Section 2'!$E$13:Q$14),0)),\"\",VLOOKUP($A137,'Section 2'!$E$17:$V$216,COLUMNS('Section 2'!$E$13:Q$14),0)))","v":""},{"$f":"IF($C137=\"\",\"\",IF(ISBLANK(VLOOKUP($A137,'Section 2'!$E$17:$V$216,COLUMNS('Section 2'!$E$13:R$14),0)),\"\",VLOOKUP($A137,'Section 2'!$E$17:$V$216,COLUMNS('Section 2'!$E$13:R$14),0)))","v":""},{"$f":"IF($C137=\"\",\"\",IF(ISBLANK(VLOOKUP($A137,'Section 2'!$E$17:$V$216,COLUMNS('Section 2'!$E$13:S$14),0)),\"\",VLOOKUP($A137,'Section 2'!$E$17:$V$216,COLUMNS('Section 2'!$E$13:S$14),0)))","v":""},{"$f":"IF($C137=\"\",\"\",IF(ISBLANK(VLOOKUP($A137,'Section 2'!$E$17:$V$216,COLUMNS('Section 2'!$E$13:T$14),0)),\"\",VLOOKUP($A137,'Section 2'!$E$17:$V$216,COLUMNS('Section 2'!$E$13:T$14),0)))","v":""},{"$f":"IF($C137=\"\",\"\",IF(ISBLANK(VLOOKUP($A137,'Section 2'!$E$17:$V$216,COLUMNS('Section 2'!$E$13:U$14),0)),\"\",VLOOKUP($A137,'Section 2'!$E$17:$V$216,COLUMNS('Section 2'!$E$13:U$14),0)))","v":""},{"$f":"IF($C137=\"\",\"\",IF(ISBLANK(VLOOKUP($A137,'Section 2'!$E$17:$V$216,COLUMNS('Section 2'!$E$13:V$14),0)),\"\",VLOOKUP($A137,'Section 2'!$E$17:$V$216,COLUMNS('Section 2'!$E$13:V$14),0)))","v":""}]
[137,"",{"$f":"IFERROR(VLOOKUP($A138,'Section 2'!$E$17:$V$216,COLUMNS('Section 2'!$E$13:E$14),0),\"\")","v":""},{"$f":"IF($C138=\"\",\"\",IF(ISBLANK(VLOOKUP($A138,'Section 2'!$E$17:$V$216,COLUMNS('Section 2'!$E$13:F$14),0)),\"\",VLOOKUP($A138,'Section 2'!$E$17:$V$216,COLUMNS('Section 2'!$E$13:F$14),0)))","v":""},{"$f":"IF($C138=\"\",\"\",IF(ISBLANK(VLOOKUP($A138,'Section 2'!$E$17:$V$216,COLUMNS('Section 2'!$E$13:G$14),0)),\"\",VLOOKUP($A138,'Section 2'!$E$17:$V$216,COLUMNS('Section 2'!$E$13:G$14),0)))","v":""},{"$f":"IF($C138=\"\",\"\",IF(ISBLANK(VLOOKUP($A138,'Section 2'!$E$17:$V$216,COLUMNS('Section 2'!$E$13:H$14),0)),\"\",VLOOKUP($A138,'Section 2'!$E$17:$V$216,COLUMNS('Section 2'!$E$13:H$14),0)))","v":""},{"$f":"IF($C138=\"\",\"\",IF(ISBLANK(VLOOKUP($A138,'Section 2'!$E$17:$V$216,COLUMNS('Section 2'!$E$13:I$14),0)),\"\",VLOOKUP($A138,'Section 2'!$E$17:$V$216,COLUMNS('Section 2'!$E$13:I$14),0)))","v":""},{"$f":"IF($C138=\"\",\"\",IF(ISBLANK(VLOOKUP($A138,'Section 2'!$E$17:$V$216,COLUMNS('Section 2'!$E$13:J$14),0)),\"\",VLOOKUP($A138,'Section 2'!$E$17:$V$216,COLUMNS('Section 2'!$E$13:J$14),0)))","v":""},{"$f":"IF($C138=\"\",\"\",IF(ISBLANK(VLOOKUP($A138,'Section 2'!$E$17:$V$216,COLUMNS('Section 2'!$E$13:K$14),0)),\"\",VLOOKUP($A138,'Section 2'!$E$17:$V$216,COLUMNS('Section 2'!$E$13:K$14),0)))","v":""},{"$f":"IF($C138=\"\",\"\",IF(ISBLANK(VLOOKUP($A138,'Section 2'!$E$17:$V$216,COLUMNS('Section 2'!$E$13:L$14),0)),\"\",VLOOKUP($A138,'Section 2'!$E$17:$V$216,COLUMNS('Section 2'!$E$13:L$14),0)))","v":""},{"$f":"IF($C138=\"\",\"\",IF(ISBLANK(VLOOKUP($A138,'Section 2'!$E$17:$V$216,COLUMNS('Section 2'!$E$13:M$14),0)),\"\",VLOOKUP($A138,'Section 2'!$E$17:$V$216,COLUMNS('Section 2'!$E$13:M$14),0)))","v":""},{"$f":"IF($C138=\"\",\"\",IF(ISBLANK(VLOOKUP($A138,'Section 2'!$E$17:$V$216,COLUMNS('Section 2'!$E$13:N$14),0)),\"\",VLOOKUP($A138,'Section 2'!$E$17:$V$216,COLUMNS('Section 2'!$E$13:N$14),0)))","v":""},{"$f":"IF($C138=\"\",\"\",IF(ISBLANK(VLOOKUP($A138,'Section 2'!$E$17:$V$216,COLUMNS('Section 2'!$E$13:O$14),0)),\"\",VLOOKUP($A138,'Section 2'!$E$17:$V$216,COLUMNS('Section 2'!$E$13:O$14),0)))","v":""},{"$f":"IF($C138=\"\",\"\",IF(ISBLANK(VLOOKUP($A138,'Section 2'!$E$17:$V$216,COLUMNS('Section 2'!$E$13:P$14),0)),\"\",VLOOKUP($A138,'Section 2'!$E$17:$V$216,COLUMNS('Section 2'!$E$13:P$14),0)))","v":""},{"$f":"IF($C138=\"\",\"\",IF(ISBLANK(VLOOKUP($A138,'Section 2'!$E$17:$V$216,COLUMNS('Section 2'!$E$13:Q$14),0)),\"\",VLOOKUP($A138,'Section 2'!$E$17:$V$216,COLUMNS('Section 2'!$E$13:Q$14),0)))","v":""},{"$f":"IF($C138=\"\",\"\",IF(ISBLANK(VLOOKUP($A138,'Section 2'!$E$17:$V$216,COLUMNS('Section 2'!$E$13:R$14),0)),\"\",VLOOKUP($A138,'Section 2'!$E$17:$V$216,COLUMNS('Section 2'!$E$13:R$14),0)))","v":""},{"$f":"IF($C138=\"\",\"\",IF(ISBLANK(VLOOKUP($A138,'Section 2'!$E$17:$V$216,COLUMNS('Section 2'!$E$13:S$14),0)),\"\",VLOOKUP($A138,'Section 2'!$E$17:$V$216,COLUMNS('Section 2'!$E$13:S$14),0)))","v":""},{"$f":"IF($C138=\"\",\"\",IF(ISBLANK(VLOOKUP($A138,'Section 2'!$E$17:$V$216,COLUMNS('Section 2'!$E$13:T$14),0)),\"\",VLOOKUP($A138,'Section 2'!$E$17:$V$216,COLUMNS('Section 2'!$E$13:T$14),0)))","v":""},{"$f":"IF($C138=\"\",\"\",IF(ISBLANK(VLOOKUP($A138,'Section 2'!$E$17:$V$216,COLUMNS('Section 2'!$E$13:U$14),0)),\"\",VLOOKUP($A138,'Section 2'!$E$17:$V$216,COLUMNS('Section 2'!$E$13:U$14),0)))","v":""},{"$f":"IF($C138=\"\",\"\",IF(ISBLANK(VLOOKUP($A138,'Section 2'!$E$17:$V$216,COLUMNS('Section 2'!$E$13:V$14),0)),\"\",VLOOKUP($A138,'Section 2'!$E$17:$V$216,COLUMNS('Section 2'!$E$13:V$14),0)))","v":""}]
[138,"",{"$f":"IFERROR(VLOOKUP($A139,'Section 2'!$E$17:$V$216,COLUMNS('Section 2'!$E$13:E$14),0),\"\")","v":""},{"$f":"IF($C139=\"\",\"\",IF(ISBLANK(VLOOKUP($A139,'Section 2'!$E$17:$V$216,COLUMNS('Section 2'!$E$13:F$14),0)),\"\",VLOOKUP($A139,'Section 2'!$E$17:$V$216,COLUMNS('Section 2'!$E$13:F$14),0)))","v":""},{"$f":"IF($C139=\"\",\"\",IF(ISBLANK(VLOOKUP($A139,'Section 2'!$E$17:$V$216,COLUMNS('Section 2'!$E$13:G$14),0)),\"\",VLOOKUP($A139,'Section 2'!$E$17:$V$216,COLUMNS('Section 2'!$E$13:G$14),0)))","v":""},{"$f":"IF($C139=\"\",\"\",IF(ISBLANK(VLOOKUP($A139,'Section 2'!$E$17:$V$216,COLUMNS('Section 2'!$E$13:H$14),0)),\"\",VLOOKUP($A139,'Section 2'!$E$17:$V$216,COLUMNS('Section 2'!$E$13:H$14),0)))","v":""},{"$f":"IF($C139=\"\",\"\",IF(ISBLANK(VLOOKUP($A139,'Section 2'!$E$17:$V$216,COLUMNS('Section 2'!$E$13:I$14),0)),\"\",VLOOKUP($A139,'Section 2'!$E$17:$V$216,COLUMNS('Section 2'!$E$13:I$14),0)))","v":""},{"$f":"IF($C139=\"\",\"\",IF(ISBLANK(VLOOKUP($A139,'Section 2'!$E$17:$V$216,COLUMNS('Section 2'!$E$13:J$14),0)),\"\",VLOOKUP($A139,'Section 2'!$E$17:$V$216,COLUMNS('Section 2'!$E$13:J$14),0)))","v":""},{"$f":"IF($C139=\"\",\"\",IF(ISBLANK(VLOOKUP($A139,'Section 2'!$E$17:$V$216,COLUMNS('Section 2'!$E$13:K$14),0)),\"\",VLOOKUP($A139,'Section 2'!$E$17:$V$216,COLUMNS('Section 2'!$E$13:K$14),0)))","v":""},{"$f":"IF($C139=\"\",\"\",IF(ISBLANK(VLOOKUP($A139,'Section 2'!$E$17:$V$216,COLUMNS('Section 2'!$E$13:L$14),0)),\"\",VLOOKUP($A139,'Section 2'!$E$17:$V$216,COLUMNS('Section 2'!$E$13:L$14),0)))","v":""},{"$f":"IF($C139=\"\",\"\",IF(ISBLANK(VLOOKUP($A139,'Section 2'!$E$17:$V$216,COLUMNS('Section 2'!$E$13:M$14),0)),\"\",VLOOKUP($A139,'Section 2'!$E$17:$V$216,COLUMNS('Section 2'!$E$13:M$14),0)))","v":""},{"$f":"IF($C139=\"\",\"\",IF(ISBLANK(VLOOKUP($A139,'Section 2'!$E$17:$V$216,COLUMNS('Section 2'!$E$13:N$14),0)),\"\",VLOOKUP($A139,'Section 2'!$E$17:$V$216,COLUMNS('Section 2'!$E$13:N$14),0)))","v":""},{"$f":"IF($C139=\"\",\"\",IF(ISBLANK(VLOOKUP($A139,'Section 2'!$E$17:$V$216,COLUMNS('Section 2'!$E$13:O$14),0)),\"\",VLOOKUP($A139,'Section 2'!$E$17:$V$216,COLUMNS('Section 2'!$E$13:O$14),0)))","v":""},{"$f":"IF($C139=\"\",\"\",IF(ISBLANK(VLOOKUP($A139,'Section 2'!$E$17:$V$216,COLUMNS('Section 2'!$E$13:P$14),0)),\"\",VLOOKUP($A139,'Section 2'!$E$17:$V$216,COLUMNS('Section 2'!$E$13:P$14),0)))","v":""},{"$f":"IF($C139=\"\",\"\",IF(ISBLANK(VLOOKUP($A139,'Section 2'!$E$17:$V$216,COLUMNS('Section 2'!$E$13:Q$14),0)),\"\",VLOOKUP($A139,'Section 2'!$E$17:$V$216,COLUMNS('Section 2'!$E$13:Q$14),0)))","v":""},{"$f":"IF($C139=\"\",\"\",IF(ISBLANK(VLOOKUP($A139,'Section 2'!$E$17:$V$216,COLUMNS('Section 2'!$E$13:R$14),0)),\"\",VLOOKUP($A139,'Section 2'!$E$17:$V$216,COLUMNS('Section 2'!$E$13:R$14),0)))","v":""},{"$f":"IF($C139=\"\",\"\",IF(ISBLANK(VLOOKUP($A139,'Section 2'!$E$17:$V$216,COLUMNS('Section 2'!$E$13:S$14),0)),\"\",VLOOKUP($A139,'Section 2'!$E$17:$V$216,COLUMNS('Section 2'!$E$13:S$14),0)))","v":""},{"$f":"IF($C139=\"\",\"\",IF(ISBLANK(VLOOKUP($A139,'Section 2'!$E$17:$V$216,COLUMNS('Section 2'!$E$13:T$14),0)),\"\",VLOOKUP($A139,'Section 2'!$E$17:$V$216,COLUMNS('Section 2'!$E$13:T$14),0)))","v":""},{"$f":"IF($C139=\"\",\"\",IF(ISBLANK(VLOOKUP($A139,'Section 2'!$E$17:$V$216,COLUMNS('Section 2'!$E$13:U$14),0)),\"\",VLOOKUP($A139,'Section 2'!$E$17:$V$216,COLUMNS('Section 2'!$E$13:U$14),0)))","v":""},{"$f":"IF($C139=\"\",\"\",IF(ISBLANK(VLOOKUP($A139,'Section 2'!$E$17:$V$216,COLUMNS('Section 2'!$E$13:V$14),0)),\"\",VLOOKUP($A139,'Section 2'!$E$17:$V$216,COLUMNS('Section 2'!$E$13:V$14),0)))","v":""}]
[139,"",{"$f":"IFERROR(VLOOKUP($A140,'Section 2'!$E$17:$V$216,COLUMNS('Section 2'!$E$13:E$14),0),\"\")","v":""},{"$f":"IF($C140=\"\",\"\",IF(ISBLANK(VLOOKUP($A140,'Section 2'!$E$17:$V$216,COLUMNS('Section 2'!$E$13:F$14),0)),\"\",VLOOKUP($A140,'Section 2'!$E$17:$V$216,COLUMNS('Section 2'!$E$13:F$14),0)))","v":""},{"$f":"IF($C140=\"\",\"\",IF(ISBLANK(VLOOKUP($A140,'Section 2'!$E$17:$V$216,COLUMNS('Section 2'!$E$13:G$14),0)),\"\",VLOOKUP($A140,'Section 2'!$E$17:$V$216,COLUMNS('Section 2'!$E$13:G$14),0)))","v":""},{"$f":"IF($C140=\"\",\"\",IF(ISBLANK(VLOOKUP($A140,'Section 2'!$E$17:$V$216,COLUMNS('Section 2'!$E$13:H$14),0)),\"\",VLOOKUP($A140,'Section 2'!$E$17:$V$216,COLUMNS('Section 2'!$E$13:H$14),0)))","v":""},{"$f":"IF($C140=\"\",\"\",IF(ISBLANK(VLOOKUP($A140,'Section 2'!$E$17:$V$216,COLUMNS('Section 2'!$E$13:I$14),0)),\"\",VLOOKUP($A140,'Section 2'!$E$17:$V$216,COLUMNS('Section 2'!$E$13:I$14),0)))","v":""},{"$f":"IF($C140=\"\",\"\",IF(ISBLANK(VLOOKUP($A140,'Section 2'!$E$17:$V$216,COLUMNS('Section 2'!$E$13:J$14),0)),\"\",VLOOKUP($A140,'Section 2'!$E$17:$V$216,COLUMNS('Section 2'!$E$13:J$14),0)))","v":""},{"$f":"IF($C140=\"\",\"\",IF(ISBLANK(VLOOKUP($A140,'Section 2'!$E$17:$V$216,COLUMNS('Section 2'!$E$13:K$14),0)),\"\",VLOOKUP($A140,'Section 2'!$E$17:$V$216,COLUMNS('Section 2'!$E$13:K$14),0)))","v":""},{"$f":"IF($C140=\"\",\"\",IF(ISBLANK(VLOOKUP($A140,'Section 2'!$E$17:$V$216,COLUMNS('Section 2'!$E$13:L$14),0)),\"\",VLOOKUP($A140,'Section 2'!$E$17:$V$216,COLUMNS('Section 2'!$E$13:L$14),0)))","v":""},{"$f":"IF($C140=\"\",\"\",IF(ISBLANK(VLOOKUP($A140,'Section 2'!$E$17:$V$216,COLUMNS('Section 2'!$E$13:M$14),0)),\"\",VLOOKUP($A140,'Section 2'!$E$17:$V$216,COLUMNS('Section 2'!$E$13:M$14),0)))","v":""},{"$f":"IF($C140=\"\",\"\",IF(ISBLANK(VLOOKUP($A140,'Section 2'!$E$17:$V$216,COLUMNS('Section 2'!$E$13:N$14),0)),\"\",VLOOKUP($A140,'Section 2'!$E$17:$V$216,COLUMNS('Section 2'!$E$13:N$14),0)))","v":""},{"$f":"IF($C140=\"\",\"\",IF(ISBLANK(VLOOKUP($A140,'Section 2'!$E$17:$V$216,COLUMNS('Section 2'!$E$13:O$14),0)),\"\",VLOOKUP($A140,'Section 2'!$E$17:$V$216,COLUMNS('Section 2'!$E$13:O$14),0)))","v":""},{"$f":"IF($C140=\"\",\"\",IF(ISBLANK(VLOOKUP($A140,'Section 2'!$E$17:$V$216,COLUMNS('Section 2'!$E$13:P$14),0)),\"\",VLOOKUP($A140,'Section 2'!$E$17:$V$216,COLUMNS('Section 2'!$E$13:P$14),0)))","v":""},{"$f":"IF($C140=\"\",\"\",IF(ISBLANK(VLOOKUP($A140,'Section 2'!$E$17:$V$216,COLUMNS('Section 2'!$E$13:Q$14),0)),\"\",VLOOKUP($A140,'Section 2'!$E$17:$V$216,COLUMNS('Section 2'!$E$13:Q$14),0)))","v":""},{"$f":"IF($C140=\"\",\"\",IF(ISBLANK(VLOOKUP($A140,'Section 2'!$E$17:$V$216,COLUMNS('Section 2'!$E$13:R$14),0)),\"\",VLOOKUP($A140,'Section 2'!$E$17:$V$216,COLUMNS('Section 2'!$E$13:R$14),0)))","v":""},{"$f":"IF($C140=\"\",\"\",IF(ISBLANK(VLOOKUP($A140,'Section 2'!$E$17:$V$216,COLUMNS('Section 2'!$E$13:S$14),0)),\"\",VLOOKUP($A140,'Section 2'!$E$17:$V$216,COLUMNS('Section 2'!$E$13:S$14),0)))","v":""},{"$f":"IF($C140=\"\",\"\",IF(ISBLANK(VLOOKUP($A140,'Section 2'!$E$17:$V$216,COLUMNS('Section 2'!$E$13:T$14),0)),\"\",VLOOKUP($A140,'Section 2'!$E$17:$V$216,COLUMNS('Section 2'!$E$13:T$14),0)))","v":""},{"$f":"IF($C140=\"\",\"\",IF(ISBLANK(VLOOKUP($A140,'Section 2'!$E$17:$V$216,COLUMNS('Section 2'!$E$13:U$14),0)),\"\",VLOOKUP($A140,'Section 2'!$E$17:$V$216,COLUMNS('Section 2'!$E$13:U$14),0)))","v":""},{"$f":"IF($C140=\"\",\"\",IF(ISBLANK(VLOOKUP($A140,'Section 2'!$E$17:$V$216,COLUMNS('Section 2'!$E$13:V$14),0)),\"\",VLOOKUP($A140,'Section 2'!$E$17:$V$216,COLUMNS('Section 2'!$E$13:V$14),0)))","v":""}]
[140,"",{"$f":"IFERROR(VLOOKUP($A141,'Section 2'!$E$17:$V$216,COLUMNS('Section 2'!$E$13:E$14),0),\"\")","v":""},{"$f":"IF($C141=\"\",\"\",IF(ISBLANK(VLOOKUP($A141,'Section 2'!$E$17:$V$216,COLUMNS('Section 2'!$E$13:F$14),0)),\"\",VLOOKUP($A141,'Section 2'!$E$17:$V$216,COLUMNS('Section 2'!$E$13:F$14),0)))","v":""},{"$f":"IF($C141=\"\",\"\",IF(ISBLANK(VLOOKUP($A141,'Section 2'!$E$17:$V$216,COLUMNS('Section 2'!$E$13:G$14),0)),\"\",VLOOKUP($A141,'Section 2'!$E$17:$V$216,COLUMNS('Section 2'!$E$13:G$14),0)))","v":""},{"$f":"IF($C141=\"\",\"\",IF(ISBLANK(VLOOKUP($A141,'Section 2'!$E$17:$V$216,COLUMNS('Section 2'!$E$13:H$14),0)),\"\",VLOOKUP($A141,'Section 2'!$E$17:$V$216,COLUMNS('Section 2'!$E$13:H$14),0)))","v":""},{"$f":"IF($C141=\"\",\"\",IF(ISBLANK(VLOOKUP($A141,'Section 2'!$E$17:$V$216,COLUMNS('Section 2'!$E$13:I$14),0)),\"\",VLOOKUP($A141,'Section 2'!$E$17:$V$216,COLUMNS('Section 2'!$E$13:I$14),0)))","v":""},{"$f":"IF($C141=\"\",\"\",IF(ISBLANK(VLOOKUP($A141,'Section 2'!$E$17:$V$216,COLUMNS('Section 2'!$E$13:J$14),0)),\"\",VLOOKUP($A141,'Section 2'!$E$17:$V$216,COLUMNS('Section 2'!$E$13:J$14),0)))","v":""},{"$f":"IF($C141=\"\",\"\",IF(ISBLANK(VLOOKUP($A141,'Section 2'!$E$17:$V$216,COLUMNS('Section 2'!$E$13:K$14),0)),\"\",VLOOKUP($A141,'Section 2'!$E$17:$V$216,COLUMNS('Section 2'!$E$13:K$14),0)))","v":""},{"$f":"IF($C141=\"\",\"\",IF(ISBLANK(VLOOKUP($A141,'Section 2'!$E$17:$V$216,COLUMNS('Section 2'!$E$13:L$14),0)),\"\",VLOOKUP($A141,'Section 2'!$E$17:$V$216,COLUMNS('Section 2'!$E$13:L$14),0)))","v":""},{"$f":"IF($C141=\"\",\"\",IF(ISBLANK(VLOOKUP($A141,'Section 2'!$E$17:$V$216,COLUMNS('Section 2'!$E$13:M$14),0)),\"\",VLOOKUP($A141,'Section 2'!$E$17:$V$216,COLUMNS('Section 2'!$E$13:M$14),0)))","v":""},{"$f":"IF($C141=\"\",\"\",IF(ISBLANK(VLOOKUP($A141,'Section 2'!$E$17:$V$216,COLUMNS('Section 2'!$E$13:N$14),0)),\"\",VLOOKUP($A141,'Section 2'!$E$17:$V$216,COLUMNS('Section 2'!$E$13:N$14),0)))","v":""},{"$f":"IF($C141=\"\",\"\",IF(ISBLANK(VLOOKUP($A141,'Section 2'!$E$17:$V$216,COLUMNS('Section 2'!$E$13:O$14),0)),\"\",VLOOKUP($A141,'Section 2'!$E$17:$V$216,COLUMNS('Section 2'!$E$13:O$14),0)))","v":""},{"$f":"IF($C141=\"\",\"\",IF(ISBLANK(VLOOKUP($A141,'Section 2'!$E$17:$V$216,COLUMNS('Section 2'!$E$13:P$14),0)),\"\",VLOOKUP($A141,'Section 2'!$E$17:$V$216,COLUMNS('Section 2'!$E$13:P$14),0)))","v":""},{"$f":"IF($C141=\"\",\"\",IF(ISBLANK(VLOOKUP($A141,'Section 2'!$E$17:$V$216,COLUMNS('Section 2'!$E$13:Q$14),0)),\"\",VLOOKUP($A141,'Section 2'!$E$17:$V$216,COLUMNS('Section 2'!$E$13:Q$14),0)))","v":""},{"$f":"IF($C141=\"\",\"\",IF(ISBLANK(VLOOKUP($A141,'Section 2'!$E$17:$V$216,COLUMNS('Section 2'!$E$13:R$14),0)),\"\",VLOOKUP($A141,'Section 2'!$E$17:$V$216,COLUMNS('Section 2'!$E$13:R$14),0)))","v":""},{"$f":"IF($C141=\"\",\"\",IF(ISBLANK(VLOOKUP($A141,'Section 2'!$E$17:$V$216,COLUMNS('Section 2'!$E$13:S$14),0)),\"\",VLOOKUP($A141,'Section 2'!$E$17:$V$216,COLUMNS('Section 2'!$E$13:S$14),0)))","v":""},{"$f":"IF($C141=\"\",\"\",IF(ISBLANK(VLOOKUP($A141,'Section 2'!$E$17:$V$216,COLUMNS('Section 2'!$E$13:T$14),0)),\"\",VLOOKUP($A141,'Section 2'!$E$17:$V$216,COLUMNS('Section 2'!$E$13:T$14),0)))","v":""},{"$f":"IF($C141=\"\",\"\",IF(ISBLANK(VLOOKUP($A141,'Section 2'!$E$17:$V$216,COLUMNS('Section 2'!$E$13:U$14),0)),\"\",VLOOKUP($A141,'Section 2'!$E$17:$V$216,COLUMNS('Section 2'!$E$13:U$14),0)))","v":""},{"$f":"IF($C141=\"\",\"\",IF(ISBLANK(VLOOKUP($A141,'Section 2'!$E$17:$V$216,COLUMNS('Section 2'!$E$13:V$14),0)),\"\",VLOOKUP($A141,'Section 2'!$E$17:$V$216,COLUMNS('Section 2'!$E$13:V$14),0)))","v":""}]
[141,"",{"$f":"IFERROR(VLOOKUP($A142,'Section 2'!$E$17:$V$216,COLUMNS('Section 2'!$E$13:E$14),0),\"\")","v":""},{"$f":"IF($C142=\"\",\"\",IF(ISBLANK(VLOOKUP($A142,'Section 2'!$E$17:$V$216,COLUMNS('Section 2'!$E$13:F$14),0)),\"\",VLOOKUP($A142,'Section 2'!$E$17:$V$216,COLUMNS('Section 2'!$E$13:F$14),0)))","v":""},{"$f":"IF($C142=\"\",\"\",IF(ISBLANK(VLOOKUP($A142,'Section 2'!$E$17:$V$216,COLUMNS('Section 2'!$E$13:G$14),0)),\"\",VLOOKUP($A142,'Section 2'!$E$17:$V$216,COLUMNS('Section 2'!$E$13:G$14),0)))","v":""},{"$f":"IF($C142=\"\",\"\",IF(ISBLANK(VLOOKUP($A142,'Section 2'!$E$17:$V$216,COLUMNS('Section 2'!$E$13:H$14),0)),\"\",VLOOKUP($A142,'Section 2'!$E$17:$V$216,COLUMNS('Section 2'!$E$13:H$14),0)))","v":""},{"$f":"IF($C142=\"\",\"\",IF(ISBLANK(VLOOKUP($A142,'Section 2'!$E$17:$V$216,COLUMNS('Section 2'!$E$13:I$14),0)),\"\",VLOOKUP($A142,'Section 2'!$E$17:$V$216,COLUMNS('Section 2'!$E$13:I$14),0)))","v":""},{"$f":"IF($C142=\"\",\"\",IF(ISBLANK(VLOOKUP($A142,'Section 2'!$E$17:$V$216,COLUMNS('Section 2'!$E$13:J$14),0)),\"\",VLOOKUP($A142,'Section 2'!$E$17:$V$216,COLUMNS('Section 2'!$E$13:J$14),0)))","v":""},{"$f":"IF($C142=\"\",\"\",IF(ISBLANK(VLOOKUP($A142,'Section 2'!$E$17:$V$216,COLUMNS('Section 2'!$E$13:K$14),0)),\"\",VLOOKUP($A142,'Section 2'!$E$17:$V$216,COLUMNS('Section 2'!$E$13:K$14),0)))","v":""},{"$f":"IF($C142=\"\",\"\",IF(ISBLANK(VLOOKUP($A142,'Section 2'!$E$17:$V$216,COLUMNS('Section 2'!$E$13:L$14),0)),\"\",VLOOKUP($A142,'Section 2'!$E$17:$V$216,COLUMNS('Section 2'!$E$13:L$14),0)))","v":""},{"$f":"IF($C142=\"\",\"\",IF(ISBLANK(VLOOKUP($A142,'Section 2'!$E$17:$V$216,COLUMNS('Section 2'!$E$13:M$14),0)),\"\",VLOOKUP($A142,'Section 2'!$E$17:$V$216,COLUMNS('Section 2'!$E$13:M$14),0)))","v":""},{"$f":"IF($C142=\"\",\"\",IF(ISBLANK(VLOOKUP($A142,'Section 2'!$E$17:$V$216,COLUMNS('Section 2'!$E$13:N$14),0)),\"\",VLOOKUP($A142,'Section 2'!$E$17:$V$216,COLUMNS('Section 2'!$E$13:N$14),0)))","v":""},{"$f":"IF($C142=\"\",\"\",IF(ISBLANK(VLOOKUP($A142,'Section 2'!$E$17:$V$216,COLUMNS('Section 2'!$E$13:O$14),0)),\"\",VLOOKUP($A142,'Section 2'!$E$17:$V$216,COLUMNS('Section 2'!$E$13:O$14),0)))","v":""},{"$f":"IF($C142=\"\",\"\",IF(ISBLANK(VLOOKUP($A142,'Section 2'!$E$17:$V$216,COLUMNS('Section 2'!$E$13:P$14),0)),\"\",VLOOKUP($A142,'Section 2'!$E$17:$V$216,COLUMNS('Section 2'!$E$13:P$14),0)))","v":""},{"$f":"IF($C142=\"\",\"\",IF(ISBLANK(VLOOKUP($A142,'Section 2'!$E$17:$V$216,COLUMNS('Section 2'!$E$13:Q$14),0)),\"\",VLOOKUP($A142,'Section 2'!$E$17:$V$216,COLUMNS('Section 2'!$E$13:Q$14),0)))","v":""},{"$f":"IF($C142=\"\",\"\",IF(ISBLANK(VLOOKUP($A142,'Section 2'!$E$17:$V$216,COLUMNS('Section 2'!$E$13:R$14),0)),\"\",VLOOKUP($A142,'Section 2'!$E$17:$V$216,COLUMNS('Section 2'!$E$13:R$14),0)))","v":""},{"$f":"IF($C142=\"\",\"\",IF(ISBLANK(VLOOKUP($A142,'Section 2'!$E$17:$V$216,COLUMNS('Section 2'!$E$13:S$14),0)),\"\",VLOOKUP($A142,'Section 2'!$E$17:$V$216,COLUMNS('Section 2'!$E$13:S$14),0)))","v":""},{"$f":"IF($C142=\"\",\"\",IF(ISBLANK(VLOOKUP($A142,'Section 2'!$E$17:$V$216,COLUMNS('Section 2'!$E$13:T$14),0)),\"\",VLOOKUP($A142,'Section 2'!$E$17:$V$216,COLUMNS('Section 2'!$E$13:T$14),0)))","v":""},{"$f":"IF($C142=\"\",\"\",IF(ISBLANK(VLOOKUP($A142,'Section 2'!$E$17:$V$216,COLUMNS('Section 2'!$E$13:U$14),0)),\"\",VLOOKUP($A142,'Section 2'!$E$17:$V$216,COLUMNS('Section 2'!$E$13:U$14),0)))","v":""},{"$f":"IF($C142=\"\",\"\",IF(ISBLANK(VLOOKUP($A142,'Section 2'!$E$17:$V$216,COLUMNS('Section 2'!$E$13:V$14),0)),\"\",VLOOKUP($A142,'Section 2'!$E$17:$V$216,COLUMNS('Section 2'!$E$13:V$14),0)))","v":""}]
[142,"",{"$f":"IFERROR(VLOOKUP($A143,'Section 2'!$E$17:$V$216,COLUMNS('Section 2'!$E$13:E$14),0),\"\")","v":""},{"$f":"IF($C143=\"\",\"\",IF(ISBLANK(VLOOKUP($A143,'Section 2'!$E$17:$V$216,COLUMNS('Section 2'!$E$13:F$14),0)),\"\",VLOOKUP($A143,'Section 2'!$E$17:$V$216,COLUMNS('Section 2'!$E$13:F$14),0)))","v":""},{"$f":"IF($C143=\"\",\"\",IF(ISBLANK(VLOOKUP($A143,'Section 2'!$E$17:$V$216,COLUMNS('Section 2'!$E$13:G$14),0)),\"\",VLOOKUP($A143,'Section 2'!$E$17:$V$216,COLUMNS('Section 2'!$E$13:G$14),0)))","v":""},{"$f":"IF($C143=\"\",\"\",IF(ISBLANK(VLOOKUP($A143,'Section 2'!$E$17:$V$216,COLUMNS('Section 2'!$E$13:H$14),0)),\"\",VLOOKUP($A143,'Section 2'!$E$17:$V$216,COLUMNS('Section 2'!$E$13:H$14),0)))","v":""},{"$f":"IF($C143=\"\",\"\",IF(ISBLANK(VLOOKUP($A143,'Section 2'!$E$17:$V$216,COLUMNS('Section 2'!$E$13:I$14),0)),\"\",VLOOKUP($A143,'Section 2'!$E$17:$V$216,COLUMNS('Section 2'!$E$13:I$14),0)))","v":""},{"$f":"IF($C143=\"\",\"\",IF(ISBLANK(VLOOKUP($A143,'Section 2'!$E$17:$V$216,COLUMNS('Section 2'!$E$13:J$14),0)),\"\",VLOOKUP($A143,'Section 2'!$E$17:$V$216,COLUMNS('Section 2'!$E$13:J$14),0)))","v":""},{"$f":"IF($C143=\"\",\"\",IF(ISBLANK(VLOOKUP($A143,'Section 2'!$E$17:$V$216,COLUMNS('Section 2'!$E$13:K$14),0)),\"\",VLOOKUP($A143,'Section 2'!$E$17:$V$216,COLUMNS('Section 2'!$E$13:K$14),0)))","v":""},{"$f":"IF($C143=\"\",\"\",IF(ISBLANK(VLOOKUP($A143,'Section 2'!$E$17:$V$216,COLUMNS('Section 2'!$E$13:L$14),0)),\"\",VLOOKUP($A143,'Section 2'!$E$17:$V$216,COLUMNS('Section 2'!$E$13:L$14),0)))","v":""},{"$f":"IF($C143=\"\",\"\",IF(ISBLANK(VLOOKUP($A143,'Section 2'!$E$17:$V$216,COLUMNS('Section 2'!$E$13:M$14),0)),\"\",VLOOKUP($A143,'Section 2'!$E$17:$V$216,COLUMNS('Section 2'!$E$13:M$14),0)))","v":""},{"$f":"IF($C143=\"\",\"\",IF(ISBLANK(VLOOKUP($A143,'Section 2'!$E$17:$V$216,COLUMNS('Section 2'!$E$13:N$14),0)),\"\",VLOOKUP($A143,'Section 2'!$E$17:$V$216,COLUMNS('Section 2'!$E$13:N$14),0)))","v":""},{"$f":"IF($C143=\"\",\"\",IF(ISBLANK(VLOOKUP($A143,'Section 2'!$E$17:$V$216,COLUMNS('Section 2'!$E$13:O$14),0)),\"\",VLOOKUP($A143,'Section 2'!$E$17:$V$216,COLUMNS('Section 2'!$E$13:O$14),0)))","v":""},{"$f":"IF($C143=\"\",\"\",IF(ISBLANK(VLOOKUP($A143,'Section 2'!$E$17:$V$216,COLUMNS('Section 2'!$E$13:P$14),0)),\"\",VLOOKUP($A143,'Section 2'!$E$17:$V$216,COLUMNS('Section 2'!$E$13:P$14),0)))","v":""},{"$f":"IF($C143=\"\",\"\",IF(ISBLANK(VLOOKUP($A143,'Section 2'!$E$17:$V$216,COLUMNS('Section 2'!$E$13:Q$14),0)),\"\",VLOOKUP($A143,'Section 2'!$E$17:$V$216,COLUMNS('Section 2'!$E$13:Q$14),0)))","v":""},{"$f":"IF($C143=\"\",\"\",IF(ISBLANK(VLOOKUP($A143,'Section 2'!$E$17:$V$216,COLUMNS('Section 2'!$E$13:R$14),0)),\"\",VLOOKUP($A143,'Section 2'!$E$17:$V$216,COLUMNS('Section 2'!$E$13:R$14),0)))","v":""},{"$f":"IF($C143=\"\",\"\",IF(ISBLANK(VLOOKUP($A143,'Section 2'!$E$17:$V$216,COLUMNS('Section 2'!$E$13:S$14),0)),\"\",VLOOKUP($A143,'Section 2'!$E$17:$V$216,COLUMNS('Section 2'!$E$13:S$14),0)))","v":""},{"$f":"IF($C143=\"\",\"\",IF(ISBLANK(VLOOKUP($A143,'Section 2'!$E$17:$V$216,COLUMNS('Section 2'!$E$13:T$14),0)),\"\",VLOOKUP($A143,'Section 2'!$E$17:$V$216,COLUMNS('Section 2'!$E$13:T$14),0)))","v":""},{"$f":"IF($C143=\"\",\"\",IF(ISBLANK(VLOOKUP($A143,'Section 2'!$E$17:$V$216,COLUMNS('Section 2'!$E$13:U$14),0)),\"\",VLOOKUP($A143,'Section 2'!$E$17:$V$216,COLUMNS('Section 2'!$E$13:U$14),0)))","v":""},{"$f":"IF($C143=\"\",\"\",IF(ISBLANK(VLOOKUP($A143,'Section 2'!$E$17:$V$216,COLUMNS('Section 2'!$E$13:V$14),0)),\"\",VLOOKUP($A143,'Section 2'!$E$17:$V$216,COLUMNS('Section 2'!$E$13:V$14),0)))","v":""}]
[143,"",{"$f":"IFERROR(VLOOKUP($A144,'Section 2'!$E$17:$V$216,COLUMNS('Section 2'!$E$13:E$14),0),\"\")","v":""},{"$f":"IF($C144=\"\",\"\",IF(ISBLANK(VLOOKUP($A144,'Section 2'!$E$17:$V$216,COLUMNS('Section 2'!$E$13:F$14),0)),\"\",VLOOKUP($A144,'Section 2'!$E$17:$V$216,COLUMNS('Section 2'!$E$13:F$14),0)))","v":""},{"$f":"IF($C144=\"\",\"\",IF(ISBLANK(VLOOKUP($A144,'Section 2'!$E$17:$V$216,COLUMNS('Section 2'!$E$13:G$14),0)),\"\",VLOOKUP($A144,'Section 2'!$E$17:$V$216,COLUMNS('Section 2'!$E$13:G$14),0)))","v":""},{"$f":"IF($C144=\"\",\"\",IF(ISBLANK(VLOOKUP($A144,'Section 2'!$E$17:$V$216,COLUMNS('Section 2'!$E$13:H$14),0)),\"\",VLOOKUP($A144,'Section 2'!$E$17:$V$216,COLUMNS('Section 2'!$E$13:H$14),0)))","v":""},{"$f":"IF($C144=\"\",\"\",IF(ISBLANK(VLOOKUP($A144,'Section 2'!$E$17:$V$216,COLUMNS('Section 2'!$E$13:I$14),0)),\"\",VLOOKUP($A144,'Section 2'!$E$17:$V$216,COLUMNS('Section 2'!$E$13:I$14),0)))","v":""},{"$f":"IF($C144=\"\",\"\",IF(ISBLANK(VLOOKUP($A144,'Section 2'!$E$17:$V$216,COLUMNS('Section 2'!$E$13:J$14),0)),\"\",VLOOKUP($A144,'Section 2'!$E$17:$V$216,COLUMNS('Section 2'!$E$13:J$14),0)))","v":""},{"$f":"IF($C144=\"\",\"\",IF(ISBLANK(VLOOKUP($A144,'Section 2'!$E$17:$V$216,COLUMNS('Section 2'!$E$13:K$14),0)),\"\",VLOOKUP($A144,'Section 2'!$E$17:$V$216,COLUMNS('Section 2'!$E$13:K$14),0)))","v":""},{"$f":"IF($C144=\"\",\"\",IF(ISBLANK(VLOOKUP($A144,'Section 2'!$E$17:$V$216,COLUMNS('Section 2'!$E$13:L$14),0)),\"\",VLOOKUP($A144,'Section 2'!$E$17:$V$216,COLUMNS('Section 2'!$E$13:L$14),0)))","v":""},{"$f":"IF($C144=\"\",\"\",IF(ISBLANK(VLOOKUP($A144,'Section 2'!$E$17:$V$216,COLUMNS('Section 2'!$E$13:M$14),0)),\"\",VLOOKUP($A144,'Section 2'!$E$17:$V$216,COLUMNS('Section 2'!$E$13:M$14),0)))","v":""},{"$f":"IF($C144=\"\",\"\",IF(ISBLANK(VLOOKUP($A144,'Section 2'!$E$17:$V$216,COLUMNS('Section 2'!$E$13:N$14),0)),\"\",VLOOKUP($A144,'Section 2'!$E$17:$V$216,COLUMNS('Section 2'!$E$13:N$14),0)))","v":""},{"$f":"IF($C144=\"\",\"\",IF(ISBLANK(VLOOKUP($A144,'Section 2'!$E$17:$V$216,COLUMNS('Section 2'!$E$13:O$14),0)),\"\",VLOOKUP($A144,'Section 2'!$E$17:$V$216,COLUMNS('Section 2'!$E$13:O$14),0)))","v":""},{"$f":"IF($C144=\"\",\"\",IF(ISBLANK(VLOOKUP($A144,'Section 2'!$E$17:$V$216,COLUMNS('Section 2'!$E$13:P$14),0)),\"\",VLOOKUP($A144,'Section 2'!$E$17:$V$216,COLUMNS('Section 2'!$E$13:P$14),0)))","v":""},{"$f":"IF($C144=\"\",\"\",IF(ISBLANK(VLOOKUP($A144,'Section 2'!$E$17:$V$216,COLUMNS('Section 2'!$E$13:Q$14),0)),\"\",VLOOKUP($A144,'Section 2'!$E$17:$V$216,COLUMNS('Section 2'!$E$13:Q$14),0)))","v":""},{"$f":"IF($C144=\"\",\"\",IF(ISBLANK(VLOOKUP($A144,'Section 2'!$E$17:$V$216,COLUMNS('Section 2'!$E$13:R$14),0)),\"\",VLOOKUP($A144,'Section 2'!$E$17:$V$216,COLUMNS('Section 2'!$E$13:R$14),0)))","v":""},{"$f":"IF($C144=\"\",\"\",IF(ISBLANK(VLOOKUP($A144,'Section 2'!$E$17:$V$216,COLUMNS('Section 2'!$E$13:S$14),0)),\"\",VLOOKUP($A144,'Section 2'!$E$17:$V$216,COLUMNS('Section 2'!$E$13:S$14),0)))","v":""},{"$f":"IF($C144=\"\",\"\",IF(ISBLANK(VLOOKUP($A144,'Section 2'!$E$17:$V$216,COLUMNS('Section 2'!$E$13:T$14),0)),\"\",VLOOKUP($A144,'Section 2'!$E$17:$V$216,COLUMNS('Section 2'!$E$13:T$14),0)))","v":""},{"$f":"IF($C144=\"\",\"\",IF(ISBLANK(VLOOKUP($A144,'Section 2'!$E$17:$V$216,COLUMNS('Section 2'!$E$13:U$14),0)),\"\",VLOOKUP($A144,'Section 2'!$E$17:$V$216,COLUMNS('Section 2'!$E$13:U$14),0)))","v":""},{"$f":"IF($C144=\"\",\"\",IF(ISBLANK(VLOOKUP($A144,'Section 2'!$E$17:$V$216,COLUMNS('Section 2'!$E$13:V$14),0)),\"\",VLOOKUP($A144,'Section 2'!$E$17:$V$216,COLUMNS('Section 2'!$E$13:V$14),0)))","v":""}]
[144,"",{"$f":"IFERROR(VLOOKUP($A145,'Section 2'!$E$17:$V$216,COLUMNS('Section 2'!$E$13:E$14),0),\"\")","v":""},{"$f":"IF($C145=\"\",\"\",IF(ISBLANK(VLOOKUP($A145,'Section 2'!$E$17:$V$216,COLUMNS('Section 2'!$E$13:F$14),0)),\"\",VLOOKUP($A145,'Section 2'!$E$17:$V$216,COLUMNS('Section 2'!$E$13:F$14),0)))","v":""},{"$f":"IF($C145=\"\",\"\",IF(ISBLANK(VLOOKUP($A145,'Section 2'!$E$17:$V$216,COLUMNS('Section 2'!$E$13:G$14),0)),\"\",VLOOKUP($A145,'Section 2'!$E$17:$V$216,COLUMNS('Section 2'!$E$13:G$14),0)))","v":""},{"$f":"IF($C145=\"\",\"\",IF(ISBLANK(VLOOKUP($A145,'Section 2'!$E$17:$V$216,COLUMNS('Section 2'!$E$13:H$14),0)),\"\",VLOOKUP($A145,'Section 2'!$E$17:$V$216,COLUMNS('Section 2'!$E$13:H$14),0)))","v":""},{"$f":"IF($C145=\"\",\"\",IF(ISBLANK(VLOOKUP($A145,'Section 2'!$E$17:$V$216,COLUMNS('Section 2'!$E$13:I$14),0)),\"\",VLOOKUP($A145,'Section 2'!$E$17:$V$216,COLUMNS('Section 2'!$E$13:I$14),0)))","v":""},{"$f":"IF($C145=\"\",\"\",IF(ISBLANK(VLOOKUP($A145,'Section 2'!$E$17:$V$216,COLUMNS('Section 2'!$E$13:J$14),0)),\"\",VLOOKUP($A145,'Section 2'!$E$17:$V$216,COLUMNS('Section 2'!$E$13:J$14),0)))","v":""},{"$f":"IF($C145=\"\",\"\",IF(ISBLANK(VLOOKUP($A145,'Section 2'!$E$17:$V$216,COLUMNS('Section 2'!$E$13:K$14),0)),\"\",VLOOKUP($A145,'Section 2'!$E$17:$V$216,COLUMNS('Section 2'!$E$13:K$14),0)))","v":""},{"$f":"IF($C145=\"\",\"\",IF(ISBLANK(VLOOKUP($A145,'Section 2'!$E$17:$V$216,COLUMNS('Section 2'!$E$13:L$14),0)),\"\",VLOOKUP($A145,'Section 2'!$E$17:$V$216,COLUMNS('Section 2'!$E$13:L$14),0)))","v":""},{"$f":"IF($C145=\"\",\"\",IF(ISBLANK(VLOOKUP($A145,'Section 2'!$E$17:$V$216,COLUMNS('Section 2'!$E$13:M$14),0)),\"\",VLOOKUP($A145,'Section 2'!$E$17:$V$216,COLUMNS('Section 2'!$E$13:M$14),0)))","v":""},{"$f":"IF($C145=\"\",\"\",IF(ISBLANK(VLOOKUP($A145,'Section 2'!$E$17:$V$216,COLUMNS('Section 2'!$E$13:N$14),0)),\"\",VLOOKUP($A145,'Section 2'!$E$17:$V$216,COLUMNS('Section 2'!$E$13:N$14),0)))","v":""},{"$f":"IF($C145=\"\",\"\",IF(ISBLANK(VLOOKUP($A145,'Section 2'!$E$17:$V$216,COLUMNS('Section 2'!$E$13:O$14),0)),\"\",VLOOKUP($A145,'Section 2'!$E$17:$V$216,COLUMNS('Section 2'!$E$13:O$14),0)))","v":""},{"$f":"IF($C145=\"\",\"\",IF(ISBLANK(VLOOKUP($A145,'Section 2'!$E$17:$V$216,COLUMNS('Section 2'!$E$13:P$14),0)),\"\",VLOOKUP($A145,'Section 2'!$E$17:$V$216,COLUMNS('Section 2'!$E$13:P$14),0)))","v":""},{"$f":"IF($C145=\"\",\"\",IF(ISBLANK(VLOOKUP($A145,'Section 2'!$E$17:$V$216,COLUMNS('Section 2'!$E$13:Q$14),0)),\"\",VLOOKUP($A145,'Section 2'!$E$17:$V$216,COLUMNS('Section 2'!$E$13:Q$14),0)))","v":""},{"$f":"IF($C145=\"\",\"\",IF(ISBLANK(VLOOKUP($A145,'Section 2'!$E$17:$V$216,COLUMNS('Section 2'!$E$13:R$14),0)),\"\",VLOOKUP($A145,'Section 2'!$E$17:$V$216,COLUMNS('Section 2'!$E$13:R$14),0)))","v":""},{"$f":"IF($C145=\"\",\"\",IF(ISBLANK(VLOOKUP($A145,'Section 2'!$E$17:$V$216,COLUMNS('Section 2'!$E$13:S$14),0)),\"\",VLOOKUP($A145,'Section 2'!$E$17:$V$216,COLUMNS('Section 2'!$E$13:S$14),0)))","v":""},{"$f":"IF($C145=\"\",\"\",IF(ISBLANK(VLOOKUP($A145,'Section 2'!$E$17:$V$216,COLUMNS('Section 2'!$E$13:T$14),0)),\"\",VLOOKUP($A145,'Section 2'!$E$17:$V$216,COLUMNS('Section 2'!$E$13:T$14),0)))","v":""},{"$f":"IF($C145=\"\",\"\",IF(ISBLANK(VLOOKUP($A145,'Section 2'!$E$17:$V$216,COLUMNS('Section 2'!$E$13:U$14),0)),\"\",VLOOKUP($A145,'Section 2'!$E$17:$V$216,COLUMNS('Section 2'!$E$13:U$14),0)))","v":""},{"$f":"IF($C145=\"\",\"\",IF(ISBLANK(VLOOKUP($A145,'Section 2'!$E$17:$V$216,COLUMNS('Section 2'!$E$13:V$14),0)),\"\",VLOOKUP($A145,'Section 2'!$E$17:$V$216,COLUMNS('Section 2'!$E$13:V$14),0)))","v":""}]
[145,"",{"$f":"IFERROR(VLOOKUP($A146,'Section 2'!$E$17:$V$216,COLUMNS('Section 2'!$E$13:E$14),0),\"\")","v":""},{"$f":"IF($C146=\"\",\"\",IF(ISBLANK(VLOOKUP($A146,'Section 2'!$E$17:$V$216,COLUMNS('Section 2'!$E$13:F$14),0)),\"\",VLOOKUP($A146,'Section 2'!$E$17:$V$216,COLUMNS('Section 2'!$E$13:F$14),0)))","v":""},{"$f":"IF($C146=\"\",\"\",IF(ISBLANK(VLOOKUP($A146,'Section 2'!$E$17:$V$216,COLUMNS('Section 2'!$E$13:G$14),0)),\"\",VLOOKUP($A146,'Section 2'!$E$17:$V$216,COLUMNS('Section 2'!$E$13:G$14),0)))","v":""},{"$f":"IF($C146=\"\",\"\",IF(ISBLANK(VLOOKUP($A146,'Section 2'!$E$17:$V$216,COLUMNS('Section 2'!$E$13:H$14),0)),\"\",VLOOKUP($A146,'Section 2'!$E$17:$V$216,COLUMNS('Section 2'!$E$13:H$14),0)))","v":""},{"$f":"IF($C146=\"\",\"\",IF(ISBLANK(VLOOKUP($A146,'Section 2'!$E$17:$V$216,COLUMNS('Section 2'!$E$13:I$14),0)),\"\",VLOOKUP($A146,'Section 2'!$E$17:$V$216,COLUMNS('Section 2'!$E$13:I$14),0)))","v":""},{"$f":"IF($C146=\"\",\"\",IF(ISBLANK(VLOOKUP($A146,'Section 2'!$E$17:$V$216,COLUMNS('Section 2'!$E$13:J$14),0)),\"\",VLOOKUP($A146,'Section 2'!$E$17:$V$216,COLUMNS('Section 2'!$E$13:J$14),0)))","v":""},{"$f":"IF($C146=\"\",\"\",IF(ISBLANK(VLOOKUP($A146,'Section 2'!$E$17:$V$216,COLUMNS('Section 2'!$E$13:K$14),0)),\"\",VLOOKUP($A146,'Section 2'!$E$17:$V$216,COLUMNS('Section 2'!$E$13:K$14),0)))","v":""},{"$f":"IF($C146=\"\",\"\",IF(ISBLANK(VLOOKUP($A146,'Section 2'!$E$17:$V$216,COLUMNS('Section 2'!$E$13:L$14),0)),\"\",VLOOKUP($A146,'Section 2'!$E$17:$V$216,COLUMNS('Section 2'!$E$13:L$14),0)))","v":""},{"$f":"IF($C146=\"\",\"\",IF(ISBLANK(VLOOKUP($A146,'Section 2'!$E$17:$V$216,COLUMNS('Section 2'!$E$13:M$14),0)),\"\",VLOOKUP($A146,'Section 2'!$E$17:$V$216,COLUMNS('Section 2'!$E$13:M$14),0)))","v":""},{"$f":"IF($C146=\"\",\"\",IF(ISBLANK(VLOOKUP($A146,'Section 2'!$E$17:$V$216,COLUMNS('Section 2'!$E$13:N$14),0)),\"\",VLOOKUP($A146,'Section 2'!$E$17:$V$216,COLUMNS('Section 2'!$E$13:N$14),0)))","v":""},{"$f":"IF($C146=\"\",\"\",IF(ISBLANK(VLOOKUP($A146,'Section 2'!$E$17:$V$216,COLUMNS('Section 2'!$E$13:O$14),0)),\"\",VLOOKUP($A146,'Section 2'!$E$17:$V$216,COLUMNS('Section 2'!$E$13:O$14),0)))","v":""},{"$f":"IF($C146=\"\",\"\",IF(ISBLANK(VLOOKUP($A146,'Section 2'!$E$17:$V$216,COLUMNS('Section 2'!$E$13:P$14),0)),\"\",VLOOKUP($A146,'Section 2'!$E$17:$V$216,COLUMNS('Section 2'!$E$13:P$14),0)))","v":""},{"$f":"IF($C146=\"\",\"\",IF(ISBLANK(VLOOKUP($A146,'Section 2'!$E$17:$V$216,COLUMNS('Section 2'!$E$13:Q$14),0)),\"\",VLOOKUP($A146,'Section 2'!$E$17:$V$216,COLUMNS('Section 2'!$E$13:Q$14),0)))","v":""},{"$f":"IF($C146=\"\",\"\",IF(ISBLANK(VLOOKUP($A146,'Section 2'!$E$17:$V$216,COLUMNS('Section 2'!$E$13:R$14),0)),\"\",VLOOKUP($A146,'Section 2'!$E$17:$V$216,COLUMNS('Section 2'!$E$13:R$14),0)))","v":""},{"$f":"IF($C146=\"\",\"\",IF(ISBLANK(VLOOKUP($A146,'Section 2'!$E$17:$V$216,COLUMNS('Section 2'!$E$13:S$14),0)),\"\",VLOOKUP($A146,'Section 2'!$E$17:$V$216,COLUMNS('Section 2'!$E$13:S$14),0)))","v":""},{"$f":"IF($C146=\"\",\"\",IF(ISBLANK(VLOOKUP($A146,'Section 2'!$E$17:$V$216,COLUMNS('Section 2'!$E$13:T$14),0)),\"\",VLOOKUP($A146,'Section 2'!$E$17:$V$216,COLUMNS('Section 2'!$E$13:T$14),0)))","v":""},{"$f":"IF($C146=\"\",\"\",IF(ISBLANK(VLOOKUP($A146,'Section 2'!$E$17:$V$216,COLUMNS('Section 2'!$E$13:U$14),0)),\"\",VLOOKUP($A146,'Section 2'!$E$17:$V$216,COLUMNS('Section 2'!$E$13:U$14),0)))","v":""},{"$f":"IF($C146=\"\",\"\",IF(ISBLANK(VLOOKUP($A146,'Section 2'!$E$17:$V$216,COLUMNS('Section 2'!$E$13:V$14),0)),\"\",VLOOKUP($A146,'Section 2'!$E$17:$V$216,COLUMNS('Section 2'!$E$13:V$14),0)))","v":""}]
[146,"",{"$f":"IFERROR(VLOOKUP($A147,'Section 2'!$E$17:$V$216,COLUMNS('Section 2'!$E$13:E$14),0),\"\")","v":""},{"$f":"IF($C147=\"\",\"\",IF(ISBLANK(VLOOKUP($A147,'Section 2'!$E$17:$V$216,COLUMNS('Section 2'!$E$13:F$14),0)),\"\",VLOOKUP($A147,'Section 2'!$E$17:$V$216,COLUMNS('Section 2'!$E$13:F$14),0)))","v":""},{"$f":"IF($C147=\"\",\"\",IF(ISBLANK(VLOOKUP($A147,'Section 2'!$E$17:$V$216,COLUMNS('Section 2'!$E$13:G$14),0)),\"\",VLOOKUP($A147,'Section 2'!$E$17:$V$216,COLUMNS('Section 2'!$E$13:G$14),0)))","v":""},{"$f":"IF($C147=\"\",\"\",IF(ISBLANK(VLOOKUP($A147,'Section 2'!$E$17:$V$216,COLUMNS('Section 2'!$E$13:H$14),0)),\"\",VLOOKUP($A147,'Section 2'!$E$17:$V$216,COLUMNS('Section 2'!$E$13:H$14),0)))","v":""},{"$f":"IF($C147=\"\",\"\",IF(ISBLANK(VLOOKUP($A147,'Section 2'!$E$17:$V$216,COLUMNS('Section 2'!$E$13:I$14),0)),\"\",VLOOKUP($A147,'Section 2'!$E$17:$V$216,COLUMNS('Section 2'!$E$13:I$14),0)))","v":""},{"$f":"IF($C147=\"\",\"\",IF(ISBLANK(VLOOKUP($A147,'Section 2'!$E$17:$V$216,COLUMNS('Section 2'!$E$13:J$14),0)),\"\",VLOOKUP($A147,'Section 2'!$E$17:$V$216,COLUMNS('Section 2'!$E$13:J$14),0)))","v":""},{"$f":"IF($C147=\"\",\"\",IF(ISBLANK(VLOOKUP($A147,'Section 2'!$E$17:$V$216,COLUMNS('Section 2'!$E$13:K$14),0)),\"\",VLOOKUP($A147,'Section 2'!$E$17:$V$216,COLUMNS('Section 2'!$E$13:K$14),0)))","v":""},{"$f":"IF($C147=\"\",\"\",IF(ISBLANK(VLOOKUP($A147,'Section 2'!$E$17:$V$216,COLUMNS('Section 2'!$E$13:L$14),0)),\"\",VLOOKUP($A147,'Section 2'!$E$17:$V$216,COLUMNS('Section 2'!$E$13:L$14),0)))","v":""},{"$f":"IF($C147=\"\",\"\",IF(ISBLANK(VLOOKUP($A147,'Section 2'!$E$17:$V$216,COLUMNS('Section 2'!$E$13:M$14),0)),\"\",VLOOKUP($A147,'Section 2'!$E$17:$V$216,COLUMNS('Section 2'!$E$13:M$14),0)))","v":""},{"$f":"IF($C147=\"\",\"\",IF(ISBLANK(VLOOKUP($A147,'Section 2'!$E$17:$V$216,COLUMNS('Section 2'!$E$13:N$14),0)),\"\",VLOOKUP($A147,'Section 2'!$E$17:$V$216,COLUMNS('Section 2'!$E$13:N$14),0)))","v":""},{"$f":"IF($C147=\"\",\"\",IF(ISBLANK(VLOOKUP($A147,'Section 2'!$E$17:$V$216,COLUMNS('Section 2'!$E$13:O$14),0)),\"\",VLOOKUP($A147,'Section 2'!$E$17:$V$216,COLUMNS('Section 2'!$E$13:O$14),0)))","v":""},{"$f":"IF($C147=\"\",\"\",IF(ISBLANK(VLOOKUP($A147,'Section 2'!$E$17:$V$216,COLUMNS('Section 2'!$E$13:P$14),0)),\"\",VLOOKUP($A147,'Section 2'!$E$17:$V$216,COLUMNS('Section 2'!$E$13:P$14),0)))","v":""},{"$f":"IF($C147=\"\",\"\",IF(ISBLANK(VLOOKUP($A147,'Section 2'!$E$17:$V$216,COLUMNS('Section 2'!$E$13:Q$14),0)),\"\",VLOOKUP($A147,'Section 2'!$E$17:$V$216,COLUMNS('Section 2'!$E$13:Q$14),0)))","v":""},{"$f":"IF($C147=\"\",\"\",IF(ISBLANK(VLOOKUP($A147,'Section 2'!$E$17:$V$216,COLUMNS('Section 2'!$E$13:R$14),0)),\"\",VLOOKUP($A147,'Section 2'!$E$17:$V$216,COLUMNS('Section 2'!$E$13:R$14),0)))","v":""},{"$f":"IF($C147=\"\",\"\",IF(ISBLANK(VLOOKUP($A147,'Section 2'!$E$17:$V$216,COLUMNS('Section 2'!$E$13:S$14),0)),\"\",VLOOKUP($A147,'Section 2'!$E$17:$V$216,COLUMNS('Section 2'!$E$13:S$14),0)))","v":""},{"$f":"IF($C147=\"\",\"\",IF(ISBLANK(VLOOKUP($A147,'Section 2'!$E$17:$V$216,COLUMNS('Section 2'!$E$13:T$14),0)),\"\",VLOOKUP($A147,'Section 2'!$E$17:$V$216,COLUMNS('Section 2'!$E$13:T$14),0)))","v":""},{"$f":"IF($C147=\"\",\"\",IF(ISBLANK(VLOOKUP($A147,'Section 2'!$E$17:$V$216,COLUMNS('Section 2'!$E$13:U$14),0)),\"\",VLOOKUP($A147,'Section 2'!$E$17:$V$216,COLUMNS('Section 2'!$E$13:U$14),0)))","v":""},{"$f":"IF($C147=\"\",\"\",IF(ISBLANK(VLOOKUP($A147,'Section 2'!$E$17:$V$216,COLUMNS('Section 2'!$E$13:V$14),0)),\"\",VLOOKUP($A147,'Section 2'!$E$17:$V$216,COLUMNS('Section 2'!$E$13:V$14),0)))","v":""}]
[147,"",{"$f":"IFERROR(VLOOKUP($A148,'Section 2'!$E$17:$V$216,COLUMNS('Section 2'!$E$13:E$14),0),\"\")","v":""},{"$f":"IF($C148=\"\",\"\",IF(ISBLANK(VLOOKUP($A148,'Section 2'!$E$17:$V$216,COLUMNS('Section 2'!$E$13:F$14),0)),\"\",VLOOKUP($A148,'Section 2'!$E$17:$V$216,COLUMNS('Section 2'!$E$13:F$14),0)))","v":""},{"$f":"IF($C148=\"\",\"\",IF(ISBLANK(VLOOKUP($A148,'Section 2'!$E$17:$V$216,COLUMNS('Section 2'!$E$13:G$14),0)),\"\",VLOOKUP($A148,'Section 2'!$E$17:$V$216,COLUMNS('Section 2'!$E$13:G$14),0)))","v":""},{"$f":"IF($C148=\"\",\"\",IF(ISBLANK(VLOOKUP($A148,'Section 2'!$E$17:$V$216,COLUMNS('Section 2'!$E$13:H$14),0)),\"\",VLOOKUP($A148,'Section 2'!$E$17:$V$216,COLUMNS('Section 2'!$E$13:H$14),0)))","v":""},{"$f":"IF($C148=\"\",\"\",IF(ISBLANK(VLOOKUP($A148,'Section 2'!$E$17:$V$216,COLUMNS('Section 2'!$E$13:I$14),0)),\"\",VLOOKUP($A148,'Section 2'!$E$17:$V$216,COLUMNS('Section 2'!$E$13:I$14),0)))","v":""},{"$f":"IF($C148=\"\",\"\",IF(ISBLANK(VLOOKUP($A148,'Section 2'!$E$17:$V$216,COLUMNS('Section 2'!$E$13:J$14),0)),\"\",VLOOKUP($A148,'Section 2'!$E$17:$V$216,COLUMNS('Section 2'!$E$13:J$14),0)))","v":""},{"$f":"IF($C148=\"\",\"\",IF(ISBLANK(VLOOKUP($A148,'Section 2'!$E$17:$V$216,COLUMNS('Section 2'!$E$13:K$14),0)),\"\",VLOOKUP($A148,'Section 2'!$E$17:$V$216,COLUMNS('Section 2'!$E$13:K$14),0)))","v":""},{"$f":"IF($C148=\"\",\"\",IF(ISBLANK(VLOOKUP($A148,'Section 2'!$E$17:$V$216,COLUMNS('Section 2'!$E$13:L$14),0)),\"\",VLOOKUP($A148,'Section 2'!$E$17:$V$216,COLUMNS('Section 2'!$E$13:L$14),0)))","v":""},{"$f":"IF($C148=\"\",\"\",IF(ISBLANK(VLOOKUP($A148,'Section 2'!$E$17:$V$216,COLUMNS('Section 2'!$E$13:M$14),0)),\"\",VLOOKUP($A148,'Section 2'!$E$17:$V$216,COLUMNS('Section 2'!$E$13:M$14),0)))","v":""},{"$f":"IF($C148=\"\",\"\",IF(ISBLANK(VLOOKUP($A148,'Section 2'!$E$17:$V$216,COLUMNS('Section 2'!$E$13:N$14),0)),\"\",VLOOKUP($A148,'Section 2'!$E$17:$V$216,COLUMNS('Section 2'!$E$13:N$14),0)))","v":""},{"$f":"IF($C148=\"\",\"\",IF(ISBLANK(VLOOKUP($A148,'Section 2'!$E$17:$V$216,COLUMNS('Section 2'!$E$13:O$14),0)),\"\",VLOOKUP($A148,'Section 2'!$E$17:$V$216,COLUMNS('Section 2'!$E$13:O$14),0)))","v":""},{"$f":"IF($C148=\"\",\"\",IF(ISBLANK(VLOOKUP($A148,'Section 2'!$E$17:$V$216,COLUMNS('Section 2'!$E$13:P$14),0)),\"\",VLOOKUP($A148,'Section 2'!$E$17:$V$216,COLUMNS('Section 2'!$E$13:P$14),0)))","v":""},{"$f":"IF($C148=\"\",\"\",IF(ISBLANK(VLOOKUP($A148,'Section 2'!$E$17:$V$216,COLUMNS('Section 2'!$E$13:Q$14),0)),\"\",VLOOKUP($A148,'Section 2'!$E$17:$V$216,COLUMNS('Section 2'!$E$13:Q$14),0)))","v":""},{"$f":"IF($C148=\"\",\"\",IF(ISBLANK(VLOOKUP($A148,'Section 2'!$E$17:$V$216,COLUMNS('Section 2'!$E$13:R$14),0)),\"\",VLOOKUP($A148,'Section 2'!$E$17:$V$216,COLUMNS('Section 2'!$E$13:R$14),0)))","v":""},{"$f":"IF($C148=\"\",\"\",IF(ISBLANK(VLOOKUP($A148,'Section 2'!$E$17:$V$216,COLUMNS('Section 2'!$E$13:S$14),0)),\"\",VLOOKUP($A148,'Section 2'!$E$17:$V$216,COLUMNS('Section 2'!$E$13:S$14),0)))","v":""},{"$f":"IF($C148=\"\",\"\",IF(ISBLANK(VLOOKUP($A148,'Section 2'!$E$17:$V$216,COLUMNS('Section 2'!$E$13:T$14),0)),\"\",VLOOKUP($A148,'Section 2'!$E$17:$V$216,COLUMNS('Section 2'!$E$13:T$14),0)))","v":""},{"$f":"IF($C148=\"\",\"\",IF(ISBLANK(VLOOKUP($A148,'Section 2'!$E$17:$V$216,COLUMNS('Section 2'!$E$13:U$14),0)),\"\",VLOOKUP($A148,'Section 2'!$E$17:$V$216,COLUMNS('Section 2'!$E$13:U$14),0)))","v":""},{"$f":"IF($C148=\"\",\"\",IF(ISBLANK(VLOOKUP($A148,'Section 2'!$E$17:$V$216,COLUMNS('Section 2'!$E$13:V$14),0)),\"\",VLOOKUP($A148,'Section 2'!$E$17:$V$216,COLUMNS('Section 2'!$E$13:V$14),0)))","v":""}]
[148,"",{"$f":"IFERROR(VLOOKUP($A149,'Section 2'!$E$17:$V$216,COLUMNS('Section 2'!$E$13:E$14),0),\"\")","v":""},{"$f":"IF($C149=\"\",\"\",IF(ISBLANK(VLOOKUP($A149,'Section 2'!$E$17:$V$216,COLUMNS('Section 2'!$E$13:F$14),0)),\"\",VLOOKUP($A149,'Section 2'!$E$17:$V$216,COLUMNS('Section 2'!$E$13:F$14),0)))","v":""},{"$f":"IF($C149=\"\",\"\",IF(ISBLANK(VLOOKUP($A149,'Section 2'!$E$17:$V$216,COLUMNS('Section 2'!$E$13:G$14),0)),\"\",VLOOKUP($A149,'Section 2'!$E$17:$V$216,COLUMNS('Section 2'!$E$13:G$14),0)))","v":""},{"$f":"IF($C149=\"\",\"\",IF(ISBLANK(VLOOKUP($A149,'Section 2'!$E$17:$V$216,COLUMNS('Section 2'!$E$13:H$14),0)),\"\",VLOOKUP($A149,'Section 2'!$E$17:$V$216,COLUMNS('Section 2'!$E$13:H$14),0)))","v":""},{"$f":"IF($C149=\"\",\"\",IF(ISBLANK(VLOOKUP($A149,'Section 2'!$E$17:$V$216,COLUMNS('Section 2'!$E$13:I$14),0)),\"\",VLOOKUP($A149,'Section 2'!$E$17:$V$216,COLUMNS('Section 2'!$E$13:I$14),0)))","v":""},{"$f":"IF($C149=\"\",\"\",IF(ISBLANK(VLOOKUP($A149,'Section 2'!$E$17:$V$216,COLUMNS('Section 2'!$E$13:J$14),0)),\"\",VLOOKUP($A149,'Section 2'!$E$17:$V$216,COLUMNS('Section 2'!$E$13:J$14),0)))","v":""},{"$f":"IF($C149=\"\",\"\",IF(ISBLANK(VLOOKUP($A149,'Section 2'!$E$17:$V$216,COLUMNS('Section 2'!$E$13:K$14),0)),\"\",VLOOKUP($A149,'Section 2'!$E$17:$V$216,COLUMNS('Section 2'!$E$13:K$14),0)))","v":""},{"$f":"IF($C149=\"\",\"\",IF(ISBLANK(VLOOKUP($A149,'Section 2'!$E$17:$V$216,COLUMNS('Section 2'!$E$13:L$14),0)),\"\",VLOOKUP($A149,'Section 2'!$E$17:$V$216,COLUMNS('Section 2'!$E$13:L$14),0)))","v":""},{"$f":"IF($C149=\"\",\"\",IF(ISBLANK(VLOOKUP($A149,'Section 2'!$E$17:$V$216,COLUMNS('Section 2'!$E$13:M$14),0)),\"\",VLOOKUP($A149,'Section 2'!$E$17:$V$216,COLUMNS('Section 2'!$E$13:M$14),0)))","v":""},{"$f":"IF($C149=\"\",\"\",IF(ISBLANK(VLOOKUP($A149,'Section 2'!$E$17:$V$216,COLUMNS('Section 2'!$E$13:N$14),0)),\"\",VLOOKUP($A149,'Section 2'!$E$17:$V$216,COLUMNS('Section 2'!$E$13:N$14),0)))","v":""},{"$f":"IF($C149=\"\",\"\",IF(ISBLANK(VLOOKUP($A149,'Section 2'!$E$17:$V$216,COLUMNS('Section 2'!$E$13:O$14),0)),\"\",VLOOKUP($A149,'Section 2'!$E$17:$V$216,COLUMNS('Section 2'!$E$13:O$14),0)))","v":""},{"$f":"IF($C149=\"\",\"\",IF(ISBLANK(VLOOKUP($A149,'Section 2'!$E$17:$V$216,COLUMNS('Section 2'!$E$13:P$14),0)),\"\",VLOOKUP($A149,'Section 2'!$E$17:$V$216,COLUMNS('Section 2'!$E$13:P$14),0)))","v":""},{"$f":"IF($C149=\"\",\"\",IF(ISBLANK(VLOOKUP($A149,'Section 2'!$E$17:$V$216,COLUMNS('Section 2'!$E$13:Q$14),0)),\"\",VLOOKUP($A149,'Section 2'!$E$17:$V$216,COLUMNS('Section 2'!$E$13:Q$14),0)))","v":""},{"$f":"IF($C149=\"\",\"\",IF(ISBLANK(VLOOKUP($A149,'Section 2'!$E$17:$V$216,COLUMNS('Section 2'!$E$13:R$14),0)),\"\",VLOOKUP($A149,'Section 2'!$E$17:$V$216,COLUMNS('Section 2'!$E$13:R$14),0)))","v":""},{"$f":"IF($C149=\"\",\"\",IF(ISBLANK(VLOOKUP($A149,'Section 2'!$E$17:$V$216,COLUMNS('Section 2'!$E$13:S$14),0)),\"\",VLOOKUP($A149,'Section 2'!$E$17:$V$216,COLUMNS('Section 2'!$E$13:S$14),0)))","v":""},{"$f":"IF($C149=\"\",\"\",IF(ISBLANK(VLOOKUP($A149,'Section 2'!$E$17:$V$216,COLUMNS('Section 2'!$E$13:T$14),0)),\"\",VLOOKUP($A149,'Section 2'!$E$17:$V$216,COLUMNS('Section 2'!$E$13:T$14),0)))","v":""},{"$f":"IF($C149=\"\",\"\",IF(ISBLANK(VLOOKUP($A149,'Section 2'!$E$17:$V$216,COLUMNS('Section 2'!$E$13:U$14),0)),\"\",VLOOKUP($A149,'Section 2'!$E$17:$V$216,COLUMNS('Section 2'!$E$13:U$14),0)))","v":""},{"$f":"IF($C149=\"\",\"\",IF(ISBLANK(VLOOKUP($A149,'Section 2'!$E$17:$V$216,COLUMNS('Section 2'!$E$13:V$14),0)),\"\",VLOOKUP($A149,'Section 2'!$E$17:$V$216,COLUMNS('Section 2'!$E$13:V$14),0)))","v":""}]
[149,"",{"$f":"IFERROR(VLOOKUP($A150,'Section 2'!$E$17:$V$216,COLUMNS('Section 2'!$E$13:E$14),0),\"\")","v":""},{"$f":"IF($C150=\"\",\"\",IF(ISBLANK(VLOOKUP($A150,'Section 2'!$E$17:$V$216,COLUMNS('Section 2'!$E$13:F$14),0)),\"\",VLOOKUP($A150,'Section 2'!$E$17:$V$216,COLUMNS('Section 2'!$E$13:F$14),0)))","v":""},{"$f":"IF($C150=\"\",\"\",IF(ISBLANK(VLOOKUP($A150,'Section 2'!$E$17:$V$216,COLUMNS('Section 2'!$E$13:G$14),0)),\"\",VLOOKUP($A150,'Section 2'!$E$17:$V$216,COLUMNS('Section 2'!$E$13:G$14),0)))","v":""},{"$f":"IF($C150=\"\",\"\",IF(ISBLANK(VLOOKUP($A150,'Section 2'!$E$17:$V$216,COLUMNS('Section 2'!$E$13:H$14),0)),\"\",VLOOKUP($A150,'Section 2'!$E$17:$V$216,COLUMNS('Section 2'!$E$13:H$14),0)))","v":""},{"$f":"IF($C150=\"\",\"\",IF(ISBLANK(VLOOKUP($A150,'Section 2'!$E$17:$V$216,COLUMNS('Section 2'!$E$13:I$14),0)),\"\",VLOOKUP($A150,'Section 2'!$E$17:$V$216,COLUMNS('Section 2'!$E$13:I$14),0)))","v":""},{"$f":"IF($C150=\"\",\"\",IF(ISBLANK(VLOOKUP($A150,'Section 2'!$E$17:$V$216,COLUMNS('Section 2'!$E$13:J$14),0)),\"\",VLOOKUP($A150,'Section 2'!$E$17:$V$216,COLUMNS('Section 2'!$E$13:J$14),0)))","v":""},{"$f":"IF($C150=\"\",\"\",IF(ISBLANK(VLOOKUP($A150,'Section 2'!$E$17:$V$216,COLUMNS('Section 2'!$E$13:K$14),0)),\"\",VLOOKUP($A150,'Section 2'!$E$17:$V$216,COLUMNS('Section 2'!$E$13:K$14),0)))","v":""},{"$f":"IF($C150=\"\",\"\",IF(ISBLANK(VLOOKUP($A150,'Section 2'!$E$17:$V$216,COLUMNS('Section 2'!$E$13:L$14),0)),\"\",VLOOKUP($A150,'Section 2'!$E$17:$V$216,COLUMNS('Section 2'!$E$13:L$14),0)))","v":""},{"$f":"IF($C150=\"\",\"\",IF(ISBLANK(VLOOKUP($A150,'Section 2'!$E$17:$V$216,COLUMNS('Section 2'!$E$13:M$14),0)),\"\",VLOOKUP($A150,'Section 2'!$E$17:$V$216,COLUMNS('Section 2'!$E$13:M$14),0)))","v":""},{"$f":"IF($C150=\"\",\"\",IF(ISBLANK(VLOOKUP($A150,'Section 2'!$E$17:$V$216,COLUMNS('Section 2'!$E$13:N$14),0)),\"\",VLOOKUP($A150,'Section 2'!$E$17:$V$216,COLUMNS('Section 2'!$E$13:N$14),0)))","v":""},{"$f":"IF($C150=\"\",\"\",IF(ISBLANK(VLOOKUP($A150,'Section 2'!$E$17:$V$216,COLUMNS('Section 2'!$E$13:O$14),0)),\"\",VLOOKUP($A150,'Section 2'!$E$17:$V$216,COLUMNS('Section 2'!$E$13:O$14),0)))","v":""},{"$f":"IF($C150=\"\",\"\",IF(ISBLANK(VLOOKUP($A150,'Section 2'!$E$17:$V$216,COLUMNS('Section 2'!$E$13:P$14),0)),\"\",VLOOKUP($A150,'Section 2'!$E$17:$V$216,COLUMNS('Section 2'!$E$13:P$14),0)))","v":""},{"$f":"IF($C150=\"\",\"\",IF(ISBLANK(VLOOKUP($A150,'Section 2'!$E$17:$V$216,COLUMNS('Section 2'!$E$13:Q$14),0)),\"\",VLOOKUP($A150,'Section 2'!$E$17:$V$216,COLUMNS('Section 2'!$E$13:Q$14),0)))","v":""},{"$f":"IF($C150=\"\",\"\",IF(ISBLANK(VLOOKUP($A150,'Section 2'!$E$17:$V$216,COLUMNS('Section 2'!$E$13:R$14),0)),\"\",VLOOKUP($A150,'Section 2'!$E$17:$V$216,COLUMNS('Section 2'!$E$13:R$14),0)))","v":""},{"$f":"IF($C150=\"\",\"\",IF(ISBLANK(VLOOKUP($A150,'Section 2'!$E$17:$V$216,COLUMNS('Section 2'!$E$13:S$14),0)),\"\",VLOOKUP($A150,'Section 2'!$E$17:$V$216,COLUMNS('Section 2'!$E$13:S$14),0)))","v":""},{"$f":"IF($C150=\"\",\"\",IF(ISBLANK(VLOOKUP($A150,'Section 2'!$E$17:$V$216,COLUMNS('Section 2'!$E$13:T$14),0)),\"\",VLOOKUP($A150,'Section 2'!$E$17:$V$216,COLUMNS('Section 2'!$E$13:T$14),0)))","v":""},{"$f":"IF($C150=\"\",\"\",IF(ISBLANK(VLOOKUP($A150,'Section 2'!$E$17:$V$216,COLUMNS('Section 2'!$E$13:U$14),0)),\"\",VLOOKUP($A150,'Section 2'!$E$17:$V$216,COLUMNS('Section 2'!$E$13:U$14),0)))","v":""},{"$f":"IF($C150=\"\",\"\",IF(ISBLANK(VLOOKUP($A150,'Section 2'!$E$17:$V$216,COLUMNS('Section 2'!$E$13:V$14),0)),\"\",VLOOKUP($A150,'Section 2'!$E$17:$V$216,COLUMNS('Section 2'!$E$13:V$14),0)))","v":""}]
[150,"",{"$f":"IFERROR(VLOOKUP($A151,'Section 2'!$E$17:$V$216,COLUMNS('Section 2'!$E$13:E$14),0),\"\")","v":""},{"$f":"IF($C151=\"\",\"\",IF(ISBLANK(VLOOKUP($A151,'Section 2'!$E$17:$V$216,COLUMNS('Section 2'!$E$13:F$14),0)),\"\",VLOOKUP($A151,'Section 2'!$E$17:$V$216,COLUMNS('Section 2'!$E$13:F$14),0)))","v":""},{"$f":"IF($C151=\"\",\"\",IF(ISBLANK(VLOOKUP($A151,'Section 2'!$E$17:$V$216,COLUMNS('Section 2'!$E$13:G$14),0)),\"\",VLOOKUP($A151,'Section 2'!$E$17:$V$216,COLUMNS('Section 2'!$E$13:G$14),0)))","v":""},{"$f":"IF($C151=\"\",\"\",IF(ISBLANK(VLOOKUP($A151,'Section 2'!$E$17:$V$216,COLUMNS('Section 2'!$E$13:H$14),0)),\"\",VLOOKUP($A151,'Section 2'!$E$17:$V$216,COLUMNS('Section 2'!$E$13:H$14),0)))","v":""},{"$f":"IF($C151=\"\",\"\",IF(ISBLANK(VLOOKUP($A151,'Section 2'!$E$17:$V$216,COLUMNS('Section 2'!$E$13:I$14),0)),\"\",VLOOKUP($A151,'Section 2'!$E$17:$V$216,COLUMNS('Section 2'!$E$13:I$14),0)))","v":""},{"$f":"IF($C151=\"\",\"\",IF(ISBLANK(VLOOKUP($A151,'Section 2'!$E$17:$V$216,COLUMNS('Section 2'!$E$13:J$14),0)),\"\",VLOOKUP($A151,'Section 2'!$E$17:$V$216,COLUMNS('Section 2'!$E$13:J$14),0)))","v":""},{"$f":"IF($C151=\"\",\"\",IF(ISBLANK(VLOOKUP($A151,'Section 2'!$E$17:$V$216,COLUMNS('Section 2'!$E$13:K$14),0)),\"\",VLOOKUP($A151,'Section 2'!$E$17:$V$216,COLUMNS('Section 2'!$E$13:K$14),0)))","v":""},{"$f":"IF($C151=\"\",\"\",IF(ISBLANK(VLOOKUP($A151,'Section 2'!$E$17:$V$216,COLUMNS('Section 2'!$E$13:L$14),0)),\"\",VLOOKUP($A151,'Section 2'!$E$17:$V$216,COLUMNS('Section 2'!$E$13:L$14),0)))","v":""},{"$f":"IF($C151=\"\",\"\",IF(ISBLANK(VLOOKUP($A151,'Section 2'!$E$17:$V$216,COLUMNS('Section 2'!$E$13:M$14),0)),\"\",VLOOKUP($A151,'Section 2'!$E$17:$V$216,COLUMNS('Section 2'!$E$13:M$14),0)))","v":""},{"$f":"IF($C151=\"\",\"\",IF(ISBLANK(VLOOKUP($A151,'Section 2'!$E$17:$V$216,COLUMNS('Section 2'!$E$13:N$14),0)),\"\",VLOOKUP($A151,'Section 2'!$E$17:$V$216,COLUMNS('Section 2'!$E$13:N$14),0)))","v":""},{"$f":"IF($C151=\"\",\"\",IF(ISBLANK(VLOOKUP($A151,'Section 2'!$E$17:$V$216,COLUMNS('Section 2'!$E$13:O$14),0)),\"\",VLOOKUP($A151,'Section 2'!$E$17:$V$216,COLUMNS('Section 2'!$E$13:O$14),0)))","v":""},{"$f":"IF($C151=\"\",\"\",IF(ISBLANK(VLOOKUP($A151,'Section 2'!$E$17:$V$216,COLUMNS('Section 2'!$E$13:P$14),0)),\"\",VLOOKUP($A151,'Section 2'!$E$17:$V$216,COLUMNS('Section 2'!$E$13:P$14),0)))","v":""},{"$f":"IF($C151=\"\",\"\",IF(ISBLANK(VLOOKUP($A151,'Section 2'!$E$17:$V$216,COLUMNS('Section 2'!$E$13:Q$14),0)),\"\",VLOOKUP($A151,'Section 2'!$E$17:$V$216,COLUMNS('Section 2'!$E$13:Q$14),0)))","v":""},{"$f":"IF($C151=\"\",\"\",IF(ISBLANK(VLOOKUP($A151,'Section 2'!$E$17:$V$216,COLUMNS('Section 2'!$E$13:R$14),0)),\"\",VLOOKUP($A151,'Section 2'!$E$17:$V$216,COLUMNS('Section 2'!$E$13:R$14),0)))","v":""},{"$f":"IF($C151=\"\",\"\",IF(ISBLANK(VLOOKUP($A151,'Section 2'!$E$17:$V$216,COLUMNS('Section 2'!$E$13:S$14),0)),\"\",VLOOKUP($A151,'Section 2'!$E$17:$V$216,COLUMNS('Section 2'!$E$13:S$14),0)))","v":""},{"$f":"IF($C151=\"\",\"\",IF(ISBLANK(VLOOKUP($A151,'Section 2'!$E$17:$V$216,COLUMNS('Section 2'!$E$13:T$14),0)),\"\",VLOOKUP($A151,'Section 2'!$E$17:$V$216,COLUMNS('Section 2'!$E$13:T$14),0)))","v":""},{"$f":"IF($C151=\"\",\"\",IF(ISBLANK(VLOOKUP($A151,'Section 2'!$E$17:$V$216,COLUMNS('Section 2'!$E$13:U$14),0)),\"\",VLOOKUP($A151,'Section 2'!$E$17:$V$216,COLUMNS('Section 2'!$E$13:U$14),0)))","v":""},{"$f":"IF($C151=\"\",\"\",IF(ISBLANK(VLOOKUP($A151,'Section 2'!$E$17:$V$216,COLUMNS('Section 2'!$E$13:V$14),0)),\"\",VLOOKUP($A151,'Section 2'!$E$17:$V$216,COLUMNS('Section 2'!$E$13:V$14),0)))","v":""}]
[151,"",{"$f":"IFERROR(VLOOKUP($A152,'Section 2'!$E$17:$V$216,COLUMNS('Section 2'!$E$13:E$14),0),\"\")","v":""},{"$f":"IF($C152=\"\",\"\",IF(ISBLANK(VLOOKUP($A152,'Section 2'!$E$17:$V$216,COLUMNS('Section 2'!$E$13:F$14),0)),\"\",VLOOKUP($A152,'Section 2'!$E$17:$V$216,COLUMNS('Section 2'!$E$13:F$14),0)))","v":""},{"$f":"IF($C152=\"\",\"\",IF(ISBLANK(VLOOKUP($A152,'Section 2'!$E$17:$V$216,COLUMNS('Section 2'!$E$13:G$14),0)),\"\",VLOOKUP($A152,'Section 2'!$E$17:$V$216,COLUMNS('Section 2'!$E$13:G$14),0)))","v":""},{"$f":"IF($C152=\"\",\"\",IF(ISBLANK(VLOOKUP($A152,'Section 2'!$E$17:$V$216,COLUMNS('Section 2'!$E$13:H$14),0)),\"\",VLOOKUP($A152,'Section 2'!$E$17:$V$216,COLUMNS('Section 2'!$E$13:H$14),0)))","v":""},{"$f":"IF($C152=\"\",\"\",IF(ISBLANK(VLOOKUP($A152,'Section 2'!$E$17:$V$216,COLUMNS('Section 2'!$E$13:I$14),0)),\"\",VLOOKUP($A152,'Section 2'!$E$17:$V$216,COLUMNS('Section 2'!$E$13:I$14),0)))","v":""},{"$f":"IF($C152=\"\",\"\",IF(ISBLANK(VLOOKUP($A152,'Section 2'!$E$17:$V$216,COLUMNS('Section 2'!$E$13:J$14),0)),\"\",VLOOKUP($A152,'Section 2'!$E$17:$V$216,COLUMNS('Section 2'!$E$13:J$14),0)))","v":""},{"$f":"IF($C152=\"\",\"\",IF(ISBLANK(VLOOKUP($A152,'Section 2'!$E$17:$V$216,COLUMNS('Section 2'!$E$13:K$14),0)),\"\",VLOOKUP($A152,'Section 2'!$E$17:$V$216,COLUMNS('Section 2'!$E$13:K$14),0)))","v":""},{"$f":"IF($C152=\"\",\"\",IF(ISBLANK(VLOOKUP($A152,'Section 2'!$E$17:$V$216,COLUMNS('Section 2'!$E$13:L$14),0)),\"\",VLOOKUP($A152,'Section 2'!$E$17:$V$216,COLUMNS('Section 2'!$E$13:L$14),0)))","v":""},{"$f":"IF($C152=\"\",\"\",IF(ISBLANK(VLOOKUP($A152,'Section 2'!$E$17:$V$216,COLUMNS('Section 2'!$E$13:M$14),0)),\"\",VLOOKUP($A152,'Section 2'!$E$17:$V$216,COLUMNS('Section 2'!$E$13:M$14),0)))","v":""},{"$f":"IF($C152=\"\",\"\",IF(ISBLANK(VLOOKUP($A152,'Section 2'!$E$17:$V$216,COLUMNS('Section 2'!$E$13:N$14),0)),\"\",VLOOKUP($A152,'Section 2'!$E$17:$V$216,COLUMNS('Section 2'!$E$13:N$14),0)))","v":""},{"$f":"IF($C152=\"\",\"\",IF(ISBLANK(VLOOKUP($A152,'Section 2'!$E$17:$V$216,COLUMNS('Section 2'!$E$13:O$14),0)),\"\",VLOOKUP($A152,'Section 2'!$E$17:$V$216,COLUMNS('Section 2'!$E$13:O$14),0)))","v":""},{"$f":"IF($C152=\"\",\"\",IF(ISBLANK(VLOOKUP($A152,'Section 2'!$E$17:$V$216,COLUMNS('Section 2'!$E$13:P$14),0)),\"\",VLOOKUP($A152,'Section 2'!$E$17:$V$216,COLUMNS('Section 2'!$E$13:P$14),0)))","v":""},{"$f":"IF($C152=\"\",\"\",IF(ISBLANK(VLOOKUP($A152,'Section 2'!$E$17:$V$216,COLUMNS('Section 2'!$E$13:Q$14),0)),\"\",VLOOKUP($A152,'Section 2'!$E$17:$V$216,COLUMNS('Section 2'!$E$13:Q$14),0)))","v":""},{"$f":"IF($C152=\"\",\"\",IF(ISBLANK(VLOOKUP($A152,'Section 2'!$E$17:$V$216,COLUMNS('Section 2'!$E$13:R$14),0)),\"\",VLOOKUP($A152,'Section 2'!$E$17:$V$216,COLUMNS('Section 2'!$E$13:R$14),0)))","v":""},{"$f":"IF($C152=\"\",\"\",IF(ISBLANK(VLOOKUP($A152,'Section 2'!$E$17:$V$216,COLUMNS('Section 2'!$E$13:S$14),0)),\"\",VLOOKUP($A152,'Section 2'!$E$17:$V$216,COLUMNS('Section 2'!$E$13:S$14),0)))","v":""},{"$f":"IF($C152=\"\",\"\",IF(ISBLANK(VLOOKUP($A152,'Section 2'!$E$17:$V$216,COLUMNS('Section 2'!$E$13:T$14),0)),\"\",VLOOKUP($A152,'Section 2'!$E$17:$V$216,COLUMNS('Section 2'!$E$13:T$14),0)))","v":""},{"$f":"IF($C152=\"\",\"\",IF(ISBLANK(VLOOKUP($A152,'Section 2'!$E$17:$V$216,COLUMNS('Section 2'!$E$13:U$14),0)),\"\",VLOOKUP($A152,'Section 2'!$E$17:$V$216,COLUMNS('Section 2'!$E$13:U$14),0)))","v":""},{"$f":"IF($C152=\"\",\"\",IF(ISBLANK(VLOOKUP($A152,'Section 2'!$E$17:$V$216,COLUMNS('Section 2'!$E$13:V$14),0)),\"\",VLOOKUP($A152,'Section 2'!$E$17:$V$216,COLUMNS('Section 2'!$E$13:V$14),0)))","v":""}]
[152,"",{"$f":"IFERROR(VLOOKUP($A153,'Section 2'!$E$17:$V$216,COLUMNS('Section 2'!$E$13:E$14),0),\"\")","v":""},{"$f":"IF($C153=\"\",\"\",IF(ISBLANK(VLOOKUP($A153,'Section 2'!$E$17:$V$216,COLUMNS('Section 2'!$E$13:F$14),0)),\"\",VLOOKUP($A153,'Section 2'!$E$17:$V$216,COLUMNS('Section 2'!$E$13:F$14),0)))","v":""},{"$f":"IF($C153=\"\",\"\",IF(ISBLANK(VLOOKUP($A153,'Section 2'!$E$17:$V$216,COLUMNS('Section 2'!$E$13:G$14),0)),\"\",VLOOKUP($A153,'Section 2'!$E$17:$V$216,COLUMNS('Section 2'!$E$13:G$14),0)))","v":""},{"$f":"IF($C153=\"\",\"\",IF(ISBLANK(VLOOKUP($A153,'Section 2'!$E$17:$V$216,COLUMNS('Section 2'!$E$13:H$14),0)),\"\",VLOOKUP($A153,'Section 2'!$E$17:$V$216,COLUMNS('Section 2'!$E$13:H$14),0)))","v":""},{"$f":"IF($C153=\"\",\"\",IF(ISBLANK(VLOOKUP($A153,'Section 2'!$E$17:$V$216,COLUMNS('Section 2'!$E$13:I$14),0)),\"\",VLOOKUP($A153,'Section 2'!$E$17:$V$216,COLUMNS('Section 2'!$E$13:I$14),0)))","v":""},{"$f":"IF($C153=\"\",\"\",IF(ISBLANK(VLOOKUP($A153,'Section 2'!$E$17:$V$216,COLUMNS('Section 2'!$E$13:J$14),0)),\"\",VLOOKUP($A153,'Section 2'!$E$17:$V$216,COLUMNS('Section 2'!$E$13:J$14),0)))","v":""},{"$f":"IF($C153=\"\",\"\",IF(ISBLANK(VLOOKUP($A153,'Section 2'!$E$17:$V$216,COLUMNS('Section 2'!$E$13:K$14),0)),\"\",VLOOKUP($A153,'Section 2'!$E$17:$V$216,COLUMNS('Section 2'!$E$13:K$14),0)))","v":""},{"$f":"IF($C153=\"\",\"\",IF(ISBLANK(VLOOKUP($A153,'Section 2'!$E$17:$V$216,COLUMNS('Section 2'!$E$13:L$14),0)),\"\",VLOOKUP($A153,'Section 2'!$E$17:$V$216,COLUMNS('Section 2'!$E$13:L$14),0)))","v":""},{"$f":"IF($C153=\"\",\"\",IF(ISBLANK(VLOOKUP($A153,'Section 2'!$E$17:$V$216,COLUMNS('Section 2'!$E$13:M$14),0)),\"\",VLOOKUP($A153,'Section 2'!$E$17:$V$216,COLUMNS('Section 2'!$E$13:M$14),0)))","v":""},{"$f":"IF($C153=\"\",\"\",IF(ISBLANK(VLOOKUP($A153,'Section 2'!$E$17:$V$216,COLUMNS('Section 2'!$E$13:N$14),0)),\"\",VLOOKUP($A153,'Section 2'!$E$17:$V$216,COLUMNS('Section 2'!$E$13:N$14),0)))","v":""},{"$f":"IF($C153=\"\",\"\",IF(ISBLANK(VLOOKUP($A153,'Section 2'!$E$17:$V$216,COLUMNS('Section 2'!$E$13:O$14),0)),\"\",VLOOKUP($A153,'Section 2'!$E$17:$V$216,COLUMNS('Section 2'!$E$13:O$14),0)))","v":""},{"$f":"IF($C153=\"\",\"\",IF(ISBLANK(VLOOKUP($A153,'Section 2'!$E$17:$V$216,COLUMNS('Section 2'!$E$13:P$14),0)),\"\",VLOOKUP($A153,'Section 2'!$E$17:$V$216,COLUMNS('Section 2'!$E$13:P$14),0)))","v":""},{"$f":"IF($C153=\"\",\"\",IF(ISBLANK(VLOOKUP($A153,'Section 2'!$E$17:$V$216,COLUMNS('Section 2'!$E$13:Q$14),0)),\"\",VLOOKUP($A153,'Section 2'!$E$17:$V$216,COLUMNS('Section 2'!$E$13:Q$14),0)))","v":""},{"$f":"IF($C153=\"\",\"\",IF(ISBLANK(VLOOKUP($A153,'Section 2'!$E$17:$V$216,COLUMNS('Section 2'!$E$13:R$14),0)),\"\",VLOOKUP($A153,'Section 2'!$E$17:$V$216,COLUMNS('Section 2'!$E$13:R$14),0)))","v":""},{"$f":"IF($C153=\"\",\"\",IF(ISBLANK(VLOOKUP($A153,'Section 2'!$E$17:$V$216,COLUMNS('Section 2'!$E$13:S$14),0)),\"\",VLOOKUP($A153,'Section 2'!$E$17:$V$216,COLUMNS('Section 2'!$E$13:S$14),0)))","v":""},{"$f":"IF($C153=\"\",\"\",IF(ISBLANK(VLOOKUP($A153,'Section 2'!$E$17:$V$216,COLUMNS('Section 2'!$E$13:T$14),0)),\"\",VLOOKUP($A153,'Section 2'!$E$17:$V$216,COLUMNS('Section 2'!$E$13:T$14),0)))","v":""},{"$f":"IF($C153=\"\",\"\",IF(ISBLANK(VLOOKUP($A153,'Section 2'!$E$17:$V$216,COLUMNS('Section 2'!$E$13:U$14),0)),\"\",VLOOKUP($A153,'Section 2'!$E$17:$V$216,COLUMNS('Section 2'!$E$13:U$14),0)))","v":""},{"$f":"IF($C153=\"\",\"\",IF(ISBLANK(VLOOKUP($A153,'Section 2'!$E$17:$V$216,COLUMNS('Section 2'!$E$13:V$14),0)),\"\",VLOOKUP($A153,'Section 2'!$E$17:$V$216,COLUMNS('Section 2'!$E$13:V$14),0)))","v":""}]
[153,"",{"$f":"IFERROR(VLOOKUP($A154,'Section 2'!$E$17:$V$216,COLUMNS('Section 2'!$E$13:E$14),0),\"\")","v":""},{"$f":"IF($C154=\"\",\"\",IF(ISBLANK(VLOOKUP($A154,'Section 2'!$E$17:$V$216,COLUMNS('Section 2'!$E$13:F$14),0)),\"\",VLOOKUP($A154,'Section 2'!$E$17:$V$216,COLUMNS('Section 2'!$E$13:F$14),0)))","v":""},{"$f":"IF($C154=\"\",\"\",IF(ISBLANK(VLOOKUP($A154,'Section 2'!$E$17:$V$216,COLUMNS('Section 2'!$E$13:G$14),0)),\"\",VLOOKUP($A154,'Section 2'!$E$17:$V$216,COLUMNS('Section 2'!$E$13:G$14),0)))","v":""},{"$f":"IF($C154=\"\",\"\",IF(ISBLANK(VLOOKUP($A154,'Section 2'!$E$17:$V$216,COLUMNS('Section 2'!$E$13:H$14),0)),\"\",VLOOKUP($A154,'Section 2'!$E$17:$V$216,COLUMNS('Section 2'!$E$13:H$14),0)))","v":""},{"$f":"IF($C154=\"\",\"\",IF(ISBLANK(VLOOKUP($A154,'Section 2'!$E$17:$V$216,COLUMNS('Section 2'!$E$13:I$14),0)),\"\",VLOOKUP($A154,'Section 2'!$E$17:$V$216,COLUMNS('Section 2'!$E$13:I$14),0)))","v":""},{"$f":"IF($C154=\"\",\"\",IF(ISBLANK(VLOOKUP($A154,'Section 2'!$E$17:$V$216,COLUMNS('Section 2'!$E$13:J$14),0)),\"\",VLOOKUP($A154,'Section 2'!$E$17:$V$216,COLUMNS('Section 2'!$E$13:J$14),0)))","v":""},{"$f":"IF($C154=\"\",\"\",IF(ISBLANK(VLOOKUP($A154,'Section 2'!$E$17:$V$216,COLUMNS('Section 2'!$E$13:K$14),0)),\"\",VLOOKUP($A154,'Section 2'!$E$17:$V$216,COLUMNS('Section 2'!$E$13:K$14),0)))","v":""},{"$f":"IF($C154=\"\",\"\",IF(ISBLANK(VLOOKUP($A154,'Section 2'!$E$17:$V$216,COLUMNS('Section 2'!$E$13:L$14),0)),\"\",VLOOKUP($A154,'Section 2'!$E$17:$V$216,COLUMNS('Section 2'!$E$13:L$14),0)))","v":""},{"$f":"IF($C154=\"\",\"\",IF(ISBLANK(VLOOKUP($A154,'Section 2'!$E$17:$V$216,COLUMNS('Section 2'!$E$13:M$14),0)),\"\",VLOOKUP($A154,'Section 2'!$E$17:$V$216,COLUMNS('Section 2'!$E$13:M$14),0)))","v":""},{"$f":"IF($C154=\"\",\"\",IF(ISBLANK(VLOOKUP($A154,'Section 2'!$E$17:$V$216,COLUMNS('Section 2'!$E$13:N$14),0)),\"\",VLOOKUP($A154,'Section 2'!$E$17:$V$216,COLUMNS('Section 2'!$E$13:N$14),0)))","v":""},{"$f":"IF($C154=\"\",\"\",IF(ISBLANK(VLOOKUP($A154,'Section 2'!$E$17:$V$216,COLUMNS('Section 2'!$E$13:O$14),0)),\"\",VLOOKUP($A154,'Section 2'!$E$17:$V$216,COLUMNS('Section 2'!$E$13:O$14),0)))","v":""},{"$f":"IF($C154=\"\",\"\",IF(ISBLANK(VLOOKUP($A154,'Section 2'!$E$17:$V$216,COLUMNS('Section 2'!$E$13:P$14),0)),\"\",VLOOKUP($A154,'Section 2'!$E$17:$V$216,COLUMNS('Section 2'!$E$13:P$14),0)))","v":""},{"$f":"IF($C154=\"\",\"\",IF(ISBLANK(VLOOKUP($A154,'Section 2'!$E$17:$V$216,COLUMNS('Section 2'!$E$13:Q$14),0)),\"\",VLOOKUP($A154,'Section 2'!$E$17:$V$216,COLUMNS('Section 2'!$E$13:Q$14),0)))","v":""},{"$f":"IF($C154=\"\",\"\",IF(ISBLANK(VLOOKUP($A154,'Section 2'!$E$17:$V$216,COLUMNS('Section 2'!$E$13:R$14),0)),\"\",VLOOKUP($A154,'Section 2'!$E$17:$V$216,COLUMNS('Section 2'!$E$13:R$14),0)))","v":""},{"$f":"IF($C154=\"\",\"\",IF(ISBLANK(VLOOKUP($A154,'Section 2'!$E$17:$V$216,COLUMNS('Section 2'!$E$13:S$14),0)),\"\",VLOOKUP($A154,'Section 2'!$E$17:$V$216,COLUMNS('Section 2'!$E$13:S$14),0)))","v":""},{"$f":"IF($C154=\"\",\"\",IF(ISBLANK(VLOOKUP($A154,'Section 2'!$E$17:$V$216,COLUMNS('Section 2'!$E$13:T$14),0)),\"\",VLOOKUP($A154,'Section 2'!$E$17:$V$216,COLUMNS('Section 2'!$E$13:T$14),0)))","v":""},{"$f":"IF($C154=\"\",\"\",IF(ISBLANK(VLOOKUP($A154,'Section 2'!$E$17:$V$216,COLUMNS('Section 2'!$E$13:U$14),0)),\"\",VLOOKUP($A154,'Section 2'!$E$17:$V$216,COLUMNS('Section 2'!$E$13:U$14),0)))","v":""},{"$f":"IF($C154=\"\",\"\",IF(ISBLANK(VLOOKUP($A154,'Section 2'!$E$17:$V$216,COLUMNS('Section 2'!$E$13:V$14),0)),\"\",VLOOKUP($A154,'Section 2'!$E$17:$V$216,COLUMNS('Section 2'!$E$13:V$14),0)))","v":""}]
[154,"",{"$f":"IFERROR(VLOOKUP($A155,'Section 2'!$E$17:$V$216,COLUMNS('Section 2'!$E$13:E$14),0),\"\")","v":""},{"$f":"IF($C155=\"\",\"\",IF(ISBLANK(VLOOKUP($A155,'Section 2'!$E$17:$V$216,COLUMNS('Section 2'!$E$13:F$14),0)),\"\",VLOOKUP($A155,'Section 2'!$E$17:$V$216,COLUMNS('Section 2'!$E$13:F$14),0)))","v":""},{"$f":"IF($C155=\"\",\"\",IF(ISBLANK(VLOOKUP($A155,'Section 2'!$E$17:$V$216,COLUMNS('Section 2'!$E$13:G$14),0)),\"\",VLOOKUP($A155,'Section 2'!$E$17:$V$216,COLUMNS('Section 2'!$E$13:G$14),0)))","v":""},{"$f":"IF($C155=\"\",\"\",IF(ISBLANK(VLOOKUP($A155,'Section 2'!$E$17:$V$216,COLUMNS('Section 2'!$E$13:H$14),0)),\"\",VLOOKUP($A155,'Section 2'!$E$17:$V$216,COLUMNS('Section 2'!$E$13:H$14),0)))","v":""},{"$f":"IF($C155=\"\",\"\",IF(ISBLANK(VLOOKUP($A155,'Section 2'!$E$17:$V$216,COLUMNS('Section 2'!$E$13:I$14),0)),\"\",VLOOKUP($A155,'Section 2'!$E$17:$V$216,COLUMNS('Section 2'!$E$13:I$14),0)))","v":""},{"$f":"IF($C155=\"\",\"\",IF(ISBLANK(VLOOKUP($A155,'Section 2'!$E$17:$V$216,COLUMNS('Section 2'!$E$13:J$14),0)),\"\",VLOOKUP($A155,'Section 2'!$E$17:$V$216,COLUMNS('Section 2'!$E$13:J$14),0)))","v":""},{"$f":"IF($C155=\"\",\"\",IF(ISBLANK(VLOOKUP($A155,'Section 2'!$E$17:$V$216,COLUMNS('Section 2'!$E$13:K$14),0)),\"\",VLOOKUP($A155,'Section 2'!$E$17:$V$216,COLUMNS('Section 2'!$E$13:K$14),0)))","v":""},{"$f":"IF($C155=\"\",\"\",IF(ISBLANK(VLOOKUP($A155,'Section 2'!$E$17:$V$216,COLUMNS('Section 2'!$E$13:L$14),0)),\"\",VLOOKUP($A155,'Section 2'!$E$17:$V$216,COLUMNS('Section 2'!$E$13:L$14),0)))","v":""},{"$f":"IF($C155=\"\",\"\",IF(ISBLANK(VLOOKUP($A155,'Section 2'!$E$17:$V$216,COLUMNS('Section 2'!$E$13:M$14),0)),\"\",VLOOKUP($A155,'Section 2'!$E$17:$V$216,COLUMNS('Section 2'!$E$13:M$14),0)))","v":""},{"$f":"IF($C155=\"\",\"\",IF(ISBLANK(VLOOKUP($A155,'Section 2'!$E$17:$V$216,COLUMNS('Section 2'!$E$13:N$14),0)),\"\",VLOOKUP($A155,'Section 2'!$E$17:$V$216,COLUMNS('Section 2'!$E$13:N$14),0)))","v":""},{"$f":"IF($C155=\"\",\"\",IF(ISBLANK(VLOOKUP($A155,'Section 2'!$E$17:$V$216,COLUMNS('Section 2'!$E$13:O$14),0)),\"\",VLOOKUP($A155,'Section 2'!$E$17:$V$216,COLUMNS('Section 2'!$E$13:O$14),0)))","v":""},{"$f":"IF($C155=\"\",\"\",IF(ISBLANK(VLOOKUP($A155,'Section 2'!$E$17:$V$216,COLUMNS('Section 2'!$E$13:P$14),0)),\"\",VLOOKUP($A155,'Section 2'!$E$17:$V$216,COLUMNS('Section 2'!$E$13:P$14),0)))","v":""},{"$f":"IF($C155=\"\",\"\",IF(ISBLANK(VLOOKUP($A155,'Section 2'!$E$17:$V$216,COLUMNS('Section 2'!$E$13:Q$14),0)),\"\",VLOOKUP($A155,'Section 2'!$E$17:$V$216,COLUMNS('Section 2'!$E$13:Q$14),0)))","v":""},{"$f":"IF($C155=\"\",\"\",IF(ISBLANK(VLOOKUP($A155,'Section 2'!$E$17:$V$216,COLUMNS('Section 2'!$E$13:R$14),0)),\"\",VLOOKUP($A155,'Section 2'!$E$17:$V$216,COLUMNS('Section 2'!$E$13:R$14),0)))","v":""},{"$f":"IF($C155=\"\",\"\",IF(ISBLANK(VLOOKUP($A155,'Section 2'!$E$17:$V$216,COLUMNS('Section 2'!$E$13:S$14),0)),\"\",VLOOKUP($A155,'Section 2'!$E$17:$V$216,COLUMNS('Section 2'!$E$13:S$14),0)))","v":""},{"$f":"IF($C155=\"\",\"\",IF(ISBLANK(VLOOKUP($A155,'Section 2'!$E$17:$V$216,COLUMNS('Section 2'!$E$13:T$14),0)),\"\",VLOOKUP($A155,'Section 2'!$E$17:$V$216,COLUMNS('Section 2'!$E$13:T$14),0)))","v":""},{"$f":"IF($C155=\"\",\"\",IF(ISBLANK(VLOOKUP($A155,'Section 2'!$E$17:$V$216,COLUMNS('Section 2'!$E$13:U$14),0)),\"\",VLOOKUP($A155,'Section 2'!$E$17:$V$216,COLUMNS('Section 2'!$E$13:U$14),0)))","v":""},{"$f":"IF($C155=\"\",\"\",IF(ISBLANK(VLOOKUP($A155,'Section 2'!$E$17:$V$216,COLUMNS('Section 2'!$E$13:V$14),0)),\"\",VLOOKUP($A155,'Section 2'!$E$17:$V$216,COLUMNS('Section 2'!$E$13:V$14),0)))","v":""}]
[155,"",{"$f":"IFERROR(VLOOKUP($A156,'Section 2'!$E$17:$V$216,COLUMNS('Section 2'!$E$13:E$14),0),\"\")","v":""},{"$f":"IF($C156=\"\",\"\",IF(ISBLANK(VLOOKUP($A156,'Section 2'!$E$17:$V$216,COLUMNS('Section 2'!$E$13:F$14),0)),\"\",VLOOKUP($A156,'Section 2'!$E$17:$V$216,COLUMNS('Section 2'!$E$13:F$14),0)))","v":""},{"$f":"IF($C156=\"\",\"\",IF(ISBLANK(VLOOKUP($A156,'Section 2'!$E$17:$V$216,COLUMNS('Section 2'!$E$13:G$14),0)),\"\",VLOOKUP($A156,'Section 2'!$E$17:$V$216,COLUMNS('Section 2'!$E$13:G$14),0)))","v":""},{"$f":"IF($C156=\"\",\"\",IF(ISBLANK(VLOOKUP($A156,'Section 2'!$E$17:$V$216,COLUMNS('Section 2'!$E$13:H$14),0)),\"\",VLOOKUP($A156,'Section 2'!$E$17:$V$216,COLUMNS('Section 2'!$E$13:H$14),0)))","v":""},{"$f":"IF($C156=\"\",\"\",IF(ISBLANK(VLOOKUP($A156,'Section 2'!$E$17:$V$216,COLUMNS('Section 2'!$E$13:I$14),0)),\"\",VLOOKUP($A156,'Section 2'!$E$17:$V$216,COLUMNS('Section 2'!$E$13:I$14),0)))","v":""},{"$f":"IF($C156=\"\",\"\",IF(ISBLANK(VLOOKUP($A156,'Section 2'!$E$17:$V$216,COLUMNS('Section 2'!$E$13:J$14),0)),\"\",VLOOKUP($A156,'Section 2'!$E$17:$V$216,COLUMNS('Section 2'!$E$13:J$14),0)))","v":""},{"$f":"IF($C156=\"\",\"\",IF(ISBLANK(VLOOKUP($A156,'Section 2'!$E$17:$V$216,COLUMNS('Section 2'!$E$13:K$14),0)),\"\",VLOOKUP($A156,'Section 2'!$E$17:$V$216,COLUMNS('Section 2'!$E$13:K$14),0)))","v":""},{"$f":"IF($C156=\"\",\"\",IF(ISBLANK(VLOOKUP($A156,'Section 2'!$E$17:$V$216,COLUMNS('Section 2'!$E$13:L$14),0)),\"\",VLOOKUP($A156,'Section 2'!$E$17:$V$216,COLUMNS('Section 2'!$E$13:L$14),0)))","v":""},{"$f":"IF($C156=\"\",\"\",IF(ISBLANK(VLOOKUP($A156,'Section 2'!$E$17:$V$216,COLUMNS('Section 2'!$E$13:M$14),0)),\"\",VLOOKUP($A156,'Section 2'!$E$17:$V$216,COLUMNS('Section 2'!$E$13:M$14),0)))","v":""},{"$f":"IF($C156=\"\",\"\",IF(ISBLANK(VLOOKUP($A156,'Section 2'!$E$17:$V$216,COLUMNS('Section 2'!$E$13:N$14),0)),\"\",VLOOKUP($A156,'Section 2'!$E$17:$V$216,COLUMNS('Section 2'!$E$13:N$14),0)))","v":""},{"$f":"IF($C156=\"\",\"\",IF(ISBLANK(VLOOKUP($A156,'Section 2'!$E$17:$V$216,COLUMNS('Section 2'!$E$13:O$14),0)),\"\",VLOOKUP($A156,'Section 2'!$E$17:$V$216,COLUMNS('Section 2'!$E$13:O$14),0)))","v":""},{"$f":"IF($C156=\"\",\"\",IF(ISBLANK(VLOOKUP($A156,'Section 2'!$E$17:$V$216,COLUMNS('Section 2'!$E$13:P$14),0)),\"\",VLOOKUP($A156,'Section 2'!$E$17:$V$216,COLUMNS('Section 2'!$E$13:P$14),0)))","v":""},{"$f":"IF($C156=\"\",\"\",IF(ISBLANK(VLOOKUP($A156,'Section 2'!$E$17:$V$216,COLUMNS('Section 2'!$E$13:Q$14),0)),\"\",VLOOKUP($A156,'Section 2'!$E$17:$V$216,COLUMNS('Section 2'!$E$13:Q$14),0)))","v":""},{"$f":"IF($C156=\"\",\"\",IF(ISBLANK(VLOOKUP($A156,'Section 2'!$E$17:$V$216,COLUMNS('Section 2'!$E$13:R$14),0)),\"\",VLOOKUP($A156,'Section 2'!$E$17:$V$216,COLUMNS('Section 2'!$E$13:R$14),0)))","v":""},{"$f":"IF($C156=\"\",\"\",IF(ISBLANK(VLOOKUP($A156,'Section 2'!$E$17:$V$216,COLUMNS('Section 2'!$E$13:S$14),0)),\"\",VLOOKUP($A156,'Section 2'!$E$17:$V$216,COLUMNS('Section 2'!$E$13:S$14),0)))","v":""},{"$f":"IF($C156=\"\",\"\",IF(ISBLANK(VLOOKUP($A156,'Section 2'!$E$17:$V$216,COLUMNS('Section 2'!$E$13:T$14),0)),\"\",VLOOKUP($A156,'Section 2'!$E$17:$V$216,COLUMNS('Section 2'!$E$13:T$14),0)))","v":""},{"$f":"IF($C156=\"\",\"\",IF(ISBLANK(VLOOKUP($A156,'Section 2'!$E$17:$V$216,COLUMNS('Section 2'!$E$13:U$14),0)),\"\",VLOOKUP($A156,'Section 2'!$E$17:$V$216,COLUMNS('Section 2'!$E$13:U$14),0)))","v":""},{"$f":"IF($C156=\"\",\"\",IF(ISBLANK(VLOOKUP($A156,'Section 2'!$E$17:$V$216,COLUMNS('Section 2'!$E$13:V$14),0)),\"\",VLOOKUP($A156,'Section 2'!$E$17:$V$216,COLUMNS('Section 2'!$E$13:V$14),0)))","v":""}]
[156,"",{"$f":"IFERROR(VLOOKUP($A157,'Section 2'!$E$17:$V$216,COLUMNS('Section 2'!$E$13:E$14),0),\"\")","v":""},{"$f":"IF($C157=\"\",\"\",IF(ISBLANK(VLOOKUP($A157,'Section 2'!$E$17:$V$216,COLUMNS('Section 2'!$E$13:F$14),0)),\"\",VLOOKUP($A157,'Section 2'!$E$17:$V$216,COLUMNS('Section 2'!$E$13:F$14),0)))","v":""},{"$f":"IF($C157=\"\",\"\",IF(ISBLANK(VLOOKUP($A157,'Section 2'!$E$17:$V$216,COLUMNS('Section 2'!$E$13:G$14),0)),\"\",VLOOKUP($A157,'Section 2'!$E$17:$V$216,COLUMNS('Section 2'!$E$13:G$14),0)))","v":""},{"$f":"IF($C157=\"\",\"\",IF(ISBLANK(VLOOKUP($A157,'Section 2'!$E$17:$V$216,COLUMNS('Section 2'!$E$13:H$14),0)),\"\",VLOOKUP($A157,'Section 2'!$E$17:$V$216,COLUMNS('Section 2'!$E$13:H$14),0)))","v":""},{"$f":"IF($C157=\"\",\"\",IF(ISBLANK(VLOOKUP($A157,'Section 2'!$E$17:$V$216,COLUMNS('Section 2'!$E$13:I$14),0)),\"\",VLOOKUP($A157,'Section 2'!$E$17:$V$216,COLUMNS('Section 2'!$E$13:I$14),0)))","v":""},{"$f":"IF($C157=\"\",\"\",IF(ISBLANK(VLOOKUP($A157,'Section 2'!$E$17:$V$216,COLUMNS('Section 2'!$E$13:J$14),0)),\"\",VLOOKUP($A157,'Section 2'!$E$17:$V$216,COLUMNS('Section 2'!$E$13:J$14),0)))","v":""},{"$f":"IF($C157=\"\",\"\",IF(ISBLANK(VLOOKUP($A157,'Section 2'!$E$17:$V$216,COLUMNS('Section 2'!$E$13:K$14),0)),\"\",VLOOKUP($A157,'Section 2'!$E$17:$V$216,COLUMNS('Section 2'!$E$13:K$14),0)))","v":""},{"$f":"IF($C157=\"\",\"\",IF(ISBLANK(VLOOKUP($A157,'Section 2'!$E$17:$V$216,COLUMNS('Section 2'!$E$13:L$14),0)),\"\",VLOOKUP($A157,'Section 2'!$E$17:$V$216,COLUMNS('Section 2'!$E$13:L$14),0)))","v":""},{"$f":"IF($C157=\"\",\"\",IF(ISBLANK(VLOOKUP($A157,'Section 2'!$E$17:$V$216,COLUMNS('Section 2'!$E$13:M$14),0)),\"\",VLOOKUP($A157,'Section 2'!$E$17:$V$216,COLUMNS('Section 2'!$E$13:M$14),0)))","v":""},{"$f":"IF($C157=\"\",\"\",IF(ISBLANK(VLOOKUP($A157,'Section 2'!$E$17:$V$216,COLUMNS('Section 2'!$E$13:N$14),0)),\"\",VLOOKUP($A157,'Section 2'!$E$17:$V$216,COLUMNS('Section 2'!$E$13:N$14),0)))","v":""},{"$f":"IF($C157=\"\",\"\",IF(ISBLANK(VLOOKUP($A157,'Section 2'!$E$17:$V$216,COLUMNS('Section 2'!$E$13:O$14),0)),\"\",VLOOKUP($A157,'Section 2'!$E$17:$V$216,COLUMNS('Section 2'!$E$13:O$14),0)))","v":""},{"$f":"IF($C157=\"\",\"\",IF(ISBLANK(VLOOKUP($A157,'Section 2'!$E$17:$V$216,COLUMNS('Section 2'!$E$13:P$14),0)),\"\",VLOOKUP($A157,'Section 2'!$E$17:$V$216,COLUMNS('Section 2'!$E$13:P$14),0)))","v":""},{"$f":"IF($C157=\"\",\"\",IF(ISBLANK(VLOOKUP($A157,'Section 2'!$E$17:$V$216,COLUMNS('Section 2'!$E$13:Q$14),0)),\"\",VLOOKUP($A157,'Section 2'!$E$17:$V$216,COLUMNS('Section 2'!$E$13:Q$14),0)))","v":""},{"$f":"IF($C157=\"\",\"\",IF(ISBLANK(VLOOKUP($A157,'Section 2'!$E$17:$V$216,COLUMNS('Section 2'!$E$13:R$14),0)),\"\",VLOOKUP($A157,'Section 2'!$E$17:$V$216,COLUMNS('Section 2'!$E$13:R$14),0)))","v":""},{"$f":"IF($C157=\"\",\"\",IF(ISBLANK(VLOOKUP($A157,'Section 2'!$E$17:$V$216,COLUMNS('Section 2'!$E$13:S$14),0)),\"\",VLOOKUP($A157,'Section 2'!$E$17:$V$216,COLUMNS('Section 2'!$E$13:S$14),0)))","v":""},{"$f":"IF($C157=\"\",\"\",IF(ISBLANK(VLOOKUP($A157,'Section 2'!$E$17:$V$216,COLUMNS('Section 2'!$E$13:T$14),0)),\"\",VLOOKUP($A157,'Section 2'!$E$17:$V$216,COLUMNS('Section 2'!$E$13:T$14),0)))","v":""},{"$f":"IF($C157=\"\",\"\",IF(ISBLANK(VLOOKUP($A157,'Section 2'!$E$17:$V$216,COLUMNS('Section 2'!$E$13:U$14),0)),\"\",VLOOKUP($A157,'Section 2'!$E$17:$V$216,COLUMNS('Section 2'!$E$13:U$14),0)))","v":""},{"$f":"IF($C157=\"\",\"\",IF(ISBLANK(VLOOKUP($A157,'Section 2'!$E$17:$V$216,COLUMNS('Section 2'!$E$13:V$14),0)),\"\",VLOOKUP($A157,'Section 2'!$E$17:$V$216,COLUMNS('Section 2'!$E$13:V$14),0)))","v":""}]
[157,"",{"$f":"IFERROR(VLOOKUP($A158,'Section 2'!$E$17:$V$216,COLUMNS('Section 2'!$E$13:E$14),0),\"\")","v":""},{"$f":"IF($C158=\"\",\"\",IF(ISBLANK(VLOOKUP($A158,'Section 2'!$E$17:$V$216,COLUMNS('Section 2'!$E$13:F$14),0)),\"\",VLOOKUP($A158,'Section 2'!$E$17:$V$216,COLUMNS('Section 2'!$E$13:F$14),0)))","v":""},{"$f":"IF($C158=\"\",\"\",IF(ISBLANK(VLOOKUP($A158,'Section 2'!$E$17:$V$216,COLUMNS('Section 2'!$E$13:G$14),0)),\"\",VLOOKUP($A158,'Section 2'!$E$17:$V$216,COLUMNS('Section 2'!$E$13:G$14),0)))","v":""},{"$f":"IF($C158=\"\",\"\",IF(ISBLANK(VLOOKUP($A158,'Section 2'!$E$17:$V$216,COLUMNS('Section 2'!$E$13:H$14),0)),\"\",VLOOKUP($A158,'Section 2'!$E$17:$V$216,COLUMNS('Section 2'!$E$13:H$14),0)))","v":""},{"$f":"IF($C158=\"\",\"\",IF(ISBLANK(VLOOKUP($A158,'Section 2'!$E$17:$V$216,COLUMNS('Section 2'!$E$13:I$14),0)),\"\",VLOOKUP($A158,'Section 2'!$E$17:$V$216,COLUMNS('Section 2'!$E$13:I$14),0)))","v":""},{"$f":"IF($C158=\"\",\"\",IF(ISBLANK(VLOOKUP($A158,'Section 2'!$E$17:$V$216,COLUMNS('Section 2'!$E$13:J$14),0)),\"\",VLOOKUP($A158,'Section 2'!$E$17:$V$216,COLUMNS('Section 2'!$E$13:J$14),0)))","v":""},{"$f":"IF($C158=\"\",\"\",IF(ISBLANK(VLOOKUP($A158,'Section 2'!$E$17:$V$216,COLUMNS('Section 2'!$E$13:K$14),0)),\"\",VLOOKUP($A158,'Section 2'!$E$17:$V$216,COLUMNS('Section 2'!$E$13:K$14),0)))","v":""},{"$f":"IF($C158=\"\",\"\",IF(ISBLANK(VLOOKUP($A158,'Section 2'!$E$17:$V$216,COLUMNS('Section 2'!$E$13:L$14),0)),\"\",VLOOKUP($A158,'Section 2'!$E$17:$V$216,COLUMNS('Section 2'!$E$13:L$14),0)))","v":""},{"$f":"IF($C158=\"\",\"\",IF(ISBLANK(VLOOKUP($A158,'Section 2'!$E$17:$V$216,COLUMNS('Section 2'!$E$13:M$14),0)),\"\",VLOOKUP($A158,'Section 2'!$E$17:$V$216,COLUMNS('Section 2'!$E$13:M$14),0)))","v":""},{"$f":"IF($C158=\"\",\"\",IF(ISBLANK(VLOOKUP($A158,'Section 2'!$E$17:$V$216,COLUMNS('Section 2'!$E$13:N$14),0)),\"\",VLOOKUP($A158,'Section 2'!$E$17:$V$216,COLUMNS('Section 2'!$E$13:N$14),0)))","v":""},{"$f":"IF($C158=\"\",\"\",IF(ISBLANK(VLOOKUP($A158,'Section 2'!$E$17:$V$216,COLUMNS('Section 2'!$E$13:O$14),0)),\"\",VLOOKUP($A158,'Section 2'!$E$17:$V$216,COLUMNS('Section 2'!$E$13:O$14),0)))","v":""},{"$f":"IF($C158=\"\",\"\",IF(ISBLANK(VLOOKUP($A158,'Section 2'!$E$17:$V$216,COLUMNS('Section 2'!$E$13:P$14),0)),\"\",VLOOKUP($A158,'Section 2'!$E$17:$V$216,COLUMNS('Section 2'!$E$13:P$14),0)))","v":""},{"$f":"IF($C158=\"\",\"\",IF(ISBLANK(VLOOKUP($A158,'Section 2'!$E$17:$V$216,COLUMNS('Section 2'!$E$13:Q$14),0)),\"\",VLOOKUP($A158,'Section 2'!$E$17:$V$216,COLUMNS('Section 2'!$E$13:Q$14),0)))","v":""},{"$f":"IF($C158=\"\",\"\",IF(ISBLANK(VLOOKUP($A158,'Section 2'!$E$17:$V$216,COLUMNS('Section 2'!$E$13:R$14),0)),\"\",VLOOKUP($A158,'Section 2'!$E$17:$V$216,COLUMNS('Section 2'!$E$13:R$14),0)))","v":""},{"$f":"IF($C158=\"\",\"\",IF(ISBLANK(VLOOKUP($A158,'Section 2'!$E$17:$V$216,COLUMNS('Section 2'!$E$13:S$14),0)),\"\",VLOOKUP($A158,'Section 2'!$E$17:$V$216,COLUMNS('Section 2'!$E$13:S$14),0)))","v":""},{"$f":"IF($C158=\"\",\"\",IF(ISBLANK(VLOOKUP($A158,'Section 2'!$E$17:$V$216,COLUMNS('Section 2'!$E$13:T$14),0)),\"\",VLOOKUP($A158,'Section 2'!$E$17:$V$216,COLUMNS('Section 2'!$E$13:T$14),0)))","v":""},{"$f":"IF($C158=\"\",\"\",IF(ISBLANK(VLOOKUP($A158,'Section 2'!$E$17:$V$216,COLUMNS('Section 2'!$E$13:U$14),0)),\"\",VLOOKUP($A158,'Section 2'!$E$17:$V$216,COLUMNS('Section 2'!$E$13:U$14),0)))","v":""},{"$f":"IF($C158=\"\",\"\",IF(ISBLANK(VLOOKUP($A158,'Section 2'!$E$17:$V$216,COLUMNS('Section 2'!$E$13:V$14),0)),\"\",VLOOKUP($A158,'Section 2'!$E$17:$V$216,COLUMNS('Section 2'!$E$13:V$14),0)))","v":""}]
[158,"",{"$f":"IFERROR(VLOOKUP($A159,'Section 2'!$E$17:$V$216,COLUMNS('Section 2'!$E$13:E$14),0),\"\")","v":""},{"$f":"IF($C159=\"\",\"\",IF(ISBLANK(VLOOKUP($A159,'Section 2'!$E$17:$V$216,COLUMNS('Section 2'!$E$13:F$14),0)),\"\",VLOOKUP($A159,'Section 2'!$E$17:$V$216,COLUMNS('Section 2'!$E$13:F$14),0)))","v":""},{"$f":"IF($C159=\"\",\"\",IF(ISBLANK(VLOOKUP($A159,'Section 2'!$E$17:$V$216,COLUMNS('Section 2'!$E$13:G$14),0)),\"\",VLOOKUP($A159,'Section 2'!$E$17:$V$216,COLUMNS('Section 2'!$E$13:G$14),0)))","v":""},{"$f":"IF($C159=\"\",\"\",IF(ISBLANK(VLOOKUP($A159,'Section 2'!$E$17:$V$216,COLUMNS('Section 2'!$E$13:H$14),0)),\"\",VLOOKUP($A159,'Section 2'!$E$17:$V$216,COLUMNS('Section 2'!$E$13:H$14),0)))","v":""},{"$f":"IF($C159=\"\",\"\",IF(ISBLANK(VLOOKUP($A159,'Section 2'!$E$17:$V$216,COLUMNS('Section 2'!$E$13:I$14),0)),\"\",VLOOKUP($A159,'Section 2'!$E$17:$V$216,COLUMNS('Section 2'!$E$13:I$14),0)))","v":""},{"$f":"IF($C159=\"\",\"\",IF(ISBLANK(VLOOKUP($A159,'Section 2'!$E$17:$V$216,COLUMNS('Section 2'!$E$13:J$14),0)),\"\",VLOOKUP($A159,'Section 2'!$E$17:$V$216,COLUMNS('Section 2'!$E$13:J$14),0)))","v":""},{"$f":"IF($C159=\"\",\"\",IF(ISBLANK(VLOOKUP($A159,'Section 2'!$E$17:$V$216,COLUMNS('Section 2'!$E$13:K$14),0)),\"\",VLOOKUP($A159,'Section 2'!$E$17:$V$216,COLUMNS('Section 2'!$E$13:K$14),0)))","v":""},{"$f":"IF($C159=\"\",\"\",IF(ISBLANK(VLOOKUP($A159,'Section 2'!$E$17:$V$216,COLUMNS('Section 2'!$E$13:L$14),0)),\"\",VLOOKUP($A159,'Section 2'!$E$17:$V$216,COLUMNS('Section 2'!$E$13:L$14),0)))","v":""},{"$f":"IF($C159=\"\",\"\",IF(ISBLANK(VLOOKUP($A159,'Section 2'!$E$17:$V$216,COLUMNS('Section 2'!$E$13:M$14),0)),\"\",VLOOKUP($A159,'Section 2'!$E$17:$V$216,COLUMNS('Section 2'!$E$13:M$14),0)))","v":""},{"$f":"IF($C159=\"\",\"\",IF(ISBLANK(VLOOKUP($A159,'Section 2'!$E$17:$V$216,COLUMNS('Section 2'!$E$13:N$14),0)),\"\",VLOOKUP($A159,'Section 2'!$E$17:$V$216,COLUMNS('Section 2'!$E$13:N$14),0)))","v":""},{"$f":"IF($C159=\"\",\"\",IF(ISBLANK(VLOOKUP($A159,'Section 2'!$E$17:$V$216,COLUMNS('Section 2'!$E$13:O$14),0)),\"\",VLOOKUP($A159,'Section 2'!$E$17:$V$216,COLUMNS('Section 2'!$E$13:O$14),0)))","v":""},{"$f":"IF($C159=\"\",\"\",IF(ISBLANK(VLOOKUP($A159,'Section 2'!$E$17:$V$216,COLUMNS('Section 2'!$E$13:P$14),0)),\"\",VLOOKUP($A159,'Section 2'!$E$17:$V$216,COLUMNS('Section 2'!$E$13:P$14),0)))","v":""},{"$f":"IF($C159=\"\",\"\",IF(ISBLANK(VLOOKUP($A159,'Section 2'!$E$17:$V$216,COLUMNS('Section 2'!$E$13:Q$14),0)),\"\",VLOOKUP($A159,'Section 2'!$E$17:$V$216,COLUMNS('Section 2'!$E$13:Q$14),0)))","v":""},{"$f":"IF($C159=\"\",\"\",IF(ISBLANK(VLOOKUP($A159,'Section 2'!$E$17:$V$216,COLUMNS('Section 2'!$E$13:R$14),0)),\"\",VLOOKUP($A159,'Section 2'!$E$17:$V$216,COLUMNS('Section 2'!$E$13:R$14),0)))","v":""},{"$f":"IF($C159=\"\",\"\",IF(ISBLANK(VLOOKUP($A159,'Section 2'!$E$17:$V$216,COLUMNS('Section 2'!$E$13:S$14),0)),\"\",VLOOKUP($A159,'Section 2'!$E$17:$V$216,COLUMNS('Section 2'!$E$13:S$14),0)))","v":""},{"$f":"IF($C159=\"\",\"\",IF(ISBLANK(VLOOKUP($A159,'Section 2'!$E$17:$V$216,COLUMNS('Section 2'!$E$13:T$14),0)),\"\",VLOOKUP($A159,'Section 2'!$E$17:$V$216,COLUMNS('Section 2'!$E$13:T$14),0)))","v":""},{"$f":"IF($C159=\"\",\"\",IF(ISBLANK(VLOOKUP($A159,'Section 2'!$E$17:$V$216,COLUMNS('Section 2'!$E$13:U$14),0)),\"\",VLOOKUP($A159,'Section 2'!$E$17:$V$216,COLUMNS('Section 2'!$E$13:U$14),0)))","v":""},{"$f":"IF($C159=\"\",\"\",IF(ISBLANK(VLOOKUP($A159,'Section 2'!$E$17:$V$216,COLUMNS('Section 2'!$E$13:V$14),0)),\"\",VLOOKUP($A159,'Section 2'!$E$17:$V$216,COLUMNS('Section 2'!$E$13:V$14),0)))","v":""}]
[159,"",{"$f":"IFERROR(VLOOKUP($A160,'Section 2'!$E$17:$V$216,COLUMNS('Section 2'!$E$13:E$14),0),\"\")","v":""},{"$f":"IF($C160=\"\",\"\",IF(ISBLANK(VLOOKUP($A160,'Section 2'!$E$17:$V$216,COLUMNS('Section 2'!$E$13:F$14),0)),\"\",VLOOKUP($A160,'Section 2'!$E$17:$V$216,COLUMNS('Section 2'!$E$13:F$14),0)))","v":""},{"$f":"IF($C160=\"\",\"\",IF(ISBLANK(VLOOKUP($A160,'Section 2'!$E$17:$V$216,COLUMNS('Section 2'!$E$13:G$14),0)),\"\",VLOOKUP($A160,'Section 2'!$E$17:$V$216,COLUMNS('Section 2'!$E$13:G$14),0)))","v":""},{"$f":"IF($C160=\"\",\"\",IF(ISBLANK(VLOOKUP($A160,'Section 2'!$E$17:$V$216,COLUMNS('Section 2'!$E$13:H$14),0)),\"\",VLOOKUP($A160,'Section 2'!$E$17:$V$216,COLUMNS('Section 2'!$E$13:H$14),0)))","v":""},{"$f":"IF($C160=\"\",\"\",IF(ISBLANK(VLOOKUP($A160,'Section 2'!$E$17:$V$216,COLUMNS('Section 2'!$E$13:I$14),0)),\"\",VLOOKUP($A160,'Section 2'!$E$17:$V$216,COLUMNS('Section 2'!$E$13:I$14),0)))","v":""},{"$f":"IF($C160=\"\",\"\",IF(ISBLANK(VLOOKUP($A160,'Section 2'!$E$17:$V$216,COLUMNS('Section 2'!$E$13:J$14),0)),\"\",VLOOKUP($A160,'Section 2'!$E$17:$V$216,COLUMNS('Section 2'!$E$13:J$14),0)))","v":""},{"$f":"IF($C160=\"\",\"\",IF(ISBLANK(VLOOKUP($A160,'Section 2'!$E$17:$V$216,COLUMNS('Section 2'!$E$13:K$14),0)),\"\",VLOOKUP($A160,'Section 2'!$E$17:$V$216,COLUMNS('Section 2'!$E$13:K$14),0)))","v":""},{"$f":"IF($C160=\"\",\"\",IF(ISBLANK(VLOOKUP($A160,'Section 2'!$E$17:$V$216,COLUMNS('Section 2'!$E$13:L$14),0)),\"\",VLOOKUP($A160,'Section 2'!$E$17:$V$216,COLUMNS('Section 2'!$E$13:L$14),0)))","v":""},{"$f":"IF($C160=\"\",\"\",IF(ISBLANK(VLOOKUP($A160,'Section 2'!$E$17:$V$216,COLUMNS('Section 2'!$E$13:M$14),0)),\"\",VLOOKUP($A160,'Section 2'!$E$17:$V$216,COLUMNS('Section 2'!$E$13:M$14),0)))","v":""},{"$f":"IF($C160=\"\",\"\",IF(ISBLANK(VLOOKUP($A160,'Section 2'!$E$17:$V$216,COLUMNS('Section 2'!$E$13:N$14),0)),\"\",VLOOKUP($A160,'Section 2'!$E$17:$V$216,COLUMNS('Section 2'!$E$13:N$14),0)))","v":""},{"$f":"IF($C160=\"\",\"\",IF(ISBLANK(VLOOKUP($A160,'Section 2'!$E$17:$V$216,COLUMNS('Section 2'!$E$13:O$14),0)),\"\",VLOOKUP($A160,'Section 2'!$E$17:$V$216,COLUMNS('Section 2'!$E$13:O$14),0)))","v":""},{"$f":"IF($C160=\"\",\"\",IF(ISBLANK(VLOOKUP($A160,'Section 2'!$E$17:$V$216,COLUMNS('Section 2'!$E$13:P$14),0)),\"\",VLOOKUP($A160,'Section 2'!$E$17:$V$216,COLUMNS('Section 2'!$E$13:P$14),0)))","v":""},{"$f":"IF($C160=\"\",\"\",IF(ISBLANK(VLOOKUP($A160,'Section 2'!$E$17:$V$216,COLUMNS('Section 2'!$E$13:Q$14),0)),\"\",VLOOKUP($A160,'Section 2'!$E$17:$V$216,COLUMNS('Section 2'!$E$13:Q$14),0)))","v":""},{"$f":"IF($C160=\"\",\"\",IF(ISBLANK(VLOOKUP($A160,'Section 2'!$E$17:$V$216,COLUMNS('Section 2'!$E$13:R$14),0)),\"\",VLOOKUP($A160,'Section 2'!$E$17:$V$216,COLUMNS('Section 2'!$E$13:R$14),0)))","v":""},{"$f":"IF($C160=\"\",\"\",IF(ISBLANK(VLOOKUP($A160,'Section 2'!$E$17:$V$216,COLUMNS('Section 2'!$E$13:S$14),0)),\"\",VLOOKUP($A160,'Section 2'!$E$17:$V$216,COLUMNS('Section 2'!$E$13:S$14),0)))","v":""},{"$f":"IF($C160=\"\",\"\",IF(ISBLANK(VLOOKUP($A160,'Section 2'!$E$17:$V$216,COLUMNS('Section 2'!$E$13:T$14),0)),\"\",VLOOKUP($A160,'Section 2'!$E$17:$V$216,COLUMNS('Section 2'!$E$13:T$14),0)))","v":""},{"$f":"IF($C160=\"\",\"\",IF(ISBLANK(VLOOKUP($A160,'Section 2'!$E$17:$V$216,COLUMNS('Section 2'!$E$13:U$14),0)),\"\",VLOOKUP($A160,'Section 2'!$E$17:$V$216,COLUMNS('Section 2'!$E$13:U$14),0)))","v":""},{"$f":"IF($C160=\"\",\"\",IF(ISBLANK(VLOOKUP($A160,'Section 2'!$E$17:$V$216,COLUMNS('Section 2'!$E$13:V$14),0)),\"\",VLOOKUP($A160,'Section 2'!$E$17:$V$216,COLUMNS('Section 2'!$E$13:V$14),0)))","v":""}]
[160,"",{"$f":"IFERROR(VLOOKUP($A161,'Section 2'!$E$17:$V$216,COLUMNS('Section 2'!$E$13:E$14),0),\"\")","v":""},{"$f":"IF($C161=\"\",\"\",IF(ISBLANK(VLOOKUP($A161,'Section 2'!$E$17:$V$216,COLUMNS('Section 2'!$E$13:F$14),0)),\"\",VLOOKUP($A161,'Section 2'!$E$17:$V$216,COLUMNS('Section 2'!$E$13:F$14),0)))","v":""},{"$f":"IF($C161=\"\",\"\",IF(ISBLANK(VLOOKUP($A161,'Section 2'!$E$17:$V$216,COLUMNS('Section 2'!$E$13:G$14),0)),\"\",VLOOKUP($A161,'Section 2'!$E$17:$V$216,COLUMNS('Section 2'!$E$13:G$14),0)))","v":""},{"$f":"IF($C161=\"\",\"\",IF(ISBLANK(VLOOKUP($A161,'Section 2'!$E$17:$V$216,COLUMNS('Section 2'!$E$13:H$14),0)),\"\",VLOOKUP($A161,'Section 2'!$E$17:$V$216,COLUMNS('Section 2'!$E$13:H$14),0)))","v":""},{"$f":"IF($C161=\"\",\"\",IF(ISBLANK(VLOOKUP($A161,'Section 2'!$E$17:$V$216,COLUMNS('Section 2'!$E$13:I$14),0)),\"\",VLOOKUP($A161,'Section 2'!$E$17:$V$216,COLUMNS('Section 2'!$E$13:I$14),0)))","v":""},{"$f":"IF($C161=\"\",\"\",IF(ISBLANK(VLOOKUP($A161,'Section 2'!$E$17:$V$216,COLUMNS('Section 2'!$E$13:J$14),0)),\"\",VLOOKUP($A161,'Section 2'!$E$17:$V$216,COLUMNS('Section 2'!$E$13:J$14),0)))","v":""},{"$f":"IF($C161=\"\",\"\",IF(ISBLANK(VLOOKUP($A161,'Section 2'!$E$17:$V$216,COLUMNS('Section 2'!$E$13:K$14),0)),\"\",VLOOKUP($A161,'Section 2'!$E$17:$V$216,COLUMNS('Section 2'!$E$13:K$14),0)))","v":""},{"$f":"IF($C161=\"\",\"\",IF(ISBLANK(VLOOKUP($A161,'Section 2'!$E$17:$V$216,COLUMNS('Section 2'!$E$13:L$14),0)),\"\",VLOOKUP($A161,'Section 2'!$E$17:$V$216,COLUMNS('Section 2'!$E$13:L$14),0)))","v":""},{"$f":"IF($C161=\"\",\"\",IF(ISBLANK(VLOOKUP($A161,'Section 2'!$E$17:$V$216,COLUMNS('Section 2'!$E$13:M$14),0)),\"\",VLOOKUP($A161,'Section 2'!$E$17:$V$216,COLUMNS('Section 2'!$E$13:M$14),0)))","v":""},{"$f":"IF($C161=\"\",\"\",IF(ISBLANK(VLOOKUP($A161,'Section 2'!$E$17:$V$216,COLUMNS('Section 2'!$E$13:N$14),0)),\"\",VLOOKUP($A161,'Section 2'!$E$17:$V$216,COLUMNS('Section 2'!$E$13:N$14),0)))","v":""},{"$f":"IF($C161=\"\",\"\",IF(ISBLANK(VLOOKUP($A161,'Section 2'!$E$17:$V$216,COLUMNS('Section 2'!$E$13:O$14),0)),\"\",VLOOKUP($A161,'Section 2'!$E$17:$V$216,COLUMNS('Section 2'!$E$13:O$14),0)))","v":""},{"$f":"IF($C161=\"\",\"\",IF(ISBLANK(VLOOKUP($A161,'Section 2'!$E$17:$V$216,COLUMNS('Section 2'!$E$13:P$14),0)),\"\",VLOOKUP($A161,'Section 2'!$E$17:$V$216,COLUMNS('Section 2'!$E$13:P$14),0)))","v":""},{"$f":"IF($C161=\"\",\"\",IF(ISBLANK(VLOOKUP($A161,'Section 2'!$E$17:$V$216,COLUMNS('Section 2'!$E$13:Q$14),0)),\"\",VLOOKUP($A161,'Section 2'!$E$17:$V$216,COLUMNS('Section 2'!$E$13:Q$14),0)))","v":""},{"$f":"IF($C161=\"\",\"\",IF(ISBLANK(VLOOKUP($A161,'Section 2'!$E$17:$V$216,COLUMNS('Section 2'!$E$13:R$14),0)),\"\",VLOOKUP($A161,'Section 2'!$E$17:$V$216,COLUMNS('Section 2'!$E$13:R$14),0)))","v":""},{"$f":"IF($C161=\"\",\"\",IF(ISBLANK(VLOOKUP($A161,'Section 2'!$E$17:$V$216,COLUMNS('Section 2'!$E$13:S$14),0)),\"\",VLOOKUP($A161,'Section 2'!$E$17:$V$216,COLUMNS('Section 2'!$E$13:S$14),0)))","v":""},{"$f":"IF($C161=\"\",\"\",IF(ISBLANK(VLOOKUP($A161,'Section 2'!$E$17:$V$216,COLUMNS('Section 2'!$E$13:T$14),0)),\"\",VLOOKUP($A161,'Section 2'!$E$17:$V$216,COLUMNS('Section 2'!$E$13:T$14),0)))","v":""},{"$f":"IF($C161=\"\",\"\",IF(ISBLANK(VLOOKUP($A161,'Section 2'!$E$17:$V$216,COLUMNS('Section 2'!$E$13:U$14),0)),\"\",VLOOKUP($A161,'Section 2'!$E$17:$V$216,COLUMNS('Section 2'!$E$13:U$14),0)))","v":""},{"$f":"IF($C161=\"\",\"\",IF(ISBLANK(VLOOKUP($A161,'Section 2'!$E$17:$V$216,COLUMNS('Section 2'!$E$13:V$14),0)),\"\",VLOOKUP($A161,'Section 2'!$E$17:$V$216,COLUMNS('Section 2'!$E$13:V$14),0)))","v":""}]
[161,"",{"$f":"IFERROR(VLOOKUP($A162,'Section 2'!$E$17:$V$216,COLUMNS('Section 2'!$E$13:E$14),0),\"\")","v":""},{"$f":"IF($C162=\"\",\"\",IF(ISBLANK(VLOOKUP($A162,'Section 2'!$E$17:$V$216,COLUMNS('Section 2'!$E$13:F$14),0)),\"\",VLOOKUP($A162,'Section 2'!$E$17:$V$216,COLUMNS('Section 2'!$E$13:F$14),0)))","v":""},{"$f":"IF($C162=\"\",\"\",IF(ISBLANK(VLOOKUP($A162,'Section 2'!$E$17:$V$216,COLUMNS('Section 2'!$E$13:G$14),0)),\"\",VLOOKUP($A162,'Section 2'!$E$17:$V$216,COLUMNS('Section 2'!$E$13:G$14),0)))","v":""},{"$f":"IF($C162=\"\",\"\",IF(ISBLANK(VLOOKUP($A162,'Section 2'!$E$17:$V$216,COLUMNS('Section 2'!$E$13:H$14),0)),\"\",VLOOKUP($A162,'Section 2'!$E$17:$V$216,COLUMNS('Section 2'!$E$13:H$14),0)))","v":""},{"$f":"IF($C162=\"\",\"\",IF(ISBLANK(VLOOKUP($A162,'Section 2'!$E$17:$V$216,COLUMNS('Section 2'!$E$13:I$14),0)),\"\",VLOOKUP($A162,'Section 2'!$E$17:$V$216,COLUMNS('Section 2'!$E$13:I$14),0)))","v":""},{"$f":"IF($C162=\"\",\"\",IF(ISBLANK(VLOOKUP($A162,'Section 2'!$E$17:$V$216,COLUMNS('Section 2'!$E$13:J$14),0)),\"\",VLOOKUP($A162,'Section 2'!$E$17:$V$216,COLUMNS('Section 2'!$E$13:J$14),0)))","v":""},{"$f":"IF($C162=\"\",\"\",IF(ISBLANK(VLOOKUP($A162,'Section 2'!$E$17:$V$216,COLUMNS('Section 2'!$E$13:K$14),0)),\"\",VLOOKUP($A162,'Section 2'!$E$17:$V$216,COLUMNS('Section 2'!$E$13:K$14),0)))","v":""},{"$f":"IF($C162=\"\",\"\",IF(ISBLANK(VLOOKUP($A162,'Section 2'!$E$17:$V$216,COLUMNS('Section 2'!$E$13:L$14),0)),\"\",VLOOKUP($A162,'Section 2'!$E$17:$V$216,COLUMNS('Section 2'!$E$13:L$14),0)))","v":""},{"$f":"IF($C162=\"\",\"\",IF(ISBLANK(VLOOKUP($A162,'Section 2'!$E$17:$V$216,COLUMNS('Section 2'!$E$13:M$14),0)),\"\",VLOOKUP($A162,'Section 2'!$E$17:$V$216,COLUMNS('Section 2'!$E$13:M$14),0)))","v":""},{"$f":"IF($C162=\"\",\"\",IF(ISBLANK(VLOOKUP($A162,'Section 2'!$E$17:$V$216,COLUMNS('Section 2'!$E$13:N$14),0)),\"\",VLOOKUP($A162,'Section 2'!$E$17:$V$216,COLUMNS('Section 2'!$E$13:N$14),0)))","v":""},{"$f":"IF($C162=\"\",\"\",IF(ISBLANK(VLOOKUP($A162,'Section 2'!$E$17:$V$216,COLUMNS('Section 2'!$E$13:O$14),0)),\"\",VLOOKUP($A162,'Section 2'!$E$17:$V$216,COLUMNS('Section 2'!$E$13:O$14),0)))","v":""},{"$f":"IF($C162=\"\",\"\",IF(ISBLANK(VLOOKUP($A162,'Section 2'!$E$17:$V$216,COLUMNS('Section 2'!$E$13:P$14),0)),\"\",VLOOKUP($A162,'Section 2'!$E$17:$V$216,COLUMNS('Section 2'!$E$13:P$14),0)))","v":""},{"$f":"IF($C162=\"\",\"\",IF(ISBLANK(VLOOKUP($A162,'Section 2'!$E$17:$V$216,COLUMNS('Section 2'!$E$13:Q$14),0)),\"\",VLOOKUP($A162,'Section 2'!$E$17:$V$216,COLUMNS('Section 2'!$E$13:Q$14),0)))","v":""},{"$f":"IF($C162=\"\",\"\",IF(ISBLANK(VLOOKUP($A162,'Section 2'!$E$17:$V$216,COLUMNS('Section 2'!$E$13:R$14),0)),\"\",VLOOKUP($A162,'Section 2'!$E$17:$V$216,COLUMNS('Section 2'!$E$13:R$14),0)))","v":""},{"$f":"IF($C162=\"\",\"\",IF(ISBLANK(VLOOKUP($A162,'Section 2'!$E$17:$V$216,COLUMNS('Section 2'!$E$13:S$14),0)),\"\",VLOOKUP($A162,'Section 2'!$E$17:$V$216,COLUMNS('Section 2'!$E$13:S$14),0)))","v":""},{"$f":"IF($C162=\"\",\"\",IF(ISBLANK(VLOOKUP($A162,'Section 2'!$E$17:$V$216,COLUMNS('Section 2'!$E$13:T$14),0)),\"\",VLOOKUP($A162,'Section 2'!$E$17:$V$216,COLUMNS('Section 2'!$E$13:T$14),0)))","v":""},{"$f":"IF($C162=\"\",\"\",IF(ISBLANK(VLOOKUP($A162,'Section 2'!$E$17:$V$216,COLUMNS('Section 2'!$E$13:U$14),0)),\"\",VLOOKUP($A162,'Section 2'!$E$17:$V$216,COLUMNS('Section 2'!$E$13:U$14),0)))","v":""},{"$f":"IF($C162=\"\",\"\",IF(ISBLANK(VLOOKUP($A162,'Section 2'!$E$17:$V$216,COLUMNS('Section 2'!$E$13:V$14),0)),\"\",VLOOKUP($A162,'Section 2'!$E$17:$V$216,COLUMNS('Section 2'!$E$13:V$14),0)))","v":""}]
[162,"",{"$f":"IFERROR(VLOOKUP($A163,'Section 2'!$E$17:$V$216,COLUMNS('Section 2'!$E$13:E$14),0),\"\")","v":""},{"$f":"IF($C163=\"\",\"\",IF(ISBLANK(VLOOKUP($A163,'Section 2'!$E$17:$V$216,COLUMNS('Section 2'!$E$13:F$14),0)),\"\",VLOOKUP($A163,'Section 2'!$E$17:$V$216,COLUMNS('Section 2'!$E$13:F$14),0)))","v":""},{"$f":"IF($C163=\"\",\"\",IF(ISBLANK(VLOOKUP($A163,'Section 2'!$E$17:$V$216,COLUMNS('Section 2'!$E$13:G$14),0)),\"\",VLOOKUP($A163,'Section 2'!$E$17:$V$216,COLUMNS('Section 2'!$E$13:G$14),0)))","v":""},{"$f":"IF($C163=\"\",\"\",IF(ISBLANK(VLOOKUP($A163,'Section 2'!$E$17:$V$216,COLUMNS('Section 2'!$E$13:H$14),0)),\"\",VLOOKUP($A163,'Section 2'!$E$17:$V$216,COLUMNS('Section 2'!$E$13:H$14),0)))","v":""},{"$f":"IF($C163=\"\",\"\",IF(ISBLANK(VLOOKUP($A163,'Section 2'!$E$17:$V$216,COLUMNS('Section 2'!$E$13:I$14),0)),\"\",VLOOKUP($A163,'Section 2'!$E$17:$V$216,COLUMNS('Section 2'!$E$13:I$14),0)))","v":""},{"$f":"IF($C163=\"\",\"\",IF(ISBLANK(VLOOKUP($A163,'Section 2'!$E$17:$V$216,COLUMNS('Section 2'!$E$13:J$14),0)),\"\",VLOOKUP($A163,'Section 2'!$E$17:$V$216,COLUMNS('Section 2'!$E$13:J$14),0)))","v":""},{"$f":"IF($C163=\"\",\"\",IF(ISBLANK(VLOOKUP($A163,'Section 2'!$E$17:$V$216,COLUMNS('Section 2'!$E$13:K$14),0)),\"\",VLOOKUP($A163,'Section 2'!$E$17:$V$216,COLUMNS('Section 2'!$E$13:K$14),0)))","v":""},{"$f":"IF($C163=\"\",\"\",IF(ISBLANK(VLOOKUP($A163,'Section 2'!$E$17:$V$216,COLUMNS('Section 2'!$E$13:L$14),0)),\"\",VLOOKUP($A163,'Section 2'!$E$17:$V$216,COLUMNS('Section 2'!$E$13:L$14),0)))","v":""},{"$f":"IF($C163=\"\",\"\",IF(ISBLANK(VLOOKUP($A163,'Section 2'!$E$17:$V$216,COLUMNS('Section 2'!$E$13:M$14),0)),\"\",VLOOKUP($A163,'Section 2'!$E$17:$V$216,COLUMNS('Section 2'!$E$13:M$14),0)))","v":""},{"$f":"IF($C163=\"\",\"\",IF(ISBLANK(VLOOKUP($A163,'Section 2'!$E$17:$V$216,COLUMNS('Section 2'!$E$13:N$14),0)),\"\",VLOOKUP($A163,'Section 2'!$E$17:$V$216,COLUMNS('Section 2'!$E$13:N$14),0)))","v":""},{"$f":"IF($C163=\"\",\"\",IF(ISBLANK(VLOOKUP($A163,'Section 2'!$E$17:$V$216,COLUMNS('Section 2'!$E$13:O$14),0)),\"\",VLOOKUP($A163,'Section 2'!$E$17:$V$216,COLUMNS('Section 2'!$E$13:O$14),0)))","v":""},{"$f":"IF($C163=\"\",\"\",IF(ISBLANK(VLOOKUP($A163,'Section 2'!$E$17:$V$216,COLUMNS('Section 2'!$E$13:P$14),0)),\"\",VLOOKUP($A163,'Section 2'!$E$17:$V$216,COLUMNS('Section 2'!$E$13:P$14),0)))","v":""},{"$f":"IF($C163=\"\",\"\",IF(ISBLANK(VLOOKUP($A163,'Section 2'!$E$17:$V$216,COLUMNS('Section 2'!$E$13:Q$14),0)),\"\",VLOOKUP($A163,'Section 2'!$E$17:$V$216,COLUMNS('Section 2'!$E$13:Q$14),0)))","v":""},{"$f":"IF($C163=\"\",\"\",IF(ISBLANK(VLOOKUP($A163,'Section 2'!$E$17:$V$216,COLUMNS('Section 2'!$E$13:R$14),0)),\"\",VLOOKUP($A163,'Section 2'!$E$17:$V$216,COLUMNS('Section 2'!$E$13:R$14),0)))","v":""},{"$f":"IF($C163=\"\",\"\",IF(ISBLANK(VLOOKUP($A163,'Section 2'!$E$17:$V$216,COLUMNS('Section 2'!$E$13:S$14),0)),\"\",VLOOKUP($A163,'Section 2'!$E$17:$V$216,COLUMNS('Section 2'!$E$13:S$14),0)))","v":""},{"$f":"IF($C163=\"\",\"\",IF(ISBLANK(VLOOKUP($A163,'Section 2'!$E$17:$V$216,COLUMNS('Section 2'!$E$13:T$14),0)),\"\",VLOOKUP($A163,'Section 2'!$E$17:$V$216,COLUMNS('Section 2'!$E$13:T$14),0)))","v":""},{"$f":"IF($C163=\"\",\"\",IF(ISBLANK(VLOOKUP($A163,'Section 2'!$E$17:$V$216,COLUMNS('Section 2'!$E$13:U$14),0)),\"\",VLOOKUP($A163,'Section 2'!$E$17:$V$216,COLUMNS('Section 2'!$E$13:U$14),0)))","v":""},{"$f":"IF($C163=\"\",\"\",IF(ISBLANK(VLOOKUP($A163,'Section 2'!$E$17:$V$216,COLUMNS('Section 2'!$E$13:V$14),0)),\"\",VLOOKUP($A163,'Section 2'!$E$17:$V$216,COLUMNS('Section 2'!$E$13:V$14),0)))","v":""}]
[163,"",{"$f":"IFERROR(VLOOKUP($A164,'Section 2'!$E$17:$V$216,COLUMNS('Section 2'!$E$13:E$14),0),\"\")","v":""},{"$f":"IF($C164=\"\",\"\",IF(ISBLANK(VLOOKUP($A164,'Section 2'!$E$17:$V$216,COLUMNS('Section 2'!$E$13:F$14),0)),\"\",VLOOKUP($A164,'Section 2'!$E$17:$V$216,COLUMNS('Section 2'!$E$13:F$14),0)))","v":""},{"$f":"IF($C164=\"\",\"\",IF(ISBLANK(VLOOKUP($A164,'Section 2'!$E$17:$V$216,COLUMNS('Section 2'!$E$13:G$14),0)),\"\",VLOOKUP($A164,'Section 2'!$E$17:$V$216,COLUMNS('Section 2'!$E$13:G$14),0)))","v":""},{"$f":"IF($C164=\"\",\"\",IF(ISBLANK(VLOOKUP($A164,'Section 2'!$E$17:$V$216,COLUMNS('Section 2'!$E$13:H$14),0)),\"\",VLOOKUP($A164,'Section 2'!$E$17:$V$216,COLUMNS('Section 2'!$E$13:H$14),0)))","v":""},{"$f":"IF($C164=\"\",\"\",IF(ISBLANK(VLOOKUP($A164,'Section 2'!$E$17:$V$216,COLUMNS('Section 2'!$E$13:I$14),0)),\"\",VLOOKUP($A164,'Section 2'!$E$17:$V$216,COLUMNS('Section 2'!$E$13:I$14),0)))","v":""},{"$f":"IF($C164=\"\",\"\",IF(ISBLANK(VLOOKUP($A164,'Section 2'!$E$17:$V$216,COLUMNS('Section 2'!$E$13:J$14),0)),\"\",VLOOKUP($A164,'Section 2'!$E$17:$V$216,COLUMNS('Section 2'!$E$13:J$14),0)))","v":""},{"$f":"IF($C164=\"\",\"\",IF(ISBLANK(VLOOKUP($A164,'Section 2'!$E$17:$V$216,COLUMNS('Section 2'!$E$13:K$14),0)),\"\",VLOOKUP($A164,'Section 2'!$E$17:$V$216,COLUMNS('Section 2'!$E$13:K$14),0)))","v":""},{"$f":"IF($C164=\"\",\"\",IF(ISBLANK(VLOOKUP($A164,'Section 2'!$E$17:$V$216,COLUMNS('Section 2'!$E$13:L$14),0)),\"\",VLOOKUP($A164,'Section 2'!$E$17:$V$216,COLUMNS('Section 2'!$E$13:L$14),0)))","v":""},{"$f":"IF($C164=\"\",\"\",IF(ISBLANK(VLOOKUP($A164,'Section 2'!$E$17:$V$216,COLUMNS('Section 2'!$E$13:M$14),0)),\"\",VLOOKUP($A164,'Section 2'!$E$17:$V$216,COLUMNS('Section 2'!$E$13:M$14),0)))","v":""},{"$f":"IF($C164=\"\",\"\",IF(ISBLANK(VLOOKUP($A164,'Section 2'!$E$17:$V$216,COLUMNS('Section 2'!$E$13:N$14),0)),\"\",VLOOKUP($A164,'Section 2'!$E$17:$V$216,COLUMNS('Section 2'!$E$13:N$14),0)))","v":""},{"$f":"IF($C164=\"\",\"\",IF(ISBLANK(VLOOKUP($A164,'Section 2'!$E$17:$V$216,COLUMNS('Section 2'!$E$13:O$14),0)),\"\",VLOOKUP($A164,'Section 2'!$E$17:$V$216,COLUMNS('Section 2'!$E$13:O$14),0)))","v":""},{"$f":"IF($C164=\"\",\"\",IF(ISBLANK(VLOOKUP($A164,'Section 2'!$E$17:$V$216,COLUMNS('Section 2'!$E$13:P$14),0)),\"\",VLOOKUP($A164,'Section 2'!$E$17:$V$216,COLUMNS('Section 2'!$E$13:P$14),0)))","v":""},{"$f":"IF($C164=\"\",\"\",IF(ISBLANK(VLOOKUP($A164,'Section 2'!$E$17:$V$216,COLUMNS('Section 2'!$E$13:Q$14),0)),\"\",VLOOKUP($A164,'Section 2'!$E$17:$V$216,COLUMNS('Section 2'!$E$13:Q$14),0)))","v":""},{"$f":"IF($C164=\"\",\"\",IF(ISBLANK(VLOOKUP($A164,'Section 2'!$E$17:$V$216,COLUMNS('Section 2'!$E$13:R$14),0)),\"\",VLOOKUP($A164,'Section 2'!$E$17:$V$216,COLUMNS('Section 2'!$E$13:R$14),0)))","v":""},{"$f":"IF($C164=\"\",\"\",IF(ISBLANK(VLOOKUP($A164,'Section 2'!$E$17:$V$216,COLUMNS('Section 2'!$E$13:S$14),0)),\"\",VLOOKUP($A164,'Section 2'!$E$17:$V$216,COLUMNS('Section 2'!$E$13:S$14),0)))","v":""},{"$f":"IF($C164=\"\",\"\",IF(ISBLANK(VLOOKUP($A164,'Section 2'!$E$17:$V$216,COLUMNS('Section 2'!$E$13:T$14),0)),\"\",VLOOKUP($A164,'Section 2'!$E$17:$V$216,COLUMNS('Section 2'!$E$13:T$14),0)))","v":""},{"$f":"IF($C164=\"\",\"\",IF(ISBLANK(VLOOKUP($A164,'Section 2'!$E$17:$V$216,COLUMNS('Section 2'!$E$13:U$14),0)),\"\",VLOOKUP($A164,'Section 2'!$E$17:$V$216,COLUMNS('Section 2'!$E$13:U$14),0)))","v":""},{"$f":"IF($C164=\"\",\"\",IF(ISBLANK(VLOOKUP($A164,'Section 2'!$E$17:$V$216,COLUMNS('Section 2'!$E$13:V$14),0)),\"\",VLOOKUP($A164,'Section 2'!$E$17:$V$216,COLUMNS('Section 2'!$E$13:V$14),0)))","v":""}]
[164,"",{"$f":"IFERROR(VLOOKUP($A165,'Section 2'!$E$17:$V$216,COLUMNS('Section 2'!$E$13:E$14),0),\"\")","v":""},{"$f":"IF($C165=\"\",\"\",IF(ISBLANK(VLOOKUP($A165,'Section 2'!$E$17:$V$216,COLUMNS('Section 2'!$E$13:F$14),0)),\"\",VLOOKUP($A165,'Section 2'!$E$17:$V$216,COLUMNS('Section 2'!$E$13:F$14),0)))","v":""},{"$f":"IF($C165=\"\",\"\",IF(ISBLANK(VLOOKUP($A165,'Section 2'!$E$17:$V$216,COLUMNS('Section 2'!$E$13:G$14),0)),\"\",VLOOKUP($A165,'Section 2'!$E$17:$V$216,COLUMNS('Section 2'!$E$13:G$14),0)))","v":""},{"$f":"IF($C165=\"\",\"\",IF(ISBLANK(VLOOKUP($A165,'Section 2'!$E$17:$V$216,COLUMNS('Section 2'!$E$13:H$14),0)),\"\",VLOOKUP($A165,'Section 2'!$E$17:$V$216,COLUMNS('Section 2'!$E$13:H$14),0)))","v":""},{"$f":"IF($C165=\"\",\"\",IF(ISBLANK(VLOOKUP($A165,'Section 2'!$E$17:$V$216,COLUMNS('Section 2'!$E$13:I$14),0)),\"\",VLOOKUP($A165,'Section 2'!$E$17:$V$216,COLUMNS('Section 2'!$E$13:I$14),0)))","v":""},{"$f":"IF($C165=\"\",\"\",IF(ISBLANK(VLOOKUP($A165,'Section 2'!$E$17:$V$216,COLUMNS('Section 2'!$E$13:J$14),0)),\"\",VLOOKUP($A165,'Section 2'!$E$17:$V$216,COLUMNS('Section 2'!$E$13:J$14),0)))","v":""},{"$f":"IF($C165=\"\",\"\",IF(ISBLANK(VLOOKUP($A165,'Section 2'!$E$17:$V$216,COLUMNS('Section 2'!$E$13:K$14),0)),\"\",VLOOKUP($A165,'Section 2'!$E$17:$V$216,COLUMNS('Section 2'!$E$13:K$14),0)))","v":""},{"$f":"IF($C165=\"\",\"\",IF(ISBLANK(VLOOKUP($A165,'Section 2'!$E$17:$V$216,COLUMNS('Section 2'!$E$13:L$14),0)),\"\",VLOOKUP($A165,'Section 2'!$E$17:$V$216,COLUMNS('Section 2'!$E$13:L$14),0)))","v":""},{"$f":"IF($C165=\"\",\"\",IF(ISBLANK(VLOOKUP($A165,'Section 2'!$E$17:$V$216,COLUMNS('Section 2'!$E$13:M$14),0)),\"\",VLOOKUP($A165,'Section 2'!$E$17:$V$216,COLUMNS('Section 2'!$E$13:M$14),0)))","v":""},{"$f":"IF($C165=\"\",\"\",IF(ISBLANK(VLOOKUP($A165,'Section 2'!$E$17:$V$216,COLUMNS('Section 2'!$E$13:N$14),0)),\"\",VLOOKUP($A165,'Section 2'!$E$17:$V$216,COLUMNS('Section 2'!$E$13:N$14),0)))","v":""},{"$f":"IF($C165=\"\",\"\",IF(ISBLANK(VLOOKUP($A165,'Section 2'!$E$17:$V$216,COLUMNS('Section 2'!$E$13:O$14),0)),\"\",VLOOKUP($A165,'Section 2'!$E$17:$V$216,COLUMNS('Section 2'!$E$13:O$14),0)))","v":""},{"$f":"IF($C165=\"\",\"\",IF(ISBLANK(VLOOKUP($A165,'Section 2'!$E$17:$V$216,COLUMNS('Section 2'!$E$13:P$14),0)),\"\",VLOOKUP($A165,'Section 2'!$E$17:$V$216,COLUMNS('Section 2'!$E$13:P$14),0)))","v":""},{"$f":"IF($C165=\"\",\"\",IF(ISBLANK(VLOOKUP($A165,'Section 2'!$E$17:$V$216,COLUMNS('Section 2'!$E$13:Q$14),0)),\"\",VLOOKUP($A165,'Section 2'!$E$17:$V$216,COLUMNS('Section 2'!$E$13:Q$14),0)))","v":""},{"$f":"IF($C165=\"\",\"\",IF(ISBLANK(VLOOKUP($A165,'Section 2'!$E$17:$V$216,COLUMNS('Section 2'!$E$13:R$14),0)),\"\",VLOOKUP($A165,'Section 2'!$E$17:$V$216,COLUMNS('Section 2'!$E$13:R$14),0)))","v":""},{"$f":"IF($C165=\"\",\"\",IF(ISBLANK(VLOOKUP($A165,'Section 2'!$E$17:$V$216,COLUMNS('Section 2'!$E$13:S$14),0)),\"\",VLOOKUP($A165,'Section 2'!$E$17:$V$216,COLUMNS('Section 2'!$E$13:S$14),0)))","v":""},{"$f":"IF($C165=\"\",\"\",IF(ISBLANK(VLOOKUP($A165,'Section 2'!$E$17:$V$216,COLUMNS('Section 2'!$E$13:T$14),0)),\"\",VLOOKUP($A165,'Section 2'!$E$17:$V$216,COLUMNS('Section 2'!$E$13:T$14),0)))","v":""},{"$f":"IF($C165=\"\",\"\",IF(ISBLANK(VLOOKUP($A165,'Section 2'!$E$17:$V$216,COLUMNS('Section 2'!$E$13:U$14),0)),\"\",VLOOKUP($A165,'Section 2'!$E$17:$V$216,COLUMNS('Section 2'!$E$13:U$14),0)))","v":""},{"$f":"IF($C165=\"\",\"\",IF(ISBLANK(VLOOKUP($A165,'Section 2'!$E$17:$V$216,COLUMNS('Section 2'!$E$13:V$14),0)),\"\",VLOOKUP($A165,'Section 2'!$E$17:$V$216,COLUMNS('Section 2'!$E$13:V$14),0)))","v":""}]
[165,"",{"$f":"IFERROR(VLOOKUP($A166,'Section 2'!$E$17:$V$216,COLUMNS('Section 2'!$E$13:E$14),0),\"\")","v":""},{"$f":"IF($C166=\"\",\"\",IF(ISBLANK(VLOOKUP($A166,'Section 2'!$E$17:$V$216,COLUMNS('Section 2'!$E$13:F$14),0)),\"\",VLOOKUP($A166,'Section 2'!$E$17:$V$216,COLUMNS('Section 2'!$E$13:F$14),0)))","v":""},{"$f":"IF($C166=\"\",\"\",IF(ISBLANK(VLOOKUP($A166,'Section 2'!$E$17:$V$216,COLUMNS('Section 2'!$E$13:G$14),0)),\"\",VLOOKUP($A166,'Section 2'!$E$17:$V$216,COLUMNS('Section 2'!$E$13:G$14),0)))","v":""},{"$f":"IF($C166=\"\",\"\",IF(ISBLANK(VLOOKUP($A166,'Section 2'!$E$17:$V$216,COLUMNS('Section 2'!$E$13:H$14),0)),\"\",VLOOKUP($A166,'Section 2'!$E$17:$V$216,COLUMNS('Section 2'!$E$13:H$14),0)))","v":""},{"$f":"IF($C166=\"\",\"\",IF(ISBLANK(VLOOKUP($A166,'Section 2'!$E$17:$V$216,COLUMNS('Section 2'!$E$13:I$14),0)),\"\",VLOOKUP($A166,'Section 2'!$E$17:$V$216,COLUMNS('Section 2'!$E$13:I$14),0)))","v":""},{"$f":"IF($C166=\"\",\"\",IF(ISBLANK(VLOOKUP($A166,'Section 2'!$E$17:$V$216,COLUMNS('Section 2'!$E$13:J$14),0)),\"\",VLOOKUP($A166,'Section 2'!$E$17:$V$216,COLUMNS('Section 2'!$E$13:J$14),0)))","v":""},{"$f":"IF($C166=\"\",\"\",IF(ISBLANK(VLOOKUP($A166,'Section 2'!$E$17:$V$216,COLUMNS('Section 2'!$E$13:K$14),0)),\"\",VLOOKUP($A166,'Section 2'!$E$17:$V$216,COLUMNS('Section 2'!$E$13:K$14),0)))","v":""},{"$f":"IF($C166=\"\",\"\",IF(ISBLANK(VLOOKUP($A166,'Section 2'!$E$17:$V$216,COLUMNS('Section 2'!$E$13:L$14),0)),\"\",VLOOKUP($A166,'Section 2'!$E$17:$V$216,COLUMNS('Section 2'!$E$13:L$14),0)))","v":""},{"$f":"IF($C166=\"\",\"\",IF(ISBLANK(VLOOKUP($A166,'Section 2'!$E$17:$V$216,COLUMNS('Section 2'!$E$13:M$14),0)),\"\",VLOOKUP($A166,'Section 2'!$E$17:$V$216,COLUMNS('Section 2'!$E$13:M$14),0)))","v":""},{"$f":"IF($C166=\"\",\"\",IF(ISBLANK(VLOOKUP($A166,'Section 2'!$E$17:$V$216,COLUMNS('Section 2'!$E$13:N$14),0)),\"\",VLOOKUP($A166,'Section 2'!$E$17:$V$216,COLUMNS('Section 2'!$E$13:N$14),0)))","v":""},{"$f":"IF($C166=\"\",\"\",IF(ISBLANK(VLOOKUP($A166,'Section 2'!$E$17:$V$216,COLUMNS('Section 2'!$E$13:O$14),0)),\"\",VLOOKUP($A166,'Section 2'!$E$17:$V$216,COLUMNS('Section 2'!$E$13:O$14),0)))","v":""},{"$f":"IF($C166=\"\",\"\",IF(ISBLANK(VLOOKUP($A166,'Section 2'!$E$17:$V$216,COLUMNS('Section 2'!$E$13:P$14),0)),\"\",VLOOKUP($A166,'Section 2'!$E$17:$V$216,COLUMNS('Section 2'!$E$13:P$14),0)))","v":""},{"$f":"IF($C166=\"\",\"\",IF(ISBLANK(VLOOKUP($A166,'Section 2'!$E$17:$V$216,COLUMNS('Section 2'!$E$13:Q$14),0)),\"\",VLOOKUP($A166,'Section 2'!$E$17:$V$216,COLUMNS('Section 2'!$E$13:Q$14),0)))","v":""},{"$f":"IF($C166=\"\",\"\",IF(ISBLANK(VLOOKUP($A166,'Section 2'!$E$17:$V$216,COLUMNS('Section 2'!$E$13:R$14),0)),\"\",VLOOKUP($A166,'Section 2'!$E$17:$V$216,COLUMNS('Section 2'!$E$13:R$14),0)))","v":""},{"$f":"IF($C166=\"\",\"\",IF(ISBLANK(VLOOKUP($A166,'Section 2'!$E$17:$V$216,COLUMNS('Section 2'!$E$13:S$14),0)),\"\",VLOOKUP($A166,'Section 2'!$E$17:$V$216,COLUMNS('Section 2'!$E$13:S$14),0)))","v":""},{"$f":"IF($C166=\"\",\"\",IF(ISBLANK(VLOOKUP($A166,'Section 2'!$E$17:$V$216,COLUMNS('Section 2'!$E$13:T$14),0)),\"\",VLOOKUP($A166,'Section 2'!$E$17:$V$216,COLUMNS('Section 2'!$E$13:T$14),0)))","v":""},{"$f":"IF($C166=\"\",\"\",IF(ISBLANK(VLOOKUP($A166,'Section 2'!$E$17:$V$216,COLUMNS('Section 2'!$E$13:U$14),0)),\"\",VLOOKUP($A166,'Section 2'!$E$17:$V$216,COLUMNS('Section 2'!$E$13:U$14),0)))","v":""},{"$f":"IF($C166=\"\",\"\",IF(ISBLANK(VLOOKUP($A166,'Section 2'!$E$17:$V$216,COLUMNS('Section 2'!$E$13:V$14),0)),\"\",VLOOKUP($A166,'Section 2'!$E$17:$V$216,COLUMNS('Section 2'!$E$13:V$14),0)))","v":""}]
[166,"",{"$f":"IFERROR(VLOOKUP($A167,'Section 2'!$E$17:$V$216,COLUMNS('Section 2'!$E$13:E$14),0),\"\")","v":""},{"$f":"IF($C167=\"\",\"\",IF(ISBLANK(VLOOKUP($A167,'Section 2'!$E$17:$V$216,COLUMNS('Section 2'!$E$13:F$14),0)),\"\",VLOOKUP($A167,'Section 2'!$E$17:$V$216,COLUMNS('Section 2'!$E$13:F$14),0)))","v":""},{"$f":"IF($C167=\"\",\"\",IF(ISBLANK(VLOOKUP($A167,'Section 2'!$E$17:$V$216,COLUMNS('Section 2'!$E$13:G$14),0)),\"\",VLOOKUP($A167,'Section 2'!$E$17:$V$216,COLUMNS('Section 2'!$E$13:G$14),0)))","v":""},{"$f":"IF($C167=\"\",\"\",IF(ISBLANK(VLOOKUP($A167,'Section 2'!$E$17:$V$216,COLUMNS('Section 2'!$E$13:H$14),0)),\"\",VLOOKUP($A167,'Section 2'!$E$17:$V$216,COLUMNS('Section 2'!$E$13:H$14),0)))","v":""},{"$f":"IF($C167=\"\",\"\",IF(ISBLANK(VLOOKUP($A167,'Section 2'!$E$17:$V$216,COLUMNS('Section 2'!$E$13:I$14),0)),\"\",VLOOKUP($A167,'Section 2'!$E$17:$V$216,COLUMNS('Section 2'!$E$13:I$14),0)))","v":""},{"$f":"IF($C167=\"\",\"\",IF(ISBLANK(VLOOKUP($A167,'Section 2'!$E$17:$V$216,COLUMNS('Section 2'!$E$13:J$14),0)),\"\",VLOOKUP($A167,'Section 2'!$E$17:$V$216,COLUMNS('Section 2'!$E$13:J$14),0)))","v":""},{"$f":"IF($C167=\"\",\"\",IF(ISBLANK(VLOOKUP($A167,'Section 2'!$E$17:$V$216,COLUMNS('Section 2'!$E$13:K$14),0)),\"\",VLOOKUP($A167,'Section 2'!$E$17:$V$216,COLUMNS('Section 2'!$E$13:K$14),0)))","v":""},{"$f":"IF($C167=\"\",\"\",IF(ISBLANK(VLOOKUP($A167,'Section 2'!$E$17:$V$216,COLUMNS('Section 2'!$E$13:L$14),0)),\"\",VLOOKUP($A167,'Section 2'!$E$17:$V$216,COLUMNS('Section 2'!$E$13:L$14),0)))","v":""},{"$f":"IF($C167=\"\",\"\",IF(ISBLANK(VLOOKUP($A167,'Section 2'!$E$17:$V$216,COLUMNS('Section 2'!$E$13:M$14),0)),\"\",VLOOKUP($A167,'Section 2'!$E$17:$V$216,COLUMNS('Section 2'!$E$13:M$14),0)))","v":""},{"$f":"IF($C167=\"\",\"\",IF(ISBLANK(VLOOKUP($A167,'Section 2'!$E$17:$V$216,COLUMNS('Section 2'!$E$13:N$14),0)),\"\",VLOOKUP($A167,'Section 2'!$E$17:$V$216,COLUMNS('Section 2'!$E$13:N$14),0)))","v":""},{"$f":"IF($C167=\"\",\"\",IF(ISBLANK(VLOOKUP($A167,'Section 2'!$E$17:$V$216,COLUMNS('Section 2'!$E$13:O$14),0)),\"\",VLOOKUP($A167,'Section 2'!$E$17:$V$216,COLUMNS('Section 2'!$E$13:O$14),0)))","v":""},{"$f":"IF($C167=\"\",\"\",IF(ISBLANK(VLOOKUP($A167,'Section 2'!$E$17:$V$216,COLUMNS('Section 2'!$E$13:P$14),0)),\"\",VLOOKUP($A167,'Section 2'!$E$17:$V$216,COLUMNS('Section 2'!$E$13:P$14),0)))","v":""},{"$f":"IF($C167=\"\",\"\",IF(ISBLANK(VLOOKUP($A167,'Section 2'!$E$17:$V$216,COLUMNS('Section 2'!$E$13:Q$14),0)),\"\",VLOOKUP($A167,'Section 2'!$E$17:$V$216,COLUMNS('Section 2'!$E$13:Q$14),0)))","v":""},{"$f":"IF($C167=\"\",\"\",IF(ISBLANK(VLOOKUP($A167,'Section 2'!$E$17:$V$216,COLUMNS('Section 2'!$E$13:R$14),0)),\"\",VLOOKUP($A167,'Section 2'!$E$17:$V$216,COLUMNS('Section 2'!$E$13:R$14),0)))","v":""},{"$f":"IF($C167=\"\",\"\",IF(ISBLANK(VLOOKUP($A167,'Section 2'!$E$17:$V$216,COLUMNS('Section 2'!$E$13:S$14),0)),\"\",VLOOKUP($A167,'Section 2'!$E$17:$V$216,COLUMNS('Section 2'!$E$13:S$14),0)))","v":""},{"$f":"IF($C167=\"\",\"\",IF(ISBLANK(VLOOKUP($A167,'Section 2'!$E$17:$V$216,COLUMNS('Section 2'!$E$13:T$14),0)),\"\",VLOOKUP($A167,'Section 2'!$E$17:$V$216,COLUMNS('Section 2'!$E$13:T$14),0)))","v":""},{"$f":"IF($C167=\"\",\"\",IF(ISBLANK(VLOOKUP($A167,'Section 2'!$E$17:$V$216,COLUMNS('Section 2'!$E$13:U$14),0)),\"\",VLOOKUP($A167,'Section 2'!$E$17:$V$216,COLUMNS('Section 2'!$E$13:U$14),0)))","v":""},{"$f":"IF($C167=\"\",\"\",IF(ISBLANK(VLOOKUP($A167,'Section 2'!$E$17:$V$216,COLUMNS('Section 2'!$E$13:V$14),0)),\"\",VLOOKUP($A167,'Section 2'!$E$17:$V$216,COLUMNS('Section 2'!$E$13:V$14),0)))","v":""}]
[167,"",{"$f":"IFERROR(VLOOKUP($A168,'Section 2'!$E$17:$V$216,COLUMNS('Section 2'!$E$13:E$14),0),\"\")","v":""},{"$f":"IF($C168=\"\",\"\",IF(ISBLANK(VLOOKUP($A168,'Section 2'!$E$17:$V$216,COLUMNS('Section 2'!$E$13:F$14),0)),\"\",VLOOKUP($A168,'Section 2'!$E$17:$V$216,COLUMNS('Section 2'!$E$13:F$14),0)))","v":""},{"$f":"IF($C168=\"\",\"\",IF(ISBLANK(VLOOKUP($A168,'Section 2'!$E$17:$V$216,COLUMNS('Section 2'!$E$13:G$14),0)),\"\",VLOOKUP($A168,'Section 2'!$E$17:$V$216,COLUMNS('Section 2'!$E$13:G$14),0)))","v":""},{"$f":"IF($C168=\"\",\"\",IF(ISBLANK(VLOOKUP($A168,'Section 2'!$E$17:$V$216,COLUMNS('Section 2'!$E$13:H$14),0)),\"\",VLOOKUP($A168,'Section 2'!$E$17:$V$216,COLUMNS('Section 2'!$E$13:H$14),0)))","v":""},{"$f":"IF($C168=\"\",\"\",IF(ISBLANK(VLOOKUP($A168,'Section 2'!$E$17:$V$216,COLUMNS('Section 2'!$E$13:I$14),0)),\"\",VLOOKUP($A168,'Section 2'!$E$17:$V$216,COLUMNS('Section 2'!$E$13:I$14),0)))","v":""},{"$f":"IF($C168=\"\",\"\",IF(ISBLANK(VLOOKUP($A168,'Section 2'!$E$17:$V$216,COLUMNS('Section 2'!$E$13:J$14),0)),\"\",VLOOKUP($A168,'Section 2'!$E$17:$V$216,COLUMNS('Section 2'!$E$13:J$14),0)))","v":""},{"$f":"IF($C168=\"\",\"\",IF(ISBLANK(VLOOKUP($A168,'Section 2'!$E$17:$V$216,COLUMNS('Section 2'!$E$13:K$14),0)),\"\",VLOOKUP($A168,'Section 2'!$E$17:$V$216,COLUMNS('Section 2'!$E$13:K$14),0)))","v":""},{"$f":"IF($C168=\"\",\"\",IF(ISBLANK(VLOOKUP($A168,'Section 2'!$E$17:$V$216,COLUMNS('Section 2'!$E$13:L$14),0)),\"\",VLOOKUP($A168,'Section 2'!$E$17:$V$216,COLUMNS('Section 2'!$E$13:L$14),0)))","v":""},{"$f":"IF($C168=\"\",\"\",IF(ISBLANK(VLOOKUP($A168,'Section 2'!$E$17:$V$216,COLUMNS('Section 2'!$E$13:M$14),0)),\"\",VLOOKUP($A168,'Section 2'!$E$17:$V$216,COLUMNS('Section 2'!$E$13:M$14),0)))","v":""},{"$f":"IF($C168=\"\",\"\",IF(ISBLANK(VLOOKUP($A168,'Section 2'!$E$17:$V$216,COLUMNS('Section 2'!$E$13:N$14),0)),\"\",VLOOKUP($A168,'Section 2'!$E$17:$V$216,COLUMNS('Section 2'!$E$13:N$14),0)))","v":""},{"$f":"IF($C168=\"\",\"\",IF(ISBLANK(VLOOKUP($A168,'Section 2'!$E$17:$V$216,COLUMNS('Section 2'!$E$13:O$14),0)),\"\",VLOOKUP($A168,'Section 2'!$E$17:$V$216,COLUMNS('Section 2'!$E$13:O$14),0)))","v":""},{"$f":"IF($C168=\"\",\"\",IF(ISBLANK(VLOOKUP($A168,'Section 2'!$E$17:$V$216,COLUMNS('Section 2'!$E$13:P$14),0)),\"\",VLOOKUP($A168,'Section 2'!$E$17:$V$216,COLUMNS('Section 2'!$E$13:P$14),0)))","v":""},{"$f":"IF($C168=\"\",\"\",IF(ISBLANK(VLOOKUP($A168,'Section 2'!$E$17:$V$216,COLUMNS('Section 2'!$E$13:Q$14),0)),\"\",VLOOKUP($A168,'Section 2'!$E$17:$V$216,COLUMNS('Section 2'!$E$13:Q$14),0)))","v":""},{"$f":"IF($C168=\"\",\"\",IF(ISBLANK(VLOOKUP($A168,'Section 2'!$E$17:$V$216,COLUMNS('Section 2'!$E$13:R$14),0)),\"\",VLOOKUP($A168,'Section 2'!$E$17:$V$216,COLUMNS('Section 2'!$E$13:R$14),0)))","v":""},{"$f":"IF($C168=\"\",\"\",IF(ISBLANK(VLOOKUP($A168,'Section 2'!$E$17:$V$216,COLUMNS('Section 2'!$E$13:S$14),0)),\"\",VLOOKUP($A168,'Section 2'!$E$17:$V$216,COLUMNS('Section 2'!$E$13:S$14),0)))","v":""},{"$f":"IF($C168=\"\",\"\",IF(ISBLANK(VLOOKUP($A168,'Section 2'!$E$17:$V$216,COLUMNS('Section 2'!$E$13:T$14),0)),\"\",VLOOKUP($A168,'Section 2'!$E$17:$V$216,COLUMNS('Section 2'!$E$13:T$14),0)))","v":""},{"$f":"IF($C168=\"\",\"\",IF(ISBLANK(VLOOKUP($A168,'Section 2'!$E$17:$V$216,COLUMNS('Section 2'!$E$13:U$14),0)),\"\",VLOOKUP($A168,'Section 2'!$E$17:$V$216,COLUMNS('Section 2'!$E$13:U$14),0)))","v":""},{"$f":"IF($C168=\"\",\"\",IF(ISBLANK(VLOOKUP($A168,'Section 2'!$E$17:$V$216,COLUMNS('Section 2'!$E$13:V$14),0)),\"\",VLOOKUP($A168,'Section 2'!$E$17:$V$216,COLUMNS('Section 2'!$E$13:V$14),0)))","v":""}]
[168,"",{"$f":"IFERROR(VLOOKUP($A169,'Section 2'!$E$17:$V$216,COLUMNS('Section 2'!$E$13:E$14),0),\"\")","v":""},{"$f":"IF($C169=\"\",\"\",IF(ISBLANK(VLOOKUP($A169,'Section 2'!$E$17:$V$216,COLUMNS('Section 2'!$E$13:F$14),0)),\"\",VLOOKUP($A169,'Section 2'!$E$17:$V$216,COLUMNS('Section 2'!$E$13:F$14),0)))","v":""},{"$f":"IF($C169=\"\",\"\",IF(ISBLANK(VLOOKUP($A169,'Section 2'!$E$17:$V$216,COLUMNS('Section 2'!$E$13:G$14),0)),\"\",VLOOKUP($A169,'Section 2'!$E$17:$V$216,COLUMNS('Section 2'!$E$13:G$14),0)))","v":""},{"$f":"IF($C169=\"\",\"\",IF(ISBLANK(VLOOKUP($A169,'Section 2'!$E$17:$V$216,COLUMNS('Section 2'!$E$13:H$14),0)),\"\",VLOOKUP($A169,'Section 2'!$E$17:$V$216,COLUMNS('Section 2'!$E$13:H$14),0)))","v":""},{"$f":"IF($C169=\"\",\"\",IF(ISBLANK(VLOOKUP($A169,'Section 2'!$E$17:$V$216,COLUMNS('Section 2'!$E$13:I$14),0)),\"\",VLOOKUP($A169,'Section 2'!$E$17:$V$216,COLUMNS('Section 2'!$E$13:I$14),0)))","v":""},{"$f":"IF($C169=\"\",\"\",IF(ISBLANK(VLOOKUP($A169,'Section 2'!$E$17:$V$216,COLUMNS('Section 2'!$E$13:J$14),0)),\"\",VLOOKUP($A169,'Section 2'!$E$17:$V$216,COLUMNS('Section 2'!$E$13:J$14),0)))","v":""},{"$f":"IF($C169=\"\",\"\",IF(ISBLANK(VLOOKUP($A169,'Section 2'!$E$17:$V$216,COLUMNS('Section 2'!$E$13:K$14),0)),\"\",VLOOKUP($A169,'Section 2'!$E$17:$V$216,COLUMNS('Section 2'!$E$13:K$14),0)))","v":""},{"$f":"IF($C169=\"\",\"\",IF(ISBLANK(VLOOKUP($A169,'Section 2'!$E$17:$V$216,COLUMNS('Section 2'!$E$13:L$14),0)),\"\",VLOOKUP($A169,'Section 2'!$E$17:$V$216,COLUMNS('Section 2'!$E$13:L$14),0)))","v":""},{"$f":"IF($C169=\"\",\"\",IF(ISBLANK(VLOOKUP($A169,'Section 2'!$E$17:$V$216,COLUMNS('Section 2'!$E$13:M$14),0)),\"\",VLOOKUP($A169,'Section 2'!$E$17:$V$216,COLUMNS('Section 2'!$E$13:M$14),0)))","v":""},{"$f":"IF($C169=\"\",\"\",IF(ISBLANK(VLOOKUP($A169,'Section 2'!$E$17:$V$216,COLUMNS('Section 2'!$E$13:N$14),0)),\"\",VLOOKUP($A169,'Section 2'!$E$17:$V$216,COLUMNS('Section 2'!$E$13:N$14),0)))","v":""},{"$f":"IF($C169=\"\",\"\",IF(ISBLANK(VLOOKUP($A169,'Section 2'!$E$17:$V$216,COLUMNS('Section 2'!$E$13:O$14),0)),\"\",VLOOKUP($A169,'Section 2'!$E$17:$V$216,COLUMNS('Section 2'!$E$13:O$14),0)))","v":""},{"$f":"IF($C169=\"\",\"\",IF(ISBLANK(VLOOKUP($A169,'Section 2'!$E$17:$V$216,COLUMNS('Section 2'!$E$13:P$14),0)),\"\",VLOOKUP($A169,'Section 2'!$E$17:$V$216,COLUMNS('Section 2'!$E$13:P$14),0)))","v":""},{"$f":"IF($C169=\"\",\"\",IF(ISBLANK(VLOOKUP($A169,'Section 2'!$E$17:$V$216,COLUMNS('Section 2'!$E$13:Q$14),0)),\"\",VLOOKUP($A169,'Section 2'!$E$17:$V$216,COLUMNS('Section 2'!$E$13:Q$14),0)))","v":""},{"$f":"IF($C169=\"\",\"\",IF(ISBLANK(VLOOKUP($A169,'Section 2'!$E$17:$V$216,COLUMNS('Section 2'!$E$13:R$14),0)),\"\",VLOOKUP($A169,'Section 2'!$E$17:$V$216,COLUMNS('Section 2'!$E$13:R$14),0)))","v":""},{"$f":"IF($C169=\"\",\"\",IF(ISBLANK(VLOOKUP($A169,'Section 2'!$E$17:$V$216,COLUMNS('Section 2'!$E$13:S$14),0)),\"\",VLOOKUP($A169,'Section 2'!$E$17:$V$216,COLUMNS('Section 2'!$E$13:S$14),0)))","v":""},{"$f":"IF($C169=\"\",\"\",IF(ISBLANK(VLOOKUP($A169,'Section 2'!$E$17:$V$216,COLUMNS('Section 2'!$E$13:T$14),0)),\"\",VLOOKUP($A169,'Section 2'!$E$17:$V$216,COLUMNS('Section 2'!$E$13:T$14),0)))","v":""},{"$f":"IF($C169=\"\",\"\",IF(ISBLANK(VLOOKUP($A169,'Section 2'!$E$17:$V$216,COLUMNS('Section 2'!$E$13:U$14),0)),\"\",VLOOKUP($A169,'Section 2'!$E$17:$V$216,COLUMNS('Section 2'!$E$13:U$14),0)))","v":""},{"$f":"IF($C169=\"\",\"\",IF(ISBLANK(VLOOKUP($A169,'Section 2'!$E$17:$V$216,COLUMNS('Section 2'!$E$13:V$14),0)),\"\",VLOOKUP($A169,'Section 2'!$E$17:$V$216,COLUMNS('Section 2'!$E$13:V$14),0)))","v":""}]
[169,"",{"$f":"IFERROR(VLOOKUP($A170,'Section 2'!$E$17:$V$216,COLUMNS('Section 2'!$E$13:E$14),0),\"\")","v":""},{"$f":"IF($C170=\"\",\"\",IF(ISBLANK(VLOOKUP($A170,'Section 2'!$E$17:$V$216,COLUMNS('Section 2'!$E$13:F$14),0)),\"\",VLOOKUP($A170,'Section 2'!$E$17:$V$216,COLUMNS('Section 2'!$E$13:F$14),0)))","v":""},{"$f":"IF($C170=\"\",\"\",IF(ISBLANK(VLOOKUP($A170,'Section 2'!$E$17:$V$216,COLUMNS('Section 2'!$E$13:G$14),0)),\"\",VLOOKUP($A170,'Section 2'!$E$17:$V$216,COLUMNS('Section 2'!$E$13:G$14),0)))","v":""},{"$f":"IF($C170=\"\",\"\",IF(ISBLANK(VLOOKUP($A170,'Section 2'!$E$17:$V$216,COLUMNS('Section 2'!$E$13:H$14),0)),\"\",VLOOKUP($A170,'Section 2'!$E$17:$V$216,COLUMNS('Section 2'!$E$13:H$14),0)))","v":""},{"$f":"IF($C170=\"\",\"\",IF(ISBLANK(VLOOKUP($A170,'Section 2'!$E$17:$V$216,COLUMNS('Section 2'!$E$13:I$14),0)),\"\",VLOOKUP($A170,'Section 2'!$E$17:$V$216,COLUMNS('Section 2'!$E$13:I$14),0)))","v":""},{"$f":"IF($C170=\"\",\"\",IF(ISBLANK(VLOOKUP($A170,'Section 2'!$E$17:$V$216,COLUMNS('Section 2'!$E$13:J$14),0)),\"\",VLOOKUP($A170,'Section 2'!$E$17:$V$216,COLUMNS('Section 2'!$E$13:J$14),0)))","v":""},{"$f":"IF($C170=\"\",\"\",IF(ISBLANK(VLOOKUP($A170,'Section 2'!$E$17:$V$216,COLUMNS('Section 2'!$E$13:K$14),0)),\"\",VLOOKUP($A170,'Section 2'!$E$17:$V$216,COLUMNS('Section 2'!$E$13:K$14),0)))","v":""},{"$f":"IF($C170=\"\",\"\",IF(ISBLANK(VLOOKUP($A170,'Section 2'!$E$17:$V$216,COLUMNS('Section 2'!$E$13:L$14),0)),\"\",VLOOKUP($A170,'Section 2'!$E$17:$V$216,COLUMNS('Section 2'!$E$13:L$14),0)))","v":""},{"$f":"IF($C170=\"\",\"\",IF(ISBLANK(VLOOKUP($A170,'Section 2'!$E$17:$V$216,COLUMNS('Section 2'!$E$13:M$14),0)),\"\",VLOOKUP($A170,'Section 2'!$E$17:$V$216,COLUMNS('Section 2'!$E$13:M$14),0)))","v":""},{"$f":"IF($C170=\"\",\"\",IF(ISBLANK(VLOOKUP($A170,'Section 2'!$E$17:$V$216,COLUMNS('Section 2'!$E$13:N$14),0)),\"\",VLOOKUP($A170,'Section 2'!$E$17:$V$216,COLUMNS('Section 2'!$E$13:N$14),0)))","v":""},{"$f":"IF($C170=\"\",\"\",IF(ISBLANK(VLOOKUP($A170,'Section 2'!$E$17:$V$216,COLUMNS('Section 2'!$E$13:O$14),0)),\"\",VLOOKUP($A170,'Section 2'!$E$17:$V$216,COLUMNS('Section 2'!$E$13:O$14),0)))","v":""},{"$f":"IF($C170=\"\",\"\",IF(ISBLANK(VLOOKUP($A170,'Section 2'!$E$17:$V$216,COLUMNS('Section 2'!$E$13:P$14),0)),\"\",VLOOKUP($A170,'Section 2'!$E$17:$V$216,COLUMNS('Section 2'!$E$13:P$14),0)))","v":""},{"$f":"IF($C170=\"\",\"\",IF(ISBLANK(VLOOKUP($A170,'Section 2'!$E$17:$V$216,COLUMNS('Section 2'!$E$13:Q$14),0)),\"\",VLOOKUP($A170,'Section 2'!$E$17:$V$216,COLUMNS('Section 2'!$E$13:Q$14),0)))","v":""},{"$f":"IF($C170=\"\",\"\",IF(ISBLANK(VLOOKUP($A170,'Section 2'!$E$17:$V$216,COLUMNS('Section 2'!$E$13:R$14),0)),\"\",VLOOKUP($A170,'Section 2'!$E$17:$V$216,COLUMNS('Section 2'!$E$13:R$14),0)))","v":""},{"$f":"IF($C170=\"\",\"\",IF(ISBLANK(VLOOKUP($A170,'Section 2'!$E$17:$V$216,COLUMNS('Section 2'!$E$13:S$14),0)),\"\",VLOOKUP($A170,'Section 2'!$E$17:$V$216,COLUMNS('Section 2'!$E$13:S$14),0)))","v":""},{"$f":"IF($C170=\"\",\"\",IF(ISBLANK(VLOOKUP($A170,'Section 2'!$E$17:$V$216,COLUMNS('Section 2'!$E$13:T$14),0)),\"\",VLOOKUP($A170,'Section 2'!$E$17:$V$216,COLUMNS('Section 2'!$E$13:T$14),0)))","v":""},{"$f":"IF($C170=\"\",\"\",IF(ISBLANK(VLOOKUP($A170,'Section 2'!$E$17:$V$216,COLUMNS('Section 2'!$E$13:U$14),0)),\"\",VLOOKUP($A170,'Section 2'!$E$17:$V$216,COLUMNS('Section 2'!$E$13:U$14),0)))","v":""},{"$f":"IF($C170=\"\",\"\",IF(ISBLANK(VLOOKUP($A170,'Section 2'!$E$17:$V$216,COLUMNS('Section 2'!$E$13:V$14),0)),\"\",VLOOKUP($A170,'Section 2'!$E$17:$V$216,COLUMNS('Section 2'!$E$13:V$14),0)))","v":""}]
[170,"",{"$f":"IFERROR(VLOOKUP($A171,'Section 2'!$E$17:$V$216,COLUMNS('Section 2'!$E$13:E$14),0),\"\")","v":""},{"$f":"IF($C171=\"\",\"\",IF(ISBLANK(VLOOKUP($A171,'Section 2'!$E$17:$V$216,COLUMNS('Section 2'!$E$13:F$14),0)),\"\",VLOOKUP($A171,'Section 2'!$E$17:$V$216,COLUMNS('Section 2'!$E$13:F$14),0)))","v":""},{"$f":"IF($C171=\"\",\"\",IF(ISBLANK(VLOOKUP($A171,'Section 2'!$E$17:$V$216,COLUMNS('Section 2'!$E$13:G$14),0)),\"\",VLOOKUP($A171,'Section 2'!$E$17:$V$216,COLUMNS('Section 2'!$E$13:G$14),0)))","v":""},{"$f":"IF($C171=\"\",\"\",IF(ISBLANK(VLOOKUP($A171,'Section 2'!$E$17:$V$216,COLUMNS('Section 2'!$E$13:H$14),0)),\"\",VLOOKUP($A171,'Section 2'!$E$17:$V$216,COLUMNS('Section 2'!$E$13:H$14),0)))","v":""},{"$f":"IF($C171=\"\",\"\",IF(ISBLANK(VLOOKUP($A171,'Section 2'!$E$17:$V$216,COLUMNS('Section 2'!$E$13:I$14),0)),\"\",VLOOKUP($A171,'Section 2'!$E$17:$V$216,COLUMNS('Section 2'!$E$13:I$14),0)))","v":""},{"$f":"IF($C171=\"\",\"\",IF(ISBLANK(VLOOKUP($A171,'Section 2'!$E$17:$V$216,COLUMNS('Section 2'!$E$13:J$14),0)),\"\",VLOOKUP($A171,'Section 2'!$E$17:$V$216,COLUMNS('Section 2'!$E$13:J$14),0)))","v":""},{"$f":"IF($C171=\"\",\"\",IF(ISBLANK(VLOOKUP($A171,'Section 2'!$E$17:$V$216,COLUMNS('Section 2'!$E$13:K$14),0)),\"\",VLOOKUP($A171,'Section 2'!$E$17:$V$216,COLUMNS('Section 2'!$E$13:K$14),0)))","v":""},{"$f":"IF($C171=\"\",\"\",IF(ISBLANK(VLOOKUP($A171,'Section 2'!$E$17:$V$216,COLUMNS('Section 2'!$E$13:L$14),0)),\"\",VLOOKUP($A171,'Section 2'!$E$17:$V$216,COLUMNS('Section 2'!$E$13:L$14),0)))","v":""},{"$f":"IF($C171=\"\",\"\",IF(ISBLANK(VLOOKUP($A171,'Section 2'!$E$17:$V$216,COLUMNS('Section 2'!$E$13:M$14),0)),\"\",VLOOKUP($A171,'Section 2'!$E$17:$V$216,COLUMNS('Section 2'!$E$13:M$14),0)))","v":""},{"$f":"IF($C171=\"\",\"\",IF(ISBLANK(VLOOKUP($A171,'Section 2'!$E$17:$V$216,COLUMNS('Section 2'!$E$13:N$14),0)),\"\",VLOOKUP($A171,'Section 2'!$E$17:$V$216,COLUMNS('Section 2'!$E$13:N$14),0)))","v":""},{"$f":"IF($C171=\"\",\"\",IF(ISBLANK(VLOOKUP($A171,'Section 2'!$E$17:$V$216,COLUMNS('Section 2'!$E$13:O$14),0)),\"\",VLOOKUP($A171,'Section 2'!$E$17:$V$216,COLUMNS('Section 2'!$E$13:O$14),0)))","v":""},{"$f":"IF($C171=\"\",\"\",IF(ISBLANK(VLOOKUP($A171,'Section 2'!$E$17:$V$216,COLUMNS('Section 2'!$E$13:P$14),0)),\"\",VLOOKUP($A171,'Section 2'!$E$17:$V$216,COLUMNS('Section 2'!$E$13:P$14),0)))","v":""},{"$f":"IF($C171=\"\",\"\",IF(ISBLANK(VLOOKUP($A171,'Section 2'!$E$17:$V$216,COLUMNS('Section 2'!$E$13:Q$14),0)),\"\",VLOOKUP($A171,'Section 2'!$E$17:$V$216,COLUMNS('Section 2'!$E$13:Q$14),0)))","v":""},{"$f":"IF($C171=\"\",\"\",IF(ISBLANK(VLOOKUP($A171,'Section 2'!$E$17:$V$216,COLUMNS('Section 2'!$E$13:R$14),0)),\"\",VLOOKUP($A171,'Section 2'!$E$17:$V$216,COLUMNS('Section 2'!$E$13:R$14),0)))","v":""},{"$f":"IF($C171=\"\",\"\",IF(ISBLANK(VLOOKUP($A171,'Section 2'!$E$17:$V$216,COLUMNS('Section 2'!$E$13:S$14),0)),\"\",VLOOKUP($A171,'Section 2'!$E$17:$V$216,COLUMNS('Section 2'!$E$13:S$14),0)))","v":""},{"$f":"IF($C171=\"\",\"\",IF(ISBLANK(VLOOKUP($A171,'Section 2'!$E$17:$V$216,COLUMNS('Section 2'!$E$13:T$14),0)),\"\",VLOOKUP($A171,'Section 2'!$E$17:$V$216,COLUMNS('Section 2'!$E$13:T$14),0)))","v":""},{"$f":"IF($C171=\"\",\"\",IF(ISBLANK(VLOOKUP($A171,'Section 2'!$E$17:$V$216,COLUMNS('Section 2'!$E$13:U$14),0)),\"\",VLOOKUP($A171,'Section 2'!$E$17:$V$216,COLUMNS('Section 2'!$E$13:U$14),0)))","v":""},{"$f":"IF($C171=\"\",\"\",IF(ISBLANK(VLOOKUP($A171,'Section 2'!$E$17:$V$216,COLUMNS('Section 2'!$E$13:V$14),0)),\"\",VLOOKUP($A171,'Section 2'!$E$17:$V$216,COLUMNS('Section 2'!$E$13:V$14),0)))","v":""}]
[171,"",{"$f":"IFERROR(VLOOKUP($A172,'Section 2'!$E$17:$V$216,COLUMNS('Section 2'!$E$13:E$14),0),\"\")","v":""},{"$f":"IF($C172=\"\",\"\",IF(ISBLANK(VLOOKUP($A172,'Section 2'!$E$17:$V$216,COLUMNS('Section 2'!$E$13:F$14),0)),\"\",VLOOKUP($A172,'Section 2'!$E$17:$V$216,COLUMNS('Section 2'!$E$13:F$14),0)))","v":""},{"$f":"IF($C172=\"\",\"\",IF(ISBLANK(VLOOKUP($A172,'Section 2'!$E$17:$V$216,COLUMNS('Section 2'!$E$13:G$14),0)),\"\",VLOOKUP($A172,'Section 2'!$E$17:$V$216,COLUMNS('Section 2'!$E$13:G$14),0)))","v":""},{"$f":"IF($C172=\"\",\"\",IF(ISBLANK(VLOOKUP($A172,'Section 2'!$E$17:$V$216,COLUMNS('Section 2'!$E$13:H$14),0)),\"\",VLOOKUP($A172,'Section 2'!$E$17:$V$216,COLUMNS('Section 2'!$E$13:H$14),0)))","v":""},{"$f":"IF($C172=\"\",\"\",IF(ISBLANK(VLOOKUP($A172,'Section 2'!$E$17:$V$216,COLUMNS('Section 2'!$E$13:I$14),0)),\"\",VLOOKUP($A172,'Section 2'!$E$17:$V$216,COLUMNS('Section 2'!$E$13:I$14),0)))","v":""},{"$f":"IF($C172=\"\",\"\",IF(ISBLANK(VLOOKUP($A172,'Section 2'!$E$17:$V$216,COLUMNS('Section 2'!$E$13:J$14),0)),\"\",VLOOKUP($A172,'Section 2'!$E$17:$V$216,COLUMNS('Section 2'!$E$13:J$14),0)))","v":""},{"$f":"IF($C172=\"\",\"\",IF(ISBLANK(VLOOKUP($A172,'Section 2'!$E$17:$V$216,COLUMNS('Section 2'!$E$13:K$14),0)),\"\",VLOOKUP($A172,'Section 2'!$E$17:$V$216,COLUMNS('Section 2'!$E$13:K$14),0)))","v":""},{"$f":"IF($C172=\"\",\"\",IF(ISBLANK(VLOOKUP($A172,'Section 2'!$E$17:$V$216,COLUMNS('Section 2'!$E$13:L$14),0)),\"\",VLOOKUP($A172,'Section 2'!$E$17:$V$216,COLUMNS('Section 2'!$E$13:L$14),0)))","v":""},{"$f":"IF($C172=\"\",\"\",IF(ISBLANK(VLOOKUP($A172,'Section 2'!$E$17:$V$216,COLUMNS('Section 2'!$E$13:M$14),0)),\"\",VLOOKUP($A172,'Section 2'!$E$17:$V$216,COLUMNS('Section 2'!$E$13:M$14),0)))","v":""},{"$f":"IF($C172=\"\",\"\",IF(ISBLANK(VLOOKUP($A172,'Section 2'!$E$17:$V$216,COLUMNS('Section 2'!$E$13:N$14),0)),\"\",VLOOKUP($A172,'Section 2'!$E$17:$V$216,COLUMNS('Section 2'!$E$13:N$14),0)))","v":""},{"$f":"IF($C172=\"\",\"\",IF(ISBLANK(VLOOKUP($A172,'Section 2'!$E$17:$V$216,COLUMNS('Section 2'!$E$13:O$14),0)),\"\",VLOOKUP($A172,'Section 2'!$E$17:$V$216,COLUMNS('Section 2'!$E$13:O$14),0)))","v":""},{"$f":"IF($C172=\"\",\"\",IF(ISBLANK(VLOOKUP($A172,'Section 2'!$E$17:$V$216,COLUMNS('Section 2'!$E$13:P$14),0)),\"\",VLOOKUP($A172,'Section 2'!$E$17:$V$216,COLUMNS('Section 2'!$E$13:P$14),0)))","v":""},{"$f":"IF($C172=\"\",\"\",IF(ISBLANK(VLOOKUP($A172,'Section 2'!$E$17:$V$216,COLUMNS('Section 2'!$E$13:Q$14),0)),\"\",VLOOKUP($A172,'Section 2'!$E$17:$V$216,COLUMNS('Section 2'!$E$13:Q$14),0)))","v":""},{"$f":"IF($C172=\"\",\"\",IF(ISBLANK(VLOOKUP($A172,'Section 2'!$E$17:$V$216,COLUMNS('Section 2'!$E$13:R$14),0)),\"\",VLOOKUP($A172,'Section 2'!$E$17:$V$216,COLUMNS('Section 2'!$E$13:R$14),0)))","v":""},{"$f":"IF($C172=\"\",\"\",IF(ISBLANK(VLOOKUP($A172,'Section 2'!$E$17:$V$216,COLUMNS('Section 2'!$E$13:S$14),0)),\"\",VLOOKUP($A172,'Section 2'!$E$17:$V$216,COLUMNS('Section 2'!$E$13:S$14),0)))","v":""},{"$f":"IF($C172=\"\",\"\",IF(ISBLANK(VLOOKUP($A172,'Section 2'!$E$17:$V$216,COLUMNS('Section 2'!$E$13:T$14),0)),\"\",VLOOKUP($A172,'Section 2'!$E$17:$V$216,COLUMNS('Section 2'!$E$13:T$14),0)))","v":""},{"$f":"IF($C172=\"\",\"\",IF(ISBLANK(VLOOKUP($A172,'Section 2'!$E$17:$V$216,COLUMNS('Section 2'!$E$13:U$14),0)),\"\",VLOOKUP($A172,'Section 2'!$E$17:$V$216,COLUMNS('Section 2'!$E$13:U$14),0)))","v":""},{"$f":"IF($C172=\"\",\"\",IF(ISBLANK(VLOOKUP($A172,'Section 2'!$E$17:$V$216,COLUMNS('Section 2'!$E$13:V$14),0)),\"\",VLOOKUP($A172,'Section 2'!$E$17:$V$216,COLUMNS('Section 2'!$E$13:V$14),0)))","v":""}]
[172,"",{"$f":"IFERROR(VLOOKUP($A173,'Section 2'!$E$17:$V$216,COLUMNS('Section 2'!$E$13:E$14),0),\"\")","v":""},{"$f":"IF($C173=\"\",\"\",IF(ISBLANK(VLOOKUP($A173,'Section 2'!$E$17:$V$216,COLUMNS('Section 2'!$E$13:F$14),0)),\"\",VLOOKUP($A173,'Section 2'!$E$17:$V$216,COLUMNS('Section 2'!$E$13:F$14),0)))","v":""},{"$f":"IF($C173=\"\",\"\",IF(ISBLANK(VLOOKUP($A173,'Section 2'!$E$17:$V$216,COLUMNS('Section 2'!$E$13:G$14),0)),\"\",VLOOKUP($A173,'Section 2'!$E$17:$V$216,COLUMNS('Section 2'!$E$13:G$14),0)))","v":""},{"$f":"IF($C173=\"\",\"\",IF(ISBLANK(VLOOKUP($A173,'Section 2'!$E$17:$V$216,COLUMNS('Section 2'!$E$13:H$14),0)),\"\",VLOOKUP($A173,'Section 2'!$E$17:$V$216,COLUMNS('Section 2'!$E$13:H$14),0)))","v":""},{"$f":"IF($C173=\"\",\"\",IF(ISBLANK(VLOOKUP($A173,'Section 2'!$E$17:$V$216,COLUMNS('Section 2'!$E$13:I$14),0)),\"\",VLOOKUP($A173,'Section 2'!$E$17:$V$216,COLUMNS('Section 2'!$E$13:I$14),0)))","v":""},{"$f":"IF($C173=\"\",\"\",IF(ISBLANK(VLOOKUP($A173,'Section 2'!$E$17:$V$216,COLUMNS('Section 2'!$E$13:J$14),0)),\"\",VLOOKUP($A173,'Section 2'!$E$17:$V$216,COLUMNS('Section 2'!$E$13:J$14),0)))","v":""},{"$f":"IF($C173=\"\",\"\",IF(ISBLANK(VLOOKUP($A173,'Section 2'!$E$17:$V$216,COLUMNS('Section 2'!$E$13:K$14),0)),\"\",VLOOKUP($A173,'Section 2'!$E$17:$V$216,COLUMNS('Section 2'!$E$13:K$14),0)))","v":""},{"$f":"IF($C173=\"\",\"\",IF(ISBLANK(VLOOKUP($A173,'Section 2'!$E$17:$V$216,COLUMNS('Section 2'!$E$13:L$14),0)),\"\",VLOOKUP($A173,'Section 2'!$E$17:$V$216,COLUMNS('Section 2'!$E$13:L$14),0)))","v":""},{"$f":"IF($C173=\"\",\"\",IF(ISBLANK(VLOOKUP($A173,'Section 2'!$E$17:$V$216,COLUMNS('Section 2'!$E$13:M$14),0)),\"\",VLOOKUP($A173,'Section 2'!$E$17:$V$216,COLUMNS('Section 2'!$E$13:M$14),0)))","v":""},{"$f":"IF($C173=\"\",\"\",IF(ISBLANK(VLOOKUP($A173,'Section 2'!$E$17:$V$216,COLUMNS('Section 2'!$E$13:N$14),0)),\"\",VLOOKUP($A173,'Section 2'!$E$17:$V$216,COLUMNS('Section 2'!$E$13:N$14),0)))","v":""},{"$f":"IF($C173=\"\",\"\",IF(ISBLANK(VLOOKUP($A173,'Section 2'!$E$17:$V$216,COLUMNS('Section 2'!$E$13:O$14),0)),\"\",VLOOKUP($A173,'Section 2'!$E$17:$V$216,COLUMNS('Section 2'!$E$13:O$14),0)))","v":""},{"$f":"IF($C173=\"\",\"\",IF(ISBLANK(VLOOKUP($A173,'Section 2'!$E$17:$V$216,COLUMNS('Section 2'!$E$13:P$14),0)),\"\",VLOOKUP($A173,'Section 2'!$E$17:$V$216,COLUMNS('Section 2'!$E$13:P$14),0)))","v":""},{"$f":"IF($C173=\"\",\"\",IF(ISBLANK(VLOOKUP($A173,'Section 2'!$E$17:$V$216,COLUMNS('Section 2'!$E$13:Q$14),0)),\"\",VLOOKUP($A173,'Section 2'!$E$17:$V$216,COLUMNS('Section 2'!$E$13:Q$14),0)))","v":""},{"$f":"IF($C173=\"\",\"\",IF(ISBLANK(VLOOKUP($A173,'Section 2'!$E$17:$V$216,COLUMNS('Section 2'!$E$13:R$14),0)),\"\",VLOOKUP($A173,'Section 2'!$E$17:$V$216,COLUMNS('Section 2'!$E$13:R$14),0)))","v":""},{"$f":"IF($C173=\"\",\"\",IF(ISBLANK(VLOOKUP($A173,'Section 2'!$E$17:$V$216,COLUMNS('Section 2'!$E$13:S$14),0)),\"\",VLOOKUP($A173,'Section 2'!$E$17:$V$216,COLUMNS('Section 2'!$E$13:S$14),0)))","v":""},{"$f":"IF($C173=\"\",\"\",IF(ISBLANK(VLOOKUP($A173,'Section 2'!$E$17:$V$216,COLUMNS('Section 2'!$E$13:T$14),0)),\"\",VLOOKUP($A173,'Section 2'!$E$17:$V$216,COLUMNS('Section 2'!$E$13:T$14),0)))","v":""},{"$f":"IF($C173=\"\",\"\",IF(ISBLANK(VLOOKUP($A173,'Section 2'!$E$17:$V$216,COLUMNS('Section 2'!$E$13:U$14),0)),\"\",VLOOKUP($A173,'Section 2'!$E$17:$V$216,COLUMNS('Section 2'!$E$13:U$14),0)))","v":""},{"$f":"IF($C173=\"\",\"\",IF(ISBLANK(VLOOKUP($A173,'Section 2'!$E$17:$V$216,COLUMNS('Section 2'!$E$13:V$14),0)),\"\",VLOOKUP($A173,'Section 2'!$E$17:$V$216,COLUMNS('Section 2'!$E$13:V$14),0)))","v":""}]
[173,"",{"$f":"IFERROR(VLOOKUP($A174,'Section 2'!$E$17:$V$216,COLUMNS('Section 2'!$E$13:E$14),0),\"\")","v":""},{"$f":"IF($C174=\"\",\"\",IF(ISBLANK(VLOOKUP($A174,'Section 2'!$E$17:$V$216,COLUMNS('Section 2'!$E$13:F$14),0)),\"\",VLOOKUP($A174,'Section 2'!$E$17:$V$216,COLUMNS('Section 2'!$E$13:F$14),0)))","v":""},{"$f":"IF($C174=\"\",\"\",IF(ISBLANK(VLOOKUP($A174,'Section 2'!$E$17:$V$216,COLUMNS('Section 2'!$E$13:G$14),0)),\"\",VLOOKUP($A174,'Section 2'!$E$17:$V$216,COLUMNS('Section 2'!$E$13:G$14),0)))","v":""},{"$f":"IF($C174=\"\",\"\",IF(ISBLANK(VLOOKUP($A174,'Section 2'!$E$17:$V$216,COLUMNS('Section 2'!$E$13:H$14),0)),\"\",VLOOKUP($A174,'Section 2'!$E$17:$V$216,COLUMNS('Section 2'!$E$13:H$14),0)))","v":""},{"$f":"IF($C174=\"\",\"\",IF(ISBLANK(VLOOKUP($A174,'Section 2'!$E$17:$V$216,COLUMNS('Section 2'!$E$13:I$14),0)),\"\",VLOOKUP($A174,'Section 2'!$E$17:$V$216,COLUMNS('Section 2'!$E$13:I$14),0)))","v":""},{"$f":"IF($C174=\"\",\"\",IF(ISBLANK(VLOOKUP($A174,'Section 2'!$E$17:$V$216,COLUMNS('Section 2'!$E$13:J$14),0)),\"\",VLOOKUP($A174,'Section 2'!$E$17:$V$216,COLUMNS('Section 2'!$E$13:J$14),0)))","v":""},{"$f":"IF($C174=\"\",\"\",IF(ISBLANK(VLOOKUP($A174,'Section 2'!$E$17:$V$216,COLUMNS('Section 2'!$E$13:K$14),0)),\"\",VLOOKUP($A174,'Section 2'!$E$17:$V$216,COLUMNS('Section 2'!$E$13:K$14),0)))","v":""},{"$f":"IF($C174=\"\",\"\",IF(ISBLANK(VLOOKUP($A174,'Section 2'!$E$17:$V$216,COLUMNS('Section 2'!$E$13:L$14),0)),\"\",VLOOKUP($A174,'Section 2'!$E$17:$V$216,COLUMNS('Section 2'!$E$13:L$14),0)))","v":""},{"$f":"IF($C174=\"\",\"\",IF(ISBLANK(VLOOKUP($A174,'Section 2'!$E$17:$V$216,COLUMNS('Section 2'!$E$13:M$14),0)),\"\",VLOOKUP($A174,'Section 2'!$E$17:$V$216,COLUMNS('Section 2'!$E$13:M$14),0)))","v":""},{"$f":"IF($C174=\"\",\"\",IF(ISBLANK(VLOOKUP($A174,'Section 2'!$E$17:$V$216,COLUMNS('Section 2'!$E$13:N$14),0)),\"\",VLOOKUP($A174,'Section 2'!$E$17:$V$216,COLUMNS('Section 2'!$E$13:N$14),0)))","v":""},{"$f":"IF($C174=\"\",\"\",IF(ISBLANK(VLOOKUP($A174,'Section 2'!$E$17:$V$216,COLUMNS('Section 2'!$E$13:O$14),0)),\"\",VLOOKUP($A174,'Section 2'!$E$17:$V$216,COLUMNS('Section 2'!$E$13:O$14),0)))","v":""},{"$f":"IF($C174=\"\",\"\",IF(ISBLANK(VLOOKUP($A174,'Section 2'!$E$17:$V$216,COLUMNS('Section 2'!$E$13:P$14),0)),\"\",VLOOKUP($A174,'Section 2'!$E$17:$V$216,COLUMNS('Section 2'!$E$13:P$14),0)))","v":""},{"$f":"IF($C174=\"\",\"\",IF(ISBLANK(VLOOKUP($A174,'Section 2'!$E$17:$V$216,COLUMNS('Section 2'!$E$13:Q$14),0)),\"\",VLOOKUP($A174,'Section 2'!$E$17:$V$216,COLUMNS('Section 2'!$E$13:Q$14),0)))","v":""},{"$f":"IF($C174=\"\",\"\",IF(ISBLANK(VLOOKUP($A174,'Section 2'!$E$17:$V$216,COLUMNS('Section 2'!$E$13:R$14),0)),\"\",VLOOKUP($A174,'Section 2'!$E$17:$V$216,COLUMNS('Section 2'!$E$13:R$14),0)))","v":""},{"$f":"IF($C174=\"\",\"\",IF(ISBLANK(VLOOKUP($A174,'Section 2'!$E$17:$V$216,COLUMNS('Section 2'!$E$13:S$14),0)),\"\",VLOOKUP($A174,'Section 2'!$E$17:$V$216,COLUMNS('Section 2'!$E$13:S$14),0)))","v":""},{"$f":"IF($C174=\"\",\"\",IF(ISBLANK(VLOOKUP($A174,'Section 2'!$E$17:$V$216,COLUMNS('Section 2'!$E$13:T$14),0)),\"\",VLOOKUP($A174,'Section 2'!$E$17:$V$216,COLUMNS('Section 2'!$E$13:T$14),0)))","v":""},{"$f":"IF($C174=\"\",\"\",IF(ISBLANK(VLOOKUP($A174,'Section 2'!$E$17:$V$216,COLUMNS('Section 2'!$E$13:U$14),0)),\"\",VLOOKUP($A174,'Section 2'!$E$17:$V$216,COLUMNS('Section 2'!$E$13:U$14),0)))","v":""},{"$f":"IF($C174=\"\",\"\",IF(ISBLANK(VLOOKUP($A174,'Section 2'!$E$17:$V$216,COLUMNS('Section 2'!$E$13:V$14),0)),\"\",VLOOKUP($A174,'Section 2'!$E$17:$V$216,COLUMNS('Section 2'!$E$13:V$14),0)))","v":""}]
[174,"",{"$f":"IFERROR(VLOOKUP($A175,'Section 2'!$E$17:$V$216,COLUMNS('Section 2'!$E$13:E$14),0),\"\")","v":""},{"$f":"IF($C175=\"\",\"\",IF(ISBLANK(VLOOKUP($A175,'Section 2'!$E$17:$V$216,COLUMNS('Section 2'!$E$13:F$14),0)),\"\",VLOOKUP($A175,'Section 2'!$E$17:$V$216,COLUMNS('Section 2'!$E$13:F$14),0)))","v":""},{"$f":"IF($C175=\"\",\"\",IF(ISBLANK(VLOOKUP($A175,'Section 2'!$E$17:$V$216,COLUMNS('Section 2'!$E$13:G$14),0)),\"\",VLOOKUP($A175,'Section 2'!$E$17:$V$216,COLUMNS('Section 2'!$E$13:G$14),0)))","v":""},{"$f":"IF($C175=\"\",\"\",IF(ISBLANK(VLOOKUP($A175,'Section 2'!$E$17:$V$216,COLUMNS('Section 2'!$E$13:H$14),0)),\"\",VLOOKUP($A175,'Section 2'!$E$17:$V$216,COLUMNS('Section 2'!$E$13:H$14),0)))","v":""},{"$f":"IF($C175=\"\",\"\",IF(ISBLANK(VLOOKUP($A175,'Section 2'!$E$17:$V$216,COLUMNS('Section 2'!$E$13:I$14),0)),\"\",VLOOKUP($A175,'Section 2'!$E$17:$V$216,COLUMNS('Section 2'!$E$13:I$14),0)))","v":""},{"$f":"IF($C175=\"\",\"\",IF(ISBLANK(VLOOKUP($A175,'Section 2'!$E$17:$V$216,COLUMNS('Section 2'!$E$13:J$14),0)),\"\",VLOOKUP($A175,'Section 2'!$E$17:$V$216,COLUMNS('Section 2'!$E$13:J$14),0)))","v":""},{"$f":"IF($C175=\"\",\"\",IF(ISBLANK(VLOOKUP($A175,'Section 2'!$E$17:$V$216,COLUMNS('Section 2'!$E$13:K$14),0)),\"\",VLOOKUP($A175,'Section 2'!$E$17:$V$216,COLUMNS('Section 2'!$E$13:K$14),0)))","v":""},{"$f":"IF($C175=\"\",\"\",IF(ISBLANK(VLOOKUP($A175,'Section 2'!$E$17:$V$216,COLUMNS('Section 2'!$E$13:L$14),0)),\"\",VLOOKUP($A175,'Section 2'!$E$17:$V$216,COLUMNS('Section 2'!$E$13:L$14),0)))","v":""},{"$f":"IF($C175=\"\",\"\",IF(ISBLANK(VLOOKUP($A175,'Section 2'!$E$17:$V$216,COLUMNS('Section 2'!$E$13:M$14),0)),\"\",VLOOKUP($A175,'Section 2'!$E$17:$V$216,COLUMNS('Section 2'!$E$13:M$14),0)))","v":""},{"$f":"IF($C175=\"\",\"\",IF(ISBLANK(VLOOKUP($A175,'Section 2'!$E$17:$V$216,COLUMNS('Section 2'!$E$13:N$14),0)),\"\",VLOOKUP($A175,'Section 2'!$E$17:$V$216,COLUMNS('Section 2'!$E$13:N$14),0)))","v":""},{"$f":"IF($C175=\"\",\"\",IF(ISBLANK(VLOOKUP($A175,'Section 2'!$E$17:$V$216,COLUMNS('Section 2'!$E$13:O$14),0)),\"\",VLOOKUP($A175,'Section 2'!$E$17:$V$216,COLUMNS('Section 2'!$E$13:O$14),0)))","v":""},{"$f":"IF($C175=\"\",\"\",IF(ISBLANK(VLOOKUP($A175,'Section 2'!$E$17:$V$216,COLUMNS('Section 2'!$E$13:P$14),0)),\"\",VLOOKUP($A175,'Section 2'!$E$17:$V$216,COLUMNS('Section 2'!$E$13:P$14),0)))","v":""},{"$f":"IF($C175=\"\",\"\",IF(ISBLANK(VLOOKUP($A175,'Section 2'!$E$17:$V$216,COLUMNS('Section 2'!$E$13:Q$14),0)),\"\",VLOOKUP($A175,'Section 2'!$E$17:$V$216,COLUMNS('Section 2'!$E$13:Q$14),0)))","v":""},{"$f":"IF($C175=\"\",\"\",IF(ISBLANK(VLOOKUP($A175,'Section 2'!$E$17:$V$216,COLUMNS('Section 2'!$E$13:R$14),0)),\"\",VLOOKUP($A175,'Section 2'!$E$17:$V$216,COLUMNS('Section 2'!$E$13:R$14),0)))","v":""},{"$f":"IF($C175=\"\",\"\",IF(ISBLANK(VLOOKUP($A175,'Section 2'!$E$17:$V$216,COLUMNS('Section 2'!$E$13:S$14),0)),\"\",VLOOKUP($A175,'Section 2'!$E$17:$V$216,COLUMNS('Section 2'!$E$13:S$14),0)))","v":""},{"$f":"IF($C175=\"\",\"\",IF(ISBLANK(VLOOKUP($A175,'Section 2'!$E$17:$V$216,COLUMNS('Section 2'!$E$13:T$14),0)),\"\",VLOOKUP($A175,'Section 2'!$E$17:$V$216,COLUMNS('Section 2'!$E$13:T$14),0)))","v":""},{"$f":"IF($C175=\"\",\"\",IF(ISBLANK(VLOOKUP($A175,'Section 2'!$E$17:$V$216,COLUMNS('Section 2'!$E$13:U$14),0)),\"\",VLOOKUP($A175,'Section 2'!$E$17:$V$216,COLUMNS('Section 2'!$E$13:U$14),0)))","v":""},{"$f":"IF($C175=\"\",\"\",IF(ISBLANK(VLOOKUP($A175,'Section 2'!$E$17:$V$216,COLUMNS('Section 2'!$E$13:V$14),0)),\"\",VLOOKUP($A175,'Section 2'!$E$17:$V$216,COLUMNS('Section 2'!$E$13:V$14),0)))","v":""}]
[175,"",{"$f":"IFERROR(VLOOKUP($A176,'Section 2'!$E$17:$V$216,COLUMNS('Section 2'!$E$13:E$14),0),\"\")","v":""},{"$f":"IF($C176=\"\",\"\",IF(ISBLANK(VLOOKUP($A176,'Section 2'!$E$17:$V$216,COLUMNS('Section 2'!$E$13:F$14),0)),\"\",VLOOKUP($A176,'Section 2'!$E$17:$V$216,COLUMNS('Section 2'!$E$13:F$14),0)))","v":""},{"$f":"IF($C176=\"\",\"\",IF(ISBLANK(VLOOKUP($A176,'Section 2'!$E$17:$V$216,COLUMNS('Section 2'!$E$13:G$14),0)),\"\",VLOOKUP($A176,'Section 2'!$E$17:$V$216,COLUMNS('Section 2'!$E$13:G$14),0)))","v":""},{"$f":"IF($C176=\"\",\"\",IF(ISBLANK(VLOOKUP($A176,'Section 2'!$E$17:$V$216,COLUMNS('Section 2'!$E$13:H$14),0)),\"\",VLOOKUP($A176,'Section 2'!$E$17:$V$216,COLUMNS('Section 2'!$E$13:H$14),0)))","v":""},{"$f":"IF($C176=\"\",\"\",IF(ISBLANK(VLOOKUP($A176,'Section 2'!$E$17:$V$216,COLUMNS('Section 2'!$E$13:I$14),0)),\"\",VLOOKUP($A176,'Section 2'!$E$17:$V$216,COLUMNS('Section 2'!$E$13:I$14),0)))","v":""},{"$f":"IF($C176=\"\",\"\",IF(ISBLANK(VLOOKUP($A176,'Section 2'!$E$17:$V$216,COLUMNS('Section 2'!$E$13:J$14),0)),\"\",VLOOKUP($A176,'Section 2'!$E$17:$V$216,COLUMNS('Section 2'!$E$13:J$14),0)))","v":""},{"$f":"IF($C176=\"\",\"\",IF(ISBLANK(VLOOKUP($A176,'Section 2'!$E$17:$V$216,COLUMNS('Section 2'!$E$13:K$14),0)),\"\",VLOOKUP($A176,'Section 2'!$E$17:$V$216,COLUMNS('Section 2'!$E$13:K$14),0)))","v":""},{"$f":"IF($C176=\"\",\"\",IF(ISBLANK(VLOOKUP($A176,'Section 2'!$E$17:$V$216,COLUMNS('Section 2'!$E$13:L$14),0)),\"\",VLOOKUP($A176,'Section 2'!$E$17:$V$216,COLUMNS('Section 2'!$E$13:L$14),0)))","v":""},{"$f":"IF($C176=\"\",\"\",IF(ISBLANK(VLOOKUP($A176,'Section 2'!$E$17:$V$216,COLUMNS('Section 2'!$E$13:M$14),0)),\"\",VLOOKUP($A176,'Section 2'!$E$17:$V$216,COLUMNS('Section 2'!$E$13:M$14),0)))","v":""},{"$f":"IF($C176=\"\",\"\",IF(ISBLANK(VLOOKUP($A176,'Section 2'!$E$17:$V$216,COLUMNS('Section 2'!$E$13:N$14),0)),\"\",VLOOKUP($A176,'Section 2'!$E$17:$V$216,COLUMNS('Section 2'!$E$13:N$14),0)))","v":""},{"$f":"IF($C176=\"\",\"\",IF(ISBLANK(VLOOKUP($A176,'Section 2'!$E$17:$V$216,COLUMNS('Section 2'!$E$13:O$14),0)),\"\",VLOOKUP($A176,'Section 2'!$E$17:$V$216,COLUMNS('Section 2'!$E$13:O$14),0)))","v":""},{"$f":"IF($C176=\"\",\"\",IF(ISBLANK(VLOOKUP($A176,'Section 2'!$E$17:$V$216,COLUMNS('Section 2'!$E$13:P$14),0)),\"\",VLOOKUP($A176,'Section 2'!$E$17:$V$216,COLUMNS('Section 2'!$E$13:P$14),0)))","v":""},{"$f":"IF($C176=\"\",\"\",IF(ISBLANK(VLOOKUP($A176,'Section 2'!$E$17:$V$216,COLUMNS('Section 2'!$E$13:Q$14),0)),\"\",VLOOKUP($A176,'Section 2'!$E$17:$V$216,COLUMNS('Section 2'!$E$13:Q$14),0)))","v":""},{"$f":"IF($C176=\"\",\"\",IF(ISBLANK(VLOOKUP($A176,'Section 2'!$E$17:$V$216,COLUMNS('Section 2'!$E$13:R$14),0)),\"\",VLOOKUP($A176,'Section 2'!$E$17:$V$216,COLUMNS('Section 2'!$E$13:R$14),0)))","v":""},{"$f":"IF($C176=\"\",\"\",IF(ISBLANK(VLOOKUP($A176,'Section 2'!$E$17:$V$216,COLUMNS('Section 2'!$E$13:S$14),0)),\"\",VLOOKUP($A176,'Section 2'!$E$17:$V$216,COLUMNS('Section 2'!$E$13:S$14),0)))","v":""},{"$f":"IF($C176=\"\",\"\",IF(ISBLANK(VLOOKUP($A176,'Section 2'!$E$17:$V$216,COLUMNS('Section 2'!$E$13:T$14),0)),\"\",VLOOKUP($A176,'Section 2'!$E$17:$V$216,COLUMNS('Section 2'!$E$13:T$14),0)))","v":""},{"$f":"IF($C176=\"\",\"\",IF(ISBLANK(VLOOKUP($A176,'Section 2'!$E$17:$V$216,COLUMNS('Section 2'!$E$13:U$14),0)),\"\",VLOOKUP($A176,'Section 2'!$E$17:$V$216,COLUMNS('Section 2'!$E$13:U$14),0)))","v":""},{"$f":"IF($C176=\"\",\"\",IF(ISBLANK(VLOOKUP($A176,'Section 2'!$E$17:$V$216,COLUMNS('Section 2'!$E$13:V$14),0)),\"\",VLOOKUP($A176,'Section 2'!$E$17:$V$216,COLUMNS('Section 2'!$E$13:V$14),0)))","v":""}]
[176,"",{"$f":"IFERROR(VLOOKUP($A177,'Section 2'!$E$17:$V$216,COLUMNS('Section 2'!$E$13:E$14),0),\"\")","v":""},{"$f":"IF($C177=\"\",\"\",IF(ISBLANK(VLOOKUP($A177,'Section 2'!$E$17:$V$216,COLUMNS('Section 2'!$E$13:F$14),0)),\"\",VLOOKUP($A177,'Section 2'!$E$17:$V$216,COLUMNS('Section 2'!$E$13:F$14),0)))","v":""},{"$f":"IF($C177=\"\",\"\",IF(ISBLANK(VLOOKUP($A177,'Section 2'!$E$17:$V$216,COLUMNS('Section 2'!$E$13:G$14),0)),\"\",VLOOKUP($A177,'Section 2'!$E$17:$V$216,COLUMNS('Section 2'!$E$13:G$14),0)))","v":""},{"$f":"IF($C177=\"\",\"\",IF(ISBLANK(VLOOKUP($A177,'Section 2'!$E$17:$V$216,COLUMNS('Section 2'!$E$13:H$14),0)),\"\",VLOOKUP($A177,'Section 2'!$E$17:$V$216,COLUMNS('Section 2'!$E$13:H$14),0)))","v":""},{"$f":"IF($C177=\"\",\"\",IF(ISBLANK(VLOOKUP($A177,'Section 2'!$E$17:$V$216,COLUMNS('Section 2'!$E$13:I$14),0)),\"\",VLOOKUP($A177,'Section 2'!$E$17:$V$216,COLUMNS('Section 2'!$E$13:I$14),0)))","v":""},{"$f":"IF($C177=\"\",\"\",IF(ISBLANK(VLOOKUP($A177,'Section 2'!$E$17:$V$216,COLUMNS('Section 2'!$E$13:J$14),0)),\"\",VLOOKUP($A177,'Section 2'!$E$17:$V$216,COLUMNS('Section 2'!$E$13:J$14),0)))","v":""},{"$f":"IF($C177=\"\",\"\",IF(ISBLANK(VLOOKUP($A177,'Section 2'!$E$17:$V$216,COLUMNS('Section 2'!$E$13:K$14),0)),\"\",VLOOKUP($A177,'Section 2'!$E$17:$V$216,COLUMNS('Section 2'!$E$13:K$14),0)))","v":""},{"$f":"IF($C177=\"\",\"\",IF(ISBLANK(VLOOKUP($A177,'Section 2'!$E$17:$V$216,COLUMNS('Section 2'!$E$13:L$14),0)),\"\",VLOOKUP($A177,'Section 2'!$E$17:$V$216,COLUMNS('Section 2'!$E$13:L$14),0)))","v":""},{"$f":"IF($C177=\"\",\"\",IF(ISBLANK(VLOOKUP($A177,'Section 2'!$E$17:$V$216,COLUMNS('Section 2'!$E$13:M$14),0)),\"\",VLOOKUP($A177,'Section 2'!$E$17:$V$216,COLUMNS('Section 2'!$E$13:M$14),0)))","v":""},{"$f":"IF($C177=\"\",\"\",IF(ISBLANK(VLOOKUP($A177,'Section 2'!$E$17:$V$216,COLUMNS('Section 2'!$E$13:N$14),0)),\"\",VLOOKUP($A177,'Section 2'!$E$17:$V$216,COLUMNS('Section 2'!$E$13:N$14),0)))","v":""},{"$f":"IF($C177=\"\",\"\",IF(ISBLANK(VLOOKUP($A177,'Section 2'!$E$17:$V$216,COLUMNS('Section 2'!$E$13:O$14),0)),\"\",VLOOKUP($A177,'Section 2'!$E$17:$V$216,COLUMNS('Section 2'!$E$13:O$14),0)))","v":""},{"$f":"IF($C177=\"\",\"\",IF(ISBLANK(VLOOKUP($A177,'Section 2'!$E$17:$V$216,COLUMNS('Section 2'!$E$13:P$14),0)),\"\",VLOOKUP($A177,'Section 2'!$E$17:$V$216,COLUMNS('Section 2'!$E$13:P$14),0)))","v":""},{"$f":"IF($C177=\"\",\"\",IF(ISBLANK(VLOOKUP($A177,'Section 2'!$E$17:$V$216,COLUMNS('Section 2'!$E$13:Q$14),0)),\"\",VLOOKUP($A177,'Section 2'!$E$17:$V$216,COLUMNS('Section 2'!$E$13:Q$14),0)))","v":""},{"$f":"IF($C177=\"\",\"\",IF(ISBLANK(VLOOKUP($A177,'Section 2'!$E$17:$V$216,COLUMNS('Section 2'!$E$13:R$14),0)),\"\",VLOOKUP($A177,'Section 2'!$E$17:$V$216,COLUMNS('Section 2'!$E$13:R$14),0)))","v":""},{"$f":"IF($C177=\"\",\"\",IF(ISBLANK(VLOOKUP($A177,'Section 2'!$E$17:$V$216,COLUMNS('Section 2'!$E$13:S$14),0)),\"\",VLOOKUP($A177,'Section 2'!$E$17:$V$216,COLUMNS('Section 2'!$E$13:S$14),0)))","v":""},{"$f":"IF($C177=\"\",\"\",IF(ISBLANK(VLOOKUP($A177,'Section 2'!$E$17:$V$216,COLUMNS('Section 2'!$E$13:T$14),0)),\"\",VLOOKUP($A177,'Section 2'!$E$17:$V$216,COLUMNS('Section 2'!$E$13:T$14),0)))","v":""},{"$f":"IF($C177=\"\",\"\",IF(ISBLANK(VLOOKUP($A177,'Section 2'!$E$17:$V$216,COLUMNS('Section 2'!$E$13:U$14),0)),\"\",VLOOKUP($A177,'Section 2'!$E$17:$V$216,COLUMNS('Section 2'!$E$13:U$14),0)))","v":""},{"$f":"IF($C177=\"\",\"\",IF(ISBLANK(VLOOKUP($A177,'Section 2'!$E$17:$V$216,COLUMNS('Section 2'!$E$13:V$14),0)),\"\",VLOOKUP($A177,'Section 2'!$E$17:$V$216,COLUMNS('Section 2'!$E$13:V$14),0)))","v":""}]
[177,"",{"$f":"IFERROR(VLOOKUP($A178,'Section 2'!$E$17:$V$216,COLUMNS('Section 2'!$E$13:E$14),0),\"\")","v":""},{"$f":"IF($C178=\"\",\"\",IF(ISBLANK(VLOOKUP($A178,'Section 2'!$E$17:$V$216,COLUMNS('Section 2'!$E$13:F$14),0)),\"\",VLOOKUP($A178,'Section 2'!$E$17:$V$216,COLUMNS('Section 2'!$E$13:F$14),0)))","v":""},{"$f":"IF($C178=\"\",\"\",IF(ISBLANK(VLOOKUP($A178,'Section 2'!$E$17:$V$216,COLUMNS('Section 2'!$E$13:G$14),0)),\"\",VLOOKUP($A178,'Section 2'!$E$17:$V$216,COLUMNS('Section 2'!$E$13:G$14),0)))","v":""},{"$f":"IF($C178=\"\",\"\",IF(ISBLANK(VLOOKUP($A178,'Section 2'!$E$17:$V$216,COLUMNS('Section 2'!$E$13:H$14),0)),\"\",VLOOKUP($A178,'Section 2'!$E$17:$V$216,COLUMNS('Section 2'!$E$13:H$14),0)))","v":""},{"$f":"IF($C178=\"\",\"\",IF(ISBLANK(VLOOKUP($A178,'Section 2'!$E$17:$V$216,COLUMNS('Section 2'!$E$13:I$14),0)),\"\",VLOOKUP($A178,'Section 2'!$E$17:$V$216,COLUMNS('Section 2'!$E$13:I$14),0)))","v":""},{"$f":"IF($C178=\"\",\"\",IF(ISBLANK(VLOOKUP($A178,'Section 2'!$E$17:$V$216,COLUMNS('Section 2'!$E$13:J$14),0)),\"\",VLOOKUP($A178,'Section 2'!$E$17:$V$216,COLUMNS('Section 2'!$E$13:J$14),0)))","v":""},{"$f":"IF($C178=\"\",\"\",IF(ISBLANK(VLOOKUP($A178,'Section 2'!$E$17:$V$216,COLUMNS('Section 2'!$E$13:K$14),0)),\"\",VLOOKUP($A178,'Section 2'!$E$17:$V$216,COLUMNS('Section 2'!$E$13:K$14),0)))","v":""},{"$f":"IF($C178=\"\",\"\",IF(ISBLANK(VLOOKUP($A178,'Section 2'!$E$17:$V$216,COLUMNS('Section 2'!$E$13:L$14),0)),\"\",VLOOKUP($A178,'Section 2'!$E$17:$V$216,COLUMNS('Section 2'!$E$13:L$14),0)))","v":""},{"$f":"IF($C178=\"\",\"\",IF(ISBLANK(VLOOKUP($A178,'Section 2'!$E$17:$V$216,COLUMNS('Section 2'!$E$13:M$14),0)),\"\",VLOOKUP($A178,'Section 2'!$E$17:$V$216,COLUMNS('Section 2'!$E$13:M$14),0)))","v":""},{"$f":"IF($C178=\"\",\"\",IF(ISBLANK(VLOOKUP($A178,'Section 2'!$E$17:$V$216,COLUMNS('Section 2'!$E$13:N$14),0)),\"\",VLOOKUP($A178,'Section 2'!$E$17:$V$216,COLUMNS('Section 2'!$E$13:N$14),0)))","v":""},{"$f":"IF($C178=\"\",\"\",IF(ISBLANK(VLOOKUP($A178,'Section 2'!$E$17:$V$216,COLUMNS('Section 2'!$E$13:O$14),0)),\"\",VLOOKUP($A178,'Section 2'!$E$17:$V$216,COLUMNS('Section 2'!$E$13:O$14),0)))","v":""},{"$f":"IF($C178=\"\",\"\",IF(ISBLANK(VLOOKUP($A178,'Section 2'!$E$17:$V$216,COLUMNS('Section 2'!$E$13:P$14),0)),\"\",VLOOKUP($A178,'Section 2'!$E$17:$V$216,COLUMNS('Section 2'!$E$13:P$14),0)))","v":""},{"$f":"IF($C178=\"\",\"\",IF(ISBLANK(VLOOKUP($A178,'Section 2'!$E$17:$V$216,COLUMNS('Section 2'!$E$13:Q$14),0)),\"\",VLOOKUP($A178,'Section 2'!$E$17:$V$216,COLUMNS('Section 2'!$E$13:Q$14),0)))","v":""},{"$f":"IF($C178=\"\",\"\",IF(ISBLANK(VLOOKUP($A178,'Section 2'!$E$17:$V$216,COLUMNS('Section 2'!$E$13:R$14),0)),\"\",VLOOKUP($A178,'Section 2'!$E$17:$V$216,COLUMNS('Section 2'!$E$13:R$14),0)))","v":""},{"$f":"IF($C178=\"\",\"\",IF(ISBLANK(VLOOKUP($A178,'Section 2'!$E$17:$V$216,COLUMNS('Section 2'!$E$13:S$14),0)),\"\",VLOOKUP($A178,'Section 2'!$E$17:$V$216,COLUMNS('Section 2'!$E$13:S$14),0)))","v":""},{"$f":"IF($C178=\"\",\"\",IF(ISBLANK(VLOOKUP($A178,'Section 2'!$E$17:$V$216,COLUMNS('Section 2'!$E$13:T$14),0)),\"\",VLOOKUP($A178,'Section 2'!$E$17:$V$216,COLUMNS('Section 2'!$E$13:T$14),0)))","v":""},{"$f":"IF($C178=\"\",\"\",IF(ISBLANK(VLOOKUP($A178,'Section 2'!$E$17:$V$216,COLUMNS('Section 2'!$E$13:U$14),0)),\"\",VLOOKUP($A178,'Section 2'!$E$17:$V$216,COLUMNS('Section 2'!$E$13:U$14),0)))","v":""},{"$f":"IF($C178=\"\",\"\",IF(ISBLANK(VLOOKUP($A178,'Section 2'!$E$17:$V$216,COLUMNS('Section 2'!$E$13:V$14),0)),\"\",VLOOKUP($A178,'Section 2'!$E$17:$V$216,COLUMNS('Section 2'!$E$13:V$14),0)))","v":""}]
[178,"",{"$f":"IFERROR(VLOOKUP($A179,'Section 2'!$E$17:$V$216,COLUMNS('Section 2'!$E$13:E$14),0),\"\")","v":""},{"$f":"IF($C179=\"\",\"\",IF(ISBLANK(VLOOKUP($A179,'Section 2'!$E$17:$V$216,COLUMNS('Section 2'!$E$13:F$14),0)),\"\",VLOOKUP($A179,'Section 2'!$E$17:$V$216,COLUMNS('Section 2'!$E$13:F$14),0)))","v":""},{"$f":"IF($C179=\"\",\"\",IF(ISBLANK(VLOOKUP($A179,'Section 2'!$E$17:$V$216,COLUMNS('Section 2'!$E$13:G$14),0)),\"\",VLOOKUP($A179,'Section 2'!$E$17:$V$216,COLUMNS('Section 2'!$E$13:G$14),0)))","v":""},{"$f":"IF($C179=\"\",\"\",IF(ISBLANK(VLOOKUP($A179,'Section 2'!$E$17:$V$216,COLUMNS('Section 2'!$E$13:H$14),0)),\"\",VLOOKUP($A179,'Section 2'!$E$17:$V$216,COLUMNS('Section 2'!$E$13:H$14),0)))","v":""},{"$f":"IF($C179=\"\",\"\",IF(ISBLANK(VLOOKUP($A179,'Section 2'!$E$17:$V$216,COLUMNS('Section 2'!$E$13:I$14),0)),\"\",VLOOKUP($A179,'Section 2'!$E$17:$V$216,COLUMNS('Section 2'!$E$13:I$14),0)))","v":""},{"$f":"IF($C179=\"\",\"\",IF(ISBLANK(VLOOKUP($A179,'Section 2'!$E$17:$V$216,COLUMNS('Section 2'!$E$13:J$14),0)),\"\",VLOOKUP($A179,'Section 2'!$E$17:$V$216,COLUMNS('Section 2'!$E$13:J$14),0)))","v":""},{"$f":"IF($C179=\"\",\"\",IF(ISBLANK(VLOOKUP($A179,'Section 2'!$E$17:$V$216,COLUMNS('Section 2'!$E$13:K$14),0)),\"\",VLOOKUP($A179,'Section 2'!$E$17:$V$216,COLUMNS('Section 2'!$E$13:K$14),0)))","v":""},{"$f":"IF($C179=\"\",\"\",IF(ISBLANK(VLOOKUP($A179,'Section 2'!$E$17:$V$216,COLUMNS('Section 2'!$E$13:L$14),0)),\"\",VLOOKUP($A179,'Section 2'!$E$17:$V$216,COLUMNS('Section 2'!$E$13:L$14),0)))","v":""},{"$f":"IF($C179=\"\",\"\",IF(ISBLANK(VLOOKUP($A179,'Section 2'!$E$17:$V$216,COLUMNS('Section 2'!$E$13:M$14),0)),\"\",VLOOKUP($A179,'Section 2'!$E$17:$V$216,COLUMNS('Section 2'!$E$13:M$14),0)))","v":""},{"$f":"IF($C179=\"\",\"\",IF(ISBLANK(VLOOKUP($A179,'Section 2'!$E$17:$V$216,COLUMNS('Section 2'!$E$13:N$14),0)),\"\",VLOOKUP($A179,'Section 2'!$E$17:$V$216,COLUMNS('Section 2'!$E$13:N$14),0)))","v":""},{"$f":"IF($C179=\"\",\"\",IF(ISBLANK(VLOOKUP($A179,'Section 2'!$E$17:$V$216,COLUMNS('Section 2'!$E$13:O$14),0)),\"\",VLOOKUP($A179,'Section 2'!$E$17:$V$216,COLUMNS('Section 2'!$E$13:O$14),0)))","v":""},{"$f":"IF($C179=\"\",\"\",IF(ISBLANK(VLOOKUP($A179,'Section 2'!$E$17:$V$216,COLUMNS('Section 2'!$E$13:P$14),0)),\"\",VLOOKUP($A179,'Section 2'!$E$17:$V$216,COLUMNS('Section 2'!$E$13:P$14),0)))","v":""},{"$f":"IF($C179=\"\",\"\",IF(ISBLANK(VLOOKUP($A179,'Section 2'!$E$17:$V$216,COLUMNS('Section 2'!$E$13:Q$14),0)),\"\",VLOOKUP($A179,'Section 2'!$E$17:$V$216,COLUMNS('Section 2'!$E$13:Q$14),0)))","v":""},{"$f":"IF($C179=\"\",\"\",IF(ISBLANK(VLOOKUP($A179,'Section 2'!$E$17:$V$216,COLUMNS('Section 2'!$E$13:R$14),0)),\"\",VLOOKUP($A179,'Section 2'!$E$17:$V$216,COLUMNS('Section 2'!$E$13:R$14),0)))","v":""},{"$f":"IF($C179=\"\",\"\",IF(ISBLANK(VLOOKUP($A179,'Section 2'!$E$17:$V$216,COLUMNS('Section 2'!$E$13:S$14),0)),\"\",VLOOKUP($A179,'Section 2'!$E$17:$V$216,COLUMNS('Section 2'!$E$13:S$14),0)))","v":""},{"$f":"IF($C179=\"\",\"\",IF(ISBLANK(VLOOKUP($A179,'Section 2'!$E$17:$V$216,COLUMNS('Section 2'!$E$13:T$14),0)),\"\",VLOOKUP($A179,'Section 2'!$E$17:$V$216,COLUMNS('Section 2'!$E$13:T$14),0)))","v":""},{"$f":"IF($C179=\"\",\"\",IF(ISBLANK(VLOOKUP($A179,'Section 2'!$E$17:$V$216,COLUMNS('Section 2'!$E$13:U$14),0)),\"\",VLOOKUP($A179,'Section 2'!$E$17:$V$216,COLUMNS('Section 2'!$E$13:U$14),0)))","v":""},{"$f":"IF($C179=\"\",\"\",IF(ISBLANK(VLOOKUP($A179,'Section 2'!$E$17:$V$216,COLUMNS('Section 2'!$E$13:V$14),0)),\"\",VLOOKUP($A179,'Section 2'!$E$17:$V$216,COLUMNS('Section 2'!$E$13:V$14),0)))","v":""}]
[179,"",{"$f":"IFERROR(VLOOKUP($A180,'Section 2'!$E$17:$V$216,COLUMNS('Section 2'!$E$13:E$14),0),\"\")","v":""},{"$f":"IF($C180=\"\",\"\",IF(ISBLANK(VLOOKUP($A180,'Section 2'!$E$17:$V$216,COLUMNS('Section 2'!$E$13:F$14),0)),\"\",VLOOKUP($A180,'Section 2'!$E$17:$V$216,COLUMNS('Section 2'!$E$13:F$14),0)))","v":""},{"$f":"IF($C180=\"\",\"\",IF(ISBLANK(VLOOKUP($A180,'Section 2'!$E$17:$V$216,COLUMNS('Section 2'!$E$13:G$14),0)),\"\",VLOOKUP($A180,'Section 2'!$E$17:$V$216,COLUMNS('Section 2'!$E$13:G$14),0)))","v":""},{"$f":"IF($C180=\"\",\"\",IF(ISBLANK(VLOOKUP($A180,'Section 2'!$E$17:$V$216,COLUMNS('Section 2'!$E$13:H$14),0)),\"\",VLOOKUP($A180,'Section 2'!$E$17:$V$216,COLUMNS('Section 2'!$E$13:H$14),0)))","v":""},{"$f":"IF($C180=\"\",\"\",IF(ISBLANK(VLOOKUP($A180,'Section 2'!$E$17:$V$216,COLUMNS('Section 2'!$E$13:I$14),0)),\"\",VLOOKUP($A180,'Section 2'!$E$17:$V$216,COLUMNS('Section 2'!$E$13:I$14),0)))","v":""},{"$f":"IF($C180=\"\",\"\",IF(ISBLANK(VLOOKUP($A180,'Section 2'!$E$17:$V$216,COLUMNS('Section 2'!$E$13:J$14),0)),\"\",VLOOKUP($A180,'Section 2'!$E$17:$V$216,COLUMNS('Section 2'!$E$13:J$14),0)))","v":""},{"$f":"IF($C180=\"\",\"\",IF(ISBLANK(VLOOKUP($A180,'Section 2'!$E$17:$V$216,COLUMNS('Section 2'!$E$13:K$14),0)),\"\",VLOOKUP($A180,'Section 2'!$E$17:$V$216,COLUMNS('Section 2'!$E$13:K$14),0)))","v":""},{"$f":"IF($C180=\"\",\"\",IF(ISBLANK(VLOOKUP($A180,'Section 2'!$E$17:$V$216,COLUMNS('Section 2'!$E$13:L$14),0)),\"\",VLOOKUP($A180,'Section 2'!$E$17:$V$216,COLUMNS('Section 2'!$E$13:L$14),0)))","v":""},{"$f":"IF($C180=\"\",\"\",IF(ISBLANK(VLOOKUP($A180,'Section 2'!$E$17:$V$216,COLUMNS('Section 2'!$E$13:M$14),0)),\"\",VLOOKUP($A180,'Section 2'!$E$17:$V$216,COLUMNS('Section 2'!$E$13:M$14),0)))","v":""},{"$f":"IF($C180=\"\",\"\",IF(ISBLANK(VLOOKUP($A180,'Section 2'!$E$17:$V$216,COLUMNS('Section 2'!$E$13:N$14),0)),\"\",VLOOKUP($A180,'Section 2'!$E$17:$V$216,COLUMNS('Section 2'!$E$13:N$14),0)))","v":""},{"$f":"IF($C180=\"\",\"\",IF(ISBLANK(VLOOKUP($A180,'Section 2'!$E$17:$V$216,COLUMNS('Section 2'!$E$13:O$14),0)),\"\",VLOOKUP($A180,'Section 2'!$E$17:$V$216,COLUMNS('Section 2'!$E$13:O$14),0)))","v":""},{"$f":"IF($C180=\"\",\"\",IF(ISBLANK(VLOOKUP($A180,'Section 2'!$E$17:$V$216,COLUMNS('Section 2'!$E$13:P$14),0)),\"\",VLOOKUP($A180,'Section 2'!$E$17:$V$216,COLUMNS('Section 2'!$E$13:P$14),0)))","v":""},{"$f":"IF($C180=\"\",\"\",IF(ISBLANK(VLOOKUP($A180,'Section 2'!$E$17:$V$216,COLUMNS('Section 2'!$E$13:Q$14),0)),\"\",VLOOKUP($A180,'Section 2'!$E$17:$V$216,COLUMNS('Section 2'!$E$13:Q$14),0)))","v":""},{"$f":"IF($C180=\"\",\"\",IF(ISBLANK(VLOOKUP($A180,'Section 2'!$E$17:$V$216,COLUMNS('Section 2'!$E$13:R$14),0)),\"\",VLOOKUP($A180,'Section 2'!$E$17:$V$216,COLUMNS('Section 2'!$E$13:R$14),0)))","v":""},{"$f":"IF($C180=\"\",\"\",IF(ISBLANK(VLOOKUP($A180,'Section 2'!$E$17:$V$216,COLUMNS('Section 2'!$E$13:S$14),0)),\"\",VLOOKUP($A180,'Section 2'!$E$17:$V$216,COLUMNS('Section 2'!$E$13:S$14),0)))","v":""},{"$f":"IF($C180=\"\",\"\",IF(ISBLANK(VLOOKUP($A180,'Section 2'!$E$17:$V$216,COLUMNS('Section 2'!$E$13:T$14),0)),\"\",VLOOKUP($A180,'Section 2'!$E$17:$V$216,COLUMNS('Section 2'!$E$13:T$14),0)))","v":""},{"$f":"IF($C180=\"\",\"\",IF(ISBLANK(VLOOKUP($A180,'Section 2'!$E$17:$V$216,COLUMNS('Section 2'!$E$13:U$14),0)),\"\",VLOOKUP($A180,'Section 2'!$E$17:$V$216,COLUMNS('Section 2'!$E$13:U$14),0)))","v":""},{"$f":"IF($C180=\"\",\"\",IF(ISBLANK(VLOOKUP($A180,'Section 2'!$E$17:$V$216,COLUMNS('Section 2'!$E$13:V$14),0)),\"\",VLOOKUP($A180,'Section 2'!$E$17:$V$216,COLUMNS('Section 2'!$E$13:V$14),0)))","v":""}]
[180,"",{"$f":"IFERROR(VLOOKUP($A181,'Section 2'!$E$17:$V$216,COLUMNS('Section 2'!$E$13:E$14),0),\"\")","v":""},{"$f":"IF($C181=\"\",\"\",IF(ISBLANK(VLOOKUP($A181,'Section 2'!$E$17:$V$216,COLUMNS('Section 2'!$E$13:F$14),0)),\"\",VLOOKUP($A181,'Section 2'!$E$17:$V$216,COLUMNS('Section 2'!$E$13:F$14),0)))","v":""},{"$f":"IF($C181=\"\",\"\",IF(ISBLANK(VLOOKUP($A181,'Section 2'!$E$17:$V$216,COLUMNS('Section 2'!$E$13:G$14),0)),\"\",VLOOKUP($A181,'Section 2'!$E$17:$V$216,COLUMNS('Section 2'!$E$13:G$14),0)))","v":""},{"$f":"IF($C181=\"\",\"\",IF(ISBLANK(VLOOKUP($A181,'Section 2'!$E$17:$V$216,COLUMNS('Section 2'!$E$13:H$14),0)),\"\",VLOOKUP($A181,'Section 2'!$E$17:$V$216,COLUMNS('Section 2'!$E$13:H$14),0)))","v":""},{"$f":"IF($C181=\"\",\"\",IF(ISBLANK(VLOOKUP($A181,'Section 2'!$E$17:$V$216,COLUMNS('Section 2'!$E$13:I$14),0)),\"\",VLOOKUP($A181,'Section 2'!$E$17:$V$216,COLUMNS('Section 2'!$E$13:I$14),0)))","v":""},{"$f":"IF($C181=\"\",\"\",IF(ISBLANK(VLOOKUP($A181,'Section 2'!$E$17:$V$216,COLUMNS('Section 2'!$E$13:J$14),0)),\"\",VLOOKUP($A181,'Section 2'!$E$17:$V$216,COLUMNS('Section 2'!$E$13:J$14),0)))","v":""},{"$f":"IF($C181=\"\",\"\",IF(ISBLANK(VLOOKUP($A181,'Section 2'!$E$17:$V$216,COLUMNS('Section 2'!$E$13:K$14),0)),\"\",VLOOKUP($A181,'Section 2'!$E$17:$V$216,COLUMNS('Section 2'!$E$13:K$14),0)))","v":""},{"$f":"IF($C181=\"\",\"\",IF(ISBLANK(VLOOKUP($A181,'Section 2'!$E$17:$V$216,COLUMNS('Section 2'!$E$13:L$14),0)),\"\",VLOOKUP($A181,'Section 2'!$E$17:$V$216,COLUMNS('Section 2'!$E$13:L$14),0)))","v":""},{"$f":"IF($C181=\"\",\"\",IF(ISBLANK(VLOOKUP($A181,'Section 2'!$E$17:$V$216,COLUMNS('Section 2'!$E$13:M$14),0)),\"\",VLOOKUP($A181,'Section 2'!$E$17:$V$216,COLUMNS('Section 2'!$E$13:M$14),0)))","v":""},{"$f":"IF($C181=\"\",\"\",IF(ISBLANK(VLOOKUP($A181,'Section 2'!$E$17:$V$216,COLUMNS('Section 2'!$E$13:N$14),0)),\"\",VLOOKUP($A181,'Section 2'!$E$17:$V$216,COLUMNS('Section 2'!$E$13:N$14),0)))","v":""},{"$f":"IF($C181=\"\",\"\",IF(ISBLANK(VLOOKUP($A181,'Section 2'!$E$17:$V$216,COLUMNS('Section 2'!$E$13:O$14),0)),\"\",VLOOKUP($A181,'Section 2'!$E$17:$V$216,COLUMNS('Section 2'!$E$13:O$14),0)))","v":""},{"$f":"IF($C181=\"\",\"\",IF(ISBLANK(VLOOKUP($A181,'Section 2'!$E$17:$V$216,COLUMNS('Section 2'!$E$13:P$14),0)),\"\",VLOOKUP($A181,'Section 2'!$E$17:$V$216,COLUMNS('Section 2'!$E$13:P$14),0)))","v":""},{"$f":"IF($C181=\"\",\"\",IF(ISBLANK(VLOOKUP($A181,'Section 2'!$E$17:$V$216,COLUMNS('Section 2'!$E$13:Q$14),0)),\"\",VLOOKUP($A181,'Section 2'!$E$17:$V$216,COLUMNS('Section 2'!$E$13:Q$14),0)))","v":""},{"$f":"IF($C181=\"\",\"\",IF(ISBLANK(VLOOKUP($A181,'Section 2'!$E$17:$V$216,COLUMNS('Section 2'!$E$13:R$14),0)),\"\",VLOOKUP($A181,'Section 2'!$E$17:$V$216,COLUMNS('Section 2'!$E$13:R$14),0)))","v":""},{"$f":"IF($C181=\"\",\"\",IF(ISBLANK(VLOOKUP($A181,'Section 2'!$E$17:$V$216,COLUMNS('Section 2'!$E$13:S$14),0)),\"\",VLOOKUP($A181,'Section 2'!$E$17:$V$216,COLUMNS('Section 2'!$E$13:S$14),0)))","v":""},{"$f":"IF($C181=\"\",\"\",IF(ISBLANK(VLOOKUP($A181,'Section 2'!$E$17:$V$216,COLUMNS('Section 2'!$E$13:T$14),0)),\"\",VLOOKUP($A181,'Section 2'!$E$17:$V$216,COLUMNS('Section 2'!$E$13:T$14),0)))","v":""},{"$f":"IF($C181=\"\",\"\",IF(ISBLANK(VLOOKUP($A181,'Section 2'!$E$17:$V$216,COLUMNS('Section 2'!$E$13:U$14),0)),\"\",VLOOKUP($A181,'Section 2'!$E$17:$V$216,COLUMNS('Section 2'!$E$13:U$14),0)))","v":""},{"$f":"IF($C181=\"\",\"\",IF(ISBLANK(VLOOKUP($A181,'Section 2'!$E$17:$V$216,COLUMNS('Section 2'!$E$13:V$14),0)),\"\",VLOOKUP($A181,'Section 2'!$E$17:$V$216,COLUMNS('Section 2'!$E$13:V$14),0)))","v":""}]
[181,"",{"$f":"IFERROR(VLOOKUP($A182,'Section 2'!$E$17:$V$216,COLUMNS('Section 2'!$E$13:E$14),0),\"\")","v":""},{"$f":"IF($C182=\"\",\"\",IF(ISBLANK(VLOOKUP($A182,'Section 2'!$E$17:$V$216,COLUMNS('Section 2'!$E$13:F$14),0)),\"\",VLOOKUP($A182,'Section 2'!$E$17:$V$216,COLUMNS('Section 2'!$E$13:F$14),0)))","v":""},{"$f":"IF($C182=\"\",\"\",IF(ISBLANK(VLOOKUP($A182,'Section 2'!$E$17:$V$216,COLUMNS('Section 2'!$E$13:G$14),0)),\"\",VLOOKUP($A182,'Section 2'!$E$17:$V$216,COLUMNS('Section 2'!$E$13:G$14),0)))","v":""},{"$f":"IF($C182=\"\",\"\",IF(ISBLANK(VLOOKUP($A182,'Section 2'!$E$17:$V$216,COLUMNS('Section 2'!$E$13:H$14),0)),\"\",VLOOKUP($A182,'Section 2'!$E$17:$V$216,COLUMNS('Section 2'!$E$13:H$14),0)))","v":""},{"$f":"IF($C182=\"\",\"\",IF(ISBLANK(VLOOKUP($A182,'Section 2'!$E$17:$V$216,COLUMNS('Section 2'!$E$13:I$14),0)),\"\",VLOOKUP($A182,'Section 2'!$E$17:$V$216,COLUMNS('Section 2'!$E$13:I$14),0)))","v":""},{"$f":"IF($C182=\"\",\"\",IF(ISBLANK(VLOOKUP($A182,'Section 2'!$E$17:$V$216,COLUMNS('Section 2'!$E$13:J$14),0)),\"\",VLOOKUP($A182,'Section 2'!$E$17:$V$216,COLUMNS('Section 2'!$E$13:J$14),0)))","v":""},{"$f":"IF($C182=\"\",\"\",IF(ISBLANK(VLOOKUP($A182,'Section 2'!$E$17:$V$216,COLUMNS('Section 2'!$E$13:K$14),0)),\"\",VLOOKUP($A182,'Section 2'!$E$17:$V$216,COLUMNS('Section 2'!$E$13:K$14),0)))","v":""},{"$f":"IF($C182=\"\",\"\",IF(ISBLANK(VLOOKUP($A182,'Section 2'!$E$17:$V$216,COLUMNS('Section 2'!$E$13:L$14),0)),\"\",VLOOKUP($A182,'Section 2'!$E$17:$V$216,COLUMNS('Section 2'!$E$13:L$14),0)))","v":""},{"$f":"IF($C182=\"\",\"\",IF(ISBLANK(VLOOKUP($A182,'Section 2'!$E$17:$V$216,COLUMNS('Section 2'!$E$13:M$14),0)),\"\",VLOOKUP($A182,'Section 2'!$E$17:$V$216,COLUMNS('Section 2'!$E$13:M$14),0)))","v":""},{"$f":"IF($C182=\"\",\"\",IF(ISBLANK(VLOOKUP($A182,'Section 2'!$E$17:$V$216,COLUMNS('Section 2'!$E$13:N$14),0)),\"\",VLOOKUP($A182,'Section 2'!$E$17:$V$216,COLUMNS('Section 2'!$E$13:N$14),0)))","v":""},{"$f":"IF($C182=\"\",\"\",IF(ISBLANK(VLOOKUP($A182,'Section 2'!$E$17:$V$216,COLUMNS('Section 2'!$E$13:O$14),0)),\"\",VLOOKUP($A182,'Section 2'!$E$17:$V$216,COLUMNS('Section 2'!$E$13:O$14),0)))","v":""},{"$f":"IF($C182=\"\",\"\",IF(ISBLANK(VLOOKUP($A182,'Section 2'!$E$17:$V$216,COLUMNS('Section 2'!$E$13:P$14),0)),\"\",VLOOKUP($A182,'Section 2'!$E$17:$V$216,COLUMNS('Section 2'!$E$13:P$14),0)))","v":""},{"$f":"IF($C182=\"\",\"\",IF(ISBLANK(VLOOKUP($A182,'Section 2'!$E$17:$V$216,COLUMNS('Section 2'!$E$13:Q$14),0)),\"\",VLOOKUP($A182,'Section 2'!$E$17:$V$216,COLUMNS('Section 2'!$E$13:Q$14),0)))","v":""},{"$f":"IF($C182=\"\",\"\",IF(ISBLANK(VLOOKUP($A182,'Section 2'!$E$17:$V$216,COLUMNS('Section 2'!$E$13:R$14),0)),\"\",VLOOKUP($A182,'Section 2'!$E$17:$V$216,COLUMNS('Section 2'!$E$13:R$14),0)))","v":""},{"$f":"IF($C182=\"\",\"\",IF(ISBLANK(VLOOKUP($A182,'Section 2'!$E$17:$V$216,COLUMNS('Section 2'!$E$13:S$14),0)),\"\",VLOOKUP($A182,'Section 2'!$E$17:$V$216,COLUMNS('Section 2'!$E$13:S$14),0)))","v":""},{"$f":"IF($C182=\"\",\"\",IF(ISBLANK(VLOOKUP($A182,'Section 2'!$E$17:$V$216,COLUMNS('Section 2'!$E$13:T$14),0)),\"\",VLOOKUP($A182,'Section 2'!$E$17:$V$216,COLUMNS('Section 2'!$E$13:T$14),0)))","v":""},{"$f":"IF($C182=\"\",\"\",IF(ISBLANK(VLOOKUP($A182,'Section 2'!$E$17:$V$216,COLUMNS('Section 2'!$E$13:U$14),0)),\"\",VLOOKUP($A182,'Section 2'!$E$17:$V$216,COLUMNS('Section 2'!$E$13:U$14),0)))","v":""},{"$f":"IF($C182=\"\",\"\",IF(ISBLANK(VLOOKUP($A182,'Section 2'!$E$17:$V$216,COLUMNS('Section 2'!$E$13:V$14),0)),\"\",VLOOKUP($A182,'Section 2'!$E$17:$V$216,COLUMNS('Section 2'!$E$13:V$14),0)))","v":""}]
[182,"",{"$f":"IFERROR(VLOOKUP($A183,'Section 2'!$E$17:$V$216,COLUMNS('Section 2'!$E$13:E$14),0),\"\")","v":""},{"$f":"IF($C183=\"\",\"\",IF(ISBLANK(VLOOKUP($A183,'Section 2'!$E$17:$V$216,COLUMNS('Section 2'!$E$13:F$14),0)),\"\",VLOOKUP($A183,'Section 2'!$E$17:$V$216,COLUMNS('Section 2'!$E$13:F$14),0)))","v":""},{"$f":"IF($C183=\"\",\"\",IF(ISBLANK(VLOOKUP($A183,'Section 2'!$E$17:$V$216,COLUMNS('Section 2'!$E$13:G$14),0)),\"\",VLOOKUP($A183,'Section 2'!$E$17:$V$216,COLUMNS('Section 2'!$E$13:G$14),0)))","v":""},{"$f":"IF($C183=\"\",\"\",IF(ISBLANK(VLOOKUP($A183,'Section 2'!$E$17:$V$216,COLUMNS('Section 2'!$E$13:H$14),0)),\"\",VLOOKUP($A183,'Section 2'!$E$17:$V$216,COLUMNS('Section 2'!$E$13:H$14),0)))","v":""},{"$f":"IF($C183=\"\",\"\",IF(ISBLANK(VLOOKUP($A183,'Section 2'!$E$17:$V$216,COLUMNS('Section 2'!$E$13:I$14),0)),\"\",VLOOKUP($A183,'Section 2'!$E$17:$V$216,COLUMNS('Section 2'!$E$13:I$14),0)))","v":""},{"$f":"IF($C183=\"\",\"\",IF(ISBLANK(VLOOKUP($A183,'Section 2'!$E$17:$V$216,COLUMNS('Section 2'!$E$13:J$14),0)),\"\",VLOOKUP($A183,'Section 2'!$E$17:$V$216,COLUMNS('Section 2'!$E$13:J$14),0)))","v":""},{"$f":"IF($C183=\"\",\"\",IF(ISBLANK(VLOOKUP($A183,'Section 2'!$E$17:$V$216,COLUMNS('Section 2'!$E$13:K$14),0)),\"\",VLOOKUP($A183,'Section 2'!$E$17:$V$216,COLUMNS('Section 2'!$E$13:K$14),0)))","v":""},{"$f":"IF($C183=\"\",\"\",IF(ISBLANK(VLOOKUP($A183,'Section 2'!$E$17:$V$216,COLUMNS('Section 2'!$E$13:L$14),0)),\"\",VLOOKUP($A183,'Section 2'!$E$17:$V$216,COLUMNS('Section 2'!$E$13:L$14),0)))","v":""},{"$f":"IF($C183=\"\",\"\",IF(ISBLANK(VLOOKUP($A183,'Section 2'!$E$17:$V$216,COLUMNS('Section 2'!$E$13:M$14),0)),\"\",VLOOKUP($A183,'Section 2'!$E$17:$V$216,COLUMNS('Section 2'!$E$13:M$14),0)))","v":""},{"$f":"IF($C183=\"\",\"\",IF(ISBLANK(VLOOKUP($A183,'Section 2'!$E$17:$V$216,COLUMNS('Section 2'!$E$13:N$14),0)),\"\",VLOOKUP($A183,'Section 2'!$E$17:$V$216,COLUMNS('Section 2'!$E$13:N$14),0)))","v":""},{"$f":"IF($C183=\"\",\"\",IF(ISBLANK(VLOOKUP($A183,'Section 2'!$E$17:$V$216,COLUMNS('Section 2'!$E$13:O$14),0)),\"\",VLOOKUP($A183,'Section 2'!$E$17:$V$216,COLUMNS('Section 2'!$E$13:O$14),0)))","v":""},{"$f":"IF($C183=\"\",\"\",IF(ISBLANK(VLOOKUP($A183,'Section 2'!$E$17:$V$216,COLUMNS('Section 2'!$E$13:P$14),0)),\"\",VLOOKUP($A183,'Section 2'!$E$17:$V$216,COLUMNS('Section 2'!$E$13:P$14),0)))","v":""},{"$f":"IF($C183=\"\",\"\",IF(ISBLANK(VLOOKUP($A183,'Section 2'!$E$17:$V$216,COLUMNS('Section 2'!$E$13:Q$14),0)),\"\",VLOOKUP($A183,'Section 2'!$E$17:$V$216,COLUMNS('Section 2'!$E$13:Q$14),0)))","v":""},{"$f":"IF($C183=\"\",\"\",IF(ISBLANK(VLOOKUP($A183,'Section 2'!$E$17:$V$216,COLUMNS('Section 2'!$E$13:R$14),0)),\"\",VLOOKUP($A183,'Section 2'!$E$17:$V$216,COLUMNS('Section 2'!$E$13:R$14),0)))","v":""},{"$f":"IF($C183=\"\",\"\",IF(ISBLANK(VLOOKUP($A183,'Section 2'!$E$17:$V$216,COLUMNS('Section 2'!$E$13:S$14),0)),\"\",VLOOKUP($A183,'Section 2'!$E$17:$V$216,COLUMNS('Section 2'!$E$13:S$14),0)))","v":""},{"$f":"IF($C183=\"\",\"\",IF(ISBLANK(VLOOKUP($A183,'Section 2'!$E$17:$V$216,COLUMNS('Section 2'!$E$13:T$14),0)),\"\",VLOOKUP($A183,'Section 2'!$E$17:$V$216,COLUMNS('Section 2'!$E$13:T$14),0)))","v":""},{"$f":"IF($C183=\"\",\"\",IF(ISBLANK(VLOOKUP($A183,'Section 2'!$E$17:$V$216,COLUMNS('Section 2'!$E$13:U$14),0)),\"\",VLOOKUP($A183,'Section 2'!$E$17:$V$216,COLUMNS('Section 2'!$E$13:U$14),0)))","v":""},{"$f":"IF($C183=\"\",\"\",IF(ISBLANK(VLOOKUP($A183,'Section 2'!$E$17:$V$216,COLUMNS('Section 2'!$E$13:V$14),0)),\"\",VLOOKUP($A183,'Section 2'!$E$17:$V$216,COLUMNS('Section 2'!$E$13:V$14),0)))","v":""}]
[183,"",{"$f":"IFERROR(VLOOKUP($A184,'Section 2'!$E$17:$V$216,COLUMNS('Section 2'!$E$13:E$14),0),\"\")","v":""},{"$f":"IF($C184=\"\",\"\",IF(ISBLANK(VLOOKUP($A184,'Section 2'!$E$17:$V$216,COLUMNS('Section 2'!$E$13:F$14),0)),\"\",VLOOKUP($A184,'Section 2'!$E$17:$V$216,COLUMNS('Section 2'!$E$13:F$14),0)))","v":""},{"$f":"IF($C184=\"\",\"\",IF(ISBLANK(VLOOKUP($A184,'Section 2'!$E$17:$V$216,COLUMNS('Section 2'!$E$13:G$14),0)),\"\",VLOOKUP($A184,'Section 2'!$E$17:$V$216,COLUMNS('Section 2'!$E$13:G$14),0)))","v":""},{"$f":"IF($C184=\"\",\"\",IF(ISBLANK(VLOOKUP($A184,'Section 2'!$E$17:$V$216,COLUMNS('Section 2'!$E$13:H$14),0)),\"\",VLOOKUP($A184,'Section 2'!$E$17:$V$216,COLUMNS('Section 2'!$E$13:H$14),0)))","v":""},{"$f":"IF($C184=\"\",\"\",IF(ISBLANK(VLOOKUP($A184,'Section 2'!$E$17:$V$216,COLUMNS('Section 2'!$E$13:I$14),0)),\"\",VLOOKUP($A184,'Section 2'!$E$17:$V$216,COLUMNS('Section 2'!$E$13:I$14),0)))","v":""},{"$f":"IF($C184=\"\",\"\",IF(ISBLANK(VLOOKUP($A184,'Section 2'!$E$17:$V$216,COLUMNS('Section 2'!$E$13:J$14),0)),\"\",VLOOKUP($A184,'Section 2'!$E$17:$V$216,COLUMNS('Section 2'!$E$13:J$14),0)))","v":""},{"$f":"IF($C184=\"\",\"\",IF(ISBLANK(VLOOKUP($A184,'Section 2'!$E$17:$V$216,COLUMNS('Section 2'!$E$13:K$14),0)),\"\",VLOOKUP($A184,'Section 2'!$E$17:$V$216,COLUMNS('Section 2'!$E$13:K$14),0)))","v":""},{"$f":"IF($C184=\"\",\"\",IF(ISBLANK(VLOOKUP($A184,'Section 2'!$E$17:$V$216,COLUMNS('Section 2'!$E$13:L$14),0)),\"\",VLOOKUP($A184,'Section 2'!$E$17:$V$216,COLUMNS('Section 2'!$E$13:L$14),0)))","v":""},{"$f":"IF($C184=\"\",\"\",IF(ISBLANK(VLOOKUP($A184,'Section 2'!$E$17:$V$216,COLUMNS('Section 2'!$E$13:M$14),0)),\"\",VLOOKUP($A184,'Section 2'!$E$17:$V$216,COLUMNS('Section 2'!$E$13:M$14),0)))","v":""},{"$f":"IF($C184=\"\",\"\",IF(ISBLANK(VLOOKUP($A184,'Section 2'!$E$17:$V$216,COLUMNS('Section 2'!$E$13:N$14),0)),\"\",VLOOKUP($A184,'Section 2'!$E$17:$V$216,COLUMNS('Section 2'!$E$13:N$14),0)))","v":""},{"$f":"IF($C184=\"\",\"\",IF(ISBLANK(VLOOKUP($A184,'Section 2'!$E$17:$V$216,COLUMNS('Section 2'!$E$13:O$14),0)),\"\",VLOOKUP($A184,'Section 2'!$E$17:$V$216,COLUMNS('Section 2'!$E$13:O$14),0)))","v":""},{"$f":"IF($C184=\"\",\"\",IF(ISBLANK(VLOOKUP($A184,'Section 2'!$E$17:$V$216,COLUMNS('Section 2'!$E$13:P$14),0)),\"\",VLOOKUP($A184,'Section 2'!$E$17:$V$216,COLUMNS('Section 2'!$E$13:P$14),0)))","v":""},{"$f":"IF($C184=\"\",\"\",IF(ISBLANK(VLOOKUP($A184,'Section 2'!$E$17:$V$216,COLUMNS('Section 2'!$E$13:Q$14),0)),\"\",VLOOKUP($A184,'Section 2'!$E$17:$V$216,COLUMNS('Section 2'!$E$13:Q$14),0)))","v":""},{"$f":"IF($C184=\"\",\"\",IF(ISBLANK(VLOOKUP($A184,'Section 2'!$E$17:$V$216,COLUMNS('Section 2'!$E$13:R$14),0)),\"\",VLOOKUP($A184,'Section 2'!$E$17:$V$216,COLUMNS('Section 2'!$E$13:R$14),0)))","v":""},{"$f":"IF($C184=\"\",\"\",IF(ISBLANK(VLOOKUP($A184,'Section 2'!$E$17:$V$216,COLUMNS('Section 2'!$E$13:S$14),0)),\"\",VLOOKUP($A184,'Section 2'!$E$17:$V$216,COLUMNS('Section 2'!$E$13:S$14),0)))","v":""},{"$f":"IF($C184=\"\",\"\",IF(ISBLANK(VLOOKUP($A184,'Section 2'!$E$17:$V$216,COLUMNS('Section 2'!$E$13:T$14),0)),\"\",VLOOKUP($A184,'Section 2'!$E$17:$V$216,COLUMNS('Section 2'!$E$13:T$14),0)))","v":""},{"$f":"IF($C184=\"\",\"\",IF(ISBLANK(VLOOKUP($A184,'Section 2'!$E$17:$V$216,COLUMNS('Section 2'!$E$13:U$14),0)),\"\",VLOOKUP($A184,'Section 2'!$E$17:$V$216,COLUMNS('Section 2'!$E$13:U$14),0)))","v":""},{"$f":"IF($C184=\"\",\"\",IF(ISBLANK(VLOOKUP($A184,'Section 2'!$E$17:$V$216,COLUMNS('Section 2'!$E$13:V$14),0)),\"\",VLOOKUP($A184,'Section 2'!$E$17:$V$216,COLUMNS('Section 2'!$E$13:V$14),0)))","v":""}]
[184,"",{"$f":"IFERROR(VLOOKUP($A185,'Section 2'!$E$17:$V$216,COLUMNS('Section 2'!$E$13:E$14),0),\"\")","v":""},{"$f":"IF($C185=\"\",\"\",IF(ISBLANK(VLOOKUP($A185,'Section 2'!$E$17:$V$216,COLUMNS('Section 2'!$E$13:F$14),0)),\"\",VLOOKUP($A185,'Section 2'!$E$17:$V$216,COLUMNS('Section 2'!$E$13:F$14),0)))","v":""},{"$f":"IF($C185=\"\",\"\",IF(ISBLANK(VLOOKUP($A185,'Section 2'!$E$17:$V$216,COLUMNS('Section 2'!$E$13:G$14),0)),\"\",VLOOKUP($A185,'Section 2'!$E$17:$V$216,COLUMNS('Section 2'!$E$13:G$14),0)))","v":""},{"$f":"IF($C185=\"\",\"\",IF(ISBLANK(VLOOKUP($A185,'Section 2'!$E$17:$V$216,COLUMNS('Section 2'!$E$13:H$14),0)),\"\",VLOOKUP($A185,'Section 2'!$E$17:$V$216,COLUMNS('Section 2'!$E$13:H$14),0)))","v":""},{"$f":"IF($C185=\"\",\"\",IF(ISBLANK(VLOOKUP($A185,'Section 2'!$E$17:$V$216,COLUMNS('Section 2'!$E$13:I$14),0)),\"\",VLOOKUP($A185,'Section 2'!$E$17:$V$216,COLUMNS('Section 2'!$E$13:I$14),0)))","v":""},{"$f":"IF($C185=\"\",\"\",IF(ISBLANK(VLOOKUP($A185,'Section 2'!$E$17:$V$216,COLUMNS('Section 2'!$E$13:J$14),0)),\"\",VLOOKUP($A185,'Section 2'!$E$17:$V$216,COLUMNS('Section 2'!$E$13:J$14),0)))","v":""},{"$f":"IF($C185=\"\",\"\",IF(ISBLANK(VLOOKUP($A185,'Section 2'!$E$17:$V$216,COLUMNS('Section 2'!$E$13:K$14),0)),\"\",VLOOKUP($A185,'Section 2'!$E$17:$V$216,COLUMNS('Section 2'!$E$13:K$14),0)))","v":""},{"$f":"IF($C185=\"\",\"\",IF(ISBLANK(VLOOKUP($A185,'Section 2'!$E$17:$V$216,COLUMNS('Section 2'!$E$13:L$14),0)),\"\",VLOOKUP($A185,'Section 2'!$E$17:$V$216,COLUMNS('Section 2'!$E$13:L$14),0)))","v":""},{"$f":"IF($C185=\"\",\"\",IF(ISBLANK(VLOOKUP($A185,'Section 2'!$E$17:$V$216,COLUMNS('Section 2'!$E$13:M$14),0)),\"\",VLOOKUP($A185,'Section 2'!$E$17:$V$216,COLUMNS('Section 2'!$E$13:M$14),0)))","v":""},{"$f":"IF($C185=\"\",\"\",IF(ISBLANK(VLOOKUP($A185,'Section 2'!$E$17:$V$216,COLUMNS('Section 2'!$E$13:N$14),0)),\"\",VLOOKUP($A185,'Section 2'!$E$17:$V$216,COLUMNS('Section 2'!$E$13:N$14),0)))","v":""},{"$f":"IF($C185=\"\",\"\",IF(ISBLANK(VLOOKUP($A185,'Section 2'!$E$17:$V$216,COLUMNS('Section 2'!$E$13:O$14),0)),\"\",VLOOKUP($A185,'Section 2'!$E$17:$V$216,COLUMNS('Section 2'!$E$13:O$14),0)))","v":""},{"$f":"IF($C185=\"\",\"\",IF(ISBLANK(VLOOKUP($A185,'Section 2'!$E$17:$V$216,COLUMNS('Section 2'!$E$13:P$14),0)),\"\",VLOOKUP($A185,'Section 2'!$E$17:$V$216,COLUMNS('Section 2'!$E$13:P$14),0)))","v":""},{"$f":"IF($C185=\"\",\"\",IF(ISBLANK(VLOOKUP($A185,'Section 2'!$E$17:$V$216,COLUMNS('Section 2'!$E$13:Q$14),0)),\"\",VLOOKUP($A185,'Section 2'!$E$17:$V$216,COLUMNS('Section 2'!$E$13:Q$14),0)))","v":""},{"$f":"IF($C185=\"\",\"\",IF(ISBLANK(VLOOKUP($A185,'Section 2'!$E$17:$V$216,COLUMNS('Section 2'!$E$13:R$14),0)),\"\",VLOOKUP($A185,'Section 2'!$E$17:$V$216,COLUMNS('Section 2'!$E$13:R$14),0)))","v":""},{"$f":"IF($C185=\"\",\"\",IF(ISBLANK(VLOOKUP($A185,'Section 2'!$E$17:$V$216,COLUMNS('Section 2'!$E$13:S$14),0)),\"\",VLOOKUP($A185,'Section 2'!$E$17:$V$216,COLUMNS('Section 2'!$E$13:S$14),0)))","v":""},{"$f":"IF($C185=\"\",\"\",IF(ISBLANK(VLOOKUP($A185,'Section 2'!$E$17:$V$216,COLUMNS('Section 2'!$E$13:T$14),0)),\"\",VLOOKUP($A185,'Section 2'!$E$17:$V$216,COLUMNS('Section 2'!$E$13:T$14),0)))","v":""},{"$f":"IF($C185=\"\",\"\",IF(ISBLANK(VLOOKUP($A185,'Section 2'!$E$17:$V$216,COLUMNS('Section 2'!$E$13:U$14),0)),\"\",VLOOKUP($A185,'Section 2'!$E$17:$V$216,COLUMNS('Section 2'!$E$13:U$14),0)))","v":""},{"$f":"IF($C185=\"\",\"\",IF(ISBLANK(VLOOKUP($A185,'Section 2'!$E$17:$V$216,COLUMNS('Section 2'!$E$13:V$14),0)),\"\",VLOOKUP($A185,'Section 2'!$E$17:$V$216,COLUMNS('Section 2'!$E$13:V$14),0)))","v":""}]
[185,"",{"$f":"IFERROR(VLOOKUP($A186,'Section 2'!$E$17:$V$216,COLUMNS('Section 2'!$E$13:E$14),0),\"\")","v":""},{"$f":"IF($C186=\"\",\"\",IF(ISBLANK(VLOOKUP($A186,'Section 2'!$E$17:$V$216,COLUMNS('Section 2'!$E$13:F$14),0)),\"\",VLOOKUP($A186,'Section 2'!$E$17:$V$216,COLUMNS('Section 2'!$E$13:F$14),0)))","v":""},{"$f":"IF($C186=\"\",\"\",IF(ISBLANK(VLOOKUP($A186,'Section 2'!$E$17:$V$216,COLUMNS('Section 2'!$E$13:G$14),0)),\"\",VLOOKUP($A186,'Section 2'!$E$17:$V$216,COLUMNS('Section 2'!$E$13:G$14),0)))","v":""},{"$f":"IF($C186=\"\",\"\",IF(ISBLANK(VLOOKUP($A186,'Section 2'!$E$17:$V$216,COLUMNS('Section 2'!$E$13:H$14),0)),\"\",VLOOKUP($A186,'Section 2'!$E$17:$V$216,COLUMNS('Section 2'!$E$13:H$14),0)))","v":""},{"$f":"IF($C186=\"\",\"\",IF(ISBLANK(VLOOKUP($A186,'Section 2'!$E$17:$V$216,COLUMNS('Section 2'!$E$13:I$14),0)),\"\",VLOOKUP($A186,'Section 2'!$E$17:$V$216,COLUMNS('Section 2'!$E$13:I$14),0)))","v":""},{"$f":"IF($C186=\"\",\"\",IF(ISBLANK(VLOOKUP($A186,'Section 2'!$E$17:$V$216,COLUMNS('Section 2'!$E$13:J$14),0)),\"\",VLOOKUP($A186,'Section 2'!$E$17:$V$216,COLUMNS('Section 2'!$E$13:J$14),0)))","v":""},{"$f":"IF($C186=\"\",\"\",IF(ISBLANK(VLOOKUP($A186,'Section 2'!$E$17:$V$216,COLUMNS('Section 2'!$E$13:K$14),0)),\"\",VLOOKUP($A186,'Section 2'!$E$17:$V$216,COLUMNS('Section 2'!$E$13:K$14),0)))","v":""},{"$f":"IF($C186=\"\",\"\",IF(ISBLANK(VLOOKUP($A186,'Section 2'!$E$17:$V$216,COLUMNS('Section 2'!$E$13:L$14),0)),\"\",VLOOKUP($A186,'Section 2'!$E$17:$V$216,COLUMNS('Section 2'!$E$13:L$14),0)))","v":""},{"$f":"IF($C186=\"\",\"\",IF(ISBLANK(VLOOKUP($A186,'Section 2'!$E$17:$V$216,COLUMNS('Section 2'!$E$13:M$14),0)),\"\",VLOOKUP($A186,'Section 2'!$E$17:$V$216,COLUMNS('Section 2'!$E$13:M$14),0)))","v":""},{"$f":"IF($C186=\"\",\"\",IF(ISBLANK(VLOOKUP($A186,'Section 2'!$E$17:$V$216,COLUMNS('Section 2'!$E$13:N$14),0)),\"\",VLOOKUP($A186,'Section 2'!$E$17:$V$216,COLUMNS('Section 2'!$E$13:N$14),0)))","v":""},{"$f":"IF($C186=\"\",\"\",IF(ISBLANK(VLOOKUP($A186,'Section 2'!$E$17:$V$216,COLUMNS('Section 2'!$E$13:O$14),0)),\"\",VLOOKUP($A186,'Section 2'!$E$17:$V$216,COLUMNS('Section 2'!$E$13:O$14),0)))","v":""},{"$f":"IF($C186=\"\",\"\",IF(ISBLANK(VLOOKUP($A186,'Section 2'!$E$17:$V$216,COLUMNS('Section 2'!$E$13:P$14),0)),\"\",VLOOKUP($A186,'Section 2'!$E$17:$V$216,COLUMNS('Section 2'!$E$13:P$14),0)))","v":""},{"$f":"IF($C186=\"\",\"\",IF(ISBLANK(VLOOKUP($A186,'Section 2'!$E$17:$V$216,COLUMNS('Section 2'!$E$13:Q$14),0)),\"\",VLOOKUP($A186,'Section 2'!$E$17:$V$216,COLUMNS('Section 2'!$E$13:Q$14),0)))","v":""},{"$f":"IF($C186=\"\",\"\",IF(ISBLANK(VLOOKUP($A186,'Section 2'!$E$17:$V$216,COLUMNS('Section 2'!$E$13:R$14),0)),\"\",VLOOKUP($A186,'Section 2'!$E$17:$V$216,COLUMNS('Section 2'!$E$13:R$14),0)))","v":""},{"$f":"IF($C186=\"\",\"\",IF(ISBLANK(VLOOKUP($A186,'Section 2'!$E$17:$V$216,COLUMNS('Section 2'!$E$13:S$14),0)),\"\",VLOOKUP($A186,'Section 2'!$E$17:$V$216,COLUMNS('Section 2'!$E$13:S$14),0)))","v":""},{"$f":"IF($C186=\"\",\"\",IF(ISBLANK(VLOOKUP($A186,'Section 2'!$E$17:$V$216,COLUMNS('Section 2'!$E$13:T$14),0)),\"\",VLOOKUP($A186,'Section 2'!$E$17:$V$216,COLUMNS('Section 2'!$E$13:T$14),0)))","v":""},{"$f":"IF($C186=\"\",\"\",IF(ISBLANK(VLOOKUP($A186,'Section 2'!$E$17:$V$216,COLUMNS('Section 2'!$E$13:U$14),0)),\"\",VLOOKUP($A186,'Section 2'!$E$17:$V$216,COLUMNS('Section 2'!$E$13:U$14),0)))","v":""},{"$f":"IF($C186=\"\",\"\",IF(ISBLANK(VLOOKUP($A186,'Section 2'!$E$17:$V$216,COLUMNS('Section 2'!$E$13:V$14),0)),\"\",VLOOKUP($A186,'Section 2'!$E$17:$V$216,COLUMNS('Section 2'!$E$13:V$14),0)))","v":""}]
[186,"",{"$f":"IFERROR(VLOOKUP($A187,'Section 2'!$E$17:$V$216,COLUMNS('Section 2'!$E$13:E$14),0),\"\")","v":""},{"$f":"IF($C187=\"\",\"\",IF(ISBLANK(VLOOKUP($A187,'Section 2'!$E$17:$V$216,COLUMNS('Section 2'!$E$13:F$14),0)),\"\",VLOOKUP($A187,'Section 2'!$E$17:$V$216,COLUMNS('Section 2'!$E$13:F$14),0)))","v":""},{"$f":"IF($C187=\"\",\"\",IF(ISBLANK(VLOOKUP($A187,'Section 2'!$E$17:$V$216,COLUMNS('Section 2'!$E$13:G$14),0)),\"\",VLOOKUP($A187,'Section 2'!$E$17:$V$216,COLUMNS('Section 2'!$E$13:G$14),0)))","v":""},{"$f":"IF($C187=\"\",\"\",IF(ISBLANK(VLOOKUP($A187,'Section 2'!$E$17:$V$216,COLUMNS('Section 2'!$E$13:H$14),0)),\"\",VLOOKUP($A187,'Section 2'!$E$17:$V$216,COLUMNS('Section 2'!$E$13:H$14),0)))","v":""},{"$f":"IF($C187=\"\",\"\",IF(ISBLANK(VLOOKUP($A187,'Section 2'!$E$17:$V$216,COLUMNS('Section 2'!$E$13:I$14),0)),\"\",VLOOKUP($A187,'Section 2'!$E$17:$V$216,COLUMNS('Section 2'!$E$13:I$14),0)))","v":""},{"$f":"IF($C187=\"\",\"\",IF(ISBLANK(VLOOKUP($A187,'Section 2'!$E$17:$V$216,COLUMNS('Section 2'!$E$13:J$14),0)),\"\",VLOOKUP($A187,'Section 2'!$E$17:$V$216,COLUMNS('Section 2'!$E$13:J$14),0)))","v":""},{"$f":"IF($C187=\"\",\"\",IF(ISBLANK(VLOOKUP($A187,'Section 2'!$E$17:$V$216,COLUMNS('Section 2'!$E$13:K$14),0)),\"\",VLOOKUP($A187,'Section 2'!$E$17:$V$216,COLUMNS('Section 2'!$E$13:K$14),0)))","v":""},{"$f":"IF($C187=\"\",\"\",IF(ISBLANK(VLOOKUP($A187,'Section 2'!$E$17:$V$216,COLUMNS('Section 2'!$E$13:L$14),0)),\"\",VLOOKUP($A187,'Section 2'!$E$17:$V$216,COLUMNS('Section 2'!$E$13:L$14),0)))","v":""},{"$f":"IF($C187=\"\",\"\",IF(ISBLANK(VLOOKUP($A187,'Section 2'!$E$17:$V$216,COLUMNS('Section 2'!$E$13:M$14),0)),\"\",VLOOKUP($A187,'Section 2'!$E$17:$V$216,COLUMNS('Section 2'!$E$13:M$14),0)))","v":""},{"$f":"IF($C187=\"\",\"\",IF(ISBLANK(VLOOKUP($A187,'Section 2'!$E$17:$V$216,COLUMNS('Section 2'!$E$13:N$14),0)),\"\",VLOOKUP($A187,'Section 2'!$E$17:$V$216,COLUMNS('Section 2'!$E$13:N$14),0)))","v":""},{"$f":"IF($C187=\"\",\"\",IF(ISBLANK(VLOOKUP($A187,'Section 2'!$E$17:$V$216,COLUMNS('Section 2'!$E$13:O$14),0)),\"\",VLOOKUP($A187,'Section 2'!$E$17:$V$216,COLUMNS('Section 2'!$E$13:O$14),0)))","v":""},{"$f":"IF($C187=\"\",\"\",IF(ISBLANK(VLOOKUP($A187,'Section 2'!$E$17:$V$216,COLUMNS('Section 2'!$E$13:P$14),0)),\"\",VLOOKUP($A187,'Section 2'!$E$17:$V$216,COLUMNS('Section 2'!$E$13:P$14),0)))","v":""},{"$f":"IF($C187=\"\",\"\",IF(ISBLANK(VLOOKUP($A187,'Section 2'!$E$17:$V$216,COLUMNS('Section 2'!$E$13:Q$14),0)),\"\",VLOOKUP($A187,'Section 2'!$E$17:$V$216,COLUMNS('Section 2'!$E$13:Q$14),0)))","v":""},{"$f":"IF($C187=\"\",\"\",IF(ISBLANK(VLOOKUP($A187,'Section 2'!$E$17:$V$216,COLUMNS('Section 2'!$E$13:R$14),0)),\"\",VLOOKUP($A187,'Section 2'!$E$17:$V$216,COLUMNS('Section 2'!$E$13:R$14),0)))","v":""},{"$f":"IF($C187=\"\",\"\",IF(ISBLANK(VLOOKUP($A187,'Section 2'!$E$17:$V$216,COLUMNS('Section 2'!$E$13:S$14),0)),\"\",VLOOKUP($A187,'Section 2'!$E$17:$V$216,COLUMNS('Section 2'!$E$13:S$14),0)))","v":""},{"$f":"IF($C187=\"\",\"\",IF(ISBLANK(VLOOKUP($A187,'Section 2'!$E$17:$V$216,COLUMNS('Section 2'!$E$13:T$14),0)),\"\",VLOOKUP($A187,'Section 2'!$E$17:$V$216,COLUMNS('Section 2'!$E$13:T$14),0)))","v":""},{"$f":"IF($C187=\"\",\"\",IF(ISBLANK(VLOOKUP($A187,'Section 2'!$E$17:$V$216,COLUMNS('Section 2'!$E$13:U$14),0)),\"\",VLOOKUP($A187,'Section 2'!$E$17:$V$216,COLUMNS('Section 2'!$E$13:U$14),0)))","v":""},{"$f":"IF($C187=\"\",\"\",IF(ISBLANK(VLOOKUP($A187,'Section 2'!$E$17:$V$216,COLUMNS('Section 2'!$E$13:V$14),0)),\"\",VLOOKUP($A187,'Section 2'!$E$17:$V$216,COLUMNS('Section 2'!$E$13:V$14),0)))","v":""}]
[187,"",{"$f":"IFERROR(VLOOKUP($A188,'Section 2'!$E$17:$V$216,COLUMNS('Section 2'!$E$13:E$14),0),\"\")","v":""},{"$f":"IF($C188=\"\",\"\",IF(ISBLANK(VLOOKUP($A188,'Section 2'!$E$17:$V$216,COLUMNS('Section 2'!$E$13:F$14),0)),\"\",VLOOKUP($A188,'Section 2'!$E$17:$V$216,COLUMNS('Section 2'!$E$13:F$14),0)))","v":""},{"$f":"IF($C188=\"\",\"\",IF(ISBLANK(VLOOKUP($A188,'Section 2'!$E$17:$V$216,COLUMNS('Section 2'!$E$13:G$14),0)),\"\",VLOOKUP($A188,'Section 2'!$E$17:$V$216,COLUMNS('Section 2'!$E$13:G$14),0)))","v":""},{"$f":"IF($C188=\"\",\"\",IF(ISBLANK(VLOOKUP($A188,'Section 2'!$E$17:$V$216,COLUMNS('Section 2'!$E$13:H$14),0)),\"\",VLOOKUP($A188,'Section 2'!$E$17:$V$216,COLUMNS('Section 2'!$E$13:H$14),0)))","v":""},{"$f":"IF($C188=\"\",\"\",IF(ISBLANK(VLOOKUP($A188,'Section 2'!$E$17:$V$216,COLUMNS('Section 2'!$E$13:I$14),0)),\"\",VLOOKUP($A188,'Section 2'!$E$17:$V$216,COLUMNS('Section 2'!$E$13:I$14),0)))","v":""},{"$f":"IF($C188=\"\",\"\",IF(ISBLANK(VLOOKUP($A188,'Section 2'!$E$17:$V$216,COLUMNS('Section 2'!$E$13:J$14),0)),\"\",VLOOKUP($A188,'Section 2'!$E$17:$V$216,COLUMNS('Section 2'!$E$13:J$14),0)))","v":""},{"$f":"IF($C188=\"\",\"\",IF(ISBLANK(VLOOKUP($A188,'Section 2'!$E$17:$V$216,COLUMNS('Section 2'!$E$13:K$14),0)),\"\",VLOOKUP($A188,'Section 2'!$E$17:$V$216,COLUMNS('Section 2'!$E$13:K$14),0)))","v":""},{"$f":"IF($C188=\"\",\"\",IF(ISBLANK(VLOOKUP($A188,'Section 2'!$E$17:$V$216,COLUMNS('Section 2'!$E$13:L$14),0)),\"\",VLOOKUP($A188,'Section 2'!$E$17:$V$216,COLUMNS('Section 2'!$E$13:L$14),0)))","v":""},{"$f":"IF($C188=\"\",\"\",IF(ISBLANK(VLOOKUP($A188,'Section 2'!$E$17:$V$216,COLUMNS('Section 2'!$E$13:M$14),0)),\"\",VLOOKUP($A188,'Section 2'!$E$17:$V$216,COLUMNS('Section 2'!$E$13:M$14),0)))","v":""},{"$f":"IF($C188=\"\",\"\",IF(ISBLANK(VLOOKUP($A188,'Section 2'!$E$17:$V$216,COLUMNS('Section 2'!$E$13:N$14),0)),\"\",VLOOKUP($A188,'Section 2'!$E$17:$V$216,COLUMNS('Section 2'!$E$13:N$14),0)))","v":""},{"$f":"IF($C188=\"\",\"\",IF(ISBLANK(VLOOKUP($A188,'Section 2'!$E$17:$V$216,COLUMNS('Section 2'!$E$13:O$14),0)),\"\",VLOOKUP($A188,'Section 2'!$E$17:$V$216,COLUMNS('Section 2'!$E$13:O$14),0)))","v":""},{"$f":"IF($C188=\"\",\"\",IF(ISBLANK(VLOOKUP($A188,'Section 2'!$E$17:$V$216,COLUMNS('Section 2'!$E$13:P$14),0)),\"\",VLOOKUP($A188,'Section 2'!$E$17:$V$216,COLUMNS('Section 2'!$E$13:P$14),0)))","v":""},{"$f":"IF($C188=\"\",\"\",IF(ISBLANK(VLOOKUP($A188,'Section 2'!$E$17:$V$216,COLUMNS('Section 2'!$E$13:Q$14),0)),\"\",VLOOKUP($A188,'Section 2'!$E$17:$V$216,COLUMNS('Section 2'!$E$13:Q$14),0)))","v":""},{"$f":"IF($C188=\"\",\"\",IF(ISBLANK(VLOOKUP($A188,'Section 2'!$E$17:$V$216,COLUMNS('Section 2'!$E$13:R$14),0)),\"\",VLOOKUP($A188,'Section 2'!$E$17:$V$216,COLUMNS('Section 2'!$E$13:R$14),0)))","v":""},{"$f":"IF($C188=\"\",\"\",IF(ISBLANK(VLOOKUP($A188,'Section 2'!$E$17:$V$216,COLUMNS('Section 2'!$E$13:S$14),0)),\"\",VLOOKUP($A188,'Section 2'!$E$17:$V$216,COLUMNS('Section 2'!$E$13:S$14),0)))","v":""},{"$f":"IF($C188=\"\",\"\",IF(ISBLANK(VLOOKUP($A188,'Section 2'!$E$17:$V$216,COLUMNS('Section 2'!$E$13:T$14),0)),\"\",VLOOKUP($A188,'Section 2'!$E$17:$V$216,COLUMNS('Section 2'!$E$13:T$14),0)))","v":""},{"$f":"IF($C188=\"\",\"\",IF(ISBLANK(VLOOKUP($A188,'Section 2'!$E$17:$V$216,COLUMNS('Section 2'!$E$13:U$14),0)),\"\",VLOOKUP($A188,'Section 2'!$E$17:$V$216,COLUMNS('Section 2'!$E$13:U$14),0)))","v":""},{"$f":"IF($C188=\"\",\"\",IF(ISBLANK(VLOOKUP($A188,'Section 2'!$E$17:$V$216,COLUMNS('Section 2'!$E$13:V$14),0)),\"\",VLOOKUP($A188,'Section 2'!$E$17:$V$216,COLUMNS('Section 2'!$E$13:V$14),0)))","v":""}]
[188,"",{"$f":"IFERROR(VLOOKUP($A189,'Section 2'!$E$17:$V$216,COLUMNS('Section 2'!$E$13:E$14),0),\"\")","v":""},{"$f":"IF($C189=\"\",\"\",IF(ISBLANK(VLOOKUP($A189,'Section 2'!$E$17:$V$216,COLUMNS('Section 2'!$E$13:F$14),0)),\"\",VLOOKUP($A189,'Section 2'!$E$17:$V$216,COLUMNS('Section 2'!$E$13:F$14),0)))","v":""},{"$f":"IF($C189=\"\",\"\",IF(ISBLANK(VLOOKUP($A189,'Section 2'!$E$17:$V$216,COLUMNS('Section 2'!$E$13:G$14),0)),\"\",VLOOKUP($A189,'Section 2'!$E$17:$V$216,COLUMNS('Section 2'!$E$13:G$14),0)))","v":""},{"$f":"IF($C189=\"\",\"\",IF(ISBLANK(VLOOKUP($A189,'Section 2'!$E$17:$V$216,COLUMNS('Section 2'!$E$13:H$14),0)),\"\",VLOOKUP($A189,'Section 2'!$E$17:$V$216,COLUMNS('Section 2'!$E$13:H$14),0)))","v":""},{"$f":"IF($C189=\"\",\"\",IF(ISBLANK(VLOOKUP($A189,'Section 2'!$E$17:$V$216,COLUMNS('Section 2'!$E$13:I$14),0)),\"\",VLOOKUP($A189,'Section 2'!$E$17:$V$216,COLUMNS('Section 2'!$E$13:I$14),0)))","v":""},{"$f":"IF($C189=\"\",\"\",IF(ISBLANK(VLOOKUP($A189,'Section 2'!$E$17:$V$216,COLUMNS('Section 2'!$E$13:J$14),0)),\"\",VLOOKUP($A189,'Section 2'!$E$17:$V$216,COLUMNS('Section 2'!$E$13:J$14),0)))","v":""},{"$f":"IF($C189=\"\",\"\",IF(ISBLANK(VLOOKUP($A189,'Section 2'!$E$17:$V$216,COLUMNS('Section 2'!$E$13:K$14),0)),\"\",VLOOKUP($A189,'Section 2'!$E$17:$V$216,COLUMNS('Section 2'!$E$13:K$14),0)))","v":""},{"$f":"IF($C189=\"\",\"\",IF(ISBLANK(VLOOKUP($A189,'Section 2'!$E$17:$V$216,COLUMNS('Section 2'!$E$13:L$14),0)),\"\",VLOOKUP($A189,'Section 2'!$E$17:$V$216,COLUMNS('Section 2'!$E$13:L$14),0)))","v":""},{"$f":"IF($C189=\"\",\"\",IF(ISBLANK(VLOOKUP($A189,'Section 2'!$E$17:$V$216,COLUMNS('Section 2'!$E$13:M$14),0)),\"\",VLOOKUP($A189,'Section 2'!$E$17:$V$216,COLUMNS('Section 2'!$E$13:M$14),0)))","v":""},{"$f":"IF($C189=\"\",\"\",IF(ISBLANK(VLOOKUP($A189,'Section 2'!$E$17:$V$216,COLUMNS('Section 2'!$E$13:N$14),0)),\"\",VLOOKUP($A189,'Section 2'!$E$17:$V$216,COLUMNS('Section 2'!$E$13:N$14),0)))","v":""},{"$f":"IF($C189=\"\",\"\",IF(ISBLANK(VLOOKUP($A189,'Section 2'!$E$17:$V$216,COLUMNS('Section 2'!$E$13:O$14),0)),\"\",VLOOKUP($A189,'Section 2'!$E$17:$V$216,COLUMNS('Section 2'!$E$13:O$14),0)))","v":""},{"$f":"IF($C189=\"\",\"\",IF(ISBLANK(VLOOKUP($A189,'Section 2'!$E$17:$V$216,COLUMNS('Section 2'!$E$13:P$14),0)),\"\",VLOOKUP($A189,'Section 2'!$E$17:$V$216,COLUMNS('Section 2'!$E$13:P$14),0)))","v":""},{"$f":"IF($C189=\"\",\"\",IF(ISBLANK(VLOOKUP($A189,'Section 2'!$E$17:$V$216,COLUMNS('Section 2'!$E$13:Q$14),0)),\"\",VLOOKUP($A189,'Section 2'!$E$17:$V$216,COLUMNS('Section 2'!$E$13:Q$14),0)))","v":""},{"$f":"IF($C189=\"\",\"\",IF(ISBLANK(VLOOKUP($A189,'Section 2'!$E$17:$V$216,COLUMNS('Section 2'!$E$13:R$14),0)),\"\",VLOOKUP($A189,'Section 2'!$E$17:$V$216,COLUMNS('Section 2'!$E$13:R$14),0)))","v":""},{"$f":"IF($C189=\"\",\"\",IF(ISBLANK(VLOOKUP($A189,'Section 2'!$E$17:$V$216,COLUMNS('Section 2'!$E$13:S$14),0)),\"\",VLOOKUP($A189,'Section 2'!$E$17:$V$216,COLUMNS('Section 2'!$E$13:S$14),0)))","v":""},{"$f":"IF($C189=\"\",\"\",IF(ISBLANK(VLOOKUP($A189,'Section 2'!$E$17:$V$216,COLUMNS('Section 2'!$E$13:T$14),0)),\"\",VLOOKUP($A189,'Section 2'!$E$17:$V$216,COLUMNS('Section 2'!$E$13:T$14),0)))","v":""},{"$f":"IF($C189=\"\",\"\",IF(ISBLANK(VLOOKUP($A189,'Section 2'!$E$17:$V$216,COLUMNS('Section 2'!$E$13:U$14),0)),\"\",VLOOKUP($A189,'Section 2'!$E$17:$V$216,COLUMNS('Section 2'!$E$13:U$14),0)))","v":""},{"$f":"IF($C189=\"\",\"\",IF(ISBLANK(VLOOKUP($A189,'Section 2'!$E$17:$V$216,COLUMNS('Section 2'!$E$13:V$14),0)),\"\",VLOOKUP($A189,'Section 2'!$E$17:$V$216,COLUMNS('Section 2'!$E$13:V$14),0)))","v":""}]
[189,"",{"$f":"IFERROR(VLOOKUP($A190,'Section 2'!$E$17:$V$216,COLUMNS('Section 2'!$E$13:E$14),0),\"\")","v":""},{"$f":"IF($C190=\"\",\"\",IF(ISBLANK(VLOOKUP($A190,'Section 2'!$E$17:$V$216,COLUMNS('Section 2'!$E$13:F$14),0)),\"\",VLOOKUP($A190,'Section 2'!$E$17:$V$216,COLUMNS('Section 2'!$E$13:F$14),0)))","v":""},{"$f":"IF($C190=\"\",\"\",IF(ISBLANK(VLOOKUP($A190,'Section 2'!$E$17:$V$216,COLUMNS('Section 2'!$E$13:G$14),0)),\"\",VLOOKUP($A190,'Section 2'!$E$17:$V$216,COLUMNS('Section 2'!$E$13:G$14),0)))","v":""},{"$f":"IF($C190=\"\",\"\",IF(ISBLANK(VLOOKUP($A190,'Section 2'!$E$17:$V$216,COLUMNS('Section 2'!$E$13:H$14),0)),\"\",VLOOKUP($A190,'Section 2'!$E$17:$V$216,COLUMNS('Section 2'!$E$13:H$14),0)))","v":""},{"$f":"IF($C190=\"\",\"\",IF(ISBLANK(VLOOKUP($A190,'Section 2'!$E$17:$V$216,COLUMNS('Section 2'!$E$13:I$14),0)),\"\",VLOOKUP($A190,'Section 2'!$E$17:$V$216,COLUMNS('Section 2'!$E$13:I$14),0)))","v":""},{"$f":"IF($C190=\"\",\"\",IF(ISBLANK(VLOOKUP($A190,'Section 2'!$E$17:$V$216,COLUMNS('Section 2'!$E$13:J$14),0)),\"\",VLOOKUP($A190,'Section 2'!$E$17:$V$216,COLUMNS('Section 2'!$E$13:J$14),0)))","v":""},{"$f":"IF($C190=\"\",\"\",IF(ISBLANK(VLOOKUP($A190,'Section 2'!$E$17:$V$216,COLUMNS('Section 2'!$E$13:K$14),0)),\"\",VLOOKUP($A190,'Section 2'!$E$17:$V$216,COLUMNS('Section 2'!$E$13:K$14),0)))","v":""},{"$f":"IF($C190=\"\",\"\",IF(ISBLANK(VLOOKUP($A190,'Section 2'!$E$17:$V$216,COLUMNS('Section 2'!$E$13:L$14),0)),\"\",VLOOKUP($A190,'Section 2'!$E$17:$V$216,COLUMNS('Section 2'!$E$13:L$14),0)))","v":""},{"$f":"IF($C190=\"\",\"\",IF(ISBLANK(VLOOKUP($A190,'Section 2'!$E$17:$V$216,COLUMNS('Section 2'!$E$13:M$14),0)),\"\",VLOOKUP($A190,'Section 2'!$E$17:$V$216,COLUMNS('Section 2'!$E$13:M$14),0)))","v":""},{"$f":"IF($C190=\"\",\"\",IF(ISBLANK(VLOOKUP($A190,'Section 2'!$E$17:$V$216,COLUMNS('Section 2'!$E$13:N$14),0)),\"\",VLOOKUP($A190,'Section 2'!$E$17:$V$216,COLUMNS('Section 2'!$E$13:N$14),0)))","v":""},{"$f":"IF($C190=\"\",\"\",IF(ISBLANK(VLOOKUP($A190,'Section 2'!$E$17:$V$216,COLUMNS('Section 2'!$E$13:O$14),0)),\"\",VLOOKUP($A190,'Section 2'!$E$17:$V$216,COLUMNS('Section 2'!$E$13:O$14),0)))","v":""},{"$f":"IF($C190=\"\",\"\",IF(ISBLANK(VLOOKUP($A190,'Section 2'!$E$17:$V$216,COLUMNS('Section 2'!$E$13:P$14),0)),\"\",VLOOKUP($A190,'Section 2'!$E$17:$V$216,COLUMNS('Section 2'!$E$13:P$14),0)))","v":""},{"$f":"IF($C190=\"\",\"\",IF(ISBLANK(VLOOKUP($A190,'Section 2'!$E$17:$V$216,COLUMNS('Section 2'!$E$13:Q$14),0)),\"\",VLOOKUP($A190,'Section 2'!$E$17:$V$216,COLUMNS('Section 2'!$E$13:Q$14),0)))","v":""},{"$f":"IF($C190=\"\",\"\",IF(ISBLANK(VLOOKUP($A190,'Section 2'!$E$17:$V$216,COLUMNS('Section 2'!$E$13:R$14),0)),\"\",VLOOKUP($A190,'Section 2'!$E$17:$V$216,COLUMNS('Section 2'!$E$13:R$14),0)))","v":""},{"$f":"IF($C190=\"\",\"\",IF(ISBLANK(VLOOKUP($A190,'Section 2'!$E$17:$V$216,COLUMNS('Section 2'!$E$13:S$14),0)),\"\",VLOOKUP($A190,'Section 2'!$E$17:$V$216,COLUMNS('Section 2'!$E$13:S$14),0)))","v":""},{"$f":"IF($C190=\"\",\"\",IF(ISBLANK(VLOOKUP($A190,'Section 2'!$E$17:$V$216,COLUMNS('Section 2'!$E$13:T$14),0)),\"\",VLOOKUP($A190,'Section 2'!$E$17:$V$216,COLUMNS('Section 2'!$E$13:T$14),0)))","v":""},{"$f":"IF($C190=\"\",\"\",IF(ISBLANK(VLOOKUP($A190,'Section 2'!$E$17:$V$216,COLUMNS('Section 2'!$E$13:U$14),0)),\"\",VLOOKUP($A190,'Section 2'!$E$17:$V$216,COLUMNS('Section 2'!$E$13:U$14),0)))","v":""},{"$f":"IF($C190=\"\",\"\",IF(ISBLANK(VLOOKUP($A190,'Section 2'!$E$17:$V$216,COLUMNS('Section 2'!$E$13:V$14),0)),\"\",VLOOKUP($A190,'Section 2'!$E$17:$V$216,COLUMNS('Section 2'!$E$13:V$14),0)))","v":""}]
[190,"",{"$f":"IFERROR(VLOOKUP($A191,'Section 2'!$E$17:$V$216,COLUMNS('Section 2'!$E$13:E$14),0),\"\")","v":""},{"$f":"IF($C191=\"\",\"\",IF(ISBLANK(VLOOKUP($A191,'Section 2'!$E$17:$V$216,COLUMNS('Section 2'!$E$13:F$14),0)),\"\",VLOOKUP($A191,'Section 2'!$E$17:$V$216,COLUMNS('Section 2'!$E$13:F$14),0)))","v":""},{"$f":"IF($C191=\"\",\"\",IF(ISBLANK(VLOOKUP($A191,'Section 2'!$E$17:$V$216,COLUMNS('Section 2'!$E$13:G$14),0)),\"\",VLOOKUP($A191,'Section 2'!$E$17:$V$216,COLUMNS('Section 2'!$E$13:G$14),0)))","v":""},{"$f":"IF($C191=\"\",\"\",IF(ISBLANK(VLOOKUP($A191,'Section 2'!$E$17:$V$216,COLUMNS('Section 2'!$E$13:H$14),0)),\"\",VLOOKUP($A191,'Section 2'!$E$17:$V$216,COLUMNS('Section 2'!$E$13:H$14),0)))","v":""},{"$f":"IF($C191=\"\",\"\",IF(ISBLANK(VLOOKUP($A191,'Section 2'!$E$17:$V$216,COLUMNS('Section 2'!$E$13:I$14),0)),\"\",VLOOKUP($A191,'Section 2'!$E$17:$V$216,COLUMNS('Section 2'!$E$13:I$14),0)))","v":""},{"$f":"IF($C191=\"\",\"\",IF(ISBLANK(VLOOKUP($A191,'Section 2'!$E$17:$V$216,COLUMNS('Section 2'!$E$13:J$14),0)),\"\",VLOOKUP($A191,'Section 2'!$E$17:$V$216,COLUMNS('Section 2'!$E$13:J$14),0)))","v":""},{"$f":"IF($C191=\"\",\"\",IF(ISBLANK(VLOOKUP($A191,'Section 2'!$E$17:$V$216,COLUMNS('Section 2'!$E$13:K$14),0)),\"\",VLOOKUP($A191,'Section 2'!$E$17:$V$216,COLUMNS('Section 2'!$E$13:K$14),0)))","v":""},{"$f":"IF($C191=\"\",\"\",IF(ISBLANK(VLOOKUP($A191,'Section 2'!$E$17:$V$216,COLUMNS('Section 2'!$E$13:L$14),0)),\"\",VLOOKUP($A191,'Section 2'!$E$17:$V$216,COLUMNS('Section 2'!$E$13:L$14),0)))","v":""},{"$f":"IF($C191=\"\",\"\",IF(ISBLANK(VLOOKUP($A191,'Section 2'!$E$17:$V$216,COLUMNS('Section 2'!$E$13:M$14),0)),\"\",VLOOKUP($A191,'Section 2'!$E$17:$V$216,COLUMNS('Section 2'!$E$13:M$14),0)))","v":""},{"$f":"IF($C191=\"\",\"\",IF(ISBLANK(VLOOKUP($A191,'Section 2'!$E$17:$V$216,COLUMNS('Section 2'!$E$13:N$14),0)),\"\",VLOOKUP($A191,'Section 2'!$E$17:$V$216,COLUMNS('Section 2'!$E$13:N$14),0)))","v":""},{"$f":"IF($C191=\"\",\"\",IF(ISBLANK(VLOOKUP($A191,'Section 2'!$E$17:$V$216,COLUMNS('Section 2'!$E$13:O$14),0)),\"\",VLOOKUP($A191,'Section 2'!$E$17:$V$216,COLUMNS('Section 2'!$E$13:O$14),0)))","v":""},{"$f":"IF($C191=\"\",\"\",IF(ISBLANK(VLOOKUP($A191,'Section 2'!$E$17:$V$216,COLUMNS('Section 2'!$E$13:P$14),0)),\"\",VLOOKUP($A191,'Section 2'!$E$17:$V$216,COLUMNS('Section 2'!$E$13:P$14),0)))","v":""},{"$f":"IF($C191=\"\",\"\",IF(ISBLANK(VLOOKUP($A191,'Section 2'!$E$17:$V$216,COLUMNS('Section 2'!$E$13:Q$14),0)),\"\",VLOOKUP($A191,'Section 2'!$E$17:$V$216,COLUMNS('Section 2'!$E$13:Q$14),0)))","v":""},{"$f":"IF($C191=\"\",\"\",IF(ISBLANK(VLOOKUP($A191,'Section 2'!$E$17:$V$216,COLUMNS('Section 2'!$E$13:R$14),0)),\"\",VLOOKUP($A191,'Section 2'!$E$17:$V$216,COLUMNS('Section 2'!$E$13:R$14),0)))","v":""},{"$f":"IF($C191=\"\",\"\",IF(ISBLANK(VLOOKUP($A191,'Section 2'!$E$17:$V$216,COLUMNS('Section 2'!$E$13:S$14),0)),\"\",VLOOKUP($A191,'Section 2'!$E$17:$V$216,COLUMNS('Section 2'!$E$13:S$14),0)))","v":""},{"$f":"IF($C191=\"\",\"\",IF(ISBLANK(VLOOKUP($A191,'Section 2'!$E$17:$V$216,COLUMNS('Section 2'!$E$13:T$14),0)),\"\",VLOOKUP($A191,'Section 2'!$E$17:$V$216,COLUMNS('Section 2'!$E$13:T$14),0)))","v":""},{"$f":"IF($C191=\"\",\"\",IF(ISBLANK(VLOOKUP($A191,'Section 2'!$E$17:$V$216,COLUMNS('Section 2'!$E$13:U$14),0)),\"\",VLOOKUP($A191,'Section 2'!$E$17:$V$216,COLUMNS('Section 2'!$E$13:U$14),0)))","v":""},{"$f":"IF($C191=\"\",\"\",IF(ISBLANK(VLOOKUP($A191,'Section 2'!$E$17:$V$216,COLUMNS('Section 2'!$E$13:V$14),0)),\"\",VLOOKUP($A191,'Section 2'!$E$17:$V$216,COLUMNS('Section 2'!$E$13:V$14),0)))","v":""}]
[191,"",{"$f":"IFERROR(VLOOKUP($A192,'Section 2'!$E$17:$V$216,COLUMNS('Section 2'!$E$13:E$14),0),\"\")","v":""},{"$f":"IF($C192=\"\",\"\",IF(ISBLANK(VLOOKUP($A192,'Section 2'!$E$17:$V$216,COLUMNS('Section 2'!$E$13:F$14),0)),\"\",VLOOKUP($A192,'Section 2'!$E$17:$V$216,COLUMNS('Section 2'!$E$13:F$14),0)))","v":""},{"$f":"IF($C192=\"\",\"\",IF(ISBLANK(VLOOKUP($A192,'Section 2'!$E$17:$V$216,COLUMNS('Section 2'!$E$13:G$14),0)),\"\",VLOOKUP($A192,'Section 2'!$E$17:$V$216,COLUMNS('Section 2'!$E$13:G$14),0)))","v":""},{"$f":"IF($C192=\"\",\"\",IF(ISBLANK(VLOOKUP($A192,'Section 2'!$E$17:$V$216,COLUMNS('Section 2'!$E$13:H$14),0)),\"\",VLOOKUP($A192,'Section 2'!$E$17:$V$216,COLUMNS('Section 2'!$E$13:H$14),0)))","v":""},{"$f":"IF($C192=\"\",\"\",IF(ISBLANK(VLOOKUP($A192,'Section 2'!$E$17:$V$216,COLUMNS('Section 2'!$E$13:I$14),0)),\"\",VLOOKUP($A192,'Section 2'!$E$17:$V$216,COLUMNS('Section 2'!$E$13:I$14),0)))","v":""},{"$f":"IF($C192=\"\",\"\",IF(ISBLANK(VLOOKUP($A192,'Section 2'!$E$17:$V$216,COLUMNS('Section 2'!$E$13:J$14),0)),\"\",VLOOKUP($A192,'Section 2'!$E$17:$V$216,COLUMNS('Section 2'!$E$13:J$14),0)))","v":""},{"$f":"IF($C192=\"\",\"\",IF(ISBLANK(VLOOKUP($A192,'Section 2'!$E$17:$V$216,COLUMNS('Section 2'!$E$13:K$14),0)),\"\",VLOOKUP($A192,'Section 2'!$E$17:$V$216,COLUMNS('Section 2'!$E$13:K$14),0)))","v":""},{"$f":"IF($C192=\"\",\"\",IF(ISBLANK(VLOOKUP($A192,'Section 2'!$E$17:$V$216,COLUMNS('Section 2'!$E$13:L$14),0)),\"\",VLOOKUP($A192,'Section 2'!$E$17:$V$216,COLUMNS('Section 2'!$E$13:L$14),0)))","v":""},{"$f":"IF($C192=\"\",\"\",IF(ISBLANK(VLOOKUP($A192,'Section 2'!$E$17:$V$216,COLUMNS('Section 2'!$E$13:M$14),0)),\"\",VLOOKUP($A192,'Section 2'!$E$17:$V$216,COLUMNS('Section 2'!$E$13:M$14),0)))","v":""},{"$f":"IF($C192=\"\",\"\",IF(ISBLANK(VLOOKUP($A192,'Section 2'!$E$17:$V$216,COLUMNS('Section 2'!$E$13:N$14),0)),\"\",VLOOKUP($A192,'Section 2'!$E$17:$V$216,COLUMNS('Section 2'!$E$13:N$14),0)))","v":""},{"$f":"IF($C192=\"\",\"\",IF(ISBLANK(VLOOKUP($A192,'Section 2'!$E$17:$V$216,COLUMNS('Section 2'!$E$13:O$14),0)),\"\",VLOOKUP($A192,'Section 2'!$E$17:$V$216,COLUMNS('Section 2'!$E$13:O$14),0)))","v":""},{"$f":"IF($C192=\"\",\"\",IF(ISBLANK(VLOOKUP($A192,'Section 2'!$E$17:$V$216,COLUMNS('Section 2'!$E$13:P$14),0)),\"\",VLOOKUP($A192,'Section 2'!$E$17:$V$216,COLUMNS('Section 2'!$E$13:P$14),0)))","v":""},{"$f":"IF($C192=\"\",\"\",IF(ISBLANK(VLOOKUP($A192,'Section 2'!$E$17:$V$216,COLUMNS('Section 2'!$E$13:Q$14),0)),\"\",VLOOKUP($A192,'Section 2'!$E$17:$V$216,COLUMNS('Section 2'!$E$13:Q$14),0)))","v":""},{"$f":"IF($C192=\"\",\"\",IF(ISBLANK(VLOOKUP($A192,'Section 2'!$E$17:$V$216,COLUMNS('Section 2'!$E$13:R$14),0)),\"\",VLOOKUP($A192,'Section 2'!$E$17:$V$216,COLUMNS('Section 2'!$E$13:R$14),0)))","v":""},{"$f":"IF($C192=\"\",\"\",IF(ISBLANK(VLOOKUP($A192,'Section 2'!$E$17:$V$216,COLUMNS('Section 2'!$E$13:S$14),0)),\"\",VLOOKUP($A192,'Section 2'!$E$17:$V$216,COLUMNS('Section 2'!$E$13:S$14),0)))","v":""},{"$f":"IF($C192=\"\",\"\",IF(ISBLANK(VLOOKUP($A192,'Section 2'!$E$17:$V$216,COLUMNS('Section 2'!$E$13:T$14),0)),\"\",VLOOKUP($A192,'Section 2'!$E$17:$V$216,COLUMNS('Section 2'!$E$13:T$14),0)))","v":""},{"$f":"IF($C192=\"\",\"\",IF(ISBLANK(VLOOKUP($A192,'Section 2'!$E$17:$V$216,COLUMNS('Section 2'!$E$13:U$14),0)),\"\",VLOOKUP($A192,'Section 2'!$E$17:$V$216,COLUMNS('Section 2'!$E$13:U$14),0)))","v":""},{"$f":"IF($C192=\"\",\"\",IF(ISBLANK(VLOOKUP($A192,'Section 2'!$E$17:$V$216,COLUMNS('Section 2'!$E$13:V$14),0)),\"\",VLOOKUP($A192,'Section 2'!$E$17:$V$216,COLUMNS('Section 2'!$E$13:V$14),0)))","v":""}]
[192,"",{"$f":"IFERROR(VLOOKUP($A193,'Section 2'!$E$17:$V$216,COLUMNS('Section 2'!$E$13:E$14),0),\"\")","v":""},{"$f":"IF($C193=\"\",\"\",IF(ISBLANK(VLOOKUP($A193,'Section 2'!$E$17:$V$216,COLUMNS('Section 2'!$E$13:F$14),0)),\"\",VLOOKUP($A193,'Section 2'!$E$17:$V$216,COLUMNS('Section 2'!$E$13:F$14),0)))","v":""},{"$f":"IF($C193=\"\",\"\",IF(ISBLANK(VLOOKUP($A193,'Section 2'!$E$17:$V$216,COLUMNS('Section 2'!$E$13:G$14),0)),\"\",VLOOKUP($A193,'Section 2'!$E$17:$V$216,COLUMNS('Section 2'!$E$13:G$14),0)))","v":""},{"$f":"IF($C193=\"\",\"\",IF(ISBLANK(VLOOKUP($A193,'Section 2'!$E$17:$V$216,COLUMNS('Section 2'!$E$13:H$14),0)),\"\",VLOOKUP($A193,'Section 2'!$E$17:$V$216,COLUMNS('Section 2'!$E$13:H$14),0)))","v":""},{"$f":"IF($C193=\"\",\"\",IF(ISBLANK(VLOOKUP($A193,'Section 2'!$E$17:$V$216,COLUMNS('Section 2'!$E$13:I$14),0)),\"\",VLOOKUP($A193,'Section 2'!$E$17:$V$216,COLUMNS('Section 2'!$E$13:I$14),0)))","v":""},{"$f":"IF($C193=\"\",\"\",IF(ISBLANK(VLOOKUP($A193,'Section 2'!$E$17:$V$216,COLUMNS('Section 2'!$E$13:J$14),0)),\"\",VLOOKUP($A193,'Section 2'!$E$17:$V$216,COLUMNS('Section 2'!$E$13:J$14),0)))","v":""},{"$f":"IF($C193=\"\",\"\",IF(ISBLANK(VLOOKUP($A193,'Section 2'!$E$17:$V$216,COLUMNS('Section 2'!$E$13:K$14),0)),\"\",VLOOKUP($A193,'Section 2'!$E$17:$V$216,COLUMNS('Section 2'!$E$13:K$14),0)))","v":""},{"$f":"IF($C193=\"\",\"\",IF(ISBLANK(VLOOKUP($A193,'Section 2'!$E$17:$V$216,COLUMNS('Section 2'!$E$13:L$14),0)),\"\",VLOOKUP($A193,'Section 2'!$E$17:$V$216,COLUMNS('Section 2'!$E$13:L$14),0)))","v":""},{"$f":"IF($C193=\"\",\"\",IF(ISBLANK(VLOOKUP($A193,'Section 2'!$E$17:$V$216,COLUMNS('Section 2'!$E$13:M$14),0)),\"\",VLOOKUP($A193,'Section 2'!$E$17:$V$216,COLUMNS('Section 2'!$E$13:M$14),0)))","v":""},{"$f":"IF($C193=\"\",\"\",IF(ISBLANK(VLOOKUP($A193,'Section 2'!$E$17:$V$216,COLUMNS('Section 2'!$E$13:N$14),0)),\"\",VLOOKUP($A193,'Section 2'!$E$17:$V$216,COLUMNS('Section 2'!$E$13:N$14),0)))","v":""},{"$f":"IF($C193=\"\",\"\",IF(ISBLANK(VLOOKUP($A193,'Section 2'!$E$17:$V$216,COLUMNS('Section 2'!$E$13:O$14),0)),\"\",VLOOKUP($A193,'Section 2'!$E$17:$V$216,COLUMNS('Section 2'!$E$13:O$14),0)))","v":""},{"$f":"IF($C193=\"\",\"\",IF(ISBLANK(VLOOKUP($A193,'Section 2'!$E$17:$V$216,COLUMNS('Section 2'!$E$13:P$14),0)),\"\",VLOOKUP($A193,'Section 2'!$E$17:$V$216,COLUMNS('Section 2'!$E$13:P$14),0)))","v":""},{"$f":"IF($C193=\"\",\"\",IF(ISBLANK(VLOOKUP($A193,'Section 2'!$E$17:$V$216,COLUMNS('Section 2'!$E$13:Q$14),0)),\"\",VLOOKUP($A193,'Section 2'!$E$17:$V$216,COLUMNS('Section 2'!$E$13:Q$14),0)))","v":""},{"$f":"IF($C193=\"\",\"\",IF(ISBLANK(VLOOKUP($A193,'Section 2'!$E$17:$V$216,COLUMNS('Section 2'!$E$13:R$14),0)),\"\",VLOOKUP($A193,'Section 2'!$E$17:$V$216,COLUMNS('Section 2'!$E$13:R$14),0)))","v":""},{"$f":"IF($C193=\"\",\"\",IF(ISBLANK(VLOOKUP($A193,'Section 2'!$E$17:$V$216,COLUMNS('Section 2'!$E$13:S$14),0)),\"\",VLOOKUP($A193,'Section 2'!$E$17:$V$216,COLUMNS('Section 2'!$E$13:S$14),0)))","v":""},{"$f":"IF($C193=\"\",\"\",IF(ISBLANK(VLOOKUP($A193,'Section 2'!$E$17:$V$216,COLUMNS('Section 2'!$E$13:T$14),0)),\"\",VLOOKUP($A193,'Section 2'!$E$17:$V$216,COLUMNS('Section 2'!$E$13:T$14),0)))","v":""},{"$f":"IF($C193=\"\",\"\",IF(ISBLANK(VLOOKUP($A193,'Section 2'!$E$17:$V$216,COLUMNS('Section 2'!$E$13:U$14),0)),\"\",VLOOKUP($A193,'Section 2'!$E$17:$V$216,COLUMNS('Section 2'!$E$13:U$14),0)))","v":""},{"$f":"IF($C193=\"\",\"\",IF(ISBLANK(VLOOKUP($A193,'Section 2'!$E$17:$V$216,COLUMNS('Section 2'!$E$13:V$14),0)),\"\",VLOOKUP($A193,'Section 2'!$E$17:$V$216,COLUMNS('Section 2'!$E$13:V$14),0)))","v":""}]
[193,"",{"$f":"IFERROR(VLOOKUP($A194,'Section 2'!$E$17:$V$216,COLUMNS('Section 2'!$E$13:E$14),0),\"\")","v":""},{"$f":"IF($C194=\"\",\"\",IF(ISBLANK(VLOOKUP($A194,'Section 2'!$E$17:$V$216,COLUMNS('Section 2'!$E$13:F$14),0)),\"\",VLOOKUP($A194,'Section 2'!$E$17:$V$216,COLUMNS('Section 2'!$E$13:F$14),0)))","v":""},{"$f":"IF($C194=\"\",\"\",IF(ISBLANK(VLOOKUP($A194,'Section 2'!$E$17:$V$216,COLUMNS('Section 2'!$E$13:G$14),0)),\"\",VLOOKUP($A194,'Section 2'!$E$17:$V$216,COLUMNS('Section 2'!$E$13:G$14),0)))","v":""},{"$f":"IF($C194=\"\",\"\",IF(ISBLANK(VLOOKUP($A194,'Section 2'!$E$17:$V$216,COLUMNS('Section 2'!$E$13:H$14),0)),\"\",VLOOKUP($A194,'Section 2'!$E$17:$V$216,COLUMNS('Section 2'!$E$13:H$14),0)))","v":""},{"$f":"IF($C194=\"\",\"\",IF(ISBLANK(VLOOKUP($A194,'Section 2'!$E$17:$V$216,COLUMNS('Section 2'!$E$13:I$14),0)),\"\",VLOOKUP($A194,'Section 2'!$E$17:$V$216,COLUMNS('Section 2'!$E$13:I$14),0)))","v":""},{"$f":"IF($C194=\"\",\"\",IF(ISBLANK(VLOOKUP($A194,'Section 2'!$E$17:$V$216,COLUMNS('Section 2'!$E$13:J$14),0)),\"\",VLOOKUP($A194,'Section 2'!$E$17:$V$216,COLUMNS('Section 2'!$E$13:J$14),0)))","v":""},{"$f":"IF($C194=\"\",\"\",IF(ISBLANK(VLOOKUP($A194,'Section 2'!$E$17:$V$216,COLUMNS('Section 2'!$E$13:K$14),0)),\"\",VLOOKUP($A194,'Section 2'!$E$17:$V$216,COLUMNS('Section 2'!$E$13:K$14),0)))","v":""},{"$f":"IF($C194=\"\",\"\",IF(ISBLANK(VLOOKUP($A194,'Section 2'!$E$17:$V$216,COLUMNS('Section 2'!$E$13:L$14),0)),\"\",VLOOKUP($A194,'Section 2'!$E$17:$V$216,COLUMNS('Section 2'!$E$13:L$14),0)))","v":""},{"$f":"IF($C194=\"\",\"\",IF(ISBLANK(VLOOKUP($A194,'Section 2'!$E$17:$V$216,COLUMNS('Section 2'!$E$13:M$14),0)),\"\",VLOOKUP($A194,'Section 2'!$E$17:$V$216,COLUMNS('Section 2'!$E$13:M$14),0)))","v":""},{"$f":"IF($C194=\"\",\"\",IF(ISBLANK(VLOOKUP($A194,'Section 2'!$E$17:$V$216,COLUMNS('Section 2'!$E$13:N$14),0)),\"\",VLOOKUP($A194,'Section 2'!$E$17:$V$216,COLUMNS('Section 2'!$E$13:N$14),0)))","v":""},{"$f":"IF($C194=\"\",\"\",IF(ISBLANK(VLOOKUP($A194,'Section 2'!$E$17:$V$216,COLUMNS('Section 2'!$E$13:O$14),0)),\"\",VLOOKUP($A194,'Section 2'!$E$17:$V$216,COLUMNS('Section 2'!$E$13:O$14),0)))","v":""},{"$f":"IF($C194=\"\",\"\",IF(ISBLANK(VLOOKUP($A194,'Section 2'!$E$17:$V$216,COLUMNS('Section 2'!$E$13:P$14),0)),\"\",VLOOKUP($A194,'Section 2'!$E$17:$V$216,COLUMNS('Section 2'!$E$13:P$14),0)))","v":""},{"$f":"IF($C194=\"\",\"\",IF(ISBLANK(VLOOKUP($A194,'Section 2'!$E$17:$V$216,COLUMNS('Section 2'!$E$13:Q$14),0)),\"\",VLOOKUP($A194,'Section 2'!$E$17:$V$216,COLUMNS('Section 2'!$E$13:Q$14),0)))","v":""},{"$f":"IF($C194=\"\",\"\",IF(ISBLANK(VLOOKUP($A194,'Section 2'!$E$17:$V$216,COLUMNS('Section 2'!$E$13:R$14),0)),\"\",VLOOKUP($A194,'Section 2'!$E$17:$V$216,COLUMNS('Section 2'!$E$13:R$14),0)))","v":""},{"$f":"IF($C194=\"\",\"\",IF(ISBLANK(VLOOKUP($A194,'Section 2'!$E$17:$V$216,COLUMNS('Section 2'!$E$13:S$14),0)),\"\",VLOOKUP($A194,'Section 2'!$E$17:$V$216,COLUMNS('Section 2'!$E$13:S$14),0)))","v":""},{"$f":"IF($C194=\"\",\"\",IF(ISBLANK(VLOOKUP($A194,'Section 2'!$E$17:$V$216,COLUMNS('Section 2'!$E$13:T$14),0)),\"\",VLOOKUP($A194,'Section 2'!$E$17:$V$216,COLUMNS('Section 2'!$E$13:T$14),0)))","v":""},{"$f":"IF($C194=\"\",\"\",IF(ISBLANK(VLOOKUP($A194,'Section 2'!$E$17:$V$216,COLUMNS('Section 2'!$E$13:U$14),0)),\"\",VLOOKUP($A194,'Section 2'!$E$17:$V$216,COLUMNS('Section 2'!$E$13:U$14),0)))","v":""},{"$f":"IF($C194=\"\",\"\",IF(ISBLANK(VLOOKUP($A194,'Section 2'!$E$17:$V$216,COLUMNS('Section 2'!$E$13:V$14),0)),\"\",VLOOKUP($A194,'Section 2'!$E$17:$V$216,COLUMNS('Section 2'!$E$13:V$14),0)))","v":""}]
[194,{"$f":"IF(C195=\"\",\"\",2)","v":""},{"$f":"IFERROR(VLOOKUP($A195,'Section 2'!$E$17:$V$216,COLUMNS('Section 2'!$E$13:E$14),0),\"\")","v":""},{"$f":"IF($C195=\"\",\"\",IF(ISBLANK(VLOOKUP($A195,'Section 2'!$E$17:$V$216,COLUMNS('Section 2'!$E$13:F$14),0)),\"\",VLOOKUP($A195,'Section 2'!$E$17:$V$216,COLUMNS('Section 2'!$E$13:F$14),0)))","v":""},{"$f":"IF($C195=\"\",\"\",IF(ISBLANK(VLOOKUP($A195,'Section 2'!$E$17:$V$216,COLUMNS('Section 2'!$E$13:G$14),0)),\"\",VLOOKUP($A195,'Section 2'!$E$17:$V$216,COLUMNS('Section 2'!$E$13:G$14),0)))","v":""},{"$f":"IF($C195=\"\",\"\",IF(ISBLANK(VLOOKUP($A195,'Section 2'!$E$17:$V$216,COLUMNS('Section 2'!$E$13:H$14),0)),\"\",VLOOKUP($A195,'Section 2'!$E$17:$V$216,COLUMNS('Section 2'!$E$13:H$14),0)))","v":""},{"$f":"IF($C195=\"\",\"\",IF(ISBLANK(VLOOKUP($A195,'Section 2'!$E$17:$V$216,COLUMNS('Section 2'!$E$13:I$14),0)),\"\",VLOOKUP($A195,'Section 2'!$E$17:$V$216,COLUMNS('Section 2'!$E$13:I$14),0)))","v":""},{"$f":"IF($C195=\"\",\"\",IF(ISBLANK(VLOOKUP($A195,'Section 2'!$E$17:$V$216,COLUMNS('Section 2'!$E$13:J$14),0)),\"\",VLOOKUP($A195,'Section 2'!$E$17:$V$216,COLUMNS('Section 2'!$E$13:J$14),0)))","v":""},{"$f":"IF($C195=\"\",\"\",IF(ISBLANK(VLOOKUP($A195,'Section 2'!$E$17:$V$216,COLUMNS('Section 2'!$E$13:K$14),0)),\"\",VLOOKUP($A195,'Section 2'!$E$17:$V$216,COLUMNS('Section 2'!$E$13:K$14),0)))","v":""},{"$f":"IF($C195=\"\",\"\",IF(ISBLANK(VLOOKUP($A195,'Section 2'!$E$17:$V$216,COLUMNS('Section 2'!$E$13:L$14),0)),\"\",VLOOKUP($A195,'Section 2'!$E$17:$V$216,COLUMNS('Section 2'!$E$13:L$14),0)))","v":""},{"$f":"IF($C195=\"\",\"\",IF(ISBLANK(VLOOKUP($A195,'Section 2'!$E$17:$V$216,COLUMNS('Section 2'!$E$13:M$14),0)),\"\",VLOOKUP($A195,'Section 2'!$E$17:$V$216,COLUMNS('Section 2'!$E$13:M$14),0)))","v":""},{"$f":"IF($C195=\"\",\"\",IF(ISBLANK(VLOOKUP($A195,'Section 2'!$E$17:$V$216,COLUMNS('Section 2'!$E$13:N$14),0)),\"\",VLOOKUP($A195,'Section 2'!$E$17:$V$216,COLUMNS('Section 2'!$E$13:N$14),0)))","v":""},{"$f":"IF($C195=\"\",\"\",IF(ISBLANK(VLOOKUP($A195,'Section 2'!$E$17:$V$216,COLUMNS('Section 2'!$E$13:O$14),0)),\"\",VLOOKUP($A195,'Section 2'!$E$17:$V$216,COLUMNS('Section 2'!$E$13:O$14),0)))","v":""},{"$f":"IF($C195=\"\",\"\",IF(ISBLANK(VLOOKUP($A195,'Section 2'!$E$17:$V$216,COLUMNS('Section 2'!$E$13:P$14),0)),\"\",VLOOKUP($A195,'Section 2'!$E$17:$V$216,COLUMNS('Section 2'!$E$13:P$14),0)))","v":""},{"$f":"IF($C195=\"\",\"\",IF(ISBLANK(VLOOKUP($A195,'Section 2'!$E$17:$V$216,COLUMNS('Section 2'!$E$13:Q$14),0)),\"\",VLOOKUP($A195,'Section 2'!$E$17:$V$216,COLUMNS('Section 2'!$E$13:Q$14),0)))","v":""},{"$f":"IF($C195=\"\",\"\",IF(ISBLANK(VLOOKUP($A195,'Section 2'!$E$17:$V$216,COLUMNS('Section 2'!$E$13:R$14),0)),\"\",VLOOKUP($A195,'Section 2'!$E$17:$V$216,COLUMNS('Section 2'!$E$13:R$14),0)))","v":""},{"$f":"IF($C195=\"\",\"\",IF(ISBLANK(VLOOKUP($A195,'Section 2'!$E$17:$V$216,COLUMNS('Section 2'!$E$13:S$14),0)),\"\",VLOOKUP($A195,'Section 2'!$E$17:$V$216,COLUMNS('Section 2'!$E$13:S$14),0)))","v":""},{"$f":"IF($C195=\"\",\"\",IF(ISBLANK(VLOOKUP($A195,'Section 2'!$E$17:$V$216,COLUMNS('Section 2'!$E$13:T$14),0)),\"\",VLOOKUP($A195,'Section 2'!$E$17:$V$216,COLUMNS('Section 2'!$E$13:T$14),0)))","v":""},{"$f":"IF($C195=\"\",\"\",IF(ISBLANK(VLOOKUP($A195,'Section 2'!$E$17:$V$216,COLUMNS('Section 2'!$E$13:U$14),0)),\"\",VLOOKUP($A195,'Section 2'!$E$17:$V$216,COLUMNS('Section 2'!$E$13:U$14),0)))","v":""},{"$f":"IF($C195=\"\",\"\",IF(ISBLANK(VLOOKUP($A195,'Section 2'!$E$17:$V$216,COLUMNS('Section 2'!$E$13:V$14),0)),\"\",VLOOKUP($A195,'Section 2'!$E$17:$V$216,COLUMNS('Section 2'!$E$13:V$14),0)))","v":""}]
[195,"",{"$f":"IFERROR(VLOOKUP($A196,'Section 2'!$E$17:$V$216,COLUMNS('Section 2'!$E$13:E$14),0),\"\")","v":""},{"$f":"IF($C196=\"\",\"\",IF(ISBLANK(VLOOKUP($A196,'Section 2'!$E$17:$V$216,COLUMNS('Section 2'!$E$13:F$14),0)),\"\",VLOOKUP($A196,'Section 2'!$E$17:$V$216,COLUMNS('Section 2'!$E$13:F$14),0)))","v":""},{"$f":"IF($C196=\"\",\"\",IF(ISBLANK(VLOOKUP($A196,'Section 2'!$E$17:$V$216,COLUMNS('Section 2'!$E$13:G$14),0)),\"\",VLOOKUP($A196,'Section 2'!$E$17:$V$216,COLUMNS('Section 2'!$E$13:G$14),0)))","v":""},{"$f":"IF($C196=\"\",\"\",IF(ISBLANK(VLOOKUP($A196,'Section 2'!$E$17:$V$216,COLUMNS('Section 2'!$E$13:H$14),0)),\"\",VLOOKUP($A196,'Section 2'!$E$17:$V$216,COLUMNS('Section 2'!$E$13:H$14),0)))","v":""},{"$f":"IF($C196=\"\",\"\",IF(ISBLANK(VLOOKUP($A196,'Section 2'!$E$17:$V$216,COLUMNS('Section 2'!$E$13:I$14),0)),\"\",VLOOKUP($A196,'Section 2'!$E$17:$V$216,COLUMNS('Section 2'!$E$13:I$14),0)))","v":""},{"$f":"IF($C196=\"\",\"\",IF(ISBLANK(VLOOKUP($A196,'Section 2'!$E$17:$V$216,COLUMNS('Section 2'!$E$13:J$14),0)),\"\",VLOOKUP($A196,'Section 2'!$E$17:$V$216,COLUMNS('Section 2'!$E$13:J$14),0)))","v":""},{"$f":"IF($C196=\"\",\"\",IF(ISBLANK(VLOOKUP($A196,'Section 2'!$E$17:$V$216,COLUMNS('Section 2'!$E$13:K$14),0)),\"\",VLOOKUP($A196,'Section 2'!$E$17:$V$216,COLUMNS('Section 2'!$E$13:K$14),0)))","v":""},{"$f":"IF($C196=\"\",\"\",IF(ISBLANK(VLOOKUP($A196,'Section 2'!$E$17:$V$216,COLUMNS('Section 2'!$E$13:L$14),0)),\"\",VLOOKUP($A196,'Section 2'!$E$17:$V$216,COLUMNS('Section 2'!$E$13:L$14),0)))","v":""},{"$f":"IF($C196=\"\",\"\",IF(ISBLANK(VLOOKUP($A196,'Section 2'!$E$17:$V$216,COLUMNS('Section 2'!$E$13:M$14),0)),\"\",VLOOKUP($A196,'Section 2'!$E$17:$V$216,COLUMNS('Section 2'!$E$13:M$14),0)))","v":""},{"$f":"IF($C196=\"\",\"\",IF(ISBLANK(VLOOKUP($A196,'Section 2'!$E$17:$V$216,COLUMNS('Section 2'!$E$13:N$14),0)),\"\",VLOOKUP($A196,'Section 2'!$E$17:$V$216,COLUMNS('Section 2'!$E$13:N$14),0)))","v":""},{"$f":"IF($C196=\"\",\"\",IF(ISBLANK(VLOOKUP($A196,'Section 2'!$E$17:$V$216,COLUMNS('Section 2'!$E$13:O$14),0)),\"\",VLOOKUP($A196,'Section 2'!$E$17:$V$216,COLUMNS('Section 2'!$E$13:O$14),0)))","v":""},{"$f":"IF($C196=\"\",\"\",IF(ISBLANK(VLOOKUP($A196,'Section 2'!$E$17:$V$216,COLUMNS('Section 2'!$E$13:P$14),0)),\"\",VLOOKUP($A196,'Section 2'!$E$17:$V$216,COLUMNS('Section 2'!$E$13:P$14),0)))","v":""},{"$f":"IF($C196=\"\",\"\",IF(ISBLANK(VLOOKUP($A196,'Section 2'!$E$17:$V$216,COLUMNS('Section 2'!$E$13:Q$14),0)),\"\",VLOOKUP($A196,'Section 2'!$E$17:$V$216,COLUMNS('Section 2'!$E$13:Q$14),0)))","v":""},{"$f":"IF($C196=\"\",\"\",IF(ISBLANK(VLOOKUP($A196,'Section 2'!$E$17:$V$216,COLUMNS('Section 2'!$E$13:R$14),0)),\"\",VLOOKUP($A196,'Section 2'!$E$17:$V$216,COLUMNS('Section 2'!$E$13:R$14),0)))","v":""},{"$f":"IF($C196=\"\",\"\",IF(ISBLANK(VLOOKUP($A196,'Section 2'!$E$17:$V$216,COLUMNS('Section 2'!$E$13:S$14),0)),\"\",VLOOKUP($A196,'Section 2'!$E$17:$V$216,COLUMNS('Section 2'!$E$13:S$14),0)))","v":""},{"$f":"IF($C196=\"\",\"\",IF(ISBLANK(VLOOKUP($A196,'Section 2'!$E$17:$V$216,COLUMNS('Section 2'!$E$13:T$14),0)),\"\",VLOOKUP($A196,'Section 2'!$E$17:$V$216,COLUMNS('Section 2'!$E$13:T$14),0)))","v":""},{"$f":"IF($C196=\"\",\"\",IF(ISBLANK(VLOOKUP($A196,'Section 2'!$E$17:$V$216,COLUMNS('Section 2'!$E$13:U$14),0)),\"\",VLOOKUP($A196,'Section 2'!$E$17:$V$216,COLUMNS('Section 2'!$E$13:U$14),0)))","v":""},{"$f":"IF($C196=\"\",\"\",IF(ISBLANK(VLOOKUP($A196,'Section 2'!$E$17:$V$216,COLUMNS('Section 2'!$E$13:V$14),0)),\"\",VLOOKUP($A196,'Section 2'!$E$17:$V$216,COLUMNS('Section 2'!$E$13:V$14),0)))","v":""}]
[196,"",{"$f":"IFERROR(VLOOKUP($A197,'Section 2'!$E$17:$V$216,COLUMNS('Section 2'!$E$13:E$14),0),\"\")","v":""},{"$f":"IF($C197=\"\",\"\",IF(ISBLANK(VLOOKUP($A197,'Section 2'!$E$17:$V$216,COLUMNS('Section 2'!$E$13:F$14),0)),\"\",VLOOKUP($A197,'Section 2'!$E$17:$V$216,COLUMNS('Section 2'!$E$13:F$14),0)))","v":""},{"$f":"IF($C197=\"\",\"\",IF(ISBLANK(VLOOKUP($A197,'Section 2'!$E$17:$V$216,COLUMNS('Section 2'!$E$13:G$14),0)),\"\",VLOOKUP($A197,'Section 2'!$E$17:$V$216,COLUMNS('Section 2'!$E$13:G$14),0)))","v":""},{"$f":"IF($C197=\"\",\"\",IF(ISBLANK(VLOOKUP($A197,'Section 2'!$E$17:$V$216,COLUMNS('Section 2'!$E$13:H$14),0)),\"\",VLOOKUP($A197,'Section 2'!$E$17:$V$216,COLUMNS('Section 2'!$E$13:H$14),0)))","v":""},{"$f":"IF($C197=\"\",\"\",IF(ISBLANK(VLOOKUP($A197,'Section 2'!$E$17:$V$216,COLUMNS('Section 2'!$E$13:I$14),0)),\"\",VLOOKUP($A197,'Section 2'!$E$17:$V$216,COLUMNS('Section 2'!$E$13:I$14),0)))","v":""},{"$f":"IF($C197=\"\",\"\",IF(ISBLANK(VLOOKUP($A197,'Section 2'!$E$17:$V$216,COLUMNS('Section 2'!$E$13:J$14),0)),\"\",VLOOKUP($A197,'Section 2'!$E$17:$V$216,COLUMNS('Section 2'!$E$13:J$14),0)))","v":""},{"$f":"IF($C197=\"\",\"\",IF(ISBLANK(VLOOKUP($A197,'Section 2'!$E$17:$V$216,COLUMNS('Section 2'!$E$13:K$14),0)),\"\",VLOOKUP($A197,'Section 2'!$E$17:$V$216,COLUMNS('Section 2'!$E$13:K$14),0)))","v":""},{"$f":"IF($C197=\"\",\"\",IF(ISBLANK(VLOOKUP($A197,'Section 2'!$E$17:$V$216,COLUMNS('Section 2'!$E$13:L$14),0)),\"\",VLOOKUP($A197,'Section 2'!$E$17:$V$216,COLUMNS('Section 2'!$E$13:L$14),0)))","v":""},{"$f":"IF($C197=\"\",\"\",IF(ISBLANK(VLOOKUP($A197,'Section 2'!$E$17:$V$216,COLUMNS('Section 2'!$E$13:M$14),0)),\"\",VLOOKUP($A197,'Section 2'!$E$17:$V$216,COLUMNS('Section 2'!$E$13:M$14),0)))","v":""},{"$f":"IF($C197=\"\",\"\",IF(ISBLANK(VLOOKUP($A197,'Section 2'!$E$17:$V$216,COLUMNS('Section 2'!$E$13:N$14),0)),\"\",VLOOKUP($A197,'Section 2'!$E$17:$V$216,COLUMNS('Section 2'!$E$13:N$14),0)))","v":""},{"$f":"IF($C197=\"\",\"\",IF(ISBLANK(VLOOKUP($A197,'Section 2'!$E$17:$V$216,COLUMNS('Section 2'!$E$13:O$14),0)),\"\",VLOOKUP($A197,'Section 2'!$E$17:$V$216,COLUMNS('Section 2'!$E$13:O$14),0)))","v":""},{"$f":"IF($C197=\"\",\"\",IF(ISBLANK(VLOOKUP($A197,'Section 2'!$E$17:$V$216,COLUMNS('Section 2'!$E$13:P$14),0)),\"\",VLOOKUP($A197,'Section 2'!$E$17:$V$216,COLUMNS('Section 2'!$E$13:P$14),0)))","v":""},{"$f":"IF($C197=\"\",\"\",IF(ISBLANK(VLOOKUP($A197,'Section 2'!$E$17:$V$216,COLUMNS('Section 2'!$E$13:Q$14),0)),\"\",VLOOKUP($A197,'Section 2'!$E$17:$V$216,COLUMNS('Section 2'!$E$13:Q$14),0)))","v":""},{"$f":"IF($C197=\"\",\"\",IF(ISBLANK(VLOOKUP($A197,'Section 2'!$E$17:$V$216,COLUMNS('Section 2'!$E$13:R$14),0)),\"\",VLOOKUP($A197,'Section 2'!$E$17:$V$216,COLUMNS('Section 2'!$E$13:R$14),0)))","v":""},{"$f":"IF($C197=\"\",\"\",IF(ISBLANK(VLOOKUP($A197,'Section 2'!$E$17:$V$216,COLUMNS('Section 2'!$E$13:S$14),0)),\"\",VLOOKUP($A197,'Section 2'!$E$17:$V$216,COLUMNS('Section 2'!$E$13:S$14),0)))","v":""},{"$f":"IF($C197=\"\",\"\",IF(ISBLANK(VLOOKUP($A197,'Section 2'!$E$17:$V$216,COLUMNS('Section 2'!$E$13:T$14),0)),\"\",VLOOKUP($A197,'Section 2'!$E$17:$V$216,COLUMNS('Section 2'!$E$13:T$14),0)))","v":""},{"$f":"IF($C197=\"\",\"\",IF(ISBLANK(VLOOKUP($A197,'Section 2'!$E$17:$V$216,COLUMNS('Section 2'!$E$13:U$14),0)),\"\",VLOOKUP($A197,'Section 2'!$E$17:$V$216,COLUMNS('Section 2'!$E$13:U$14),0)))","v":""},{"$f":"IF($C197=\"\",\"\",IF(ISBLANK(VLOOKUP($A197,'Section 2'!$E$17:$V$216,COLUMNS('Section 2'!$E$13:V$14),0)),\"\",VLOOKUP($A197,'Section 2'!$E$17:$V$216,COLUMNS('Section 2'!$E$13:V$14),0)))","v":""}]
[197,"",{"$f":"IFERROR(VLOOKUP($A198,'Section 2'!$E$17:$V$216,COLUMNS('Section 2'!$E$13:E$14),0),\"\")","v":""},{"$f":"IF($C198=\"\",\"\",IF(ISBLANK(VLOOKUP($A198,'Section 2'!$E$17:$V$216,COLUMNS('Section 2'!$E$13:F$14),0)),\"\",VLOOKUP($A198,'Section 2'!$E$17:$V$216,COLUMNS('Section 2'!$E$13:F$14),0)))","v":""},{"$f":"IF($C198=\"\",\"\",IF(ISBLANK(VLOOKUP($A198,'Section 2'!$E$17:$V$216,COLUMNS('Section 2'!$E$13:G$14),0)),\"\",VLOOKUP($A198,'Section 2'!$E$17:$V$216,COLUMNS('Section 2'!$E$13:G$14),0)))","v":""},{"$f":"IF($C198=\"\",\"\",IF(ISBLANK(VLOOKUP($A198,'Section 2'!$E$17:$V$216,COLUMNS('Section 2'!$E$13:H$14),0)),\"\",VLOOKUP($A198,'Section 2'!$E$17:$V$216,COLUMNS('Section 2'!$E$13:H$14),0)))","v":""},{"$f":"IF($C198=\"\",\"\",IF(ISBLANK(VLOOKUP($A198,'Section 2'!$E$17:$V$216,COLUMNS('Section 2'!$E$13:I$14),0)),\"\",VLOOKUP($A198,'Section 2'!$E$17:$V$216,COLUMNS('Section 2'!$E$13:I$14),0)))","v":""},{"$f":"IF($C198=\"\",\"\",IF(ISBLANK(VLOOKUP($A198,'Section 2'!$E$17:$V$216,COLUMNS('Section 2'!$E$13:J$14),0)),\"\",VLOOKUP($A198,'Section 2'!$E$17:$V$216,COLUMNS('Section 2'!$E$13:J$14),0)))","v":""},{"$f":"IF($C198=\"\",\"\",IF(ISBLANK(VLOOKUP($A198,'Section 2'!$E$17:$V$216,COLUMNS('Section 2'!$E$13:K$14),0)),\"\",VLOOKUP($A198,'Section 2'!$E$17:$V$216,COLUMNS('Section 2'!$E$13:K$14),0)))","v":""},{"$f":"IF($C198=\"\",\"\",IF(ISBLANK(VLOOKUP($A198,'Section 2'!$E$17:$V$216,COLUMNS('Section 2'!$E$13:L$14),0)),\"\",VLOOKUP($A198,'Section 2'!$E$17:$V$216,COLUMNS('Section 2'!$E$13:L$14),0)))","v":""},{"$f":"IF($C198=\"\",\"\",IF(ISBLANK(VLOOKUP($A198,'Section 2'!$E$17:$V$216,COLUMNS('Section 2'!$E$13:M$14),0)),\"\",VLOOKUP($A198,'Section 2'!$E$17:$V$216,COLUMNS('Section 2'!$E$13:M$14),0)))","v":""},{"$f":"IF($C198=\"\",\"\",IF(ISBLANK(VLOOKUP($A198,'Section 2'!$E$17:$V$216,COLUMNS('Section 2'!$E$13:N$14),0)),\"\",VLOOKUP($A198,'Section 2'!$E$17:$V$216,COLUMNS('Section 2'!$E$13:N$14),0)))","v":""},{"$f":"IF($C198=\"\",\"\",IF(ISBLANK(VLOOKUP($A198,'Section 2'!$E$17:$V$216,COLUMNS('Section 2'!$E$13:O$14),0)),\"\",VLOOKUP($A198,'Section 2'!$E$17:$V$216,COLUMNS('Section 2'!$E$13:O$14),0)))","v":""},{"$f":"IF($C198=\"\",\"\",IF(ISBLANK(VLOOKUP($A198,'Section 2'!$E$17:$V$216,COLUMNS('Section 2'!$E$13:P$14),0)),\"\",VLOOKUP($A198,'Section 2'!$E$17:$V$216,COLUMNS('Section 2'!$E$13:P$14),0)))","v":""},{"$f":"IF($C198=\"\",\"\",IF(ISBLANK(VLOOKUP($A198,'Section 2'!$E$17:$V$216,COLUMNS('Section 2'!$E$13:Q$14),0)),\"\",VLOOKUP($A198,'Section 2'!$E$17:$V$216,COLUMNS('Section 2'!$E$13:Q$14),0)))","v":""},{"$f":"IF($C198=\"\",\"\",IF(ISBLANK(VLOOKUP($A198,'Section 2'!$E$17:$V$216,COLUMNS('Section 2'!$E$13:R$14),0)),\"\",VLOOKUP($A198,'Section 2'!$E$17:$V$216,COLUMNS('Section 2'!$E$13:R$14),0)))","v":""},{"$f":"IF($C198=\"\",\"\",IF(ISBLANK(VLOOKUP($A198,'Section 2'!$E$17:$V$216,COLUMNS('Section 2'!$E$13:S$14),0)),\"\",VLOOKUP($A198,'Section 2'!$E$17:$V$216,COLUMNS('Section 2'!$E$13:S$14),0)))","v":""},{"$f":"IF($C198=\"\",\"\",IF(ISBLANK(VLOOKUP($A198,'Section 2'!$E$17:$V$216,COLUMNS('Section 2'!$E$13:T$14),0)),\"\",VLOOKUP($A198,'Section 2'!$E$17:$V$216,COLUMNS('Section 2'!$E$13:T$14),0)))","v":""},{"$f":"IF($C198=\"\",\"\",IF(ISBLANK(VLOOKUP($A198,'Section 2'!$E$17:$V$216,COLUMNS('Section 2'!$E$13:U$14),0)),\"\",VLOOKUP($A198,'Section 2'!$E$17:$V$216,COLUMNS('Section 2'!$E$13:U$14),0)))","v":""},{"$f":"IF($C198=\"\",\"\",IF(ISBLANK(VLOOKUP($A198,'Section 2'!$E$17:$V$216,COLUMNS('Section 2'!$E$13:V$14),0)),\"\",VLOOKUP($A198,'Section 2'!$E$17:$V$216,COLUMNS('Section 2'!$E$13:V$14),0)))","v":""}]
[198,"",{"$f":"IFERROR(VLOOKUP($A199,'Section 2'!$E$17:$V$216,COLUMNS('Section 2'!$E$13:E$14),0),\"\")","v":""},{"$f":"IF($C199=\"\",\"\",IF(ISBLANK(VLOOKUP($A199,'Section 2'!$E$17:$V$216,COLUMNS('Section 2'!$E$13:F$14),0)),\"\",VLOOKUP($A199,'Section 2'!$E$17:$V$216,COLUMNS('Section 2'!$E$13:F$14),0)))","v":""},{"$f":"IF($C199=\"\",\"\",IF(ISBLANK(VLOOKUP($A199,'Section 2'!$E$17:$V$216,COLUMNS('Section 2'!$E$13:G$14),0)),\"\",VLOOKUP($A199,'Section 2'!$E$17:$V$216,COLUMNS('Section 2'!$E$13:G$14),0)))","v":""},{"$f":"IF($C199=\"\",\"\",IF(ISBLANK(VLOOKUP($A199,'Section 2'!$E$17:$V$216,COLUMNS('Section 2'!$E$13:H$14),0)),\"\",VLOOKUP($A199,'Section 2'!$E$17:$V$216,COLUMNS('Section 2'!$E$13:H$14),0)))","v":""},{"$f":"IF($C199=\"\",\"\",IF(ISBLANK(VLOOKUP($A199,'Section 2'!$E$17:$V$216,COLUMNS('Section 2'!$E$13:I$14),0)),\"\",VLOOKUP($A199,'Section 2'!$E$17:$V$216,COLUMNS('Section 2'!$E$13:I$14),0)))","v":""},{"$f":"IF($C199=\"\",\"\",IF(ISBLANK(VLOOKUP($A199,'Section 2'!$E$17:$V$216,COLUMNS('Section 2'!$E$13:J$14),0)),\"\",VLOOKUP($A199,'Section 2'!$E$17:$V$216,COLUMNS('Section 2'!$E$13:J$14),0)))","v":""},{"$f":"IF($C199=\"\",\"\",IF(ISBLANK(VLOOKUP($A199,'Section 2'!$E$17:$V$216,COLUMNS('Section 2'!$E$13:K$14),0)),\"\",VLOOKUP($A199,'Section 2'!$E$17:$V$216,COLUMNS('Section 2'!$E$13:K$14),0)))","v":""},{"$f":"IF($C199=\"\",\"\",IF(ISBLANK(VLOOKUP($A199,'Section 2'!$E$17:$V$216,COLUMNS('Section 2'!$E$13:L$14),0)),\"\",VLOOKUP($A199,'Section 2'!$E$17:$V$216,COLUMNS('Section 2'!$E$13:L$14),0)))","v":""},{"$f":"IF($C199=\"\",\"\",IF(ISBLANK(VLOOKUP($A199,'Section 2'!$E$17:$V$216,COLUMNS('Section 2'!$E$13:M$14),0)),\"\",VLOOKUP($A199,'Section 2'!$E$17:$V$216,COLUMNS('Section 2'!$E$13:M$14),0)))","v":""},{"$f":"IF($C199=\"\",\"\",IF(ISBLANK(VLOOKUP($A199,'Section 2'!$E$17:$V$216,COLUMNS('Section 2'!$E$13:N$14),0)),\"\",VLOOKUP($A199,'Section 2'!$E$17:$V$216,COLUMNS('Section 2'!$E$13:N$14),0)))","v":""},{"$f":"IF($C199=\"\",\"\",IF(ISBLANK(VLOOKUP($A199,'Section 2'!$E$17:$V$216,COLUMNS('Section 2'!$E$13:O$14),0)),\"\",VLOOKUP($A199,'Section 2'!$E$17:$V$216,COLUMNS('Section 2'!$E$13:O$14),0)))","v":""},{"$f":"IF($C199=\"\",\"\",IF(ISBLANK(VLOOKUP($A199,'Section 2'!$E$17:$V$216,COLUMNS('Section 2'!$E$13:P$14),0)),\"\",VLOOKUP($A199,'Section 2'!$E$17:$V$216,COLUMNS('Section 2'!$E$13:P$14),0)))","v":""},{"$f":"IF($C199=\"\",\"\",IF(ISBLANK(VLOOKUP($A199,'Section 2'!$E$17:$V$216,COLUMNS('Section 2'!$E$13:Q$14),0)),\"\",VLOOKUP($A199,'Section 2'!$E$17:$V$216,COLUMNS('Section 2'!$E$13:Q$14),0)))","v":""},{"$f":"IF($C199=\"\",\"\",IF(ISBLANK(VLOOKUP($A199,'Section 2'!$E$17:$V$216,COLUMNS('Section 2'!$E$13:R$14),0)),\"\",VLOOKUP($A199,'Section 2'!$E$17:$V$216,COLUMNS('Section 2'!$E$13:R$14),0)))","v":""},{"$f":"IF($C199=\"\",\"\",IF(ISBLANK(VLOOKUP($A199,'Section 2'!$E$17:$V$216,COLUMNS('Section 2'!$E$13:S$14),0)),\"\",VLOOKUP($A199,'Section 2'!$E$17:$V$216,COLUMNS('Section 2'!$E$13:S$14),0)))","v":""},{"$f":"IF($C199=\"\",\"\",IF(ISBLANK(VLOOKUP($A199,'Section 2'!$E$17:$V$216,COLUMNS('Section 2'!$E$13:T$14),0)),\"\",VLOOKUP($A199,'Section 2'!$E$17:$V$216,COLUMNS('Section 2'!$E$13:T$14),0)))","v":""},{"$f":"IF($C199=\"\",\"\",IF(ISBLANK(VLOOKUP($A199,'Section 2'!$E$17:$V$216,COLUMNS('Section 2'!$E$13:U$14),0)),\"\",VLOOKUP($A199,'Section 2'!$E$17:$V$216,COLUMNS('Section 2'!$E$13:U$14),0)))","v":""},{"$f":"IF($C199=\"\",\"\",IF(ISBLANK(VLOOKUP($A199,'Section 2'!$E$17:$V$216,COLUMNS('Section 2'!$E$13:V$14),0)),\"\",VLOOKUP($A199,'Section 2'!$E$17:$V$216,COLUMNS('Section 2'!$E$13:V$14),0)))","v":""}]
[199,"",{"$f":"IFERROR(VLOOKUP($A200,'Section 2'!$E$17:$V$216,COLUMNS('Section 2'!$E$13:E$14),0),\"\")","v":""},{"$f":"IF($C200=\"\",\"\",IF(ISBLANK(VLOOKUP($A200,'Section 2'!$E$17:$V$216,COLUMNS('Section 2'!$E$13:F$14),0)),\"\",VLOOKUP($A200,'Section 2'!$E$17:$V$216,COLUMNS('Section 2'!$E$13:F$14),0)))","v":""},{"$f":"IF($C200=\"\",\"\",IF(ISBLANK(VLOOKUP($A200,'Section 2'!$E$17:$V$216,COLUMNS('Section 2'!$E$13:G$14),0)),\"\",VLOOKUP($A200,'Section 2'!$E$17:$V$216,COLUMNS('Section 2'!$E$13:G$14),0)))","v":""},{"$f":"IF($C200=\"\",\"\",IF(ISBLANK(VLOOKUP($A200,'Section 2'!$E$17:$V$216,COLUMNS('Section 2'!$E$13:H$14),0)),\"\",VLOOKUP($A200,'Section 2'!$E$17:$V$216,COLUMNS('Section 2'!$E$13:H$14),0)))","v":""},{"$f":"IF($C200=\"\",\"\",IF(ISBLANK(VLOOKUP($A200,'Section 2'!$E$17:$V$216,COLUMNS('Section 2'!$E$13:I$14),0)),\"\",VLOOKUP($A200,'Section 2'!$E$17:$V$216,COLUMNS('Section 2'!$E$13:I$14),0)))","v":""},{"$f":"IF($C200=\"\",\"\",IF(ISBLANK(VLOOKUP($A200,'Section 2'!$E$17:$V$216,COLUMNS('Section 2'!$E$13:J$14),0)),\"\",VLOOKUP($A200,'Section 2'!$E$17:$V$216,COLUMNS('Section 2'!$E$13:J$14),0)))","v":""},{"$f":"IF($C200=\"\",\"\",IF(ISBLANK(VLOOKUP($A200,'Section 2'!$E$17:$V$216,COLUMNS('Section 2'!$E$13:K$14),0)),\"\",VLOOKUP($A200,'Section 2'!$E$17:$V$216,COLUMNS('Section 2'!$E$13:K$14),0)))","v":""},{"$f":"IF($C200=\"\",\"\",IF(ISBLANK(VLOOKUP($A200,'Section 2'!$E$17:$V$216,COLUMNS('Section 2'!$E$13:L$14),0)),\"\",VLOOKUP($A200,'Section 2'!$E$17:$V$216,COLUMNS('Section 2'!$E$13:L$14),0)))","v":""},{"$f":"IF($C200=\"\",\"\",IF(ISBLANK(VLOOKUP($A200,'Section 2'!$E$17:$V$216,COLUMNS('Section 2'!$E$13:M$14),0)),\"\",VLOOKUP($A200,'Section 2'!$E$17:$V$216,COLUMNS('Section 2'!$E$13:M$14),0)))","v":""},{"$f":"IF($C200=\"\",\"\",IF(ISBLANK(VLOOKUP($A200,'Section 2'!$E$17:$V$216,COLUMNS('Section 2'!$E$13:N$14),0)),\"\",VLOOKUP($A200,'Section 2'!$E$17:$V$216,COLUMNS('Section 2'!$E$13:N$14),0)))","v":""},{"$f":"IF($C200=\"\",\"\",IF(ISBLANK(VLOOKUP($A200,'Section 2'!$E$17:$V$216,COLUMNS('Section 2'!$E$13:O$14),0)),\"\",VLOOKUP($A200,'Section 2'!$E$17:$V$216,COLUMNS('Section 2'!$E$13:O$14),0)))","v":""},{"$f":"IF($C200=\"\",\"\",IF(ISBLANK(VLOOKUP($A200,'Section 2'!$E$17:$V$216,COLUMNS('Section 2'!$E$13:P$14),0)),\"\",VLOOKUP($A200,'Section 2'!$E$17:$V$216,COLUMNS('Section 2'!$E$13:P$14),0)))","v":""},{"$f":"IF($C200=\"\",\"\",IF(ISBLANK(VLOOKUP($A200,'Section 2'!$E$17:$V$216,COLUMNS('Section 2'!$E$13:Q$14),0)),\"\",VLOOKUP($A200,'Section 2'!$E$17:$V$216,COLUMNS('Section 2'!$E$13:Q$14),0)))","v":""},{"$f":"IF($C200=\"\",\"\",IF(ISBLANK(VLOOKUP($A200,'Section 2'!$E$17:$V$216,COLUMNS('Section 2'!$E$13:R$14),0)),\"\",VLOOKUP($A200,'Section 2'!$E$17:$V$216,COLUMNS('Section 2'!$E$13:R$14),0)))","v":""},{"$f":"IF($C200=\"\",\"\",IF(ISBLANK(VLOOKUP($A200,'Section 2'!$E$17:$V$216,COLUMNS('Section 2'!$E$13:S$14),0)),\"\",VLOOKUP($A200,'Section 2'!$E$17:$V$216,COLUMNS('Section 2'!$E$13:S$14),0)))","v":""},{"$f":"IF($C200=\"\",\"\",IF(ISBLANK(VLOOKUP($A200,'Section 2'!$E$17:$V$216,COLUMNS('Section 2'!$E$13:T$14),0)),\"\",VLOOKUP($A200,'Section 2'!$E$17:$V$216,COLUMNS('Section 2'!$E$13:T$14),0)))","v":""},{"$f":"IF($C200=\"\",\"\",IF(ISBLANK(VLOOKUP($A200,'Section 2'!$E$17:$V$216,COLUMNS('Section 2'!$E$13:U$14),0)),\"\",VLOOKUP($A200,'Section 2'!$E$17:$V$216,COLUMNS('Section 2'!$E$13:U$14),0)))","v":""},{"$f":"IF($C200=\"\",\"\",IF(ISBLANK(VLOOKUP($A200,'Section 2'!$E$17:$V$216,COLUMNS('Section 2'!$E$13:V$14),0)),\"\",VLOOKUP($A200,'Section 2'!$E$17:$V$216,COLUMNS('Section 2'!$E$13:V$14),0)))","v":""}]
[200,"",{"$f":"IFERROR(VLOOKUP($A201,'Section 2'!$E$17:$V$216,COLUMNS('Section 2'!$E$13:E$14),0),\"\")","v":""},{"$f":"IF($C201=\"\",\"\",IF(ISBLANK(VLOOKUP($A201,'Section 2'!$E$17:$V$216,COLUMNS('Section 2'!$E$13:F$14),0)),\"\",VLOOKUP($A201,'Section 2'!$E$17:$V$216,COLUMNS('Section 2'!$E$13:F$14),0)))","v":""},{"$f":"IF($C201=\"\",\"\",IF(ISBLANK(VLOOKUP($A201,'Section 2'!$E$17:$V$216,COLUMNS('Section 2'!$E$13:G$14),0)),\"\",VLOOKUP($A201,'Section 2'!$E$17:$V$216,COLUMNS('Section 2'!$E$13:G$14),0)))","v":""},{"$f":"IF($C201=\"\",\"\",IF(ISBLANK(VLOOKUP($A201,'Section 2'!$E$17:$V$216,COLUMNS('Section 2'!$E$13:H$14),0)),\"\",VLOOKUP($A201,'Section 2'!$E$17:$V$216,COLUMNS('Section 2'!$E$13:H$14),0)))","v":""},{"$f":"IF($C201=\"\",\"\",IF(ISBLANK(VLOOKUP($A201,'Section 2'!$E$17:$V$216,COLUMNS('Section 2'!$E$13:I$14),0)),\"\",VLOOKUP($A201,'Section 2'!$E$17:$V$216,COLUMNS('Section 2'!$E$13:I$14),0)))","v":""},{"$f":"IF($C201=\"\",\"\",IF(ISBLANK(VLOOKUP($A201,'Section 2'!$E$17:$V$216,COLUMNS('Section 2'!$E$13:J$14),0)),\"\",VLOOKUP($A201,'Section 2'!$E$17:$V$216,COLUMNS('Section 2'!$E$13:J$14),0)))","v":""},{"$f":"IF($C201=\"\",\"\",IF(ISBLANK(VLOOKUP($A201,'Section 2'!$E$17:$V$216,COLUMNS('Section 2'!$E$13:K$14),0)),\"\",VLOOKUP($A201,'Section 2'!$E$17:$V$216,COLUMNS('Section 2'!$E$13:K$14),0)))","v":""},{"$f":"IF($C201=\"\",\"\",IF(ISBLANK(VLOOKUP($A201,'Section 2'!$E$17:$V$216,COLUMNS('Section 2'!$E$13:L$14),0)),\"\",VLOOKUP($A201,'Section 2'!$E$17:$V$216,COLUMNS('Section 2'!$E$13:L$14),0)))","v":""},{"$f":"IF($C201=\"\",\"\",IF(ISBLANK(VLOOKUP($A201,'Section 2'!$E$17:$V$216,COLUMNS('Section 2'!$E$13:M$14),0)),\"\",VLOOKUP($A201,'Section 2'!$E$17:$V$216,COLUMNS('Section 2'!$E$13:M$14),0)))","v":""},{"$f":"IF($C201=\"\",\"\",IF(ISBLANK(VLOOKUP($A201,'Section 2'!$E$17:$V$216,COLUMNS('Section 2'!$E$13:N$14),0)),\"\",VLOOKUP($A201,'Section 2'!$E$17:$V$216,COLUMNS('Section 2'!$E$13:N$14),0)))","v":""},{"$f":"IF($C201=\"\",\"\",IF(ISBLANK(VLOOKUP($A201,'Section 2'!$E$17:$V$216,COLUMNS('Section 2'!$E$13:O$14),0)),\"\",VLOOKUP($A201,'Section 2'!$E$17:$V$216,COLUMNS('Section 2'!$E$13:O$14),0)))","v":""},{"$f":"IF($C201=\"\",\"\",IF(ISBLANK(VLOOKUP($A201,'Section 2'!$E$17:$V$216,COLUMNS('Section 2'!$E$13:P$14),0)),\"\",VLOOKUP($A201,'Section 2'!$E$17:$V$216,COLUMNS('Section 2'!$E$13:P$14),0)))","v":""},{"$f":"IF($C201=\"\",\"\",IF(ISBLANK(VLOOKUP($A201,'Section 2'!$E$17:$V$216,COLUMNS('Section 2'!$E$13:Q$14),0)),\"\",VLOOKUP($A201,'Section 2'!$E$17:$V$216,COLUMNS('Section 2'!$E$13:Q$14),0)))","v":""},{"$f":"IF($C201=\"\",\"\",IF(ISBLANK(VLOOKUP($A201,'Section 2'!$E$17:$V$216,COLUMNS('Section 2'!$E$13:R$14),0)),\"\",VLOOKUP($A201,'Section 2'!$E$17:$V$216,COLUMNS('Section 2'!$E$13:R$14),0)))","v":""},{"$f":"IF($C201=\"\",\"\",IF(ISBLANK(VLOOKUP($A201,'Section 2'!$E$17:$V$216,COLUMNS('Section 2'!$E$13:S$14),0)),\"\",VLOOKUP($A201,'Section 2'!$E$17:$V$216,COLUMNS('Section 2'!$E$13:S$14),0)))","v":""},{"$f":"IF($C201=\"\",\"\",IF(ISBLANK(VLOOKUP($A201,'Section 2'!$E$17:$V$216,COLUMNS('Section 2'!$E$13:T$14),0)),\"\",VLOOKUP($A201,'Section 2'!$E$17:$V$216,COLUMNS('Section 2'!$E$13:T$14),0)))","v":""},{"$f":"IF($C201=\"\",\"\",IF(ISBLANK(VLOOKUP($A201,'Section 2'!$E$17:$V$216,COLUMNS('Section 2'!$E$13:U$14),0)),\"\",VLOOKUP($A201,'Section 2'!$E$17:$V$216,COLUMNS('Section 2'!$E$13:U$14),0)))","v":""},{"$f":"IF($C201=\"\",\"\",IF(ISBLANK(VLOOKUP($A201,'Section 2'!$E$17:$V$216,COLUMNS('Section 2'!$E$13:V$14),0)),\"\",VLOOKUP($A201,'Section 2'!$E$17:$V$216,COLUMNS('Section 2'!$E$13:V$14),0)))","v":""}]
["LastRow"]